Workbook

Sheet CONSOLIDADO
A1: SERVICIO DE SALUD
A2: =CONCATENATE("COMUNA: ",[1]NOMBRE!B2, " (",[1]NOMBRE!C2,[1]NOMBRE!D2,[1]NOMBRE!E2,[1]NOMBRE!F2,[1]NOMBRE!G2,")") -> COMUNA: 0 (00000)
A3: =CONCATENATE("ESTABLECIMIENTO/ESTRATEGIA: ", [1]NOMBRE!B3, " (",[1]NOMBRE!C3,[1]NOMBRE!D3,[1]NOMBRE!E3,[1]NOMBRE!F3,[1]NOMBRE!G3,[1]NOMBRE!H3,")") -> ESTABLECIMIENTO/ESTRATEGIA: 0 (000000)
A4: =CONCATENATE("MES: ",[1]NOMBRE!B6, " (",[1]NOMBRE!C6,[1]NOMBRE!D6,")") -> MES: 0 (00)
A5: =CONCATENATE("AÑO: ",[1]NOMBRE!B7) -> AÑO: 2025
A6: REM - A33. CUIDADOS PALIATIVOS NIVEL APS Y HOSPITALARIO
A8: SECCIÓN A: INGRESOS POR DIAGNÓSTICO Y EGRESO POR CAUSALES
A9: INGRESO Y EGRESO SEGÚN DIAGNÓSTICO | D9: TOTAL | G9: RANGO ETARIO | AO9: Pueblos originarios | AP9: Migrantes | AQ9: Niños, Niñas, Adolescentes y Jóvenes SENAME | AR9: Niños, Niñas, Adolescentes y Jóvenes Mejor Niñez | CA9: Pueblos originarios | CB9: Migrantes | CC9: No olvide | CD9: Niños, Niñas, Adolescentes y Jóvenes SENAME | CJ9: Pueblos originarios | CK9: Migrantes | CL9: Niños, Niñas, Adolescentes y Jóvenes SENAME | CM9: Niños, Niñas, Adolescentes y Jóvenes Mejor Niñez
G10: 0 a 4 años | I10: 5 a 9 años | K10: 10- 14 años | M10: 15 - 19 años | O10: 20 - 24 años | Q10: 25-29 años | S10: 30-34 años | U10: 35 - 39 años | W10: 40 - 44 años | Y10: 45- 49 años | AA10: 50 - 54 años | AC10: 55 - 59 años | AE10: 60 - 64 años | AG10: 65 - 69 años | AI10: 70 - 74 años | AK10: 75 - 79 años | AM10: 80 y mas
D11: Ambos Sexos | E11: Hombres | F11: Mujeres | G11: Hombres | H11: Mujeres | I11: Hombres | J11: Mujeres | K11: Hombres | L11: Mujeres | M11: Hombres | N11: Mujeres | O11: Hombres | P11: Mujeres | Q11: Hombres | R11: Mujeres | S11: Hombres | T11: Mujeres | U11: Hombres | V11: Mujeres | W11: Hombres | X11: Mujeres | Y11: Hombres | Z11: Mujeres | AA11: Hombres | AB11: Mujeres | AC11: Hombres | AD11: Mujeres | AE11: Hombres | AF11: Mujeres | AG11: Hombres | AH11: Mujeres | AI11: Hombres | AJ11: Mujeres | AK11: Hombres | AL11: Mujeres | AM11: Hombres | AN11: Mujeres | AP11: Mujeres | CB11: Mujeres | CC11: Mujeres | CK11: Mujeres
A12: Ingresos por Diagnóstico | B12: Enfermedad oncológica | C12: Enfermedades oncológicas no progresivas | D12: =SUM(E12:F12) -> 76 | E12: =+G12+I12+K12+M12+O12+Q12+S12+U12+W12++Y12+AA12+AC12+AE12+AG12+AI12+AK12+AM12 -> 42 | F12: =+H12+J12+L12+N12+P12+R12+T12+V12+X12++Z12+AB12+AD12+AF12+AH12+AJ12+AL12+AN12 -> 34 | G12: =SUM(ENERO:DICIEMBRE!G12) -> 0 | H12: =SUM(ENERO:DICIEMBRE!H12) -> 0 | I12: =SUM(ENERO:DICIEMBRE!I12) -> 0 | J12: =SUM(ENERO:DICIEMBRE!J12) -> 0 | K12: =SUM(ENERO:DICIEMBRE!K12) -> 0 | L12: =SUM(ENERO:DICIEMBRE!L12) -> 0 | M12: =SUM(ENERO:DICIEMBRE!M12) -> 0 | N12: =SUM(ENERO:DICIEMBRE!N12) -> 0 | ... AR12: =SUM(ENERO:DICIEMBRE!AR12) -> 0 | AS12: =CA12&CB12&CC12&CD12&CE12 | CA12: =IF(AND($D12<>0,AO12=""),"* No olvide ingresar la variable "&AO$9&""&". Digite CERO si no tiene. ",IF(AO12>$D12,"* La variable "&AO$9&""&" no debe ser mayor al TotalAmbos Sexos. ","")) | CB12: =IF(AND($D12<>0,AP12=""),"* No olvide ingresar la variable "&AP$9&""&". Digite CERO si no tiene. ",IF(AP12>$D12,"* La variable "&AP$9&""&" no debe ser mayor al Total Ambos Sexos. ","")) | CC12: =IF(AND($D12<>0,AQ12=""),"* No olvide ingresar la variable "&AQ$9&""&". Digite CERO si no tiene. ",IF(AQ12>$D12,"* La variable "&AQ$9&""&" no debe ser mayor al Total Ambos Sexos. ","")) | CD12: =IF(AND($D12<>0,AR12=""),"* No olvide ingresar la variable "&AR$9&""&". Digite CERO si no tiene. ",IF(AR12>$D12,"* La variable "&AR$9&""&" no debe ser mayor al Total Ambos Sexos. ","")) | CJ12: =IF(AND($D12<>0,AO12=""),1,IF(AO12>$D12,1,0)) -> 0 | CK12: =IF(AND($D12<>0,AP12=""),1,IF(AP12>$D12,1,0)) -> 0 | CL12: =IF(AND($D12<>0,AQ12=""),1,IF(AQ12>$D12,1,0)) -> 0 | CM12: =IF(AND($D12<>0,AR12=""),1,IF(AR12>$D12,1,0)) -> 0
C13: Enfermedades oncológicas progresivas | D13: =SUM(E13:F13) -> 331 | E13: =+G13+I13+K13+M13+O13+Q13+S13+U13+W13++Y13+AA13+AC13+AE13+AG13+AI13+AK13+AM13 -> 184 | F13: =+H13+J13+L13+N13+P13+R13+T13+V13+X13++Z13+AB13+AD13+AF13+AH13+AJ13+AL13+AN13 -> 147 | G13: =SUM(ENERO:DICIEMBRE!G13) -> 0 | H13: =SUM(ENERO:DICIEMBRE!H13) -> 0 | I13: =SUM(ENERO:DICIEMBRE!I13) -> 0 | J13: =SUM(ENERO:DICIEMBRE!J13) -> 0 | K13: =SUM(ENERO:DICIEMBRE!K13) -> 0 | L13: =SUM(ENERO:DICIEMBRE!L13) -> 0 | M13: =SUM(ENERO:DICIEMBRE!M13) -> 0 | N13: =SUM(ENERO:DICIEMBRE!N13) -> 0 | ... AR13: =SUM(ENERO:DICIEMBRE!AR13) -> 0 | AS13: =CA13&CB13&CC13&CD13&CE13 | CA13: =IF(AND($D13<>0,AO13=""),"* No olvide ingresar la variable "&AO$9&""&". Digite CERO si no tiene. ",IF(AO13>$D13,"* La variable "&AO$9&""&" no debe ser mayor al TotalAmbos Sexos. ","")) | CB13: =IF(AND($D13<>0,AP13=""),"* No olvide ingresar la variable "&AP$9&""&". Digite CERO si no tiene. ",IF(AP13>$D13,"* La variable "&AP$9&""&" no debe ser mayor al Total Ambos Sexos. ","")) | CC13: =IF(AND($D13<>0,AQ13=""),"* No olvide ingresar la variable "&AQ$9&""&". Digite CERO si no tiene. ",IF(AQ13>$D13,"* La variable "&AQ$9&""&" no debe ser mayor al Total Ambos Sexos. ","")) | CD13: =IF(AND($D13<>0,AR13=""),"* No olvide ingresar la variable "&AR$9&""&". Digite CERO si no tiene. ",IF(AR13>$D13,"* La variable "&AR$9&""&" no debe ser mayor al Total Ambos Sexos. ","")) | CJ13: =IF(AND($D13<>0,AO13=""),1,IF(AO13>$D13,1,0)) -> 0 | CK13: =IF(AND($D13<>0,AP13=""),1,IF(AP13>$D13,1,0)) -> 0 | CL13: =IF(AND($D13<>0,AQ13=""),1,IF(AQ13>$D13,1,0)) -> 0 | CM13: =IF(AND($D13<>0,AR13=""),1,IF(AR13>$D13,1,0)) -> 0
B14: Enfermedad no oncológica | C14: Infección causada por VIH | D14: =SUM(E14:F14) -> 0 | E14: =+G14+I14+K14+M14+O14+Q14+S14+U14+W14++Y14+AA14+AC14+AE14+AG14+AI14+AK14+AM14 -> 0 | F14: =+H14+J14+L14+N14+P14+R14+T14+V14+X14++Z14+AB14+AD14+AF14+AH14+AJ14+AL14+AN14 -> 0 | G14: =SUM(ENERO:DICIEMBRE!G14) -> 0 | H14: =SUM(ENERO:DICIEMBRE!H14) -> 0 | I14: =SUM(ENERO:DICIEMBRE!I14) -> 0 | J14: =SUM(ENERO:DICIEMBRE!J14) -> 0 | K14: =SUM(ENERO:DICIEMBRE!K14) -> 0 | L14: =SUM(ENERO:DICIEMBRE!L14) -> 0 | M14: =SUM(ENERO:DICIEMBRE!M14) -> 0 | N14: =SUM(ENERO:DICIEMBRE!N14) -> 0 | ... AR14: =SUM(ENERO:DICIEMBRE!AR14) -> 0 | AS14: =CA14&CB14&CC14&CD14&CE14 | CA14: =IF(AND($D14<>0,AO14=""),"* No olvide ingresar la variable "&AO$9&""&". Digite CERO si no tiene. ",IF(AO14>$D14,"* La variable "&AO$9&""&" no debe ser mayor al TotalAmbos Sexos. ","")) | CB14: =IF(AND($D14<>0,AP14=""),"* No olvide ingresar la variable "&AP$9&""&". Digite CERO si no tiene. ",IF(AP14>$D14,"* La variable "&AP$9&""&" no debe ser mayor al Total Ambos Sexos. ","")) | CC14: =IF(AND($D14<>0,AQ14=""),"* No olvide ingresar la variable "&AQ$9&""&". Digite CERO si no tiene. ",IF(AQ14>$D14,"* La variable "&AQ$9&""&" no debe ser mayor al Total Ambos Sexos. ","")) | CD14: =IF(AND($D14<>0,AR14=""),"* No olvide ingresar la variable "&AR$9&""&". Digite CERO si no tiene. ",IF(AR14>$D14,"* La variable "&AR$9&""&" no debe ser mayor al Total Ambos Sexos. ","")) | CJ14: =IF(AND($D14<>0,AO14=""),1,IF(AO14>$D14,1,0)) -> 0 | CK14: =IF(AND($D14<>0,AP14=""),1,IF(AP14>$D14,1,0)) -> 0 | CL14: =IF(AND($D14<>0,AQ14=""),1,IF(AQ14>$D14,1,0)) -> 0 | CM14: =IF(AND($D14<>0,AR14=""),1,IF(AR14>$D14,1,0)) -> 0
C15: Enfermedades de origen neurológico | D15: =SUM(E15:F15) -> 0 | E15: =+G15+I15+K15+M15+O15+Q15+S15+U15+W15++Y15+AA15+AC15+AE15+AG15+AI15+AK15+AM15 -> 0 | F15: =+H15+J15+L15+N15+P15+R15+T15+V15+X15++Z15+AB15+AD15+AF15+AH15+AJ15+AL15+AN15 -> 0 | G15: =SUM(ENERO:DICIEMBRE!G15) -> 0 | H15: =SUM(ENERO:DICIEMBRE!H15) -> 0 | I15: =SUM(ENERO:DICIEMBRE!I15) -> 0 | J15: =SUM(ENERO:DICIEMBRE!J15) -> 0 | K15: =SUM(ENERO:DICIEMBRE!K15) -> 0 | L15: =SUM(ENERO:DICIEMBRE!L15) -> 0 | M15: =SUM(ENERO:DICIEMBRE!M15) -> 0 | N15: =SUM(ENERO:DICIEMBRE!N15) -> 0 | ... AR15: =SUM(ENERO:DICIEMBRE!AR15) -> 0 | AS15: =CA15&CB15&CC15&CD15&CE15 | CA15: =IF(AND($D15<>0,AO15=""),"* No olvide ingresar la variable "&AO$9&""&". Digite CERO si no tiene. ",IF(AO15>$D15,"* La variable "&AO$9&""&" no debe ser mayor al TotalAmbos Sexos. ","")) | CB15: =IF(AND($D15<>0,AP15=""),"* No olvide ingresar la variable "&AP$9&""&". Digite CERO si no tiene. ",IF(AP15>$D15,"* La variable "&AP$9&""&" no debe ser mayor al Total Ambos Sexos. ","")) | CC15: =IF(AND($D15<>0,AQ15=""),"* No olvide ingresar la variable "&AQ$9&""&". Digite CERO si no tiene. ",IF(AQ15>$D15,"* La variable "&AQ$9&""&" no debe ser mayor al Total Ambos Sexos. ","")) | CD15: =IF(AND($D15<>0,AR15=""),"* No olvide ingresar la variable "&AR$9&""&". Digite CERO si no tiene. ",IF(AR15>$D15,"* La variable "&AR$9&""&" no debe ser mayor al Total Ambos Sexos. ","")) | CJ15: =IF(AND($D15<>0,AO15=""),1,IF(AO15>$D15,1,0)) -> 0 | CK15: =IF(AND($D15<>0,AP15=""),1,IF(AP15>$D15,1,0)) -> 0 | CL15: =IF(AND($D15<>0,AQ15=""),1,IF(AQ15>$D15,1,0)) -> 0 | CM15: =IF(AND($D15<>0,AR15=""),1,IF(AR15>$D15,1,0)) -> 0
C16: Enfermedades de origen cardiológico | D16: =SUM(E16:F16) -> 0 | E16: =+G16+I16+K16+M16+O16+Q16+S16+U16+W16++Y16+AA16+AC16+AE16+AG16+AI16+AK16+AM16 -> 0 | F16: =+H16+J16+L16+N16+P16+R16+T16+V16+X16++Z16+AB16+AD16+AF16+AH16+AJ16+AL16+AN16 -> 0 | G16: =SUM(ENERO:DICIEMBRE!G16) -> 0 | H16: =SUM(ENERO:DICIEMBRE!H16) -> 0 | I16: =SUM(ENERO:DICIEMBRE!I16) -> 0 | J16: =SUM(ENERO:DICIEMBRE!J16) -> 0 | K16: =SUM(ENERO:DICIEMBRE!K16) -> 0 | L16: =SUM(ENERO:DICIEMBRE!L16) -> 0 | M16: =SUM(ENERO:DICIEMBRE!M16) -> 0 | N16: =SUM(ENERO:DICIEMBRE!N16) -> 0 | ... AR16: =SUM(ENERO:DICIEMBRE!AR16) -> 0 | AS16: =CA16&CB16&CC16&CD16&CE16 | CA16: =IF(AND($D16<>0,AO16=""),"* No olvide ingresar la variable "&AO$9&""&". Digite CERO si no tiene. ",IF(AO16>$D16,"* La variable "&AO$9&""&" no debe ser mayor al TotalAmbos Sexos. ","")) | CB16: =IF(AND($D16<>0,AP16=""),"* No olvide ingresar la variable "&AP$9&""&". Digite CERO si no tiene. ",IF(AP16>$D16,"* La variable "&AP$9&""&" no debe ser mayor al Total Ambos Sexos. ","")) | CC16: =IF(AND($D16<>0,AQ16=""),"* No olvide ingresar la variable "&AQ$9&""&". Digite CERO si no tiene. ",IF(AQ16>$D16,"* La variable "&AQ$9&""&" no debe ser mayor al Total Ambos Sexos. ","")) | CD16: =IF(AND($D16<>0,AR16=""),"* No olvide ingresar la variable "&AR$9&""&". Digite CERO si no tiene. ",IF(AR16>$D16,"* La variable "&AR$9&""&" no debe ser mayor al Total Ambos Sexos. ","")) | CJ16: =IF(AND($D16<>0,AO16=""),1,IF(AO16>$D16,1,0)) -> 0 | CK16: =IF(AND($D16<>0,AP16=""),1,IF(AP16>$D16,1,0)) -> 0 | CL16: =IF(AND($D16<>0,AQ16=""),1,IF(AQ16>$D16,1,0)) -> 0 | CM16: =IF(AND($D16<>0,AR16=""),1,IF(AR16>$D16,1,0)) -> 0
C17: Enfermedades de origen pulmonar | D17: =SUM(E17:F17) -> 0 | E17: =+G17+I17+K17+M17+O17+Q17+S17+U17+W17++Y17+AA17+AC17+AE17+AG17+AI17+AK17+AM17 -> 0 | F17: =+H17+J17+L17+N17+P17+R17+T17+V17+X17++Z17+AB17+AD17+AF17+AH17+AJ17+AL17+AN17 -> 0 | G17: =SUM(ENERO:DICIEMBRE!G17) -> 0 | H17: =SUM(ENERO:DICIEMBRE!H17) -> 0 | I17: =SUM(ENERO:DICIEMBRE!I17) -> 0 | J17: =SUM(ENERO:DICIEMBRE!J17) -> 0 | K17: =SUM(ENERO:DICIEMBRE!K17) -> 0 | L17: =SUM(ENERO:DICIEMBRE!L17) -> 0 | M17: =SUM(ENERO:DICIEMBRE!M17) -> 0 | N17: =SUM(ENERO:DICIEMBRE!N17) -> 0 | ... AR17: =SUM(ENERO:DICIEMBRE!AR17) -> 0 | AS17: =CA17&CB17&CC17&CD17&CE17 | CA17: =IF(AND($D17<>0,AO17=""),"* No olvide ingresar la variable "&AO$9&""&". Digite CERO si no tiene. ",IF(AO17>$D17,"* La variable "&AO$9&""&" no debe ser mayor al TotalAmbos Sexos. ","")) | CB17: =IF(AND($D17<>0,AP17=""),"* No olvide ingresar la variable "&AP$9&""&". Digite CERO si no tiene. ",IF(AP17>$D17,"* La variable "&AP$9&""&" no debe ser mayor al Total Ambos Sexos. ","")) | CC17: =IF(AND($D17<>0,AQ17=""),"* No olvide ingresar la variable "&AQ$9&""&". Digite CERO si no tiene. ",IF(AQ17>$D17,"* La variable "&AQ$9&""&" no debe ser mayor al Total Ambos Sexos. ","")) | CD17: =IF(AND($D17<>0,AR17=""),"* No olvide ingresar la variable "&AR$9&""&". Digite CERO si no tiene. ",IF(AR17>$D17,"* La variable "&AR$9&""&" no debe ser mayor al Total Ambos Sexos. ","")) | CJ17: =IF(AND($D17<>0,AO17=""),1,IF(AO17>$D17,1,0)) -> 0 | CK17: =IF(AND($D17<>0,AP17=""),1,IF(AP17>$D17,1,0)) -> 0 | CL17: =IF(AND($D17<>0,AQ17=""),1,IF(AQ17>$D17,1,0)) -> 0 | CM17: =IF(AND($D17<>0,AR17=""),1,IF(AR17>$D17,1,0)) -> 0
C18: Enfermedades de origen hepático | D18: =SUM(E18:F18) -> 0 | E18: =+G18+I18+K18+M18+O18+Q18+S18+U18+W18++Y18+AA18+AC18+AE18+AG18+AI18+AK18+AM18 -> 0 | F18: =+H18+J18+L18+N18+P18+R18+T18+V18+X18++Z18+AB18+AD18+AF18+AH18+AJ18+AL18+AN18 -> 0 | G18: =SUM(ENERO:DICIEMBRE!G18) -> 0 | H18: =SUM(ENERO:DICIEMBRE!H18) -> 0 | I18: =SUM(ENERO:DICIEMBRE!I18) -> 0 | J18: =SUM(ENERO:DICIEMBRE!J18) -> 0 | K18: =SUM(ENERO:DICIEMBRE!K18) -> 0 | L18: =SUM(ENERO:DICIEMBRE!L18) -> 0 | M18: =SUM(ENERO:DICIEMBRE!M18) -> 0 | N18: =SUM(ENERO:DICIEMBRE!N18) -> 0 | ... AR18: =SUM(ENERO:DICIEMBRE!AR18) -> 0 | AS18: =CA18&CB18&CC18&CD18&CE18 | CA18: =IF(AND($D18<>0,AO18=""),"* No olvide ingresar la variable "&AO$9&""&". Digite CERO si no tiene. ",IF(AO18>$D18,"* La variable "&AO$9&""&" no debe ser mayor al TotalAmbos Sexos. ","")) | CB18: =IF(AND($D18<>0,AP18=""),"* No olvide ingresar la variable "&AP$9&""&". Digite CERO si no tiene. ",IF(AP18>$D18,"* La variable "&AP$9&""&" no debe ser mayor al Total Ambos Sexos. ","")) | CC18: =IF(AND($D18<>0,AQ18=""),"* No olvide ingresar la variable "&AQ$9&""&". Digite CERO si no tiene. ",IF(AQ18>$D18,"* La variable "&AQ$9&""&" no debe ser mayor al Total Ambos Sexos. ","")) | CD18: =IF(AND($D18<>0,AR18=""),"* No olvide ingresar la variable "&AR$9&""&". Digite CERO si no tiene. ",IF(AR18>$D18,"* La variable "&AR$9&""&" no debe ser mayor al Total Ambos Sexos. ","")) | CJ18: =IF(AND($D18<>0,AO18=""),1,IF(AO18>$D18,1,0)) -> 0 | CK18: =IF(AND($D18<>0,AP18=""),1,IF(AP18>$D18,1,0)) -> 0 | CL18: =IF(AND($D18<>0,AQ18=""),1,IF(AQ18>$D18,1,0)) -> 0 | CM18: =IF(AND($D18<>0,AR18=""),1,IF(AR18>$D18,1,0)) -> 0
C19: Enfermedades de origen renal | D19: =SUM(E19:F19) -> 0 | E19: =+G19+I19+K19+M19+O19+Q19+S19+U19+W19++Y19+AA19+AC19+AE19+AG19+AI19+AK19+AM19 -> 0 | F19: =+H19+J19+L19+N19+P19+R19+T19+V19+X19++Z19+AB19+AD19+AF19+AH19+AJ19+AL19+AN19 -> 0 | G19: =SUM(ENERO:DICIEMBRE!G19) -> 0 | H19: =SUM(ENERO:DICIEMBRE!H19) -> 0 | I19: =SUM(ENERO:DICIEMBRE!I19) -> 0 | J19: =SUM(ENERO:DICIEMBRE!J19) -> 0 | K19: =SUM(ENERO:DICIEMBRE!K19) -> 0 | L19: =SUM(ENERO:DICIEMBRE!L19) -> 0 | M19: =SUM(ENERO:DICIEMBRE!M19) -> 0 | N19: =SUM(ENERO:DICIEMBRE!N19) -> 0 | ... AR19: =SUM(ENERO:DICIEMBRE!AR19) -> 0 | AS19: =CA19&CB19&CC19&CD19&CE19 | CA19: =IF(AND($D19<>0,AO19=""),"* No olvide ingresar la variable "&AO$9&""&". Digite CERO si no tiene. ",IF(AO19>$D19,"* La variable "&AO$9&""&" no debe ser mayor al TotalAmbos Sexos. ","")) | CB19: =IF(AND($D19<>0,AP19=""),"* No olvide ingresar la variable "&AP$9&""&". Digite CERO si no tiene. ",IF(AP19>$D19,"* La variable "&AP$9&""&" no debe ser mayor al Total Ambos Sexos. ","")) | CC19: =IF(AND($D19<>0,AQ19=""),"* No olvide ingresar la variable "&AQ$9&""&". Digite CERO si no tiene. ",IF(AQ19>$D19,"* La variable "&AQ$9&""&" no debe ser mayor al Total Ambos Sexos. ","")) | CD19: =IF(AND($D19<>0,AR19=""),"* No olvide ingresar la variable "&AR$9&""&". Digite CERO si no tiene. ",IF(AR19>$D19,"* La variable "&AR$9&""&" no debe ser mayor al Total Ambos Sexos. ","")) | CJ19: =IF(AND($D19<>0,AO19=""),1,IF(AO19>$D19,1,0)) -> 0 | CK19: =IF(AND($D19<>0,AP19=""),1,IF(AP19>$D19,1,0)) -> 0 | CL19: =IF(AND($D19<>0,AQ19=""),1,IF(AQ19>$D19,1,0)) -> 0 | CM19: =IF(AND($D19<>0,AR19=""),1,IF(AR19>$D19,1,0)) -> 0
C20: Alteraciones del tejido conectivo o musculoesquelético severos | D20: =SUM(E20:F20) -> 0 | E20: =+G20+I20+K20+M20+O20+Q20+S20+U20+W20++Y20+AA20+AC20+AE20+AG20+AI20+AK20+AM20 -> 0 | F20: =+H20+J20+L20+N20+P20+R20+T20+V20+X20++Z20+AB20+AD20+AF20+AH20+AJ20+AL20+AN20 -> 0 | G20: =SUM(ENERO:DICIEMBRE!G20) -> 0 | H20: =SUM(ENERO:DICIEMBRE!H20) -> 0 | I20: =SUM(ENERO:DICIEMBRE!I20) -> 0 | J20: =SUM(ENERO:DICIEMBRE!J20) -> 0 | K20: =SUM(ENERO:DICIEMBRE!K20) -> 0 | L20: =SUM(ENERO:DICIEMBRE!L20) -> 0 | M20: =SUM(ENERO:DICIEMBRE!M20) -> 0 | N20: =SUM(ENERO:DICIEMBRE!N20) -> 0 | ... AR20: =SUM(ENERO:DICIEMBRE!AR20) -> 0 | AS20: =CA20&CB20&CC20&CD20&CE20 | CA20: =IF(AND($D20<>0,AO20=""),"* No olvide ingresar la variable "&AO$9&""&". Digite CERO si no tiene. ",IF(AO20>$D20,"* La variable "&AO$9&""&" no debe ser mayor al TotalAmbos Sexos. ","")) | CB20: =IF(AND($D20<>0,AP20=""),"* No olvide ingresar la variable "&AP$9&""&". Digite CERO si no tiene. ",IF(AP20>$D20,"* La variable "&AP$9&""&" no debe ser mayor al Total Ambos Sexos. ","")) | CC20: =IF(AND($D20<>0,AQ20=""),"* No olvide ingresar la variable "&AQ$9&""&". Digite CERO si no tiene. ",IF(AQ20>$D20,"* La variable "&AQ$9&""&" no debe ser mayor al Total Ambos Sexos. ","")) | CD20: =IF(AND($D20<>0,AR20=""),"* No olvide ingresar la variable "&AR$9&""&". Digite CERO si no tiene. ",IF(AR20>$D20,"* La variable "&AR$9&""&" no debe ser mayor al Total Ambos Sexos. ","")) | CJ20: =IF(AND($D20<>0,AO20=""),1,IF(AO20>$D20,1,0)) -> 0 | CK20: =IF(AND($D20<>0,AP20=""),1,IF(AP20>$D20,1,0)) -> 0 | CL20: =IF(AND($D20<>0,AQ20=""),1,IF(AQ20>$D20,1,0)) -> 0 | CM20: =IF(AND($D20<>0,AR20=""),1,IF(AR20>$D20,1,0)) -> 0
C21: Malformaciones congénitas, deformidades y anomalías cromosómicas | D21: =SUM(E21:F21) -> 0 | E21: =+G21+I21+K21+M21+O21+Q21+S21+U21+W21++Y21+AA21+AC21+AE21+AG21+AI21+AK21+AM21 -> 0 | F21: =+H21+J21+L21+N21+P21+R21+T21+V21+X21++Z21+AB21+AD21+AF21+AH21+AJ21+AL21+AN21 -> 0 | G21: =SUM(ENERO:DICIEMBRE!G21) -> 0 | H21: =SUM(ENERO:DICIEMBRE!H21) -> 0 | I21: =SUM(ENERO:DICIEMBRE!I21) -> 0 | J21: =SUM(ENERO:DICIEMBRE!J21) -> 0 | K21: =SUM(ENERO:DICIEMBRE!K21) -> 0 | L21: =SUM(ENERO:DICIEMBRE!L21) -> 0 | M21: =SUM(ENERO:DICIEMBRE!M21) -> 0 | N21: =SUM(ENERO:DICIEMBRE!N21) -> 0 | ... AR21: =SUM(ENERO:DICIEMBRE!AR21) -> 0 | AS21: =CA21&CB21&CC21&CD21&CE21 | CA21: =IF(AND($D21<>0,AO21=""),"* No olvide ingresar la variable "&AO$9&""&". Digite CERO si no tiene. ",IF(AO21>$D21,"* La variable "&AO$9&""&" no debe ser mayor al TotalAmbos Sexos. ","")) | CB21: =IF(AND($D21<>0,AP21=""),"* No olvide ingresar la variable "&AP$9&""&". Digite CERO si no tiene. ",IF(AP21>$D21,"* La variable "&AP$9&""&" no debe ser mayor al Total Ambos Sexos. ","")) | CC21: =IF(AND($D21<>0,AQ21=""),"* No olvide ingresar la variable "&AQ$9&""&". Digite CERO si no tiene. ",IF(AQ21>$D21,"* La variable "&AQ$9&""&" no debe ser mayor al Total Ambos Sexos. ","")) | CD21: =IF(AND($D21<>0,AR21=""),"* No olvide ingresar la variable "&AR$9&""&". Digite CERO si no tiene. ",IF(AR21>$D21,"* La variable "&AR$9&""&" no debe ser mayor al Total Ambos Sexos. ","")) | CJ21: =IF(AND($D21<>0,AO21=""),1,IF(AO21>$D21,1,0)) -> 0 | CK21: =IF(AND($D21<>0,AP21=""),1,IF(AP21>$D21,1,0)) -> 0 | CL21: =IF(AND($D21<>0,AQ21=""),1,IF(AQ21>$D21,1,0)) -> 0 | CM21: =IF(AND($D21<>0,AR21=""),1,IF(AR21>$D21,1,0)) -> 0
C22: Prematurez | D22: =SUM(E22:F22) -> 0 | E22: =+G22+I22+K22+M22+O22+Q22+S22+U22+W22++Y22+AA22+AC22+AE22+AG22+AI22+AK22+AM22 -> 0 | F22: =+H22+J22+L22+N22+P22+R22+T22+V22+X22++Z22+AB22+AD22+AF22+AH22+AJ22+AL22+AN22 -> 0 | G22: =SUM(ENERO:DICIEMBRE!G22) -> 0 | H22: =SUM(ENERO:DICIEMBRE!H22) -> 0 | I22: =SUM(ENERO:DICIEMBRE!I22) -> 0 | J22: =SUM(ENERO:DICIEMBRE!J22) -> 0 | K22: =SUM(ENERO:DICIEMBRE!K22) -> 0 | L22: =SUM(ENERO:DICIEMBRE!L22) -> 0 | M22: =SUM(ENERO:DICIEMBRE!M22) -> 0 | N22: =SUM(ENERO:DICIEMBRE!N22) -> 0 | ... AR22: =SUM(ENERO:DICIEMBRE!AR22) -> 0 | AS22: =CA22&CB22&CC22&CD22&CE22 | CA22: =IF(AND($D22<>0,AO22=""),"* No olvide ingresar la variable "&AO$9&""&". Digite CERO si no tiene. ",IF(AO22>$D22,"* La variable "&AO$9&""&" no debe ser mayor al TotalAmbos Sexos. ","")) | CB22: =IF(AND($D22<>0,AP22=""),"* No olvide ingresar la variable "&AP$9&""&". Digite CERO si no tiene. ",IF(AP22>$D22,"* La variable "&AP$9&""&" no debe ser mayor al Total Ambos Sexos. ","")) | CC22: =IF(AND($D22<>0,AQ22=""),"* No olvide ingresar la variable "&AQ$9&""&". Digite CERO si no tiene. ",IF(AQ22>$D22,"* La variable "&AQ$9&""&" no debe ser mayor al Total Ambos Sexos. ","")) | CD22: =IF(AND($D22<>0,AR22=""),"* No olvide ingresar la variable "&AR$9&""&". Digite CERO si no tiene. ",IF(AR22>$D22,"* La variable "&AR$9&""&" no debe ser mayor al Total Ambos Sexos. ","")) | CJ22: =IF(AND($D22<>0,AO22=""),1,IF(AO22>$D22,1,0)) -> 0 | CK22: =IF(AND($D22<>0,AP22=""),1,IF(AP22>$D22,1,0)) -> 0 | CL22: =IF(AND($D22<>0,AQ22=""),1,IF(AQ22>$D22,1,0)) -> 0 | CM22: =IF(AND($D22<>0,AR22=""),1,IF(AR22>$D22,1,0)) -> 0
C23: Otras enfermedades | D23: =SUM(E23:F23) -> 0 | E23: =+G23+I23+K23+M23+O23+Q23+S23+U23+W23++Y23+AA23+AC23+AE23+AG23+AI23+AK23+AM23 -> 0 | F23: =+H23+J23+L23+N23+P23+R23+T23+V23+X23++Z23+AB23+AD23+AF23+AH23+AJ23+AL23+AN23 -> 0 | G23: =SUM(ENERO:DICIEMBRE!G23) -> 0 | H23: =SUM(ENERO:DICIEMBRE!H23) -> 0 | I23: =SUM(ENERO:DICIEMBRE!I23) -> 0 | J23: =SUM(ENERO:DICIEMBRE!J23) -> 0 | K23: =SUM(ENERO:DICIEMBRE!K23) -> 0 | L23: =SUM(ENERO:DICIEMBRE!L23) -> 0 | M23: =SUM(ENERO:DICIEMBRE!M23) -> 0 | N23: =SUM(ENERO:DICIEMBRE!N23) -> 0 | ... AR23: =SUM(ENERO:DICIEMBRE!AR23) -> 0 | AS23: =CA23&CB23&CC23&CD23&CE23 | CA23: =IF(AND($D23<>0,AO23=""),"* No olvide ingresar la variable "&AO$9&""&". Digite CERO si no tiene. ",IF(AO23>$D23,"* La variable "&AO$9&""&" no debe ser mayor al TotalAmbos Sexos. ","")) | CB23: =IF(AND($D23<>0,AP23=""),"* No olvide ingresar la variable "&AP$9&""&". Digite CERO si no tiene. ",IF(AP23>$D23,"* La variable "&AP$9&""&" no debe ser mayor al Total Ambos Sexos. ","")) | CC23: =IF(AND($D23<>0,AQ23=""),"* No olvide ingresar la variable "&AQ$9&""&". Digite CERO si no tiene. ",IF(AQ23>$D23,"* La variable "&AQ$9&""&" no debe ser mayor al Total Ambos Sexos. ","")) | CD23: =IF(AND($D23<>0,AR23=""),"* No olvide ingresar la variable "&AR$9&""&". Digite CERO si no tiene. ",IF(AR23>$D23,"* La variable "&AR$9&""&" no debe ser mayor al Total Ambos Sexos. ","")) | CJ23: =IF(AND($D23<>0,AO23=""),1,IF(AO23>$D23,1,0)) -> 0 | CK23: =IF(AND($D23<>0,AP23=""),1,IF(AP23>$D23,1,0)) -> 0 | CL23: =IF(AND($D23<>0,AQ23=""),1,IF(AQ23>$D23,1,0)) -> 0 | CM23: =IF(AND($D23<>0,AR23=""),1,IF(AR23>$D23,1,0)) -> 0
A24: Egresos | B24: Enfermedad oncológica | C24: Fallecimiento menor a 6 meses desde ingreso | D24: =SUM(E24:F24) -> 58 | E24: =+G24+I24+K24+M24+O24+Q24+S24+U24+W24++Y24+AA24+AC24+AE24+AG24+AI24+AK24+AM24 -> 27 | F24: =+H24+J24+L24+N24+P24+R24+T24+V24+X24++Z24+AB24+AD24+AF24+AH24+AJ24+AL24+AN24 -> 31 | G24: =SUM(ENERO:DICIEMBRE!G24) -> 0 | H24: =SUM(ENERO:DICIEMBRE!H24) -> 0 | I24: =SUM(ENERO:DICIEMBRE!I24) -> 0 | J24: =SUM(ENERO:DICIEMBRE!J24) -> 0 | K24: =SUM(ENERO:DICIEMBRE!K24) -> 0 | L24: =SUM(ENERO:DICIEMBRE!L24) -> 0 | M24: =SUM(ENERO:DICIEMBRE!M24) -> 0 | N24: =SUM(ENERO:DICIEMBRE!N24) -> 0 | ... AR24: =SUM(ENERO:DICIEMBRE!AR24) -> 0 | AS24: =CA24&CB24&CC24&CD24&CE24 | CA24: =IF(AND($D24<>0,AO24=""),"* No olvide ingresar la variable "&AO$9&""&". Digite CERO si no tiene. ",IF(AO24>$D24,"* La variable "&AO$9&""&" no debe ser mayor al TotalAmbos Sexos. ","")) | CB24: =IF(AND($D24<>0,AP24=""),"* No olvide ingresar la variable "&AP$9&""&". Digite CERO si no tiene. ",IF(AP24>$D24,"* La variable "&AP$9&""&" no debe ser mayor al Total Ambos Sexos. ","")) | CC24: =IF(AND($D24<>0,AQ24=""),"* No olvide ingresar la variable "&AQ$9&""&". Digite CERO si no tiene. ",IF(AQ24>$D24,"* La variable "&AQ$9&""&" no debe ser mayor al Total Ambos Sexos. ","")) | CD24: =IF(AND($D24<>0,AR24=""),"* No olvide ingresar la variable "&AR$9&""&". Digite CERO si no tiene. ",IF(AR24>$D24,"* La variable "&AR$9&""&" no debe ser mayor al Total Ambos Sexos. ","")) | CJ24: =IF(AND($D24<>0,AO24=""),1,IF(AO24>$D24,1,0)) -> 0 | CK24: =IF(AND($D24<>0,AP24=""),1,IF(AP24>$D24,1,0)) -> 0 | CL24: =IF(AND($D24<>0,AQ24=""),1,IF(AQ24>$D24,1,0)) -> 0 | CM24: =IF(AND($D24<>0,AR24=""),1,IF(AR24>$D24,1,0)) -> 0
C25: Fallecimiento más de 6 meses y menos de un año del ingreso | D25: =SUM(E25:F25) -> 31 | E25: =+G25+I25+K25+M25+O25+Q25+S25+U25+W25++Y25+AA25+AC25+AE25+AG25+AI25+AK25+AM25 -> 17 | F25: =+H25+J25+L25+N25+P25+R25+T25+V25+X25++Z25+AB25+AD25+AF25+AH25+AJ25+AL25+AN25 -> 14 | G25: =SUM(ENERO:DICIEMBRE!G25) -> 0 | H25: =SUM(ENERO:DICIEMBRE!H25) -> 0 | I25: =SUM(ENERO:DICIEMBRE!I25) -> 0 | J25: =SUM(ENERO:DICIEMBRE!J25) -> 0 | K25: =SUM(ENERO:DICIEMBRE!K25) -> 0 | L25: =SUM(ENERO:DICIEMBRE!L25) -> 0 | M25: =SUM(ENERO:DICIEMBRE!M25) -> 0 | N25: =SUM(ENERO:DICIEMBRE!N25) -> 0 | ... AR25: =SUM(ENERO:DICIEMBRE!AR25) -> 0 | AS25: =CA25&CB25&CC25&CD25&CE25 | CA25: =IF(AND($D25<>0,AO25=""),"* No olvide ingresar la variable "&AO$9&""&". Digite CERO si no tiene. ",IF(AO25>$D25,"* La variable "&AO$9&""&" no debe ser mayor al TotalAmbos Sexos. ","")) | CB25: =IF(AND($D25<>0,AP25=""),"* No olvide ingresar la variable "&AP$9&""&". Digite CERO si no tiene. ",IF(AP25>$D25,"* La variable "&AP$9&""&" no debe ser mayor al Total Ambos Sexos. ","")) | CC25: =IF(AND($D25<>0,AQ25=""),"* No olvide ingresar la variable "&AQ$9&""&". Digite CERO si no tiene. ",IF(AQ25>$D25,"* La variable "&AQ$9&""&" no debe ser mayor al Total Ambos Sexos. ","")) | CD25: =IF(AND($D25<>0,AR25=""),"* No olvide ingresar la variable "&AR$9&""&". Digite CERO si no tiene. ",IF(AR25>$D25,"* La variable "&AR$9&""&" no debe ser mayor al Total Ambos Sexos. ","")) | CJ25: =IF(AND($D25<>0,AO25=""),1,IF(AO25>$D25,1,0)) -> 0 | CK25: =IF(AND($D25<>0,AP25=""),1,IF(AP25>$D25,1,0)) -> 0 | CL25: =IF(AND($D25<>0,AQ25=""),1,IF(AQ25>$D25,1,0)) -> 0 | CM25: =IF(AND($D25<>0,AR25=""),1,IF(AR25>$D25,1,0)) -> 0
C26: Fallecimiento posterior a 12 meses del ingreso | D26: =SUM(E26:F26) -> 38 | E26: =+G26+I26+K26+M26+O26+Q26+S26+U26+W26++Y26+AA26+AC26+AE26+AG26+AI26+AK26+AM26 -> 25 | F26: =+H26+J26+L26+N26+P26+R26+T26+V26+X26++Z26+AB26+AD26+AF26+AH26+AJ26+AL26+AN26 -> 13 | G26: =SUM(ENERO:DICIEMBRE!G26) -> 0 | H26: =SUM(ENERO:DICIEMBRE!H26) -> 0 | I26: =SUM(ENERO:DICIEMBRE!I26) -> 0 | J26: =SUM(ENERO:DICIEMBRE!J26) -> 0 | K26: =SUM(ENERO:DICIEMBRE!K26) -> 0 | L26: =SUM(ENERO:DICIEMBRE!L26) -> 0 | M26: =SUM(ENERO:DICIEMBRE!M26) -> 0 | N26: =SUM(ENERO:DICIEMBRE!N26) -> 0 | ... AR26: =SUM(ENERO:DICIEMBRE!AR26) -> 0 | AS26: =CA26&CB26&CC26&CD26&CE26 | CA26: =IF(AND($D26<>0,AO26=""),"* No olvide ingresar la variable "&AO$9&""&". Digite CERO si no tiene. ",IF(AO26>$D26,"* La variable "&AO$9&""&" no debe ser mayor al TotalAmbos Sexos. ","")) | CB26: =IF(AND($D26<>0,AP26=""),"* No olvide ingresar la variable "&AP$9&""&". Digite CERO si no tiene. ",IF(AP26>$D26,"* La variable "&AP$9&""&" no debe ser mayor al Total Ambos Sexos. ","")) | CC26: =IF(AND($D26<>0,AQ26=""),"* No olvide ingresar la variable "&AQ$9&""&". Digite CERO si no tiene. ",IF(AQ26>$D26,"* La variable "&AQ$9&""&" no debe ser mayor al Total Ambos Sexos. ","")) | CD26: =IF(AND($D26<>0,AR26=""),"* No olvide ingresar la variable "&AR$9&""&". Digite CERO si no tiene. ",IF(AR26>$D26,"* La variable "&AR$9&""&" no debe ser mayor al Total Ambos Sexos. ","")) | CJ26: =IF(AND($D26<>0,AO26=""),1,IF(AO26>$D26,1,0)) -> 0 | CK26: =IF(AND($D26<>0,AP26=""),1,IF(AP26>$D26,1,0)) -> 0 | CL26: =IF(AND($D26<>0,AQ26=""),1,IF(AQ26>$D26,1,0)) -> 0 | CM26: =IF(AND($D26<>0,AR26=""),1,IF(AR26>$D26,1,0)) -> 0
C27: Término de Tratamiento | D27: =SUM(E27:F27) -> 1 | E27: =+G27+I27+K27+M27+O27+Q27+S27+U27+W27++Y27+AA27+AC27+AE27+AG27+AI27+AK27+AM27 -> 1 | F27: =+H27+J27+L27+N27+P27+R27+T27+V27+X27++Z27+AB27+AD27+AF27+AH27+AJ27+AL27+AN27 -> 0 | G27: =SUM(ENERO:DICIEMBRE!G27) -> 0 | H27: =SUM(ENERO:DICIEMBRE!H27) -> 0 | I27: =SUM(ENERO:DICIEMBRE!I27) -> 0 | J27: =SUM(ENERO:DICIEMBRE!J27) -> 0 | K27: =SUM(ENERO:DICIEMBRE!K27) -> 0 | L27: =SUM(ENERO:DICIEMBRE!L27) -> 0 | M27: =SUM(ENERO:DICIEMBRE!M27) -> 0 | N27: =SUM(ENERO:DICIEMBRE!N27) -> 0 | ... AR27: =SUM(ENERO:DICIEMBRE!AR27) -> 0 | AS27: =CA27&CB27&CC27&CD27&CE27 | CA27: =IF(AND($D27<>0,AO27=""),"* No olvide ingresar la variable "&AO$9&""&". Digite CERO si no tiene. ",IF(AO27>$D27,"* La variable "&AO$9&""&" no debe ser mayor al TotalAmbos Sexos. ","")) | CB27: =IF(AND($D27<>0,AP27=""),"* No olvide ingresar la variable "&AP$9&""&". Digite CERO si no tiene. ",IF(AP27>$D27,"* La variable "&AP$9&""&" no debe ser mayor al Total Ambos Sexos. ","")) | CC27: =IF(AND($D27<>0,AQ27=""),"* No olvide ingresar la variable "&AQ$9&""&". Digite CERO si no tiene. ",IF(AQ27>$D27,"* La variable "&AQ$9&""&" no debe ser mayor al Total Ambos Sexos. ","")) | CD27: =IF(AND($D27<>0,AR27=""),"* No olvide ingresar la variable "&AR$9&""&". Digite CERO si no tiene. ",IF(AR27>$D27,"* La variable "&AR$9&""&" no debe ser mayor al Total Ambos Sexos. ","")) | CJ27: =IF(AND($D27<>0,AO27=""),1,IF(AO27>$D27,1,0)) -> 0 | CK27: =IF(AND($D27<>0,AP27=""),1,IF(AP27>$D27,1,0)) -> 0 | CL27: =IF(AND($D27<>0,AQ27=""),1,IF(AQ27>$D27,1,0)) -> 0 | CM27: =IF(AND($D27<>0,AR27=""),1,IF(AR27>$D27,1,0)) -> 0
C28: No cumplimiento de criterios de ingreso | D28: =SUM(E28:F28) -> 0 | E28: =+G28+I28+K28+M28+O28+Q28+S28+U28+W28++Y28+AA28+AC28+AE28+AG28+AI28+AK28+AM28 -> 0 | F28: =+H28+J28+L28+N28+P28+R28+T28+V28+X28++Z28+AB28+AD28+AF28+AH28+AJ28+AL28+AN28 -> 0 | G28: =SUM(ENERO:DICIEMBRE!G28) -> 0 | H28: =SUM(ENERO:DICIEMBRE!H28) -> 0 | I28: =SUM(ENERO:DICIEMBRE!I28) -> 0 | J28: =SUM(ENERO:DICIEMBRE!J28) -> 0 | K28: =SUM(ENERO:DICIEMBRE!K28) -> 0 | L28: =SUM(ENERO:DICIEMBRE!L28) -> 0 | M28: =SUM(ENERO:DICIEMBRE!M28) -> 0 | N28: =SUM(ENERO:DICIEMBRE!N28) -> 0 | ... AR28: =SUM(ENERO:DICIEMBRE!AR28) -> 0 | AS28: =CA28&CB28&CC28&CD28&CE28 | CA28: =IF(AND($D28<>0,AO28=""),"* No olvide ingresar la variable "&AO$9&""&". Digite CERO si no tiene. ",IF(AO28>$D28,"* La variable "&AO$9&""&" no debe ser mayor al TotalAmbos Sexos. ","")) | CB28: =IF(AND($D28<>0,AP28=""),"* No olvide ingresar la variable "&AP$9&""&". Digite CERO si no tiene. ",IF(AP28>$D28,"* La variable "&AP$9&""&" no debe ser mayor al Total Ambos Sexos. ","")) | CC28: =IF(AND($D28<>0,AQ28=""),"* No olvide ingresar la variable "&AQ$9&""&". Digite CERO si no tiene. ",IF(AQ28>$D28,"* La variable "&AQ$9&""&" no debe ser mayor al Total Ambos Sexos. ","")) | CD28: =IF(AND($D28<>0,AR28=""),"* No olvide ingresar la variable "&AR$9&""&". Digite CERO si no tiene. ",IF(AR28>$D28,"* La variable "&AR$9&""&" no debe ser mayor al Total Ambos Sexos. ","")) | CJ28: =IF(AND($D28<>0,AO28=""),1,IF(AO28>$D28,1,0)) -> 0 | CK28: =IF(AND($D28<>0,AP28=""),1,IF(AP28>$D28,1,0)) -> 0 | CL28: =IF(AND($D28<>0,AQ28=""),1,IF(AQ28>$D28,1,0)) -> 0 | CM28: =IF(AND($D28<>0,AR28=""),1,IF(AR28>$D28,1,0)) -> 0
C29: Otra causal | D29: =SUM(E29:F29) -> 0 | E29: =+G29+I29+K29+M29+O29+Q29+S29+U29+W29++Y29+AA29+AC29+AE29+AG29+AI29+AK29+AM29 -> 0 | F29: =+H29+J29+L29+N29+P29+R29+T29+V29+X29++Z29+AB29+AD29+AF29+AH29+AJ29+AL29+AN29 -> 0 | G29: =SUM(ENERO:DICIEMBRE!G29) -> 0 | H29: =SUM(ENERO:DICIEMBRE!H29) -> 0 | I29: =SUM(ENERO:DICIEMBRE!I29) -> 0 | J29: =SUM(ENERO:DICIEMBRE!J29) -> 0 | K29: =SUM(ENERO:DICIEMBRE!K29) -> 0 | L29: =SUM(ENERO:DICIEMBRE!L29) -> 0 | M29: =SUM(ENERO:DICIEMBRE!M29) -> 0 | N29: =SUM(ENERO:DICIEMBRE!N29) -> 0 | ... AR29: =SUM(ENERO:DICIEMBRE!AR29) -> 0 | AS29: =CA29&CB29&CC29&CD29&CE29 | CA29: =IF(AND($D29<>0,AO29=""),"* No olvide ingresar la variable "&AO$9&""&". Digite CERO si no tiene. ",IF(AO29>$D29,"* La variable "&AO$9&""&" no debe ser mayor al TotalAmbos Sexos. ","")) | CB29: =IF(AND($D29<>0,AP29=""),"* No olvide ingresar la variable "&AP$9&""&". Digite CERO si no tiene. ",IF(AP29>$D29,"* La variable "&AP$9&""&" no debe ser mayor al Total Ambos Sexos. ","")) | CC29: =IF(AND($D29<>0,AQ29=""),"* No olvide ingresar la variable "&AQ$9&""&". Digite CERO si no tiene. ",IF(AQ29>$D29,"* La variable "&AQ$9&""&" no debe ser mayor al Total Ambos Sexos. ","")) | CD29: =IF(AND($D29<>0,AR29=""),"* No olvide ingresar la variable "&AR$9&""&". Digite CERO si no tiene. ",IF(AR29>$D29,"* La variable "&AR$9&""&" no debe ser mayor al Total Ambos Sexos. ","")) | CJ29: =IF(AND($D29<>0,AO29=""),1,IF(AO29>$D29,1,0)) -> 0 | CK29: =IF(AND($D29<>0,AP29=""),1,IF(AP29>$D29,1,0)) -> 0 | CL29: =IF(AND($D29<>0,AQ29=""),1,IF(AQ29>$D29,1,0)) -> 0 | CM29: =IF(AND($D29<>0,AR29=""),1,IF(AR29>$D29,1,0)) -> 0
B30: Enfermedad no oncológica | C30: Fallecimiento menor a 6 meses desde ingreso | D30: =SUM(E30:F30) -> 22 | E30: =+G30+I30+K30+M30+O30+Q30+S30+U30+W30++Y30+AA30+AC30+AE30+AG30+AI30+AK30+AM30 -> 11 | F30: =+H30+J30+L30+N30+P30+R30+T30+V30+X30++Z30+AB30+AD30+AF30+AH30+AJ30+AL30+AN30 -> 11 | G30: =SUM(ENERO:DICIEMBRE!G30) -> 0 | H30: =SUM(ENERO:DICIEMBRE!H30) -> 0 | I30: =SUM(ENERO:DICIEMBRE!I30) -> 0 | J30: =SUM(ENERO:DICIEMBRE!J30) -> 0 | K30: =SUM(ENERO:DICIEMBRE!K30) -> 0 | L30: =SUM(ENERO:DICIEMBRE!L30) -> 0 | M30: =SUM(ENERO:DICIEMBRE!M30) -> 0 | N30: =SUM(ENERO:DICIEMBRE!N30) -> 0 | ... AR30: =SUM(ENERO:DICIEMBRE!AR30) -> 0 | AS30: =CA30&CB30&CC30&CD30&CE30 | CA30: =IF(AND($D30<>0,AO30=""),"* No olvide ingresar la variable "&AO$9&""&". Digite CERO si no tiene. ",IF(AO30>$D30,"* La variable "&AO$9&""&" no debe ser mayor al TotalAmbos Sexos. ","")) | CB30: =IF(AND($D30<>0,AP30=""),"* No olvide ingresar la variable "&AP$9&""&". Digite CERO si no tiene. ",IF(AP30>$D30,"* La variable "&AP$9&""&" no debe ser mayor al Total Ambos Sexos. ","")) | CC30: =IF(AND($D30<>0,AQ30=""),"* No olvide ingresar la variable "&AQ$9&""&". Digite CERO si no tiene. ",IF(AQ30>$D30,"* La variable "&AQ$9&""&" no debe ser mayor al Total Ambos Sexos. ","")) | CD30: =IF(AND($D30<>0,AR30=""),"* No olvide ingresar la variable "&AR$9&""&". Digite CERO si no tiene. ",IF(AR30>$D30,"* La variable "&AR$9&""&" no debe ser mayor al Total Ambos Sexos. ","")) | CJ30: =IF(AND($D30<>0,AO30=""),1,IF(AO30>$D30,1,0)) -> 0 | CK30: =IF(AND($D30<>0,AP30=""),1,IF(AP30>$D30,1,0)) -> 0 | CL30: =IF(AND($D30<>0,AQ30=""),1,IF(AQ30>$D30,1,0)) -> 0 | CM30: =IF(AND($D30<>0,AR30=""),1,IF(AR30>$D30,1,0)) -> 0
C31: Fallecimiento más de 6 meses y menos de un año del ingreso | D31: =SUM(E31:F31) -> 5 | E31: =+G31+I31+K31+M31+O31+Q31+S31+U31+W31++Y31+AA31+AC31+AE31+AG31+AI31+AK31+AM31 -> 2 | F31: =+H31+J31+L31+N31+P31+R31+T31+V31+X31++Z31+AB31+AD31+AF31+AH31+AJ31+AL31+AN31 -> 3 | G31: =SUM(ENERO:DICIEMBRE!G31) -> 0 | H31: =SUM(ENERO:DICIEMBRE!H31) -> 0 | I31: =SUM(ENERO:DICIEMBRE!I31) -> 0 | J31: =SUM(ENERO:DICIEMBRE!J31) -> 0 | K31: =SUM(ENERO:DICIEMBRE!K31) -> 0 | L31: =SUM(ENERO:DICIEMBRE!L31) -> 0 | M31: =SUM(ENERO:DICIEMBRE!M31) -> 0 | N31: =SUM(ENERO:DICIEMBRE!N31) -> 0 | ... AR31: =SUM(ENERO:DICIEMBRE!AR31) -> 0 | AS31: =CA31&CB31&CC31&CD31&CE31 | CA31: =IF(AND($D31<>0,AO31=""),"* No olvide ingresar la variable "&AO$9&""&". Digite CERO si no tiene. ",IF(AO31>$D31,"* La variable "&AO$9&""&" no debe ser mayor al TotalAmbos Sexos. ","")) | CB31: =IF(AND($D31<>0,AP31=""),"* No olvide ingresar la variable "&AP$9&""&". Digite CERO si no tiene. ",IF(AP31>$D31,"* La variable "&AP$9&""&" no debe ser mayor al Total Ambos Sexos. ","")) | CC31: =IF(AND($D31<>0,AQ31=""),"* No olvide ingresar la variable "&AQ$9&""&". Digite CERO si no tiene. ",IF(AQ31>$D31,"* La variable "&AQ$9&""&" no debe ser mayor al Total Ambos Sexos. ","")) | CD31: =IF(AND($D31<>0,AR31=""),"* No olvide ingresar la variable "&AR$9&""&". Digite CERO si no tiene. ",IF(AR31>$D31,"* La variable "&AR$9&""&" no debe ser mayor al Total Ambos Sexos. ","")) | CJ31: =IF(AND($D31<>0,AO31=""),1,IF(AO31>$D31,1,0)) -> 0 | CK31: =IF(AND($D31<>0,AP31=""),1,IF(AP31>$D31,1,0)) -> 0 | CL31: =IF(AND($D31<>0,AQ31=""),1,IF(AQ31>$D31,1,0)) -> 0 | CM31: =IF(AND($D31<>0,AR31=""),1,IF(AR31>$D31,1,0)) -> 0
C32: Fallecimiento posterior a 12 meses del ingreso | D32: =SUM(E32:F32) -> 13 | E32: =+G32+I32+K32+M32+O32+Q32+S32+U32+W32++Y32+AA32+AC32+AE32+AG32+AI32+AK32+AM32 -> 8 | F32: =+H32+J32+L32+N32+P32+R32+T32+V32+X32++Z32+AB32+AD32+AF32+AH32+AJ32+AL32+AN32 -> 5 | G32: =SUM(ENERO:DICIEMBRE!G32) -> 0 | H32: =SUM(ENERO:DICIEMBRE!H32) -> 0 | I32: =SUM(ENERO:DICIEMBRE!I32) -> 0 | J32: =SUM(ENERO:DICIEMBRE!J32) -> 0 | K32: =SUM(ENERO:DICIEMBRE!K32) -> 0 | L32: =SUM(ENERO:DICIEMBRE!L32) -> 0 | M32: =SUM(ENERO:DICIEMBRE!M32) -> 0 | N32: =SUM(ENERO:DICIEMBRE!N32) -> 0 | ... AR32: =SUM(ENERO:DICIEMBRE!AR32) -> 0 | AS32: =CA32&CB32&CC32&CD32&CE32 | CA32: =IF(AND($D32<>0,AO32=""),"* No olvide ingresar la variable "&AO$9&""&". Digite CERO si no tiene. ",IF(AO32>$D32,"* La variable "&AO$9&""&" no debe ser mayor al TotalAmbos Sexos. ","")) | CB32: =IF(AND($D32<>0,AP32=""),"* No olvide ingresar la variable "&AP$9&""&". Digite CERO si no tiene. ",IF(AP32>$D32,"* La variable "&AP$9&""&" no debe ser mayor al Total Ambos Sexos. ","")) | CC32: =IF(AND($D32<>0,AQ32=""),"* No olvide ingresar la variable "&AQ$9&""&". Digite CERO si no tiene. ",IF(AQ32>$D32,"* La variable "&AQ$9&""&" no debe ser mayor al Total Ambos Sexos. ","")) | CD32: =IF(AND($D32<>0,AR32=""),"* No olvide ingresar la variable "&AR$9&""&". Digite CERO si no tiene. ",IF(AR32>$D32,"* La variable "&AR$9&""&" no debe ser mayor al Total Ambos Sexos. ","")) | CJ32: =IF(AND($D32<>0,AO32=""),1,IF(AO32>$D32,1,0)) -> 0 | CK32: =IF(AND($D32<>0,AP32=""),1,IF(AP32>$D32,1,0)) -> 0 | CL32: =IF(AND($D32<>0,AQ32=""),1,IF(AQ32>$D32,1,0)) -> 0 | CM32: =IF(AND($D32<>0,AR32=""),1,IF(AR32>$D32,1,0)) -> 0
C33: No cumplimiento de criterios de ingreso | D33: =SUM(E33:F33) -> 0 | E33: =+G33+I33+K33+M33+O33+Q33+S33+U33+W33++Y33+AA33+AC33+AE33+AG33+AI33+AK33+AM33 -> 0 | F33: =+H33+J33+L33+N33+P33+R33+T33+V33+X33++Z33+AB33+AD33+AF33+AH33+AJ33+AL33+AN33 -> 0 | G33: =SUM(ENERO:DICIEMBRE!G33) -> 0 | H33: =SUM(ENERO:DICIEMBRE!H33) -> 0 | I33: =SUM(ENERO:DICIEMBRE!I33) -> 0 | J33: =SUM(ENERO:DICIEMBRE!J33) -> 0 | K33: =SUM(ENERO:DICIEMBRE!K33) -> 0 | L33: =SUM(ENERO:DICIEMBRE!L33) -> 0 | M33: =SUM(ENERO:DICIEMBRE!M33) -> 0 | N33: =SUM(ENERO:DICIEMBRE!N33) -> 0 | ... AR33: =SUM(ENERO:DICIEMBRE!AR33) -> 0 | AS33: =CA33&CB33&CC33&CD33&CE33 | CA33: =IF(AND($D33<>0,AO33=""),"* No olvide ingresar la variable "&AO$9&""&". Digite CERO si no tiene. ",IF(AO33>$D33,"* La variable "&AO$9&""&" no debe ser mayor al TotalAmbos Sexos. ","")) | CB33: =IF(AND($D33<>0,AP33=""),"* No olvide ingresar la variable "&AP$9&""&". Digite CERO si no tiene. ",IF(AP33>$D33,"* La variable "&AP$9&""&" no debe ser mayor al Total Ambos Sexos. ","")) | CC33: =IF(AND($D33<>0,AQ33=""),"* No olvide ingresar la variable "&AQ$9&""&". Digite CERO si no tiene. ",IF(AQ33>$D33,"* La variable "&AQ$9&""&" no debe ser mayor al Total Ambos Sexos. ","")) | CD33: =IF(AND($D33<>0,AR33=""),"* No olvide ingresar la variable "&AR$9&""&". Digite CERO si no tiene. ",IF(AR33>$D33,"* La variable "&AR$9&""&" no debe ser mayor al Total Ambos Sexos. ","")) | CJ33: =IF(AND($D33<>0,AO33=""),1,IF(AO33>$D33,1,0)) -> 0 | CK33: =IF(AND($D33<>0,AP33=""),1,IF(AP33>$D33,1,0)) -> 0 | CL33: =IF(AND($D33<>0,AQ33=""),1,IF(AQ33>$D33,1,0)) -> 0 | CM33: =IF(AND($D33<>0,AR33=""),1,IF(AR33>$D33,1,0)) -> 0
C34: Otra causal | D34: =SUM(E34:F34) -> 0 | E34: =+G34+I34+K34+M34+O34+Q34+S34+U34+W34++Y34+AA34+AC34+AE34+AG34+AI34+AK34+AM34 -> 0 | F34: =+H34+J34+L34+N34+P34+R34+T34+V34+X34++Z34+AB34+AD34+AF34+AH34+AJ34+AL34+AN34 -> 0 | G34: =SUM(ENERO:DICIEMBRE!G34) -> 0 | H34: =SUM(ENERO:DICIEMBRE!H34) -> 0 | I34: =SUM(ENERO:DICIEMBRE!I34) -> 0 | J34: =SUM(ENERO:DICIEMBRE!J34) -> 0 | K34: =SUM(ENERO:DICIEMBRE!K34) -> 0 | L34: =SUM(ENERO:DICIEMBRE!L34) -> 0 | M34: =SUM(ENERO:DICIEMBRE!M34) -> 0 | N34: =SUM(ENERO:DICIEMBRE!N34) -> 0 | ... AR34: =SUM(ENERO:DICIEMBRE!AR34) -> 0 | AS34: =CA34&CB34&CC34&CD34&CE34 | CA34: =IF(AND($D34<>0,AO34=""),"* No olvide ingresar la variable "&AO$9&""&". Digite CERO si no tiene. ",IF(AO34>$D34,"* La variable "&AO$9&""&" no debe ser mayor al TotalAmbos Sexos. ","")) | CB34: =IF(AND($D34<>0,AP34=""),"* No olvide ingresar la variable "&AP$9&""&". Digite CERO si no tiene. ",IF(AP34>$D34,"* La variable "&AP$9&""&" no debe ser mayor al Total Ambos Sexos. ","")) | CC34: =IF(AND($D34<>0,AQ34=""),"* No olvide ingresar la variable "&AQ$9&""&". Digite CERO si no tiene. ",IF(AQ34>$D34,"* La variable "&AQ$9&""&" no debe ser mayor al Total Ambos Sexos. ","")) | CD34: =IF(AND($D34<>0,AR34=""),"* No olvide ingresar la variable "&AR$9&""&". Digite CERO si no tiene. ",IF(AR34>$D34,"* La variable "&AR$9&""&" no debe ser mayor al Total Ambos Sexos. ","")) | CJ34: =IF(AND($D34<>0,AO34=""),1,IF(AO34>$D34,1,0)) -> 0 | CK34: =IF(AND($D34<>0,AP34=""),1,IF(AP34>$D34,1,0)) -> 0 | CL34: =IF(AND($D34<>0,AQ34=""),1,IF(AQ34>$D34,1,0)) -> 0 | CM34: =IF(AND($D34<>0,AR34=""),1,IF(AR34>$D34,1,0)) -> 0
A35: SECCIÓN B: TIPO DE ATENCIÓN Y ACTIVIDADES
A36: TIPO DE ATENCIÓN | B36: ACTIVIDADES | C36: TOTAL | F36: RANGO ETARIO Y SEXO | AJ36: ATENCIONES POR PROFESIONAL O TECNICO | AT36: Dependencia Severa en APS | AV36: Atenciones a personas oncológicas
F37: 0 a 4 años | H37: 5 a 9 años | J37: 10 - 14 años | L37: 15 - 19 años | N37: 20 - 24 años | P37: 25-29 años | R37: 30-34 años | T37: 35 - 39 años | V37: 40 - 44 años | X37: 45- 49 años | Z37: 50 - 54 años | AB37: 55 - 59 años | AD37: 60 - 64 años | AF37: 65 - 69 años | AH37: 70 años y más
C38: Ambos Sexos | D38: Hombres | E38: Mujeres | F38: Hombres | G38: Mujeres | H38: Hombres | I38: Mujeres | J38: Hombres | K38: Mujeres | L38: Hombres | M38: Mujeres | N38: Hombres | O38: Mujeres | P38: Hombres | Q38: Mujeres | R38: Hombres | S38: Mujeres | T38: Hombres | U38: Mujeres | V38: Hombres | W38: Mujeres | X38: Hombres | Y38: Mujeres | Z38: Hombres | AA38: Mujeres | AB38: Hombres | AC38: Mujeres | AD38: Hombres | AE38: Mujeres | AF38: Hombres | AG38: Mujeres | AH38: Hombres | AI38: Mujeres | AJ38: Médico/a | AK38: Enfermera/o | AL38: Kinesiólogo/a | AM38: Técnico en Enfermería | AN38: Psicólogo/a | AO38: Quimico Farmacéutico | AP38: Nutricionista | AQ38: Fonoaudiólogo/a | AR38: Terapeuta Ocupacional | AS38: Trabajador/a Social | AT38: Hombres | AU38: Mujeres | AV38: 0 -19 años | AW38: 20 años y más | BZ38: Atenciones por profesional o Técnico Igual a Total | CB38: Dependencia Severa APS Hombre | CC38: Dependencia Severa APS Mujer | CD38: Visita Domiciliaria a persona con cáncer
A39: Visita domiciliaria APS | B39: Visita Domiciliaria Integral ingreso | C39: =SUM(D39:E39) -> 0 | D39: =+F39+H39+J39+L39+N39+P39+R39+T39+V39+X39+Z39+AB39+AD39+AF39+AH39 -> 0 | E39: =+G39+I39+K39+M39+O39+Q39+S39+U39+W39+Y39+AA39+AC39+AE39+AG39+AI39 -> 0 | F39: =SUM(ENERO:DICIEMBRE!F39) -> 0 | G39: =SUM(ENERO:DICIEMBRE!G39) -> 0 | H39: =SUM(ENERO:DICIEMBRE!H39) -> 0 | I39: =SUM(ENERO:DICIEMBRE!I39) -> 0 | J39: =SUM(ENERO:DICIEMBRE!J39) -> 0 | K39: =SUM(ENERO:DICIEMBRE!K39) -> 0 | L39: =SUM(ENERO:DICIEMBRE!L39) -> 0 | M39: =SUM(ENERO:DICIEMBRE!M39) -> 0 | ... AW39: =SUM(ENERO:DICIEMBRE!AW39) -> 0 | AX39: =BZ39&CA39&CB39&CC39&CD39&CE39 | BZ39: {=IF(AND($C39<>0,AJ39:AS39=""),"* No olvide ingresar la variable "&AJ$36&""&". Digite CERO si no tiene. ","")} | CA39: =IF((AJ39+AK39+AL39+AM39+AN39+AO39+AP39+AQ39+AR39+AS39)<$C39," * La suma de la variable Ambos Sexos no puede ser Mayor a la suma de ATENCIONES POR PROFESIONAL O TÉCNICO","") | CB39: =IF(AND($C39<>0,AT39=""),"* No olvide ingresar la variable "&AT$36&""&" Hombres. Digite CERO si no tiene. ",IF(AT39>$C39,"* La variable "&AT$36&""&" Hombres no debe ser mayor al Total. ","")) | CC39: =IF(AND($C39<>0,AU39=""),"* No olvide ingresar la variable "&AT$36&""&" Mujeres. Digite CERO si no tiene. ",IF(AU39>$C39,"* La variable "&AT$36&""&" Mujeres no debe ser mayor al Total. ","")) | CD39: =IF(AND($C39<>0,AV39=""),"* No olvide ingresar la variable "&AV$36&""&" 0-19 años. Digite CERO si no tiene. ",IF(AV39>$C39,"* La variable "&AV$36&""&" 0-19 años no debe ser mayor al Total. ","")) | CE39: =IF(AND($C39<>0,AW39=""),"* No olvide ingresar la variable "&AV$36&""&" 20 años y más. Digite CERO si no tiene. ",IF(AW39>$C39,"* La variable "&AV$36&""&" 20 años y más no debe ser mayor al Total. ","")) | CI39: {=IF(AND($C39<>0,AJ39:AS39=""),1,0)} -> 0 | CJ39: =IF((AJ39+AK39+AL39+AM39+AN39+AO39+AP39+AQ39+AR39+AS39)<$C39,1,0) -> 0 | CK39: =IF(AND($C39<>0,AT39=""),1,IF(AT39>C39,1,0)) -> 0 | CL39: =IF(AND($C39<>0,AU39=""),1,IF(AU39>C39,1,0)) -> 0 | CM39: =IF(AND($C39<>0,AV39=""),1,IF(AV39>C39,1,0)) -> 0 | CN39: =IF(AND($C39<>0,AW39=""),1,IF(AW39>C39,1,0)) -> 0
B40: Visita Domiciliaria Integral seguimiento | C40: =SUM(D40:E40) -> 0 | D40: =+F40+H40+J40+L40+N40+P40+R40+T40+V40+X40+Z40+AB40+AD40+AF40+AH40 -> 0 | E40: =+G40+I40+K40+M40+O40+Q40+S40+U40+W40+Y40+AA40+AC40+AE40+AG40+AI40 -> 0 | F40: =SUM(ENERO:DICIEMBRE!F40) -> 0 | G40: =SUM(ENERO:DICIEMBRE!G40) -> 0 | H40: =SUM(ENERO:DICIEMBRE!H40) -> 0 | I40: =SUM(ENERO:DICIEMBRE!I40) -> 0 | J40: =SUM(ENERO:DICIEMBRE!J40) -> 0 | K40: =SUM(ENERO:DICIEMBRE!K40) -> 0 | L40: =SUM(ENERO:DICIEMBRE!L40) -> 0 | M40: =SUM(ENERO:DICIEMBRE!M40) -> 0 | ... AW40: =SUM(ENERO:DICIEMBRE!AW40) -> 0 | AX40: =BZ40&CA40&CB40&CC40&CD40&CE40 | BU40: =IF(CI40=1," * La suma de Atenciones por profesional no debe ser mayor al Total.","") | BZ40: {=IF(AND($C40<>0,AJ40:AS40=""),"* No olvide ingresar la variable "&AJ$36&""&". Digite CERO si no tiene. ","")} | CA40: =IF((AJ40+AK40+AL40+AM40+AN40+AO40+AP40+AQ40+AR40+AS40)<$C40," * La suma de la variable Ambos Sexos no puede ser Mayor a la suma de ATENCIONES POR PROFESIONAL O TÉCNICO","") | CB40: =IF(AND($C40<>0,AT40=""),"* No olvide ingresar la variable "&AT$36&""&" Hombres. Digite CERO si no tiene. ",IF(AT40>$C40,"* La variable "&AT$36&""&" Hombres no debe ser mayor al Total. ","")) | CC40: =IF(AND($C40<>0,AU40=""),"* No olvide ingresar la variable "&AT$36&""&" Mujeres. Digite CERO si no tiene. ",IF(AU40>$C40,"* La variable "&AT$36&""&" Mujeres no debe ser mayor al Total. ","")) | CD40: =IF(AND($C40<>0,AV40=""),"* No olvide ingresar la variable "&AV$36&""&" 0-19 años. Digite CERO si no tiene. ",IF(AV40>$C40,"* La variable "&AV$36&""&" 0-19 años no debe ser mayor al Total. ","")) | CE40: =IF(AND($C40<>0,AW40=""),"* No olvide ingresar la variable "&AV$36&""&" 20 años y más. Digite CERO si no tiene. ",IF(AW40>$C40,"* La variable "&AV$36&""&" 20 años y más no debe ser mayor al Total. ","")) | CI40: {=IF(AND($C40<>0,AJ40:AS40=""),1,0)} -> 0 | CJ40: =IF((AJ40+AK40+AL40+AM40+AN40+AO40+AP40+AQ40+AR40+AS40)<$C40,1,0) -> 0 | CK40: =IF(AND($C40<>0,AT40=""),1,IF(AT40>C40,1,0)) -> 0 | CL40: =IF(AND($C40<>0,AU40=""),1,IF(AU40>C40,1,0)) -> 0 | CM40: =IF(AND($C40<>0,AV40=""),1,IF(AV40>C40,1,0)) -> 0 | CN40: =IF(AND($C40<>0,AW40=""),1,IF(AW40>C40,1,0)) -> 0
B41: Visita Domiciliaria Tratamiento/Procedimiento/Rehabilitación | C41: =SUM(D41:E41) -> 0 | D41: =+F41+H41+J41+L41+N41+P41+R41+T41+V41+X41+Z41+AB41+AD41+AF41+AH41 -> 0 | E41: =+G41+I41+K41+M41+O41+Q41+S41+U41+W41+Y41+AA41+AC41+AE41+AG41+AI41 -> 0 | F41: =SUM(ENERO:DICIEMBRE!F41) -> 0 | G41: =SUM(ENERO:DICIEMBRE!G41) -> 0 | H41: =SUM(ENERO:DICIEMBRE!H41) -> 0 | I41: =SUM(ENERO:DICIEMBRE!I41) -> 0 | J41: =SUM(ENERO:DICIEMBRE!J41) -> 0 | K41: =SUM(ENERO:DICIEMBRE!K41) -> 0 | L41: =SUM(ENERO:DICIEMBRE!L41) -> 0 | M41: =SUM(ENERO:DICIEMBRE!M41) -> 0 | ... AW41: =SUM(ENERO:DICIEMBRE!AW41) -> 0 | AX41: =BZ41&CA41&CB41&CC41&CD41&CE41 | BU41: =IF(CI41=1," * La suma de Atenciones por profesional no debe ser mayor al Total.","") | BZ41: {=IF(AND($C41<>0,AJ41:AS41=""),"* No olvide ingresar la variable "&AJ$36&""&". Digite CERO si no tiene. ","")} | CA41: =IF((AJ41+AK41+AL41+AM41+AN41+AO41+AP41+AQ41+AR41+AS41)<$C41," * La suma de la variable Ambos Sexos no puede ser Mayor a la suma de ATENCIONES POR PROFESIONAL O TÉCNICO","") | CB41: =IF(AND($C41<>0,AT41=""),"* No olvide ingresar la variable "&AT$36&""&" Hombres. Digite CERO si no tiene. ",IF(AT41>$C41,"* La variable "&AT$36&""&" Hombres no debe ser mayor al Total. ","")) | CC41: =IF(AND($C41<>0,AU41=""),"* No olvide ingresar la variable "&AT$36&""&" Mujeres. Digite CERO si no tiene. ",IF(AU41>$C41,"* La variable "&AT$36&""&" Mujeres no debe ser mayor al Total. ","")) | CD41: =IF(AND($C41<>0,AV41=""),"* No olvide ingresar la variable "&AV$36&""&" 0-19 años. Digite CERO si no tiene. ",IF(AV41>$C41,"* La variable "&AV$36&""&" 0-19 años no debe ser mayor al Total. ","")) | CE41: =IF(AND($C41<>0,AW41=""),"* No olvide ingresar la variable "&AV$36&""&" 20 años y más. Digite CERO si no tiene. ",IF(AW41>$C41,"* La variable "&AV$36&""&" 20 años y más no debe ser mayor al Total. ","")) | CI41: {=IF(AND($C41<>0,AJ41:AS41=""),1,0)} -> 0 | CJ41: =IF((AJ41+AK41+AL41+AM41+AN41+AO41+AP41+AQ41+AR41+AS41)<$C41,1,0) -> 0 | CK41: =IF(AND($C41<>0,AT41=""),1,IF(AT41>C41,1,0)) -> 0 | CL41: =IF(AND($C41<>0,AU41=""),1,IF(AU41>C41,1,0)) -> 0 | CM41: =IF(AND($C41<>0,AV41=""),1,IF(AV41>C41,1,0)) -> 0 | CN41: =IF(AND($C41<>0,AW41=""),1,IF(AW41>C41,1,0)) -> 0
...

Sheet ENERO
A1: SERVICIO DE SALUD
A2: =CONCATENATE("COMUNA: ",[2]NOMBRE!B2, " (",[2]NOMBRE!C2,[2]NOMBRE!D2,[2]NOMBRE!E2,[2]NOMBRE!F2,[2]NOMBRE!G2,")") -> COMUNA: LINARES (07401)
A3: =CONCATENATE("ESTABLECIMIENTO/ESTRATEGIA: ", [2]NOMBRE!B3, " (",[2]NOMBRE!C3,[2]NOMBRE!D3,[2]NOMBRE!E3,[2]NOMBRE!F3,[2]NOMBRE!G3,[2]NOMBRE!H3,")") -> ESTABLECIMIENTO/ESTRATEGIA: HOSPITAL PRESIDENTE CARLOS IBAÑEZ DEL CAMPO (116108)
A4: =CONCATENATE("MES: ",[2]NOMBRE!B6, " (",[2]NOMBRE!C6,[2]NOMBRE!D6,")") -> MES: ENERO (01)
A5: =CONCATENATE("AÑO: ",[2]NOMBRE!B7) -> AÑO: 2025
A6: REM - A33. CUIDADOS PALIATIVOS NIVEL APS Y HOSPITALARIO
A8: SECCIÓN A: INGRESOS POR DIAGNÓSTICO Y EGRESO POR CAUSALES
A9: INGRESO Y EGRESO SEGÚN DIAGNÓSTICO | D9: TOTAL | G9: RANGO ETARIO | AO9: Pueblos originarios | AP9: Migrantes | AQ9: Niños, Niñas, Adolescentes y Jóvenes SENAME | AR9: Niños, Niñas, Adolescentes y Jóvenes Mejor Niñez | CA9: Pueblos originarios | CB9: Migrantes | CC9: No olvide | CD9: Niños, Niñas, Adolescentes y Jóvenes SENAME | CJ9: Pueblos originarios | CK9: Migrantes | CL9: Niños, Niñas, Adolescentes y Jóvenes SENAME | CM9: Niños, Niñas, Adolescentes y Jóvenes Mejor Niñez
G10: 0 a 4 años | I10: 5 a 9 años | K10: 10- 14 años | M10: 15 - 19 años | O10: 20 - 24 años | Q10: 25-29 años | S10: 30-34 años | U10: 35 - 39 años | W10: 40 - 44 años | Y10: 45- 49 años | AA10: 50 - 54 años | AC10: 55 - 59 años | AE10: 60 - 64 años | AG10: 65 - 69 años | AI10: 70 - 74 años | AK10: 75 - 79 años | AM10: 80 y mas
D11: Ambos Sexos | E11: Hombres | F11: Mujeres | G11: Hombres | H11: Mujeres | I11: Hombres | J11: Mujeres | K11: Hombres | L11: Mujeres | M11: Hombres | N11: Mujeres | O11: Hombres | P11: Mujeres | Q11: Hombres | R11: Mujeres | S11: Hombres | T11: Mujeres | U11: Hombres | V11: Mujeres | W11: Hombres | X11: Mujeres | Y11: Hombres | Z11: Mujeres | AA11: Hombres | AB11: Mujeres | AC11: Hombres | AD11: Mujeres | AE11: Hombres | AF11: Mujeres | AG11: Hombres | AH11: Mujeres | AI11: Hombres | AJ11: Mujeres | AK11: Hombres | AL11: Mujeres | AM11: Hombres | AN11: Mujeres | AP11: Mujeres | CB11: Mujeres | CC11: Mujeres | CK11: Mujeres
A12: Ingresos por Diagnóstico | B12: Enfermedad oncológica | C12: Enfermedades oncológicas no progresivas | D12: =SUM(E12:F12) -> 10 | E12: =+G12+I12+K12+M12+O12+Q12+S12+U12+W12++Y12+AA12+AC12+AE12+AG12+AI12+AK12+AM12 -> 5 | F12: =+H12+J12+L12+N12+P12+R12+T12+V12+X12++Z12+AB12+AD12+AF12+AH12+AJ12+AL12+AN12 -> 5 | U12: 1 | V12: 1 | Z12: 1 | AG12: 1 | AH12: 1 | AI12: 3 | AJ12: 2 | AO12: 0 | AP12: 0 | AQ12: 0 | AR12: 0 | AS12: =CA12&CB12&CC12&CD12&CE12 | CA12: =IF(AND($D12<>0,AO12=""),"* No olvide ingresar la variable "&AO$9&""&". Digite CERO si no tiene. ",IF(AO12>$D12,"* La variable "&AO$9&""&" no debe ser mayor al TotalAmbos Sexos. ","")) | CB12: =IF(AND($D12<>0,AP12=""),"* No olvide ingresar la variable "&AP$9&""&". Digite CERO si no tiene. ",IF(AP12>$D12,"* La variable "&AP$9&""&" no debe ser mayor al Total Ambos Sexos. ","")) | CC12: =IF(AND($D12<>0,AQ12=""),"* No olvide ingresar la variable "&AQ$9&""&". Digite CERO si no tiene. ",IF(AQ12>$D12,"* La variable "&AQ$9&""&" no debe ser mayor al Total Ambos Sexos. ","")) | CD12: =IF(AND($D12<>0,AR12=""),"* No olvide ingresar la variable "&AR$9&""&". Digite CERO si no tiene. ",IF(AR12>$D12,"* La variable "&AR$9&""&" no debe ser mayor al Total Ambos Sexos. ","")) | CJ12: =IF(AND($D12<>0,AO12=""),1,IF(AO12>$D12,1,0)) -> 0 | CK12: =IF(AND($D12<>0,AP12=""),1,IF(AP12>$D12,1,0)) -> 0 | CL12: =IF(AND($D12<>0,AQ12=""),1,IF(AQ12>$D12,1,0)) -> 0 | CM12: =IF(AND($D12<>0,AR12=""),1,IF(AR12>$D12,1,0)) -> 0
C13: Enfermedades oncológicas progresivas | D13: =SUM(E13:F13) -> 0 | E13: =+G13+I13+K13+M13+O13+Q13+S13+U13+W13++Y13+AA13+AC13+AE13+AG13+AI13+AK13+AM13 -> 0 | F13: =+H13+J13+L13+N13+P13+R13+T13+V13+X13++Z13+AB13+AD13+AF13+AH13+AJ13+AL13+AN13 -> 0 | AS13: =CA13&CB13&CC13&CD13&CE13 | CA13: =IF(AND($D13<>0,AO13=""),"* No olvide ingresar la variable "&AO$9&""&". Digite CERO si no tiene. ",IF(AO13>$D13,"* La variable "&AO$9&""&" no debe ser mayor al TotalAmbos Sexos. ","")) | CB13: =IF(AND($D13<>0,AP13=""),"* No olvide ingresar la variable "&AP$9&""&". Digite CERO si no tiene. ",IF(AP13>$D13,"* La variable "&AP$9&""&" no debe ser mayor al Total Ambos Sexos. ","")) | CC13: =IF(AND($D13<>0,AQ13=""),"* No olvide ingresar la variable "&AQ$9&""&". Digite CERO si no tiene. ",IF(AQ13>$D13,"* La variable "&AQ$9&""&" no debe ser mayor al Total Ambos Sexos. ","")) | CD13: =IF(AND($D13<>0,AR13=""),"* No olvide ingresar la variable "&AR$9&""&". Digite CERO si no tiene. ",IF(AR13>$D13,"* La variable "&AR$9&""&" no debe ser mayor al Total Ambos Sexos. ","")) | CJ13: =IF(AND($D13<>0,AO13=""),1,IF(AO13>$D13,1,0)) -> 0 | CK13: =IF(AND($D13<>0,AP13=""),1,IF(AP13>$D13,1,0)) -> 0 | CL13: =IF(AND($D13<>0,AQ13=""),1,IF(AQ13>$D13,1,0)) -> 0 | CM13: =IF(AND($D13<>0,AR13=""),1,IF(AR13>$D13,1,0)) -> 0
B14: Enfermedad no oncológica | C14: Infección causada por VIH | D14: =SUM(E14:F14) -> 0 | E14: =+G14+I14+K14+M14+O14+Q14+S14+U14+W14++Y14+AA14+AC14+AE14+AG14+AI14+AK14+AM14 -> 0 | F14: =+H14+J14+L14+N14+P14+R14+T14+V14+X14++Z14+AB14+AD14+AF14+AH14+AJ14+AL14+AN14 -> 0 | AS14: =CA14&CB14&CC14&CD14&CE14 | CA14: =IF(AND($D14<>0,AO14=""),"* No olvide ingresar la variable "&AO$9&""&". Digite CERO si no tiene. ",IF(AO14>$D14,"* La variable "&AO$9&""&" no debe ser mayor al TotalAmbos Sexos. ","")) | CB14: =IF(AND($D14<>0,AP14=""),"* No olvide ingresar la variable "&AP$9&""&". Digite CERO si no tiene. ",IF(AP14>$D14,"* La variable "&AP$9&""&" no debe ser mayor al Total Ambos Sexos. ","")) | CC14: =IF(AND($D14<>0,AQ14=""),"* No olvide ingresar la variable "&AQ$9&""&". Digite CERO si no tiene. ",IF(AQ14>$D14,"* La variable "&AQ$9&""&" no debe ser mayor al Total Ambos Sexos. ","")) | CD14: =IF(AND($D14<>0,AR14=""),"* No olvide ingresar la variable "&AR$9&""&". Digite CERO si no tiene. ",IF(AR14>$D14,"* La variable "&AR$9&""&" no debe ser mayor al Total Ambos Sexos. ","")) | CJ14: =IF(AND($D14<>0,AO14=""),1,IF(AO14>$D14,1,0)) -> 0 | CK14: =IF(AND($D14<>0,AP14=""),1,IF(AP14>$D14,1,0)) -> 0 | CL14: =IF(AND($D14<>0,AQ14=""),1,IF(AQ14>$D14,1,0)) -> 0 | CM14: =IF(AND($D14<>0,AR14=""),1,IF(AR14>$D14,1,0)) -> 0
C15: Enfermedades de origen neurológico | D15: =SUM(E15:F15) -> 0 | E15: =+G15+I15+K15+M15+O15+Q15+S15+U15+W15++Y15+AA15+AC15+AE15+AG15+AI15+AK15+AM15 -> 0 | F15: =+H15+J15+L15+N15+P15+R15+T15+V15+X15++Z15+AB15+AD15+AF15+AH15+AJ15+AL15+AN15 -> 0 | AS15: =CA15&CB15&CC15&CD15&CE15 | CA15: =IF(AND($D15<>0,AO15=""),"* No olvide ingresar la variable "&AO$9&""&". Digite CERO si no tiene. ",IF(AO15>$D15,"* La variable "&AO$9&""&" no debe ser mayor al TotalAmbos Sexos. ","")) | CB15: =IF(AND($D15<>0,AP15=""),"* No olvide ingresar la variable "&AP$9&""&". Digite CERO si no tiene. ",IF(AP15>$D15,"* La variable "&AP$9&""&" no debe ser mayor al Total Ambos Sexos. ","")) | CC15: =IF(AND($D15<>0,AQ15=""),"* No olvide ingresar la variable "&AQ$9&""&". Digite CERO si no tiene. ",IF(AQ15>$D15,"* La variable "&AQ$9&""&" no debe ser mayor al Total Ambos Sexos. ","")) | CD15: =IF(AND($D15<>0,AR15=""),"* No olvide ingresar la variable "&AR$9&""&". Digite CERO si no tiene. ",IF(AR15>$D15,"* La variable "&AR$9&""&" no debe ser mayor al Total Ambos Sexos. ","")) | CJ15: =IF(AND($D15<>0,AO15=""),1,IF(AO15>$D15,1,0)) -> 0 | CK15: =IF(AND($D15<>0,AP15=""),1,IF(AP15>$D15,1,0)) -> 0 | CL15: =IF(AND($D15<>0,AQ15=""),1,IF(AQ15>$D15,1,0)) -> 0 | CM15: =IF(AND($D15<>0,AR15=""),1,IF(AR15>$D15,1,0)) -> 0
C16: Enfermedades de origen cardiológico | D16: =SUM(E16:F16) -> 0 | E16: =+G16+I16+K16+M16+O16+Q16+S16+U16+W16++Y16+AA16+AC16+AE16+AG16+AI16+AK16+AM16 -> 0 | F16: =+H16+J16+L16+N16+P16+R16+T16+V16+X16++Z16+AB16+AD16+AF16+AH16+AJ16+AL16+AN16 -> 0 | AS16: =CA16&CB16&CC16&CD16&CE16 | CA16: =IF(AND($D16<>0,AO16=""),"* No olvide ingresar la variable "&AO$9&""&". Digite CERO si no tiene. ",IF(AO16>$D16,"* La variable "&AO$9&""&" no debe ser mayor al TotalAmbos Sexos. ","")) | CB16: =IF(AND($D16<>0,AP16=""),"* No olvide ingresar la variable "&AP$9&""&". Digite CERO si no tiene. ",IF(AP16>$D16,"* La variable "&AP$9&""&" no debe ser mayor al Total Ambos Sexos. ","")) | CC16: =IF(AND($D16<>0,AQ16=""),"* No olvide ingresar la variable "&AQ$9&""&". Digite CERO si no tiene. ",IF(AQ16>$D16,"* La variable "&AQ$9&""&" no debe ser mayor al Total Ambos Sexos. ","")) | CD16: =IF(AND($D16<>0,AR16=""),"* No olvide ingresar la variable "&AR$9&""&". Digite CERO si no tiene. ",IF(AR16>$D16,"* La variable "&AR$9&""&" no debe ser mayor al Total Ambos Sexos. ","")) | CJ16: =IF(AND($D16<>0,AO16=""),1,IF(AO16>$D16,1,0)) -> 0 | CK16: =IF(AND($D16<>0,AP16=""),1,IF(AP16>$D16,1,0)) -> 0 | CL16: =IF(AND($D16<>0,AQ16=""),1,IF(AQ16>$D16,1,0)) -> 0 | CM16: =IF(AND($D16<>0,AR16=""),1,IF(AR16>$D16,1,0)) -> 0
C17: Enfermedades de origen pulmonar | D17: =SUM(E17:F17) -> 0 | E17: =+G17+I17+K17+M17+O17+Q17+S17+U17+W17++Y17+AA17+AC17+AE17+AG17+AI17+AK17+AM17 -> 0 | F17: =+H17+J17+L17+N17+P17+R17+T17+V17+X17++Z17+AB17+AD17+AF17+AH17+AJ17+AL17+AN17 -> 0 | AS17: =CA17&CB17&CC17&CD17&CE17 | CA17: =IF(AND($D17<>0,AO17=""),"* No olvide ingresar la variable "&AO$9&""&". Digite CERO si no tiene. ",IF(AO17>$D17,"* La variable "&AO$9&""&" no debe ser mayor al TotalAmbos Sexos. ","")) | CB17: =IF(AND($D17<>0,AP17=""),"* No olvide ingresar la variable "&AP$9&""&". Digite CERO si no tiene. ",IF(AP17>$D17,"* La variable "&AP$9&""&" no debe ser mayor al Total Ambos Sexos. ","")) | CC17: =IF(AND($D17<>0,AQ17=""),"* No olvide ingresar la variable "&AQ$9&""&". Digite CERO si no tiene. ",IF(AQ17>$D17,"* La variable "&AQ$9&""&" no debe ser mayor al Total Ambos Sexos. ","")) | CD17: =IF(AND($D17<>0,AR17=""),"* No olvide ingresar la variable "&AR$9&""&". Digite CERO si no tiene. ",IF(AR17>$D17,"* La variable "&AR$9&""&" no debe ser mayor al Total Ambos Sexos. ","")) | CJ17: =IF(AND($D17<>0,AO17=""),1,IF(AO17>$D17,1,0)) -> 0 | CK17: =IF(AND($D17<>0,AP17=""),1,IF(AP17>$D17,1,0)) -> 0 | CL17: =IF(AND($D17<>0,AQ17=""),1,IF(AQ17>$D17,1,0)) -> 0 | CM17: =IF(AND($D17<>0,AR17=""),1,IF(AR17>$D17,1,0)) -> 0
C18: Enfermedades de origen hepático | D18: =SUM(E18:F18) -> 0 | E18: =+G18+I18+K18+M18+O18+Q18+S18+U18+W18++Y18+AA18+AC18+AE18+AG18+AI18+AK18+AM18 -> 0 | F18: =+H18+J18+L18+N18+P18+R18+T18+V18+X18++Z18+AB18+AD18+AF18+AH18+AJ18+AL18+AN18 -> 0 | AS18: =CA18&CB18&CC18&CD18&CE18 | CA18: =IF(AND($D18<>0,AO18=""),"* No olvide ingresar la variable "&AO$9&""&". Digite CERO si no tiene. ",IF(AO18>$D18,"* La variable "&AO$9&""&" no debe ser mayor al TotalAmbos Sexos. ","")) | CB18: =IF(AND($D18<>0,AP18=""),"* No olvide ingresar la variable "&AP$9&""&". Digite CERO si no tiene. ",IF(AP18>$D18,"* La variable "&AP$9&""&" no debe ser mayor al Total Ambos Sexos. ","")) | CC18: =IF(AND($D18<>0,AQ18=""),"* No olvide ingresar la variable "&AQ$9&""&". Digite CERO si no tiene. ",IF(AQ18>$D18,"* La variable "&AQ$9&""&" no debe ser mayor al Total Ambos Sexos. ","")) | CD18: =IF(AND($D18<>0,AR18=""),"* No olvide ingresar la variable "&AR$9&""&". Digite CERO si no tiene. ",IF(AR18>$D18,"* La variable "&AR$9&""&" no debe ser mayor al Total Ambos Sexos. ","")) | CJ18: =IF(AND($D18<>0,AO18=""),1,IF(AO18>$D18,1,0)) -> 0 | CK18: =IF(AND($D18<>0,AP18=""),1,IF(AP18>$D18,1,0)) -> 0 | CL18: =IF(AND($D18<>0,AQ18=""),1,IF(AQ18>$D18,1,0)) -> 0 | CM18: =IF(AND($D18<>0,AR18=""),1,IF(AR18>$D18,1,0)) -> 0
