Workbook

Sheet CONSOLIDADO
A1: SERVICIO DE SALUD
A2: =CONCATENATE("COMUNA: ",[1]NOMBRE!B2, " (",[1]NOMBRE!C2,[1]NOMBRE!D2,[1]NOMBRE!E2,[1]NOMBRE!F2,[1]NOMBRE!G2,")") -> COMUNA: 0 (00000)
A3: =CONCATENATE("ESTABLECIMIENTO/ESTRATEGIA: ", [1]NOMBRE!B3, " (",[1]NOMBRE!C3,[1]NOMBRE!D3,[1]NOMBRE!E3,[1]NOMBRE!F3,[1]NOMBRE!G3,[1]NOMBRE!H3,")") -> ESTABLECIMIENTO/ESTRATEGIA: 0 (000000)
A4: =CONCATENATE("MES: ",[1]NOMBRE!B6, " (",[1]NOMBRE!C6,[1]NOMBRE!D6,")") -> MES: 0 (00)
A5: =CONCATENATE("AÑO: ",[1]NOMBRE!B7) -> AÑO: 2025
A6: REM-32. ACTIVIDADES DE ATENCIÓN DE SALUD REMOTA
A8: SECCIÓN A: SEGUIMIENTO EN ATENCIÓN PRIMARIA DE SALUD POR LLAMADA TELEFÓNICA O VIDEOLLAMADAS
A9: PROFESIONAL | B9: TOTAL | C9: RANGO ETARIO | T9: SEXO | V9: Niños, niñas, adolescentes y jóvenes SENAME | W9: Niños, niñas, adolescentes y jóvenes Mejor Niñez | X9: Pueblos Originarios | Y9: Migrantes | Z9: Espacios amigables/ Adolescentes
C10: 0 - 4 años | D10: 5 - 9 años | E10: 10 - 14 años | F10: 15 - 19 años | G10: 20 - 24 años | H10: 25 - 29 años | I10: 30 - 34 años | J10: 35 - 39 años | K10: 40 - 44 años | L10: 45 - 49 años | M10: 50 - 54 años | N10: 55 - 59 años | O10: 60 - 64 años | P10: 65 - 69 años | Q10: 70 - 74 años | R10: 75 - 79 años | S10: 80 y más años | T10: Hombres | U10: Mujeres
A11: Médico/a | B11: =SUM(C11:S11) -> 0 | C11: =SUM(ENERO:DICIEMBRE!C11) -> 0 | D11: =SUM(ENERO:DICIEMBRE!D11) -> 0 | E11: =SUM(ENERO:DICIEMBRE!E11) -> 0 | F11: =SUM(ENERO:DICIEMBRE!F11) -> 0 | G11: =SUM(ENERO:DICIEMBRE!G11) -> 0 | H11: =SUM(ENERO:DICIEMBRE!H11) -> 0 | I11: =SUM(ENERO:DICIEMBRE!I11) -> 0 | J11: =SUM(ENERO:DICIEMBRE!J11) -> 0 | ... Z11: =SUM(ENERO:DICIEMBRE!Z11) -> 0 | AA11: =CA11&CB11&CC11&CD11&CE11&CF11 | CA11: =IF((T11+U11)<>B11," * El desglose por Sexo No puede ser distinto al Total.","") | CB11: =IF(AND(B11>0,V11="")," * No olvide digitar Niños, niñas, adolescentes y jóvenes en Serv. Nac. Reinserción Social Juvenil. Digite cero si no tiene.",IF(V11>B11," * La variable Niños, Niñas, adolescentes y jóvenes en Serv. Nac. Reinserción Social Juvenil no puede ser mayor al Total.","")) | CC11: =IF(AND(B11>0,W11="")," * No olvide digitar Niños, niñas, adolescentes y Jóvenes en Serv. Nac. Protección Especializada a la Niñez y Adolescencia. Digite cero si no tiene.",IF(W11>B11," * La variable Niños, Niñas, adolescentes y jóvenes enServ. Nac. Protección Especializada a la Niñez y Adolescencia no puede ser mayor al Total.","")) | CD11: =IF(AND(B11>0,X11="")," * No olvide digitar Pueblos Originarios. Digite cero si no tiene.",IF(X11>B11," * La variable Pueblos Originarios no puede ser mayor al Total.","")) | CE11: =IF(AND(B11>0,Y11="")," * No olvide digitar Migrantes. Digite cero si no tiene.",IF(Y11>B11," * La variable Migrantes no puede ser mayor al Total.","")) | CF11: =IF(AND(B11>0,Z11="")," * No olvide digitar Espacios amigables/Adolescentes. Digite cero si no tiene.",IF(Z11>B11," * La variable Espacios amigables/Adolescentes no puede ser mayor al Total.","")) | CK11: =IF((T11+U11)<>B11,1,0) -> 0 | CL11: =IF(AND(B11>0,V11=""),1,IF(V11>B11,1,0)) -> 0 | CM11: =IF(AND(B11>0,W11=""),1,IF(W11>B11,1,0)) -> 0 | CN11: =IF(AND(B11>0,X11=""),1,IF(X11>B11,1,0)) -> 0 | CO11: =IF(AND(B11>0,Y11=""),1,IF(Y11>B11,1,0)) -> 0 | CP11: =IF(AND(B11>0,Z11=""),1,IF(Z11>B11,1,0)) -> 0
A12: Enfermera/o | B12: =SUM(C12:S12) -> 0 | C12: =SUM(ENERO:DICIEMBRE!C12) -> 0 | D12: =SUM(ENERO:DICIEMBRE!D12) -> 0 | E12: =SUM(ENERO:DICIEMBRE!E12) -> 0 | F12: =SUM(ENERO:DICIEMBRE!F12) -> 0 | G12: =SUM(ENERO:DICIEMBRE!G12) -> 0 | H12: =SUM(ENERO:DICIEMBRE!H12) -> 0 | I12: =SUM(ENERO:DICIEMBRE!I12) -> 0 | J12: =SUM(ENERO:DICIEMBRE!J12) -> 0 | ... Z12: =SUM(ENERO:DICIEMBRE!Z12) -> 0 | AA12: =CA12&CB12&CC12&CD12&CE12&CF12 | CA12: =IF((T12+U12)<>B12," * El desglose por Sexo No puede ser distinto al Total.","") | CB12: =IF(AND(B12>0,V12="")," * No olvide digitar Niños, niñas, adolescentes y jóvenes en Serv. Nac. Reinserción Social Juvenil. Digite cero si no tiene.",IF(V12>B12," * La variable Niños, Niñas, adolescentes y jóvenes en Serv. Nac. Reinserción Social Juvenil no puede ser mayor al Total.","")) | CC12: =IF(AND(B12>0,W12="")," * No olvide digitar Niños, niñas, adolescentes y Jóvenes en Serv. Nac. Protección Especializada a la Niñez y Adolescencia. Digite cero si no tiene.",IF(W12>B12," * La variable Niños, Niñas, adolescentes y jóvenes enServ. Nac. Protección Especializada a la Niñez y Adolescencia no puede ser mayor al Total.","")) | CD12: =IF(AND(B12>0,X12="")," * No olvide digitar Pueblos Originarios. Digite cero si no tiene.",IF(X12>B12," * La variable Pueblos Originarios no puede ser mayor al Total.","")) | CE12: =IF(AND(B12>0,Y12="")," * No olvide digitar Migrantes. Digite cero si no tiene.",IF(Y12>B12," * La variable Migrantes no puede ser mayor al Total.","")) | CF12: =IF(AND(B12>0,Z12="")," * No olvide digitar Espacios amigables/Adolescentes. Digite cero si no tiene.",IF(Z12>B12," * La variable Espacios amigables/Adolescentes no puede ser mayor al Total.","")) | CK12: =IF((T12+U12)<>B12,1,0) -> 0 | CL12: =IF(AND(B12>0,V12=""),1,IF(V12>B12,1,0)) -> 0 | CM12: =IF(AND(B12>0,W12=""),1,IF(W12>B12,1,0)) -> 0 | CN12: =IF(AND(B12>0,X12=""),1,IF(X12>B12,1,0)) -> 0 | CO12: =IF(AND(B12>0,Y12=""),1,IF(Y12>B12,1,0)) -> 0 | CP12: =IF(AND(B12>0,Z12=""),1,IF(Z12>B12,1,0)) -> 0
A13: Matrón/a | B13: =SUM(E13:S13) -> 0 | C13: =SUM(ENERO:DICIEMBRE!C13) -> 0 | D13: =SUM(ENERO:DICIEMBRE!D13) -> 0 | E13: =SUM(ENERO:DICIEMBRE!E13) -> 0 | F13: =SUM(ENERO:DICIEMBRE!F13) -> 0 | G13: =SUM(ENERO:DICIEMBRE!G13) -> 0 | H13: =SUM(ENERO:DICIEMBRE!H13) -> 0 | I13: =SUM(ENERO:DICIEMBRE!I13) -> 0 | J13: =SUM(ENERO:DICIEMBRE!J13) -> 0 | ... Z13: =SUM(ENERO:DICIEMBRE!Z13) -> 0 | AA13: =CA13&CB13&CC13&CD13&CE13&CF13 | CA13: =IF((T13+U13)<>B13," * El desglose por Sexo No puede ser distinto al Total.","") | CB13: =IF(AND(B13>0,V13="")," * No olvide digitar Niños, niñas, adolescentes y jóvenes en Serv. Nac. Reinserción Social Juvenil. Digite cero si no tiene.",IF(V13>B13," * La variable Niños, Niñas, adolescentes y jóvenes en Serv. Nac. Reinserción Social Juvenil no puede ser mayor al Total.","")) | CC13: =IF(AND(B13>0,W13="")," * No olvide digitar Niños, niñas, adolescentes y Jóvenes en Serv. Nac. Protección Especializada a la Niñez y Adolescencia. Digite cero si no tiene.",IF(W13>B13," * La variable Niños, Niñas, adolescentes y jóvenes enServ. Nac. Protección Especializada a la Niñez y Adolescencia no puede ser mayor al Total.","")) | CD13: =IF(AND(B13>0,X13="")," * No olvide digitar Pueblos Originarios. Digite cero si no tiene.",IF(X13>B13," * La variable Pueblos Originarios no puede ser mayor al Total.","")) | CE13: =IF(AND(B13>0,Y13="")," * No olvide digitar Migrantes. Digite cero si no tiene.",IF(Y13>B13," * La variable Migrantes no puede ser mayor al Total.","")) | CF13: =IF(AND(B13>0,Z13="")," * No olvide digitar Espacios amigables/Adolescentes. Digite cero si no tiene.",IF(Z13>B13," * La variable Espacios amigables/Adolescentes no puede ser mayor al Total.","")) | CK13: =IF((T13+U13)<>B13,1,0) -> 0 | CL13: =IF(AND(B13>0,V13=""),1,IF(V13>B13,1,0)) -> 0 | CM13: =IF(AND(B13>0,W13=""),1,IF(W13>B13,1,0)) -> 0 | CN13: =IF(AND(B13>0,X13=""),1,IF(X13>B13,1,0)) -> 0 | CO13: =IF(AND(B13>0,Y13=""),1,IF(Y13>B13,1,0)) -> 0 | CP13: =IF(AND(B13>0,Z13=""),1,IF(Z13>B13,1,0)) -> 0
A14: Nutricionista | B14: =SUM(C14:S14) -> 0 | C14: =SUM(ENERO:DICIEMBRE!C14) -> 0 | D14: =SUM(ENERO:DICIEMBRE!D14) -> 0 | E14: =SUM(ENERO:DICIEMBRE!E14) -> 0 | F14: =SUM(ENERO:DICIEMBRE!F14) -> 0 | G14: =SUM(ENERO:DICIEMBRE!G14) -> 0 | H14: =SUM(ENERO:DICIEMBRE!H14) -> 0 | I14: =SUM(ENERO:DICIEMBRE!I14) -> 0 | J14: =SUM(ENERO:DICIEMBRE!J14) -> 0 | ... Z14: =SUM(ENERO:DICIEMBRE!Z14) -> 0 | AA14: =CA14&CB14&CC14&CD14&CE14&CF14 | CA14: =IF((T14+U14)<>B14," * El desglose por Sexo No puede ser distinto al Total.","") | CB14: =IF(AND(B14>0,V14="")," * No olvide digitar Niños, niñas, adolescentes y jóvenes en Serv. Nac. Reinserción Social Juvenil. Digite cero si no tiene.",IF(V14>B14," * La variable Niños, Niñas, adolescentes y jóvenes en Serv. Nac. Reinserción Social Juvenil no puede ser mayor al Total.","")) | CC14: =IF(AND(B14>0,W14="")," * No olvide digitar Niños, niñas, adolescentes y Jóvenes en Serv. Nac. Protección Especializada a la Niñez y Adolescencia. Digite cero si no tiene.",IF(W14>B14," * La variable Niños, Niñas, adolescentes y jóvenes enServ. Nac. Protección Especializada a la Niñez y Adolescencia no puede ser mayor al Total.","")) | CD14: =IF(AND(B14>0,X14="")," * No olvide digitar Pueblos Originarios. Digite cero si no tiene.",IF(X14>B14," * La variable Pueblos Originarios no puede ser mayor al Total.","")) | CE14: =IF(AND(B14>0,Y14="")," * No olvide digitar Migrantes. Digite cero si no tiene.",IF(Y14>B14," * La variable Migrantes no puede ser mayor al Total.","")) | CF14: =IF(AND(B14>0,Z14="")," * No olvide digitar Espacios amigables/Adolescentes. Digite cero si no tiene.",IF(Z14>B14," * La variable Espacios amigables/Adolescentes no puede ser mayor al Total.","")) | CK14: =IF((T14+U14)<>B14,1,0) -> 0 | CL14: =IF(AND(B14>0,V14=""),1,IF(V14>B14,1,0)) -> 0 | CM14: =IF(AND(B14>0,W14=""),1,IF(W14>B14,1,0)) -> 0 | CN14: =IF(AND(B14>0,X14=""),1,IF(X14>B14,1,0)) -> 0 | CO14: =IF(AND(B14>0,Y14=""),1,IF(Y14>B14,1,0)) -> 0 | CP14: =IF(AND(B14>0,Z14=""),1,IF(Z14>B14,1,0)) -> 0
A15: Otros Profesionales | B15: =SUM(C15:S15) -> 0 | C15: =SUM(ENERO:DICIEMBRE!C15) -> 0 | D15: =SUM(ENERO:DICIEMBRE!D15) -> 0 | E15: =SUM(ENERO:DICIEMBRE!E15) -> 0 | F15: =SUM(ENERO:DICIEMBRE!F15) -> 0 | G15: =SUM(ENERO:DICIEMBRE!G15) -> 0 | H15: =SUM(ENERO:DICIEMBRE!H15) -> 0 | I15: =SUM(ENERO:DICIEMBRE!I15) -> 0 | J15: =SUM(ENERO:DICIEMBRE!J15) -> 0 | ... Z15: =SUM(ENERO:DICIEMBRE!Z15) -> 0 | AA15: =CA15&CB15&CC15&CD15&CE15&CF15 | CA15: =IF((T15+U15)<>B15," * El desglose por Sexo No puede ser distinto al Total.","") | CB15: =IF(AND(B15>0,V15="")," * No olvide digitar Niños, niñas, adolescentes y jóvenes en Serv. Nac. Reinserción Social Juvenil. Digite cero si no tiene.",IF(V15>B15," * La variable Niños, Niñas, adolescentes y jóvenes en Serv. Nac. Reinserción Social Juvenil no puede ser mayor al Total.","")) | CC15: =IF(AND(B15>0,W15="")," * No olvide digitar Niños, niñas, adolescentes y Jóvenes en Serv. Nac. Protección Especializada a la Niñez y Adolescencia. Digite cero si no tiene.",IF(W15>B15," * La variable Niños, Niñas, adolescentes y jóvenes enServ. Nac. Protección Especializada a la Niñez y Adolescencia no puede ser mayor al Total.","")) | CD15: =IF(AND(B15>0,X15="")," * No olvide digitar Pueblos Originarios. Digite cero si no tiene.",IF(X15>B15," * La variable Pueblos Originarios no puede ser mayor al Total.","")) | CE15: =IF(AND(B15>0,Y15="")," * No olvide digitar Migrantes. Digite cero si no tiene.",IF(Y15>B15," * La variable Migrantes no puede ser mayor al Total.","")) | CF15: =IF(AND(B15>0,Z15="")," * No olvide digitar Espacios amigables/Adolescentes. Digite cero si no tiene.",IF(Z15>B15," * La variable Espacios amigables/Adolescentes no puede ser mayor al Total.","")) | CK15: =IF((T15+U15)<>B15,1,0) -> 0 | CL15: =IF(AND(B15>0,V15=""),1,IF(V15>B15,1,0)) -> 0 | CM15: =IF(AND(B15>0,W15=""),1,IF(W15>B15,1,0)) -> 0 | CN15: =IF(AND(B15>0,X15=""),1,IF(X15>B15,1,0)) -> 0 | CO15: =IF(AND(B15>0,Y15=""),1,IF(Y15>B15,1,0)) -> 0 | CP15: =IF(AND(B15>0,Z15=""),1,IF(Z15>B15,1,0)) -> 0
A16: TOTAL | B16: =SUM(C16:S16) -> 0 | C16: =SUM(C11:C15) -> 0 | D16: =SUM(D11:D15) -> 0 | E16: =SUM(E11:E15) -> 0 | F16: =SUM(F11:F15) -> 0 | G16: =SUM(G11:G15) -> 0 | H16: =SUM(H11:H15) -> 0 | I16: =SUM(I11:I15) -> 0 | J16: =SUM(J11:J15) -> 0 | ... Z16: =SUM(Z11:Z15) -> 0
A17: SECCIÓN B: GESTION REMOTA ABREVIADA MEDIANTE PLATAFORMA TELESALUD
A18: TIPO DE ACTIVIDAD | B18: TOTAL | C18: Médico/a | D18: Odontólogo/a | E18: Otros profesionales
A19: Renovación de recetas/ | B19: =SUM(C19:E19) -> 0 | C19: =SUM(ENERO:DICIEMBRE!C19) -> 0 | D19: =SUM(ENERO:DICIEMBRE!D19) -> 0 | E19: =SUM(ENERO:DICIEMBRE!E19) -> 0
A20: Entrega de resultados de exámenes | B20: =SUM(C20:E20) -> 0 | C20: =SUM(ENERO:DICIEMBRE!C20) -> 0 | D20: =SUM(ENERO:DICIEMBRE!D20) -> 0 | E20: =SUM(ENERO:DICIEMBRE!E20) -> 0
A21: Renovación de licencia médica | B21: =SUM(C21:E21) -> 0 | C21: =SUM(ENERO:DICIEMBRE!C21) -> 0 | D21: =SUM(ENERO:DICIEMBRE!D21) -> 0 | E21: =SUM(ENERO:DICIEMBRE!E21) -> 0
A22: Orden de exámenes | B22: =SUM(C22:E22) -> 0 | C22: =SUM(ENERO:DICIEMBRE!C22) -> 0 | D22: =SUM(ENERO:DICIEMBRE!D22) -> 0 | E22: =SUM(ENERO:DICIEMBRE!E22) -> 0
A23: Certificados médicos | B23: =SUM(C23:E23) -> 0 | C23: =SUM(ENERO:DICIEMBRE!C23) -> 0 | D23: =SUM(ENERO:DICIEMBRE!D23) -> 0 | E23: =SUM(ENERO:DICIEMBRE!E23) -> 0
A24: TOTAL | B24: =SUM(B19:B23) -> 0 | C24: =SUM(C19:C23) -> 0 | D24: =SUM(D19:D23) -> 0 | E24: =SUM(E19:E23) -> 0
A25: SECCIÓN C: CONSULTA MÉDICA EN ATENCIÓN PRIMARIA DE SALUD POR LLAMADA TELEFÓNICA O VIDEOLLAMADAS
A26: ATENCION | B26: TOTAL | C26: RANGO ETARIO | T26: SEXO | V26: Pueblos Originarios | W26: Migrantes | X26: Modalidad por la cual se realiza la atención
C27: 0 - 4 años | D27: 5 - 9 años | E27: 10 - 14 años | F27: 15 - 19 años | G27: 20 - 24 años | H27: 25 - 29 años | I27: 30 - 34 años | J27: 35 - 39 años | K27: 40 - 44 años | L27: 45 - 49 años | M27: 50 - 54 años | N27: 55 - 59 años | O27: 60 - 64 años | P27: 65 - 69 años | Q27: 70 - 74 años | R27: 75 - 79 años | S27: 80 y más años | T27: Hombres | U27: Mujeres | X27: Videollamada | Y27: Llamada Telefónica
A28: Medicina General | B28: =SUM(C28:S28) -> 0 | C28: =SUM(ENERO:DICIEMBRE!C28) -> 0 | D28: =SUM(ENERO:DICIEMBRE!D28) -> 0 | E28: =SUM(ENERO:DICIEMBRE!E28) -> 0 | F28: =SUM(ENERO:DICIEMBRE!F28) -> 0 | G28: =SUM(ENERO:DICIEMBRE!G28) -> 0 | H28: =SUM(ENERO:DICIEMBRE!H28) -> 0 | I28: =SUM(ENERO:DICIEMBRE!I28) -> 0 | J28: =SUM(ENERO:DICIEMBRE!J28) -> 0 | ... Y28: =SUM(ENERO:DICIEMBRE!Y28) -> 0 | Z28: =CA28&CB28&CC28 | CA28: =IF(AND($B28>0,V28=""),"No olvide digitar Pueblos Originarios, digite cero si no tiene. ",IF(V28>$B28," * La variable Pueblos Originarios no puede ser mayor al Total. ","")) | CB28: =IF(AND($B28>0,W28=""),"No olvide digitar Migrantes, digite cero si no tiene. ",IF(W28>$B28," * La variable Migrantes no puede ser mayor al Total. ","")) | CC28: =IF((X28+Y28)<>B28," *El desglose de Videollamada + Llamada Telefónica debe ser igual al Total.","") | CK28: =IF(AND(V28>0,$B28=""),1,IF(V28>$B28,1,0)) -> 0 | CL28: =IF(AND(W28>0,$B28=""),1,IF(W28>$B28,1,0)) -> 0 | CM28: =IF((X28+Y28)<>B28,1,0) -> 0
A29: Atención remota de morbilidad (Plataforma Telesalud) | B29: =SUM(C29:S29) -> 0 | C29: =SUM(ENERO:DICIEMBRE!C29) -> 0 | D29: =SUM(ENERO:DICIEMBRE!D29) -> 0 | E29: =SUM(ENERO:DICIEMBRE!E29) -> 0 | F29: =SUM(ENERO:DICIEMBRE!F29) -> 0 | G29: =SUM(ENERO:DICIEMBRE!G29) -> 0 | H29: =SUM(ENERO:DICIEMBRE!H29) -> 0 | I29: =SUM(ENERO:DICIEMBRE!I29) -> 0 | J29: =SUM(ENERO:DICIEMBRE!J29) -> 0 | ... Y29: =SUM(ENERO:DICIEMBRE!Y29) -> 0 | Z29: =CA29&CB29&CC29 | CA29: =IF(AND($B29>0,V29=""),"No olvide digitar pueblos originarios, digite cero si no tiene. ",IF(V29>$B29," * La variable Pueblos originarios no puede ser mayor al Total. ","")) | CB29: =IF(AND($B29>0,W29=""),"No olvide digitar Migrantes, digite cero si no tiene. ",IF(W29>$B29," * La variable Migrantes no puede ser mayor al Total. ","")) | CC29: =IF((X29+Y29)<>B29," *El desglose de Videollamada + Llamada Telefónica debe ser igual al Total.","") | CK29: =IF(AND(V29>0,$B29=""),1,IF(V29>$B29,1,0)) -> 0 | CL29: =IF(AND(W29>0,$B29=""),1,IF(W29>$B29,1,0)) -> 0 | CM29: =IF((X29+Y29)<>B29,1,0) -> 0
A30: SECCIÓN D: ATENCIONES TELEFÓNICAS EN CONSULTAS Y CONTROLES
A31: SECCIÓN D1: ATENCIONES REMOTAS MÉDICAS EN ESPECIALIDAD
A32: ESPECIALIDADES Y SUB-ESPECIALIDADES | B32: TOTAL | C32: ATENCIONES REMOTAS DE CONSULTAS DE ESPECIALIDAD | V32: NO CONTESTA | X32: ALTA DE CONSULTA DE ESPECIALIDAD AMBULATORIA REMOTA | Z32: TELECONSULTAS NUEVAS DE ESPECIALIDAD SEGÚN ORIGEN | AJ32: ATENCIONES SEGÚN MODALIDAD DE CONTACTO | AM32: Teleconsulta Abreviada (Videollamada)/ Consulta Abreviada Telefónica Atención Remota: entrega de los resultados de exámenes o procedimiento (Confección de recetas o lectura de exámenes) | AN32: Teleconsultorías | AO32: Pueblos Originarios | AP32: Migrantes | AQ32: Teleconsulta de especialidad resueltas por Médicos Generales | AR32: Niños, niñas, adolescentes y jóvenes SENAME | AS32: Niños, niñas, adolescentes y jóvenes Mejor Niñez
C33: RANGO ETARIO | T33: SEXO | Z33: Menos 15 años | AE33: De 15 y más años
C34: 0 - 4 años | D34: 5 - 9 años | E34: 10 - 14 años | F34: 15 - 19 años | G34: 20 - 24 años | H34: 25 - 29 años | I34: 30 - 34 años | J34: 35 - 39 años | K34: 40 - 44 años | L34: 45 - 49 años | M34: 50 - 54 años | N34: 55 - 59 años | O34: 60 - 64 años | P34: 65 - 69 años | Q34: 70 - 74 años | R34: 75 - 79 años | S34: 80 y más años | T34: Hombres | U34: Mujeres | V34: Nuevas | W34: Controles | X34: Menos 15 años | Y34: 15 y más años | Z34: TOTAL | AA34: APS | AB34: CAE/CDT/CRS | AC34: Urgencia | AD34: Hospitaliza-ción | AE34: Total | AF34: APS | AG34: CAE/CDT/CRS | AH34: Urgencia | AI34: Hospitaliza-ción | AJ34: Teleconsulta Nueva | AK34: Teleconsulta Control | AL34: Contacto telefónico control
A35: Pediatría | B35: =SUM(C35:S35) -> 7 | C35: =SUM(ENERO:DICIEMBRE!C35) -> 7 | D35: =SUM(ENERO:DICIEMBRE!D35) -> 0 | E35: =SUM(ENERO:DICIEMBRE!E35) -> 0 | F35: =SUM(ENERO:DICIEMBRE!F35) -> 0 | G35: =SUM(ENERO:DICIEMBRE!G35) -> 0 | H35: =SUM(ENERO:DICIEMBRE!H35) -> 0 | I35: =SUM(ENERO:DICIEMBRE!I35) -> 0 | J35: =SUM(ENERO:DICIEMBRE!J35) -> 0 | ... Y35: =SUM(ENERO:DICIEMBRE!Y35) -> 0 | Z35: =SUM(AA35+AB35+AC35+AD35) -> 0 | AA35: =SUM(ENERO:DICIEMBRE!AA35) -> 0 | AB35: =SUM(ENERO:DICIEMBRE!AB35) -> 0 | AC35: =SUM(ENERO:DICIEMBRE!AC35) -> 0 | AD35: =SUM(ENERO:DICIEMBRE!AD35) -> 0 | AE35: =SUM(AF35+AG35+AH35+AI35) -> 0 | AF35: =SUM(ENERO:DICIEMBRE!AF35) -> 0 | AG35: =SUM(ENERO:DICIEMBRE!AG35) -> 0 | AH35: =SUM(ENERO:DICIEMBRE!AH35) -> 0 | AI35: =SUM(ENERO:DICIEMBRE!AI35) -> 0 | AJ35: =SUM(ENERO:DICIEMBRE!AJ35) -> 0 | AK35: =SUM(ENERO:DICIEMBRE!AK35) -> 0 | AL35: =SUM(ENERO:DICIEMBRE!AL35) -> 5 | AM35: =SUM(ENERO:DICIEMBRE!AM35) -> 0 | ... AS35: =SUM(ENERO:DICIEMBRE!AS35) -> 0 | AT35: =CA35&CB35&CC35&CD35&CE35&CF35&CG35 | CA35: =IF((T35+U35)<>B35,"* El número de atenciones remotas según Sexo debe ser igual al Total.","") | CB35: =IF((AE35+Z35)>B35," * El Total de Teleconsultas Nuevas no debe ser mayor que el Total","") | CC35: =IF(AND(B35>0,AO35="")," * No olvide digitar la variable Pueblos Originarios. Digite cero si no tiene.",IF(AO35>B35," * La variable Pueblos Originarios no puede ser mayor al Total.","")) | CD35: =IF(AND(B35>0,AP35="")," * No olvide digitar la variable Migrantes. Digite cero si no tiene.",IF(AP35>B35," * La variable Migrantes no puede ser mayor al Total.","")) | CE35: =IF(AND($B35>0,AQ35="")," * No olvide digitar la variable Teleconsulta de especialidad resueltas por Médicos Generales. Digite cero si no tiene.",IF(AQ35>$B35," * La variable Teleconsulta de especialidad resueltas por Médicos Generales no puede ser mayor al Total.","")) | CF35: =IF(AND($B35>0,AR35="")," * No olvide digitar la variable Serv. Nac. Reinserción Social Juvenil. Digite cero si no tiene.",IF(AR35>$B35," * La variable Serv. Nac. Reinserción Social Juvenil no puede ser mayor al Total.","")) | CG35: =IF(AND($B35>0,AS35="")," * No olvide digitar la variable Serv. Nac. Protección Especializada a la Niñez y Adolescencia. Digite cero si no tiene.",IF(AS35>$B35," * La variable Serv. Nac. Protección Especializada a la Niñez y Adolescencia no puede ser mayor al Total.","")) | CK35: =IF((T35+U35)<>B35,1,0) -> 0 | CL35: =IF((AE35+Z35)>B35,1,0) -> 0 | CM35: =IF(AND(B35>0,AO35=""),1,IF(AO35>B35,1,0)) -> 0 | CN35: =IF(AND($B35>0,AP35=""),1,IF(AP35>$B35,1,0)) -> 0 | CO35: =IF(AND($B35>0,AQ35=""),1,IF(AQ35>$B35,1,0)) -> 0 | CP35: =IF(AND($B35>0,AR35=""),1,IF(AR35>$B35,1,0)) -> 0 | CQ35: =IF(AND($B35>0,AS35=""),1,IF(AS35>$B35,1,0)) -> 0
A36: Medicina interna | B36: =SUM(C36:S36) -> 63 | C36: =SUM(ENERO:DICIEMBRE!C36) -> 0 | D36: =SUM(ENERO:DICIEMBRE!D36) -> 0 | E36: =SUM(ENERO:DICIEMBRE!E36) -> 0 | F36: =SUM(ENERO:DICIEMBRE!F36) -> 0 | G36: =SUM(ENERO:DICIEMBRE!G36) -> 0 | H36: =SUM(ENERO:DICIEMBRE!H36) -> 0 | I36: =SUM(ENERO:DICIEMBRE!I36) -> 0 | J36: =SUM(ENERO:DICIEMBRE!J36) -> 0 | ... Y36: =SUM(ENERO:DICIEMBRE!Y36) -> 0 | Z36: =SUM(AA36+AB36+AC36+AD36) -> 0 | AA36: =SUM(ENERO:DICIEMBRE!AA36) -> 0 | AB36: =SUM(ENERO:DICIEMBRE!AB36) -> 0 | AC36: =SUM(ENERO:DICIEMBRE!AC36) -> 0 | AD36: =SUM(ENERO:DICIEMBRE!AD36) -> 0 | AE36: =SUM(AF36+AG36+AH36+AI36) -> 0 | AF36: =SUM(ENERO:DICIEMBRE!AF36) -> 0 | AG36: =SUM(ENERO:DICIEMBRE!AG36) -> 0 | AH36: =SUM(ENERO:DICIEMBRE!AH36) -> 0 | AI36: =SUM(ENERO:DICIEMBRE!AI36) -> 0 | AJ36: =SUM(ENERO:DICIEMBRE!AJ36) -> 0 | AK36: =SUM(ENERO:DICIEMBRE!AK36) -> 4 | AL36: =SUM(ENERO:DICIEMBRE!AL36) -> 52 | AM36: =SUM(ENERO:DICIEMBRE!AM36) -> 7 | ... AS36: =SUM(ENERO:DICIEMBRE!AS36) -> 0 | AT36: =CA36&CB36&CC36&CD36&CE36&CF36&CG36 | CA36: =IF((T36+U36)<>B36,"* El número de atenciones remotas según Sexo debe ser igual al Total.","") | CB36: =IF((AE36+Z36)>B36," * El Total de Teleconsultas Nuevas no debe ser mayor que el Total","") | CC36: =IF(AND(B36>0,AO36="")," * No olvide digitar la variable Pueblos Originarios. Digite cero si no tiene.",IF(AO36>B36," * La variable Pueblos Originarios no puede ser mayor al Total.","")) | CD36: =IF(AND(B36>0,AP36="")," * No olvide digitar la variable Migrantes. Digite cero si no tiene.",IF(AP36>B36," * La variable Migrantes no puede ser mayor al Total.","")) | CE36: =IF(AND($B36>0,AQ36="")," * No olvide digitar la variable Teleconsulta de especialidad resueltas por Médicos Generales. Digite cero si no tiene.",IF(AQ36>$B36," * La variable Teleconsulta de especialidad resueltas por Médicos Generales no puede ser mayor al Total.","")) | CF36: =IF(AND($B36>0,AR36="")," * No olvide digitar la variable Serv. Nac. Reinserción Social Juvenil. Digite cero si no tiene.",IF(AR36>$B36," * La variable Serv. Nac. Reinserción Social Juvenil no puede ser mayor al Total.","")) | CG36: =IF(AND($B36>0,AS36="")," * No olvide digitar la variable Serv. Nac. Protección Especializada a la Niñez y Adolescencia. Digite cero si no tiene.",IF(AS36>$B36," * La variable Serv. Nac. Protección Especializada a la Niñez y Adolescencia no puede ser mayor al Total.","")) | CK36: =IF((T36+U36)<>B36,1,0) -> 0 | CL36: =IF((AE36+Z36)>B36,1,0) -> 0 | CM36: =IF(AND(B36>0,AO36=""),1,IF(AO36>B36,1,0)) -> 0 | CN36: =IF(AND(B36>0,AP36=""),1,IF(AP36>B36,1,0)) -> 0 | CO36: =IF(AND($B36>0,AQ36=""),1,IF(AQ36>$B36,1,0)) -> 0 | CP36: =IF(AND($B36>0,AR36=""),1,IF(AR36>$B36,1,0)) -> 0 | CQ36: =IF(AND($B36>0,AS36=""),1,IF(AS36>$B36,1,0)) -> 0
A37: Neonatología | B37: =SUM(C37:D37) -> 0 | C37: =SUM(ENERO:DICIEMBRE!C37) -> 0 | D37: =SUM(ENERO:DICIEMBRE!D37) -> 0 | E37: =SUM(ENERO:DICIEMBRE!E37) -> 0 | F37: =SUM(ENERO:DICIEMBRE!F37) -> 0 | G37: =SUM(ENERO:DICIEMBRE!G37) -> 0 | H37: =SUM(ENERO:DICIEMBRE!H37) -> 0 | I37: =SUM(ENERO:DICIEMBRE!I37) -> 0 | J37: =SUM(ENERO:DICIEMBRE!J37) -> 0 | ... Y37: =SUM(ENERO:DICIEMBRE!Y37) -> 0 | Z37: =SUM(AA37+AB37+AC37+AD37) -> 0 | AA37: =SUM(ENERO:DICIEMBRE!AA37) -> 0 | AB37: =SUM(ENERO:DICIEMBRE!AB37) -> 0 | AC37: =SUM(ENERO:DICIEMBRE!AC37) -> 0 | AD37: =SUM(ENERO:DICIEMBRE!AD37) -> 0 | AE37: =SUM(AF37+AG37+AH37+AI37) -> 0 | AF37: =SUM(ENERO:DICIEMBRE!AF37) -> 0 | AG37: =SUM(ENERO:DICIEMBRE!AG37) -> 0 | AH37: =SUM(ENERO:DICIEMBRE!AH37) -> 0 | AI37: =SUM(ENERO:DICIEMBRE!AI37) -> 0 | AJ37: =SUM(ENERO:DICIEMBRE!AJ37) -> 0 | AK37: =SUM(ENERO:DICIEMBRE!AK37) -> 0 | AL37: =SUM(ENERO:DICIEMBRE!AL37) -> 0 | AM37: =SUM(ENERO:DICIEMBRE!AM37) -> 0 | ... AS37: =SUM(ENERO:DICIEMBRE!AS37) -> 0 | AT37: =CA37&CB37&CC37&CD37&CE37&CF37&CG37 | CA37: =IF((T37+U37)<>B37,"* El número de atenciones remotas según Sexo debe ser igual al Total.","") | CB37: =IF((AE37+Z37)>B37," * El Total de Teleconsultas Nuevas no debe ser mayor que el Total","") | CC37: =IF(AND(B37>0,AO37="")," * No olvide digitar la variable Pueblos Originarios. Digite cero si no tiene.",IF(AO37>B37," * La variable Pueblos Originarios no puede ser mayor al Total.","")) | CD37: =IF(AND(B37>0,AP37="")," * No olvide digitar la variable Migrantes. Digite cero si no tiene.",IF(AP37>B37," * La variable Migrantes no puede ser mayor al Total.","")) | CE37: =IF(AND($B37>0,AQ37="")," * No olvide digitar la variable Teleconsulta de especialidad resueltas por Médicos Generales. Digite cero si no tiene.",IF(AQ37>$B37," * La variable Teleconsulta de especialidad resueltas por Médicos Generales no puede ser mayor al Total.","")) | CF37: =IF(AND($B37>0,AR37="")," * No olvide digitar la variable Serv. Nac. Reinserción Social Juvenil. Digite cero si no tiene.",IF(AR37>$B37," * La variable Serv. Nac. Reinserción Social Juvenil no puede ser mayor al Total.","")) | CG37: =IF(AND($B37>0,AS37="")," * No olvide digitar la variable Serv. Nac. Protección Especializada a la Niñez y Adolescencia. Digite cero si no tiene.",IF(AS37>$B37," * La variable Serv. Nac. Protección Especializada a la Niñez y Adolescencia no puede ser mayor al Total.","")) | CK37: =IF((T37+U37)<>B37,1,0) -> 0 | CL37: =IF((AE37+Z37)>B37,1,0) -> 0 | CM37: =IF(AND(B37>0,AO37=""),1,IF(AO37>B37,1,0)) -> 0 | CN37: =IF(AND(B37>0,AP37=""),1,IF(AP37>B37,1,0)) -> 0 | CO37: =IF(AND($B37>0,AQ37=""),1,IF(AQ37>$B37,1,0)) -> 0 | CP37: =IF(AND($B37>0,AR37=""),1,IF(AR37>$B37,1,0)) -> 0 | CQ37: =IF(AND($B37>0,AS37=""),1,IF(AS37>$B37,1,0)) -> 0
A38: Enfermedad respiratoria pediátrica (broncopulmonar infantil) | B38: =SUM(C38:S38) -> 0 | C38: =SUM(ENERO:DICIEMBRE!C38) -> 0 | D38: =SUM(ENERO:DICIEMBRE!D38) -> 0 | E38: =SUM(ENERO:DICIEMBRE!E38) -> 0 | F38: =SUM(ENERO:DICIEMBRE!F38) -> 0 | G38: =SUM(ENERO:DICIEMBRE!G38) -> 0 | H38: =SUM(ENERO:DICIEMBRE!H38) -> 0 | I38: =SUM(ENERO:DICIEMBRE!I38) -> 0 | J38: =SUM(ENERO:DICIEMBRE!J38) -> 0 | ... Y38: =SUM(ENERO:DICIEMBRE!Y38) -> 0 | Z38: =SUM(AA38+AB38+AC38+AD38) -> 0 | AA38: =SUM(ENERO:DICIEMBRE!AA38) -> 0 | AB38: =SUM(ENERO:DICIEMBRE!AB38) -> 0 | AC38: =SUM(ENERO:DICIEMBRE!AC38) -> 0 | AD38: =SUM(ENERO:DICIEMBRE!AD38) -> 0 | AE38: =SUM(AF38+AG38+AH38+AI38) -> 0 | AF38: =SUM(ENERO:DICIEMBRE!AF38) -> 0 | AG38: =SUM(ENERO:DICIEMBRE!AG38) -> 0 | AH38: =SUM(ENERO:DICIEMBRE!AH38) -> 0 | AI38: =SUM(ENERO:DICIEMBRE!AI38) -> 0 | AJ38: =SUM(ENERO:DICIEMBRE!AJ38) -> 0 | AK38: =SUM(ENERO:DICIEMBRE!AK38) -> 0 | AL38: =SUM(ENERO:DICIEMBRE!AL38) -> 0 | AM38: =SUM(ENERO:DICIEMBRE!AM38) -> 0 | ... AS38: =SUM(ENERO:DICIEMBRE!AS38) -> 0 | AT38: =CA38&CB38&CC38&CD38&CE38&CF38&CG38 | CA38: =IF((T38+U38)<>B38,"* El número de atenciones remotas según Sexo debe ser igual al Total.","") | CB38: =IF((AE38+Z38)>B38," * El Total de Teleconsultas Nuevas no debe ser mayor que el Total","") | CC38: =IF(AND(B38>0,AO38="")," * No olvide digitar la variable Pueblos Originarios. Digite cero si no tiene.",IF(AO38>B38," * La variable Pueblos Originarios no puede ser mayor al Total.","")) | CD38: =IF(AND(B38>0,AP38="")," * No olvide digitar la variable Migrantes. Digite cero si no tiene.",IF(AP38>B38," * La variable Migrantes no puede ser mayor al Total.","")) | CE38: =IF(AND($B38>0,AQ38="")," * No olvide digitar la variable Teleconsulta de especialidad resueltas por Médicos Generales. Digite cero si no tiene.",IF(AQ38>$B38," * La variable Teleconsulta de especialidad resueltas por Médicos Generales no puede ser mayor al Total.","")) | CF38: =IF(AND($B38>0,AR38="")," * No olvide digitar la variable Serv. Nac. Reinserción Social Juvenil. Digite cero si no tiene.",IF(AR38>$B38," * La variable Serv. Nac. Reinserción Social Juvenil no puede ser mayor al Total.","")) | CG38: =IF(AND($B38>0,AS38="")," * No olvide digitar la variable Serv. Nac. Protección Especializada a la Niñez y Adolescencia. Digite cero si no tiene.",IF(AS38>$B38," * La variable Serv. Nac. Protección Especializada a la Niñez y Adolescencia no puede ser mayor al Total.","")) | CK38: =IF((T38+U38)<>B38,1,0) -> 0 | CL38: =IF((AE38+Z38)>B38,1,0) -> 0 | CM38: =IF(AND(B38>0,AO38=""),1,IF(AO38>B38,1,0)) -> 0 | CN38: =IF(AND(B38>0,AP38=""),1,IF(AP38>B38,1,0)) -> 0 | CO38: =IF(AND($B38>0,AQ38=""),1,IF(AQ38>$B38,1,0)) -> 0 | CP38: =IF(AND($B38>0,AR38=""),1,IF(AR38>$B38,1,0)) -> 0 | CQ38: =IF(AND($B38>0,AS38=""),1,IF(AS38>$B38,1,0)) -> 0
A39: Enfermedad respiratoria de adulto (broncopulmonar) | B39: =SUM(C39:S39) -> 0 | C39: =SUM(ENERO:DICIEMBRE!C39) -> 0 | D39: =SUM(ENERO:DICIEMBRE!D39) -> 0 | E39: =SUM(ENERO:DICIEMBRE!E39) -> 0 | F39: =SUM(ENERO:DICIEMBRE!F39) -> 0 | G39: =SUM(ENERO:DICIEMBRE!G39) -> 0 | H39: =SUM(ENERO:DICIEMBRE!H39) -> 0 | I39: =SUM(ENERO:DICIEMBRE!I39) -> 0 | J39: =SUM(ENERO:DICIEMBRE!J39) -> 0 | ... Y39: =SUM(ENERO:DICIEMBRE!Y39) -> 0 | Z39: =SUM(AA39+AB39+AC39+AD39) -> 0 | AA39: =SUM(ENERO:DICIEMBRE!AA39) -> 0 | AB39: =SUM(ENERO:DICIEMBRE!AB39) -> 0 | AC39: =SUM(ENERO:DICIEMBRE!AC39) -> 0 | AD39: =SUM(ENERO:DICIEMBRE!AD39) -> 0 | AE39: =SUM(AF39+AG39+AH39+AI39) -> 0 | AF39: =SUM(ENERO:DICIEMBRE!AF39) -> 0 | AG39: =SUM(ENERO:DICIEMBRE!AG39) -> 0 | AH39: =SUM(ENERO:DICIEMBRE!AH39) -> 0 | AI39: =SUM(ENERO:DICIEMBRE!AI39) -> 0 | AJ39: =SUM(ENERO:DICIEMBRE!AJ39) -> 0 | AK39: =SUM(ENERO:DICIEMBRE!AK39) -> 0 | AL39: =SUM(ENERO:DICIEMBRE!AL39) -> 0 | AM39: =SUM(ENERO:DICIEMBRE!AM39) -> 0 | ... AS39: =SUM(ENERO:DICIEMBRE!AS39) -> 0 | AT39: =CA39&CB39&CC39&CD39&CE39&CF39&CG39 | CA39: =IF((T39+U39)<>B39,"* El número de atenciones remotas según Sexo debe ser igual al Total.","") | CB39: =IF((AE39+Z39)>B39," * El Total de Teleconsultas Nuevas no debe ser mayor que el Total","") | CC39: =IF(AND(B39>0,AO39="")," * No olvide digitar la variable Pueblos Originarios. Digite cero si no tiene.",IF(AO39>B39," * La variable Pueblos Originarios no puede ser mayor al Total.","")) | CD39: =IF(AND(B39>0,AP39="")," * No olvide digitar la variable Migrantes. Digite cero si no tiene.",IF(AP39>B39," * La variable Migrantes no puede ser mayor al Total.","")) | CE39: =IF(AND($B39>0,AQ39="")," * No olvide digitar la variable Teleconsulta de especialidad resueltas por Médicos Generales. Digite cero si no tiene.",IF(AQ39>$B39," * La variable Teleconsulta de especialidad resueltas por Médicos Generales no puede ser mayor al Total.","")) | CF39: =IF(AND($B39>0,AR39="")," * No olvide digitar la variable Serv. Nac. Reinserción Social Juvenil. Digite cero si no tiene.",IF(AR39>$B39," * La variable Serv. Nac. Reinserción Social Juvenil no puede ser mayor al Total.","")) | CG39: =IF(AND($B39>0,AS39="")," * No olvide digitar la variable Serv. Nac. Protección Especializada a la Niñez y Adolescencia. Digite cero si no tiene.",IF(AS39>$B39," * La variable Serv. Nac. Protección Especializada a la Niñez y Adolescencia no puede ser mayor al Total.","")) | CK39: =IF((T39+U39)<>B39,1,0) -> 0 | CL39: =IF((AE39+Z39)>B39,1,0) -> 0 | CM39: =IF(AND(B39>0,AO39=""),1,IF(AO39>B39,1,0)) -> 0 | CN39: =IF(AND(B39>0,AP39=""),1,IF(AP39>B39,1,0)) -> 0 | CO39: =IF(AND($B39>0,AQ39=""),1,IF(AQ39>$B39,1,0)) -> 0 | CP39: =IF(AND($B39>0,AR39=""),1,IF(AR39>$B39,1,0)) -> 0 | CQ39: =IF(AND($B39>0,AS39=""),1,IF(AS39>$B39,1,0)) -> 0
A40: Cardiología | B40: =SUM(C40:S40) -> 0 | C40: =SUM(ENERO:DICIEMBRE!C40) -> 0 | D40: =SUM(ENERO:DICIEMBRE!D40) -> 0 | E40: =SUM(ENERO:DICIEMBRE!E40) -> 0 | F40: =SUM(ENERO:DICIEMBRE!F40) -> 0 | G40: =SUM(ENERO:DICIEMBRE!G40) -> 0 | H40: =SUM(ENERO:DICIEMBRE!H40) -> 0 | I40: =SUM(ENERO:DICIEMBRE!I40) -> 0 | J40: =SUM(ENERO:DICIEMBRE!J40) -> 0 | ... Y40: =SUM(ENERO:DICIEMBRE!Y40) -> 0 | Z40: =SUM(AA40+AB40+AC40+AD40) -> 0 | AA40: =SUM(ENERO:DICIEMBRE!AA40) -> 0 | AB40: =SUM(ENERO:DICIEMBRE!AB40) -> 0 | AC40: =SUM(ENERO:DICIEMBRE!AC40) -> 0 | AD40: =SUM(ENERO:DICIEMBRE!AD40) -> 0 | AE40: =SUM(AF40+AG40+AH40+AI40) -> 0 | AF40: =SUM(ENERO:DICIEMBRE!AF40) -> 0 | AG40: =SUM(ENERO:DICIEMBRE!AG40) -> 0 | AH40: =SUM(ENERO:DICIEMBRE!AH40) -> 0 | AI40: =SUM(ENERO:DICIEMBRE!AI40) -> 0 | AJ40: =SUM(ENERO:DICIEMBRE!AJ40) -> 0 | AK40: =SUM(ENERO:DICIEMBRE!AK40) -> 0 | AL40: =SUM(ENERO:DICIEMBRE!AL40) -> 0 | AM40: =SUM(ENERO:DICIEMBRE!AM40) -> 0 | ... AS40: =SUM(ENERO:DICIEMBRE!AS40) -> 0 | AT40: =CA40&CB40&CC40&CD40&CE40&CF40&CG40 | CA40: =IF((T40+U40)<>B40,"* El número de atenciones remotas según Sexo debe ser igual al Total.","") | CB40: =IF((AE40+Z40)>B40," * El Total de Teleconsultas Nuevas no debe ser mayor que el Total","") | CC40: =IF(AND(B40>0,AO40="")," * No olvide digitar la variable Pueblos Originarios. Digite cero si no tiene.",IF(AO40>B40," * La variable Pueblos Originarios no puede ser mayor al Total.","")) | CD40: =IF(AND(B40>0,AP40="")," * No olvide digitar la variable Migrantes. Digite cero si no tiene.",IF(AP40>B40," * La variable Migrantes no puede ser mayor al Total.","")) | CE40: =IF(AND($B40>0,AQ40="")," * No olvide digitar la variable Teleconsulta de especialidad resueltas por Médicos Generales. Digite cero si no tiene.",IF(AQ40>$B40," * La variable Teleconsulta de especialidad resueltas por Médicos Generales no puede ser mayor al Total.","")) | CF40: =IF(AND($B40>0,AR40="")," * No olvide digitar la variable Serv. Nac. Reinserción Social Juvenil. Digite cero si no tiene.",IF(AR40>$B40," * La variable Serv. Nac. Reinserción Social Juvenil no puede ser mayor al Total.","")) | CG40: =IF(AND($B40>0,AS40="")," * No olvide digitar la variable Serv. Nac. Protección Especializada a la Niñez y Adolescencia. Digite cero si no tiene.",IF(AS40>$B40," * La variable Serv. Nac. Protección Especializada a la Niñez y Adolescencia no puede ser mayor al Total.","")) | CK40: =IF((T40+U40)<>B40,1,0) -> 0 | CL40: =IF((AE40+Z40)>B40,1,0) -> 0 | CM40: =IF(AND(B40>0,AO40=""),1,IF(AO40>B40,1,0)) -> 0 | CN40: =IF(AND(B40>0,AP40=""),1,IF(AP40>B40,1,0)) -> 0 | CO40: =IF(AND($B40>0,AQ40=""),1,IF(AQ40>$B40,1,0)) -> 0 | CP40: =IF(AND($B40>0,AR40=""),1,IF(AR40>$B40,1,0)) -> 0 | CQ40: =IF(AND($B40>0,AS40=""),1,IF(AS40>$B40,1,0)) -> 0
A41: Mastología | B41: =SUM(C41:S41) -> 0 | C41: =SUM(ENERO:DICIEMBRE!C41) -> 0 | D41: =SUM(ENERO:DICIEMBRE!D41) -> 0 | E41: =SUM(ENERO:DICIEMBRE!E41) -> 0 | F41: =SUM(ENERO:DICIEMBRE!F41) -> 0 | G41: =SUM(ENERO:DICIEMBRE!G41) -> 0 | H41: =SUM(ENERO:DICIEMBRE!H41) -> 0 | I41: =SUM(ENERO:DICIEMBRE!I41) -> 0 | J41: =SUM(ENERO:DICIEMBRE!J41) -> 0 | ... Y41: =SUM(ENERO:DICIEMBRE!Y41) -> 0 | Z41: =SUM(AA41+AB41+AC41+AD41) -> 0 | AA41: =SUM(ENERO:DICIEMBRE!AA41) -> 0 | AB41: =SUM(ENERO:DICIEMBRE!AB41) -> 0 | AC41: =SUM(ENERO:DICIEMBRE!AC41) -> 0 | AD41: =SUM(ENERO:DICIEMBRE!AD41) -> 0 | AE41: =SUM(AF41+AG41+AH41+AI41) -> 0 | AF41: =SUM(ENERO:DICIEMBRE!AF41) -> 0 | AG41: =SUM(ENERO:DICIEMBRE!AG41) -> 0 | AH41: =SUM(ENERO:DICIEMBRE!AH41) -> 0 | AI41: =SUM(ENERO:DICIEMBRE!AI41) -> 0 | AJ41: =SUM(ENERO:DICIEMBRE!AJ41) -> 0 | AK41: =SUM(ENERO:DICIEMBRE!AK41) -> 0 | AL41: =SUM(ENERO:DICIEMBRE!AL41) -> 0 | AM41: =SUM(ENERO:DICIEMBRE!AM41) -> 0 | ... AS41: =SUM(ENERO:DICIEMBRE!AS41) -> 0 | AT41: =CA41&CB41&CC41&CD41&CE41&CF41&CG41 | CA41: =IF((T41+U41)<>B41,"* El número de atenciones remotas según Sexo debe ser igual al Total.","") | CB41: =IF((AE41+Z41)>B41," * El Total de Teleconsultas Nuevas no debe ser mayor que el Total","") | CC41: =IF(AND(B41>0,AO41="")," * No olvide digitar la variable Pueblos Originarios. Digite cero si no tiene.",IF(AO41>B41," * La variable Pueblos Originarios no puede ser mayor al Total.","")) | CD41: =IF(AND(B41>0,AP41="")," * No olvide digitar la variable Migrantes. Digite cero si no tiene.",IF(AP41>B41," * La variable Migrantes no puede ser mayor al Total.","")) | CE41: =IF(AND($B41>0,AQ41="")," * No olvide digitar la variable Teleconsulta de especialidad resueltas por Médicos Generales. Digite cero si no tiene.",IF(AQ41>$B41," * La variable Teleconsulta de especialidad resueltas por Médicos Generales no puede ser mayor al Total.","")) | CF41: =IF(AND($B41>0,AR41="")," * No olvide digitar la variable Serv. Nac. Reinserción Social Juvenil. Digite cero si no tiene.",IF(AR41>$B41," * La variable Serv. Nac. Reinserción Social Juvenil no puede ser mayor al Total.","")) | CG41: =IF(AND($B41>0,AS41="")," * No olvide digitar la variable Serv. Nac. Protección Especializada a la Niñez y Adolescencia. Digite cero si no tiene.",IF(AS41>$B41," * La variable Serv. Nac. Protección Especializada a la Niñez y Adolescencia no puede ser mayor al Total.","")) | CK41: =IF((T41+U41)<>B41,1,0) -> 0 | CL41: =IF((AE41+Z41)>B41,1,0) -> 0 | CM41: =IF(AND(B41>0,AO41=""),1,IF(AO41>B41,1,0)) -> 0 | CN41: =IF(AND(B41>0,AP41=""),1,IF(AP41>B41,1,0)) -> 0 | CO41: =IF(AND($B41>0,AQ41=""),1,IF(AQ41>$B41,1,0)) -> 0 | CP41: =IF(AND($B41>0,AR41=""),1,IF(AR41>$B41,1,0)) -> 0 | CQ41: =IF(AND($B41>0,AS41=""),1,IF(AS41>$B41,1,0)) -> 0
...

Sheet ENERO
A1: SERVICIO DE SALUD
A2: =CONCATENATE("COMUNA: ",[2]NOMBRE!B2, " (",[2]NOMBRE!C2,[2]NOMBRE!D2,[2]NOMBRE!E2,[2]NOMBRE!F2,[2]NOMBRE!G2,")") -> COMUNA: LINARES (07401)
A3: =CONCATENATE("ESTABLECIMIENTO/ESTRATEGIA: ", [2]NOMBRE!B3, " (",[2]NOMBRE!C3,[2]NOMBRE!D3,[2]NOMBRE!E3,[2]NOMBRE!F3,[2]NOMBRE!G3,[2]NOMBRE!H3,")") -> ESTABLECIMIENTO/ESTRATEGIA: HOSPITAL PRESIDENTE CARLOS IBAÑEZ DEL CAMPO (116108)
A4: =CONCATENATE("MES: ",[2]NOMBRE!B6, " (",[2]NOMBRE!C6,[2]NOMBRE!D6,")") -> MES: ENERO (01)
A5: =CONCATENATE("AÑO: ",[2]NOMBRE!B7) -> AÑO: 2025
A6: REM-32. ACTIVIDADES DE ATENCIÓN DE SALUD REMOTA
A8: SECCIÓN A: SEGUIMIENTO EN ATENCIÓN PRIMARIA DE SALUD POR LLAMADA TELEFÓNICA O VIDEOLLAMADAS
A9: PROFESIONAL | B9: TOTAL | C9: RANGO ETARIO | T9: SEXO | V9: Niños, niñas, adolescentes y jóvenes SENAME | W9: Niños, niñas, adolescentes y jóvenes Mejor Niñez | X9: Pueblos Originarios | Y9: Migrantes | Z9: Espacios amigables/ Adolescentes
C10: 0 - 4 años | D10: 5 - 9 años | E10: 10 - 14 años | F10: 15 - 19 años | G10: 20 - 24 años | H10: 25 - 29 años | I10: 30 - 34 años | J10: 35 - 39 años | K10: 40 - 44 años | L10: 45 - 49 años | M10: 50 - 54 años | N10: 55 - 59 años | O10: 60 - 64 años | P10: 65 - 69 años | Q10: 70 - 74 años | R10: 75 - 79 años | S10: 80 y más años | T10: Hombres | U10: Mujeres
A11: Médico/a | B11: =SUM(C11:S11) -> 0 | AA11: =CA11&CB11&CC11&CD11&CE11&CF11 | CA11: =IF((T11+U11)<>B11," * El desglose por Sexo No puede ser distinto al Total.","") | CB11: =IF(AND(B11>0,V11="")," * No olvide digitar Niños, niñas, adolescentes y jóvenes en Serv. Nac. Reinserción Social Juvenil. Digite cero si no tiene.",IF(V11>B11," * La variable Niños, Niñas, adolescentes y jóvenes en Serv. Nac. Reinserción Social Juvenil no puede ser mayor al Total.","")) | CC11: =IF(AND(B11>0,W11="")," * No olvide digitar Niños, niñas, adolescentes y Jóvenes en Serv. Nac. Protección Especializada a la Niñez y Adolescencia. Digite cero si no tiene.",IF(W11>B11," * La variable Niños, Niñas, adolescentes y jóvenes enServ. Nac. Protección Especializada a la Niñez y Adolescencia no puede ser mayor al Total.","")) | CD11: =IF(AND(B11>0,X11="")," * No olvide digitar Pueblos Originarios. Digite cero si no tiene.",IF(X11>B11," * La variable Pueblos Originarios no puede ser mayor al Total.","")) | CE11: =IF(AND(B11>0,Y11="")," * No olvide digitar Migrantes. Digite cero si no tiene.",IF(Y11>B11," * La variable Migrantes no puede ser mayor al Total.","")) | CF11: =IF(AND(B11>0,Z11="")," * No olvide digitar Espacios amigables/Adolescentes. Digite cero si no tiene.",IF(Z11>B11," * La variable Espacios amigables/Adolescentes no puede ser mayor al Total.","")) | CK11: =IF((T11+U11)<>B11,1,0) -> 0 | CL11: =IF(AND(B11>0,V11=""),1,IF(V11>B11,1,0)) -> 0 | CM11: =IF(AND(B11>0,W11=""),1,IF(W11>B11,1,0)) -> 0 | CN11: =IF(AND(B11>0,X11=""),1,IF(X11>B11,1,0)) -> 0 | CO11: =IF(AND(B11>0,Y11=""),1,IF(Y11>B11,1,0)) -> 0 | CP11: =IF(AND(B11>0,Z11=""),1,IF(Z11>B11,1,0)) -> 0
A12: Enfermera/o | B12: =SUM(C12:S12) -> 0 | AA12: =CA12&CB12&CC12&CD12&CE12&CF12 | CA12: =IF((T12+U12)<>B12," * El desglose por Sexo No puede ser distinto al Total.","") | CB12: =IF(AND(B12>0,V12="")," * No olvide digitar Niños, niñas, adolescentes y jóvenes en Serv. Nac. Reinserción Social Juvenil. Digite cero si no tiene.",IF(V12>B12," * La variable Niños, Niñas, adolescentes y jóvenes en Serv. Nac. Reinserción Social Juvenil no puede ser mayor al Total.","")) | CC12: =IF(AND(B12>0,W12="")," * No olvide digitar Niños, niñas, adolescentes y Jóvenes en Serv. Nac. Protección Especializada a la Niñez y Adolescencia. Digite cero si no tiene.",IF(W12>B12," * La variable Niños, Niñas, adolescentes y jóvenes enServ. Nac. Protección Especializada a la Niñez y Adolescencia no puede ser mayor al Total.","")) | CD12: =IF(AND(B12>0,X12="")," * No olvide digitar Pueblos Originarios. Digite cero si no tiene.",IF(X12>B12," * La variable Pueblos Originarios no puede ser mayor al Total.","")) | CE12: =IF(AND(B12>0,Y12="")," * No olvide digitar Migrantes. Digite cero si no tiene.",IF(Y12>B12," * La variable Migrantes no puede ser mayor al Total.","")) | CF12: =IF(AND(B12>0,Z12="")," * No olvide digitar Espacios amigables/Adolescentes. Digite cero si no tiene.",IF(Z12>B12," * La variable Espacios amigables/Adolescentes no puede ser mayor al Total.","")) | CK12: =IF((T12+U12)<>B12,1,0) -> 0 | CL12: =IF(AND(B12>0,V12=""),1,IF(V12>B12,1,0)) -> 0 | CM12: =IF(AND(B12>0,W12=""),1,IF(W12>B12,1,0)) -> 0 | CN12: =IF(AND(B12>0,X12=""),1,IF(X12>B12,1,0)) -> 0 | CO12: =IF(AND(B12>0,Y12=""),1,IF(Y12>B12,1,0)) -> 0 | CP12: =IF(AND(B12>0,Z12=""),1,IF(Z12>B12,1,0)) -> 0
A13: Matrón/a | B13: =SUM(E13:S13) -> 0 | AA13: =CA13&CB13&CC13&CD13&CE13&CF13 | CA13: =IF((T13+U13)<>B13," * El desglose por Sexo No puede ser distinto al Total.","") | CB13: =IF(AND(B13>0,V13="")," * No olvide digitar Niños, niñas, adolescentes y jóvenes en Serv. Nac. Reinserción Social Juvenil. Digite cero si no tiene.",IF(V13>B13," * La variable Niños, Niñas, adolescentes y jóvenes en Serv. Nac. Reinserción Social Juvenil no puede ser mayor al Total.","")) | CC13: =IF(AND(B13>0,W13="")," * No olvide digitar Niños, niñas, adolescentes y Jóvenes en Serv. Nac. Protección Especializada a la Niñez y Adolescencia. Digite cero si no tiene.",IF(W13>B13," * La variable Niños, Niñas, adolescentes y jóvenes enServ. Nac. Protección Especializada a la Niñez y Adolescencia no puede ser mayor al Total.","")) | CD13: =IF(AND(B13>0,X13="")," * No olvide digitar Pueblos Originarios. Digite cero si no tiene.",IF(X13>B13," * La variable Pueblos Originarios no puede ser mayor al Total.","")) | CE13: =IF(AND(B13>0,Y13="")," * No olvide digitar Migrantes. Digite cero si no tiene.",IF(Y13>B13," * La variable Migrantes no puede ser mayor al Total.","")) | CF13: =IF(AND(B13>0,Z13="")," * No olvide digitar Espacios amigables/Adolescentes. Digite cero si no tiene.",IF(Z13>B13," * La variable Espacios amigables/Adolescentes no puede ser mayor al Total.","")) | CK13: =IF((T13+U13)<>B13,1,0) -> 0 | CL13: =IF(AND(B13>0,V13=""),1,IF(V13>B13,1,0)) -> 0 | CM13: =IF(AND(B13>0,W13=""),1,IF(W13>B13,1,0)) -> 0 | CN13: =IF(AND(B13>0,X13=""),1,IF(X13>B13,1,0)) -> 0 | CO13: =IF(AND(B13>0,Y13=""),1,IF(Y13>B13,1,0)) -> 0 | CP13: =IF(AND(B13>0,Z13=""),1,IF(Z13>B13,1,0)) -> 0
A14: Nutricionista | B14: =SUM(C14:S14) -> 0 | AA14: =CA14&CB14&CC14&CD14&CE14&CF14 | CA14: =IF((T14+U14)<>B14," * El desglose por Sexo No puede ser distinto al Total.","") | CB14: =IF(AND(B14>0,V14="")," * No olvide digitar Niños, niñas, adolescentes y jóvenes en Serv. Nac. Reinserción Social Juvenil. Digite cero si no tiene.",IF(V14>B14," * La variable Niños, Niñas, adolescentes y jóvenes en Serv. Nac. Reinserción Social Juvenil no puede ser mayor al Total.","")) | CC14: =IF(AND(B14>0,W14="")," * No olvide digitar Niños, niñas, adolescentes y Jóvenes en Serv. Nac. Protección Especializada a la Niñez y Adolescencia. Digite cero si no tiene.",IF(W14>B14," * La variable Niños, Niñas, adolescentes y jóvenes enServ. Nac. Protección Especializada a la Niñez y Adolescencia no puede ser mayor al Total.","")) | CD14: =IF(AND(B14>0,X14="")," * No olvide digitar Pueblos Originarios. Digite cero si no tiene.",IF(X14>B14," * La variable Pueblos Originarios no puede ser mayor al Total.","")) | CE14: =IF(AND(B14>0,Y14="")," * No olvide digitar Migrantes. Digite cero si no tiene.",IF(Y14>B14," * La variable Migrantes no puede ser mayor al Total.","")) | CF14: =IF(AND(B14>0,Z14="")," * No olvide digitar Espacios amigables/Adolescentes. Digite cero si no tiene.",IF(Z14>B14," * La variable Espacios amigables/Adolescentes no puede ser mayor al Total.","")) | CK14: =IF((T14+U14)<>B14,1,0) -> 0 | CL14: =IF(AND(B14>0,V14=""),1,IF(V14>B14,1,0)) -> 0 | CM14: =IF(AND(B14>0,W14=""),1,IF(W14>B14,1,0)) -> 0 | CN14: =IF(AND(B14>0,X14=""),1,IF(X14>B14,1,0)) -> 0 | CO14: =IF(AND(B14>0,Y14=""),1,IF(Y14>B14,1,0)) -> 0 | CP14: =IF(AND(B14>0,Z14=""),1,IF(Z14>B14,1,0)) -> 0
A15: Otros Profesionales | B15: =SUM(C15:S15) -> 0 | AA15: =CA15&CB15&CC15&CD15&CE15&CF15 | CA15: =IF((T15+U15)<>B15," * El desglose por Sexo No puede ser distinto al Total.","") | CB15: =IF(AND(B15>0,V15="")," * No olvide digitar Niños, niñas, adolescentes y jóvenes en Serv. Nac. Reinserción Social Juvenil. Digite cero si no tiene.",IF(V15>B15," * La variable Niños, Niñas, adolescentes y jóvenes en Serv. Nac. Reinserción Social Juvenil no puede ser mayor al Total.","")) | CC15: =IF(AND(B15>0,W15="")," * No olvide digitar Niños, niñas, adolescentes y Jóvenes en Serv. Nac. Protección Especializada a la Niñez y Adolescencia. Digite cero si no tiene.",IF(W15>B15," * La variable Niños, Niñas, adolescentes y jóvenes enServ. Nac. Protección Especializada a la Niñez y Adolescencia no puede ser mayor al Total.","")) | CD15: =IF(AND(B15>0,X15="")," * No olvide digitar Pueblos Originarios. Digite cero si no tiene.",IF(X15>B15," * La variable Pueblos Originarios no puede ser mayor al Total.","")) | CE15: =IF(AND(B15>0,Y15="")," * No olvide digitar Migrantes. Digite cero si no tiene.",IF(Y15>B15," * La variable Migrantes no puede ser mayor al Total.","")) | CF15: =IF(AND(B15>0,Z15="")," * No olvide digitar Espacios amigables/Adolescentes. Digite cero si no tiene.",IF(Z15>B15," * La variable Espacios amigables/Adolescentes no puede ser mayor al Total.","")) | CK15: =IF((T15+U15)<>B15,1,0) -> 0 | CL15: =IF(AND(B15>0,V15=""),1,IF(V15>B15,1,0)) -> 0 | CM15: =IF(AND(B15>0,W15=""),1,IF(W15>B15,1,0)) -> 0 | CN15: =IF(AND(B15>0,X15=""),1,IF(X15>B15,1,0)) -> 0 | CO15: =IF(AND(B15>0,Y15=""),1,IF(Y15>B15,1,0)) -> 0 | CP15: =IF(AND(B15>0,Z15=""),1,IF(Z15>B15,1,0)) -> 0
A16: TOTAL | B16: =SUM(C16:S16) -> 0 | C16: =SUM(C11:C15) -> 0 | D16: =SUM(D11:D15) -> 0 | E16: =SUM(E11:E15) -> 0 | F16: =SUM(F11:F15) -> 0 | G16: =SUM(G11:G15) -> 0 | H16: =SUM(H11:H15) -> 0 | I16: =SUM(I11:I15) -> 0 | J16: =SUM(J11:J15) -> 0 | ... Z16: =SUM(Z11:Z15) -> 0
A17: SECCIÓN B: GESTION REMOTA ABREVIADA MEDIANTE PLATAFORMA TELESALUD
A18: TIPO DE ACTIVIDAD | B18: TOTAL | C18: Médico/a | D18: Odontólogo/a | E18: Otros profesionales
A19: Renovación de recetas/ | B19: =SUM(C19:E19) -> 0
A20: Entrega de resultados de exámenes | B20: =SUM(C20:E20) -> 0
A21: Renovación de licencia médica | B21: =SUM(C21:E21) -> 0
A22: Orden de exámenes | B22: =SUM(C22:E22) -> 0
A23: Certificados médicos | B23: =SUM(C23:E23) -> 0
A24: TOTAL | B24: =SUM(B19:B23) -> 0 | C24: =SUM(C19:C23) -> 0 | D24: =SUM(D19:D23) -> 0 | E24: =SUM(E19:E23) -> 0
A25: SECCIÓN C: CONSULTA MÉDICA EN ATENCIÓN PRIMARIA DE SALUD POR LLAMADA TELEFÓNICA O VIDEOLLAMADAS
A26: ATENCION | B26: TOTAL | C26: RANGO ETARIO | T26: SEXO | V26: Pueblos Originarios | W26: Migrantes | X26: Modalidad por la cual se realiza la atención
C27: 0 - 4 años | D27: 5 - 9 años | E27: 10 - 14 años | F27: 15 - 19 años | G27: 20 - 24 años | H27: 25 - 29 años | I27: 30 - 34 años | J27: 35 - 39 años | K27: 40 - 44 años | L27: 45 - 49 años | M27: 50 - 54 años | N27: 55 - 59 años | O27: 60 - 64 años | P27: 65 - 69 años | Q27: 70 - 74 años | R27: 75 - 79 años | S27: 80 y más años | T27: Hombres | U27: Mujeres | X27: Videollamada | Y27: Llamada Telefónica
A28: Medicina General | B28: =SUM(C28:S28) -> 0 | Z28: =CA28&CB28&CC28 | CA28: =IF(AND($B28>0,V28=""),"No olvide digitar Pueblos Originarios, digite cero si no tiene. ",IF(V28>$B28," * La variable Pueblos Originarios no puede ser mayor al Total. ","")) | CB28: =IF(AND($B28>0,W28=""),"No olvide digitar Migrantes, digite cero si no tiene. ",IF(W28>$B28," * La variable Migrantes no puede ser mayor al Total. ","")) | CC28: =IF((X28+Y28)<>B28," *El desglose de Videollamada + Llamada Telefónica debe ser igual al Total.","") | CK28: =IF(AND(V28>0,$B28=""),1,IF(V28>$B28,1,0)) -> 0 | CL28: =IF(AND(W28>0,$B28=""),1,IF(W28>$B28,1,0)) -> 0 | CM28: =IF((X28+Y28)<>B28,1,0) -> 0
A29: Atención remota de morbilidad (Plataforma Telesalud) | B29: =SUM(C29:S29) -> 0 | Z29: =CA29&CB29&CC29 | CA29: =IF(AND($B29>0,V29=""),"No olvide digitar pueblos originarios, digite cero si no tiene. ",IF(V29>$B29," * La variable Pueblos originarios no puede ser mayor al Total. ","")) | CB29: =IF(AND($B29>0,W29=""),"No olvide digitar Migrantes, digite cero si no tiene. ",IF(W29>$B29," * La variable Migrantes no puede ser mayor al Total. ","")) | CC29: =IF((X29+Y29)<>B29," *El desglose de Videollamada + Llamada Telefónica debe ser igual al Total.","") | CK29: =IF(AND(V29>0,$B29=""),1,IF(V29>$B29,1,0)) -> 0 | CL29: =IF(AND(W29>0,$B29=""),1,IF(W29>$B29,1,0)) -> 0 | CM29: =IF((X29+Y29)<>B29,1,0) -> 0
A30: SECCIÓN D: ATENCIONES TELEFÓNICAS EN CONSULTAS Y CONTROLES
A31: SECCIÓN D1: ATENCIONES REMOTAS MÉDICAS EN ESPECIALIDAD
A32: ESPECIALIDADES Y SUB-ESPECIALIDADES | B32: TOTAL | C32: ATENCIONES REMOTAS DE CONSULTAS DE ESPECIALIDAD | V32: NO CONTESTA | X32: ALTA DE CONSULTA DE ESPECIALIDAD AMBULATORIA REMOTA | Z32: TELECONSULTAS NUEVAS DE ESPECIALIDAD SEGÚN ORIGEN | AJ32: ATENCIONES SEGÚN MODALIDAD DE CONTACTO | AM32: Teleconsulta Abreviada (Videollamada)/ Consulta Abreviada Telefónica Atención Remota: entrega de los resultados de exámenes o procedimiento (Confección de recetas o lectura de exámenes) | AN32: Teleconsultorías | AO32: Pueblos Originarios | AP32: Migrantes | AQ32: Teleconsulta de especialidad resueltas por Médicos Generales | AR32: Niños, niñas, adolescentes y jóvenes SENAME | AS32: Niños, niñas, adolescentes y jóvenes Mejor Niñez
C33: RANGO ETARIO | T33: SEXO | Z33: Menos 15 años | AE33: De 15 y más años
C34: 0 - 4 años | D34: 5 - 9 años | E34: 10 - 14 años | F34: 15 - 19 años | G34: 20 - 24 años | H34: 25 - 29 años | I34: 30 - 34 años | J34: 35 - 39 años | K34: 40 - 44 años | L34: 45 - 49 años | M34: 50 - 54 años | N34: 55 - 59 años | O34: 60 - 64 años | P34: 65 - 69 años | Q34: 70 - 74 años | R34: 75 - 79 años | S34: 80 y más años | T34: Hombres | U34: Mujeres | V34: Nuevas | W34: Controles | X34: Menos 15 años | Y34: 15 y más años | Z34: TOTAL | AA34: APS | AB34: CAE/CDT/CRS | AC34: Urgencia | AD34: Hospitaliza-ción | AE34: Total | AF34: APS | AG34: CAE/CDT/CRS | AH34: Urgencia | AI34: Hospitaliza-ción | AJ34: Teleconsulta Nueva | AK34: Teleconsulta Control | AL34: Contacto telefónico control
A35: Pediatría | B35: =SUM(C35:S35) -> 1 | C35: 1 | T35: 1 | Z35: =SUM(AA35+AB35+AC35+AD35) -> 0 | AE35: =SUM(AF35+AG35+AH35+AI35) -> 0 | AL35: 1 | AM35: 0 | AN35: 1 | AO35: 0 | AP35: 0 | AQ35: 0 | AR35: 0 | AS35: 0 | AT35: =CA35&CB35&CC35&CD35&CE35&CF35&CG35 | CA35: =IF((T35+U35)<>B35,"* El número de atenciones remotas según Sexo debe ser igual al Total.","") | CB35: =IF((AE35+Z35)>B35," * El Total de Teleconsultas Nuevas no debe ser mayor que el Total","") | CC35: =IF(AND(B35>0,AO35="")," * No olvide digitar la variable Pueblos Originarios. Digite cero si no tiene.",IF(AO35>B35," * La variable Pueblos Originarios no puede ser mayor al Total.","")) | CD35: =IF(AND(B35>0,AP35="")," * No olvide digitar la variable Migrantes. Digite cero si no tiene.",IF(AP35>B35," * La variable Migrantes no puede ser mayor al Total.","")) | CE35: =IF(AND($B35>0,AQ35="")," * No olvide digitar la variable Teleconsulta de especialidad resueltas por Médicos Generales. Digite cero si no tiene.",IF(AQ35>$B35," * La variable Teleconsulta de especialidad resueltas por Médicos Generales no puede ser mayor al Total.","")) | CF35: =IF(AND($B35>0,AR35="")," * No olvide digitar la variable Serv. Nac. Reinserción Social Juvenil. Digite cero si no tiene.",IF(AR35>$B35," * La variable Serv. Nac. Reinserción Social Juvenil no puede ser mayor al Total.","")) | CG35: =IF(AND($B35>0,AS35="")," * No olvide digitar la variable Serv. Nac. Protección Especializada a la Niñez y Adolescencia. Digite cero si no tiene.",IF(AS35>$B35," * La variable Serv. Nac. Protección Especializada a la Niñez y Adolescencia no puede ser mayor al Total.","")) | CK35: =IF((T35+U35)<>B35,1,0) -> 0 | CL35: =IF((AE35+Z35)>B35,1,0) -> 0 | CM35: =IF(AND(B35>0,AO35=""),1,IF(AO35>B35,1,0)) -> 0 | CN35: =IF(AND($B35>0,AP35=""),1,IF(AP35>$B35,1,0)) -> 0 | CO35: =IF(AND($B35>0,AQ35=""),1,IF(AQ35>$B35,1,0)) -> 0 | CP35: =IF(AND($B35>0,AR35=""),1,IF(AR35>$B35,1,0)) -> 0 | CQ35: =IF(AND($B35>0,AS35=""),1,IF(AS35>$B35,1,0)) -> 0
A36: Medicina interna | B36: =SUM(C36:S36) -> 10 | N36: 1 | O36: 3 | Q36: 1 | R36: 4 | S36: 1 | T36: 5 | U36: 5 | W36: 2 | Z36: =SUM(AA36+AB36+AC36+AD36) -> 0 | AE36: =SUM(AF36+AG36+AH36+AI36) -> 0 | AL36: 10 | AM36: 0 | AN36: 0 | AO36: 0 | AP36: 0 | AQ36: 0 | AR36: 0 | AS36: 0 | AT36: =CA36&CB36&CC36&CD36&CE36&CF36&CG36 | CA36: =IF((T36+U36)<>B36,"* El número de atenciones remotas según Sexo debe ser igual al Total.","") | CB36: =IF((AE36+Z36)>B36," * El Total de Teleconsultas Nuevas no debe ser mayor que el Total","") | CC36: =IF(AND(B36>0,AO36="")," * No olvide digitar la variable Pueblos Originarios. Digite cero si no tiene.",IF(AO36>B36," * La variable Pueblos Originarios no puede ser mayor al Total.","")) | CD36: =IF(AND(B36>0,AP36="")," * No olvide digitar la variable Migrantes. Digite cero si no tiene.",IF(AP36>B36," * La variable Migrantes no puede ser mayor al Total.","")) | CE36: =IF(AND($B36>0,AQ36="")," * No olvide digitar la variable Teleconsulta de especialidad resueltas por Médicos Generales. Digite cero si no tiene.",IF(AQ36>$B36," * La variable Teleconsulta de especialidad resueltas por Médicos Generales no puede ser mayor al Total.","")) | CF36: =IF(AND($B36>0,AR36="")," * No olvide digitar la variable Serv. Nac. Reinserción Social Juvenil. Digite cero si no tiene.",IF(AR36>$B36," * La variable Serv. Nac. Reinserción Social Juvenil no puede ser mayor al Total.","")) | CG36: =IF(AND($B36>0,AS36="")," * No olvide digitar la variable Serv. Nac. Protección Especializada a la Niñez y Adolescencia. Digite cero si no tiene.",IF(AS36>$B36," * La variable Serv. Nac. Protección Especializada a la Niñez y Adolescencia no puede ser mayor al Total.","")) | CK36: =IF((T36+U36)<>B36,1,0) -> 0 | CL36: =IF((AE36+Z36)>B36,1,0) -> 0 | CM36: =IF(AND(B36>0,AO36=""),1,IF(AO36>B36,1,0)) -> 0 | CN36: =IF(AND(B36>0,AP36=""),1,IF(AP36>B36,1,0)) -> 0 | CO36: =IF(AND($B36>0,AQ36=""),1,IF(AQ36>$B36,1,0)) -> 0 | CP36: =IF(AND($B36>0,AR36=""),1,IF(AR36>$B36,1,0)) -> 0 | CQ36: =IF(AND($B36>0,AS36=""),1,IF(AS36>$B36,1,0)) -> 0
A37: Neonatología | B37: =SUM(C37:D37) -> 0 | Z37: =SUM(AA37+AB37+AC37+AD37) -> 0 | AE37: =SUM(AF37+AG37+AH37+AI37) -> 0 | AT37: =CA37&CB37&CC37&CD37&CE37&CF37&CG37 | CA37: =IF((T37+U37)<>B37,"* El número de atenciones remotas según Sexo debe ser igual al Total.","") | CB37: =IF((AE37+Z37)>B37," * El Total de Teleconsultas Nuevas no debe ser mayor que el Total","") | CC37: =IF(AND(B37>0,AO37="")," * No olvide digitar la variable Pueblos Originarios. Digite cero si no tiene.",IF(AO37>B37," * La variable Pueblos Originarios no puede ser mayor al Total.","")) | CD37: =IF(AND(B37>0,AP37="")," * No olvide digitar la variable Migrantes. Digite cero si no tiene.",IF(AP37>B37," * La variable Migrantes no puede ser mayor al Total.","")) | CE37: =IF(AND($B37>0,AQ37="")," * No olvide digitar la variable Teleconsulta de especialidad resueltas por Médicos Generales. Digite cero si no tiene.",IF(AQ37>$B37," * La variable Teleconsulta de especialidad resueltas por Médicos Generales no puede ser mayor al Total.","")) | CF37: =IF(AND($B37>0,AR37="")," * No olvide digitar la variable Serv. Nac. Reinserción Social Juvenil. Digite cero si no tiene.",IF(AR37>$B37," * La variable Serv. Nac. Reinserción Social Juvenil no puede ser mayor al Total.","")) | CG37: =IF(AND($B37>0,AS37="")," * No olvide digitar la variable Serv. Nac. Protección Especializada a la Niñez y Adolescencia. Digite cero si no tiene.",IF(AS37>$B37," * La variable Serv. Nac. Protección Especializada a la Niñez y Adolescencia no puede ser mayor al Total.","")) | CK37: =IF((T37+U37)<>B37,1,0) -> 0 | CL37: =IF((AE37+Z37)>B37,1,0) -> 0 | CM37: =IF(AND(B37>0,AO37=""),1,IF(AO37>B37,1,0)) -> 0 | CN37: =IF(AND(B37>0,AP37=""),1,IF(AP37>B37,1,0)) -> 0 | CO37: =IF(AND($B37>0,AQ37=""),1,IF(AQ37>$B37,1,0)) -> 0 | CP37: =IF(AND($B37>0,AR37=""),1,IF(AR37>$B37,1,0)) -> 0 | CQ37: =IF(AND($B37>0,AS37=""),1,IF(AS37>$B37,1,0)) -> 0
A38: Enfermedad respiratoria pediátrica (broncopulmonar infantil) | B38: =SUM(C38:S38) -> 0 | Z38: =SUM(AA38+AB38+AC38+AD38) -> 0 | AE38: =SUM(AF38+AG38+AH38+AI38) -> 0 | AT38: =CA38&CB38&CC38&CD38&CE38&CF38&CG38 | CA38: =IF((T38+U38)<>B38,"* El número de atenciones remotas según Sexo debe ser igual al Total.","") | CB38: =IF((AE38+Z38)>B38," * El Total de Teleconsultas Nuevas no debe ser mayor que el Total","") | CC38: =IF(AND(B38>0,AO38="")," * No olvide digitar la variable Pueblos Originarios. Digite cero si no tiene.",IF(AO38>B38," * La variable Pueblos Originarios no puede ser mayor al Total.","")) | CD38: =IF(AND(B38>0,AP38="")," * No olvide digitar la variable Migrantes. Digite cero si no tiene.",IF(AP38>B38," * La variable Migrantes no puede ser mayor al Total.","")) | CE38: =IF(AND($B38>0,AQ38="")," * No olvide digitar la variable Teleconsulta de especialidad resueltas por Médicos Generales. Digite cero si no tiene.",IF(AQ38>$B38," * La variable Teleconsulta de especialidad resueltas por Médicos Generales no puede ser mayor al Total.","")) | CF38: =IF(AND($B38>0,AR38="")," * No olvide digitar la variable Serv. Nac. Reinserción Social Juvenil. Digite cero si no tiene.",IF(AR38>$B38," * La variable Serv. Nac. Reinserción Social Juvenil no puede ser mayor al Total.","")) | CG38: =IF(AND($B38>0,AS38="")," * No olvide digitar la variable Serv. Nac. Protección Especializada a la Niñez y Adolescencia. Digite cero si no tiene.",IF(AS38>$B38," * La variable Serv. Nac. Protección Especializada a la Niñez y Adolescencia no puede ser mayor al Total.","")) | CK38: =IF((T38+U38)<>B38,1,0) -> 0 | CL38: =IF((AE38+Z38)>B38,1,0) -> 0 | CM38: =IF(AND(B38>0,AO38=""),1,IF(AO38>B38,1,0)) -> 0 | CN38: =IF(AND(B38>0,AP38=""),1,IF(AP38>B38,1,0)) -> 0 | CO38: =IF(AND($B38>0,AQ38=""),1,IF(AQ38>$B38,1,0)) -> 0 | CP38: =IF(AND($B38>0,AR38=""),1,IF(AR38>$B38,1,0)) -> 0 | CQ38: =IF(AND($B38>0,AS38=""),1,IF(AS38>$B38,1,0)) -> 0
