Workbook

Sheet CONSOLIDADO
A1: SERVICIO DE SALUD
A2: =CONCATENATE("COMUNA: ",[1]NOMBRE!B2, " (",[1]NOMBRE!C2,[1]NOMBRE!D2,[1]NOMBRE!E2,[1]NOMBRE!F2,[1]NOMBRE!G2,")") -> COMUNA: 0 (00000)
A3: =CONCATENATE("ESTABLECIMIENTO/ESTRATEGIA: ", [1]NOMBRE!B3, " (",[1]NOMBRE!C3,[1]NOMBRE!D3,[1]NOMBRE!E3,[1]NOMBRE!F3,[1]NOMBRE!G3,[1]NOMBRE!H3,")") -> ESTABLECIMIENTO/ESTRATEGIA: 0 (000000)
A4: =CONCATENATE("MES: ",[1]NOMBRE!B6, " (",[1]NOMBRE!C6,[1]NOMBRE!D6,")") -> MES: 0 (00)
A5: =CONCATENATE("AÑO: ",[1]NOMBRE!B7) -> AÑO: 2025
A6: REM-32. ACTIVIDADES DE ATENCIÓN DE SALUD REMOTA
A8: SECCIÓN A: SEGUIMIENTO EN ATENCIÓN PRIMARIA DE SALUD POR LLAMADA TELEFÓNICA O VIDEOLLAMADAS
A9: PROFESIONAL | B9: TOTAL | C9: RANGO ETARIO | T9: SEXO | V9: Niños, niñas, adolescentes y jóvenes SENAME | W9: Niños, niñas, adolescentes y jóvenes Mejor Niñez | X9: Pueblos Originarios | Y9: Migrantes | Z9: Espacios amigables/ Adolescentes
C10: 0 - 4 años | D10: 5 - 9 años | E10: 10 - 14 años | F10: 15 - 19 años | G10: 20 - 24 años | H10: 25 - 29 años | I10: 30 - 34 años | J10: 35 - 39 años | K10: 40 - 44 años | L10: 45 - 49 años | M10: 50 - 54 años | N10: 55 - 59 años | O10: 60 - 64 años | P10: 65 - 69 años | Q10: 70 - 74 años | R10: 75 - 79 años | S10: 80 y más años | T10: Hombres | U10: Mujeres
A11: Médico/a | B11: =SUM(C11:S11) -> 0 | C11: =SUM(ENERO:DICIEMBRE!C11) -> 0 | D11: =SUM(ENERO:DICIEMBRE!D11) -> 0 | E11: =SUM(ENERO:DICIEMBRE!E11) -> 0 | F11: =SUM(ENERO:DICIEMBRE!F11) -> 0 | G11: =SUM(ENERO:DICIEMBRE!G11) -> 0 | H11: =SUM(ENERO:DICIEMBRE!H11) -> 0 | I11: =SUM(ENERO:DICIEMBRE!I11) -> 0 | J11: =SUM(ENERO:DICIEMBRE!J11) -> 0 | ... Z11: =SUM(ENERO:DICIEMBRE!Z11) -> 0 | AA11: =CA11&CB11&CC11&CD11&CE11&CF11 | CA11: =IF((T11+U11)<>B11," * El desglose por Sexo No puede ser distinto al Total.","") | CB11: =IF(AND(B11>0,V11="")," * No olvide digitar Niños, niñas, adolescentes y jóvenes en Serv. Nac. Reinserción Social Juvenil. Digite cero si no tiene.",IF(V11>B11," * La variable Niños, Niñas, adolescentes y jóvenes en Serv. Nac. Reinserción Social Juvenil no puede ser mayor al Total.","")) | CC11: =IF(AND(B11>0,W11="")," * No olvide digitar Niños, niñas, adolescentes y Jóvenes en Serv. Nac. Protección Especializada a la Niñez y Adolescencia. Digite cero si no tiene.",IF(W11>B11," * La variable Niños, Niñas, adolescentes y jóvenes enServ. Nac. Protección Especializada a la Niñez y Adolescencia no puede ser mayor al Total.","")) | CD11: =IF(AND(B11>0,X11="")," * No olvide digitar Pueblos Originarios. Digite cero si no tiene.",IF(X11>B11," * La variable Pueblos Originarios no puede ser mayor al Total.","")) | CE11: =IF(AND(B11>0,Y11="")," * No olvide digitar Migrantes. Digite cero si no tiene.",IF(Y11>B11," * La variable Migrantes no puede ser mayor al Total.","")) | CF11: =IF(AND(B11>0,Z11="")," * No olvide digitar Espacios amigables/Adolescentes. Digite cero si no tiene.",IF(Z11>B11," * La variable Espacios amigables/Adolescentes no puede ser mayor al Total.","")) | CK11: =IF((T11+U11)<>B11,1,0) -> 0 | CL11: =IF(AND(B11>0,V11=""),1,IF(V11>B11,1,0)) -> 0 | CM11: =IF(AND(B11>0,W11=""),1,IF(W11>B11,1,0)) -> 0 | CN11: =IF(AND(B11>0,X11=""),1,IF(X11>B11,1,0)) -> 0 | CO11: =IF(AND(B11>0,Y11=""),1,IF(Y11>B11,1,0)) -> 0 | CP11: =IF(AND(B11>0,Z11=""),1,IF(Z11>B11,1,0)) -> 0
A12: Enfermera/o | B12: =SUM(C12:S12) -> 0 | C12: =SUM(ENERO:DICIEMBRE!C12) -> 0 | D12: =SUM(ENERO:DICIEMBRE!D12) -> 0 | E12: =SUM(ENERO:DICIEMBRE!E12) -> 0 | F12: =SUM(ENERO:DICIEMBRE!F12) -> 0 | G12: =SUM(ENERO:DICIEMBRE!G12) -> 0 | H12: =SUM(ENERO:DICIEMBRE!H12) -> 0 | I12: =SUM(ENERO:DICIEMBRE!I12) -> 0 | J12: =SUM(ENERO:DICIEMBRE!J12) -> 0 | ... Z12: =SUM(ENERO:DICIEMBRE!Z12) -> 0 | AA12: =CA12&CB12&CC12&CD12&CE12&CF12 | CA12: =IF((T12+U12)<>B12," * El desglose por Sexo No puede ser distinto al Total.","") | CB12: =IF(AND(B12>0,V12="")," * No olvide digitar Niños, niñas, adolescentes y jóvenes en Serv. Nac. Reinserción Social Juvenil. Digite cero si no tiene.",IF(V12>B12," * La variable Niños, Niñas, adolescentes y jóvenes en Serv. Nac. Reinserción Social Juvenil no puede ser mayor al Total.","")) | CC12: =IF(AND(B12>0,W12="")," * No olvide digitar Niños, niñas, adolescentes y Jóvenes en Serv. Nac. Protección Especializada a la Niñez y Adolescencia. Digite cero si no tiene.",IF(W12>B12," * La variable Niños, Niñas, adolescentes y jóvenes enServ. Nac. Protección Especializada a la Niñez y Adolescencia no puede ser mayor al Total.","")) | CD12: =IF(AND(B12>0,X12="")," * No olvide digitar Pueblos Originarios. Digite cero si no tiene.",IF(X12>B12," * La variable Pueblos Originarios no puede ser mayor al Total.","")) | CE12: =IF(AND(B12>0,Y12="")," * No olvide digitar Migrantes. Digite cero si no tiene.",IF(Y12>B12," * La variable Migrantes no puede ser mayor al Total.","")) | CF12: =IF(AND(B12>0,Z12="")," * No olvide digitar Espacios amigables/Adolescentes. Digite cero si no tiene.",IF(Z12>B12," * La variable Espacios amigables/Adolescentes no puede ser mayor al Total.","")) | CK12: =IF((T12+U12)<>B12,1,0) -> 0 | CL12: =IF(AND(B12>0,V12=""),1,IF(V12>B12,1,0)) -> 0 | CM12: =IF(AND(B12>0,W12=""),1,IF(W12>B12,1,0)) -> 0 | CN12: =IF(AND(B12>0,X12=""),1,IF(X12>B12,1,0)) -> 0 | CO12: =IF(AND(B12>0,Y12=""),1,IF(Y12>B12,1,0)) -> 0 | CP12: =IF(AND(B12>0,Z12=""),1,IF(Z12>B12,1,0)) -> 0
A13: Matrón/a | B13: =SUM(E13:S13) -> 0 | C13: =SUM(ENERO:DICIEMBRE!C13) -> 0 | D13: =SUM(ENERO:DICIEMBRE!D13) -> 0 | E13: =SUM(ENERO:DICIEMBRE!E13) -> 0 | F13: =SUM(ENERO:DICIEMBRE!F13) -> 0 | G13: =SUM(ENERO:DICIEMBRE!G13) -> 0 | H13: =SUM(ENERO:DICIEMBRE!H13) -> 0 | I13: =SUM(ENERO:DICIEMBRE!I13) -> 0 | J13: =SUM(ENERO:DICIEMBRE!J13) -> 0 | ... Z13: =SUM(ENERO:DICIEMBRE!Z13) -> 0 | AA13: =CA13&CB13&CC13&CD13&CE13&CF13 | CA13: =IF((T13+U13)<>B13," * El desglose por Sexo No puede ser distinto al Total.","") | CB13: =IF(AND(B13>0,V13="")," * No olvide digitar Niños, niñas, adolescentes y jóvenes en Serv. Nac. Reinserción Social Juvenil. Digite cero si no tiene.",IF(V13>B13," * La variable Niños, Niñas, adolescentes y jóvenes en Serv. Nac. Reinserción Social Juvenil no puede ser mayor al Total.","")) | CC13: =IF(AND(B13>0,W13="")," * No olvide digitar Niños, niñas, adolescentes y Jóvenes en Serv. Nac. Protección Especializada a la Niñez y Adolescencia. Digite cero si no tiene.",IF(W13>B13," * La variable Niños, Niñas, adolescentes y jóvenes enServ. Nac. Protección Especializada a la Niñez y Adolescencia no puede ser mayor al Total.","")) | CD13: =IF(AND(B13>0,X13="")," * No olvide digitar Pueblos Originarios. Digite cero si no tiene.",IF(X13>B13," * La variable Pueblos Originarios no puede ser mayor al Total.","")) | CE13: =IF(AND(B13>0,Y13="")," * No olvide digitar Migrantes. Digite cero si no tiene.",IF(Y13>B13," * La variable Migrantes no puede ser mayor al Total.","")) | CF13: =IF(AND(B13>0,Z13="")," * No olvide digitar Espacios amigables/Adolescentes. Digite cero si no tiene.",IF(Z13>B13," * La variable Espacios amigables/Adolescentes no puede ser mayor al Total.","")) | CK13: =IF((T13+U13)<>B13,1,0) -> 0 | CL13: =IF(AND(B13>0,V13=""),1,IF(V13>B13,1,0)) -> 0 | CM13: =IF(AND(B13>0,W13=""),1,IF(W13>B13,1,0)) -> 0 | CN13: =IF(AND(B13>0,X13=""),1,IF(X13>B13,1,0)) -> 0 | CO13: =IF(AND(B13>0,Y13=""),1,IF(Y13>B13,1,0)) -> 0 | CP13: =IF(AND(B13>0,Z13=""),1,IF(Z13>B13,1,0)) -> 0
A14: Nutricionista | B14: =SUM(C14:S14) -> 0 | C14: =SUM(ENERO:DICIEMBRE!C14) -> 0 | D14: =SUM(ENERO:DICIEMBRE!D14) -> 0 | E14: =SUM(ENERO:DICIEMBRE!E14) -> 0 | F14: =SUM(ENERO:DICIEMBRE!F14) -> 0 | G14: =SUM(ENERO:DICIEMBRE!G14) -> 0 | H14: =SUM(ENERO:DICIEMBRE!H14) -> 0 | I14: =SUM(ENERO:DICIEMBRE!I14) -> 0 | J14: =SUM(ENERO:DICIEMBRE!J14) -> 0 | ... Z14: =SUM(ENERO:DICIEMBRE!Z14) -> 0 | AA14: =CA14&CB14&CC14&CD14&CE14&CF14 | CA14: =IF((T14+U14)<>B14," * El desglose por Sexo No puede ser distinto al Total.","") | CB14: =IF(AND(B14>0,V14="")," * No olvide digitar Niños, niñas, adolescentes y jóvenes en Serv. Nac. Reinserción Social Juvenil. Digite cero si no tiene.",IF(V14>B14," * La variable Niños, Niñas, adolescentes y jóvenes en Serv. Nac. Reinserción Social Juvenil no puede ser mayor al Total.","")) | CC14: =IF(AND(B14>0,W14="")," * No olvide digitar Niños, niñas, adolescentes y Jóvenes en Serv. Nac. Protección Especializada a la Niñez y Adolescencia. Digite cero si no tiene.",IF(W14>B14," * La variable Niños, Niñas, adolescentes y jóvenes enServ. Nac. Protección Especializada a la Niñez y Adolescencia no puede ser mayor al Total.","")) | CD14: =IF(AND(B14>0,X14="")," * No olvide digitar Pueblos Originarios. Digite cero si no tiene.",IF(X14>B14," * La variable Pueblos Originarios no puede ser mayor al Total.","")) | CE14: =IF(AND(B14>0,Y14="")," * No olvide digitar Migrantes. Digite cero si no tiene.",IF(Y14>B14," * La variable Migrantes no puede ser mayor al Total.","")) | CF14: =IF(AND(B14>0,Z14="")," * No olvide digitar Espacios amigables/Adolescentes. Digite cero si no tiene.",IF(Z14>B14," * La variable Espacios amigables/Adolescentes no puede ser mayor al Total.","")) | CK14: =IF((T14+U14)<>B14,1,0) -> 0 | CL14: =IF(AND(B14>0,V14=""),1,IF(V14>B14,1,0)) -> 0 | CM14: =IF(AND(B14>0,W14=""),1,IF(W14>B14,1,0)) -> 0 | CN14: =IF(AND(B14>0,X14=""),1,IF(X14>B14,1,0)) -> 0 | CO14: =IF(AND(B14>0,Y14=""),1,IF(Y14>B14,1,0)) -> 0 | CP14: =IF(AND(B14>0,Z14=""),1,IF(Z14>B14,1,0)) -> 0
A15: Otros Profesionales | B15: =SUM(C15:S15) -> 0 | C15: =SUM(ENERO:DICIEMBRE!C15) -> 0 | D15: =SUM(ENERO:DICIEMBRE!D15) -> 0 | E15: =SUM(ENERO:DICIEMBRE!E15) -> 0 | F15: =SUM(ENERO:DICIEMBRE!F15) -> 0 | G15: =SUM(ENERO:DICIEMBRE!G15) -> 0 | H15: =SUM(ENERO:DICIEMBRE!H15) -> 0 | I15: =SUM(ENERO:DICIEMBRE!I15) -> 0 | J15: =SUM(ENERO:DICIEMBRE!J15) -> 0 | ... Z15: =SUM(ENERO:DICIEMBRE!Z15) -> 0 | AA15: =CA15&CB15&CC15&CD15&CE15&CF15 | CA15: =IF((T15+U15)<>B15," * El desglose por Sexo No puede ser distinto al Total.","") | CB15: =IF(AND(B15>0,V15="")," * No olvide digitar Niños, niñas, adolescentes y jóvenes en Serv. Nac. Reinserción Social Juvenil. Digite cero si no tiene.",IF(V15>B15," * La variable Niños, Niñas, adolescentes y jóvenes en Serv. Nac. Reinserción Social Juvenil no puede ser mayor al Total.","")) | CC15: =IF(AND(B15>0,W15="")," * No olvide digitar Niños, niñas, adolescentes y Jóvenes en Serv. Nac. Protección Especializada a la Niñez y Adolescencia. Digite cero si no tiene.",IF(W15>B15," * La variable Niños, Niñas, adolescentes y jóvenes enServ. Nac. Protección Especializada a la Niñez y Adolescencia no puede ser mayor al Total.","")) | CD15: =IF(AND(B15>0,X15="")," * No olvide digitar Pueblos Originarios. Digite cero si no tiene.",IF(X15>B15," * La variable Pueblos Originarios no puede ser mayor al Total.","")) | CE15: =IF(AND(B15>0,Y15="")," * No olvide digitar Migrantes. Digite cero si no tiene.",IF(Y15>B15," * La variable Migrantes no puede ser mayor al Total.","")) | CF15: =IF(AND(B15>0,Z15="")," * No olvide digitar Espacios amigables/Adolescentes. Digite cero si no tiene.",IF(Z15>B15," * La variable Espacios amigables/Adolescentes no puede ser mayor al Total.","")) | CK15: =IF((T15+U15)<>B15,1,0) -> 0 | CL15: =IF(AND(B15>0,V15=""),1,IF(V15>B15,1,0)) -> 0 | CM15: =IF(AND(B15>0,W15=""),1,IF(W15>B15,1,0)) -> 0 | CN15: =IF(AND(B15>0,X15=""),1,IF(X15>B15,1,0)) -> 0 | CO15: =IF(AND(B15>0,Y15=""),1,IF(Y15>B15,1,0)) -> 0 | CP15: =IF(AND(B15>0,Z15=""),1,IF(Z15>B15,1,0)) -> 0
A16: TOTAL | B16: =SUM(C16:S16) -> 0 | C16: =SUM(C11:C15) -> 0 | D16: =SUM(D11:D15) -> 0 | E16: =SUM(E11:E15) -> 0 | F16: =SUM(F11:F15) -> 0 | G16: =SUM(G11:G15) -> 0 | H16: =SUM(H11:H15) -> 0 | I16: =SUM(I11:I15) -> 0 | J16: =SUM(J11:J15) -> 0 | ... Z16: =SUM(Z11:Z15) -> 0
A17: SECCIÓN B: GESTION REMOTA ABREVIADA MEDIANTE PLATAFORMA TELESALUD
A18: TIPO DE ACTIVIDAD | B18: TOTAL | C18: Médico/a | D18: Odontólogo/a | E18: Otros profesionales
A19: Renovación de recetas/ | B19: =SUM(C19:E19) -> 0 | C19: =SUM(ENERO:DICIEMBRE!C19) -> 0 | D19: =SUM(ENERO:DICIEMBRE!D19) -> 0 | E19: =SUM(ENERO:DICIEMBRE!E19) -> 0
A20: Entrega de resultados de exámenes | B20: =SUM(C20:E20) -> 0 | C20: =SUM(ENERO:DICIEMBRE!C20) -> 0 | D20: =SUM(ENERO:DICIEMBRE!D20) -> 0 | E20: =SUM(ENERO:DICIEMBRE!E20) -> 0
A21: Renovación de licencia médica | B21: =SUM(C21:E21) -> 0 | C21: =SUM(ENERO:DICIEMBRE!C21) -> 0 | D21: =SUM(ENERO:DICIEMBRE!D21) -> 0 | E21: =SUM(ENERO:DICIEMBRE!E21) -> 0
A22: Orden de exámenes | B22: =SUM(C22:E22) -> 0 | C22: =SUM(ENERO:DICIEMBRE!C22) -> 0 | D22: =SUM(ENERO:DICIEMBRE!D22) -> 0 | E22: =SUM(ENERO:DICIEMBRE!E22) -> 0
A23: Certificados médicos | B23: =SUM(C23:E23) -> 0 | C23: =SUM(ENERO:DICIEMBRE!C23) -> 0 | D23: =SUM(ENERO:DICIEMBRE!D23) -> 0 | E23: =SUM(ENERO:DICIEMBRE!E23) -> 0
A24: TOTAL | B24: =SUM(B19:B23) -> 0 | C24: =SUM(C19:C23) -> 0 | D24: =SUM(D19:D23) -> 0 | E24: =SUM(E19:E23) -> 0
A25: SECCIÓN C: CONSULTA MÉDICA EN ATENCIÓN PRIMARIA DE SALUD POR LLAMADA TELEFÓNICA O VIDEOLLAMADAS
A26: ATENCION | B26: TOTAL | C26: RANGO ETARIO | T26: SEXO | V26: Pueblos Originarios | W26: Migrantes | X26: Modalidad por la cual se realiza la atención
C27: 0 - 4 años | D27: 5 - 9 años | E27: 10 - 14 años | F27: 15 - 19 años | G27: 20 - 24 años | H27: 25 - 29 años | I27: 30 - 34 años | J27: 35 - 39 años | K27: 40 - 44 años | L27: 45 - 49 años | M27: 50 - 54 años | N27: 55 - 59 años | O27: 60 - 64 años | P27: 65 - 69 años | Q27: 70 - 74 años | R27: 75 - 79 años | S27: 80 y más años | T27: Hombres | U27: Mujeres | X27: Videollamada | Y27: Llamada Telefónica
A28: Medicina General | B28: =SUM(C28:S28) -> 0 | C28: =SUM(ENERO:DICIEMBRE!C28) -> 0 | D28: =SUM(ENERO:DICIEMBRE!D28) -> 0 | E28: =SUM(ENERO:DICIEMBRE!E28) -> 0 | F28: =SUM(ENERO:DICIEMBRE!F28) -> 0 | G28: =SUM(ENERO:DICIEMBRE!G28) -> 0 | H28: =SUM(ENERO:DICIEMBRE!H28) -> 0 | I28: =SUM(ENERO:DICIEMBRE!I28) -> 0 | J28: =SUM(ENERO:DICIEMBRE!J28) -> 0 | ... Y28: =SUM(ENERO:DICIEMBRE!Y28) -> 0 | Z28: =CA28&CB28&CC28 | CA28: =IF(AND($B28>0,V28=""),"No olvide digitar Pueblos Originarios, digite cero si no tiene. ",IF(V28>$B28," * La variable Pueblos Originarios no puede ser mayor al Total. ","")) | CB28: =IF(AND($B28>0,W28=""),"No olvide digitar Migrantes, digite cero si no tiene. ",IF(W28>$B28," * La variable Migrantes no puede ser mayor al Total. ","")) | CC28: =IF((X28+Y28)<>B28," *El desglose de Videollamada + Llamada Telefónica debe ser igual al Total.","") | CK28: =IF(AND(V28>0,$B28=""),1,IF(V28>$B28,1,0)) -> 0 | CL28: =IF(AND(W28>0,$B28=""),1,IF(W28>$B28,1,0)) -> 0 | CM28: =IF((X28+Y28)<>B28,1,0) -> 0
A29: Atención remota de morbilidad (Plataforma Telesalud) | B29: =SUM(C29:S29) -> 0 | C29: =SUM(ENERO:DICIEMBRE!C29) -> 0 | D29: =SUM(ENERO:DICIEMBRE!D29) -> 0 | E29: =SUM(ENERO:DICIEMBRE!E29) -> 0 | F29: =SUM(ENERO:DICIEMBRE!F29) -> 0 | G29: =SUM(ENERO:DICIEMBRE!G29) -> 0 | H29: =SUM(ENERO:DICIEMBRE!H29) -> 0 | I29: =SUM(ENERO:DICIEMBRE!I29) -> 0 | J29: =SUM(ENERO:DICIEMBRE!J29) -> 0 | ... Y29: =SUM(ENERO:DICIEMBRE!Y29) -> 0 | Z29: =CA29&CB29&CC29 | CA29: =IF(AND($B29>0,V29=""),"No olvide digitar pueblos originarios, digite cero si no tiene. ",IF(V29>$B29," * La variable Pueblos originarios no puede ser mayor al Total. ","")) | CB29: =IF(AND($B29>0,W29=""),"No olvide digitar Migrantes, digite cero si no tiene. ",IF(W29>$B29," * La variable Migrantes no puede ser mayor al Total. ","")) | CC29: =IF((X29+Y29)<>B29," *El desglose de Videollamada + Llamada Telefónica debe ser igual al Total.","") | CK29: =IF(AND(V29>0,$B29=""),1,IF(V29>$B29,1,0)) -> 0 | CL29: =IF(AND(W29>0,$B29=""),1,IF(W29>$B29,1,0)) -> 0 | CM29: =IF((X29+Y29)<>B29,1,0) -> 0
A30: SECCIÓN D: ATENCIONES TELEFÓNICAS EN CONSULTAS Y CONTROLES
A31: SECCIÓN D1: ATENCIONES REMOTAS MÉDICAS EN ESPECIALIDAD
A32: ESPECIALIDADES Y SUB-ESPECIALIDADES | B32: TOTAL | C32: ATENCIONES REMOTAS DE CONSULTAS DE ESPECIALIDAD | V32: NO CONTESTA | X32: ALTA DE CONSULTA DE ESPECIALIDAD AMBULATORIA REMOTA | Z32: TELECONSULTAS NUEVAS DE ESPECIALIDAD SEGÚN ORIGEN | AJ32: ATENCIONES SEGÚN MODALIDAD DE CONTACTO | AM32: Teleconsulta Abreviada (Videollamada)/ Consulta Abreviada Telefónica Atención Remota: entrega de los resultados de exámenes o procedimiento (Confección de recetas o lectura de exámenes) | AN32: Teleconsultorías | AO32: Pueblos Originarios | AP32: Migrantes | AQ32: Teleconsulta de especialidad resueltas por Médicos Generales | AR32: Niños, niñas, adolescentes y jóvenes SENAME | AS32: Niños, niñas, adolescentes y jóvenes Mejor Niñez
C33: RANGO ETARIO | T33: SEXO | Z33: Menos 15 años | AE33: De 15 y más años
C34: 0 - 4 años | D34: 5 - 9 años | E34: 10 - 14 años | F34: 15 - 19 años | G34: 20 - 24 años | H34: 25 - 29 años | I34: 30 - 34 años | J34: 35 - 39 años | K34: 40 - 44 años | L34: 45 - 49 años | M34: 50 - 54 años | N34: 55 - 59 años | O34: 60 - 64 años | P34: 65 - 69 años | Q34: 70 - 74 años | R34: 75 - 79 años | S34: 80 y más años | T34: Hombres | U34: Mujeres | V34: Nuevas | W34: Controles | X34: Menos 15 años | Y34: 15 y más años | Z34: TOTAL | AA34: APS | AB34: CAE/CDT/CRS | AC34: Urgencia | AD34: Hospitaliza-ción | AE34: Total | AF34: APS | AG34: CAE/CDT/CRS | AH34: Urgencia | AI34: Hospitaliza-ción | AJ34: Teleconsulta Nueva | AK34: Teleconsulta Control | AL34: Contacto telefónico control
A35: Pediatría | B35: =SUM(C35:S35) -> 7 | C35: =SUM(ENERO:DICIEMBRE!C35) -> 7 | D35: =SUM(ENERO:DICIEMBRE!D35) -> 0 | E35: =SUM(ENERO:DICIEMBRE!E35) -> 0 | F35: =SUM(ENERO:DICIEMBRE!F35) -> 0 | G35: =SUM(ENERO:DICIEMBRE!G35) -> 0 | H35: =SUM(ENERO:DICIEMBRE!H35) -> 0 | I35: =SUM(ENERO:DICIEMBRE!I35) -> 0 | J35: =SUM(ENERO:DICIEMBRE!J35) -> 0 | ... Y35: =SUM(ENERO:DICIEMBRE!Y35) -> 0 | Z35: =SUM(AA35+AB35+AC35+AD35) -> 0 | AA35: =SUM(ENERO:DICIEMBRE!AA35) -> 0 | AB35: =SUM(ENERO:DICIEMBRE!AB35) -> 0 | AC35: =SUM(ENERO:DICIEMBRE!AC35) -> 0 | AD35: =SUM(ENERO:DICIEMBRE!AD35) -> 0 | AE35: =SUM(AF35+AG35+AH35+AI35) -> 0 | AF35: =SUM(ENERO:DICIEMBRE!AF35) -> 0 | AG35: =SUM(ENERO:DICIEMBRE!AG35) -> 0 | AH35: =SUM(ENERO:DICIEMBRE!AH35) -> 0 | AI35: =SUM(ENERO:DICIEMBRE!AI35) -> 0 | AJ35: =SUM(ENERO:DICIEMBRE!AJ35) -> 0 | AK35: =SUM(ENERO:DICIEMBRE!AK35) -> 0 | AL35: =SUM(ENERO:DICIEMBRE!AL35) -> 5 | AM35: =SUM(ENERO:DICIEMBRE!AM35) -> 0 | ... AS35: =SUM(ENERO:DICIEMBRE!AS35) -> 0 | AT35: =CA35&CB35&CC35&CD35&CE35&CF35&CG35 | CA35: =IF((T35+U35)<>B35,"* El número de atenciones remotas según Sexo debe ser igual al Total.","") | CB35: =IF((AE35+Z35)>B35," * El Total de Teleconsultas Nuevas no debe ser mayor que el Total","") | CC35: =IF(AND(B35>0,AO35="")," * No olvide digitar la variable Pueblos Originarios. Digite cero si no tiene.",IF(AO35>B35," * La variable Pueblos Originarios no puede ser mayor al Total.","")) | CD35: =IF(AND(B35>0,AP35="")," * No olvide digitar la variable Migrantes. Digite cero si no tiene.",IF(AP35>B35," * La variable Migrantes no puede ser mayor al Total.","")) | CE35: =IF(AND($B35>0,AQ35="")," * No olvide digitar la variable Teleconsulta de especialidad resueltas por Médicos Generales. Digite cero si no tiene.",IF(AQ35>$B35," * La variable Teleconsulta de especialidad resueltas por Médicos Generales no puede ser mayor al Total.","")) | CF35: =IF(AND($B35>0,AR35="")," * No olvide digitar la variable Serv. Nac. Reinserción Social Juvenil. Digite cero si no tiene.",IF(AR35>$B35," * La variable Serv. Nac. Reinserción Social Juvenil no puede ser mayor al Total.","")) | CG35: =IF(AND($B35>0,AS35="")," * No olvide digitar la variable Serv. Nac. Protección Especializada a la Niñez y Adolescencia. Digite cero si no tiene.",IF(AS35>$B35," * La variable Serv. Nac. Protección Especializada a la Niñez y Adolescencia no puede ser mayor al Total.","")) | CK35: =IF((T35+U35)<>B35,1,0) -> 0 | CL35: =IF((AE35+Z35)>B35,1,0) -> 0 | CM35: =IF(AND(B35>0,AO35=""),1,IF(AO35>B35,1,0)) -> 0 | CN35: =IF(AND($B35>0,AP35=""),1,IF(AP35>$B35,1,0)) -> 0 | CO35: =IF(AND($B35>0,AQ35=""),1,IF(AQ35>$B35,1,0)) -> 0 | CP35: =IF(AND($B35>0,AR35=""),1,IF(AR35>$B35,1,0)) -> 0 | CQ35: =IF(AND($B35>0,AS35=""),1,IF(AS35>$B35,1,0)) -> 0
A36: Medicina interna | B36: =SUM(C36:S36) -> 63 | C36: =SUM(ENERO:DICIEMBRE!C36) -> 0 | D36: =SUM(ENERO:DICIEMBRE!D36) -> 0 | E36: =SUM(ENERO:DICIEMBRE!E36) -> 0 | F36: =SUM(ENERO:DICIEMBRE!F36) -> 0 | G36: =SUM(ENERO:DICIEMBRE!G36) -> 0 | H36: =SUM(ENERO:DICIEMBRE!H36) -> 0 | I36: =SUM(ENERO:DICIEMBRE!I36) -> 0 | J36: =SUM(ENERO:DICIEMBRE!J36) -> 0 | ... Y36: =SUM(ENERO:DICIEMBRE!Y36) -> 0 | Z36: =SUM(AA36+AB36+AC36+AD36) -> 0 | AA36: =SUM(ENERO:DICIEMBRE!AA36) -> 0 | AB36: =SUM(ENERO:DICIEMBRE!AB36) -> 0 | AC36: =SUM(ENERO:DICIEMBRE!AC36) -> 0 | AD36: =SUM(ENERO:DICIEMBRE!AD36) -> 0 | AE36: =SUM(AF36+AG36+AH36+AI36) -> 0 | AF36: =SUM(ENERO:DICIEMBRE!AF36) -> 0 | AG36: =SUM(ENERO:DICIEMBRE!AG36) -> 0 | AH36: =SUM(ENERO:DICIEMBRE!AH36) -> 0 | AI36: =SUM(ENERO:DICIEMBRE!AI36) -> 0 | AJ36: =SUM(ENERO:DICIEMBRE!AJ36) -> 0 | AK36: =SUM(ENERO:DICIEMBRE!AK36) -> 4 | AL36: =SUM(ENERO:DICIEMBRE!AL36) -> 52 | AM36: =SUM(ENERO:DICIEMBRE!AM36) -> 7 | ... AS36: =SUM(ENERO:DICIEMBRE!AS36) -> 0 | AT36: =CA36&CB36&CC36&CD36&CE36&CF36&CG36 | CA36: =IF((T36+U36)<>B36,"* El número de atenciones remotas según Sexo debe ser igual al Total.","") | CB36: =IF((AE36+Z36)>B36," * El Total de Teleconsultas Nuevas no debe ser mayor que el Total","") | CC36: =IF(AND(B36>0,AO36="")," * No olvide digitar la variable Pueblos Originarios. Digite cero si no tiene.",IF(AO36>B36," * La variable Pueblos Originarios no puede ser mayor al Total.","")) | CD36: =IF(AND(B36>0,AP36="")," * No olvide digitar la variable Migrantes. Digite cero si no tiene.",IF(AP36>B36," * La variable Migrantes no puede ser mayor al Total.","")) | CE36: =IF(AND($B36>0,AQ36="")," * No olvide digitar la variable Teleconsulta de especialidad resueltas por Médicos Generales. Digite cero si no tiene.",IF(AQ36>$B36," * La variable Teleconsulta de especialidad resueltas por Médicos Generales no puede ser mayor al Total.","")) | CF36: =IF(AND($B36>0,AR36="")," * No olvide digitar la variable Serv. Nac. Reinserción Social Juvenil. Digite cero si no tiene.",IF(AR36>$B36," * La variable Serv. Nac. Reinserción Social Juvenil no puede ser mayor al Total.","")) | CG36: =IF(AND($B36>0,AS36="")," * No olvide digitar la variable Serv. Nac. Protección Especializada a la Niñez y Adolescencia. Digite cero si no tiene.",IF(AS36>$B36," * La variable Serv. Nac. Protección Especializada a la Niñez y Adolescencia no puede ser mayor al Total.","")) | CK36: =IF((T36+U36)<>B36,1,0) -> 0 | CL36: =IF((AE36+Z36)>B36,1,0) -> 0 | CM36: =IF(AND(B36>0,AO36=""),1,IF(AO36>B36,1,0)) -> 0 | CN36: =IF(AND(B36>0,AP36=""),1,IF(AP36>B36,1,0)) -> 0 | CO36: =IF(AND($B36>0,AQ36=""),1,IF(AQ36>$B36,1,0)) -> 0 | CP36: =IF(AND($B36>0,AR36=""),1,IF(AR36>$B36,1,0)) -> 0 | CQ36: =IF(AND($B36>0,AS36=""),1,IF(AS36>$B36,1,0)) -> 0
A37: Neonatología | B37: =SUM(C37:D37) -> 0 | C37: =SUM(ENERO:DICIEMBRE!C37) -> 0 | D37: =SUM(ENERO:DICIEMBRE!D37) -> 0 | E37: =SUM(ENERO:DICIEMBRE!E37) -> 0 | F37: =SUM(ENERO:DICIEMBRE!F37) -> 0 | G37: =SUM(ENERO:DICIEMBRE!G37) -> 0 | H37: =SUM(ENERO:DICIEMBRE!H37) -> 0 | I37: =SUM(ENERO:DICIEMBRE!I37) -> 0 | J37: =SUM(ENERO:DICIEMBRE!J37) -> 0 | ... Y37: =SUM(ENERO:DICIEMBRE!Y37) -> 0 | Z37: =SUM(AA37+AB37+AC37+AD37) -> 0 | AA37: =SUM(ENERO:DICIEMBRE!AA37) -> 0 | AB37: =SUM(ENERO:DICIEMBRE!AB37) -> 0 | AC37: =SUM(ENERO:DICIEMBRE!AC37) -> 0 | AD37: =SUM(ENERO:DICIEMBRE!AD37) -> 0 | AE37: =SUM(AF37+AG37+AH37+AI37) -> 0 | AF37: =SUM(ENERO:DICIEMBRE!AF37) -> 0 | AG37: =SUM(ENERO:DICIEMBRE!AG37) -> 0 | AH37: =SUM(ENERO:DICIEMBRE!AH37) -> 0 | AI37: =SUM(ENERO:DICIEMBRE!AI37) -> 0 | AJ37: =SUM(ENERO:DICIEMBRE!AJ37) -> 0 | AK37: =SUM(ENERO:DICIEMBRE!AK37) -> 0 | AL37: =SUM(ENERO:DICIEMBRE!AL37) -> 0 | AM37: =SUM(ENERO:DICIEMBRE!AM37) -> 0 | ... AS37: =SUM(ENERO:DICIEMBRE!AS37) -> 0 | AT37: =CA37&CB37&CC37&CD37&CE37&CF37&CG37 | CA37: =IF((T37+U37)<>B37,"* El número de atenciones remotas según Sexo debe ser igual al Total.","") | CB37: =IF((AE37+Z37)>B37," * El Total de Teleconsultas Nuevas no debe ser mayor que el Total","") | CC37: =IF(AND(B37>0,AO37="")," * No olvide digitar la variable Pueblos Originarios. Digite cero si no tiene.",IF(AO37>B37," * La variable Pueblos Originarios no puede ser mayor al Total.","")) | CD37: =IF(AND(B37>0,AP37="")," * No olvide digitar la variable Migrantes. Digite cero si no tiene.",IF(AP37>B37," * La variable Migrantes no puede ser mayor al Total.","")) | CE37: =IF(AND($B37>0,AQ37="")," * No olvide digitar la variable Teleconsulta de especialidad resueltas por Médicos Generales. Digite cero si no tiene.",IF(AQ37>$B37," * La variable Teleconsulta de especialidad resueltas por Médicos Generales no puede ser mayor al Total.","")) | CF37: =IF(AND($B37>0,AR37="")," * No olvide digitar la variable Serv. Nac. Reinserción Social Juvenil. Digite cero si no tiene.",IF(AR37>$B37," * La variable Serv. Nac. Reinserción Social Juvenil no puede ser mayor al Total.","")) | CG37: =IF(AND($B37>0,AS37="")," * No olvide digitar la variable Serv. Nac. Protección Especializada a la Niñez y Adolescencia. Digite cero si no tiene.",IF(AS37>$B37," * La variable Serv. Nac. Protección Especializada a la Niñez y Adolescencia no puede ser mayor al Total.","")) | CK37: =IF((T37+U37)<>B37,1,0) -> 0 | CL37: =IF((AE37+Z37)>B37,1,0) -> 0 | CM37: =IF(AND(B37>0,AO37=""),1,IF(AO37>B37,1,0)) -> 0 | CN37: =IF(AND(B37>0,AP37=""),1,IF(AP37>B37,1,0)) -> 0 | CO37: =IF(AND($B37>0,AQ37=""),1,IF(AQ37>$B37,1,0)) -> 0 | CP37: =IF(AND($B37>0,AR37=""),1,IF(AR37>$B37,1,0)) -> 0 | CQ37: =IF(AND($B37>0,AS37=""),1,IF(AS37>$B37,1,0)) -> 0
A38: Enfermedad respiratoria pediátrica (broncopulmonar infantil) | B38: =SUM(C38:S38) -> 0 | C38: =SUM(ENERO:DICIEMBRE!C38) -> 0 | D38: =SUM(ENERO:DICIEMBRE!D38) -> 0 | E38: =SUM(ENERO:DICIEMBRE!E38) -> 0 | F38: =SUM(ENERO:DICIEMBRE!F38) -> 0 | G38: =SUM(ENERO:DICIEMBRE!G38) -> 0 | H38: =SUM(ENERO:DICIEMBRE!H38) -> 0 | I38: =SUM(ENERO:DICIEMBRE!I38) -> 0 | J38: =SUM(ENERO:DICIEMBRE!J38) -> 0 | ... Y38: =SUM(ENERO:DICIEMBRE!Y38) -> 0 | Z38: =SUM(AA38+AB38+AC38+AD38) -> 0 | AA38: =SUM(ENERO:DICIEMBRE!AA38) -> 0 | AB38: =SUM(ENERO:DICIEMBRE!AB38) -> 0 | AC38: =SUM(ENERO:DICIEMBRE!AC38) -> 0 | AD38: =SUM(ENERO:DICIEMBRE!AD38) -> 0 | AE38: =SUM(AF38+AG38+AH38+AI38) -> 0 | AF38: =SUM(ENERO:DICIEMBRE!AF38) -> 0 | AG38: =SUM(ENERO:DICIEMBRE!AG38) -> 0 | AH38: =SUM(ENERO:DICIEMBRE!AH38) -> 0 | AI38: =SUM(ENERO:DICIEMBRE!AI38) -> 0 | AJ38: =SUM(ENERO:DICIEMBRE!AJ38) -> 0 | AK38: =SUM(ENERO:DICIEMBRE!AK38) -> 0 | AL38: =SUM(ENERO:DICIEMBRE!AL38) -> 0 | AM38: =SUM(ENERO:DICIEMBRE!AM38) -> 0 | ... AS38: =SUM(ENERO:DICIEMBRE!AS38) -> 0 | AT38: =CA38&CB38&CC38&CD38&CE38&CF38&CG38 | CA38: =IF((T38+U38)<>B38,"* El número de atenciones remotas según Sexo debe ser igual al Total.","") | CB38: =IF((AE38+Z38)>B38," * El Total de Teleconsultas Nuevas no debe ser mayor que el Total","") | CC38: =IF(AND(B38>0,AO38="")," * No olvide digitar la variable Pueblos Originarios. Digite cero si no tiene.",IF(AO38>B38," * La variable Pueblos Originarios no puede ser mayor al Total.","")) | CD38: =IF(AND(B38>0,AP38="")," * No olvide digitar la variable Migrantes. Digite cero si no tiene.",IF(AP38>B38," * La variable Migrantes no puede ser mayor al Total.","")) | CE38: =IF(AND($B38>0,AQ38="")," * No olvide digitar la variable Teleconsulta de especialidad resueltas por Médicos Generales. Digite cero si no tiene.",IF(AQ38>$B38," * La variable Teleconsulta de especialidad resueltas por Médicos Generales no puede ser mayor al Total.","")) | CF38: =IF(AND($B38>0,AR38="")," * No olvide digitar la variable Serv. Nac. Reinserción Social Juvenil. Digite cero si no tiene.",IF(AR38>$B38," * La variable Serv. Nac. Reinserción Social Juvenil no puede ser mayor al Total.","")) | CG38: =IF(AND($B38>0,AS38="")," * No olvide digitar la variable Serv. Nac. Protección Especializada a la Niñez y Adolescencia. Digite cero si no tiene.",IF(AS38>$B38," * La variable Serv. Nac. Protección Especializada a la Niñez y Adolescencia no puede ser mayor al Total.","")) | CK38: =IF((T38+U38)<>B38,1,0) -> 0 | CL38: =IF((AE38+Z38)>B38,1,0) -> 0 | CM38: =IF(AND(B38>0,AO38=""),1,IF(AO38>B38,1,0)) -> 0 | CN38: =IF(AND(B38>0,AP38=""),1,IF(AP38>B38,1,0)) -> 0 | CO38: =IF(AND($B38>0,AQ38=""),1,IF(AQ38>$B38,1,0)) -> 0 | CP38: =IF(AND($B38>0,AR38=""),1,IF(AR38>$B38,1,0)) -> 0 | CQ38: =IF(AND($B38>0,AS38=""),1,IF(AS38>$B38,1,0)) -> 0
A39: Enfermedad respiratoria de adulto (broncopulmonar) | B39: =SUM(C39:S39) -> 0 | C39: =SUM(ENERO:DICIEMBRE!C39) -> 0 | D39: =SUM(ENERO:DICIEMBRE!D39) -> 0 | E39: =SUM(ENERO:DICIEMBRE!E39) -> 0 | F39: =SUM(ENERO:DICIEMBRE!F39) -> 0 | G39: =SUM(ENERO:DICIEMBRE!G39) -> 0 | H39: =SUM(ENERO:DICIEMBRE!H39) -> 0 | I39: =SUM(ENERO:DICIEMBRE!I39) -> 0 | J39: =SUM(ENERO:DICIEMBRE!J39) -> 0 | ... Y39: =SUM(ENERO:DICIEMBRE!Y39) -> 0 | Z39: =SUM(AA39+AB39+AC39+AD39) -> 0 | AA39: =SUM(ENERO:DICIEMBRE!AA39) -> 0 | AB39: =SUM(ENERO:DICIEMBRE!AB39) -> 0 | AC39: =SUM(ENERO:DICIEMBRE!AC39) -> 0 | AD39: =SUM(ENERO:DICIEMBRE!AD39) -> 0 | AE39: =SUM(AF39+AG39+AH39+AI39) -> 0 | AF39: =SUM(ENERO:DICIEMBRE!AF39) -> 0 | AG39: =SUM(ENERO:DICIEMBRE!AG39) -> 0 | AH39: =SUM(ENERO:DICIEMBRE!AH39) -> 0 | AI39: =SUM(ENERO:DICIEMBRE!AI39) -> 0 | AJ39: =SUM(ENERO:DICIEMBRE!AJ39) -> 0 | AK39: =SUM(ENERO:DICIEMBRE!AK39) -> 0 | AL39: =SUM(ENERO:DICIEMBRE!AL39) -> 0 | AM39: =SUM(ENERO:DICIEMBRE!AM39) -> 0 | ... AS39: =SUM(ENERO:DICIEMBRE!AS39) -> 0 | AT39: =CA39&CB39&CC39&CD39&CE39&CF39&CG39 | CA39: =IF((T39+U39)<>B39,"* El número de atenciones remotas según Sexo debe ser igual al Total.","") | CB39: =IF((AE39+Z39)>B39," * El Total de Teleconsultas Nuevas no debe ser mayor que el Total","") | CC39: =IF(AND(B39>0,AO39="")," * No olvide digitar la variable Pueblos Originarios. Digite cero si no tiene.",IF(AO39>B39," * La variable Pueblos Originarios no puede ser mayor al Total.","")) | CD39: =IF(AND(B39>0,AP39="")," * No olvide digitar la variable Migrantes. Digite cero si no tiene.",IF(AP39>B39," * La variable Migrantes no puede ser mayor al Total.","")) | CE39: =IF(AND($B39>0,AQ39="")," * No olvide digitar la variable Teleconsulta de especialidad resueltas por Médicos Generales. Digite cero si no tiene.",IF(AQ39>$B39," * La variable Teleconsulta de especialidad resueltas por Médicos Generales no puede ser mayor al Total.","")) | CF39: =IF(AND($B39>0,AR39="")," * No olvide digitar la variable Serv. Nac. Reinserción Social Juvenil. Digite cero si no tiene.",IF(AR39>$B39," * La variable Serv. Nac. Reinserción Social Juvenil no puede ser mayor al Total.","")) | CG39: =IF(AND($B39>0,AS39="")," * No olvide digitar la variable Serv. Nac. Protección Especializada a la Niñez y Adolescencia. Digite cero si no tiene.",IF(AS39>$B39," * La variable Serv. Nac. Protección Especializada a la Niñez y Adolescencia no puede ser mayor al Total.","")) | CK39: =IF((T39+U39)<>B39,1,0) -> 0 | CL39: =IF((AE39+Z39)>B39,1,0) -> 0 | CM39: =IF(AND(B39>0,AO39=""),1,IF(AO39>B39,1,0)) -> 0 | CN39: =IF(AND(B39>0,AP39=""),1,IF(AP39>B39,1,0)) -> 0 | CO39: =IF(AND($B39>0,AQ39=""),1,IF(AQ39>$B39,1,0)) -> 0 | CP39: =IF(AND($B39>0,AR39=""),1,IF(AR39>$B39,1,0)) -> 0 | CQ39: =IF(AND($B39>0,AS39=""),1,IF(AS39>$B39,1,0)) -> 0
A40: Cardiología | B40: =SUM(C40:S40) -> 0 | C40: =SUM(ENERO:DICIEMBRE!C40) -> 0 | D40: =SUM(ENERO:DICIEMBRE!D40) -> 0 | E40: =SUM(ENERO:DICIEMBRE!E40) -> 0 | F40: =SUM(ENERO:DICIEMBRE!F40) -> 0 | G40: =SUM(ENERO:DICIEMBRE!G40) -> 0 | H40: =SUM(ENERO:DICIEMBRE!H40) -> 0 | I40: =SUM(ENERO:DICIEMBRE!I40) -> 0 | J40: =SUM(ENERO:DICIEMBRE!J40) -> 0 | ... Y40: =SUM(ENERO:DICIEMBRE!Y40) -> 0 | Z40: =SUM(AA40+AB40+AC40+AD40) -> 0 | AA40: =SUM(ENERO:DICIEMBRE!AA40) -> 0 | AB40: =SUM(ENERO:DICIEMBRE!AB40) -> 0 | AC40: =SUM(ENERO:DICIEMBRE!AC40) -> 0 | AD40: =SUM(ENERO:DICIEMBRE!AD40) -> 0 | AE40: =SUM(AF40+AG40+AH40+AI40) -> 0 | AF40: =SUM(ENERO:DICIEMBRE!AF40) -> 0 | AG40: =SUM(ENERO:DICIEMBRE!AG40) -> 0 | AH40: =SUM(ENERO:DICIEMBRE!AH40) -> 0 | AI40: =SUM(ENERO:DICIEMBRE!AI40) -> 0 | AJ40: =SUM(ENERO:DICIEMBRE!AJ40) -> 0 | AK40: =SUM(ENERO:DICIEMBRE!AK40) -> 0 | AL40: =SUM(ENERO:DICIEMBRE!AL40) -> 0 | AM40: =SUM(ENERO:DICIEMBRE!AM40) -> 0 | ... AS40: =SUM(ENERO:DICIEMBRE!AS40) -> 0 | AT40: =CA40&CB40&CC40&CD40&CE40&CF40&CG40 | CA40: =IF((T40+U40)<>B40,"* El número de atenciones remotas según Sexo debe ser igual al Total.","") | CB40: =IF((AE40+Z40)>B40," * El Total de Teleconsultas Nuevas no debe ser mayor que el Total","") | CC40: =IF(AND(B40>0,AO40="")," * No olvide digitar la variable Pueblos Originarios. Digite cero si no tiene.",IF(AO40>B40," * La variable Pueblos Originarios no puede ser mayor al Total.","")) | CD40: =IF(AND(B40>0,AP40="")," * No olvide digitar la variable Migrantes. Digite cero si no tiene.",IF(AP40>B40," * La variable Migrantes no puede ser mayor al Total.","")) | CE40: =IF(AND($B40>0,AQ40="")," * No olvide digitar la variable Teleconsulta de especialidad resueltas por Médicos Generales. Digite cero si no tiene.",IF(AQ40>$B40," * La variable Teleconsulta de especialidad resueltas por Médicos Generales no puede ser mayor al Total.","")) | CF40: =IF(AND($B40>0,AR40="")," * No olvide digitar la variable Serv. Nac. Reinserción Social Juvenil. Digite cero si no tiene.",IF(AR40>$B40," * La variable Serv. Nac. Reinserción Social Juvenil no puede ser mayor al Total.","")) | CG40: =IF(AND($B40>0,AS40="")," * No olvide digitar la variable Serv. Nac. Protección Especializada a la Niñez y Adolescencia. Digite cero si no tiene.",IF(AS40>$B40," * La variable Serv. Nac. Protección Especializada a la Niñez y Adolescencia no puede ser mayor al Total.","")) | CK40: =IF((T40+U40)<>B40,1,0) -> 0 | CL40: =IF((AE40+Z40)>B40,1,0) -> 0 | CM40: =IF(AND(B40>0,AO40=""),1,IF(AO40>B40,1,0)) -> 0 | CN40: =IF(AND(B40>0,AP40=""),1,IF(AP40>B40,1,0)) -> 0 | CO40: =IF(AND($B40>0,AQ40=""),1,IF(AQ40>$B40,1,0)) -> 0 | CP40: =IF(AND($B40>0,AR40=""),1,IF(AR40>$B40,1,0)) -> 0 | CQ40: =IF(AND($B40>0,AS40=""),1,IF(AS40>$B40,1,0)) -> 0
A41: Mastología | B41: =SUM(C41:S41) -> 0 | C41: =SUM(ENERO:DICIEMBRE!C41) -> 0 | D41: =SUM(ENERO:DICIEMBRE!D41) -> 0 | E41: =SUM(ENERO:DICIEMBRE!E41) -> 0 | F41: =SUM(ENERO:DICIEMBRE!F41) -> 0 | G41: =SUM(ENERO:DICIEMBRE!G41) -> 0 | H41: =SUM(ENERO:DICIEMBRE!H41) -> 0 | I41: =SUM(ENERO:DICIEMBRE!I41) -> 0 | J41: =SUM(ENERO:DICIEMBRE!J41) -> 0 | ... Y41: =SUM(ENERO:DICIEMBRE!Y41) -> 0 | Z41: =SUM(AA41+AB41+AC41+AD41) -> 0 | AA41: =SUM(ENERO:DICIEMBRE!AA41) -> 0 | AB41: =SUM(ENERO:DICIEMBRE!AB41) -> 0 | AC41: =SUM(ENERO:DICIEMBRE!AC41) -> 0 | AD41: =SUM(ENERO:DICIEMBRE!AD41) -> 0 | AE41: =SUM(AF41+AG41+AH41+AI41) -> 0 | AF41: =SUM(ENERO:DICIEMBRE!AF41) -> 0 | AG41: =SUM(ENERO:DICIEMBRE!AG41) -> 0 | AH41: =SUM(ENERO:DICIEMBRE!AH41) -> 0 | AI41: =SUM(ENERO:DICIEMBRE!AI41) -> 0 | AJ41: =SUM(ENERO:DICIEMBRE!AJ41) -> 0 | AK41: =SUM(ENERO:DICIEMBRE!AK41) -> 0 | AL41: =SUM(ENERO:DICIEMBRE!AL41) -> 0 | AM41: =SUM(ENERO:DICIEMBRE!AM41) -> 0 | ... AS41: =SUM(ENERO:DICIEMBRE!AS41) -> 0 | AT41: =CA41&CB41&CC41&CD41&CE41&CF41&CG41 | CA41: =IF((T41+U41)<>B41,"* El número de atenciones remotas según Sexo debe ser igual al Total.","") | CB41: =IF((AE41+Z41)>B41," * El Total de Teleconsultas Nuevas no debe ser mayor que el Total","") | CC41: =IF(AND(B41>0,AO41="")," * No olvide digitar la variable Pueblos Originarios. Digite cero si no tiene.",IF(AO41>B41," * La variable Pueblos Originarios no puede ser mayor al Total.","")) | CD41: =IF(AND(B41>0,AP41="")," * No olvide digitar la variable Migrantes. Digite cero si no tiene.",IF(AP41>B41," * La variable Migrantes no puede ser mayor al Total.","")) | CE41: =IF(AND($B41>0,AQ41="")," * No olvide digitar la variable Teleconsulta de especialidad resueltas por Médicos Generales. Digite cero si no tiene.",IF(AQ41>$B41," * La variable Teleconsulta de especialidad resueltas por Médicos Generales no puede ser mayor al Total.","")) | CF41: =IF(AND($B41>0,AR41="")," * No olvide digitar la variable Serv. Nac. Reinserción Social Juvenil. Digite cero si no tiene.",IF(AR41>$B41," * La variable Serv. Nac. Reinserción Social Juvenil no puede ser mayor al Total.","")) | CG41: =IF(AND($B41>0,AS41="")," * No olvide digitar la variable Serv. Nac. Protección Especializada a la Niñez y Adolescencia. Digite cero si no tiene.",IF(AS41>$B41," * La variable Serv. Nac. Protección Especializada a la Niñez y Adolescencia no puede ser mayor al Total.","")) | CK41: =IF((T41+U41)<>B41,1,0) -> 0 | CL41: =IF((AE41+Z41)>B41,1,0) -> 0 | CM41: =IF(AND(B41>0,AO41=""),1,IF(AO41>B41,1,0)) -> 0 | CN41: =IF(AND(B41>0,AP41=""),1,IF(AP41>B41,1,0)) -> 0 | CO41: =IF(AND($B41>0,AQ41=""),1,IF(AQ41>$B41,1,0)) -> 0 | CP41: =IF(AND($B41>0,AR41=""),1,IF(AR41>$B41,1,0)) -> 0 | CQ41: =IF(AND($B41>0,AS41=""),1,IF(AS41>$B41,1,0)) -> 0
A42: Endocrinología pediátrica | B42: =SUM(C42:S42) -> 0 | C42: =SUM(ENERO:DICIEMBRE!C42) -> 0 | D42: =SUM(ENERO:DICIEMBRE!D42) -> 0 | E42: =SUM(ENERO:DICIEMBRE!E42) -> 0 | F42: =SUM(ENERO:DICIEMBRE!F42) -> 0 | G42: =SUM(ENERO:DICIEMBRE!G42) -> 0 | H42: =SUM(ENERO:DICIEMBRE!H42) -> 0 | I42: =SUM(ENERO:DICIEMBRE!I42) -> 0 | J42: =SUM(ENERO:DICIEMBRE!J42) -> 0 | ... Y42: =SUM(ENERO:DICIEMBRE!Y42) -> 0 | Z42: =SUM(AA42+AB42+AC42+AD42) -> 0 | AA42: =SUM(ENERO:DICIEMBRE!AA42) -> 0 | AB42: =SUM(ENERO:DICIEMBRE!AB42) -> 0 | AC42: =SUM(ENERO:DICIEMBRE!AC42) -> 0 | AD42: =SUM(ENERO:DICIEMBRE!AD42) -> 0 | AE42: =SUM(AF42+AG42+AH42+AI42) -> 0 | AF42: =SUM(ENERO:DICIEMBRE!AF42) -> 0 | AG42: =SUM(ENERO:DICIEMBRE!AG42) -> 0 | AH42: =SUM(ENERO:DICIEMBRE!AH42) -> 0 | AI42: =SUM(ENERO:DICIEMBRE!AI42) -> 0 | AJ42: =SUM(ENERO:DICIEMBRE!AJ42) -> 0 | AK42: =SUM(ENERO:DICIEMBRE!AK42) -> 0 | AL42: =SUM(ENERO:DICIEMBRE!AL42) -> 0 | AM42: =SUM(ENERO:DICIEMBRE!AM42) -> 0 | ... AS42: =SUM(ENERO:DICIEMBRE!AS42) -> 0 | AT42: =CA42&CB42&CC42&CD42&CE42&CF42&CG42 | CA42: =IF((T42+U42)<>B42,"* El número de atenciones remotas según Sexo debe ser igual al Total.","") | CB42: =IF((AE42+Z42)>B42," * El Total de Teleconsultas Nuevas no debe ser mayor que el Total","") | CC42: =IF(AND(B42>0,AO42="")," * No olvide digitar la variable Pueblos Originarios. Digite cero si no tiene.",IF(AO42>B42," * La variable Pueblos Originarios no puede ser mayor al Total.","")) | CD42: =IF(AND(B42>0,AP42="")," * No olvide digitar la variable Migrantes. Digite cero si no tiene.",IF(AP42>B42," * La variable Migrantes no puede ser mayor al Total.","")) | CE42: =IF(AND($B42>0,AQ42="")," * No olvide digitar la variable Teleconsulta de especialidad resueltas por Médicos Generales. Digite cero si no tiene.",IF(AQ42>$B42," * La variable Teleconsulta de especialidad resueltas por Médicos Generales no puede ser mayor al Total.","")) | CF42: =IF(AND($B42>0,AR42="")," * No olvide digitar la variable Serv. Nac. Reinserción Social Juvenil. Digite cero si no tiene.",IF(AR42>$B42," * La variable Serv. Nac. Reinserción Social Juvenil no puede ser mayor al Total.","")) | CG42: =IF(AND($B42>0,AS42="")," * No olvide digitar la variable Serv. Nac. Protección Especializada a la Niñez y Adolescencia. Digite cero si no tiene.",IF(AS42>$B42," * La variable Serv. Nac. Protección Especializada a la Niñez y Adolescencia no puede ser mayor al Total.","")) | CK42: =IF((T42+U42)<>B42,1,0) -> 0 | CL42: =IF((AE42+Z42)>B42,1,0) -> 0 | CM42: =IF(AND(B42>0,AO42=""),1,IF(AO42>B42,1,0)) -> 0 | CN42: =IF(AND(B42>0,AP42=""),1,IF(AP42>B42,1,0)) -> 0 | CO42: =IF(AND($B42>0,AQ42=""),1,IF(AQ42>$B42,1,0)) -> 0 | CP42: =IF(AND($B42>0,AR42=""),1,IF(AR42>$B42,1,0)) -> 0 | CQ42: =IF(AND($B42>0,AS42=""),1,IF(AS42>$B42,1,0)) -> 0
A43: Endocrinología adulto | B43: =SUM(C43:S43) -> 0 | C43: =SUM(ENERO:DICIEMBRE!C43) -> 0 | D43: =SUM(ENERO:DICIEMBRE!D43) -> 0 | E43: =SUM(ENERO:DICIEMBRE!E43) -> 0 | F43: =SUM(ENERO:DICIEMBRE!F43) -> 0 | G43: =SUM(ENERO:DICIEMBRE!G43) -> 0 | H43: =SUM(ENERO:DICIEMBRE!H43) -> 0 | I43: =SUM(ENERO:DICIEMBRE!I43) -> 0 | J43: =SUM(ENERO:DICIEMBRE!J43) -> 0 | ... Y43: =SUM(ENERO:DICIEMBRE!Y43) -> 0 | Z43: =SUM(AA43+AB43+AC43+AD43) -> 0 | AA43: =SUM(ENERO:DICIEMBRE!AA43) -> 0 | AB43: =SUM(ENERO:DICIEMBRE!AB43) -> 0 | AC43: =SUM(ENERO:DICIEMBRE!AC43) -> 0 | AD43: =SUM(ENERO:DICIEMBRE!AD43) -> 0 | AE43: =SUM(AF43+AG43+AH43+AI43) -> 0 | AF43: =SUM(ENERO:DICIEMBRE!AF43) -> 0 | AG43: =SUM(ENERO:DICIEMBRE!AG43) -> 0 | AH43: =SUM(ENERO:DICIEMBRE!AH43) -> 0 | AI43: =SUM(ENERO:DICIEMBRE!AI43) -> 0 | AJ43: =SUM(ENERO:DICIEMBRE!AJ43) -> 0 | AK43: =SUM(ENERO:DICIEMBRE!AK43) -> 0 | AL43: =SUM(ENERO:DICIEMBRE!AL43) -> 0 | AM43: =SUM(ENERO:DICIEMBRE!AM43) -> 0 | ... AS43: =SUM(ENERO:DICIEMBRE!AS43) -> 0 | AT43: =CA43&CB43&CC43&CD43&CE43&CF43&CG43 | CA43: =IF((T43+U43)<>B43,"* El número de atenciones remotas según Sexo debe ser igual al Total.","") | CB43: =IF((AE43+Z43)>B43," * El Total de Teleconsultas Nuevas no debe ser mayor que el Total","") | CC43: =IF(AND(B43>0,AO43="")," * No olvide digitar la variable Pueblos Originarios. Digite cero si no tiene.",IF(AO43>B43," * La variable Pueblos Originarios no puede ser mayor al Total.","")) | CD43: =IF(AND(B43>0,AP43="")," * No olvide digitar la variable Migrantes. Digite cero si no tiene.",IF(AP43>B43," * La variable Migrantes no puede ser mayor al Total.","")) | CE43: =IF(AND($B43>0,AQ43="")," * No olvide digitar la variable Teleconsulta de especialidad resueltas por Médicos Generales. Digite cero si no tiene.",IF(AQ43>$B43," * La variable Teleconsulta de especialidad resueltas por Médicos Generales no puede ser mayor al Total.","")) | CF43: =IF(AND($B43>0,AR43="")," * No olvide digitar la variable Serv. Nac. Reinserción Social Juvenil. Digite cero si no tiene.",IF(AR43>$B43," * La variable Serv. Nac. Reinserción Social Juvenil no puede ser mayor al Total.","")) | CG43: =IF(AND($B43>0,AS43="")," * No olvide digitar la variable Serv. Nac. Protección Especializada a la Niñez y Adolescencia. Digite cero si no tiene.",IF(AS43>$B43," * La variable Serv. Nac. Protección Especializada a la Niñez y Adolescencia no puede ser mayor al Total.","")) | CK43: =IF((T43+U43)<>B43,1,0) -> 0 | CL43: =IF((AE43+Z43)>B43,1,0) -> 0 | CM43: =IF(AND(B43>0,AO43=""),1,IF(AO43>B43,1,0)) -> 0 | CN43: =IF(AND(B43>0,AP43=""),1,IF(AP43>B43,1,0)) -> 0 | CO43: =IF(AND($B43>0,AQ43=""),1,IF(AQ43>$B43,1,0)) -> 0 | CP43: =IF(AND($B43>0,AR43=""),1,IF(AR43>$B43,1,0)) -> 0 | CQ43: =IF(AND($B43>0,AS43=""),1,IF(AS43>$B43,1,0)) -> 0
A44: Gastroenterología pediátrica | B44: =SUM(C44:S44) -> 0 | C44: =SUM(ENERO:DICIEMBRE!C44) -> 0 | D44: =SUM(ENERO:DICIEMBRE!D44) -> 0 | E44: =SUM(ENERO:DICIEMBRE!E44) -> 0 | F44: =SUM(ENERO:DICIEMBRE!F44) -> 0 | G44: =SUM(ENERO:DICIEMBRE!G44) -> 0 | H44: =SUM(ENERO:DICIEMBRE!H44) -> 0 | I44: =SUM(ENERO:DICIEMBRE!I44) -> 0 | J44: =SUM(ENERO:DICIEMBRE!J44) -> 0 | ... Y44: =SUM(ENERO:DICIEMBRE!Y44) -> 0 | Z44: =SUM(AA44+AB44+AC44+AD44) -> 0 | AA44: =SUM(ENERO:DICIEMBRE!AA44) -> 0 | AB44: =SUM(ENERO:DICIEMBRE!AB44) -> 0 | AC44: =SUM(ENERO:DICIEMBRE!AC44) -> 0 | AD44: =SUM(ENERO:DICIEMBRE!AD44) -> 0 | AE44: =SUM(AF44+AG44+AH44+AI44) -> 0 | AF44: =SUM(ENERO:DICIEMBRE!AF44) -> 0 | AG44: =SUM(ENERO:DICIEMBRE!AG44) -> 0 | AH44: =SUM(ENERO:DICIEMBRE!AH44) -> 0 | AI44: =SUM(ENERO:DICIEMBRE!AI44) -> 0 | AJ44: =SUM(ENERO:DICIEMBRE!AJ44) -> 0 | AK44: =SUM(ENERO:DICIEMBRE!AK44) -> 0 | AL44: =SUM(ENERO:DICIEMBRE!AL44) -> 0 | AM44: =SUM(ENERO:DICIEMBRE!AM44) -> 0 | ... AS44: =SUM(ENERO:DICIEMBRE!AS44) -> 0 | AT44: =CA44&CB44&CC44&CD44&CE44&CF44&CG44 | CA44: =IF((T44+U44)<>B44,"* El número de atenciones remotas según Sexo debe ser igual al Total.","") | CB44: =IF((AE44+Z44)>B44," * El Total de Teleconsultas Nuevas no debe ser mayor que el Total","") | CC44: =IF(AND(B44>0,AO44="")," * No olvide digitar la variable Pueblos Originarios. Digite cero si no tiene.",IF(AO44>B44," * La variable Pueblos Originarios no puede ser mayor al Total.","")) | CD44: =IF(AND(B44>0,AP44="")," * No olvide digitar la variable Migrantes. Digite cero si no tiene.",IF(AP44>B44," * La variable Migrantes no puede ser mayor al Total.","")) | CE44: =IF(AND($B44>0,AQ44="")," * No olvide digitar la variable Teleconsulta de especialidad resueltas por Médicos Generales. Digite cero si no tiene.",IF(AQ44>$B44," * La variable Teleconsulta de especialidad resueltas por Médicos Generales no puede ser mayor al Total.","")) | CF44: =IF(AND($B44>0,AR44="")," * No olvide digitar la variable Serv. Nac. Reinserción Social Juvenil. Digite cero si no tiene.",IF(AR44>$B44," * La variable Serv. Nac. Reinserción Social Juvenil no puede ser mayor al Total.","")) | CG44: =IF(AND($B44>0,AS44="")," * No olvide digitar la variable Serv. Nac. Protección Especializada a la Niñez y Adolescencia. Digite cero si no tiene.",IF(AS44>$B44," * La variable Serv. Nac. Protección Especializada a la Niñez y Adolescencia no puede ser mayor al Total.","")) | CK44: =IF((T44+U44)<>B44,1,0) -> 0 | CL44: =IF((AE44+Z44)>B44,1,0) -> 0 | CM44: =IF(AND(B44>0,AO44=""),1,IF(AO44>B44,1,0)) -> 0 | CN44: =IF(AND(B44>0,AP44=""),1,IF(AP44>B44,1,0)) -> 0 | CO44: =IF(AND($B44>0,AQ44=""),1,IF(AQ44>$B44,1,0)) -> 0 | CP44: =IF(AND($B44>0,AR44=""),1,IF(AR44>$B44,1,0)) -> 0 | CQ44: =IF(AND($B44>0,AS44=""),1,IF(AS44>$B44,1,0)) -> 0
A45: Gastroenterología adulto | B45: =SUM(C45:S45) -> 0 | C45: =SUM(ENERO:DICIEMBRE!C45) -> 0 | D45: =SUM(ENERO:DICIEMBRE!D45) -> 0 | E45: =SUM(ENERO:DICIEMBRE!E45) -> 0 | F45: =SUM(ENERO:DICIEMBRE!F45) -> 0 | G45: =SUM(ENERO:DICIEMBRE!G45) -> 0 | H45: =SUM(ENERO:DICIEMBRE!H45) -> 0 | I45: =SUM(ENERO:DICIEMBRE!I45) -> 0 | J45: =SUM(ENERO:DICIEMBRE!J45) -> 0 | ... Y45: =SUM(ENERO:DICIEMBRE!Y45) -> 0 | Z45: =SUM(AA45+AB45+AC45+AD45) -> 0 | AA45: =SUM(ENERO:DICIEMBRE!AA45) -> 0 | AB45: =SUM(ENERO:DICIEMBRE!AB45) -> 0 | AC45: =SUM(ENERO:DICIEMBRE!AC45) -> 0 | AD45: =SUM(ENERO:DICIEMBRE!AD45) -> 0 | AE45: =SUM(AF45+AG45+AH45+AI45) -> 0 | AF45: =SUM(ENERO:DICIEMBRE!AF45) -> 0 | AG45: =SUM(ENERO:DICIEMBRE!AG45) -> 0 | AH45: =SUM(ENERO:DICIEMBRE!AH45) -> 0 | AI45: =SUM(ENERO:DICIEMBRE!AI45) -> 0 | AJ45: =SUM(ENERO:DICIEMBRE!AJ45) -> 0 | AK45: =SUM(ENERO:DICIEMBRE!AK45) -> 0 | AL45: =SUM(ENERO:DICIEMBRE!AL45) -> 0 | AM45: =SUM(ENERO:DICIEMBRE!AM45) -> 0 | ... AS45: =SUM(ENERO:DICIEMBRE!AS45) -> 0 | AT45: =CA45&CB45&CC45&CD45&CE45&CF45&CG45 | CA45: =IF((T45+U45)<>B45,"* El número de atenciones remotas según Sexo debe ser igual al Total.","") | CB45: =IF((AE45+Z45)>B45," * El Total de Teleconsultas Nuevas no debe ser mayor que el Total","") | CC45: =IF(AND(B45>0,AO45="")," * No olvide digitar la variable Pueblos Originarios. Digite cero si no tiene.",IF(AO45>B45," * La variable Pueblos Originarios no puede ser mayor al Total.","")) | CD45: =IF(AND(B45>0,AP45="")," * No olvide digitar la variable Migrantes. Digite cero si no tiene.",IF(AP45>B45," * La variable Migrantes no puede ser mayor al Total.","")) | CE45: =IF(AND($B45>0,AQ45="")," * No olvide digitar la variable Teleconsulta de especialidad resueltas por Médicos Generales. Digite cero si no tiene.",IF(AQ45>$B45," * La variable Teleconsulta de especialidad resueltas por Médicos Generales no puede ser mayor al Total.","")) | CF45: =IF(AND($B45>0,AR45="")," * No olvide digitar la variable Serv. Nac. Reinserción Social Juvenil. Digite cero si no tiene.",IF(AR45>$B45," * La variable Serv. Nac. Reinserción Social Juvenil no puede ser mayor al Total.","")) | CG45: =IF(AND($B45>0,AS45="")," * No olvide digitar la variable Serv. Nac. Protección Especializada a la Niñez y Adolescencia. Digite cero si no tiene.",IF(AS45>$B45," * La variable Serv. Nac. Protección Especializada a la Niñez y Adolescencia no puede ser mayor al Total.","")) | CK45: =IF((T45+U45)<>B45,1,0) -> 0 | CL45: =IF((AE45+Z45)>B45,1,0) -> 0 | CM45: =IF(AND(B45>0,AO45=""),1,IF(AO45>B45,1,0)) -> 0 | CN45: =IF(AND(B45>0,AP45=""),1,IF(AP45>B45,1,0)) -> 0 | CO45: =IF(AND($B45>0,AQ45=""),1,IF(AQ45>$B45,1,0)) -> 0 | CP45: =IF(AND($B45>0,AR45=""),1,IF(AR45>$B45,1,0)) -> 0 | CQ45: =IF(AND($B45>0,AS45=""),1,IF(AS45>$B45,1,0)) -> 0
A46: Genética clínica | B46: =SUM(C46:S46) -> 0 | C46: =SUM(ENERO:DICIEMBRE!C46) -> 0 | D46: =SUM(ENERO:DICIEMBRE!D46) -> 0 | E46: =SUM(ENERO:DICIEMBRE!E46) -> 0 | F46: =SUM(ENERO:DICIEMBRE!F46) -> 0 | G46: =SUM(ENERO:DICIEMBRE!G46) -> 0 | H46: =SUM(ENERO:DICIEMBRE!H46) -> 0 | I46: =SUM(ENERO:DICIEMBRE!I46) -> 0 | J46: =SUM(ENERO:DICIEMBRE!J46) -> 0 | ... Y46: =SUM(ENERO:DICIEMBRE!Y46) -> 0 | Z46: =SUM(AA46+AB46+AC46+AD46) -> 0 | AA46: =SUM(ENERO:DICIEMBRE!AA46) -> 0 | AB46: =SUM(ENERO:DICIEMBRE!AB46) -> 0 | AC46: =SUM(ENERO:DICIEMBRE!AC46) -> 0 | AD46: =SUM(ENERO:DICIEMBRE!AD46) -> 0 | AE46: =SUM(AF46+AG46+AH46+AI46) -> 0 | AF46: =SUM(ENERO:DICIEMBRE!AF46) -> 0 | AG46: =SUM(ENERO:DICIEMBRE!AG46) -> 0 | AH46: =SUM(ENERO:DICIEMBRE!AH46) -> 0 | AI46: =SUM(ENERO:DICIEMBRE!AI46) -> 0 | AJ46: =SUM(ENERO:DICIEMBRE!AJ46) -> 0 | AK46: =SUM(ENERO:DICIEMBRE!AK46) -> 0 | AL46: =SUM(ENERO:DICIEMBRE!AL46) -> 0 | AM46: =SUM(ENERO:DICIEMBRE!AM46) -> 0 | ... AS46: =SUM(ENERO:DICIEMBRE!AS46) -> 0 | AT46: =CA46&CB46&CC46&CD46&CE46&CF46&CG46 | CA46: =IF((T46+U46)<>B46,"* El número de atenciones remotas según Sexo debe ser igual al Total.","") | CB46: =IF((AE46+Z46)>B46," * El Total de Teleconsultas Nuevas no debe ser mayor que el Total","") | CC46: =IF(AND(B46>0,AO46="")," * No olvide digitar la variable Pueblos Originarios. Digite cero si no tiene.",IF(AO46>B46," * La variable Pueblos Originarios no puede ser mayor al Total.","")) | CD46: =IF(AND(B46>0,AP46="")," * No olvide digitar la variable Migrantes. Digite cero si no tiene.",IF(AP46>B46," * La variable Migrantes no puede ser mayor al Total.","")) | CE46: =IF(AND($B46>0,AQ46="")," * No olvide digitar la variable Teleconsulta de especialidad resueltas por Médicos Generales. Digite cero si no tiene.",IF(AQ46>$B46," * La variable Teleconsulta de especialidad resueltas por Médicos Generales no puede ser mayor al Total.","")) | CF46: =IF(AND($B46>0,AR46="")," * No olvide digitar la variable Serv. Nac. Reinserción Social Juvenil. Digite cero si no tiene.",IF(AR46>$B46," * La variable Serv. Nac. Reinserción Social Juvenil no puede ser mayor al Total.","")) | CG46: =IF(AND($B46>0,AS46="")," * No olvide digitar la variable Serv. Nac. Protección Especializada a la Niñez y Adolescencia. Digite cero si no tiene.",IF(AS46>$B46," * La variable Serv. Nac. Protección Especializada a la Niñez y Adolescencia no puede ser mayor al Total.","")) | CK46: =IF((T46+U46)<>B46,1,0) -> 0 | CL46: =IF((AE46+Z46)>B46,1,0) -> 0 | CM46: =IF(AND(B46>0,AO46=""),1,IF(AO46>B46,1,0)) -> 0 | CN46: =IF(AND(B46>0,AP46=""),1,IF(AP46>B46,1,0)) -> 0 | CO46: =IF(AND($B46>0,AQ46=""),1,IF(AQ46>$B46,1,0)) -> 0 | CP46: =IF(AND($B46>0,AR46=""),1,IF(AR46>$B46,1,0)) -> 0 | CQ46: =IF(AND($B46>0,AS46=""),1,IF(AS46>$B46,1,0)) -> 0
A47: Hematología | B47: =SUM(C47:S47) -> 0 | C47: =SUM(ENERO:DICIEMBRE!C47) -> 0 | D47: =SUM(ENERO:DICIEMBRE!D47) -> 0 | E47: =SUM(ENERO:DICIEMBRE!E47) -> 0 | F47: =SUM(ENERO:DICIEMBRE!F47) -> 0 | G47: =SUM(ENERO:DICIEMBRE!G47) -> 0 | H47: =SUM(ENERO:DICIEMBRE!H47) -> 0 | I47: =SUM(ENERO:DICIEMBRE!I47) -> 0 | J47: =SUM(ENERO:DICIEMBRE!J47) -> 0 | ... Y47: =SUM(ENERO:DICIEMBRE!Y47) -> 0 | Z47: =SUM(AA47+AB47+AC47+AD47) -> 0 | AA47: =SUM(ENERO:DICIEMBRE!AA47) -> 0 | AB47: =SUM(ENERO:DICIEMBRE!AB47) -> 0 | AC47: =SUM(ENERO:DICIEMBRE!AC47) -> 0 | AD47: =SUM(ENERO:DICIEMBRE!AD47) -> 0 | AE47: =SUM(AF47+AG47+AH47+AI47) -> 0 | AF47: =SUM(ENERO:DICIEMBRE!AF47) -> 0 | AG47: =SUM(ENERO:DICIEMBRE!AG47) -> 0 | AH47: =SUM(ENERO:DICIEMBRE!AH47) -> 0 | AI47: =SUM(ENERO:DICIEMBRE!AI47) -> 0 | AJ47: =SUM(ENERO:DICIEMBRE!AJ47) -> 0 | AK47: =SUM(ENERO:DICIEMBRE!AK47) -> 0 | AL47: =SUM(ENERO:DICIEMBRE!AL47) -> 0 | AM47: =SUM(ENERO:DICIEMBRE!AM47) -> 0 | ... AS47: =SUM(ENERO:DICIEMBRE!AS47) -> 0 | AT47: =CA47&CB47&CC47&CD47&CE47&CF47&CG47 | CA47: =IF((T47+U47)<>B47,"* El número de atenciones remotas según Sexo debe ser igual al Total.","") | CB47: =IF((AE47+Z47)>B47," * El Total de Teleconsultas Nuevas no debe ser mayor que el Total","") | CC47: =IF(AND(B47>0,AO47="")," * No olvide digitar la variable Pueblos Originarios. Digite cero si no tiene.",IF(AO47>B47," * La variable Pueblos Originarios no puede ser mayor al Total.","")) | CD47: =IF(AND(B47>0,AP47="")," * No olvide digitar la variable Migrantes. Digite cero si no tiene.",IF(AP47>B47," * La variable Migrantes no puede ser mayor al Total.","")) | CE47: =IF(AND($B47>0,AQ47="")," * No olvide digitar la variable Teleconsulta de especialidad resueltas por Médicos Generales. Digite cero si no tiene.",IF(AQ47>$B47," * La variable Teleconsulta de especialidad resueltas por Médicos Generales no puede ser mayor al Total.","")) | CF47: =IF(AND($B47>0,AR47="")," * No olvide digitar la variable Serv. Nac. Reinserción Social Juvenil. Digite cero si no tiene.",IF(AR47>$B47," * La variable Serv. Nac. Reinserción Social Juvenil no puede ser mayor al Total.","")) | CG47: =IF(AND($B47>0,AS47="")," * No olvide digitar la variable Serv. Nac. Protección Especializada a la Niñez y Adolescencia. Digite cero si no tiene.",IF(AS47>$B47," * La variable Serv. Nac. Protección Especializada a la Niñez y Adolescencia no puede ser mayor al Total.","")) | CK47: =IF((T47+U47)<>B47,1,0) -> 0 | CL47: =IF((AE47+Z47)>B47,1,0) -> 0 | CM47: =IF(AND(B47>0,AO47=""),1,IF(AO47>B47,1,0)) -> 0 | CN47: =IF(AND(B47>0,AP47=""),1,IF(AP47>B47,1,0)) -> 0 | CO47: =IF(AND($B47>0,AQ47=""),1,IF(AQ47>$B47,1,0)) -> 0 | CP47: =IF(AND($B47>0,AR47=""),1,IF(AR47>$B47,1,0)) -> 0 | CQ47: =IF(AND($B47>0,AS47=""),1,IF(AS47>$B47,1,0)) -> 0
A48: Medicina del adolescente | B48: =SUM(C48:S48) -> 0 | C48: =SUM(ENERO:DICIEMBRE!C48) -> 0 | D48: =SUM(ENERO:DICIEMBRE!D48) -> 0 | E48: =SUM(ENERO:DICIEMBRE!E48) -> 0 | F48: =SUM(ENERO:DICIEMBRE!F48) -> 0 | G48: =SUM(ENERO:DICIEMBRE!G48) -> 0 | H48: =SUM(ENERO:DICIEMBRE!H48) -> 0 | I48: =SUM(ENERO:DICIEMBRE!I48) -> 0 | J48: =SUM(ENERO:DICIEMBRE!J48) -> 0 | ... Y48: =SUM(ENERO:DICIEMBRE!Y48) -> 0 | Z48: =SUM(AA48+AB48+AC48+AD48) -> 0 | AA48: =SUM(ENERO:DICIEMBRE!AA48) -> 0 | AB48: =SUM(ENERO:DICIEMBRE!AB48) -> 0 | AC48: =SUM(ENERO:DICIEMBRE!AC48) -> 0 | AD48: =SUM(ENERO:DICIEMBRE!AD48) -> 0 | AE48: =SUM(AF48+AG48+AH48+AI48) -> 0 | AF48: =SUM(ENERO:DICIEMBRE!AF48) -> 0 | AG48: =SUM(ENERO:DICIEMBRE!AG48) -> 0 | AH48: =SUM(ENERO:DICIEMBRE!AH48) -> 0 | AI48: =SUM(ENERO:DICIEMBRE!AI48) -> 0 | AJ48: =SUM(ENERO:DICIEMBRE!AJ48) -> 0 | AK48: =SUM(ENERO:DICIEMBRE!AK48) -> 0 | AL48: =SUM(ENERO:DICIEMBRE!AL48) -> 0 | AM48: =SUM(ENERO:DICIEMBRE!AM48) -> 0 | ... AS48: =SUM(ENERO:DICIEMBRE!AS48) -> 0 | AT48: =CA48&CB48&CC48&CD48&CE48&CF48&CG48 | CA48: =IF((T48+U48)<>B48,"* El número de atenciones remotas según Sexo debe ser igual al Total.","") | CB48: =IF((AE48+Z48)>B48," * El Total de Teleconsultas Nuevas no debe ser mayor que el Total","") | CC48: =IF(AND(B48>0,AO48="")," * No olvide digitar la variable Pueblos Originarios. Digite cero si no tiene.",IF(AO48>B48," * La variable Pueblos Originarios no puede ser mayor al Total.","")) | CD48: =IF(AND(B48>0,AP48="")," * No olvide digitar la variable Migrantes. Digite cero si no tiene.",IF(AP48>B48," * La variable Migrantes no puede ser mayor al Total.","")) | CE48: =IF(AND($B48>0,AQ48="")," * No olvide digitar la variable Teleconsulta de especialidad resueltas por Médicos Generales. Digite cero si no tiene.",IF(AQ48>$B48," * La variable Teleconsulta de especialidad resueltas por Médicos Generales no puede ser mayor al Total.","")) | CF48: =IF(AND($B48>0,AR48="")," * No olvide digitar la variable Serv. Nac. Reinserción Social Juvenil. Digite cero si no tiene.",IF(AR48>$B48," * La variable Serv. Nac. Reinserción Social Juvenil no puede ser mayor al Total.","")) | CG48: =IF(AND($B48>0,AS48="")," * No olvide digitar la variable Serv. Nac. Protección Especializada a la Niñez y Adolescencia. Digite cero si no tiene.",IF(AS48>$B48," * La variable Serv. Nac. Protección Especializada a la Niñez y Adolescencia no puede ser mayor al Total.","")) | CK48: =IF((T48+U48)<>B48,1,0) -> 0 | CL48: =IF((AE48+Z48)>B48,1,0) -> 0 | CM48: =IF(AND(B48>0,AO48=""),1,IF(AO48>B48,1,0)) -> 0 | CN48: =IF(AND(B48>0,AP48=""),1,IF(AP48>B48,1,0)) -> 0 | CO48: =IF(AND($B48>0,AQ48=""),1,IF(AQ48>$B48,1,0)) -> 0 | CP48: =IF(AND($B48>0,AR48=""),1,IF(AR48>$B48,1,0)) -> 0 | CQ48: =IF(AND($B48>0,AS48=""),1,IF(AS48>$B48,1,0)) -> 0
A49: Nefrología pediátrica | B49: =SUM(C49:S49) -> 0 | C49: =SUM(ENERO:DICIEMBRE!C49) -> 0 | D49: =SUM(ENERO:DICIEMBRE!D49) -> 0 | E49: =SUM(ENERO:DICIEMBRE!E49) -> 0 | F49: =SUM(ENERO:DICIEMBRE!F49) -> 0 | G49: =SUM(ENERO:DICIEMBRE!G49) -> 0 | H49: =SUM(ENERO:DICIEMBRE!H49) -> 0 | I49: =SUM(ENERO:DICIEMBRE!I49) -> 0 | J49: =SUM(ENERO:DICIEMBRE!J49) -> 0 | ... Y49: =SUM(ENERO:DICIEMBRE!Y49) -> 0 | Z49: =SUM(AA49+AB49+AC49+AD49) -> 0 | AA49: =SUM(ENERO:DICIEMBRE!AA49) -> 0 | AB49: =SUM(ENERO:DICIEMBRE!AB49) -> 0 | AC49: =SUM(ENERO:DICIEMBRE!AC49) -> 0 | AD49: =SUM(ENERO:DICIEMBRE!AD49) -> 0 | AE49: =SUM(AF49+AG49+AH49+AI49) -> 0 | AF49: =SUM(ENERO:DICIEMBRE!AF49) -> 0 | AG49: =SUM(ENERO:DICIEMBRE!AG49) -> 0 | AH49: =SUM(ENERO:DICIEMBRE!AH49) -> 0 | AI49: =SUM(ENERO:DICIEMBRE!AI49) -> 0 | AJ49: =SUM(ENERO:DICIEMBRE!AJ49) -> 0 | AK49: =SUM(ENERO:DICIEMBRE!AK49) -> 0 | AL49: =SUM(ENERO:DICIEMBRE!AL49) -> 0 | AM49: =SUM(ENERO:DICIEMBRE!AM49) -> 0 | ... AS49: =SUM(ENERO:DICIEMBRE!AS49) -> 0 | AT49: =CA49&CB49&CC49&CD49&CE49&CF49&CG49 | CA49: =IF((T49+U49)<>B49,"* El número de atenciones remotas según Sexo debe ser igual al Total.","") | CB49: =IF((AE49+Z49)>B49," * El Total de Teleconsultas Nuevas no debe ser mayor que el Total","") | CC49: =IF(AND(B49>0,AO49="")," * No olvide digitar la variable Pueblos Originarios. Digite cero si no tiene.",IF(AO49>B49," * La variable Pueblos Originarios no puede ser mayor al Total.","")) | CD49: =IF(AND(B49>0,AP49="")," * No olvide digitar la variable Migrantes. Digite cero si no tiene.",IF(AP49>B49," * La variable Migrantes no puede ser mayor al Total.","")) | CE49: =IF(AND($B49>0,AQ49="")," * No olvide digitar la variable Teleconsulta de especialidad resueltas por Médicos Generales. Digite cero si no tiene.",IF(AQ49>$B49," * La variable Teleconsulta de especialidad resueltas por Médicos Generales no puede ser mayor al Total.","")) | CF49: =IF(AND($B49>0,AR49="")," * No olvide digitar la variable Serv. Nac. Reinserción Social Juvenil. Digite cero si no tiene.",IF(AR49>$B49," * La variable Serv. Nac. Reinserción Social Juvenil no puede ser mayor al Total.","")) | CG49: =IF(AND($B49>0,AS49="")," * No olvide digitar la variable Serv. Nac. Protección Especializada a la Niñez y Adolescencia. Digite cero si no tiene.",IF(AS49>$B49," * La variable Serv. Nac. Protección Especializada a la Niñez y Adolescencia no puede ser mayor al Total.","")) | CK49: =IF((T49+U49)<>B49,1,0) -> 0 | CL49: =IF((AE49+Z49)>B49,1,0) -> 0 | CM49: =IF(AND(B49>0,AO49=""),1,IF(AO49>B49,1,0)) -> 0 | CN49: =IF(AND(B49>0,AP49=""),1,IF(AP49>B49,1,0)) -> 0 | CO49: =IF(AND($B49>0,AQ49=""),1,IF(AQ49>$B49,1,0)) -> 0 | CP49: =IF(AND($B49>0,AR49=""),1,IF(AR49>$B49,1,0)) -> 0 | CQ49: =IF(AND($B49>0,AS49=""),1,IF(AS49>$B49,1,0)) -> 0
... A89: Radioterapia oncológica | B89: =SUM(C89:S89) -> 0 | C89: =SUM(ENERO:DICIEMBRE!C89) -> 0 | D89: =SUM(ENERO:DICIEMBRE!D89) -> 0 | E89: =SUM(ENERO:DICIEMBRE!E89) -> 0 | F89: =SUM(ENERO:DICIEMBRE!F89) -> 0 | G89: =SUM(ENERO:DICIEMBRE!G89) -> 0 | H89: =SUM(ENERO:DICIEMBRE!H89) -> 0 | I89: =SUM(ENERO:DICIEMBRE!I89) -> 0 | J89: =SUM(ENERO:DICIEMBRE!J89) -> 0 | ... Y89: =SUM(ENERO:DICIEMBRE!Y89) -> 0 | Z89: =SUM(AA89+AB89+AC89+AD89) -> 0 | AA89: =SUM(ENERO:DICIEMBRE!AA89) -> 0 | AB89: =SUM(ENERO:DICIEMBRE!AB89) -> 0 | AC89: =SUM(ENERO:DICIEMBRE!AC89) -> 0 | AD89: =SUM(ENERO:DICIEMBRE!AD89) -> 0 | AE89: =SUM(AF89+AG89+AH89+AI89) -> 0 | AF89: =SUM(ENERO:DICIEMBRE!AF89) -> 0 | AG89: =SUM(ENERO:DICIEMBRE!AG89) -> 0 | AH89: =SUM(ENERO:DICIEMBRE!AH89) -> 0 | AI89: =SUM(ENERO:DICIEMBRE!AI89) -> 0 | AJ89: =SUM(ENERO:DICIEMBRE!AJ89) -> 0 | AK89: =SUM(ENERO:DICIEMBRE!AK89) -> 0 | AL89: =SUM(ENERO:DICIEMBRE!AL89) -> 0 | AM89: =SUM(ENERO:DICIEMBRE!AM89) -> 0 | ... AS89: =SUM(ENERO:DICIEMBRE!AS89) -> 0 | AT89: =CA89&CB89&CC89&CD89&CE89&CF89&CG89 | CA89: =IF((T89+U89)<>B89,"* El número de atenciones remotas según Sexo debe ser igual al Total.","") | CB89: =IF((AE89+Z89)>B89," * El Total de Teleconsultas Nuevas no debe ser mayor que el Total","") | CC89: =IF(AND(B89>0,AO89="")," * No olvide digitar la variable Pueblos Originarios. Digite cero si no tiene.",IF(AO89>B89," * La variable Pueblos Originarios no puede ser mayor al Total.","")) | CD89: =IF(AND(B89>0,AP89="")," * No olvide digitar la variable Migrantes. Digite cero si no tiene.",IF(AP89>B89," * La variable Migrantes no puede ser mayor al Total.","")) | CE89: =IF(AND($B89>0,AQ89="")," * No olvide digitar la variable Teleconsulta de especialidad resueltas por Médicos Generales. Digite cero si no tiene.",IF(AQ89>$B89," * La variable Teleconsulta de especialidad resueltas por Médicos Generales no puede ser mayor al Total.","")) | CF89: =IF(AND($B89>0,AR89="")," * No olvide digitar la variable Serv. Nac. Reinserción Social Juvenil. Digite cero si no tiene.",IF(AR89>$B89," * La variable Serv. Nac. Reinserción Social Juvenil no puede ser mayor al Total.","")) | CG89: =IF(AND($B89>0,AS89="")," * No olvide digitar la variable Serv. Nac. Protección Especializada a la Niñez y Adolescencia. Digite cero si no tiene.",IF(AS89>$B89," * La variable Serv. Nac. Protección Especializada a la Niñez y Adolescencia no puede ser mayor al Total.","")) | CK89: =IF((T89+U89)<>B89,1,0) -> 0 | CL89: =IF((AE89+Z89)>B89,1,0) -> 0 | CM89: =IF(AND(B89>0,AO89=""),1,IF(AO89>B89,1,0)) -> 0 | CN89: =IF(AND(B89>0,AP89=""),1,IF(AP89>B89,1,0)) -> 0 | CO89: =IF(AND($B89>0,AQ89=""),1,IF(AQ89>$B89,1,0)) -> 0 | CP89: =IF(AND($B89>0,AR89=""),1,IF(AR89>$B89,1,0)) -> 0 | CQ89: =IF(AND($B89>0,AS89=""),1,IF(AS89>$B89,1,0)) -> 0
A90: TOTAL | B90: =SUM(C90:S90) -> 217 | C90: =SUM(C35:C89) -> 7 | D90: =SUM(D35:D89) -> 0 | E90: =SUM(E35:E89) -> 0 | F90: =SUM(F35:F89) -> 0 | G90: =SUM(G35:G89) -> 1 | H90: =SUM(H35:H89) -> 7 | I90: =SUM(I35:I89) -> 6 | J90: =SUM(J35:J89) -> 9 | ... AS90: =SUM(AS35:AS89) -> 0
A91: SECCIÓN D.2: ATENCIONES REMOTAS CONSULTAS Y CONTROLES POR OTROS PROFESIONALES EN ESPECIALIDAD (NIVEL SECUNDARIO)
A92: PROFESIONAL | C92: TOTAL | F92: RANGO ETARIO Y SEXO | AN92: ATENCIONES REMOTAS SEGÚN MODALIDAD | AP92: Beneficiarios | AQ92: Total Controles (incluidos en grupo de edad) | AR92: Pueblos Originarios | AS92: Migrantes | AT92: Atención Remota consulta abreviada PNM : entrega de los resultados de exámenes o procedimiento (Confección de recetas o lectura de exámenes) | AU92: Consultorías resueltas vía remota
F93: 0 - 4 años | H93: 5 - 9 años | J93: 10 - 14 años | L93: 15 - 19 años | N93: 20 - 24 años | P93: 25 - 29 años | R93: 30 - 34 años | T93: 35 - 39 años | V93: 40 - 44 años | X93: 45 - 49 años | Z93: 50 - 54 años | AB93: 55 - 59 años | AD93: 60 - 64 años | AF93: 65 - 69 años | AH93: 70 - 74 años | AJ93: 75 - 79 años | AL93: 80 y más años
C94: Ambos Sexos | D94: Hombres | E94: Mujeres | F94: Hombres | G94: Mujeres | H94: Hombres | I94: Mujeres | J94: Hombres | K94: Mujeres | L94: Hombres | M94: Mujeres | N94: Hombres | O94: Mujeres | P94: Hombres | Q94: Mujeres | R94: Hombres | S94: Mujeres | T94: Hombres | U94: Mujeres | V94: Hombres | W94: Mujeres | X94: Hombres | Y94: Mujeres | Z94: Hombres | AA94: Mujeres | AB94: Hombres | AC94: Mujeres | AD94: Hombres | AE94: Mujeres | AF94: Hombres | AG94: Mujeres | AH94: Hombres | AI94: Mujeres | AJ94: Hombres | AK94: Mujeres | AL94: Hombres | AM94: Mujeres | AN94: Contacto Telefónico Control | AO94: Teleconsulta Nueva /Control
A95: Enfermera/o | C95: =SUM(D95+E95) -> 1676 | D95: =SUM(F95+H95+J95+L95+N95+P95+R95+T95+V95+X95+Z95+AB95+AD95+AF95+AH95+AJ95+AL95) -> 770 | E95: =SUM(G95+I95+K95+M95+O95+Q95+S95+U95+W95+Y95+AA95+AC95+AE95+AG95+AI95+AK95+AM95) -> 906 | F95: =SUM(ENERO:DICIEMBRE!F95) -> 13 | G95: =SUM(ENERO:DICIEMBRE!G95) -> 9 | H95: =SUM(ENERO:DICIEMBRE!H95) -> 17 | I95: =SUM(ENERO:DICIEMBRE!I95) -> 9 | J95: =SUM(ENERO:DICIEMBRE!J95) -> 22 | K95: =SUM(ENERO:DICIEMBRE!K95) -> 11 | L95: =SUM(ENERO:DICIEMBRE!L95) -> 37 | M95: =SUM(ENERO:DICIEMBRE!M95) -> 14 | ... AU95: =SUM(ENERO:DICIEMBRE!AU95) -> 0 | AV95: =CA95&CB95&CC95&CD95&CE95&CF95 | CA95: =IF(AND(AP95="",C95>0)," * No olvide digitar la columna Beneficiarios. Digite cero si no tiene.",IF(AP95>C95," * La variable Beneficiarios no puede ser mayor al Total.","")) | CB95: =IF(AQ95>C95," * El Total Controles no puede ser mayor que el Total Ambos Sexos.","") | CC95: =IF(AND(C95>0,AR95="")," * No olvide digitar la variable Pueblos originarios. Digite cero si no tiene.",IF(AR95>C95," * La variable Pueblos originarios no puede ser mayor al Total.","")) | CD95: =IF(AND(C95>0,AS95="")," * No olvide digitar la variable Migrantes. Digite cero si no tiene.",IF(AS95>C95," * La variable Migrantes no puede ser mayor al Total.","")) | CE95: =IF(AT95>C95," * El Total Atención Remota consulta abreviada PNM no puede ser mayor que el Total Ambos Sexos.","") | CF95: =IF(AU95>C95," * El Total Consultorías resueltas vía remota no puede ser mayor que el Total Ambos Sexos.","") | CK95: =IF(AND(AP95="",C95>0),1,IF(AP95>C95,1,0)) -> 0 | CL95: =IF(AQ95>C95,1,0) -> 0 | CM95: =IF(AND(C95>0,AR95=""),1,IF(AR95>C95,1,0)) -> 0 | CN95: =IF(AND($C95>0,AS95=""),1,IF(AS95>$C95,1,0)) -> 0 | CO95: =IF(AND($C95>0,AT95=""),1,IF(AT95>$C95,1,0)) -> 0 | CP95: =IF(AND($C95>0,AU95=""),1,IF(AU95>$C95,1,0)) -> 0
A96: Matrón/a | B96: ARO | C96: =SUM(D96:E96) -> 1 | E96: =SUM(K96+M96+O96+Q96+S96+U96+W96+Y96+AA96+AC96+AE96+AG96+AI96+AK96+AM96) -> 1 | F96: =SUM(ENERO:DICIEMBRE!F96) -> 0 | G96: =SUM(ENERO:DICIEMBRE!G96) -> 0 | H96: =SUM(ENERO:DICIEMBRE!H96) -> 0 | I96: =SUM(ENERO:DICIEMBRE!I96) -> 0 | J96: =SUM(ENERO:DICIEMBRE!J96) -> 0 | K96: =SUM(ENERO:DICIEMBRE!K96) -> 0 | L96: =SUM(ENERO:DICIEMBRE!L96) -> 0 | M96: =SUM(ENERO:DICIEMBRE!M96) -> 0 | ... AU96: =SUM(ENERO:DICIEMBRE!AU96) -> 0 | AV96: =CA96&CB96&CC96&CD96&CE96&CF96 | CA96: =IF(AND(AP96="",C96>0)," * No olvide digitar la columna Beneficiarios. Digite cero si no tiene.",IF(AP96>C96," * La variable Beneficiarios no puede ser mayor al Total.","")) | CB96: =IF(AQ96>C96," * El Total Controles no puede ser mayor que el Total Ambos Sexos.","") | CC96: =IF(AND(C96>0,AR96="")," * No olvide digitar la variable Pueblos originarios. Digite cero si no tiene.",IF(AR96>C96," * La variable Pueblos originarios no puede ser mayor al Total.","")) | CD96: =IF(AND(C96>0,AS96="")," * No olvide digitar la variable Migrantes. Digite cero si no tiene.",IF(AS96>C96," * La variable Migrantes no puede ser mayor al Total.","")) | CE96: =IF(AT96>C96," * El Total Atención Remota consulta abreviada PNM no puede ser mayor que el Total Ambos Sexos.","") | CF96: =IF(AU96>C96," * El Total Consultorías resueltas vía remota no puede ser mayor que el Total Ambos Sexos.","") | CK96: =IF(AND(AP96="",C96>0),1,IF(AP96>C96,1,0)) -> 0 | CL96: =IF(AQ96>C96,1,0) -> 0 | CM96: =IF(AND(C96>0,AR96=""),1,IF(AR96>C96,1,0)) -> 0 | CN96: =IF(AND(C96>0,AS96=""),1,IF(AS96>C96,1,0)) -> 0 | CO96: =IF(AND($C96>0,AT96=""),1,IF(AT96>$C96,1,0)) -> 0 | CP96: =IF(AND($C96>0,AU96=""),1,IF(AU96>$C96,1,0)) -> 0
B97: Ginecología y otros | C97: =SUM(D97+E97) -> 35 | D97: =SUM(F97+H97+J97+L97+N97+P97+R97+T97+V97+X97+Z97+AB97+AD97+AF97+AH97+AJ97+AL97) -> 14 | E97: =SUM(G97+I97+K97+M97+O97+Q97+S97+U97+W97+Y97+AA97+AC97+AE97+AG97+AI97+AK97+AM97) -> 21 | F97: =SUM(ENERO:DICIEMBRE!F97) -> 0 | G97: =SUM(ENERO:DICIEMBRE!G97) -> 0 | H97: =SUM(ENERO:DICIEMBRE!H97) -> 0 | I97: =SUM(ENERO:DICIEMBRE!I97) -> 0 | J97: =SUM(ENERO:DICIEMBRE!J97) -> 0 | K97: =SUM(ENERO:DICIEMBRE!K97) -> 0 | L97: =SUM(ENERO:DICIEMBRE!L97) -> 0 | M97: =SUM(ENERO:DICIEMBRE!M97) -> 1 | ... AU97: =SUM(ENERO:DICIEMBRE!AU97) -> 0 | AV97: =CA97&CB97&CC97&CD97&CE97&CF97 | CA97: =IF(AND(AP97="",C97>0)," * No olvide digitar la columna Beneficiarios. Digite cero si no tiene.",IF(AP97>C97," * La variable Beneficiarios no puede ser mayor al Total.","")) | CB97: =IF(AQ97>C97," * El Total Controles no puede ser mayor que el Total Ambos Sexos.","") | CC97: =IF(AND(C97>0,AR97="")," * No olvide digitar la variable Pueblos originarios. Digite cero si no tiene.",IF(AR97>C97," * La variable Pueblos originarios no puede ser mayor al Total.","")) | CD97: =IF(AND(C97>0,AS97="")," * No olvide digitar la variable Migrantes. Digite cero si no tiene.",IF(AS97>C97," * La variable Migrantes no puede ser mayor al Total.","")) | CE97: =IF(AT97>C97," * El Total Atención Remota consulta abreviada PNM no puede ser mayor que el Total Ambos Sexos.","") | CF97: =IF(AU97>C97," * El Total Consultorías resueltas vía remota no puede ser mayor que el Total Ambos Sexos.","") | CK97: =IF(AND(AP97="",C97>0),1,IF(AP97>C97,1,0)) -> 0 | CL97: =IF(AQ97>C97,1,0) -> 0 | CM97: =IF(AND(C97>0,AR97=""),1,IF(AR97>C97,1,0)) -> 0 | CN97: =IF(AND(C97>0,AS97=""),1,IF(AS97>C97,1,0)) -> 0 | CO97: =IF(AND($C97>0,AT97=""),1,IF(AT97>$C97,1,0)) -> 0 | CP97: =IF(AND($C97>0,AU97=""),1,IF(AU97>$C97,1,0)) -> 0
B98: Infertilidad | C98: =SUM(D98+E98) -> 0 | D98: =SUM(N98+P98+R98+T98+V98+X98+Z98+AB98) -> 0 | E98: =SUM(O98+Q98+S98+U98+W98+Y98+AA98+AC98) -> 0 | F98: =SUM(ENERO:DICIEMBRE!F98) -> 0 | G98: =SUM(ENERO:DICIEMBRE!G98) -> 0 | H98: =SUM(ENERO:DICIEMBRE!H98) -> 0 | I98: =SUM(ENERO:DICIEMBRE!I98) -> 0 | J98: =SUM(ENERO:DICIEMBRE!J98) -> 0 | K98: =SUM(ENERO:DICIEMBRE!K98) -> 0 | L98: =SUM(ENERO:DICIEMBRE!L98) -> 0 | M98: =SUM(ENERO:DICIEMBRE!M98) -> 0 | ... AU98: =SUM(ENERO:DICIEMBRE!AU98) -> 0 | AV98: =CA98&CB98&CC98&CD98&CE98&CF98 | CA98: =IF(AND(AP98="",C98>0)," * No olvide digitar la columna Beneficiarios. Digite cero si no tiene.",IF(AP98>C98," * La variable Beneficiarios no puede ser mayor al Total.","")) | CB98: =IF(AQ98>C98," * El Total Controles no puede ser mayor que el Total Ambos Sexos.","") | CC98: =IF(AND(C98>0,AR98="")," * No olvide digitar la variable Pueblos originarios. Digite cero si no tiene.",IF(AR98>C98," * La variable Pueblos originarios no puede ser mayor al Total.","")) | CD98: =IF(AND(C98>0,AS98="")," * No olvide digitar la variable Migrantes. Digite cero si no tiene.",IF(AS98>C98," * La variable Migrantes no puede ser mayor al Total.","")) | CE98: =IF(AT98>C98," * El Total Atención Remota consulta abreviada PNM no puede ser mayor que el Total Ambos Sexos.","") | CF98: =IF(AU98>C98," * El Total Consultorías resueltas vía remota no puede ser mayor que el Total Ambos Sexos.","") | CK98: =IF(AND(AP98="",C98>0),1,IF(AP98>C98,1,0)) -> 0 | CL98: =IF(AQ98>C98,1,0) -> 0 | CM98: =IF(AND(C98>0,AR98=""),1,IF(AR98>C98,1,0)) -> 0 | CN98: =IF(AND(C98>0,AS98=""),1,IF(AS98>C98,1,0)) -> 0 | CO98: =IF(AND($C98>0,AT98=""),1,IF(AT98>$C98,1,0)) -> 0 | CP98: =IF(AND($C98>0,AU98=""),1,IF(AU98>$C98,1,0)) -> 0
A99: Nutricionista | C99: =SUM(D99+E99) -> 7 | D99: =SUM(F99+H99+J99+L99+N99+P99+R99+T99+V99+X99+Z99+AB99+AD99+AF99+AH99+AJ99+AL99) -> 5 | E99: =SUM(G99+I99+K99+M99+O99+Q99+S99+U99+W99+Y99+AA99+AC99+AE99+AG99+AI99+AK99+AM99) -> 2 | F99: =SUM(ENERO:DICIEMBRE!F99) -> 3 | G99: =SUM(ENERO:DICIEMBRE!G99) -> 1 | H99: =SUM(ENERO:DICIEMBRE!H99) -> 0 | I99: =SUM(ENERO:DICIEMBRE!I99) -> 1 | J99: =SUM(ENERO:DICIEMBRE!J99) -> 0 | K99: =SUM(ENERO:DICIEMBRE!K99) -> 0 | L99: =SUM(ENERO:DICIEMBRE!L99) -> 2 | M99: =SUM(ENERO:DICIEMBRE!M99) -> 0 | ... AU99: =SUM(ENERO:DICIEMBRE!AU99) -> 0 | AV99: =CA99&CB99&CC99&CD99&CE99&CF99 | CA99: =IF(AND(AP99="",C99>0)," * No olvide digitar la columna Beneficiarios. Digite cero si no tiene.",IF(AP99>C99," * La variable Beneficiarios no puede ser mayor al Total.","")) | CB99: =IF(AQ99>C99," * El Total Controles no puede ser mayor que el Total Ambos Sexos.","") | CC99: =IF(AND(C99>0,AR99="")," * No olvide digitar la variable Pueblos originarios. Digite cero si no tiene.",IF(AR99>C99," * La variable Pueblos originarios no puede ser mayor al Total.","")) | CD99: =IF(AND(C99>0,AS99="")," * No olvide digitar la variable Migrantes. Digite cero si no tiene.",IF(AS99>C99," * La variable Migrantes no puede ser mayor al Total.","")) | CE99: =IF(AT99>C99," * El Total Atención Remota consulta abreviada PNM no puede ser mayor que el Total Ambos Sexos.","") | CF99: =IF(AU99>C99," * El Total Consultorías resueltas vía remota no puede ser mayor que el Total Ambos Sexos.","") | CK99: =IF(AND(AP99="",C99>0),1,IF(AP99>C99,1,0)) -> 0 | CL99: =IF(AQ99>C99,1,0) -> 0 | CM99: =IF(AND(C99>0,AR99=""),1,IF(AR99>C99,1,0)) -> 0 | CN99: =IF(AND(C99>0,AS99=""),1,IF(AS99>C99,1,0)) -> 0 | CO99: =IF(AND($C99>0,AT99=""),1,IF(AT99>$C99,1,0)) -> 0 | CP99: =IF(AND($C99>0,AU99=""),1,IF(AU99>$C99,1,0)) -> 0
A100: Psicólogo/a (Excluye SM) | C100: =SUM(D100+E100) -> 0 | D100: =SUM(F100+H100+J100+L100+N100+P100+R100+T100+V100+X100+Z100+AB100+AD100+AF100+AH100+AJ100+AL100) -> 0 | E100: =SUM(G100+I100+K100+M100+O100+Q100+S100+U100+W100+Y100+AA100+AC100+AE100+AG100+AI100+AK100+AM100) -> 0 | F100: =SUM(ENERO:DICIEMBRE!F100) -> 0 | G100: =SUM(ENERO:DICIEMBRE!G100) -> 0 | H100: =SUM(ENERO:DICIEMBRE!H100) -> 0 | I100: =SUM(ENERO:DICIEMBRE!I100) -> 0 | J100: =SUM(ENERO:DICIEMBRE!J100) -> 0 | K100: =SUM(ENERO:DICIEMBRE!K100) -> 0 | L100: =SUM(ENERO:DICIEMBRE!L100) -> 0 | M100: =SUM(ENERO:DICIEMBRE!M100) -> 0 | ... AU100: =SUM(ENERO:DICIEMBRE!AU100) -> 0 | AV100: =CA100&CB100&CC100&CD100&CE100&CF100 | CA100: =IF(AND(AP100="",C100>0)," * No olvide digitar la columna Beneficiarios. Digite cero si no tiene.",IF(AP100>C100," * La variable Beneficiarios no puede ser mayor al Total.","")) | CB100: =IF(AQ100>C100," * El Total Controles no puede ser mayor que el Total Ambos Sexos.","") | CC100: =IF(AND(C100>0,AR100="")," * No olvide digitar la variable Pueblos originarios. Digite cero si no tiene.",IF(AR100>C100," * La variable Pueblos originarios no puede ser mayor al Total.","")) | CD100: =IF(AND(C100>0,AS100="")," * No olvide digitar la variable Migrantes. Digite cero si no tiene.",IF(AS100>C100," * La variable Migrantes no puede ser mayor al Total.","")) | CE100: =IF(AT100>C100," * El Total Atención Remota consulta abreviada PNM no puede ser mayor que el Total Ambos Sexos.","") | CF100: =IF(AU100>C100," * El Total Consultorías resueltas vía remota no puede ser mayor que el Total Ambos Sexos.","") | CK100: =IF(AND(AP100="",C100>0),1,IF(AP100>C100,1,0)) -> 0 | CL100: =IF(AQ100>C100,1,0) -> 0 | CM100: =IF(AND(C100>0,AR100=""),1,IF(AR100>C100,1,0)) -> 0 | CN100: =IF(AND(C100>0,AS100=""),1,IF(AS100>C100,1,0)) -> 0 | CO100: =IF(AND($C100>0,AT100=""),1,IF(AT100>$C100,1,0)) -> 0 | CP100: =IF(AND($C100>0,AU100=""),1,IF(AU100>$C100,1,0)) -> 0
A101: Fonoaudiólogo/a | C101: =SUM(D101+E101) -> 1 | D101: =SUM(F101+H101+J101+L101+N101+P101+R101+T101+V101+X101+Z101+AB101+AD101+AF101+AH101+AJ101+AL101) -> 1 | E101: =SUM(G101+I101+K101+M101+O101+Q101+S101+U101+W101+Y101+AA101+AC101+AE101+AG101+AI101+AK101+AM101) -> 0 | F101: =SUM(ENERO:DICIEMBRE!F101) -> 1 | G101: =SUM(ENERO:DICIEMBRE!G101) -> 0 | H101: =SUM(ENERO:DICIEMBRE!H101) -> 0 | I101: =SUM(ENERO:DICIEMBRE!I101) -> 0 | J101: =SUM(ENERO:DICIEMBRE!J101) -> 0 | K101: =SUM(ENERO:DICIEMBRE!K101) -> 0 | L101: =SUM(ENERO:DICIEMBRE!L101) -> 0 | M101: =SUM(ENERO:DICIEMBRE!M101) -> 0 | ... AU101: =SUM(ENERO:DICIEMBRE!AU101) -> 0 | AV101: =CA101&CB101&CC101&CD101&CE101&CF101 | CA101: =IF(AND(AP101="",C101>0)," * No olvide digitar la columna Beneficiarios. Digite cero si no tiene.",IF(AP101>C101," * La variable Beneficiarios no puede ser mayor al Total.","")) | CB101: =IF(AQ101>C101," * El Total Controles no puede ser mayor que el Total Ambos Sexos.","") | CC101: =IF(AND(C101>0,AR101="")," * No olvide digitar la variable Pueblos originarios. Digite cero si no tiene.",IF(AR101>C101," * La variable Pueblos originarios no puede ser mayor al Total.","")) | CD101: =IF(AND(C101>0,AS101="")," * No olvide digitar la variable Migrantes. Digite cero si no tiene.",IF(AS101>C101," * La variable Migrantes no puede ser mayor al Total.","")) | CE101: =IF(AT101>C101," * El Total Atención Remota consulta abreviada PNM no puede ser mayor que el Total Ambos Sexos.","") | CF101: =IF(AU101>C101," * El Total Consultorías resueltas vía remota no puede ser mayor que el Total Ambos Sexos.","") | CK101: =IF(AND(AP101="",C101>0),1,IF(AP101>C101,1,0)) -> 0 | CL101: =IF(AQ101>C101,1,0) -> 0 | CM101: =IF(AND(C101>0,AR101=""),1,IF(AR101>C101,1,0)) -> 0 | CN101: =IF(AND(C101>0,AS101=""),1,IF(AS101>C101,1,0)) -> 0 | CO101: =IF(AND($C101>0,AT101=""),1,IF(AT101>$C101,1,0)) -> 0 | CP101: =IF(AND($C101>0,AU101=""),1,IF(AU101>$C101,1,0)) -> 0
A102: Tecnólogo/a médico/a | C102: =SUM(D102+E102) -> 1 | D102: =SUM(F102+H102+J102+L102+N102+P102+R102+T102+V102+X102+Z102+AB102+AD102+AF102+AH102+AJ102+AL102) -> 1 | E102: =SUM(G102+I102+K102+M102+O102+Q102+S102+U102+W102+Y102+AA102+AC102+AE102+AG102+AI102+AK102+AM102) -> 0 | F102: =SUM(ENERO:DICIEMBRE!F102) -> 0 | G102: =SUM(ENERO:DICIEMBRE!G102) -> 0 | H102: =SUM(ENERO:DICIEMBRE!H102) -> 1 | I102: =SUM(ENERO:DICIEMBRE!I102) -> 0 | J102: =SUM(ENERO:DICIEMBRE!J102) -> 0 | K102: =SUM(ENERO:DICIEMBRE!K102) -> 0 | L102: =SUM(ENERO:DICIEMBRE!L102) -> 0 | M102: =SUM(ENERO:DICIEMBRE!M102) -> 0 | ... AU102: =SUM(ENERO:DICIEMBRE!AU102) -> 0 | AV102: =CA102&CB102&CC102&CD102&CE102&CF102 | CA102: =IF(AND(AP102="",C102>0)," * No olvide digitar la columna Beneficiarios. Digite cero si no tiene.",IF(AP102>C102," * La variable Beneficiarios no puede ser mayor al Total.","")) | CB102: =IF(AQ102>C102," * El Total Controles no puede ser mayor que el Total Ambos Sexos.","") | CC102: =IF(AND(C102>0,AR102="")," * No olvide digitar la variable Pueblos originarios. Digite cero si no tiene.",IF(AR102>C102," * La variable Pueblos originarios no puede ser mayor al Total.","")) | CD102: =IF(AND(C102>0,AS102="")," * No olvide digitar la variable Migrantes. Digite cero si no tiene.",IF(AS102>C102," * La variable Migrantes no puede ser mayor al Total.","")) | CE102: =IF(AT102>C102," * El Total Atención Remota consulta abreviada PNM no puede ser mayor que el Total Ambos Sexos.","") | CF102: =IF(AU102>C102," * El Total Consultorías resueltas vía remota no puede ser mayor que el Total Ambos Sexos.","") | CK102: =IF(AND(AP102="",C102>0),1,IF(AP102>C102,1,0)) -> 0 | CL102: =IF(AQ102>C102,1,0) -> 0 | CM102: =IF(AND(C102>0,AR102=""),1,IF(AR102>C102,1,0)) -> 0 | CN102: =IF(AND(C102>0,AS102=""),1,IF(AS102>C102,1,0)) -> 0 | CO102: =IF(AND($C102>0,AT102=""),1,IF(AT102>$C102,1,0)) -> 0 | CP102: =IF(AND($C102>0,AU102=""),1,IF(AU102>$C102,1,0)) -> 0
A103: Trabajador/a social | C103: =SUM(D103+E103) -> 0 | D103: =SUM(F103+H103+J103+L103+N103+P103+R103+T103+V103+X103+Z103+AB103+AD103+AF103+AH103+AJ103+AL103) -> 0 | E103: =SUM(G103+I103+K103+M103+O103+Q103+S103+U103+W103+Y103+AA103+AC103+AE103+AG103+AI103+AK103+AM103) -> 0 | F103: =SUM(ENERO:DICIEMBRE!F103) -> 0 | G103: =SUM(ENERO:DICIEMBRE!G103) -> 0 | H103: =SUM(ENERO:DICIEMBRE!H103) -> 0 | I103: =SUM(ENERO:DICIEMBRE!I103) -> 0 | J103: =SUM(ENERO:DICIEMBRE!J103) -> 0 | K103: =SUM(ENERO:DICIEMBRE!K103) -> 0 | L103: =SUM(ENERO:DICIEMBRE!L103) -> 0 | M103: =SUM(ENERO:DICIEMBRE!M103) -> 0 | ... AU103: =SUM(ENERO:DICIEMBRE!AU103) -> 0 | AV103: =CA103&CB103&CC103&CD103&CE103&CF103 | CA103: =IF(AND(AP103="",C103>0)," * No olvide digitar la columna Beneficiarios. Digite cero si no tiene.",IF(AP103>C103," * La variable Beneficiarios no puede ser mayor al Total.","")) | CB103: =IF(AQ103>C103," * El Total Controles no puede ser mayor que el Total Ambos Sexos.","") | CC103: =IF(AND(C103>0,AR103="")," * No olvide digitar la variable Pueblos originarios. Digite cero si no tiene.",IF(AR103>C103," * La variable Pueblos originarios no puede ser mayor al Total.","")) | CD103: =IF(AND(C103>0,AS103="")," * No olvide digitar la variable Migrantes. Digite cero si no tiene.",IF(AS103>C103," * La variable Migrantes no puede ser mayor al Total.","")) | CE103: =IF(AT103>C103," * El Total Atención Remota consulta abreviada PNM no puede ser mayor que el Total Ambos Sexos.","") | CF103: =IF(AU103>C103," * El Total Consultorías resueltas vía remota no puede ser mayor que el Total Ambos Sexos.","") | CK103: =IF(AND(AP103="",C103>0),1,IF(AP103>C103,1,0)) -> 0 | CL103: =IF(AQ103>C103,1,0) -> 0 | CM103: =IF(AND(C103>0,AR103=""),1,IF(AR103>C103,1,0)) -> 0 | CN103: =IF(AND(C103>0,AS103=""),1,IF(AS103>C103,1,0)) -> 0 | CO103: =IF(AND($C103>0,AT103=""),1,IF(AT103>$C103,1,0)) -> 0 | CP103: =IF(AND($C103>0,AU103=""),1,IF(AU103>$C103,1,0)) -> 0
A104: TOTAL | C104: =SUM(C95:C103) -> 1721 | D104: =SUM(D95:D103) -> 791 | E104: =SUM(E95:E103) -> 930 | F104: =SUM(F95:F103) -> 17 | G104: =SUM(G95:G103) -> 10 | H104: =SUM(H95:H103) -> 18 | I104: =SUM(I95:I103) -> 10 | J104: =SUM(J95:J103) -> 22 | ... AU104: =SUM(AU95:AU103) -> 0
A105: SECCIÓN E: ATENCIÓN ODONTOLÓGICA
A106: SECCIÓN E1: ATENCIÓN ODONTOLÓGICA NIVEL PRIMARIO
A107: ACTIVIDADES | B107: TOTAL | E107: RANGO ETARIO | Q107: Embarazadas | R107: 60 años (incluído en grupos de 20-64 años) | S107: Usuarios en situación de discapacidad | T107: Niños, niñas, adolescentes y jóvenes SENAME | U107: Niños, niñas, adolescentes y jóvenes Mejor Niñez | V107: Pueblos Originarios | W107: Migrantes
B108: Total | C108: Hombres | D108: Mujeres | E108: Menos de 1 año | F108: 1 año | G108: 2 años | H108: 3 años | I108: 4 años | J108: 5 años | K108: 6 años | L108: 12 años | M108: Resto <15 años | N108: 15 - 19 años | O108: 20 - 64 años | P108: 65 y más años
A109: Seguimiento Clínico Remoto de Pacientes | B109: =SUM(E109:P109) -> 0 | X109: =BY109&BZ109&CA109&CB109&CC109&CD109&CE109&CF109 | BY109: =IF((C109+D109)<>B109," * Las atenciones según Sexo (Hombres/Mujeres) deben ser igual al Total de atenciones","") | BZ109: =IF(AND(D109>0,Q109="")," * No olvide digitar Embarazadas. Digite cero si no tiene.",IF(Q109>D109," * La variable Embarazadas no puede ser mayor al Total.","")) | CA109: =IF(AND(O109>0,R109="")," * No olvide digitar la variable 60 años (incluído en grupos de 20-64 años). Digite cero si no tiene.",IF(R109>O109," * La variable 60 años (incluído en grupos de 20-64 años) no puede ser mayor al rango etario 20-64 años.","")) | CB109: =IF(AND(B109>0,S109="")," * No olvide digitar Usuarios en situación de discapacidad. Digite cero si no tiene.",IF(S109>B109," * La variable Usuarios en situación de discapacidad no puede ser mayor al Total.","")) | CC109: =IF(AND(B109>0,T109="")," * No olvide digitar la variable Serv. Nac. Reinserción Social Juvenil. Digite cero si no tiene.",IF(T109>B109," * La variable Serv. Nac. Reinserción Social Juvenil no puede ser mayor al Total.","")) | CD109: =IF(AND(B109>0,U109="")," * No olvide digitar la variable Serv. Nac. Protección Especializada a la Niñez y Adolescencia. Digite cero si no tiene.",IF(U109>B109," * La variable Serv. Nac. Protección Especializada a la Niñez y Adolescencia no puede ser mayor al Total.","")) | CE109: =IF(AND(B109>0,V109="")," * No olvide digitar Pueblos originarios. Digite cero si no tiene.",IF(V109>B109," * La variable Pueblos originarios no puede ser mayor al Total.","")) | CF109: =IF(AND(B109>0,W109="")," * No olvide digitar Migrantes. Digite cero si no tiene.",IF(W109>B109," * La variable Migrantes no puede ser mayor al Total.","")) | CI109: =IF(AND(D109>0,Q109=""),1,IF(Q109>D109,1,0)) -> 0 | CJ109: =IF(AND(O109>0,R109=""),1,IF(R109>O109,1,0)) -> 0 | CK109: =IF(AND(B109>0,S109=""),1,IF(S109>B109,1,0)) -> 0 | CL109: =IF(AND(B109>0,T109=""),1,IF(T109>B109,1,0)) -> 0 | CM109: =IF(AND(B109>0,U109=""),1,IF(U109>B109,1,0)) -> 0 | CN109: =IF(AND(B109>0,V109=""),1,IF(V109>B109,1,0)) -> 0 | CO109: =IF(AND(B109>0,W109=""),1,IF(W109>B109,1,0)) -> 0 | CP109: =IF((C109+D109)<>B109,1,0) -> 0
A110: Educación, Promoción Remota en Salud Bucal | B110: =SUM(E110:P110) -> 0 | X110: =BY110&BZ110&CA110&CB110&CC110&CD110&CE110&CF110 | BY110: =IF((C110+D110)<>B110," * Las atenciones según Sexo (Hombres/Mujeres) deben ser igual al Total de atenciones","") | BZ110: =IF(AND(D110>0,Q110="")," * No olvide digitar Embarazadas. Digite cero si no tiene.",IF(Q110>D110," * La variable Embarazadas no puede ser mayor al Total.","")) | CA110: =IF(AND(O110>0,R110="")," * No olvide digitar la variable 60 años (incluído en grupos de 20-64 años). Digite cero si no tiene.",IF(R110>O110," * La variable 60 años (incluído en grupos de 20-64 años) no puede ser mayor al rango etario 20-64 años.","")) | CB110: =IF(AND(B110>0,S110="")," * No olvide digitar Usuarios en situación de discapacidad. Digite cero si no tiene.",IF(S110>B110," * La variable Usuarios en situación de discapacidad no puede ser mayor al Total.","")) | CC110: =IF(AND(B110>0,T110="")," * No olvide digitar la variable Serv. Nac. Reinserción Social Juvenil. Digite cero si no tiene.",IF(T110>B110," * La variable Serv. Nac. Reinserción Social Juvenil no puede ser mayor al Total.","")) | CD110: =IF(AND(B110>0,U110="")," * No olvide digitar la variable Serv. Nac. Protección Especializada a la Niñez y Adolescencia. Digite cero si no tiene.",IF(U110>B110," * La variable Serv. Nac. Protección Especializada a la Niñez y Adolescencia no puede ser mayor al Total.","")) | CE110: =IF(AND(B110>0,V110="")," * No olvide digitar Pueblos originarios. Digite cero si no tiene.",IF(V110>B110," * La variable Pueblos originarios no puede ser mayor al Total.","")) | CF110: =IF(AND(B110>0,W110="")," * No olvide digitar Migrantes. Digite cero si no tiene.",IF(W110>B110," * La variable Migrantes no puede ser mayor al Total.","")) | CI110: =IF(AND(D110>0,Q110=""),1,IF(Q110>D110,1,0)) -> 0 | CJ110: =IF(AND(O110>0,R110=""),1,IF(R110>O110,1,0)) -> 0 | CK110: =IF(AND(B110>0,S110=""),1,IF(S110>B110,1,0)) -> 0 | CL110: =IF(AND(B110>0,T110=""),1,IF(T110>B110,1,0)) -> 0 | CM110: =IF(AND(B110>0,U110=""),1,IF(U110>B110,1,0)) -> 0 | CN110: =IF(AND(B110>0,V110=""),1,IF(V110>B110,1,0)) -> 0 | CO110: =IF(AND(B110>0,W110=""),1,IF(W110>B110,1,0)) -> 0 | CP110: =IF((C110+D110)<>B110,1,0) -> 0
A111: Pauta CERO Remota | B111: =SUM(E111:P111) -> 0 | X111: =CA111&CB111&CC111&CD111&CE111&CF111&CG111&CH111 | CA111: =IF((C111+D111)<>B111," * Las atenciones según Sexo (Hombres/Mujeres) deben ser igual al Total de atenciones","") | CB111: =IF(AND(D111>0,Q111="")," * No olvide digitar Embarazadas. Digite cero si no tiene.",IF(Q111>D111," * La variable Embarazadas no puede ser mayor al Total.","")) | CC111: =IF(AND(O111>0,R111="")," * No olvide digitar la variable 60 años (incluído en grupos de 20-64 años). Digite cero si no tiene.",IF(R111>O111," * La variable 60 años (incluído en grupos de 20-64 años) no puede ser mayor al rango etario 20-64 años.","")) | CD111: =IF(AND(B111>0,S111="")," * No olvide digitar Usuarios en situación de discapacidad. Digite cero si no tiene.",IF(S111>B111," * La variable Usuarios en situación de discapacidad no puede ser mayor al Total.","")) | CE111: =IF(AND(B111>0,T111="")," * No olvide digitar la variable Serv. Nac. Reinserción Social Juvenil. Digite cero si no tiene.",IF(T111>B111," * La variable Serv. Nac. Reinserción Social Juvenil no puede ser mayor al Total.","")) | CF111: =IF(AND(B111>0,U111="")," * No olvide digitar la variable Serv. Nac. Protección Especializada a la Niñez y Adolescencia. Digite cero si no tiene.",IF(U111>B111," * La variable Serv. Nac. Protección Especializada a la Niñez y Adolescencia no puede ser mayor al Total.","")) | CG111: =IF(AND(B111>0,V111="")," * No olvide digitar Pueblos originarios. Digite cero si no tiene.",IF(V111>B111," * La variable Pueblos originarios no puede ser mayor al Total.","")) | CH111: =IF(AND(B111>0,W111="")," * No olvide digitar Migrantes. Digite cero si no tiene.",IF(W111>B111," * La variable Migrantes no puede ser mayor al Total.","")) | CK111: =IF(AND(D111>0,Q111=""),1,IF(Q111>D111,1,0)) -> 0 | CL111: =IF(AND(O111>0,R111=""),1,IF(R111>O111,1,0)) -> 0 | CM111: =IF(AND(B111>0,S111=""),1,IF(S111>B111,1,0)) -> 0 | CN111: =IF(AND(B111>0,T111=""),1,IF(T111>B111,1,0)) -> 0 | CO111: =IF(AND(B111>0,U111=""),1,IF(U111>B111,1,0)) -> 0 | CP111: =IF(AND(B111>0,V111=""),1,IF(V111>B111,1,0)) -> 0 | CQ111: =IF(AND(B111>0,W111=""),1,IF(W111>B111,1,0)) -> 0 | CR111: =IF((C111+D111)<>B111,1,0) -> 0
A112: TOTAL | B112: =SUM(B109:B111) -> 0 | C112: =SUM(C109:C111) -> 0 | D112: =SUM(D109:D111) -> 0 | E112: =SUM(E109:E111) -> 0 | F112: =SUM(F109:F111) -> 0 | G112: =SUM(G109:G111) -> 0 | H112: =SUM(H109:H111) -> 0 | I112: =SUM(I109:I111) -> 0 | ... W112: =SUM(W109:W111) -> 0
A113: SECCIÓN E2: ATENCIÓN ODONTOLÓGICA ESTABLECIMIENTOS HOSPITALARIOS DE BAJA, MEDIANA Y ALTA COMPLEJIDAD
A114: ACTIVIDADES | B114: TOTAL | E114: RANGO ETARIO | M114: No Contesta | N114: Embarazadas | O114: Beneficiarios | P114: Usuarios con Discapacidad | Q114: Niños, niñas, adolescentes y jóvenes SENAME | R114: Niños, niñas, adolescentes y jóvenes Mejor Niñez | S114: Pueblos Originarios | T114: Migrantes
B115: Total | C115: Hombres | D115: Mujeres | E115: 0-5 años | F115: 6 años | G115: 12 años | H115: Resto < 15 años | I115: 15-19 años | J115: 20-64 años (excluye 60 años) | K115: 60 años | L115: 65 y más años
A116: Consulta nueva de especialidad odontológica (Teleconsulta) | B116: =SUM(E116:L116) -> 0 | C116: =SUM(ENERO:DICIEMBRE!C116) -> 0 | D116: =SUM(ENERO:DICIEMBRE!D116) -> 0 | E116: =SUM(ENERO:DICIEMBRE!E116) -> 0 | F116: =SUM(ENERO:DICIEMBRE!F116) -> 0 | G116: =SUM(ENERO:DICIEMBRE!G116) -> 0 | H116: =SUM(ENERO:DICIEMBRE!H116) -> 0 | I116: =SUM(ENERO:DICIEMBRE!I116) -> 0 | J116: =SUM(ENERO:DICIEMBRE!J116) -> 0 | ... T116: =SUM(ENERO:DICIEMBRE!T116) -> 0 | U116: =CA116&CB116&CC116&CD116&CE116&CF116&CG116&CH116 | CA116: =IF((C116+D116)<>B116," * Las atenciones según Sexo (Hombres/Mujeres) deben ser igual al Total.","") | CB116: =IF(AND(D116>0,N116="")," * No olvide digitar la variable Embarazadas. Digite cero si no tiene.",IF(N116>D116," * La variable Embarazadas no puede ser mayor al Total.","")) | CC116: =IF(AND(B116>0,O116="")," * No olvide digitar la variable Beneficiarios.",IF(O116>B116," * La variable Beneficiarios no puede ser mayor al Total.","")) | CD116: =IF(AND(B116>0,P116="")," * No olvide digitar la variable Usuarios con Discapacidad. Digite cero si no tiene.",IF(P116>B116," * La variable Usuarios con Discapacidad no puede ser mayor al Total.","")) | CE116: =IF(AND(B116>0,Q116="")," * No olvide digitar Serv. Nac. Reinserción Social Juvenil. Digite cero si no tiene.",IF(Q116>B116," * La variable Serv. Nac. Reinserción Social Juvenil no puede ser mayor al Total.","")) | CF116: =IF(AND(B116>0,R116="")," * No olvide digitar la variable Serv. Nac. Protección Especializada a la Niñez y Adolescencia. Digite cero si no tiene.",IF(R116>B116," * La variable Serv. Nac. Protección Especializada a la Niñez y Adolescencia no puede ser mayor al Total.","")) | CG116: =IF(AND(B116>0,S116="")," * No olvide digitar la variable Pueblos Originarios. Digite cero si no tiene.",IF(S116>B116," * La variable Pueblos Originarios No puede ser mayor al Total.","")) | CH116: =IF(AND(B116>0,T116="")," * No olvide digitar la variable Migrantes. Digite cero si no tiene.",IF(T116>B116," * La variable Migrantes no puede ser mayor al Total.","")) | CK116: =IF((C116+D116)<>$B116,1,0) -> 0 | CL116: =IF(AND($D116>0,N116=""),1,IF(N116>$D116,1,0)) -> 0 | CM116: =IF(AND($B116>0,O116=""),1,IF(O116>$B116,1,0)) -> 0 | CN116: =IF(AND($B116>0,P116=""),1,IF(P116>$B116,1,0)) -> 0 | CO116: =IF(AND($B116>0,Q116=""),1,IF(Q116>$B116,1,0)) -> 0 | CP116: =IF(AND($B116>0,R116=""),1,IF(R116>$B116,1,0)) -> 0 | CQ116: =IF(AND($B116>0,S116=""),1,IF(S116>$B116,1,0)) -> 0 | CR116: =IF(AND($B116>0,T116=""),1,IF(T116>$B116,1,0)) -> 0
A117: Control de especialidad odontológica (Teleconsulta) | B117: =SUM(E117:L117) -> 0 | C117: =SUM(ENERO:DICIEMBRE!C117) -> 0 | D117: =SUM(ENERO:DICIEMBRE!D117) -> 0 | E117: =SUM(ENERO:DICIEMBRE!E117) -> 0 | F117: =SUM(ENERO:DICIEMBRE!F117) -> 0 | G117: =SUM(ENERO:DICIEMBRE!G117) -> 0 | H117: =SUM(ENERO:DICIEMBRE!H117) -> 0 | I117: =SUM(ENERO:DICIEMBRE!I117) -> 0 | J117: =SUM(ENERO:DICIEMBRE!J117) -> 0 | ... T117: =SUM(ENERO:DICIEMBRE!T117) -> 0 | U117: =CA117&CB117&CC117&CD117&CE117&CF117&CG117&CH117 | CA117: =IF((C117+D117)<>B117," * Las atenciones según Sexo (Hombres/Mujeres) deben ser igual al Total de atenciones","") | CB117: =IF(AND(D117>0,N117="")," * No olvide digitar Embarazadas. Digite cero si no tiene.",IF(N117>D117," * La variable Embarazadas no puede ser mayor al Total.","")) | CC117: =IF(AND(B117>0,O117="")," * No olvide digitar Beneficiarios.",IF(O117>B117," * Beneficiarios No puede ser mayor al Total.","")) | CD117: =IF(AND(B117>0,P117="")," * No olvide digitar Usuarios con discapacidad. Digite cero si no tiene.",IF(P117>B117," * Usuarios con discapacidad No puede ser mayor al Total.","")) | CE117: =IF(AND(B117>0,Q117="")," * No olvide digitar Niños, niñas, adolescentes y jóvenes SENAME. Digite cero si no tiene.",IF(Q117>B117," * Niños, niñas, adolescentes y jóvenes SENAME No puede ser mayor al Total.","")) | CF117: =IF(AND(B117>0,R117="")," * No olvide digitar Niños, niñas, adolescentes y jóvenes Mejor Niñez. Digite cero si no tiene.",IF(R117>B117," * Niños, niñas, adolescentes y jóvenes Mejor niñez No puede ser mayor al Total.","")) | CG117: =IF(AND(B117>0,S117="")," * No olvide digitar Pueblos originarios. Digite cero si no tiene.",IF(S117>B117," * Pueblos originarios No puede ser mayor al Total.","")) | CH117: =IF(AND(B117>0,T117="")," * No olvide digitar Migrantes. Digite cero si no tiene.",IF(T117>B117," * Migrantes No puede ser mayor al Total.","")) | CK117: =IF((C117+D117)<>$B117,1,0) -> 0 | CL117: =IF(AND($D117>0,N117=""),1,IF(N117>$D117,1,0)) -> 0 | CM117: =IF(AND($B117>0,O117=""),1,IF(O117>$B117,1,0)) -> 0 | CN117: =IF(AND($B117>0,P117=""),1,IF(P117>$B117,1,0)) -> 0 | CO117: =IF(AND($B117>0,Q117=""),1,IF(Q117>$B117,1,0)) -> 0 | CP117: =IF(AND($B117>0,R117=""),1,IF(R117>$B117,1,0)) -> 0 | CQ117: =IF(AND($B117>0,S117=""),1,IF(S117>$B117,1,0)) -> 0 | CR117: =IF(AND($B117>0,T117=""),1,IF(T117>$B117,1,0)) -> 0
A118: TOTAL | B118: =SUM(B116:B117) -> 0 | C118: =SUM(C116:C117) -> 0 | D118: =SUM(D116:D117) -> 0 | E118: =SUM(E116:E117) -> 0 | F118: =SUM(F116:F117) -> 0 | G118: =SUM(G116:G117) -> 0 | H118: =SUM(H116:H117) -> 0 | I118: =SUM(I116:I117) -> 0 | ... T118: =SUM(T116:T117) -> 0
A119: SECCION F: ACCIONES DE SALUD MENTAL REMOTAS
A120: SECCIÓN F1: ACCIONES REMOTAS DE SALUD MENTAL (APS Y ESPECIALIDAD)
A121: VIDEOLLAMADAS | B121: TOTAL ACCIONES | C121: RANGO ETARIO | T121: SEXO | V121: Niños, niñas, adolescentes y jóvenes SENAME | W121: Niños, niñas, adolescentes y jóvenes Mejor Niñez | X121: Pueblos Originarios | Y121: Migrantes | Z121: Demencia | AA121: Espacios Amigables/ Adolescentes
C122: 0 - 4 años | D122: 5 - 9 años | E122: 10 - 14 años | F122: 15 - 19 años | G122: 20 - 24 años | H122: 25 - 29 años | I122: 30 - 34 años | J122: 35 - 39 años | K122: 40 - 44 años | L122: 45 - 49 años | M122: 50 - 54 años | N122: 55 - 59 años | O122: 60 - 64 años | P122: 65 - 69 años | Q122: 70 - 74 años | R122: 75 - 79 años | S122: 80 y más años | T122: Hombres | U122: Mujeres
A123: Llamadas Telefónicas | B123: =SUM(C123:S123) -> 357 | C123: =SUM(ENERO:DICIEMBRE!C123) -> 5 | D123: =SUM(ENERO:DICIEMBRE!D123) -> 28 | E123: =SUM(ENERO:DICIEMBRE!E123) -> 124 | F123: =SUM(ENERO:DICIEMBRE!F123) -> 188 | G123: =SUM(ENERO:DICIEMBRE!G123) -> 2 | H123: =SUM(ENERO:DICIEMBRE!H123) -> 1 | I123: =SUM(ENERO:DICIEMBRE!I123) -> 1 | J123: =SUM(ENERO:DICIEMBRE!J123) -> 2 | ... AA123: =SUM(ENERO:DICIEMBRE!AA123) -> 0 | AB123: =BY123&BZ123&CA123&CB123&CC123&CD123&CE123 | BY123: =IF((T123+U123)<>B123," * Las acciones según Sexo (Hombres/Mujeres) deben ser igual al Total de acciones","") | BZ123: =IF(AND(B123>0,V123="")," * No olvide digitar la variable Serv. Nac. Reinserción Social Juvenil. Digite cero si no tiene.",IF(V123>B123," * La variable Serv. Nac. Reinserción Social Juvenil no puede ser mayor que el Total.","")) | CA123: =IF(AND($B123>0,W123="")," * No olvide digitar la variable Serv. Nac. Protección Especializada a la Niñez y Adolescencia. Digite cero si no tiene.",IF(W123>$B123," * La variables Serv. Nac. Protección Especializada a la Niñez y Adolescencia no puede ser mayor que el Total.","")) | CB123: =IF(AND($B123>0,X123="")," * No olvide digitar la variable Pueblos Originarios. Digite cero si no tiene.",IF(X123>$B123," * La variable Pueblos originarios no puede ser mayor que el Total.","")) | CC123: =IF(AND($B123>0,Y123="")," * No olvide digitar la variable Migrantes. Digite cero si no tiene.",IF(Y123>$B123," * La variableMigrantes no puede ser mayor que el Total.","")) | CD123: =IF(AND($B123>0,Z123="")," * No olvide digitar la variable el campo Demencia. Digite cero si no tiene.",IF(Z123>$B123," * La variable Demencia No puede ser mayor que el Total.","")) | CE123: =IF(AND($B123>0,AA123="")," * No olvide digitar la variable Espacios Amigables/Adolescentes. Digite cero si no tiene.",IF(AA123>$B123," * La variable Espacios Amigables/Adolescente No puede ser mayor que el Total.","")) | CI123: =IF((T123+U123)<>B123,1,0) -> 0 | CJ123: =IF(AND(B123>0,V123=""),1,IF(V123>B123,1,0)) -> 0 | CK123: =IF(AND(B123>0,W123=""),1,IF(W123>B123,1,0)) -> 0 | CL123: =IF(AND(B123>0,X123=""),1,IF(X123>B123,1,0)) -> 0 | CM123: =IF(AND(B123>0,Y123=""),1,IF(Y123>B123,1,0)) -> 0 | CN123: =IF(AND(B123>0,Z123=""),1,IF(Z123>B123,1,0)) -> 0 | CO123: =IF(AND(B123>0,AA123=""),1,IF(AA123>B123,1,0)) -> 0
A124: Videollamadas | B124: =SUM(C124:S124) -> 0 | C124: =SUM(ENERO:DICIEMBRE!C124) -> 0 | D124: =SUM(ENERO:DICIEMBRE!D124) -> 0 | E124: =SUM(ENERO:DICIEMBRE!E124) -> 0 | F124: =SUM(ENERO:DICIEMBRE!F124) -> 0 | G124: =SUM(ENERO:DICIEMBRE!G124) -> 0 | H124: =SUM(ENERO:DICIEMBRE!H124) -> 0 | I124: =SUM(ENERO:DICIEMBRE!I124) -> 0 | J124: =SUM(ENERO:DICIEMBRE!J124) -> 0 | ... AA124: =SUM(ENERO:DICIEMBRE!AA124) -> 0 | AB124: =CA124&CB124&CC124&CD124&CE124&CF124&CG124 | CA124: =IF((T124+U124)<>B124," * Las acciones según Sexo (Hombres/Mujeres) deben ser igual al Total de acciones","") | CB124: =IF(AND(B124>0,V124="")," * No olvide digitar la variable Serv. Nac. Reinserción Social Juvenil. Digite cero si no tiene.",IF(V124>B124," * La variable Serv. Nac. Reinserción Social Juvenil no puede ser mayor que el Total.","")) | CC124: =IF(AND($B124>0,W124="")," * No olvide digitar la variable Serv. Nac. Protección Especializada a la Niñez y Adolescencia. Digite cero si no tiene.",IF(W124>$B124," * La variables Serv. Nac. Protección Especializada a la Niñez y Adolescencia no puede ser mayor que el Total.","")) | CD124: =IF(AND($B124>0,X124="")," * No olvide digitar la variable Pueblos Originarios. Digite cero si no tiene.",IF(X124>$B124," * La variable Pueblos originarios no puede ser mayor que el Total.","")) | CE124: =IF(AND($B124>0,Y124="")," * No olvide digitar la variable Migrantes. Digite cero si no tiene.",IF(Y124>$B124," * La variableMigrantes no puede ser mayor que el Total.","")) | CF124: =IF(AND($B124>0,Z124="")," * No olvide digitar la variable el campo Demencia. Digite cero si no tiene.",IF(Z124>$B124," * La variable Demencia No puede ser mayor que el Total.","")) | CG124: =IF(AND($B124>0,AA124="")," * No olvide digitar la variable Espacios Amigables/Adolescentes. Digite cero si no tiene.",IF(AA124>$B124," * La variable Espacios Amigables/Adolescente No puede ser mayor que el Total.","")) | CK124: =IF((T124+U124)<>B124,1,0) -> 0 | CL124: =IF(AND(B124>0,V124=""),1,IF(V124>B124,1,0)) -> 0 | CM124: =IF(AND(B124>0,W124=""),1,IF(W124>B124,1,0)) -> 0 | CN124: =IF(AND(B124>0,X124=""),1,IF(X124>B124,1,0)) -> 0 | CO124: =IF(AND(B124>0,Y124=""),1,IF(Y124>B124,1,0)) -> 0 | CP124: =IF(AND(B124>0,Z124=""),1,IF(Z124>B124,1,0)) -> 0 | CQ124: =IF(AND(B124>0,AA124=""),1,IF(AA124>B124,1,0)) -> 0
A125: Mensajería de Texto | B125: =SUM(C125:S125) -> 0 | C125: =SUM(ENERO:DICIEMBRE!C125) -> 0 | D125: =SUM(ENERO:DICIEMBRE!D125) -> 0 | E125: =SUM(ENERO:DICIEMBRE!E125) -> 0 | F125: =SUM(ENERO:DICIEMBRE!F125) -> 0 | G125: =SUM(ENERO:DICIEMBRE!G125) -> 0 | H125: =SUM(ENERO:DICIEMBRE!H125) -> 0 | I125: =SUM(ENERO:DICIEMBRE!I125) -> 0 | J125: =SUM(ENERO:DICIEMBRE!J125) -> 0 | ... AA125: =SUM(ENERO:DICIEMBRE!AA125) -> 0 | AB125: =CA125&CB125&CC125&CD125&CE125&CF125&CG125 | CA125: =IF((T125+U125)<>B125," * Las acciones según Sexo (Hombres/Mujeres) deben ser igual al Total de acciones","") | CB125: =IF(AND(B125>0,V125="")," * No olvide digitar la variable Serv. Nac. Reinserción Social Juvenil. Digite cero si no tiene.",IF(V125>B125," * La variable Serv. Nac. Reinserción Social Juvenil no puede ser mayor que el Total.","")) | CC125: =IF(AND($B125>0,W125="")," * No olvide digitar la variable Serv. Nac. Protección Especializada a la Niñez y Adolescencia. Digite cero si no tiene.",IF(W125>$B125," * La variables Serv. Nac. Protección Especializada a la Niñez y Adolescencia no puede ser mayor que el Total.","")) | CD125: =IF(AND($B125>0,X125="")," * No olvide digitar la variable Pueblos Originarios. Digite cero si no tiene.",IF(X125>$B125," * La variable Pueblos originarios no puede ser mayor que el Total.","")) | CE125: =IF(AND($B125>0,Y125="")," * No olvide digitar la variable Migrantes. Digite cero si no tiene.",IF(Y125>$B125," * La variableMigrantes no puede ser mayor que el Total.","")) | CF125: =IF(AND($B125>0,Z125="")," * No olvide digitar la variable el campo Demencia. Digite cero si no tiene.",IF(Z125>$B125," * La variable Demencia No puede ser mayor que el Total.","")) | CG125: =IF(AND($B125>0,AA125="")," * No olvide digitar la variable Espacios Amigables/Adolescentes. Digite cero si no tiene.",IF(AA125>$B125," * La variable Espacios Amigables/Adolescente No puede ser mayor que el Total.","")) | CK125: =IF((T125+U125)<>B125,1,0) -> 0 | CL125: =IF(AND(B125>0,V125=""),1,IF(V125>B125,1,0)) -> 0 | CM125: =IF(AND(B125>0,W125=""),1,IF(W125>B125,1,0)) -> 0 | CN125: =IF(AND(B125>0,X125=""),1,IF(X125>B125,1,0)) -> 0 | CO125: =IF(AND(B125>0,Y125=""),1,IF(Y125>B125,1,0)) -> 0 | CP125: =IF(AND(B125>0,Z125=""),1,IF(Z125>B125,1,0)) -> 0 | CQ125: =IF(AND(B125>0,AA125=""),1,IF(AA125>B125,1,0)) -> 0
A126: SECCIÓN F2: CONTROLES DE SALUD MENTAL REMOTOS (APS Y ESPECIALIDAD)
A127: ACTIVIDADES | B127: PROFESIONAL | C127: TOTAL | F127: RANGO ETARIO Y SEXO | AN127: Niños, niñas, adolescentes y jóvenes SENAME | AO127: Niños, niñas, adolescentes y jóvenes Mejor Niñez | AP127: Pueblos Originarios | AQ127: Migrantes | AR127: Demencia | AS127: Espacios Amigables/ Adolescentes
F128: 0 - 4 años | H128: 5 - 9 años | J128: 10 - 14 años | L128: 15 - 19 años | N128: 20 - 24 años | P128: 25 - 29 años | R128: 30 - 34 años | T128: 35 - 39 años | V128: 40 - 44 años | X128: 45 - 49 años | Z128: 50 - 54 años | AB128: 55 - 59 años | AD128: 60 - 64 años | AF128: 65 - 69 años | AH128: 70 - 74 años | AJ128: 75 - 79 años | AL128: 80 y más años
C129: Ambos Sexos | D129: Hombres | E129: Mujeres | F129: Hombres | G129: Mujeres | H129: Hombres | I129: Mujeres | J129: Hombres | K129: Mujeres | L129: Hombres | M129: Mujeres | N129: Hombres | O129: Mujeres | P129: Hombres | Q129: Mujeres | R129: Hombres | S129: Mujeres | T129: Hombres | U129: Mujeres | V129: Hombres | W129: Mujeres | X129: Hombres | Y129: Mujeres | Z129: Hombres | AA129: Mujeres | AB129: Hombres | AC129: Mujeres | AD129: Hombres | AE129: Mujeres | AF129: Hombres | AG129: Mujeres | AH129: Hombres | AI129: Mujeres | AJ129: Hombres | AK129: Mujeres | AL129: Hombres | AM129: Mujeres
A130: Controles de salud mental por llamadas telefónicas | B130: Médico/a | C130: =SUM(D130:E130) -> 0 | D130: =SUM(F130+H130+J130+L130+N130+P130+R130+T130+V130+X130+Z130+AB130+AD130+AF130+AH130+AJ130+AL130) -> 0 | E130: =SUM(G130+I130+K130+M130+O130+Q130+S130+U130+W130+Y130+AA130+AC130+AE130+AG130+AI130+AK130+AM130) -> 0 | F130: =SUM(ENERO:DICIEMBRE!F130) -> 0 | G130: =SUM(ENERO:DICIEMBRE!G130) -> 0 | H130: =SUM(ENERO:DICIEMBRE!H130) -> 0 | I130: =SUM(ENERO:DICIEMBRE!I130) -> 0 | J130: =SUM(ENERO:DICIEMBRE!J130) -> 0 | K130: =SUM(ENERO:DICIEMBRE!K130) -> 0 | L130: =SUM(ENERO:DICIEMBRE!L130) -> 0 | M130: =SUM(ENERO:DICIEMBRE!M130) -> 0 | ... AS130: =SUM(ENERO:DICIEMBRE!AS130) -> 0 | AU130: =CB130&CC130&CD130&CE130&CF130 | CB130: =IF(AND($C130>0,AN130="")," * No olvide digitar la variable Serv. Nac. Reinserción Social Juvenil. Digite Cero si no tiene",IF(AN130>$C130," * La variable Serv. Nac. Reinserción Social Juvenil no puede ser mayor al Total.","")) | CC130: =IF(AND($C130>0,AP130="")," * No olvide digitar la variable Pueblos originarios. Digite cero si no tiene",IF(AP130>$C130," * La variable Pueblos Originarios no puede ser mayor al Total.","")) | CD130: =IF(AND($C130>0,AQ130="")," * No olvide digitar la variable Migrantes. Digite cero si no tiene.",IF(AQ130>$C130," * La variable Migrantes no puede ser mayor al Total.","")) | CE130: =IF(AND($C130>0,AR130="")," * No olvide digitar la variable Demencia. Digite cero si no tiene.",IF(AR130>$C130," * La variable Demencia no puede ser mayor al Total.","")) | CF130: =IF(AND($C130>0,AS130="")," * No olvide digitar la variable Espacios Amigables/Adolescentes. Digite cero si no tiene.",IF(AS130>$C130," * La variable Espacios Amigables/adolescentes no puede ser mayor al Total.","")) | CG130: =IF(AND($C130>0,AO130="")," * No olvide digitar la variable Serv. Nac. Reinserción Social Juvenil. Digite cero si no tiene.",IF(AO130>$C130," * La variable Serv. Nac. Reinserción Social Juvenil no puede ser mayor al Total.","")) | CL130: =IF(AND(C130>0,AN130=""),1,IF(AN130>C130,1,0)) -> 0 | CM130: =IF(AND(C130>0,AP130=""),1,IF(AP130>C130,1,0)) -> 0 | CN130: =IF(AND(C130>0,AQ130=""),1,IF(AQ130>C130,1,0)) -> 0 | CO130: =IF(AND(C130>0,AR130=""),1,IF(AR130>C130,1,0)) -> 0 | CP130: =IF(AND(C130>0,AS130=""),1,IF(AS130>C130,1,0)) -> 0 | CQ130: =IF(AND(C130>0,AO130=""),1,IF(AO130>C130,1,0)) -> 0
B131: Psicólogo/a | C131: =SUM(D131:E131) -> 5 | D131: =SUM(F131+H131+J131+L131+N131+P131+R131+T131+V131+X131+Z131+AB131+AD131+AF131+AH131+AJ131+AL131) -> 1 | E131: =SUM(G131+I131+K131+M131+O131+Q131+S131+U131+W131+Y131+AA131+AC131+AE131+AG131+AI131+AK131+AM131) -> 4 | F131: =SUM(ENERO:DICIEMBRE!F131) -> 0 | G131: =SUM(ENERO:DICIEMBRE!G131) -> 0 | H131: =SUM(ENERO:DICIEMBRE!H131) -> 0 | I131: =SUM(ENERO:DICIEMBRE!I131) -> 0 | J131: =SUM(ENERO:DICIEMBRE!J131) -> 0 | K131: =SUM(ENERO:DICIEMBRE!K131) -> 0 | L131: =SUM(ENERO:DICIEMBRE!L131) -> 0 | M131: =SUM(ENERO:DICIEMBRE!M131) -> 0 | ... AS131: =SUM(ENERO:DICIEMBRE!AS131) -> 0 | AU131: =CB131&CC131&CD131&CE131&CF131 | CB131: =IF(AND($C131>0,AN131="")," * No olvide digitar la variable Serv. Nac. Reinserción Social Juvenil. Digite Cero si no tiene",IF(AN131>$C131," * La variable Serv. Nac. Reinserción Social Juvenil no puede ser mayor al Total.","")) | CC131: =IF(AND($C131>0,AP131="")," * No olvide digitar la variable Pueblos originarios. Digite cero si no tiene",IF(AP131>$C131," * La variable Pueblos Originarios no puede ser mayor al Total.","")) | CD131: =IF(AND($C131>0,AQ131="")," * No olvide digitar la variable Migrantes. Digite cero si no tiene.",IF(AQ131>$C131," * La variable Migrantes no puede ser mayor al Total.","")) | CE131: =IF(AND($C131>0,AR131="")," * No olvide digitar la variable Demencia. Digite cero si no tiene.",IF(AR131>$C131," * La variable Demencia no puede ser mayor al Total.","")) | CF131: =IF(AND($C131>0,AS131="")," * No olvide digitar la variable Espacios Amigables/Adolescentes. Digite cero si no tiene.",IF(AS131>$C131," * La variable Espacios Amigables/adolescentes no puede ser mayor al Total.","")) | CG131: =IF(AND($C131>0,AO131="")," * No olvide digitar la variable Serv. Nac. Reinserción Social Juvenil. Digite cero si no tiene.",IF(AO131>$C131," * La variable Serv. Nac. Reinserción Social Juvenil no puede ser mayor al Total.","")) | CL131: =IF(AND(C131>0,AN131=""),1,IF(AN131>C131,1,0)) -> 0 | CM131: =IF(AND(C131>0,AP131=""),1,IF(AP131>C131,1,0)) -> 0 | CN131: =IF(AND(C131>0,AQ131=""),1,IF(AQ131>C131,1,0)) -> 0 | CO131: =IF(AND(C131>0,AR131=""),1,IF(AR131>C131,1,0)) -> 0 | CP131: =IF(AND(C131>0,AS131=""),1,IF(AS131>C131,1,0)) -> 0 | CQ131: =IF(AND(C131>0,AO131=""),1,IF(AO131>C131,1,0)) -> 0
B132: Enfermera/o | C132: =SUM(D132:E132) -> 0 | D132: =SUM(F132+H132+J132+L132+N132+P132+R132+T132+V132+X132+Z132+AB132+AD132+AF132+AH132+AJ132+AL132) -> 0 | E132: =SUM(G132+I132+K132+M132+O132+Q132+S132+U132+W132+Y132+AA132+AC132+AE132+AG132+AI132+AK132+AM132) -> 0 | F132: =SUM(ENERO:DICIEMBRE!F132) -> 0 | G132: =SUM(ENERO:DICIEMBRE!G132) -> 0 | H132: =SUM(ENERO:DICIEMBRE!H132) -> 0 | I132: =SUM(ENERO:DICIEMBRE!I132) -> 0 | J132: =SUM(ENERO:DICIEMBRE!J132) -> 0 | K132: =SUM(ENERO:DICIEMBRE!K132) -> 0 | L132: =SUM(ENERO:DICIEMBRE!L132) -> 0 | M132: =SUM(ENERO:DICIEMBRE!M132) -> 0 | ... AS132: =SUM(ENERO:DICIEMBRE!AS132) -> 0 | AU132: =CB132&CC132&CD132&CE132&CF132 | CB132: =IF(AND($C132>0,AN132="")," * No olvide digitar la variable Serv. Nac. Reinserción Social Juvenil. Digite Cero si no tiene",IF(AN132>$C132," * La variable Serv. Nac. Reinserción Social Juvenil no puede ser mayor al Total.","")) | CC132: =IF(AND($C132>0,AP132="")," * No olvide digitar la variable Pueblos originarios. Digite cero si no tiene",IF(AP132>$C132," * La variable Pueblos Originarios no puede ser mayor al Total.","")) | CD132: =IF(AND($C132>0,AQ132="")," * No olvide digitar la variable Migrantes. Digite cero si no tiene.",IF(AQ132>$C132," * La variable Migrantes no puede ser mayor al Total.","")) | CE132: =IF(AND($C132>0,AR132="")," * No olvide digitar la variable Demencia. Digite cero si no tiene.",IF(AR132>$C132," * La variable Demencia no puede ser mayor al Total.","")) | CF132: =IF(AND($C132>0,AS132="")," * No olvide digitar la variable Espacios Amigables/Adolescentes. Digite cero si no tiene.",IF(AS132>$C132," * La variable Espacios Amigables/adolescentes no puede ser mayor al Total.","")) | CG132: =IF(AND($C132>0,AO132="")," * No olvide digitar la variable Serv. Nac. Reinserción Social Juvenil. Digite cero si no tiene.",IF(AO132>$C132," * La variable Serv. Nac. Reinserción Social Juvenil no puede ser mayor al Total.","")) | CL132: =IF(AND(C132>0,AN132=""),1,IF(AN132>C132,1,0)) -> 0 | CM132: =IF(AND(C132>0,AP132=""),1,IF(AP132>C132,1,0)) -> 0 | CN132: =IF(AND(C132>0,AQ132=""),1,IF(AQ132>C132,1,0)) -> 0 | CO132: =IF(AND(C132>0,AR132=""),1,IF(AR132>C132,1,0)) -> 0 | CP132: =IF(AND(C132>0,AS132=""),1,IF(AS132>C132,1,0)) -> 0 | CQ132: =IF(AND(C132>0,AO132=""),1,IF(AO132>C132,1,0)) -> 0
B133: Matrona/on | C133: =SUM(D133:E133) -> 0 | D133: =SUM(F133+H133+J133+L133+N133+P133+R133+T133+V133+X133+Z133+AB133+AD133+AF133+AH133+AJ133+AL133) -> 0 | E133: =SUM(G133+I133+K133+M133+O133+Q133+S133+U133+W133+Y133+AA133+AC133+AE133+AG133+AI133+AK133+AM133) -> 0 | F133: =SUM(ENERO:DICIEMBRE!F133) -> 0 | G133: =SUM(ENERO:DICIEMBRE!G133) -> 0 | H133: =SUM(ENERO:DICIEMBRE!H133) -> 0 | I133: =SUM(ENERO:DICIEMBRE!I133) -> 0 | J133: =SUM(ENERO:DICIEMBRE!J133) -> 0 | K133: =SUM(ENERO:DICIEMBRE!K133) -> 0 | L133: =SUM(ENERO:DICIEMBRE!L133) -> 0 | M133: =SUM(ENERO:DICIEMBRE!M133) -> 0 | ... AS133: =SUM(ENERO:DICIEMBRE!AS133) -> 0 | AU133: =CB133&CC133&CD133&CE133&CF133 | CB133: =IF(AND($C133>0,AN133="")," * No olvide digitar la variable Serv. Nac. Reinserción Social Juvenil. Digite Cero si no tiene",IF(AN133>$C133," * La variable Serv. Nac. Reinserción Social Juvenil no puede ser mayor al Total.","")) | CC133: =IF(AND($C133>0,AP133="")," * No olvide digitar la variable Pueblos originarios. Digite cero si no tiene",IF(AP133>$C133," * La variable Pueblos Originarios no puede ser mayor al Total.","")) | CD133: =IF(AND($C133>0,AQ133="")," * No olvide digitar la variable Migrantes. Digite cero si no tiene.",IF(AQ133>$C133," * La variable Migrantes no puede ser mayor al Total.","")) | CE133: =IF(AND($C133>0,AR133="")," * No olvide digitar la variable Demencia. Digite cero si no tiene.",IF(AR133>$C133," * La variable Demencia no puede ser mayor al Total.","")) | CF133: =IF(AND($C133>0,AS133="")," * No olvide digitar la variable Espacios Amigables/Adolescentes. Digite cero si no tiene.",IF(AS133>$C133," * La variable Espacios Amigables/adolescentes no puede ser mayor al Total.","")) | CG133: =IF(AND($C133>0,AO133="")," * No olvide digitar la variable Serv. Nac. Reinserción Social Juvenil. Digite cero si no tiene.",IF(AO133>$C133," * La variable Serv. Nac. Reinserción Social Juvenil no puede ser mayor al Total.","")) | CL133: =IF(AND(C133>0,AN133=""),1,IF(AN133>C133,1,0)) -> 0 | CM133: =IF(AND(C133>0,AP133=""),1,IF(AP133>C133,1,0)) -> 0 | CN133: =IF(AND(C133>0,AQ133=""),1,IF(AQ133>C133,1,0)) -> 0 | CO133: =IF(AND(C133>0,AR133=""),1,IF(AR133>C133,1,0)) -> 0 | CP133: =IF(AND(C133>0,AS133=""),1,IF(AS133>C133,1,0)) -> 0 | CQ133: =IF(AND(C133>0,AO133=""),1,IF(AO133>C133,1,0)) -> 0
B134: Trabajador/a Social | C134: =SUM(D134:E134) -> 79 | D134: =SUM(F134+H134+J134+L134+N134+P134+R134+T134+V134+X134+Z134+AB134+AD134+AF134+AH134+AJ134+AL134) -> 35 | E134: =SUM(G134+I134+K134+M134+O134+Q134+S134+U134+W134+Y134+AA134+AC134+AE134+AG134+AI134+AK134+AM134) -> 44 | F134: =SUM(ENERO:DICIEMBRE!F134) -> 0 | G134: =SUM(ENERO:DICIEMBRE!G134) -> 0 | H134: =SUM(ENERO:DICIEMBRE!H134) -> 2 | I134: =SUM(ENERO:DICIEMBRE!I134) -> 1 | J134: =SUM(ENERO:DICIEMBRE!J134) -> 12 | K134: =SUM(ENERO:DICIEMBRE!K134) -> 6 | L134: =SUM(ENERO:DICIEMBRE!L134) -> 8 | M134: =SUM(ENERO:DICIEMBRE!M134) -> 9 | ... AS134: =SUM(ENERO:DICIEMBRE!AS134) -> 0 | AU134: =CB134&CC134&CD134&CE134&CF134 | CB134: =IF(AND($C134>0,AN134="")," * No olvide digitar la variable Serv. Nac. Reinserción Social Juvenil. Digite Cero si no tiene",IF(AN134>$C134," * La variable Serv. Nac. Reinserción Social Juvenil no puede ser mayor al Total.","")) | CC134: =IF(AND($C134>0,AP134="")," * No olvide digitar la variable Pueblos originarios. Digite cero si no tiene",IF(AP134>$C134," * La variable Pueblos Originarios no puede ser mayor al Total.","")) | CD134: =IF(AND($C134>0,AQ134="")," * No olvide digitar la variable Migrantes. Digite cero si no tiene.",IF(AQ134>$C134," * La variable Migrantes no puede ser mayor al Total.","")) | CE134: =IF(AND($C134>0,AR134="")," * No olvide digitar la variable Demencia. Digite cero si no tiene.",IF(AR134>$C134," * La variable Demencia no puede ser mayor al Total.","")) | CF134: =IF(AND($C134>0,AS134="")," * No olvide digitar la variable Espacios Amigables/Adolescentes. Digite cero si no tiene.",IF(AS134>$C134," * La variable Espacios Amigables/adolescentes no puede ser mayor al Total.","")) | CG134: =IF(AND($C134>0,AO134="")," * No olvide digitar la variable Serv. Nac. Reinserción Social Juvenil. Digite cero si no tiene.",IF(AO134>$C134," * La variable Serv. Nac. Reinserción Social Juvenil no puede ser mayor al Total.","")) | CL134: =IF(AND(C134>0,AN134=""),1,IF(AN134>C134,1,0)) -> 0 | CM134: =IF(AND(C134>0,AP134=""),1,IF(AP134>C134,1,0)) -> 0 | CN134: =IF(AND(C134>0,AQ134=""),1,IF(AQ134>C134,1,0)) -> 0 | CO134: =IF(AND(C134>0,AR134=""),1,IF(AR134>C134,1,0)) -> 0 | CP134: =IF(AND(C134>0,AS134=""),1,IF(AS134>C134,1,0)) -> 0 | CQ134: =IF(AND(C134>0,AO134=""),1,IF(AO134>C134,1,0)) -> 0
B135: Otros Profesionales | C135: =SUM(D135:E135) -> 0 | D135: =SUM(F135+H135+J135+L135+N135+P135+R135+T135+V135+X135+Z135+AB135+AD135+AF135+AH135+AJ135+AL135) -> 0 | E135: =SUM(G135+I135+K135+M135+O135+Q135+S135+U135+W135+Y135+AA135+AC135+AE135+AG135+AI135+AK135+AM135) -> 0 | F135: =SUM(ENERO:DICIEMBRE!F135) -> 0 | G135: =SUM(ENERO:DICIEMBRE!G135) -> 0 | H135: =SUM(ENERO:DICIEMBRE!H135) -> 0 | I135: =SUM(ENERO:DICIEMBRE!I135) -> 0 | J135: =SUM(ENERO:DICIEMBRE!J135) -> 0 | K135: =SUM(ENERO:DICIEMBRE!K135) -> 0 | L135: =SUM(ENERO:DICIEMBRE!L135) -> 0 | M135: =SUM(ENERO:DICIEMBRE!M135) -> 0 | ... AS135: =SUM(ENERO:DICIEMBRE!AS135) -> 0 | AU135: =CB135&CC135&CD135&CE135&CF135 | CB135: =IF(AND($C135>0,AN135="")," * No olvide digitar la variable Serv. Nac. Reinserción Social Juvenil. Digite Cero si no tiene",IF(AN135>$C135," * La variable Serv. Nac. Reinserción Social Juvenil no puede ser mayor al Total.","")) | CC135: =IF(AND($C135>0,AP135="")," * No olvide digitar la variable Pueblos originarios. Digite cero si no tiene",IF(AP135>$C135," * La variable Pueblos Originarios no puede ser mayor al Total.","")) | CD135: =IF(AND($C135>0,AQ135="")," * No olvide digitar la variable Migrantes. Digite cero si no tiene.",IF(AQ135>$C135," * La variable Migrantes no puede ser mayor al Total.","")) | CE135: =IF(AND($C135>0,AR135="")," * No olvide digitar la variable Demencia. Digite cero si no tiene.",IF(AR135>$C135," * La variable Demencia no puede ser mayor al Total.","")) | CF135: =IF(AND($C135>0,AS135="")," * No olvide digitar la variable Espacios Amigables/Adolescentes. Digite cero si no tiene.",IF(AS135>$C135," * La variable Espacios Amigables/adolescentes no puede ser mayor al Total.","")) | CG135: =IF(AND($C135>0,AO135="")," * No olvide digitar la variable Serv. Nac. Reinserción Social Juvenil. Digite cero si no tiene.",IF(AO135>$C135," * La variable Serv. Nac. Reinserción Social Juvenil no puede ser mayor al Total.","")) | CL135: =IF(AND(C135>0,AN135=""),1,IF(AN135>C135,1,0)) -> 0 | CM135: =IF(AND(C135>0,AP135=""),1,IF(AP135>C135,1,0)) -> 0 | CN135: =IF(AND(C135>0,AQ135=""),1,IF(AQ135>C135,1,0)) -> 0 | CO135: =IF(AND(C135>0,AR135=""),1,IF(AR135>C135,1,0)) -> 0 | CP135: =IF(AND(C135>0,AS135=""),1,IF(AS135>C135,1,0)) -> 0 | CQ135: =IF(AND(C135>0,AO135=""),1,IF(AO135>C135,1,0)) -> 0
B136: Terapeuta Ocupacional | C136: =SUM(D136:E136) -> 0 | D136: =SUM(F136+H136+J136+L136+N136+P136+R136+T136+V136+X136+Z136+AB136+AD136+AF136+AH136+AJ136+AL136) -> 0 | E136: =SUM(G136+I136+K136+M136+O136+Q136+S136+U136+W136+Y136+AA136+AC136+AE136+AG136+AI136+AK136+AM136) -> 0 | F136: =SUM(ENERO:DICIEMBRE!F136) -> 0 | G136: =SUM(ENERO:DICIEMBRE!G136) -> 0 | H136: =SUM(ENERO:DICIEMBRE!H136) -> 0 | I136: =SUM(ENERO:DICIEMBRE!I136) -> 0 | J136: =SUM(ENERO:DICIEMBRE!J136) -> 0 | K136: =SUM(ENERO:DICIEMBRE!K136) -> 0 | L136: =SUM(ENERO:DICIEMBRE!L136) -> 0 | M136: =SUM(ENERO:DICIEMBRE!M136) -> 0 | ... AS136: =SUM(ENERO:DICIEMBRE!AS136) -> 0 | AU136: =CB136&CC136&CD136&CE136&CF136 | CB136: =IF(AND($C136>0,AN136="")," * No olvide digitar la variable Serv. Nac. Reinserción Social Juvenil. Digite Cero si no tiene",IF(AN136>$C136," * La variable Serv. Nac. Reinserción Social Juvenil no puede ser mayor al Total.","")) | CC136: =IF(AND($C136>0,AP136="")," * No olvide digitar la variable Pueblos originarios. Digite cero si no tiene",IF(AP136>$C136," * La variable Pueblos Originarios no puede ser mayor al Total.","")) | CD136: =IF(AND($C136>0,AQ136="")," * No olvide digitar la variable Migrantes. Digite cero si no tiene.",IF(AQ136>$C136," * La variable Migrantes no puede ser mayor al Total.","")) | CE136: =IF(AND($C136>0,AR136="")," * No olvide digitar la variable Demencia. Digite cero si no tiene.",IF(AR136>$C136," * La variable Demencia no puede ser mayor al Total.","")) | CF136: =IF(AND($C136>0,AS136="")," * No olvide digitar la variable Espacios Amigables/Adolescentes. Digite cero si no tiene.",IF(AS136>$C136," * La variable Espacios Amigables/adolescentes no puede ser mayor al Total.","")) | CG136: =IF(AND($C136>0,AO136="")," * No olvide digitar la variable Serv. Nac. Reinserción Social Juvenil. Digite cero si no tiene.",IF(AO136>$C136," * La variable Serv. Nac. Reinserción Social Juvenil no puede ser mayor al Total.","")) | CL136: =IF(AND(C136>0,AN136=""),1,IF(AN136>C136,1,0)) -> 0 | CM136: =IF(AND(C136>0,AP136=""),1,IF(AP136>C136,1,0)) -> 0 | CN136: =IF(AND(C136>0,AQ136=""),1,IF(AQ136>C136,1,0)) -> 0 | CO136: =IF(AND(C136>0,AR136=""),1,IF(AR136>C136,1,0)) -> 0 | CP136: =IF(AND(C136>0,AS136=""),1,IF(AS136>C136,1,0)) -> 0 | CQ136: =IF(AND(C136>0,AO136=""),1,IF(AO136>C136,1,0)) -> 0
B137: Técnico en Enfermería y en Salud Mental | C137: =SUM(D137:E137) -> 0 | D137: =SUM(F137+H137+J137+L137+N137+P137+R137+T137+V137+X137+Z137+AB137+AD137+AF137+AH137+AJ137+AL137) -> 0 | E137: =SUM(G137+I137+K137+M137+O137+Q137+S137+U137+W137+Y137+AA137+AC137+AE137+AG137+AI137+AK137+AM137) -> 0 | F137: =SUM(ENERO:DICIEMBRE!F137) -> 0 | G137: =SUM(ENERO:DICIEMBRE!G137) -> 0 | H137: =SUM(ENERO:DICIEMBRE!H137) -> 0 | I137: =SUM(ENERO:DICIEMBRE!I137) -> 0 | J137: =SUM(ENERO:DICIEMBRE!J137) -> 0 | K137: =SUM(ENERO:DICIEMBRE!K137) -> 0 | L137: =SUM(ENERO:DICIEMBRE!L137) -> 0 | M137: =SUM(ENERO:DICIEMBRE!M137) -> 0 | ... AS137: =SUM(ENERO:DICIEMBRE!AS137) -> 0 | AU137: =CB137&CC137&CD137&CE137&CF137 | CB137: =IF(AND($C137>0,AN137="")," * No olvide digitar la variable Serv. Nac. Reinserción Social Juvenil. Digite Cero si no tiene",IF(AN137>$C137," * La variable Serv. Nac. Reinserción Social Juvenil no puede ser mayor al Total.","")) | CC137: =IF(AND($C137>0,AP137="")," * No olvide digitar la variable Pueblos originarios. Digite cero si no tiene",IF(AP137>$C137," * La variable Pueblos Originarios no puede ser mayor al Total.","")) | CD137: =IF(AND($C137>0,AQ137="")," * No olvide digitar la variable Migrantes. Digite cero si no tiene.",IF(AQ137>$C137," * La variable Migrantes no puede ser mayor al Total.","")) | CE137: =IF(AND($C137>0,AR137="")," * No olvide digitar la variable Demencia. Digite cero si no tiene.",IF(AR137>$C137," * La variable Demencia no puede ser mayor al Total.","")) | CF137: =IF(AND($C137>0,AS137="")," * No olvide digitar la variable Espacios Amigables/Adolescentes. Digite cero si no tiene.",IF(AS137>$C137," * La variable Espacios Amigables/adolescentes no puede ser mayor al Total.","")) | CG137: =IF(AND($C137>0,AO137="")," * No olvide digitar la variable Serv. Nac. Reinserción Social Juvenil. Digite cero si no tiene.",IF(AO137>$C137," * La variable Serv. Nac. Reinserción Social Juvenil no puede ser mayor al Total.","")) | CL137: =IF(AND(C137>0,AN137=""),1,IF(AN137>C137,1,0)) -> 0 | CM137: =IF(AND(C137>0,AP137=""),1,IF(AP137>C137,1,0)) -> 0 | CN137: =IF(AND(C137>0,AQ137=""),1,IF(AQ137>C137,1,0)) -> 0 | CO137: =IF(AND(C137>0,AR137=""),1,IF(AR137>C137,1,0)) -> 0 | CP137: =IF(AND(C137>0,AS137=""),1,IF(AS137>C137,1,0)) -> 0 | CQ137: =IF(AND(C137>0,AO137=""),1,IF(AO137>C137,1,0)) -> 0
B138: Gestor Comunitario | C138: =SUM(D138:E138) -> 0 | D138: =SUM(F138+H138+J138+L138+N138+P138+R138+T138+V138+X138+Z138+AB138+AD138+AF138+AH138+AJ138+AL138) -> 0 | E138: =SUM(G138+I138+K138+M138+O138+Q138+S138+U138+W138+Y138+AA138+AC138+AE138+AG138+AI138+AK138+AM138) -> 0 | F138: =SUM(ENERO:DICIEMBRE!F138) -> 0 | G138: =SUM(ENERO:DICIEMBRE!G138) -> 0 | H138: =SUM(ENERO:DICIEMBRE!H138) -> 0 | I138: =SUM(ENERO:DICIEMBRE!I138) -> 0 | J138: =SUM(ENERO:DICIEMBRE!J138) -> 0 | K138: =SUM(ENERO:DICIEMBRE!K138) -> 0 | L138: =SUM(ENERO:DICIEMBRE!L138) -> 0 | M138: =SUM(ENERO:DICIEMBRE!M138) -> 0 | ... AS138: =SUM(ENERO:DICIEMBRE!AS138) -> 0 | AU138: =CB138&CC138&CD138&CE138&CF138 | CB138: =IF(AND($C138>0,AN138="")," * No olvide digitar la variable Serv. Nac. Reinserción Social Juvenil. Digite Cero si no tiene",IF(AN138>$C138," * La variable Serv. Nac. Reinserción Social Juvenil no puede ser mayor al Total.","")) | CC138: =IF(AND($C138>0,AP138="")," * No olvide digitar la variable Pueblos originarios. Digite cero si no tiene",IF(AP138>$C138," * La variable Pueblos Originarios no puede ser mayor al Total.","")) | CD138: =IF(AND($C138>0,AQ138="")," * No olvide digitar la variable Migrantes. Digite cero si no tiene.",IF(AQ138>$C138," * La variable Migrantes no puede ser mayor al Total.","")) | CE138: =IF(AND($C138>0,AR138="")," * No olvide digitar la variable Demencia. Digite cero si no tiene.",IF(AR138>$C138," * La variable Demencia no puede ser mayor al Total.","")) | CF138: =IF(AND($C138>0,AS138="")," * No olvide digitar la variable Espacios Amigables/Adolescentes. Digite cero si no tiene.",IF(AS138>$C138," * La variable Espacios Amigables/adolescentes no puede ser mayor al Total.","")) | CG138: =IF(AND($C138>0,AO138="")," * No olvide digitar la variable Serv. Nac. Reinserción Social Juvenil. Digite cero si no tiene.",IF(AO138>$C138," * La variable Serv. Nac. Reinserción Social Juvenil no puede ser mayor al Total.","")) | CL138: =IF(AND(C138>0,AN138=""),1,IF(AN138>C138,1,0)) -> 0 | CM138: =IF(AND(C138>0,AP138=""),1,IF(AP138>C138,1,0)) -> 0 | CN138: =IF(AND(C138>0,AQ138=""),1,IF(AQ138>C138,1,0)) -> 0 | CO138: =IF(AND(C138>0,AR138=""),1,IF(AR138>C138,1,0)) -> 0 | CP138: =IF(AND(C138>0,AS138=""),1,IF(AS138>C138,1,0)) -> 0 | CQ138: =IF(AND(C138>0,AO138=""),1,IF(AO138>C138,1,0)) -> 0
B139: Técnico Rehabilitación Alcohol y Drogas | C139: =SUM(D139:E139) -> 0 | D139: =SUM(F139+H139+J139+L139+N139+P139+R139+T139+V139+X139+Z139+AB139+AD139+AF139+AH139+AJ139+AL139) -> 0 | E139: =SUM(G139+I139+K139+M139+O139+Q139+S139+U139+W139+Y139+AA139+AC139+AE139+AG139+AI139+AK139+AM139) -> 0 | F139: =SUM(ENERO:DICIEMBRE!F139) -> 0 | G139: =SUM(ENERO:DICIEMBRE!G139) -> 0 | H139: =SUM(ENERO:DICIEMBRE!H139) -> 0 | I139: =SUM(ENERO:DICIEMBRE!I139) -> 0 | J139: =SUM(ENERO:DICIEMBRE!J139) -> 0 | K139: =SUM(ENERO:DICIEMBRE!K139) -> 0 | L139: =SUM(ENERO:DICIEMBRE!L139) -> 0 | M139: =SUM(ENERO:DICIEMBRE!M139) -> 0 | ... AS139: =SUM(ENERO:DICIEMBRE!AS139) -> 0 | AU139: =CB139&CC139&CD139&CE139&CF139 | CB139: =IF(AND($C139>0,AN139="")," * No olvide digitar la variable Serv. Nac. Reinserción Social Juvenil. Digite Cero si no tiene",IF(AN139>$C139," * La variable Serv. Nac. Reinserción Social Juvenil no puede ser mayor al Total.","")) | CC139: =IF(AND($C139>0,AP139="")," * No olvide digitar la variable Pueblos originarios. Digite cero si no tiene",IF(AP139>$C139," * La variable Pueblos Originarios no puede ser mayor al Total.","")) | CD139: =IF(AND($C139>0,AQ139="")," * No olvide digitar la variable Migrantes. Digite cero si no tiene.",IF(AQ139>$C139," * La variable Migrantes no puede ser mayor al Total.","")) | CE139: =IF(AND($C139>0,AR139="")," * No olvide digitar la variable Demencia. Digite cero si no tiene.",IF(AR139>$C139," * La variable Demencia no puede ser mayor al Total.","")) | CF139: =IF(AND($C139>0,AS139="")," * No olvide digitar la variable Espacios Amigables/Adolescentes. Digite cero si no tiene.",IF(AS139>$C139," * La variable Espacios Amigables/adolescentes no puede ser mayor al Total.","")) | CG139: =IF(AND($C139>0,AO139="")," * No olvide digitar la variable Serv. Nac. Reinserción Social Juvenil. Digite cero si no tiene.",IF(AO139>$C139," * La variable Serv. Nac. Reinserción Social Juvenil no puede ser mayor al Total.","")) | CL139: =IF(AND(C139>0,AN139=""),1,IF(AN139>C139,1,0)) -> 0 | CM139: =IF(AND(C139>0,AP139=""),1,IF(AP139>C139,1,0)) -> 0 | CN139: =IF(AND(C139>0,AQ139=""),1,IF(AQ139>C139,1,0)) -> 0 | CO139: =IF(AND(C139>0,AR139=""),1,IF(AR139>C139,1,0)) -> 0 | CP139: =IF(AND(C139>0,AS139=""),1,IF(AS139>C139,1,0)) -> 0 | CQ139: =IF(AND(C139>0,AO139=""),1,IF(AO139>C139,1,0)) -> 0
B140: TOTAL | C140: =SUM(D140:E140) -> 84 | D140: =SUM(D130:D139) -> 36 | E140: =SUM(E130:E139) -> 48 | F140: =SUM(F130:F139) -> 0 | G140: =SUM(G130:G139) -> 0 | H140: =SUM(H130:H139) -> 2 | I140: =SUM(I130:I139) -> 1 | J140: =SUM(J130:J139) -> 12 | K140: =SUM(K130:K139) -> 6 | ... AS140: =SUM(AS130:AS139) -> 0
...

Sheet ENERO
A1: SERVICIO DE SALUD
A2: =CONCATENATE("COMUNA: ",[2]NOMBRE!B2, " (",[2]NOMBRE!C2,[2]NOMBRE!D2,[2]NOMBRE!E2,[2]NOMBRE!F2,[2]NOMBRE!G2,")") -> COMUNA: LINARES (07401)
A3: =CONCATENATE("ESTABLECIMIENTO/ESTRATEGIA: ", [2]NOMBRE!B3, " (",[2]NOMBRE!C3,[2]NOMBRE!D3,[2]NOMBRE!E3,[2]NOMBRE!F3,[2]NOMBRE!G3,[2]NOMBRE!H3,")") -> ESTABLECIMIENTO/ESTRATEGIA: HOSPITAL PRESIDENTE CARLOS IBAÑEZ DEL CAMPO (116108)
A4: =CONCATENATE("MES: ",[2]NOMBRE!B6, " (",[2]NOMBRE!C6,[2]NOMBRE!D6,")") -> MES: ENERO (01)
A5: =CONCATENATE("AÑO: ",[2]NOMBRE!B7) -> AÑO: 2025
A6: REM-32. ACTIVIDADES DE ATENCIÓN DE SALUD REMOTA
A8: SECCIÓN A: SEGUIMIENTO EN ATENCIÓN PRIMARIA DE SALUD POR LLAMADA TELEFÓNICA O VIDEOLLAMADAS
A9: PROFESIONAL | B9: TOTAL | C9: RANGO ETARIO | T9: SEXO | V9: Niños, niñas, adolescentes y jóvenes SENAME | W9: Niños, niñas, adolescentes y jóvenes Mejor Niñez | X9: Pueblos Originarios | Y9: Migrantes | Z9: Espacios amigables/ Adolescentes
C10: 0 - 4 años | D10: 5 - 9 años | E10: 10 - 14 años | F10: 15 - 19 años | G10: 20 - 24 años | H10: 25 - 29 años | I10: 30 - 34 años | J10: 35 - 39 años | K10: 40 - 44 años | L10: 45 - 49 años | M10: 50 - 54 años | N10: 55 - 59 años | O10: 60 - 64 años | P10: 65 - 69 años | Q10: 70 - 74 años | R10: 75 - 79 años | S10: 80 y más años | T10: Hombres | U10: Mujeres
A11: Médico/a | B11: =SUM(C11:S11) -> 0 | AA11: =CA11&CB11&CC11&CD11&CE11&CF11 | CA11: =IF((T11+U11)<>B11," * El desglose por Sexo No puede ser distinto al Total.","") | CB11: =IF(AND(B11>0,V11="")," * No olvide digitar Niños, niñas, adolescentes y jóvenes en Serv. Nac. Reinserción Social Juvenil. Digite cero si no tiene.",IF(V11>B11," * La variable Niños, Niñas, adolescentes y jóvenes en Serv. Nac. Reinserción Social Juvenil no puede ser mayor al Total.","")) | CC11: =IF(AND(B11>0,W11="")," * No olvide digitar Niños, niñas, adolescentes y Jóvenes en Serv. Nac. Protección Especializada a la Niñez y Adolescencia. Digite cero si no tiene.",IF(W11>B11," * La variable Niños, Niñas, adolescentes y jóvenes enServ. Nac. Protección Especializada a la Niñez y Adolescencia no puede ser mayor al Total.","")) | CD11: =IF(AND(B11>0,X11="")," * No olvide digitar Pueblos Originarios. Digite cero si no tiene.",IF(X11>B11," * La variable Pueblos Originarios no puede ser mayor al Total.","")) | CE11: =IF(AND(B11>0,Y11="")," * No olvide digitar Migrantes. Digite cero si no tiene.",IF(Y11>B11," * La variable Migrantes no puede ser mayor al Total.","")) | CF11: =IF(AND(B11>0,Z11="")," * No olvide digitar Espacios amigables/Adolescentes. Digite cero si no tiene.",IF(Z11>B11," * La variable Espacios amigables/Adolescentes no puede ser mayor al Total.","")) | CK11: =IF((T11+U11)<>B11,1,0) -> 0 | CL11: =IF(AND(B11>0,V11=""),1,IF(V11>B11,1,0)) -> 0 | CM11: =IF(AND(B11>0,W11=""),1,IF(W11>B11,1,0)) -> 0 | CN11: =IF(AND(B11>0,X11=""),1,IF(X11>B11,1,0)) -> 0 | CO11: =IF(AND(B11>0,Y11=""),1,IF(Y11>B11,1,0)) -> 0 | CP11: =IF(AND(B11>0,Z11=""),1,IF(Z11>B11,1,0)) -> 0
A12: Enfermera/o | B12: =SUM(C12:S12) -> 0 | AA12: =CA12&CB12&CC12&CD12&CE12&CF12 | CA12: =IF((T12+U12)<>B12," * El desglose por Sexo No puede ser distinto al Total.","") | CB12: =IF(AND(B12>0,V12="")," * No olvide digitar Niños, niñas, adolescentes y jóvenes en Serv. Nac. Reinserción Social Juvenil. Digite cero si no tiene.",IF(V12>B12," * La variable Niños, Niñas, adolescentes y jóvenes en Serv. Nac. Reinserción Social Juvenil no puede ser mayor al Total.","")) | CC12: =IF(AND(B12>0,W12="")," * No olvide digitar Niños, niñas, adolescentes y Jóvenes en Serv. Nac. Protección Especializada a la Niñez y Adolescencia. Digite cero si no tiene.",IF(W12>B12," * La variable Niños, Niñas, adolescentes y jóvenes enServ. Nac. Protección Especializada a la Niñez y Adolescencia no puede ser mayor al Total.","")) | CD12: =IF(AND(B12>0,X12="")," * No olvide digitar Pueblos Originarios. Digite cero si no tiene.",IF(X12>B12," * La variable Pueblos Originarios no puede ser mayor al Total.","")) | CE12: =IF(AND(B12>0,Y12="")," * No olvide digitar Migrantes. Digite cero si no tiene.",IF(Y12>B12," * La variable Migrantes no puede ser mayor al Total.","")) | CF12: =IF(AND(B12>0,Z12="")," * No olvide digitar Espacios amigables/Adolescentes. Digite cero si no tiene.",IF(Z12>B12," * La variable Espacios amigables/Adolescentes no puede ser mayor al Total.","")) | CK12: =IF((T12+U12)<>B12,1,0) -> 0 | CL12: =IF(AND(B12>0,V12=""),1,IF(V12>B12,1,0)) -> 0 | CM12: =IF(AND(B12>0,W12=""),1,IF(W12>B12,1,0)) -> 0 | CN12: =IF(AND(B12>0,X12=""),1,IF(X12>B12,1,0)) -> 0 | CO12: =IF(AND(B12>0,Y12=""),1,IF(Y12>B12,1,0)) -> 0 | CP12: =IF(AND(B12>0,Z12=""),1,IF(Z12>B12,1,0)) -> 0
A13: Matrón/a | B13: =SUM(E13:S13) -> 0 | AA13: =CA13&CB13&CC13&CD13&CE13&CF13 | CA13: =IF((T13+U13)<>B13," * El desglose por Sexo No puede ser distinto al Total.","") | CB13: =IF(AND(B13>0,V13="")," * No olvide digitar Niños, niñas, adolescentes y jóvenes en Serv. Nac. Reinserción Social Juvenil. Digite cero si no tiene.",IF(V13>B13," * La variable Niños, Niñas, adolescentes y jóvenes en Serv. Nac. Reinserción Social Juvenil no puede ser mayor al Total.","")) | CC13: =IF(AND(B13>0,W13="")," * No olvide digitar Niños, niñas, adolescentes y Jóvenes en Serv. Nac. Protección Especializada a la Niñez y Adolescencia. Digite cero si no tiene.",IF(W13>B13," * La variable Niños, Niñas, adolescentes y jóvenes enServ. Nac. Protección Especializada a la Niñez y Adolescencia no puede ser mayor al Total.","")) | CD13: =IF(AND(B13>0,X13="")," * No olvide digitar Pueblos Originarios. Digite cero si no tiene.",IF(X13>B13," * La variable Pueblos Originarios no puede ser mayor al Total.","")) | CE13: =IF(AND(B13>0,Y13="")," * No olvide digitar Migrantes. Digite cero si no tiene.",IF(Y13>B13," * La variable Migrantes no puede ser mayor al Total.","")) | CF13: =IF(AND(B13>0,Z13="")," * No olvide digitar Espacios amigables/Adolescentes. Digite cero si no tiene.",IF(Z13>B13," * La variable Espacios amigables/Adolescentes no puede ser mayor al Total.","")) | CK13: =IF((T13+U13)<>B13,1,0) -> 0 | CL13: =IF(AND(B13>0,V13=""),1,IF(V13>B13,1,0)) -> 0 | CM13: =IF(AND(B13>0,W13=""),1,IF(W13>B13,1,0)) -> 0 | CN13: =IF(AND(B13>0,X13=""),1,IF(X13>B13,1,0)) -> 0 | CO13: =IF(AND(B13>0,Y13=""),1,IF(Y13>B13,1,0)) -> 0 | CP13: =IF(AND(B13>0,Z13=""),1,IF(Z13>B13,1,0)) -> 0
A14: Nutricionista | B14: =SUM(C14:S14) -> 0 | AA14: =CA14&CB14&CC14&CD14&CE14&CF14 | CA14: =IF((T14+U14)<>B14," * El desglose por Sexo No puede ser distinto al Total.","") | CB14: =IF(AND(B14>0,V14="")," * No olvide digitar Niños, niñas, adolescentes y jóvenes en Serv. Nac. Reinserción Social Juvenil. Digite cero si no tiene.",IF(V14>B14," * La variable Niños, Niñas, adolescentes y jóvenes en Serv. Nac. Reinserción Social Juvenil no puede ser mayor al Total.","")) | CC14: =IF(AND(B14>0,W14="")," * No olvide digitar Niños, niñas, adolescentes y Jóvenes en Serv. Nac. Protección Especializada a la Niñez y Adolescencia. Digite cero si no tiene.",IF(W14>B14," * La variable Niños, Niñas, adolescentes y jóvenes enServ. Nac. Protección Especializada a la Niñez y Adolescencia no puede ser mayor al Total.","")) | CD14: =IF(AND(B14>0,X14="")," * No olvide digitar Pueblos Originarios. Digite cero si no tiene.",IF(X14>B14," * La variable Pueblos Originarios no puede ser mayor al Total.","")) | CE14: =IF(AND(B14>0,Y14="")," * No olvide digitar Migrantes. Digite cero si no tiene.",IF(Y14>B14," * La variable Migrantes no puede ser mayor al Total.","")) | CF14: =IF(AND(B14>0,Z14="")," * No olvide digitar Espacios amigables/Adolescentes. Digite cero si no tiene.",IF(Z14>B14," * La variable Espacios amigables/Adolescentes no puede ser mayor al Total.","")) | CK14: =IF((T14+U14)<>B14,1,0) -> 0 | CL14: =IF(AND(B14>0,V14=""),1,IF(V14>B14,1,0)) -> 0 | CM14: =IF(AND(B14>0,W14=""),1,IF(W14>B14,1,0)) -> 0 | CN14: =IF(AND(B14>0,X14=""),1,IF(X14>B14,1,0)) -> 0 | CO14: =IF(AND(B14>0,Y14=""),1,IF(Y14>B14,1,0)) -> 0 | CP14: =IF(AND(B14>0,Z14=""),1,IF(Z14>B14,1,0)) -> 0
A15: Otros Profesionales | B15: =SUM(C15:S15) -> 0 | AA15: =CA15&CB15&CC15&CD15&CE15&CF15 | CA15: =IF((T15+U15)<>B15," * El desglose por Sexo No puede ser distinto al Total.","") | CB15: =IF(AND(B15>0,V15="")," * No olvide digitar Niños, niñas, adolescentes y jóvenes en Serv. Nac. Reinserción Social Juvenil. Digite cero si no tiene.",IF(V15>B15," * La variable Niños, Niñas, adolescentes y jóvenes en Serv. Nac. Reinserción Social Juvenil no puede ser mayor al Total.","")) | CC15: =IF(AND(B15>0,W15="")," * No olvide digitar Niños, niñas, adolescentes y Jóvenes en Serv. Nac. Protección Especializada a la Niñez y Adolescencia. Digite cero si no tiene.",IF(W15>B15," * La variable Niños, Niñas, adolescentes y jóvenes enServ. Nac. Protección Especializada a la Niñez y Adolescencia no puede ser mayor al Total.","")) | CD15: =IF(AND(B15>0,X15="")," * No olvide digitar Pueblos Originarios. Digite cero si no tiene.",IF(X15>B15," * La variable Pueblos Originarios no puede ser mayor al Total.","")) | CE15: =IF(AND(B15>0,Y15="")," * No olvide digitar Migrantes. Digite cero si no tiene.",IF(Y15>B15," * La variable Migrantes no puede ser mayor al Total.","")) | CF15: =IF(AND(B15>0,Z15="")," * No olvide digitar Espacios amigables/Adolescentes. Digite cero si no tiene.",IF(Z15>B15," * La variable Espacios amigables/Adolescentes no puede ser mayor al Total.","")) | CK15: =IF((T15+U15)<>B15,1,0) -> 0 | CL15: =IF(AND(B15>0,V15=""),1,IF(V15>B15,1,0)) -> 0 | CM15: =IF(AND(B15>0,W15=""),1,IF(W15>B15,1,0)) -> 0 | CN15: =IF(AND(B15>0,X15=""),1,IF(X15>B15,1,0)) -> 0 | CO15: =IF(AND(B15>0,Y15=""),1,IF(Y15>B15,1,0)) -> 0 | CP15: =IF(AND(B15>0,Z15=""),1,IF(Z15>B15,1,0)) -> 0
A16: TOTAL | B16: =SUM(C16:S16) -> 0 | C16: =SUM(C11:C15) -> 0 | D16: =SUM(D11:D15) -> 0 | E16: =SUM(E11:E15) -> 0 | F16: =SUM(F11:F15) -> 0 | G16: =SUM(G11:G15) -> 0 | H16: =SUM(H11:H15) -> 0 | I16: =SUM(I11:I15) -> 0 | J16: =SUM(J11:J15) -> 0 | ... Z16: =SUM(Z11:Z15) -> 0
A17: SECCIÓN B: GESTION REMOTA ABREVIADA MEDIANTE PLATAFORMA TELESALUD
A18: TIPO DE ACTIVIDAD | B18: TOTAL | C18: Médico/a | D18: Odontólogo/a | E18: Otros profesionales
A19: Renovación de recetas/ | B19: =SUM(C19:E19) -> 0
A20: Entrega de resultados de exámenes | B20: =SUM(C20:E20) -> 0
A21: Renovación de licencia médica | B21: =SUM(C21:E21) -> 0
A22: Orden de exámenes | B22: =SUM(C22:E22) -> 0
A23: Certificados médicos | B23: =SUM(C23:E23) -> 0
A24: TOTAL | B24: =SUM(B19:B23) -> 0 | C24: =SUM(C19:C23) -> 0 | D24: =SUM(D19:D23) -> 0 | E24: =SUM(E19:E23) -> 0
A25: SECCIÓN C: CONSULTA MÉDICA EN ATENCIÓN PRIMARIA DE SALUD POR LLAMADA TELEFÓNICA O VIDEOLLAMADAS
A26: ATENCION | B26: TOTAL | C26: RANGO ETARIO | T26: SEXO | V26: Pueblos Originarios | W26: Migrantes | X26: Modalidad por la cual se realiza la atención
C27: 0 - 4 años | D27: 5 - 9 años | E27: 10 - 14 años | F27: 15 - 19 años | G27: 20 - 24 años | H27: 25 - 29 años | I27: 30 - 34 años | J27: 35 - 39 años | K27: 40 - 44 años | L27: 45 - 49 años | M27: 50 - 54 años | N27: 55 - 59 años | O27: 60 - 64 años | P27: 65 - 69 años | Q27: 70 - 74 años | R27: 75 - 79 años | S27: 80 y más años | T27: Hombres | U27: Mujeres | X27: Videollamada | Y27: Llamada Telefónica
A28: Medicina General | B28: =SUM(C28:S28) -> 0 | Z28: =CA28&CB28&CC28 | CA28: =IF(AND($B28>0,V28=""),"No olvide digitar Pueblos Originarios, digite cero si no tiene. ",IF(V28>$B28," * La variable Pueblos Originarios no puede ser mayor al Total. ","")) | CB28: =IF(AND($B28>0,W28=""),"No olvide digitar Migrantes, digite cero si no tiene. ",IF(W28>$B28," * La variable Migrantes no puede ser mayor al Total. ","")) | CC28: =IF((X28+Y28)<>B28," *El desglose de Videollamada + Llamada Telefónica debe ser igual al Total.","") | CK28: =IF(AND(V28>0,$B28=""),1,IF(V28>$B28,1,0)) -> 0 | CL28: =IF(AND(W28>0,$B28=""),1,IF(W28>$B28,1,0)) -> 0 | CM28: =IF((X28+Y28)<>B28,1,0) -> 0
A29: Atención remota de morbilidad (Plataforma Telesalud) | B29: =SUM(C29:S29) -> 0 | Z29: =CA29&CB29&CC29 | CA29: =IF(AND($B29>0,V29=""),"No olvide digitar pueblos originarios, digite cero si no tiene. ",IF(V29>$B29," * La variable Pueblos originarios no puede ser mayor al Total. ","")) | CB29: =IF(AND($B29>0,W29=""),"No olvide digitar Migrantes, digite cero si no tiene. ",IF(W29>$B29," * La variable Migrantes no puede ser mayor al Total. ","")) | CC29: =IF((X29+Y29)<>B29," *El desglose de Videollamada + Llamada Telefónica debe ser igual al Total.","") | CK29: =IF(AND(V29>0,$B29=""),1,IF(V29>$B29,1,0)) -> 0 | CL29: =IF(AND(W29>0,$B29=""),1,IF(W29>$B29,1,0)) -> 0 | CM29: =IF((X29+Y29)<>B29,1,0) -> 0
A30: SECCIÓN D: ATENCIONES TELEFÓNICAS EN CONSULTAS Y CONTROLES
A31: SECCIÓN D1: ATENCIONES REMOTAS MÉDICAS EN ESPECIALIDAD
A32: ESPECIALIDADES Y SUB-ESPECIALIDADES | B32: TOTAL | C32: ATENCIONES REMOTAS DE CONSULTAS DE ESPECIALIDAD | V32: NO CONTESTA | X32: ALTA DE CONSULTA DE ESPECIALIDAD AMBULATORIA REMOTA | Z32: TELECONSULTAS NUEVAS DE ESPECIALIDAD SEGÚN ORIGEN | AJ32: ATENCIONES SEGÚN MODALIDAD DE CONTACTO | AM32: Teleconsulta Abreviada (Videollamada)/ Consulta Abreviada Telefónica Atención Remota: entrega de los resultados de exámenes o procedimiento (Confección de recetas o lectura de exámenes) | AN32: Teleconsultorías | AO32: Pueblos Originarios | AP32: Migrantes | AQ32: Teleconsulta de especialidad resueltas por Médicos Generales | AR32: Niños, niñas, adolescentes y jóvenes SENAME | AS32: Niños, niñas, adolescentes y jóvenes Mejor Niñez
C33: RANGO ETARIO | T33: SEXO | Z33: Menos 15 años | AE33: De 15 y más años
C34: 0 - 4 años | D34: 5 - 9 años | E34: 10 - 14 años | F34: 15 - 19 años | G34: 20 - 24 años | H34: 25 - 29 años | I34: 30 - 34 años | J34: 35 - 39 años | K34: 40 - 44 años | L34: 45 - 49 años | M34: 50 - 54 años | N34: 55 - 59 años | O34: 60 - 64 años | P34: 65 - 69 años | Q34: 70 - 74 años | R34: 75 - 79 años | S34: 80 y más años | T34: Hombres | U34: Mujeres | V34: Nuevas | W34: Controles | X34: Menos 15 años | Y34: 15 y más años | Z34: TOTAL | AA34: APS | AB34: CAE/CDT/CRS | AC34: Urgencia | AD34: Hospitaliza-ción | AE34: Total | AF34: APS | AG34: CAE/CDT/CRS | AH34: Urgencia | AI34: Hospitaliza-ción | AJ34: Teleconsulta Nueva | AK34: Teleconsulta Control | AL34: Contacto telefónico control
A35: Pediatría | B35: =SUM(C35:S35) -> 1 | C35: 1 | T35: 1 | Z35: =SUM(AA35+AB35+AC35+AD35) -> 0 | AE35: =SUM(AF35+AG35+AH35+AI35) -> 0 | AL35: 1 | AM35: 0 | AN35: 1 | AO35: 0 | AP35: 0 | AQ35: 0 | AR35: 0 | AS35: 0 | AT35: =CA35&CB35&CC35&CD35&CE35&CF35&CG35 | CA35: =IF((T35+U35)<>B35,"* El número de atenciones remotas según Sexo debe ser igual al Total.","") | CB35: =IF((AE35+Z35)>B35," * El Total de Teleconsultas Nuevas no debe ser mayor que el Total","") | CC35: =IF(AND(B35>0,AO35="")," * No olvide digitar la variable Pueblos Originarios. Digite cero si no tiene.",IF(AO35>B35," * La variable Pueblos Originarios no puede ser mayor al Total.","")) | CD35: =IF(AND(B35>0,AP35="")," * No olvide digitar la variable Migrantes. Digite cero si no tiene.",IF(AP35>B35," * La variable Migrantes no puede ser mayor al Total.","")) | CE35: =IF(AND($B35>0,AQ35="")," * No olvide digitar la variable Teleconsulta de especialidad resueltas por Médicos Generales. Digite cero si no tiene.",IF(AQ35>$B35," * La variable Teleconsulta de especialidad resueltas por Médicos Generales no puede ser mayor al Total.","")) | CF35: =IF(AND($B35>0,AR35="")," * No olvide digitar la variable Serv. Nac. Reinserción Social Juvenil. Digite cero si no tiene.",IF(AR35>$B35," * La variable Serv. Nac. Reinserción Social Juvenil no puede ser mayor al Total.","")) | CG35: =IF(AND($B35>0,AS35="")," * No olvide digitar la variable Serv. Nac. Protección Especializada a la Niñez y Adolescencia. Digite cero si no tiene.",IF(AS35>$B35," * La variable Serv. Nac. Protección Especializada a la Niñez y Adolescencia no puede ser mayor al Total.","")) | CK35: =IF((T35+U35)<>B35,1,0) -> 0 | CL35: =IF((AE35+Z35)>B35,1,0) -> 0 | CM35: =IF(AND(B35>0,AO35=""),1,IF(AO35>B35,1,0)) -> 0 | CN35: =IF(AND($B35>0,AP35=""),1,IF(AP35>$B35,1,0)) -> 0 | CO35: =IF(AND($B35>0,AQ35=""),1,IF(AQ35>$B35,1,0)) -> 0 | CP35: =IF(AND($B35>0,AR35=""),1,IF(AR35>$B35,1,0)) -> 0 | CQ35: =IF(AND($B35>0,AS35=""),1,IF(AS35>$B35,1,0)) -> 0
A36: Medicina interna | B36: =SUM(C36:S36) -> 10 | N36: 1 | O36: 3 | Q36: 1 | R36: 4 | S36: 1 | T36: 5 | U36: 5 | W36: 2 | Z36: =SUM(AA36+AB36+AC36+AD36) -> 0 | AE36: =SUM(AF36+AG36+AH36+AI36) -> 0 | AL36: 10 | AM36: 0 | AN36: 0 | AO36: 0 | AP36: 0 | AQ36: 0 | AR36: 0 | AS36: 0 | AT36: =CA36&CB36&CC36&CD36&CE36&CF36&CG36 | CA36: =IF((T36+U36)<>B36,"* El número de atenciones remotas según Sexo debe ser igual al Total.","") | CB36: =IF((AE36+Z36)>B36," * El Total de Teleconsultas Nuevas no debe ser mayor que el Total","") | CC36: =IF(AND(B36>0,AO36="")," * No olvide digitar la variable Pueblos Originarios. Digite cero si no tiene.",IF(AO36>B36," * La variable Pueblos Originarios no puede ser mayor al Total.","")) | CD36: =IF(AND(B36>0,AP36="")," * No olvide digitar la variable Migrantes. Digite cero si no tiene.",IF(AP36>B36," * La variable Migrantes no puede ser mayor al Total.","")) | CE36: =IF(AND($B36>0,AQ36="")," * No olvide digitar la variable Teleconsulta de especialidad resueltas por Médicos Generales. Digite cero si no tiene.",IF(AQ36>$B36," * La variable Teleconsulta de especialidad resueltas por Médicos Generales no puede ser mayor al Total.","")) | CF36: =IF(AND($B36>0,AR36="")," * No olvide digitar la variable Serv. Nac. Reinserción Social Juvenil. Digite cero si no tiene.",IF(AR36>$B36," * La variable Serv. Nac. Reinserción Social Juvenil no puede ser mayor al Total.","")) | CG36: =IF(AND($B36>0,AS36="")," * No olvide digitar la variable Serv. Nac. Protección Especializada a la Niñez y Adolescencia. Digite cero si no tiene.",IF(AS36>$B36," * La variable Serv. Nac. Protección Especializada a la Niñez y Adolescencia no puede ser mayor al Total.","")) | CK36: =IF((T36+U36)<>B36,1,0) -> 0 | CL36: =IF((AE36+Z36)>B36,1,0) -> 0 | CM36: =IF(AND(B36>0,AO36=""),1,IF(AO36>B36,1,0)) -> 0 | CN36: =IF(AND(B36>0,AP36=""),1,IF(AP36>B36,1,0)) -> 0 | CO36: =IF(AND($B36>0,AQ36=""),1,IF(AQ36>$B36,1,0)) -> 0 | CP36: =IF(AND($B36>0,AR36=""),1,IF(AR36>$B36,1,0)) -> 0 | CQ36: =IF(AND($B36>0,AS36=""),1,IF(AS36>$B36,1,0)) -> 0
A37: Neonatología | B37: =SUM(C37:D37) -> 0 | Z37: =SUM(AA37+AB37+AC37+AD37) -> 0 | AE37: =SUM(AF37+AG37+AH37+AI37) -> 0 | AT37: =CA37&CB37&CC37&CD37&CE37&CF37&CG37 | CA37: =IF((T37+U37)<>B37,"* El número de atenciones remotas según Sexo debe ser igual al Total.","") | CB37: =IF((AE37+Z37)>B37," * El Total de Teleconsultas Nuevas no debe ser mayor que el Total","") | CC37: =IF(AND(B37>0,AO37="")," * No olvide digitar la variable Pueblos Originarios. Digite cero si no tiene.",IF(AO37>B37," * La variable Pueblos Originarios no puede ser mayor al Total.","")) | CD37: =IF(AND(B37>0,AP37="")," * No olvide digitar la variable Migrantes. Digite cero si no tiene.",IF(AP37>B37," * La variable Migrantes no puede ser mayor al Total.","")) | CE37: =IF(AND($B37>0,AQ37="")," * No olvide digitar la variable Teleconsulta de especialidad resueltas por Médicos Generales. Digite cero si no tiene.",IF(AQ37>$B37," * La variable Teleconsulta de especialidad resueltas por Médicos Generales no puede ser mayor al Total.","")) | CF37: =IF(AND($B37>0,AR37="")," * No olvide digitar la variable Serv. Nac. Reinserción Social Juvenil. Digite cero si no tiene.",IF(AR37>$B37," * La variable Serv. Nac. Reinserción Social Juvenil no puede ser mayor al Total.","")) | CG37: =IF(AND($B37>0,AS37="")," * No olvide digitar la variable Serv. Nac. Protección Especializada a la Niñez y Adolescencia. Digite cero si no tiene.",IF(AS37>$B37," * La variable Serv. Nac. Protección Especializada a la Niñez y Adolescencia no puede ser mayor al Total.","")) | CK37: =IF((T37+U37)<>B37,1,0) -> 0 | CL37: =IF((AE37+Z37)>B37,1,0) -> 0 | CM37: =IF(AND(B37>0,AO37=""),1,IF(AO37>B37,1,0)) -> 0 | CN37: =IF(AND(B37>0,AP37=""),1,IF(AP37>B37,1,0)) -> 0 | CO37: =IF(AND($B37>0,AQ37=""),1,IF(AQ37>$B37,1,0)) -> 0 | CP37: =IF(AND($B37>0,AR37=""),1,IF(AR37>$B37,1,0)) -> 0 | CQ37: =IF(AND($B37>0,AS37=""),1,IF(AS37>$B37,1,0)) -> 0
A38: Enfermedad respiratoria pediátrica (broncopulmonar infantil) | B38: =SUM(C38:S38) -> 0 | Z38: =SUM(AA38+AB38+AC38+AD38) -> 0 | AE38: =SUM(AF38+AG38+AH38+AI38) -> 0 | AT38: =CA38&CB38&CC38&CD38&CE38&CF38&CG38 | CA38: =IF((T38+U38)<>B38,"* El número de atenciones remotas según Sexo debe ser igual al Total.","") | CB38: =IF((AE38+Z38)>B38," * El Total de Teleconsultas Nuevas no debe ser mayor que el Total","") | CC38: =IF(AND(B38>0,AO38="")," * No olvide digitar la variable Pueblos Originarios. Digite cero si no tiene.",IF(AO38>B38," * La variable Pueblos Originarios no puede ser mayor al Total.","")) | CD38: =IF(AND(B38>0,AP38="")," * No olvide digitar la variable Migrantes. Digite cero si no tiene.",IF(AP38>B38," * La variable Migrantes no puede ser mayor al Total.","")) | CE38: =IF(AND($B38>0,AQ38="")," * No olvide digitar la variable Teleconsulta de especialidad resueltas por Médicos Generales. Digite cero si no tiene.",IF(AQ38>$B38," * La variable Teleconsulta de especialidad resueltas por Médicos Generales no puede ser mayor al Total.","")) | CF38: =IF(AND($B38>0,AR38="")," * No olvide digitar la variable Serv. Nac. Reinserción Social Juvenil. Digite cero si no tiene.",IF(AR38>$B38," * La variable Serv. Nac. Reinserción Social Juvenil no puede ser mayor al Total.","")) | CG38: =IF(AND($B38>0,AS38="")," * No olvide digitar la variable Serv. Nac. Protección Especializada a la Niñez y Adolescencia. Digite cero si no tiene.",IF(AS38>$B38," * La variable Serv. Nac. Protección Especializada a la Niñez y Adolescencia no puede ser mayor al Total.","")) | CK38: =IF((T38+U38)<>B38,1,0) -> 0 | CL38: =IF((AE38+Z38)>B38,1,0) -> 0 | CM38: =IF(AND(B38>0,AO38=""),1,IF(AO38>B38,1,0)) -> 0 | CN38: =IF(AND(B38>0,AP38=""),1,IF(AP38>B38,1,0)) -> 0 | CO38: =IF(AND($B38>0,AQ38=""),1,IF(AQ38>$B38,1,0)) -> 0 | CP38: =IF(AND($B38>0,AR38=""),1,IF(AR38>$B38,1,0)) -> 0 | CQ38: =IF(AND($B38>0,AS38=""),1,IF(AS38>$B38,1,0)) -> 0
A39: Enfermedad respiratoria de adulto (broncopulmonar) | B39: =SUM(C39:S39) -> 0 | Z39: =SUM(AA39+AB39+AC39+AD39) -> 0 | AE39: =SUM(AF39+AG39+AH39+AI39) -> 0 | AT39: =CA39&CB39&CC39&CD39&CE39&CF39&CG39 | CA39: =IF((T39+U39)<>B39,"* El número de atenciones remotas según Sexo debe ser igual al Total.","") | CB39: =IF((AE39+Z39)>B39," * El Total de Teleconsultas Nuevas no debe ser mayor que el Total","") | CC39: =IF(AND(B39>0,AO39="")," * No olvide digitar la variable Pueblos Originarios. Digite cero si no tiene.",IF(AO39>B39," * La variable Pueblos Originarios no puede ser mayor al Total.","")) | CD39: =IF(AND(B39>0,AP39="")," * No olvide digitar la variable Migrantes. Digite cero si no tiene.",IF(AP39>B39," * La variable Migrantes no puede ser mayor al Total.","")) | CE39: =IF(AND($B39>0,AQ39="")," * No olvide digitar la variable Teleconsulta de especialidad resueltas por Médicos Generales. Digite cero si no tiene.",IF(AQ39>$B39," * La variable Teleconsulta de especialidad resueltas por Médicos Generales no puede ser mayor al Total.","")) | CF39: =IF(AND($B39>0,AR39="")," * No olvide digitar la variable Serv. Nac. Reinserción Social Juvenil. Digite cero si no tiene.",IF(AR39>$B39," * La variable Serv. Nac. Reinserción Social Juvenil no puede ser mayor al Total.","")) | CG39: =IF(AND($B39>0,AS39="")," * No olvide digitar la variable Serv. Nac. Protección Especializada a la Niñez y Adolescencia. Digite cero si no tiene.",IF(AS39>$B39," * La variable Serv. Nac. Protección Especializada a la Niñez y Adolescencia no puede ser mayor al Total.","")) | CK39: =IF((T39+U39)<>B39,1,0) -> 0 | CL39: =IF((AE39+Z39)>B39,1,0) -> 0 | CM39: =IF(AND(B39>0,AO39=""),1,IF(AO39>B39,1,0)) -> 0 | CN39: =IF(AND(B39>0,AP39=""),1,IF(AP39>B39,1,0)) -> 0 | CO39: =IF(AND($B39>0,AQ39=""),1,IF(AQ39>$B39,1,0)) -> 0 | CP39: =IF(AND($B39>0,AR39=""),1,IF(AR39>$B39,1,0)) -> 0 | CQ39: =IF(AND($B39>0,AS39=""),1,IF(AS39>$B39,1,0)) -> 0
A40: Cardiología | B40: =SUM(C40:S40) -> 0 | Z40: =SUM(AA40+AB40+AC40+AD40) -> 0 | AE40: =SUM(AF40+AG40+AH40+AI40) -> 0 | AT40: =CA40&CB40&CC40&CD40&CE40&CF40&CG40 | CA40: =IF((T40+U40)<>B40,"* El número de atenciones remotas según Sexo debe ser igual al Total.","") | CB40: =IF((AE40+Z40)>B40," * El Total de Teleconsultas Nuevas no debe ser mayor que el Total","") | CC40: =IF(AND(B40>0,AO40="")," * No olvide digitar la variable Pueblos Originarios. Digite cero si no tiene.",IF(AO40>B40," * La variable Pueblos Originarios no puede ser mayor al Total.","")) | CD40: =IF(AND(B40>0,AP40="")," * No olvide digitar la variable Migrantes. Digite cero si no tiene.",IF(AP40>B40," * La variable Migrantes no puede ser mayor al Total.","")) | CE40: =IF(AND($B40>0,AQ40="")," * No olvide digitar la variable Teleconsulta de especialidad resueltas por Médicos Generales. Digite cero si no tiene.",IF(AQ40>$B40," * La variable Teleconsulta de especialidad resueltas por Médicos Generales no puede ser mayor al Total.","")) | CF40: =IF(AND($B40>0,AR40="")," * No olvide digitar la variable Serv. Nac. Reinserción Social Juvenil. Digite cero si no tiene.",IF(AR40>$B40," * La variable Serv. Nac. Reinserción Social Juvenil no puede ser mayor al Total.","")) | CG40: =IF(AND($B40>0,AS40="")," * No olvide digitar la variable Serv. Nac. Protección Especializada a la Niñez y Adolescencia. Digite cero si no tiene.",IF(AS40>$B40," * La variable Serv. Nac. Protección Especializada a la Niñez y Adolescencia no puede ser mayor al Total.","")) | CK40: =IF((T40+U40)<>B40,1,0) -> 0 | CL40: =IF((AE40+Z40)>B40,1,0) -> 0 | CM40: =IF(AND(B40>0,AO40=""),1,IF(AO40>B40,1,0)) -> 0 | CN40: =IF(AND(B40>0,AP40=""),1,IF(AP40>B40,1,0)) -> 0 | CO40: =IF(AND($B40>0,AQ40=""),1,IF(AQ40>$B40,1,0)) -> 0 | CP40: =IF(AND($B40>0,AR40=""),1,IF(AR40>$B40,1,0)) -> 0 | CQ40: =IF(AND($B40>0,AS40=""),1,IF(AS40>$B40,1,0)) -> 0
A41: Mastología | B41: =SUM(C41:S41) -> 0 | Z41: =SUM(AA41+AB41+AC41+AD41) -> 0 | AE41: =SUM(AF41+AG41+AH41+AI41) -> 0 | AT41: =CA41&CB41&CC41&CD41&CE41&CF41&CG41 | CA41: =IF((T41+U41)<>B41,"* El número de atenciones remotas según Sexo debe ser igual al Total.","") | CB41: =IF((AE41+Z41)>B41," * El Total de Teleconsultas Nuevas no debe ser mayor que el Total","") | CC41: =IF(AND(B41>0,AO41="")," * No olvide digitar la variable Pueblos Originarios. Digite cero si no tiene.",IF(AO41>B41," * La variable Pueblos Originarios no puede ser mayor al Total.","")) | CD41: =IF(AND(B41>0,AP41="")," * No olvide digitar la variable Migrantes. Digite cero si no tiene.",IF(AP41>B41," * La variable Migrantes no puede ser mayor al Total.","")) | CE41: =IF(AND($B41>0,AQ41="")," * No olvide digitar la variable Teleconsulta de especialidad resueltas por Médicos Generales. Digite cero si no tiene.",IF(AQ41>$B41," * La variable Teleconsulta de especialidad resueltas por Médicos Generales no puede ser mayor al Total.","")) | CF41: =IF(AND($B41>0,AR41="")," * No olvide digitar la variable Serv. Nac. Reinserción Social Juvenil. Digite cero si no tiene.",IF(AR41>$B41," * La variable Serv. Nac. Reinserción Social Juvenil no puede ser mayor al Total.","")) | CG41: =IF(AND($B41>0,AS41="")," * No olvide digitar la variable Serv. Nac. Protección Especializada a la Niñez y Adolescencia. Digite cero si no tiene.",IF(AS41>$B41," * La variable Serv. Nac. Protección Especializada a la Niñez y Adolescencia no puede ser mayor al Total.","")) | CK41: =IF((T41+U41)<>B41,1,0) -> 0 | CL41: =IF((AE41+Z41)>B41,1,0) -> 0 | CM41: =IF(AND(B41>0,AO41=""),1,IF(AO41>B41,1,0)) -> 0 | CN41: =IF(AND(B41>0,AP41=""),1,IF(AP41>B41,1,0)) -> 0 | CO41: =IF(AND($B41>0,AQ41=""),1,IF(AQ41>$B41,1,0)) -> 0 | CP41: =IF(AND($B41>0,AR41=""),1,IF(AR41>$B41,1,0)) -> 0 | CQ41: =IF(AND($B41>0,AS41=""),1,IF(AS41>$B41,1,0)) -> 0
A42: Endocrinología pediátrica | B42: =SUM(C42:S42) -> 0 | Z42: =SUM(AA42+AB42+AC42+AD42) -> 0 | AE42: =SUM(AF42+AG42+AH42+AI42) -> 0 | AT42: =CA42&CB42&CC42&CD42&CE42&CF42&CG42 | CA42: =IF((T42+U42)<>B42,"* El número de atenciones remotas según Sexo debe ser igual al Total.","") | CB42: =IF((AE42+Z42)>B42," * El Total de Teleconsultas Nuevas no debe ser mayor que el Total","") | CC42: =IF(AND(B42>0,AO42="")," * No olvide digitar la variable Pueblos Originarios. Digite cero si no tiene.",IF(AO42>B42," * La variable Pueblos Originarios no puede ser mayor al Total.","")) | CD42: =IF(AND(B42>0,AP42="")," * No olvide digitar la variable Migrantes. Digite cero si no tiene.",IF(AP42>B42," * La variable Migrantes no puede ser mayor al Total.","")) | CE42: =IF(AND($B42>0,AQ42="")," * No olvide digitar la variable Teleconsulta de especialidad resueltas por Médicos Generales. Digite cero si no tiene.",IF(AQ42>$B42," * La variable Teleconsulta de especialidad resueltas por Médicos Generales no puede ser mayor al Total.","")) | CF42: =IF(AND($B42>0,AR42="")," * No olvide digitar la variable Serv. Nac. Reinserción Social Juvenil. Digite cero si no tiene.",IF(AR42>$B42," * La variable Serv. Nac. Reinserción Social Juvenil no puede ser mayor al Total.","")) | CG42: =IF(AND($B42>0,AS42="")," * No olvide digitar la variable Serv. Nac. Protección Especializada a la Niñez y Adolescencia. Digite cero si no tiene.",IF(AS42>$B42," * La variable Serv. Nac. Protección Especializada a la Niñez y Adolescencia no puede ser mayor al Total.","")) | CK42: =IF((T42+U42)<>B42,1,0) -> 0 | CL42: =IF((AE42+Z42)>B42,1,0) -> 0 | CM42: =IF(AND(B42>0,AO42=""),1,IF(AO42>B42,1,0)) -> 0 | CN42: =IF(AND(B42>0,AP42=""),1,IF(AP42>B42,1,0)) -> 0 | CO42: =IF(AND($B42>0,AQ42=""),1,IF(AQ42>$B42,1,0)) -> 0 | CP42: =IF(AND($B42>0,AR42=""),1,IF(AR42>$B42,1,0)) -> 0 | CQ42: =IF(AND($B42>0,AS42=""),1,IF(AS42>$B42,1,0)) -> 0
A43: Endocrinología adulto | B43: =SUM(C43:S43) -> 0 | Z43: =SUM(AA43+AB43+AC43+AD43) -> 0 | AE43: =SUM(AF43+AG43+AH43+AI43) -> 0 | AT43: =CA43&CB43&CC43&CD43&CE43&CF43&CG43 | CA43: =IF((T43+U43)<>B43,"* El número de atenciones remotas según Sexo debe ser igual al Total.","") | CB43: =IF((AE43+Z43)>B43," * El Total de Teleconsultas Nuevas no debe ser mayor que el Total","") | CC43: =IF(AND(B43>0,AO43="")," * No olvide digitar la variable Pueblos Originarios. Digite cero si no tiene.",IF(AO43>B43," * La variable Pueblos Originarios no puede ser mayor al Total.","")) | CD43: =IF(AND(B43>0,AP43="")," * No olvide digitar la variable Migrantes. Digite cero si no tiene.",IF(AP43>B43," * La variable Migrantes no puede ser mayor al Total.","")) | CE43: =IF(AND($B43>0,AQ43="")," * No olvide digitar la variable Teleconsulta de especialidad resueltas por Médicos Generales. Digite cero si no tiene.",IF(AQ43>$B43," * La variable Teleconsulta de especialidad resueltas por Médicos Generales no puede ser mayor al Total.","")) | CF43: =IF(AND($B43>0,AR43="")," * No olvide digitar la variable Serv. Nac. Reinserción Social Juvenil. Digite cero si no tiene.",IF(AR43>$B43," * La variable Serv. Nac. Reinserción Social Juvenil no puede ser mayor al Total.","")) | CG43: =IF(AND($B43>0,AS43="")," * No olvide digitar la variable Serv. Nac. Protección Especializada a la Niñez y Adolescencia. Digite cero si no tiene.",IF(AS43>$B43," * La variable Serv. Nac. Protección Especializada a la Niñez y Adolescencia no puede ser mayor al Total.","")) | CK43: =IF((T43+U43)<>B43,1,0) -> 0 | CL43: =IF((AE43+Z43)>B43,1,0) -> 0 | CM43: =IF(AND(B43>0,AO43=""),1,IF(AO43>B43,1,0)) -> 0 | CN43: =IF(AND(B43>0,AP43=""),1,IF(AP43>B43,1,0)) -> 0 | CO43: =IF(AND($B43>0,AQ43=""),1,IF(AQ43>$B43,1,0)) -> 0 | CP43: =IF(AND($B43>0,AR43=""),1,IF(AR43>$B43,1,0)) -> 0 | CQ43: =IF(AND($B43>0,AS43=""),1,IF(AS43>$B43,1,0)) -> 0
A44: Gastroenterología pediátrica | B44: =SUM(C44:S44) -> 0 | Z44: =SUM(AA44+AB44+AC44+AD44) -> 0 | AE44: =SUM(AF44+AG44+AH44+AI44) -> 0 | AT44: =CA44&CB44&CC44&CD44&CE44&CF44&CG44 | CA44: =IF((T44+U44)<>B44,"* El número de atenciones remotas según Sexo debe ser igual al Total.","") | CB44: =IF((AE44+Z44)>B44," * El Total de Teleconsultas Nuevas no debe ser mayor que el Total","") | CC44: =IF(AND(B44>0,AO44="")," * No olvide digitar la variable Pueblos Originarios. Digite cero si no tiene.",IF(AO44>B44," * La variable Pueblos Originarios no puede ser mayor al Total.","")) | CD44: =IF(AND(B44>0,AP44="")," * No olvide digitar la variable Migrantes. Digite cero si no tiene.",IF(AP44>B44," * La variable Migrantes no puede ser mayor al Total.","")) | CE44: =IF(AND($B44>0,AQ44="")," * No olvide digitar la variable Teleconsulta de especialidad resueltas por Médicos Generales. Digite cero si no tiene.",IF(AQ44>$B44," * La variable Teleconsulta de especialidad resueltas por Médicos Generales no puede ser mayor al Total.","")) | CF44: =IF(AND($B44>0,AR44="")," * No olvide digitar la variable Serv. Nac. Reinserción Social Juvenil. Digite cero si no tiene.",IF(AR44>$B44," * La variable Serv. Nac. Reinserción Social Juvenil no puede ser mayor al Total.","")) | CG44: =IF(AND($B44>0,AS44="")," * No olvide digitar la variable Serv. Nac. Protección Especializada a la Niñez y Adolescencia. Digite cero si no tiene.",IF(AS44>$B44," * La variable Serv. Nac. Protección Especializada a la Niñez y Adolescencia no puede ser mayor al Total.","")) | CK44: =IF((T44+U44)<>B44,1,0) -> 0 | CL44: =IF((AE44+Z44)>B44,1,0) -> 0 | CM44: =IF(AND(B44>0,AO44=""),1,IF(AO44>B44,1,0)) -> 0 | CN44: =IF(AND(B44>0,AP44=""),1,IF(AP44>B44,1,0)) -> 0 | CO44: =IF(AND($B44>0,AQ44=""),1,IF(AQ44>$B44,1,0)) -> 0 | CP44: =IF(AND($B44>0,AR44=""),1,IF(AR44>$B44,1,0)) -> 0 | CQ44: =IF(AND($B44>0,AS44=""),1,IF(AS44>$B44,1,0)) -> 0
A45: Gastroenterología adulto | B45: =SUM(C45:S45) -> 0 | Z45: =SUM(AA45+AB45+AC45+AD45) -> 0 | AE45: =SUM(AF45+AG45+AH45+AI45) -> 0 | AT45: =CA45&CB45&CC45&CD45&CE45&CF45&CG45 | CA45: =IF((T45+U45)<>B45,"* El número de atenciones remotas según Sexo debe ser igual al Total.","") | CB45: =IF((AE45+Z45)>B45," * El Total de Teleconsultas Nuevas no debe ser mayor que el Total","") | CC45: =IF(AND(B45>0,AO45="")," * No olvide digitar la variable Pueblos Originarios. Digite cero si no tiene.",IF(AO45>B45," * La variable Pueblos Originarios no puede ser mayor al Total.","")) | CD45: =IF(AND(B45>0,AP45="")," * No olvide digitar la variable Migrantes. Digite cero si no tiene.",IF(AP45>B45," * La variable Migrantes no puede ser mayor al Total.","")) | CE45: =IF(AND($B45>0,AQ45="")," * No olvide digitar la variable Teleconsulta de especialidad resueltas por Médicos Generales. Digite cero si no tiene.",IF(AQ45>$B45," * La variable Teleconsulta de especialidad resueltas por Médicos Generales no puede ser mayor al Total.","")) | CF45: =IF(AND($B45>0,AR45="")," * No olvide digitar la variable Serv. Nac. Reinserción Social Juvenil. Digite cero si no tiene.",IF(AR45>$B45," * La variable Serv. Nac. Reinserción Social Juvenil no puede ser mayor al Total.","")) | CG45: =IF(AND($B45>0,AS45="")," * No olvide digitar la variable Serv. Nac. Protección Especializada a la Niñez y Adolescencia. Digite cero si no tiene.",IF(AS45>$B45," * La variable Serv. Nac. Protección Especializada a la Niñez y Adolescencia no puede ser mayor al Total.","")) | CK45: =IF((T45+U45)<>B45,1,0) -> 0 | CL45: =IF((AE45+Z45)>B45,1,0) -> 0 | CM45: =IF(AND(B45>0,AO45=""),1,IF(AO45>B45,1,0)) -> 0 | CN45: =IF(AND(B45>0,AP45=""),1,IF(AP45>B45,1,0)) -> 0 | CO45: =IF(AND($B45>0,AQ45=""),1,IF(AQ45>$B45,1,0)) -> 0 | CP45: =IF(AND($B45>0,AR45=""),1,IF(AR45>$B45,1,0)) -> 0 | CQ45: =IF(AND($B45>0,AS45=""),1,IF(AS45>$B45,1,0)) -> 0
A46: Genética clínica | B46: =SUM(C46:S46) -> 0 | Z46: =SUM(AA46+AB46+AC46+AD46) -> 0 | AE46: =SUM(AF46+AG46+AH46+AI46) -> 0 | AT46: =CA46&CB46&CC46&CD46&CE46&CF46&CG46 | CA46: =IF((T46+U46)<>B46,"* El número de atenciones remotas según Sexo debe ser igual al Total.","") | CB46: =IF((AE46+Z46)>B46," * El Total de Teleconsultas Nuevas no debe ser mayor que el Total","") | CC46: =IF(AND(B46>0,AO46="")," * No olvide digitar la variable Pueblos Originarios. Digite cero si no tiene.",IF(AO46>B46," * La variable Pueblos Originarios no puede ser mayor al Total.","")) | CD46: =IF(AND(B46>0,AP46="")," * No olvide digitar la variable Migrantes. Digite cero si no tiene.",IF(AP46>B46," * La variable Migrantes no puede ser mayor al Total.","")) | CE46: =IF(AND($B46>0,AQ46="")," * No olvide digitar la variable Teleconsulta de especialidad resueltas por Médicos Generales. Digite cero si no tiene.",IF(AQ46>$B46," * La variable Teleconsulta de especialidad resueltas por Médicos Generales no puede ser mayor al Total.","")) | CF46: =IF(AND($B46>0,AR46="")," * No olvide digitar la variable Serv. Nac. Reinserción Social Juvenil. Digite cero si no tiene.",IF(AR46>$B46," * La variable Serv. Nac. Reinserción Social Juvenil no puede ser mayor al Total.","")) | CG46: =IF(AND($B46>0,AS46="")," * No olvide digitar la variable Serv. Nac. Protección Especializada a la Niñez y Adolescencia. Digite cero si no tiene.",IF(AS46>$B46," * La variable Serv. Nac. Protección Especializada a la Niñez y Adolescencia no puede ser mayor al Total.","")) | CK46: =IF((T46+U46)<>B46,1,0) -> 0 | CL46: =IF((AE46+Z46)>B46,1,0) -> 0 | CM46: =IF(AND(B46>0,AO46=""),1,IF(AO46>B46,1,0)) -> 0 | CN46: =IF(AND(B46>0,AP46=""),1,IF(AP46>B46,1,0)) -> 0 | CO46: =IF(AND($B46>0,AQ46=""),1,IF(AQ46>$B46,1,0)) -> 0 | CP46: =IF(AND($B46>0,AR46=""),1,IF(AR46>$B46,1,0)) -> 0 | CQ46: =IF(AND($B46>0,AS46=""),1,IF(AS46>$B46,1,0)) -> 0
A47: Hematología | B47: =SUM(C47:S47) -> 0 | Z47: =SUM(AA47+AB47+AC47+AD47) -> 0 | AE47: =SUM(AF47+AG47+AH47+AI47) -> 0 | AT47: =CA47&CB47&CC47&CD47&CE47&CF47&CG47 | CA47: =IF((T47+U47)<>B47,"* El número de atenciones remotas según Sexo debe ser igual al Total.","") | CB47: =IF((AE47+Z47)>B47," * El Total de Teleconsultas Nuevas no debe ser mayor que el Total","") | CC47: =IF(AND(B47>0,AO47="")," * No olvide digitar la variable Pueblos Originarios. Digite cero si no tiene.",IF(AO47>B47," * La variable Pueblos Originarios no puede ser mayor al Total.","")) | CD47: =IF(AND(B47>0,AP47="")," * No olvide digitar la variable Migrantes. Digite cero si no tiene.",IF(AP47>B47," * La variable Migrantes no puede ser mayor al Total.","")) | CE47: =IF(AND($B47>0,AQ47="")," * No olvide digitar la variable Teleconsulta de especialidad resueltas por Médicos Generales. Digite cero si no tiene.",IF(AQ47>$B47," * La variable Teleconsulta de especialidad resueltas por Médicos Generales no puede ser mayor al Total.","")) | CF47: =IF(AND($B47>0,AR47="")," * No olvide digitar la variable Serv. Nac. Reinserción Social Juvenil. Digite cero si no tiene.",IF(AR47>$B47," * La variable Serv. Nac. Reinserción Social Juvenil no puede ser mayor al Total.","")) | CG47: =IF(AND($B47>0,AS47="")," * No olvide digitar la variable Serv. Nac. Protección Especializada a la Niñez y Adolescencia. Digite cero si no tiene.",IF(AS47>$B47," * La variable Serv. Nac. Protección Especializada a la Niñez y Adolescencia no puede ser mayor al Total.","")) | CK47: =IF((T47+U47)<>B47,1,0) -> 0 | CL47: =IF((AE47+Z47)>B47,1,0) -> 0 | CM47: =IF(AND(B47>0,AO47=""),1,IF(AO47>B47,1,0)) -> 0 | CN47: =IF(AND(B47>0,AP47=""),1,IF(AP47>B47,1,0)) -> 0 | CO47: =IF(AND($B47>0,AQ47=""),1,IF(AQ47>$B47,1,0)) -> 0 | CP47: =IF(AND($B47>0,AR47=""),1,IF(AR47>$B47,1,0)) -> 0 | CQ47: =IF(AND($B47>0,AS47=""),1,IF(AS47>$B47,1,0)) -> 0
A48: Medicina del adolescente | B48: =SUM(C48:S48) -> 0 | Z48: =SUM(AA48+AB48+AC48+AD48) -> 0 | AE48: =SUM(AF48+AG48+AH48+AI48) -> 0 | AT48: =CA48&CB48&CC48&CD48&CE48&CF48&CG48 | CA48: =IF((T48+U48)<>B48,"* El número de atenciones remotas según Sexo debe ser igual al Total.","") | CB48: =IF((AE48+Z48)>B48," * El Total de Teleconsultas Nuevas no debe ser mayor que el Total","") | CC48: =IF(AND(B48>0,AO48="")," * No olvide digitar la variable Pueblos Originarios. Digite cero si no tiene.",IF(AO48>B48," * La variable Pueblos Originarios no puede ser mayor al Total.","")) | CD48: =IF(AND(B48>0,AP48="")," * No olvide digitar la variable Migrantes. Digite cero si no tiene.",IF(AP48>B48," * La variable Migrantes no puede ser mayor al Total.","")) | CE48: =IF(AND($B48>0,AQ48="")," * No olvide digitar la variable Teleconsulta de especialidad resueltas por Médicos Generales. Digite cero si no tiene.",IF(AQ48>$B48," * La variable Teleconsulta de especialidad resueltas por Médicos Generales no puede ser mayor al Total.","")) | CF48: =IF(AND($B48>0,AR48="")," * No olvide digitar la variable Serv. Nac. Reinserción Social Juvenil. Digite cero si no tiene.",IF(AR48>$B48," * La variable Serv. Nac. Reinserción Social Juvenil no puede ser mayor al Total.","")) | CG48: =IF(AND($B48>0,AS48="")," * No olvide digitar la variable Serv. Nac. Protección Especializada a la Niñez y Adolescencia. Digite cero si no tiene.",IF(AS48>$B48," * La variable Serv. Nac. Protección Especializada a la Niñez y Adolescencia no puede ser mayor al Total.","")) | CK48: =IF((T48+U48)<>B48,1,0) -> 0 | CL48: =IF((AE48+Z48)>B48,1,0) -> 0 | CM48: =IF(AND(B48>0,AO48=""),1,IF(AO48>B48,1,0)) -> 0 | CN48: =IF(AND(B48>0,AP48=""),1,IF(AP48>B48,1,0)) -> 0 | CO48: =IF(AND($B48>0,AQ48=""),1,IF(AQ48>$B48,1,0)) -> 0 | CP48: =IF(AND($B48>0,AR48=""),1,IF(AR48>$B48,1,0)) -> 0 | CQ48: =IF(AND($B48>0,AS48=""),1,IF(AS48>$B48,1,0)) -> 0
A49: Nefrología pediátrica | B49: =SUM(C49:S49) -> 0 | Z49: =SUM(AA49+AB49+AC49+AD49) -> 0 | AE49: =SUM(AF49+AG49+AH49+AI49) -> 0 | AT49: =CA49&CB49&CC49&CD49&CE49&CF49&CG49 | CA49: =IF((T49+U49)<>B49,"* El número de atenciones remotas según Sexo debe ser igual al Total.","") | CB49: =IF((AE49+Z49)>B49," * El Total de Teleconsultas Nuevas no debe ser mayor que el Total","") | CC49: =IF(AND(B49>0,AO49="")," * No olvide digitar la variable Pueblos Originarios. Digite cero si no tiene.",IF(AO49>B49," * La variable Pueblos Originarios no puede ser mayor al Total.","")) | CD49: =IF(AND(B49>0,AP49="")," * No olvide digitar la variable Migrantes. Digite cero si no tiene.",IF(AP49>B49," * La variable Migrantes no puede ser mayor al Total.","")) | CE49: =IF(AND($B49>0,AQ49="")," * No olvide digitar la variable Teleconsulta de especialidad resueltas por Médicos Generales. Digite cero si no tiene.",IF(AQ49>$B49," * La variable Teleconsulta de especialidad resueltas por Médicos Generales no puede ser mayor al Total.","")) | CF49: =IF(AND($B49>0,AR49="")," * No olvide digitar la variable Serv. Nac. Reinserción Social Juvenil. Digite cero si no tiene.",IF(AR49>$B49," * La variable Serv. Nac. Reinserción Social Juvenil no puede ser mayor al Total.","")) | CG49: =IF(AND($B49>0,AS49="")," * No olvide digitar la variable Serv. Nac. Protección Especializada a la Niñez y Adolescencia. Digite cero si no tiene.",IF(AS49>$B49," * La variable Serv. Nac. Protección Especializada a la Niñez y Adolescencia no puede ser mayor al Total.","")) | CK49: =IF((T49+U49)<>B49,1,0) -> 0 | CL49: =IF((AE49+Z49)>B49,1,0) -> 0 | CM49: =IF(AND(B49>0,AO49=""),1,IF(AO49>B49,1,0)) -> 0 | CN49: =IF(AND(B49>0,AP49=""),1,IF(AP49>B49,1,0)) -> 0 | CO49: =IF(AND($B49>0,AQ49=""),1,IF(AQ49>$B49,1,0)) -> 0 | CP49: =IF(AND($B49>0,AR49=""),1,IF(AR49>$B49,1,0)) -> 0 | CQ49: =IF(AND($B49>0,AS49=""),1,IF(AS49>$B49,1,0)) -> 0
... A66: Cirugía pediátrica | B66: =SUM(C66:S66) -> 0 | Z66: =SUM(AA66+AB66+AC66+AD66) -> 0 | AE66: =SUM(AF66+AG66+AH66+AI66) -> 0 | AT66: =CA66&CB66&CC66&CD66&CE66&CF66&CG66 | CA66: =IF((T66+U66)<>B66,"* El número de atenciones remotas según Sexo debe ser igual al Total.","") | CB66: =IF((AE66+Z66)>B66," * El Total de Teleconsultas Nuevas no debe ser mayor que el Total","") | CC66: =IF(AND(B66>0,AO66="")," * No olvide digitar la variable Pueblos Originarios. Digite cero si no tiene.",IF(AO66>B66," * La variable Pueblos Originarios no puede ser mayor al Total.","")) | CD66: =IF(AND(B66>0,AP66="")," * No olvide digitar la variable Migrantes. Digite cero si no tiene.",IF(AP66>B66," * La variable Migrantes no puede ser mayor al Total.","")) | CE66: =IF(AND($B66>0,AQ66="")," * No olvide digitar la variable Teleconsulta de especialidad resueltas por Médicos Generales. Digite cero si no tiene.",IF(AQ66>$B66," * La variable Teleconsulta de especialidad resueltas por Médicos Generales no puede ser mayor al Total.","")) | CF66: =IF(AND($B66>0,AR66="")," * No olvide digitar la variable Serv. Nac. Reinserción Social Juvenil. Digite cero si no tiene.",IF(AR66>$B66," * La variable Serv. Nac. Reinserción Social Juvenil no puede ser mayor al Total.","")) | CG66: =IF(AND($B66>0,AS66="")," * No olvide digitar la variable Serv. Nac. Protección Especializada a la Niñez y Adolescencia. Digite cero si no tiene.",IF(AS66>$B66," * La variable Serv. Nac. Protección Especializada a la Niñez y Adolescencia no puede ser mayor al Total.","")) | CK66: =IF((T66+U66)<>B66,1,0) -> 0 | CL66: =IF((AE66+Z66)>B66,1,0) -> 0 | CM66: =IF(AND(B66>0,AO66=""),1,IF(AO66>B66,1,0)) -> 0 | CN66: =IF(AND(B66>0,AP66=""),1,IF(AP66>B66,1,0)) -> 0 | CO66: =IF(AND($B66>0,AQ66=""),1,IF(AQ66>$B66,1,0)) -> 0 | CP66: =IF(AND($B66>0,AR66=""),1,IF(AR66>$B66,1,0)) -> 0 | CQ66: =IF(AND($B66>0,AS66=""),1,IF(AS66>$B66,1,0)) -> 0
A67: Cirugía General | B67: =SUM(C67:S67) -> 2 | K67: 1 | N67: 1 | U67: 2 | Z67: =SUM(AA67+AB67+AC67+AD67) -> 0 | AE67: =SUM(AF67+AG67+AH67+AI67) -> 0 | AL67: 2 | AM67: 0 | AN67: 0 | AO67: 0 | AP67: 0 | AQ67: 0 | AR67: 0 | AS67: 0 | AT67: =CA67&CB67&CC67&CD67&CE67&CF67&CG67 | CA67: =IF((T67+U67)<>B67,"* El número de atenciones remotas según Sexo debe ser igual al Total.","") | CB67: =IF((AE67+Z67)>B67," * El Total de Teleconsultas Nuevas no debe ser mayor que el Total","") | CC67: =IF(AND(B67>0,AO67="")," * No olvide digitar la variable Pueblos Originarios. Digite cero si no tiene.",IF(AO67>B67," * La variable Pueblos Originarios no puede ser mayor al Total.","")) | CD67: =IF(AND(B67>0,AP67="")," * No olvide digitar la variable Migrantes. Digite cero si no tiene.",IF(AP67>B67," * La variable Migrantes no puede ser mayor al Total.","")) | CE67: =IF(AND($B67>0,AQ67="")," * No olvide digitar la variable Teleconsulta de especialidad resueltas por Médicos Generales. Digite cero si no tiene.",IF(AQ67>$B67," * La variable Teleconsulta de especialidad resueltas por Médicos Generales no puede ser mayor al Total.","")) | CF67: =IF(AND($B67>0,AR67="")," * No olvide digitar la variable Serv. Nac. Reinserción Social Juvenil. Digite cero si no tiene.",IF(AR67>$B67," * La variable Serv. Nac. Reinserción Social Juvenil no puede ser mayor al Total.","")) | CG67: =IF(AND($B67>0,AS67="")," * No olvide digitar la variable Serv. Nac. Protección Especializada a la Niñez y Adolescencia. Digite cero si no tiene.",IF(AS67>$B67," * La variable Serv. Nac. Protección Especializada a la Niñez y Adolescencia no puede ser mayor al Total.","")) | CK67: =IF((T67+U67)<>B67,1,0) -> 0 | CL67: =IF((AE67+Z67)>B67,1,0) -> 0 | CM67: =IF(AND(B67>0,AO67=""),1,IF(AO67>B67,1,0)) -> 0 | CN67: =IF(AND(B67>0,AP67=""),1,IF(AP67>B67,1,0)) -> 0 | CO67: =IF(AND($B67>0,AQ67=""),1,IF(AQ67>$B67,1,0)) -> 0 | CP67: =IF(AND($B67>0,AR67=""),1,IF(AR67>$B67,1,0)) -> 0 | CQ67: =IF(AND($B67>0,AS67=""),1,IF(AS67>$B67,1,0)) -> 0
A68: Cirugía digestiva (alta) | B68: =SUM(C68:S68) -> 0 | Z68: =SUM(AA68+AB68+AC68+AD68) -> 0 | AE68: =SUM(AF68+AG68+AH68+AI68) -> 0 | AT68: =CA68&CB68&CC68&CD68&CE68&CF68&CG68 | CA68: =IF((T68+U68)<>B68,"* El número de atenciones remotas según Sexo debe ser igual al Total.","") | CB68: =IF((AE68+Z68)>B68," * El Total de Teleconsultas Nuevas no debe ser mayor que el Total","") | CC68: =IF(AND(B68>0,AO68="")," * No olvide digitar la variable Pueblos Originarios. Digite cero si no tiene.",IF(AO68>B68," * La variable Pueblos Originarios no puede ser mayor al Total.","")) | CD68: =IF(AND(B68>0,AP68="")," * No olvide digitar la variable Migrantes. Digite cero si no tiene.",IF(AP68>B68," * La variable Migrantes no puede ser mayor al Total.","")) | CE68: =IF(AND($B68>0,AQ68="")," * No olvide digitar la variable Teleconsulta de especialidad resueltas por Médicos Generales. Digite cero si no tiene.",IF(AQ68>$B68," * La variable Teleconsulta de especialidad resueltas por Médicos Generales no puede ser mayor al Total.","")) | CF68: =IF(AND($B68>0,AR68="")," * No olvide digitar la variable Serv. Nac. Reinserción Social Juvenil. Digite cero si no tiene.",IF(AR68>$B68," * La variable Serv. Nac. Reinserción Social Juvenil no puede ser mayor al Total.","")) | CG68: =IF(AND($B68>0,AS68="")," * No olvide digitar la variable Serv. Nac. Protección Especializada a la Niñez y Adolescencia. Digite cero si no tiene.",IF(AS68>$B68," * La variable Serv. Nac. Protección Especializada a la Niñez y Adolescencia no puede ser mayor al Total.","")) | CK68: =IF((T68+U68)<>B68,1,0) -> 0 | CL68: =IF((AE68+Z68)>B68,1,0) -> 0 | CM68: =IF(AND(B68>0,AO68=""),1,IF(AO68>B68,1,0)) -> 0 | CN68: =IF(AND(B68>0,AP68=""),1,IF(AP68>B68,1,0)) -> 0 | CO68: =IF(AND($B68>0,AQ68=""),1,IF(AQ68>$B68,1,0)) -> 0 | CP68: =IF(AND($B68>0,AR68=""),1,IF(AR68>$B68,1,0)) -> 0 | CQ68: =IF(AND($B68>0,AS68=""),1,IF(AS68>$B68,1,0)) -> 0
A69: Cirugía de cabeza, cuello y maxilofacial | B69: =SUM(C69:S69) -> 0 | Z69: =SUM(AA69+AB69+AC69+AD69) -> 0 | AE69: =SUM(AF69+AG69+AH69+AI69) -> 0 | AT69: =CA69&CB69&CC69&CD69&CE69&CF69&CG69 | CA69: =IF((T69+U69)<>B69,"* El número de atenciones remotas según Sexo debe ser igual al Total.","") | CB69: =IF((AE69+Z69)>B69," * El Total de Teleconsultas Nuevas no debe ser mayor que el Total","") | CC69: =IF(AND(B69>0,AO69="")," * No olvide digitar la variable Pueblos Originarios. Digite cero si no tiene.",IF(AO69>B69," * La variable Pueblos Originarios no puede ser mayor al Total.","")) | CD69: =IF(AND(B69>0,AP69="")," * No olvide digitar la variable Migrantes. Digite cero si no tiene.",IF(AP69>B69," * La variable Migrantes no puede ser mayor al Total.","")) | CE69: =IF(AND($B69>0,AQ69="")," * No olvide digitar la variable Teleconsulta de especialidad resueltas por Médicos Generales. Digite cero si no tiene.",IF(AQ69>$B69," * La variable Teleconsulta de especialidad resueltas por Médicos Generales no puede ser mayor al Total.","")) | CF69: =IF(AND($B69>0,AR69="")," * No olvide digitar la variable Serv. Nac. Reinserción Social Juvenil. Digite cero si no tiene.",IF(AR69>$B69," * La variable Serv. Nac. Reinserción Social Juvenil no puede ser mayor al Total.","")) | CG69: =IF(AND($B69>0,AS69="")," * No olvide digitar la variable Serv. Nac. Protección Especializada a la Niñez y Adolescencia. Digite cero si no tiene.",IF(AS69>$B69," * La variable Serv. Nac. Protección Especializada a la Niñez y Adolescencia no puede ser mayor al Total.","")) | CK69: =IF((T69+U69)<>B69,1,0) -> 0 | CL69: =IF((AE69+Z69)>B69,1,0) -> 0 | CM69: =IF(AND(B69>0,AO69=""),1,IF(AO69>B69,1,0)) -> 0 | CN69: =IF(AND(B69>0,AP69=""),1,IF(AP69>B69,1,0)) -> 0 | CO69: =IF(AND($B69>0,AQ69=""),1,IF(AQ69>$B69,1,0)) -> 0 | CP69: =IF(AND($B69>0,AR69=""),1,IF(AR69>$B69,1,0)) -> 0 | CQ69: =IF(AND($B69>0,AS69=""),1,IF(AS69>$B69,1,0)) -> 0
A70: Cirugía Plástica y Reparadora | B70: =SUM(C70:S70) -> 0 | Z70: =SUM(AA70+AB70+AC70+AD70) -> 0 | AE70: =SUM(AF70+AG70+AH70+AI70) -> 0 | AT70: =CA70&CB70&CC70&CD70&CE70&CF70&CG70 | CA70: =IF((T70+U70)<>B70,"* El número de atenciones remotas según Sexo debe ser igual al Total.","") | CB70: =IF((AE70+Z70)>B70," * El Total de Teleconsultas Nuevas no debe ser mayor que el Total","") | CC70: =IF(AND(B70>0,AO70="")," * No olvide digitar la variable Pueblos Originarios. Digite cero si no tiene.",IF(AO70>B70," * La variable Pueblos Originarios no puede ser mayor al Total.","")) | CD70: =IF(AND(B70>0,AP70="")," * No olvide digitar la variable Migrantes. Digite cero si no tiene.",IF(AP70>B70," * La variable Migrantes no puede ser mayor al Total.","")) | CE70: =IF(AND($B70>0,AQ70="")," * No olvide digitar la variable Teleconsulta de especialidad resueltas por Médicos Generales. Digite cero si no tiene.",IF(AQ70>$B70," * La variable Teleconsulta de especialidad resueltas por Médicos Generales no puede ser mayor al Total.","")) | CF70: =IF(AND($B70>0,AR70="")," * No olvide digitar la variable Serv. Nac. Reinserción Social Juvenil. Digite cero si no tiene.",IF(AR70>$B70," * La variable Serv. Nac. Reinserción Social Juvenil no puede ser mayor al Total.","")) | CG70: =IF(AND($B70>0,AS70="")," * No olvide digitar la variable Serv. Nac. Protección Especializada a la Niñez y Adolescencia. Digite cero si no tiene.",IF(AS70>$B70," * La variable Serv. Nac. Protección Especializada a la Niñez y Adolescencia no puede ser mayor al Total.","")) | CK70: =IF((T70+U70)<>B70,1,0) -> 0 | CL70: =IF((AE70+Z70)>B70,1,0) -> 0 | CM70: =IF(AND(B70>0,AO70=""),1,IF(AO70>B70,1,0)) -> 0 | CN70: =IF(AND(B70>0,AP70=""),1,IF(AP70>B70,1,0)) -> 0 | CO70: =IF(AND($B70>0,AQ70=""),1,IF(AQ70>$B70,1,0)) -> 0 | CP70: =IF(AND($B70>0,AR70=""),1,IF(AR70>$B70,1,0)) -> 0 | CQ70: =IF(AND($B70>0,AS70=""),1,IF(AS70>$B70,1,0)) -> 0
A71: Medicina del Deporte | B71: =SUM(C71:S71) -> 0 | Z71: =SUM(AA71+AB71+AC71+AD71) -> 0 | AE71: =SUM(AF71+AG71+AH71+AI71) -> 0 | AT71: =CA71&CB71&CC71&CD71&CE71&CF71&CG71 | CA71: =IF((T71+U71)<>B71,"* El número de atenciones remotas según Sexo debe ser igual al Total.","") | CB71: =IF((AE71+Z71)>B71," * El Total de Teleconsultas Nuevas no debe ser mayor que el Total","") | CC71: =IF(AND(B71>0,AO71="")," * No olvide digitar la variable Pueblos Originarios. Digite cero si no tiene.",IF(AO71>B71," * La variable Pueblos Originarios no puede ser mayor al Total.","")) | CD71: =IF(AND(B71>0,AP71="")," * No olvide digitar la variable Migrantes. Digite cero si no tiene.",IF(AP71>B71," * La variable Migrantes no puede ser mayor al Total.","")) | CE71: =IF(AND($B71>0,AQ71="")," * No olvide digitar la variable Teleconsulta de especialidad resueltas por Médicos Generales. Digite cero si no tiene.",IF(AQ71>$B71," * La variable Teleconsulta de especialidad resueltas por Médicos Generales no puede ser mayor al Total.","")) | CF71: =IF(AND($B71>0,AR71="")," * No olvide digitar la variable Serv. Nac. Reinserción Social Juvenil. Digite cero si no tiene.",IF(AR71>$B71," * La variable Serv. Nac. Reinserción Social Juvenil no puede ser mayor al Total.","")) | CG71: =IF(AND($B71>0,AS71="")," * No olvide digitar la variable Serv. Nac. Protección Especializada a la Niñez y Adolescencia. Digite cero si no tiene.",IF(AS71>$B71," * La variable Serv. Nac. Protección Especializada a la Niñez y Adolescencia no puede ser mayor al Total.","")) | CK71: =IF((T71+U71)<>B71,1,0) -> 0 | CL71: =IF((AE71+Z71)>B71,1,0) -> 0 | CM71: =IF(AND(B71>0,AO71=""),1,IF(AO71>B71,1,0)) -> 0 | CN71: =IF(AND(B71>0,AP71=""),1,IF(AP71>B71,1,0)) -> 0 | CO71: =IF(AND($B71>0,AQ71=""),1,IF(AQ71>$B71,1,0)) -> 0 | CP71: =IF(AND($B71>0,AR71=""),1,IF(AR71>$B71,1,0)) -> 0 | CQ71: =IF(AND($B71>0,AS71=""),1,IF(AS71>$B71,1,0)) -> 0
A72: Coloproctología (cirugia digestiva baja) | B72: =SUM(C72:S72) -> 0 | Z72: =SUM(AA72+AB72+AC72+AD72) -> 0 | AE72: =SUM(AF72+AG72+AH72+AI72) -> 0 | AT72: =CA72&CB72&CC72&CD72&CE72&CF72&CG72 | CA72: =IF((T72+U72)<>B72,"* El número de atenciones remotas según Sexo debe ser igual al Total.","") | CB72: =IF((AE72+Z72)>B72," * El Total de Teleconsultas Nuevas no debe ser mayor que el Total","") | CC72: =IF(AND(B72>0,AO72="")," * No olvide digitar la variable Pueblos Originarios. Digite cero si no tiene.",IF(AO72>B72," * La variable Pueblos Originarios no puede ser mayor al Total.","")) | CD72: =IF(AND(B72>0,AP72="")," * No olvide digitar la variable Migrantes. Digite cero si no tiene.",IF(AP72>B72," * La variable Migrantes no puede ser mayor al Total.","")) | CE72: =IF(AND($B72>0,AQ72="")," * No olvide digitar la variable Teleconsulta de especialidad resueltas por Médicos Generales. Digite cero si no tiene.",IF(AQ72>$B72," * La variable Teleconsulta de especialidad resueltas por Médicos Generales no puede ser mayor al Total.","")) | CF72: =IF(AND($B72>0,AR72="")," * No olvide digitar la variable Serv. Nac. Reinserción Social Juvenil. Digite cero si no tiene.",IF(AR72>$B72," * La variable Serv. Nac. Reinserción Social Juvenil no puede ser mayor al Total.","")) | CG72: =IF(AND($B72>0,AS72="")," * No olvide digitar la variable Serv. Nac. Protección Especializada a la Niñez y Adolescencia. Digite cero si no tiene.",IF(AS72>$B72," * La variable Serv. Nac. Protección Especializada a la Niñez y Adolescencia no puede ser mayor al Total.","")) | CK72: =IF((T72+U72)<>B72,1,0) -> 0 | CL72: =IF((AE72+Z72)>B72,1,0) -> 0 | CM72: =IF(AND(B72>0,AO72=""),1,IF(AO72>B72,1,0)) -> 0 | CN72: =IF(AND(B72>0,AP72=""),1,IF(AP72>B72,1,0)) -> 0 | CO72: =IF(AND($B72>0,AQ72=""),1,IF(AQ72>$B72,1,0)) -> 0 | CP72: =IF(AND($B72>0,AR72=""),1,IF(AR72>$B72,1,0)) -> 0 | CQ72: =IF(AND($B72>0,AS72=""),1,IF(AS72>$B72,1,0)) -> 0
A73: Cirugía tórax | B73: =SUM(C73:S73) -> 0 | Z73: =SUM(AA73+AB73+AC73+AD73) -> 0 | AE73: =SUM(AF73+AG73+AH73+AI73) -> 0 | AT73: =CA73&CB73&CC73&CD73&CE73&CF73&CG73 | CA73: =IF((T73+U73)<>B73,"* El número de atenciones remotas según Sexo debe ser igual al Total.","") | CB73: =IF((AE73+Z73)>B73," * El Total de Teleconsultas Nuevas no debe ser mayor que el Total","") | CC73: =IF(AND(B73>0,AO73="")," * No olvide digitar la variable Pueblos Originarios. Digite cero si no tiene.",IF(AO73>B73," * La variable Pueblos Originarios no puede ser mayor al Total.","")) | CD73: =IF(AND(B73>0,AP73="")," * No olvide digitar la variable Migrantes. Digite cero si no tiene.",IF(AP73>B73," * La variable Migrantes no puede ser mayor al Total.","")) | CE73: =IF(AND($B73>0,AQ73="")," * No olvide digitar la variable Teleconsulta de especialidad resueltas por Médicos Generales. Digite cero si no tiene.",IF(AQ73>$B73," * La variable Teleconsulta de especialidad resueltas por Médicos Generales no puede ser mayor al Total.","")) | CF73: =IF(AND($B73>0,AR73="")," * No olvide digitar la variable Serv. Nac. Reinserción Social Juvenil. Digite cero si no tiene.",IF(AR73>$B73," * La variable Serv. Nac. Reinserción Social Juvenil no puede ser mayor al Total.","")) | CG73: =IF(AND($B73>0,AS73="")," * No olvide digitar la variable Serv. Nac. Protección Especializada a la Niñez y Adolescencia. Digite cero si no tiene.",IF(AS73>$B73," * La variable Serv. Nac. Protección Especializada a la Niñez y Adolescencia no puede ser mayor al Total.","")) | CK73: =IF((T73+U73)<>B73,1,0) -> 0 | CL73: =IF((AE73+Z73)>B73,1,0) -> 0 | CM73: =IF(AND(B73>0,AO73=""),1,IF(AO73>B73,1,0)) -> 0 | CN73: =IF(AND(B73>0,AP73=""),1,IF(AP73>B73,1,0)) -> 0 | CO73: =IF(AND($B73>0,AQ73=""),1,IF(AQ73>$B73,1,0)) -> 0 | CP73: =IF(AND($B73>0,AR73=""),1,IF(AR73>$B73,1,0)) -> 0 | CQ73: =IF(AND($B73>0,AS73=""),1,IF(AS73>$B73,1,0)) -> 0
A74: Cirugía vascular periférica | B74: =SUM(C74:S74) -> 0 | Z74: =SUM(AA74+AB74+AC74+AD74) -> 0 | AE74: =SUM(AF74+AG74+AH74+AI74) -> 0 | AT74: =CA74&CB74&CC74&CD74&CE74&CF74&CG74 | CA74: =IF((T74+U74)<>B74,"* El número de atenciones remotas según Sexo debe ser igual al Total.","") | CB74: =IF((AE74+Z74)>B74," * El Total de Teleconsultas Nuevas no debe ser mayor que el Total","") | CC74: =IF(AND(B74>0,AO74="")," * No olvide digitar la variable Pueblos Originarios. Digite cero si no tiene.",IF(AO74>B74," * La variable Pueblos Originarios no puede ser mayor al Total.","")) | CD74: =IF(AND(B74>0,AP74="")," * No olvide digitar la variable Migrantes. Digite cero si no tiene.",IF(AP74>B74," * La variable Migrantes no puede ser mayor al Total.","")) | CE74: =IF(AND($B74>0,AQ74="")," * No olvide digitar la variable Teleconsulta de especialidad resueltas por Médicos Generales. Digite cero si no tiene.",IF(AQ74>$B74," * La variable Teleconsulta de especialidad resueltas por Médicos Generales no puede ser mayor al Total.","")) | CF74: =IF(AND($B74>0,AR74="")," * No olvide digitar la variable Serv. Nac. Reinserción Social Juvenil. Digite cero si no tiene.",IF(AR74>$B74," * La variable Serv. Nac. Reinserción Social Juvenil no puede ser mayor al Total.","")) | CG74: =IF(AND($B74>0,AS74="")," * No olvide digitar la variable Serv. Nac. Protección Especializada a la Niñez y Adolescencia. Digite cero si no tiene.",IF(AS74>$B74," * La variable Serv. Nac. Protección Especializada a la Niñez y Adolescencia no puede ser mayor al Total.","")) | CK74: =IF((T74+U74)<>B74,1,0) -> 0 | CL74: =IF((AE74+Z74)>B74,1,0) -> 0 | CM74: =IF(AND(B74>0,AO74=""),1,IF(AO74>B74,1,0)) -> 0 | CN74: =IF(AND(B74>0,AP74=""),1,IF(AP74>B74,1,0)) -> 0 | CO74: =IF(AND($B74>0,AQ74=""),1,IF(AQ74>$B74,1,0)) -> 0 | CP74: =IF(AND($B74>0,AR74=""),1,IF(AR74>$B74,1,0)) -> 0 | CQ74: =IF(AND($B74>0,AS74=""),1,IF(AS74>$B74,1,0)) -> 0
A75: Neurocirugía | B75: =SUM(C75:S75) -> 0 | Z75: =SUM(AA75+AB75+AC75+AD75) -> 0 | AE75: =SUM(AF75+AG75+AH75+AI75) -> 0 | AT75: =CA75&CB75&CC75&CD75&CE75&CF75&CG75 | CA75: =IF((T75+U75)<>B75,"* El número de atenciones remotas según Sexo debe ser igual al Total.","") | CB75: =IF((AE75+Z75)>B75," * El Total de Teleconsultas Nuevas no debe ser mayor que el Total","") | CC75: =IF(AND(B75>0,AO75="")," * No olvide digitar la variable Pueblos Originarios. Digite cero si no tiene.",IF(AO75>B75," * La variable Pueblos Originarios no puede ser mayor al Total.","")) | CD75: =IF(AND(B75>0,AP75="")," * No olvide digitar la variable Migrantes. Digite cero si no tiene.",IF(AP75>B75," * La variable Migrantes no puede ser mayor al Total.","")) | CE75: =IF(AND($B75>0,AQ75="")," * No olvide digitar la variable Teleconsulta de especialidad resueltas por Médicos Generales. Digite cero si no tiene.",IF(AQ75>$B75," * La variable Teleconsulta de especialidad resueltas por Médicos Generales no puede ser mayor al Total.","")) | CF75: =IF(AND($B75>0,AR75="")," * No olvide digitar la variable Serv. Nac. Reinserción Social Juvenil. Digite cero si no tiene.",IF(AR75>$B75," * La variable Serv. Nac. Reinserción Social Juvenil no puede ser mayor al Total.","")) | CG75: =IF(AND($B75>0,AS75="")," * No olvide digitar la variable Serv. Nac. Protección Especializada a la Niñez y Adolescencia. Digite cero si no tiene.",IF(AS75>$B75," * La variable Serv. Nac. Protección Especializada a la Niñez y Adolescencia no puede ser mayor al Total.","")) | CK75: =IF((T75+U75)<>B75,1,0) -> 0 | CL75: =IF((AE75+Z75)>B75,1,0) -> 0 | CM75: =IF(AND(B75>0,AO75=""),1,IF(AO75>B75,1,0)) -> 0 | CN75: =IF(AND(B75>0,AP75=""),1,IF(AP75>B75,1,0)) -> 0 | CO75: =IF(AND($B75>0,AQ75=""),1,IF(AQ75>$B75,1,0)) -> 0 | CP75: =IF(AND($B75>0,AR75=""),1,IF(AR75>$B75,1,0)) -> 0 | CQ75: =IF(AND($B75>0,AS75=""),1,IF(AS75>$B75,1,0)) -> 0
A76: Cirugía cardiovascular | B76: =SUM(C76:S76) -> 0 | Z76: =SUM(AA76+AB76+AC76+AD76) -> 0 | AE76: =SUM(AF76+AG76+AH76+AI76) -> 0 | AT76: =CA76&CB76&CC76&CD76&CE76&CF76&CG76 | CA76: =IF((T76+U76)<>B76,"* El número de atenciones remotas según Sexo debe ser igual al Total.","") | CB76: =IF((AE76+Z76)>B76," * El Total de Teleconsultas Nuevas no debe ser mayor que el Total","") | CC76: =IF(AND(B76>0,AO76="")," * No olvide digitar la variable Pueblos Originarios. Digite cero si no tiene.",IF(AO76>B76," * La variable Pueblos Originarios no puede ser mayor al Total.","")) | CD76: =IF(AND(B76>0,AP76="")," * No olvide digitar la variable Migrantes. Digite cero si no tiene.",IF(AP76>B76," * La variable Migrantes no puede ser mayor al Total.","")) | CE76: =IF(AND($B76>0,AQ76="")," * No olvide digitar la variable Teleconsulta de especialidad resueltas por Médicos Generales. Digite cero si no tiene.",IF(AQ76>$B76," * La variable Teleconsulta de especialidad resueltas por Médicos Generales no puede ser mayor al Total.","")) | CF76: =IF(AND($B76>0,AR76="")," * No olvide digitar la variable Serv. Nac. Reinserción Social Juvenil. Digite cero si no tiene.",IF(AR76>$B76," * La variable Serv. Nac. Reinserción Social Juvenil no puede ser mayor al Total.","")) | CG76: =IF(AND($B76>0,AS76="")," * No olvide digitar la variable Serv. Nac. Protección Especializada a la Niñez y Adolescencia. Digite cero si no tiene.",IF(AS76>$B76," * La variable Serv. Nac. Protección Especializada a la Niñez y Adolescencia no puede ser mayor al Total.","")) | CK76: =IF((T76+U76)<>B76,1,0) -> 0 | CL76: =IF((AE76+Z76)>B76,1,0) -> 0 | CM76: =IF(AND(B76>0,AO76=""),1,IF(AO76>B76,1,0)) -> 0 | CN76: =IF(AND(B76>0,AP76=""),1,IF(AP76>B76,1,0)) -> 0 | CO76: =IF(AND($B76>0,AQ76=""),1,IF(AQ76>$B76,1,0)) -> 0 | CP76: =IF(AND($B76>0,AR76=""),1,IF(AR76>$B76,1,0)) -> 0 | CQ76: =IF(AND($B76>0,AS76=""),1,IF(AS76>$B76,1,0)) -> 0
A77: Anestesiología | B77: =SUM(C77:S77) -> 10 | L77: 1 | O77: 3 | Q77: 2 | S77: 4 | T77: 5 | U77: 5 | W77: 1 | Z77: =SUM(AA77+AB77+AC77+AD77) -> 0 | AE77: =SUM(AF77+AG77+AH77+AI77) -> 0 | AJ77: 0 | AK77: 0 | AL77: 10 | AM77: 10 | AN77: 0 | AO77: 0 | AP77: 0 | AQ77: 0 | AR77: 0 | AS77: 0 | AT77: =CA77&CB77&CC77&CD77&CE77&CF77&CG77 | CA77: =IF((T77+U77)<>B77,"* El número de atenciones remotas según Sexo debe ser igual al Total.","") | CB77: =IF((AE77+Z77)>B77," * El Total de Teleconsultas Nuevas no debe ser mayor que el Total","") | CC77: =IF(AND(B77>0,AO77="")," * No olvide digitar la variable Pueblos Originarios. Digite cero si no tiene.",IF(AO77>B77," * La variable Pueblos Originarios no puede ser mayor al Total.","")) | CD77: =IF(AND(B77>0,AP77="")," * No olvide digitar la variable Migrantes. Digite cero si no tiene.",IF(AP77>B77," * La variable Migrantes no puede ser mayor al Total.","")) | CE77: =IF(AND($B77>0,AQ77="")," * No olvide digitar la variable Teleconsulta de especialidad resueltas por Médicos Generales. Digite cero si no tiene.",IF(AQ77>$B77," * La variable Teleconsulta de especialidad resueltas por Médicos Generales no puede ser mayor al Total.","")) | CF77: =IF(AND($B77>0,AR77="")," * No olvide digitar la variable Serv. Nac. Reinserción Social Juvenil. Digite cero si no tiene.",IF(AR77>$B77," * La variable Serv. Nac. Reinserción Social Juvenil no puede ser mayor al Total.","")) | CG77: =IF(AND($B77>0,AS77="")," * No olvide digitar la variable Serv. Nac. Protección Especializada a la Niñez y Adolescencia. Digite cero si no tiene.",IF(AS77>$B77," * La variable Serv. Nac. Protección Especializada a la Niñez y Adolescencia no puede ser mayor al Total.","")) | CK77: =IF((T77+U77)<>B77,1,0) -> 0 | CL77: =IF((AE77+Z77)>B77,1,0) -> 0 | CM77: =IF(AND(B77>0,AO77=""),1,IF(AO77>B77,1,0)) -> 0 | CN77: =IF(AND(B77>0,AP77=""),1,IF(AP77>B77,1,0)) -> 0 | CO77: =IF(AND($B77>0,AQ77=""),1,IF(AQ77>$B77,1,0)) -> 0 | CP77: =IF(AND($B77>0,AR77=""),1,IF(AR77>$B77,1,0)) -> 0 | CQ77: =IF(AND($B77>0,AS77=""),1,IF(AS77>$B77,1,0)) -> 0
A78: Obstetricia y Ginecología | B78: =SUM(C78:S78) -> 1 | K78: 1 | U78: 1 | Z78: =SUM(AA78+AB78+AC78+AD78) -> 0 | AE78: =SUM(AF78+AG78+AH78+AI78) -> 0 | AL78: 1 | AM78: 0 | AN78: 0 | AO78: 0 | AP78: 0 | AQ78: 0 | AR78: 0 | AS78: 0 | AT78: =CA78&CB78&CC78&CD78&CE78&CF78&CG78 | CA78: =IF((T78+U78)<>B78,"* El número de atenciones remotas según Sexo debe ser igual al Total.","") | CB78: =IF((AE78+Z78)>B78," * El Total de Teleconsultas Nuevas no debe ser mayor que el Total","") | CC78: =IF(AND(B78>0,AO78="")," * No olvide digitar la variable Pueblos Originarios. Digite cero si no tiene.",IF(AO78>B78," * La variable Pueblos Originarios no puede ser mayor al Total.","")) | CD78: =IF(AND(B78>0,AP78="")," * No olvide digitar la variable Migrantes. Digite cero si no tiene.",IF(AP78>B78," * La variable Migrantes no puede ser mayor al Total.","")) | CE78: =IF(AND($B78>0,AQ78="")," * No olvide digitar la variable Teleconsulta de especialidad resueltas por Médicos Generales. Digite cero si no tiene.",IF(AQ78>$B78," * La variable Teleconsulta de especialidad resueltas por Médicos Generales no puede ser mayor al Total.","")) | CF78: =IF(AND($B78>0,AR78="")," * No olvide digitar la variable Serv. Nac. Reinserción Social Juvenil. Digite cero si no tiene.",IF(AR78>$B78," * La variable Serv. Nac. Reinserción Social Juvenil no puede ser mayor al Total.","")) | CG78: =IF(AND($B78>0,AS78="")," * No olvide digitar la variable Serv. Nac. Protección Especializada a la Niñez y Adolescencia. Digite cero si no tiene.",IF(AS78>$B78," * La variable Serv. Nac. Protección Especializada a la Niñez y Adolescencia no puede ser mayor al Total.","")) | CK78: =IF((T78+U78)<>B78,1,0) -> 0 | CL78: =IF((AE78+Z78)>B78,1,0) -> 0 | CM78: =IF(AND(B78>0,AO78=""),1,IF(AO78>B78,1,0)) -> 0 | CN78: =IF(AND(B78>0,AP78=""),1,IF(AP78>B78,1,0)) -> 0 | CO78: =IF(AND($B78>0,AQ78=""),1,IF(AQ78>$B78,1,0)) -> 0 | CP78: =IF(AND($B78>0,AR78=""),1,IF(AR78>$B78,1,0)) -> 0 | CQ78: =IF(AND($B78>0,AS78=""),1,IF(AS78>$B78,1,0)) -> 0
A79: Ginecología oncológica | B79: =SUM(C79:S79) -> 0 | Z79: =SUM(AA79+AB79+AC79+AD79) -> 0 | AE79: =SUM(AF79+AG79+AH79+AI79) -> 0 | AT79: =CA79&CB79&CC79&CD79&CE79&CF79&CG79 | CA79: =IF((T79+U79)<>B79,"* El número de atenciones remotas según Sexo debe ser igual al Total.","") | CB79: =IF((AE79+Z79)>B79," * El Total de Teleconsultas Nuevas no debe ser mayor que el Total","") | CC79: =IF(AND(B79>0,AO79="")," * No olvide digitar la variable Pueblos Originarios. Digite cero si no tiene.",IF(AO79>B79," * La variable Pueblos Originarios no puede ser mayor al Total.","")) | CD79: =IF(AND(B79>0,AP79="")," * No olvide digitar la variable Migrantes. Digite cero si no tiene.",IF(AP79>B79," * La variable Migrantes no puede ser mayor al Total.","")) | CE79: =IF(AND($B79>0,AQ79="")," * No olvide digitar la variable Teleconsulta de especialidad resueltas por Médicos Generales. Digite cero si no tiene.",IF(AQ79>$B79," * La variable Teleconsulta de especialidad resueltas por Médicos Generales no puede ser mayor al Total.","")) | CF79: =IF(AND($B79>0,AR79="")," * No olvide digitar la variable Serv. Nac. Reinserción Social Juvenil. Digite cero si no tiene.",IF(AR79>$B79," * La variable Serv. Nac. Reinserción Social Juvenil no puede ser mayor al Total.","")) | CG79: =IF(AND($B79>0,AS79="")," * No olvide digitar la variable Serv. Nac. Protección Especializada a la Niñez y Adolescencia. Digite cero si no tiene.",IF(AS79>$B79," * La variable Serv. Nac. Protección Especializada a la Niñez y Adolescencia no puede ser mayor al Total.","")) | CK79: =IF((T79+U79)<>B79,1,0) -> 0 | CL79: =IF((AE79+Z79)>B79,1,0) -> 0 | CM79: =IF(AND(B79>0,AO79=""),1,IF(AO79>B79,1,0)) -> 0 | CN79: =IF(AND(B79>0,AP79=""),1,IF(AP79>B79,1,0)) -> 0 | CO79: =IF(AND($B79>0,AQ79=""),1,IF(AQ79>$B79,1,0)) -> 0 | CP79: =IF(AND($B79>0,AR79=""),1,IF(AR79>$B79,1,0)) -> 0 | CQ79: =IF(AND($B79>0,AS79=""),1,IF(AS79>$B79,1,0)) -> 0
A80: NeuroRadiologia | B80: =SUM(C80:S80) -> 0 | Z80: =SUM(AA80+AB80+AC80+AD80) -> 0 | AE80: =SUM(AF80+AG80+AH80+AI80) -> 0 | AT80: =CA80&CB80&CC80&CD80&CE80&CF80&CG80 | CA80: =IF((T80+U80)<>B80,"* El número de atenciones remotas según Sexo debe ser igual al Total.","") | CB80: =IF((AE80+Z80)>B80," * El Total de Teleconsultas Nuevas no debe ser mayor que el Total","") | CC80: =IF(AND(B80>0,AO80="")," * No olvide digitar la variable Pueblos Originarios. Digite cero si no tiene.",IF(AO80>B80," * La variable Pueblos Originarios no puede ser mayor al Total.","")) | CD80: =IF(AND(B80>0,AP80="")," * No olvide digitar la variable Migrantes. Digite cero si no tiene.",IF(AP80>B80," * La variable Migrantes no puede ser mayor al Total.","")) | CE80: =IF(AND($B80>0,AQ80="")," * No olvide digitar la variable Teleconsulta de especialidad resueltas por Médicos Generales. Digite cero si no tiene.",IF(AQ80>$B80," * La variable Teleconsulta de especialidad resueltas por Médicos Generales no puede ser mayor al Total.","")) | CF80: =IF(AND($B80>0,AR80="")," * No olvide digitar la variable Serv. Nac. Reinserción Social Juvenil. Digite cero si no tiene.",IF(AR80>$B80," * La variable Serv. Nac. Reinserción Social Juvenil no puede ser mayor al Total.","")) | CG80: =IF(AND($B80>0,AS80="")," * No olvide digitar la variable Serv. Nac. Protección Especializada a la Niñez y Adolescencia. Digite cero si no tiene.",IF(AS80>$B80," * La variable Serv. Nac. Protección Especializada a la Niñez y Adolescencia no puede ser mayor al Total.","")) | CK80: =IF((T80+U80)<>B80,1,0) -> 0 | CL80: =IF((AE80+Z80)>B80,1,0) -> 0 | CM80: =IF(AND(B80>0,AO80=""),1,IF(AO80>B80,1,0)) -> 0 | CN80: =IF(AND(B80>0,AP80=""),1,IF(AP80>B80,1,0)) -> 0 | CO80: =IF(AND($B80>0,AQ80=""),1,IF(AQ80>$B80,1,0)) -> 0 | CP80: =IF(AND($B80>0,AR80=""),1,IF(AR80>$B80,1,0)) -> 0 | CQ80: =IF(AND($B80>0,AS80=""),1,IF(AS80>$B80,1,0)) -> 0
