Workbook

Sheet CONSOLIDADO
A1: SERVICIO DE SALUD
A2: =CONCATENATE("COMUNA: ",[1]NOMBRE!B2, " (",[1]NOMBRE!C2,[1]NOMBRE!D2,[1]NOMBRE!E2,[1]NOMBRE!F2,[1]NOMBRE!G2,")") -> COMUNA: 0 (00000)
A3: =CONCATENATE("ESTABLECIMIENTO/ESTRATEGIA: ", [1]NOMBRE!B3, " (",[1]NOMBRE!C3,[1]NOMBRE!D3,[1]NOMBRE!E3,[1]NOMBRE!F3,[1]NOMBRE!G3,[1]NOMBRE!H3,")") -> ESTABLECIMIENTO/ESTRATEGIA: 0 (000000)
A4: =CONCATENATE("MES: ",[1]NOMBRE!B6, " (",[1]NOMBRE!C6,[1]NOMBRE!D6,")") -> MES: 0 (00)
A5: =CONCATENATE("AÑO: ",[1]NOMBRE!B7) -> AÑO: 2025
A6: REM-30. ATENCIONES POR TELEMEDICINA EN LA RED ASISTENCIAL
A8: SECCIÓN A: TELEINTERCONSULTA DE ESPECIALIDAD (ATENCION REALIZADA DE MÉDICO A MÉDICO)
A9: Especialidades | B9: Teleinterconsulta médica de especialidad ambulatoria nueva | J9: Teleinterconsulta médica de especialidad ambulatoria control | R9: TOTAL TELEINTERCONSULTAS MEDICAS AMBULATORIAS DE ESPECIALIDAD | Z9: Modalidad | AC9: Teleinterconsulta medicina de especialidad realizadas a pacientes hospitalizados | AK9: Modalidad | AN9: Teleinterconsultas solicitadas desde APS o Nivel Secundario para ser resueltas por otro establecimiento
B10: 0 - 14 años | D10: 15 - 17 años | F10: 18-19 años | H10: 20 y más años | J10: 0 - 14 años | L10: 15 - 17 años | N10: 18 - 19 años | P10: 20 y más años | R10: 0 - 14 años | T10: 15 - 17 años | V10: 18- 19 años | X10: 20 y más años | Z10: Institucional | AA10: Compra de Servicio | AC10: 0 - 14 años | AE10: 15 - 17 años | AG10: 18 a 19 años | AI10: 20 y más años | AK10: Institucional | AL10: Compra de Servicio | AN10: 0 - 14 años | AP10: 15 - 17 años | AR10: 18 - 19 años | AT10: 20 y más años
B11: Hombres | C11: Mujeres | D11: Hombres | E11: Mujeres | F11: Hombres | G11: Mujeres | H11: Hombres | I11: Mujeres | J11: Hombres | K11: Mujeres | L11: Hombres | M11: Mujeres | N11: Hombres | O11: Mujeres | P11: Hombres | Q11: Mujeres | R11: Hombres | S11: Mujeres | T11: Hombres | U11: Mujeres | V11: Hombres | W11: Mujeres | X11: Hombres | Y11: Mujeres | AA11: Sistema | AB11: Extrasistema | AC11: Hombres | AD11: Mujeres | AE11: Hombres | AF11: Mujeres | AG11: Hombres | AH11: Mujeres | AI11: Hombres | AJ11: Mujeres | AL11: Sistema | AM11: Extrasistema | AN11: Hombres | AO11: Mujeres | AP11: Hombres | AQ11: Mujeres | AR11: Hombres | AS11: Mujeres | AT11: Hombres | AU11: Mujeres
A12: TOTAL | B12: =SUM(B13:B67) -> 160 | C12: =SUM(C13:C67) -> 260 | D12: =SUM(D13:D67) -> 11 | E12: =SUM(E13:E67) -> 52 | F12: =SUM(F13:F67) -> 11 | G12: =SUM(G13:G67) -> 35 | H12: =SUM(H13:H67) -> 272 | I12: =SUM(I13:I67) -> 814 | ... AU12: =SUM(AU13:AU67) -> 0
A13: Pediatría | B13: =SUM(ENERO:DICIEMBRE!B13) -> 89 | C13: =SUM(ENERO:DICIEMBRE!C13) -> 113 | D13: =SUM(ENERO:DICIEMBRE!D13) -> 0 | E13: =SUM(ENERO:DICIEMBRE!E13) -> 10 | F13: =SUM(ENERO:DICIEMBRE!F13) -> 0 | G13: =SUM(ENERO:DICIEMBRE!G13) -> 0 | H13: =SUM(ENERO:DICIEMBRE!H13) -> 0 | I13: =SUM(ENERO:DICIEMBRE!I13) -> 1 | ... Q13: =SUM(ENERO:DICIEMBRE!Q13) -> 0 | R13: =SUM(B13+J13) -> 89 | S13: =SUM(C13+K13) -> 113 | T13: =SUM(D13+L13) -> 0 | U13: =SUM(E13+M13) -> 10 | V13: =SUM(F13+N13) -> 0 | W13: =SUM(G13+O13) -> 0 | X13: =SUM(H13+P13) -> 0 | Y13: =SUM(I13+Q13) -> 1 | Z13: =SUM(ENERO:DICIEMBRE!Z13) -> 213 | AA13: =SUM(ENERO:DICIEMBRE!AA13) -> 0 | AB13: =SUM(ENERO:DICIEMBRE!AB13) -> 0
A14: Medicina interna | B14: =SUM(ENERO:DICIEMBRE!B14) -> 0 | C14: =SUM(ENERO:DICIEMBRE!C14) -> 0 | D14: =SUM(ENERO:DICIEMBRE!D14) -> 0 | E14: =SUM(ENERO:DICIEMBRE!E14) -> 0 | F14: =SUM(ENERO:DICIEMBRE!F14) -> 2 | G14: =SUM(ENERO:DICIEMBRE!G14) -> 3 | H14: =SUM(ENERO:DICIEMBRE!H14) -> 41 | I14: =SUM(ENERO:DICIEMBRE!I14) -> 74 | ... Q14: =SUM(ENERO:DICIEMBRE!Q14) -> 0 | R14: =SUM(B14+J14) -> 0 | S14: =SUM(C14+K14) -> 0 | T14: =SUM(D14+L14) -> 0 | U14: =SUM(E14+M14) -> 0 | V14: =SUM(F14+N14) -> 2 | W14: =SUM(G14+O14) -> 3 | X14: =SUM(H14+P14) -> 41 | Y14: =SUM(I14+Q14) -> 74 | Z14: =SUM(ENERO:DICIEMBRE!Z14) -> 120 | AA14: =SUM(ENERO:DICIEMBRE!AA14) -> 0 | AB14: =SUM(ENERO:DICIEMBRE!AB14) -> 0
A15: Neonatología | B15: =SUM(ENERO:DICIEMBRE!B15) -> 0 | C15: =SUM(ENERO:DICIEMBRE!C15) -> 0 | D15: =SUM(ENERO:DICIEMBRE!D15) -> 0 | E15: =SUM(ENERO:DICIEMBRE!E15) -> 0 | F15: =SUM(ENERO:DICIEMBRE!F15) -> 0 | G15: =SUM(ENERO:DICIEMBRE!G15) -> 0 | H15: =SUM(ENERO:DICIEMBRE!H15) -> 0 | I15: =SUM(ENERO:DICIEMBRE!I15) -> 0 | ... Q15: =SUM(ENERO:DICIEMBRE!Q15) -> 0 | R15: =SUM(B15+J15) -> 0 | S15: =SUM(C15+K15) -> 0 | T15: =SUM(D15+L15) -> 0 | U15: =SUM(E15+M15) -> 0 | V15: =SUM(F15+N15) -> 0 | W15: =SUM(G15+O15) -> 0 | X15: =SUM(H15+P15) -> 0 | Y15: =SUM(I15+Q15) -> 0 | Z15: =SUM(ENERO:DICIEMBRE!Z15) -> 0 | AA15: =SUM(ENERO:DICIEMBRE!AA15) -> 0 | AB15: =SUM(ENERO:DICIEMBRE!AB15) -> 0
A16: Enfermedad respiratoria pediátrica (Brocopulmonar infantil) | B16: =SUM(ENERO:DICIEMBRE!B16) -> 0 | C16: =SUM(ENERO:DICIEMBRE!C16) -> 0 | D16: =SUM(ENERO:DICIEMBRE!D16) -> 0 | E16: =SUM(ENERO:DICIEMBRE!E16) -> 0 | F16: =SUM(ENERO:DICIEMBRE!F16) -> 0 | G16: =SUM(ENERO:DICIEMBRE!G16) -> 0 | H16: =SUM(ENERO:DICIEMBRE!H16) -> 0 | I16: =SUM(ENERO:DICIEMBRE!I16) -> 0 | ... Q16: =SUM(ENERO:DICIEMBRE!Q16) -> 0 | R16: =SUM(B16+J16) -> 0 | S16: =SUM(C16+K16) -> 0 | T16: =SUM(D16+L16) -> 0 | U16: =SUM(E16+M16) -> 0 | V16: =SUM(F16+N16) -> 0 | W16: =SUM(G16+O16) -> 0 | X16: =SUM(H16+P16) -> 0 | Y16: =SUM(I16+Q16) -> 0 | Z16: =SUM(ENERO:DICIEMBRE!Z16) -> 0 | AA16: =SUM(ENERO:DICIEMBRE!AA16) -> 0 | AB16: =SUM(ENERO:DICIEMBRE!AB16) -> 0
A17: Enfermedad respiratoria de adulto (Broncopulmonar) | B17: =SUM(ENERO:DICIEMBRE!B17) -> 0 | C17: =SUM(ENERO:DICIEMBRE!C17) -> 0 | D17: =SUM(ENERO:DICIEMBRE!D17) -> 1 | E17: =SUM(ENERO:DICIEMBRE!E17) -> 0 | F17: =SUM(ENERO:DICIEMBRE!F17) -> 0 | G17: =SUM(ENERO:DICIEMBRE!G17) -> 1 | H17: =SUM(ENERO:DICIEMBRE!H17) -> 39 | I17: =SUM(ENERO:DICIEMBRE!I17) -> 43 | ... Q17: =SUM(ENERO:DICIEMBRE!Q17) -> 0 | R17: =SUM(B17+J17) -> 0 | S17: =SUM(C17+K17) -> 0 | T17: =SUM(D17+L17) -> 1 | U17: =SUM(E17+M17) -> 0 | V17: =SUM(F17+N17) -> 0 | W17: =SUM(G17+O17) -> 1 | X17: =SUM(H17+P17) -> 39 | Y17: =SUM(I17+Q17) -> 43 | Z17: =SUM(ENERO:DICIEMBRE!Z17) -> 84 | AA17: =SUM(ENERO:DICIEMBRE!AA17) -> 0 | AB17: =SUM(ENERO:DICIEMBRE!AB17) -> 0
A18: Cardiología | B18: =SUM(ENERO:DICIEMBRE!B18) -> 29 | C18: =SUM(ENERO:DICIEMBRE!C18) -> 30 | D18: =SUM(ENERO:DICIEMBRE!D18) -> 1 | E18: =SUM(ENERO:DICIEMBRE!E18) -> 1 | F18: =SUM(ENERO:DICIEMBRE!F18) -> 1 | G18: =SUM(ENERO:DICIEMBRE!G18) -> 0 | H18: =SUM(ENERO:DICIEMBRE!H18) -> 5 | I18: =SUM(ENERO:DICIEMBRE!I18) -> 6 | ... Q18: =SUM(ENERO:DICIEMBRE!Q18) -> 0 | R18: =SUM(B18+J18) -> 29 | S18: =SUM(C18+K18) -> 30 | T18: =SUM(D18+L18) -> 1 | U18: =SUM(E18+M18) -> 1 | V18: =SUM(F18+N18) -> 1 | W18: =SUM(G18+O18) -> 0 | X18: =SUM(H18+P18) -> 5 | Y18: =SUM(I18+Q18) -> 6 | Z18: =SUM(ENERO:DICIEMBRE!Z18) -> 73 | AA18: =SUM(ENERO:DICIEMBRE!AA18) -> 0 | AB18: =SUM(ENERO:DICIEMBRE!AB18) -> 0
A19: Mastología | B19: =SUM(ENERO:DICIEMBRE!B19) -> 0 | C19: =SUM(ENERO:DICIEMBRE!C19) -> 0 | D19: =SUM(ENERO:DICIEMBRE!D19) -> 0 | E19: =SUM(ENERO:DICIEMBRE!E19) -> 0 | F19: =SUM(ENERO:DICIEMBRE!F19) -> 0 | G19: =SUM(ENERO:DICIEMBRE!G19) -> 0 | H19: =SUM(ENERO:DICIEMBRE!H19) -> 0 | I19: =SUM(ENERO:DICIEMBRE!I19) -> 0 | ... Q19: =SUM(ENERO:DICIEMBRE!Q19) -> 0 | R19: =SUM(B19+J19) -> 0 | S19: =SUM(C19+K19) -> 0 | T19: =SUM(D19+L19) -> 0 | U19: =SUM(E19+M19) -> 0 | V19: =SUM(F19+N19) -> 0 | W19: =SUM(G19+O19) -> 0 | X19: =SUM(H19+P19) -> 0 | Y19: =SUM(I19+Q19) -> 0 | Z19: =SUM(ENERO:DICIEMBRE!Z19) -> 0 | AA19: =SUM(ENERO:DICIEMBRE!AA19) -> 0 | AB19: =SUM(ENERO:DICIEMBRE!AB19) -> 0
A20: Endocrinología pediátrica | B20: =SUM(ENERO:DICIEMBRE!B20) -> 0 | C20: =SUM(ENERO:DICIEMBRE!C20) -> 0 | D20: =SUM(ENERO:DICIEMBRE!D20) -> 0 | E20: =SUM(ENERO:DICIEMBRE!E20) -> 0 | F20: =SUM(ENERO:DICIEMBRE!F20) -> 0 | G20: =SUM(ENERO:DICIEMBRE!G20) -> 0 | H20: =SUM(ENERO:DICIEMBRE!H20) -> 0 | I20: =SUM(ENERO:DICIEMBRE!I20) -> 0 | ... Q20: =SUM(ENERO:DICIEMBRE!Q20) -> 0 | R20: =SUM(B20+J20) -> 0 | S20: =SUM(C20+K20) -> 0 | T20: =SUM(D20+L20) -> 0 | U20: =SUM(E20+M20) -> 0 | V20: =SUM(F20+N20) -> 0 | W20: =SUM(G20+O20) -> 0 | X20: =SUM(H20+P20) -> 0 | Y20: =SUM(I20+Q20) -> 0 | Z20: =SUM(ENERO:DICIEMBRE!Z20) -> 0 | AA20: =SUM(ENERO:DICIEMBRE!AA20) -> 0 | AB20: =SUM(ENERO:DICIEMBRE!AB20) -> 0
A21: Endocrinología adulto | B21: =SUM(ENERO:DICIEMBRE!B21) -> 0 | C21: =SUM(ENERO:DICIEMBRE!C21) -> 0 | D21: =SUM(ENERO:DICIEMBRE!D21) -> 0 | E21: =SUM(ENERO:DICIEMBRE!E21) -> 0 | F21: =SUM(ENERO:DICIEMBRE!F21) -> 0 | G21: =SUM(ENERO:DICIEMBRE!G21) -> 1 | H21: =SUM(ENERO:DICIEMBRE!H21) -> 4 | I21: =SUM(ENERO:DICIEMBRE!I21) -> 6 | ... Q21: =SUM(ENERO:DICIEMBRE!Q21) -> 0 | R21: =SUM(B21+J21) -> 0 | S21: =SUM(C21+K21) -> 0 | T21: =SUM(D21+L21) -> 0 | U21: =SUM(E21+M21) -> 0 | V21: =SUM(F21+N21) -> 0 | W21: =SUM(G21+O21) -> 1 | X21: =SUM(H21+P21) -> 4 | Y21: =SUM(I21+Q21) -> 6 | Z21: =SUM(ENERO:DICIEMBRE!Z21) -> 11 | AA21: =SUM(ENERO:DICIEMBRE!AA21) -> 0 | AB21: =SUM(ENERO:DICIEMBRE!AB21) -> 0
A22: Gastroenterología pediátrica | B22: =SUM(ENERO:DICIEMBRE!B22) -> 0 | C22: =SUM(ENERO:DICIEMBRE!C22) -> 0 | D22: =SUM(ENERO:DICIEMBRE!D22) -> 0 | E22: =SUM(ENERO:DICIEMBRE!E22) -> 0 | F22: =SUM(ENERO:DICIEMBRE!F22) -> 0 | G22: =SUM(ENERO:DICIEMBRE!G22) -> 0 | H22: =SUM(ENERO:DICIEMBRE!H22) -> 0 | I22: =SUM(ENERO:DICIEMBRE!I22) -> 0 | ... Q22: =SUM(ENERO:DICIEMBRE!Q22) -> 0 | R22: =SUM(B22+J22) -> 0 | S22: =SUM(C22+K22) -> 0 | T22: =SUM(D22+L22) -> 0 | U22: =SUM(E22+M22) -> 0 | V22: =SUM(F22+N22) -> 0 | W22: =SUM(G22+O22) -> 0 | X22: =SUM(H22+P22) -> 0 | Y22: =SUM(I22+Q22) -> 0 | Z22: =SUM(ENERO:DICIEMBRE!Z22) -> 0 | AA22: =SUM(ENERO:DICIEMBRE!AA22) -> 0 | AB22: =SUM(ENERO:DICIEMBRE!AB22) -> 0
A23: Gastroenterología adulto | B23: =SUM(ENERO:DICIEMBRE!B23) -> 0 | C23: =SUM(ENERO:DICIEMBRE!C23) -> 0 | D23: =SUM(ENERO:DICIEMBRE!D23) -> 0 | E23: =SUM(ENERO:DICIEMBRE!E23) -> 0 | F23: =SUM(ENERO:DICIEMBRE!F23) -> 0 | G23: =SUM(ENERO:DICIEMBRE!G23) -> 0 | H23: =SUM(ENERO:DICIEMBRE!H23) -> 0 | I23: =SUM(ENERO:DICIEMBRE!I23) -> 0 | ... Q23: =SUM(ENERO:DICIEMBRE!Q23) -> 0 | R23: =SUM(B23+J23) -> 0 | S23: =SUM(C23+K23) -> 0 | T23: =SUM(D23+L23) -> 0 | U23: =SUM(E23+M23) -> 0 | V23: =SUM(F23+N23) -> 0 | W23: =SUM(G23+O23) -> 0 | X23: =SUM(H23+P23) -> 0 | Y23: =SUM(I23+Q23) -> 0 | Z23: =SUM(ENERO:DICIEMBRE!Z23) -> 0 | AA23: =SUM(ENERO:DICIEMBRE!AA23) -> 0 | AB23: =SUM(ENERO:DICIEMBRE!AB23) -> 0
A24: Genética clínica | B24: =SUM(ENERO:DICIEMBRE!B24) -> 0 | C24: =SUM(ENERO:DICIEMBRE!C24) -> 0 | D24: =SUM(ENERO:DICIEMBRE!D24) -> 0 | E24: =SUM(ENERO:DICIEMBRE!E24) -> 0 | F24: =SUM(ENERO:DICIEMBRE!F24) -> 0 | G24: =SUM(ENERO:DICIEMBRE!G24) -> 0 | H24: =SUM(ENERO:DICIEMBRE!H24) -> 0 | I24: =SUM(ENERO:DICIEMBRE!I24) -> 0 | ... Q24: =SUM(ENERO:DICIEMBRE!Q24) -> 0 | R24: =SUM(B24+J24) -> 0 | S24: =SUM(C24+K24) -> 0 | T24: =SUM(D24+L24) -> 0 | U24: =SUM(E24+M24) -> 0 | V24: =SUM(F24+N24) -> 0 | W24: =SUM(G24+O24) -> 0 | X24: =SUM(H24+P24) -> 0 | Y24: =SUM(I24+Q24) -> 0 | Z24: =SUM(ENERO:DICIEMBRE!Z24) -> 0 | AA24: =SUM(ENERO:DICIEMBRE!AA24) -> 0 | AB24: =SUM(ENERO:DICIEMBRE!AB24) -> 0
... A67: Radioterapia oncológica | B67: =SUM(ENERO:DICIEMBRE!B67) -> 0 | C67: =SUM(ENERO:DICIEMBRE!C67) -> 0 | D67: =SUM(ENERO:DICIEMBRE!D67) -> 0 | E67: =SUM(ENERO:DICIEMBRE!E67) -> 0 | F67: =SUM(ENERO:DICIEMBRE!F67) -> 0 | G67: =SUM(ENERO:DICIEMBRE!G67) -> 0 | H67: =SUM(ENERO:DICIEMBRE!H67) -> 0 | I67: =SUM(ENERO:DICIEMBRE!I67) -> 0 | ... Q67: =SUM(ENERO:DICIEMBRE!Q67) -> 0 | R67: =SUM(B67+J67) -> 0 | S67: =SUM(C67+K67) -> 0 | T67: =SUM(D67+L67) -> 0 | U67: =SUM(E67+M67) -> 0 | V67: =SUM(F67+N67) -> 0 | W67: =SUM(G67+O67) -> 0 | X67: =SUM(H67+P67) -> 0 | Y67: =SUM(I67+Q67) -> 0 | Z67: =SUM(ENERO:DICIEMBRE!Z67) -> 0 | AA67: =SUM(ENERO:DICIEMBRE!AA67) -> 0 | AB67: =SUM(ENERO:DICIEMBRE!AB67) -> 0
A68: SECCIÓN B : TELEINTERCONSULTA MÉDICA EN ESTABLECIMIENTOS DE ATENCIÓN SECUNDARIA DE URGENCIA (ATENCIÓN MÉDICO A MÉDICO)
A69: Tipo de teleinterconsulta de urgencia | B69: Teleinterconsulta médica de urgencia en hospitales de alta y mediana complejidad | J69: Modalidad | M69: Teleinterconsultas solicitadas desde APS o Nivel Secundario para ser resueltas por otro establecimiento
B70: 0 - 14 años | D70: 15 - 17 años | F70: 18 - 19 años | H70: 20 y más años | J70: Institucional | K70: Compra de Servicio | M70: 0 - 14 años | O70: 15 - 17 años | Q70: 18 - 19 años | S70: 20 y más años
B71: Hombres | C71: Mujeres | D71: Hombres | E71: Mujeres | F71: Hombres | G71: Mujeres | H71: Hombres | I71: Mujeres | J71: Establecimiento de la Red | K71: Sistema | L71: Extrasistema | M71: Hombres | N71: Mujeres | O71: Hombres | P71: Mujeres | Q71: Hombres | R71: Mujeres | S71: Hombres | T71: Mujeres
A72: Consulta urgencia otros | B72: =SUM(ENERO:DICIEMBRE!B72) -> 0 | C72: =SUM(ENERO:DICIEMBRE!C72) -> 0 | D72: =SUM(ENERO:DICIEMBRE!D72) -> 0 | E72: =SUM(ENERO:DICIEMBRE!E72) -> 0 | F72: =SUM(ENERO:DICIEMBRE!F72) -> 0 | G72: =SUM(ENERO:DICIEMBRE!G72) -> 0 | H72: =SUM(ENERO:DICIEMBRE!H72) -> 0 | I72: =SUM(ENERO:DICIEMBRE!I72) -> 0 | ... T72: =SUM(ENERO:DICIEMBRE!T72) -> 0
A73: Accidente cerebro vascular (ACV) | B73: =SUM(ENERO:DICIEMBRE!B73) -> 0 | C73: =SUM(ENERO:DICIEMBRE!C73) -> 0 | D73: =SUM(ENERO:DICIEMBRE!D73) -> 0 | E73: =SUM(ENERO:DICIEMBRE!E73) -> 0 | F73: =SUM(ENERO:DICIEMBRE!F73) -> 0 | G73: =SUM(ENERO:DICIEMBRE!G73) -> 0 | H73: =SUM(ENERO:DICIEMBRE!H73) -> 0 | I73: =SUM(ENERO:DICIEMBRE!I73) -> 0 | ... T73: =SUM(ENERO:DICIEMBRE!T73) -> 53
A74: Quemados | B74: =SUM(ENERO:DICIEMBRE!B74) -> 0 | C74: =SUM(ENERO:DICIEMBRE!C74) -> 0 | D74: =SUM(ENERO:DICIEMBRE!D74) -> 0 | E74: =SUM(ENERO:DICIEMBRE!E74) -> 0 | F74: =SUM(ENERO:DICIEMBRE!F74) -> 0 | G74: =SUM(ENERO:DICIEMBRE!G74) -> 0 | H74: =SUM(ENERO:DICIEMBRE!H74) -> 0 | I74: =SUM(ENERO:DICIEMBRE!I74) -> 0 | ... T74: =SUM(ENERO:DICIEMBRE!T74) -> 0
A75: SECCIÓN C : TELEINFORMES EN ESTABLECIMIENTOS DE ATENCIÓN PRIMARIA, SECUNDARIA Y TERCIARIA
A76: Teleinformes realizados | B76: Establecimientos del Nivel Primario de salud | M76: Establecimientos de Nivel Secundario y Terciario | X76: Total teleinformes realizados
B77: 0 - 14 años | D77: 15 - 17 años | F77: 18 - 19 años | H77: 20 y más años | J77: Modalidad | M77: 0 - 14 años | O77: 15 - 17 años | Q77: 18 - 19 años | S77: 20 y más años | U77: Modalidad
B78: Hombres | C78: Mujeres | D78: Hombres | E78: Mujeres | F78: Hombres | G78: Mujeres | H78: Hombres | I78: Mujeres | J78: Institucional | K78: Compra de Servicio | M78: Hombres | N78: Mujeres | O78: Hombres | P78: Mujeres | Q78: Hombres | R78: Mujeres | S78: Hombres | T78: Mujeres | U78: Institucional | V78: Compra de Servicio | X78: Teleinformes realizados por Inteligencia Artificial | Y78: Teleinformes realizados por Médico Especialista
K79: Sistema | L79: Extrasistema | V79: Sistema | W79: Extrasistema
A80: TOTAL EMISIONES DE INFORMES | B80: =B81+B82+B83+B84+B85+B86+B87+B88+B89+B92+B93 -> 0 | C80: =C81+C82+C83+C84+C85+C86+C87+C88+C89+C92+C93 -> 0 | D80: =D81+D82+D83+D84+D85+D86+D87+D88+D89+D92+D93 -> 0 | E80: =E81+E82+E83+E84+E85+E86+E87+E88+E89+E92+E93 -> 0 | F80: =F81+F82+F83+F84+F85+F86+F87+F88+F89+F92+F93 -> 0 | G80: =G81+G82+G83+G84+G85+G86+G87+G88+G89+G92+G93 -> 0 | H80: =H81+H82+H83+H84+H85+H86+H87+H88+H89+H92+H93 -> 0 | I80: =I81+I82+I83+I84+I85+I86+I87+I88+I89+I92+I93 -> 0 | ... L80: =L81+L82+L83+L84+L85+L86+L87+L88+L89+L92+L93 -> 0 | M80: =SUM(M81:M93) -> 636 | N80: =SUM(N81:N93) -> 489 | O80: =SUM(O81:O93) -> 196 | P80: =SUM(P81:P93) -> 193 | Q80: =SUM(Q81:Q93) -> 178 | R80: =SUM(R81:R93) -> 138 | S80: =SUM(S81:S93) -> 7942 | T80: =SUM(T81:T93) -> 7360 | ... Y80: =SUM(Y81:Y93) -> 15726
A81: Nº de informes Ecografías obstétricas | B81: =SUM(ENERO:DICIEMBRE!B81) -> 0 | C81: =SUM(ENERO:DICIEMBRE!C81) -> 0 | D81: =SUM(ENERO:DICIEMBRE!D81) -> 0 | E81: =SUM(ENERO:DICIEMBRE!E81) -> 0 | F81: =SUM(ENERO:DICIEMBRE!F81) -> 0 | G81: =SUM(ENERO:DICIEMBRE!G81) -> 0 | H81: =SUM(ENERO:DICIEMBRE!H81) -> 0 | I81: =SUM(ENERO:DICIEMBRE!I81) -> 0 | ... Y81: =SUM(ENERO:DICIEMBRE!Y81) -> 0
A82: Nº de informes Electrocardiograma | B82: =SUM(ENERO:DICIEMBRE!B82) -> 0 | C82: =SUM(ENERO:DICIEMBRE!C82) -> 0 | D82: =SUM(ENERO:DICIEMBRE!D82) -> 0 | E82: =SUM(ENERO:DICIEMBRE!E82) -> 0 | F82: =SUM(ENERO:DICIEMBRE!F82) -> 0 | G82: =SUM(ENERO:DICIEMBRE!G82) -> 0 | H82: =SUM(ENERO:DICIEMBRE!H82) -> 0 | I82: =SUM(ENERO:DICIEMBRE!I82) -> 0 | ... Y82: =SUM(ENERO:DICIEMBRE!Y82) -> 0
A83: Nº de informes Electroencefalograma | B83: =SUM(ENERO:DICIEMBRE!B83) -> 0 | C83: =SUM(ENERO:DICIEMBRE!C83) -> 0 | D83: =SUM(ENERO:DICIEMBRE!D83) -> 0 | E83: =SUM(ENERO:DICIEMBRE!E83) -> 0 | F83: =SUM(ENERO:DICIEMBRE!F83) -> 0 | G83: =SUM(ENERO:DICIEMBRE!G83) -> 0 | H83: =SUM(ENERO:DICIEMBRE!H83) -> 0 | I83: =SUM(ENERO:DICIEMBRE!I83) -> 0 | ... Y83: =SUM(ENERO:DICIEMBRE!Y83) -> 0
...

Sheet ENERO
A1: SERVICIO DE SALUD
A2: =CONCATENATE("COMUNA: ",[2]NOMBRE!B2, " (",[2]NOMBRE!C2,[2]NOMBRE!D2,[2]NOMBRE!E2,[2]NOMBRE!F2,[2]NOMBRE!G2,")") -> COMUNA: LINARES (07401)
A3: =CONCATENATE("ESTABLECIMIENTO/ESTRATEGIA: ", [2]NOMBRE!B3, " (",[2]NOMBRE!C3,[2]NOMBRE!D3,[2]NOMBRE!E3,[2]NOMBRE!F3,[2]NOMBRE!G3,[2]NOMBRE!H3,")") -> ESTABLECIMIENTO/ESTRATEGIA: HOSPITAL PRESIDENTE CARLOS IBAÑEZ DEL CAMPO (116108)
A4: =CONCATENATE("MES: ",[2]NOMBRE!B6, " (",[2]NOMBRE!C6,[2]NOMBRE!D6,")") -> MES: ENERO (01)
A5: =CONCATENATE("AÑO: ",[2]NOMBRE!B7) -> AÑO: 2025
A6: REM-30. ATENCIONES POR TELEMEDICINA EN LA RED ASISTENCIAL
A8: SECCIÓN A: TELEINTERCONSULTA DE ESPECIALIDAD (ATENCION REALIZADA DE MÉDICO A MÉDICO)
A9: Especialidades | B9: Teleinterconsulta médica de especialidad ambulatoria nueva | J9: Teleinterconsulta médica de especialidad ambulatoria control | R9: TOTAL TELEINTERCONSULTAS MEDICAS AMBULATORIAS DE ESPECIALIDAD | Z9: Modalidad | AC9: Teleinterconsulta medicina de especialidad realizadas a pacientes hospitalizados | AK9: Modalidad | AN9: Teleinterconsultas solicitadas desde APS o Nivel Secundario para ser resueltas por otro establecimiento
B10: 0 - 14 años | D10: 15 - 17 años | F10: 18-19 años | H10: 20 y más años | J10: 0 - 14 años | L10: 15 - 17 años | N10: 18 - 19 años | P10: 20 y más años | R10: 0 - 14 años | T10: 15 - 17 años | V10: 18- 19 años | X10: 20 y más años | Z10: Institucional | AA10: Compra de Servicio | AC10: 0 - 14 años | AE10: 15 - 17 años | AG10: 18 a 19 años | AI10: 20 y más años | AK10: Institucional | AL10: Compra de Servicio | AN10: 0 - 14 años | AP10: 15 - 17 años | AR10: 18 - 19 años | AT10: 20 y más años
B11: Hombres | C11: Mujeres | D11: Hombres | E11: Mujeres | F11: Hombres | G11: Mujeres | H11: Hombres | I11: Mujeres | J11: Hombres | K11: Mujeres | L11: Hombres | M11: Mujeres | N11: Hombres | O11: Mujeres | P11: Hombres | Q11: Mujeres | R11: Hombres | S11: Mujeres | T11: Hombres | U11: Mujeres | V11: Hombres | W11: Mujeres | X11: Hombres | Y11: Mujeres | AA11: Sistema | AB11: Extrasistema | AC11: Hombres | AD11: Mujeres | AE11: Hombres | AF11: Mujeres | AG11: Hombres | AH11: Mujeres | AI11: Hombres | AJ11: Mujeres | AL11: Sistema | AM11: Extrasistema | AN11: Hombres | AO11: Mujeres | AP11: Hombres | AQ11: Mujeres | AR11: Hombres | AS11: Mujeres | AT11: Hombres | AU11: Mujeres
A12: TOTAL | B12: =SUM(B13:B67) -> 9 | C12: =SUM(C13:C67) -> 12 | D12: =SUM(D13:D67) -> 0 | E12: =SUM(E13:E67) -> 0 | F12: =SUM(F13:F67) -> 0 | G12: =SUM(G13:G67) -> 1 | H12: =SUM(H13:H67) -> 23 | I12: =SUM(I13:I67) -> 45 | ... AU12: =SUM(AU13:AU67) -> 0
A13: Pediatría | B13: 5 | C13: 8 | I13: 1 | R13: =SUM(B13+J13) -> 5 | S13: =SUM(C13+K13) -> 8 | T13: =SUM(D13+L13) -> 0 | U13: =SUM(E13+M13) -> 0 | V13: =SUM(F13+N13) -> 0 | W13: =SUM(G13+O13) -> 0 | X13: =SUM(H13+P13) -> 0 | Y13: =SUM(I13+Q13) -> 1 | Z13: 14
A14: Medicina interna | H14: 5 | I14: 4 | R14: =SUM(B14+J14) -> 0 | S14: =SUM(C14+K14) -> 0 | T14: =SUM(D14+L14) -> 0 | U14: =SUM(E14+M14) -> 0 | V14: =SUM(F14+N14) -> 0 | W14: =SUM(G14+O14) -> 0 | X14: =SUM(H14+P14) -> 5 | Y14: =SUM(I14+Q14) -> 4 | Z14: 9
A15: Neonatología | R15: =SUM(B15+J15) -> 0 | S15: =SUM(C15+K15) -> 0 | T15: =SUM(D15+L15) -> 0 | U15: =SUM(E15+M15) -> 0 | V15: =SUM(F15+N15) -> 0 | W15: =SUM(G15+O15) -> 0 | X15: =SUM(H15+P15) -> 0 | Y15: =SUM(I15+Q15) -> 0
A16: Enfermedad respiratoria pediátrica (Brocopulmonar infantil) | R16: =SUM(B16+J16) -> 0 | S16: =SUM(C16+K16) -> 0 | T16: =SUM(D16+L16) -> 0 | U16: =SUM(E16+M16) -> 0 | V16: =SUM(F16+N16) -> 0 | W16: =SUM(G16+O16) -> 0 | X16: =SUM(H16+P16) -> 0 | Y16: =SUM(I16+Q16) -> 0
A17: Enfermedad respiratoria de adulto (Broncopulmonar) | H17: 6 | I17: 3 | R17: =SUM(B17+J17) -> 0 | S17: =SUM(C17+K17) -> 0 | T17: =SUM(D17+L17) -> 0 | U17: =SUM(E17+M17) -> 0 | V17: =SUM(F17+N17) -> 0 | W17: =SUM(G17+O17) -> 0 | X17: =SUM(H17+P17) -> 6 | Y17: =SUM(I17+Q17) -> 3 | Z17: 9
A18: Cardiología | B18: 3 | C18: 4 | H18: 1 | R18: =SUM(B18+J18) -> 3 | S18: =SUM(C18+K18) -> 4 | T18: =SUM(D18+L18) -> 0 | U18: =SUM(E18+M18) -> 0 | V18: =SUM(F18+N18) -> 0 | W18: =SUM(G18+O18) -> 0 | X18: =SUM(H18+P18) -> 1 | Y18: =SUM(I18+Q18) -> 0 | Z18: 8
A19: Mastología | R19: =SUM(B19+J19) -> 0 | S19: =SUM(C19+K19) -> 0 | T19: =SUM(D19+L19) -> 0 | U19: =SUM(E19+M19) -> 0 | V19: =SUM(F19+N19) -> 0 | W19: =SUM(G19+O19) -> 0 | X19: =SUM(H19+P19) -> 0 | Y19: =SUM(I19+Q19) -> 0
A20: Endocrinología pediátrica | R20: =SUM(B20+J20) -> 0 | S20: =SUM(C20+K20) -> 0 | T20: =SUM(D20+L20) -> 0 | U20: =SUM(E20+M20) -> 0 | V20: =SUM(F20+N20) -> 0 | W20: =SUM(G20+O20) -> 0 | X20: =SUM(H20+P20) -> 0 | Y20: =SUM(I20+Q20) -> 0
A21: Endocrinología adulto | R21: =SUM(B21+J21) -> 0 | S21: =SUM(C21+K21) -> 0 | T21: =SUM(D21+L21) -> 0 | U21: =SUM(E21+M21) -> 0 | V21: =SUM(F21+N21) -> 0 | W21: =SUM(G21+O21) -> 0 | X21: =SUM(H21+P21) -> 0 | Y21: =SUM(I21+Q21) -> 0
A22: Gastroenterología pediátrica | R22: =SUM(B22+J22) -> 0 | S22: =SUM(C22+K22) -> 0 | T22: =SUM(D22+L22) -> 0 | U22: =SUM(E22+M22) -> 0 | V22: =SUM(F22+N22) -> 0 | W22: =SUM(G22+O22) -> 0 | X22: =SUM(H22+P22) -> 0 | Y22: =SUM(I22+Q22) -> 0
A23: Gastroenterología adulto | R23: =SUM(B23+J23) -> 0 | S23: =SUM(C23+K23) -> 0 | T23: =SUM(D23+L23) -> 0 | U23: =SUM(E23+M23) -> 0 | V23: =SUM(F23+N23) -> 0 | W23: =SUM(G23+O23) -> 0 | X23: =SUM(H23+P23) -> 0 | Y23: =SUM(I23+Q23) -> 0
A24: Genética clínica | R24: =SUM(B24+J24) -> 0 | S24: =SUM(C24+K24) -> 0 | T24: =SUM(D24+L24) -> 0 | U24: =SUM(E24+M24) -> 0 | V24: =SUM(F24+N24) -> 0 | W24: =SUM(G24+O24) -> 0 | X24: =SUM(H24+P24) -> 0 | Y24: =SUM(I24+Q24) -> 0
A25: Hematología | R25: =SUM(B25+J25) -> 0 | S25: =SUM(C25+K25) -> 0 | T25: =SUM(D25+L25) -> 0 | U25: =SUM(E25+M25) -> 0 | V25: =SUM(F25+N25) -> 0 | W25: =SUM(G25+O25) -> 0 | X25: =SUM(H25+P25) -> 0 | Y25: =SUM(I25+Q25) -> 0
A26: Medicina del adolescente | R26: =SUM(B26+J26) -> 0 | S26: =SUM(C26+K26) -> 0 | T26: =SUM(D26+L26) -> 0 | U26: =SUM(E26+M26) -> 0 | V26: =SUM(F26+N26) -> 0 | W26: =SUM(G26+O26) -> 0 | X26: =SUM(H26+P26) -> 0 | Y26: =SUM(I26+Q26) -> 0
A27: Nefrología pediátrica | R27: =SUM(B27+J27) -> 0 | S27: =SUM(C27+K27) -> 0 | T27: =SUM(D27+L27) -> 0 | U27: =SUM(E27+M27) -> 0 | V27: =SUM(F27+N27) -> 0 | W27: =SUM(G27+O27) -> 0 | X27: =SUM(H27+P27) -> 0 | Y27: =SUM(I27+Q27) -> 0
A28: Nefrología adulto | R28: =SUM(B28+J28) -> 0 | S28: =SUM(C28+K28) -> 0 | T28: =SUM(D28+L28) -> 0 | U28: =SUM(E28+M28) -> 0 | V28: =SUM(F28+N28) -> 0 | W28: =SUM(G28+O28) -> 0 | X28: =SUM(H28+P28) -> 0 | Y28: =SUM(I28+Q28) -> 0
A29: Nutrición clínica | R29: =SUM(B29+J29) -> 0 | S29: =SUM(C29+K29) -> 0 | T29: =SUM(D29+L29) -> 0 | U29: =SUM(E29+M29) -> 0 | V29: =SUM(F29+N29) -> 0 | W29: =SUM(G29+O29) -> 0 | X29: =SUM(H29+P29) -> 0 | Y29: =SUM(I29+Q29) -> 0
A30: Medicina Materno Infantil | R30: =SUM(B30+J30) -> 0 | S30: =SUM(C30+K30) -> 0 | T30: =SUM(D30+L30) -> 0 | U30: =SUM(E30+M30) -> 0 | V30: =SUM(F30+N30) -> 0 | W30: =SUM(G30+O30) -> 0 | X30: =SUM(H30+P30) -> 0 | Y30: =SUM(I30+Q30) -> 0
... A38: Medicina Reproductiva e Infertilidad | R38: =SUM(B38+J38) -> 0 | S38: =SUM(C38+K38) -> 0 | T38: =SUM(D38+L38) -> 0 | U38: =SUM(E38+M38) -> 0 | V38: =SUM(F38+N38) -> 0 | W38: =SUM(G38+O38) -> 0 | X38: =SUM(H38+P38) -> 0 | Y38: =SUM(I38+Q38) -> 0
A39: Neurología pediátrica | B39: 1 | R39: =SUM(B39+J39) -> 1 | S39: =SUM(C39+K39) -> 0 | T39: =SUM(D39+L39) -> 0 | U39: =SUM(E39+M39) -> 0 | V39: =SUM(F39+N39) -> 0 | W39: =SUM(G39+O39) -> 0 | X39: =SUM(H39+P39) -> 0 | Y39: =SUM(I39+Q39) -> 0 | Z39: 1
A40: Neurología adulto | R40: =SUM(B40+J40) -> 0 | S40: =SUM(C40+K40) -> 0 | T40: =SUM(D40+L40) -> 0 | U40: =SUM(E40+M40) -> 0 | V40: =SUM(F40+N40) -> 0 | W40: =SUM(G40+O40) -> 0 | X40: =SUM(H40+P40) -> 0 | Y40: =SUM(I40+Q40) -> 0
A41: Oncología médica | R41: =SUM(B41+J41) -> 0 | S41: =SUM(C41+K41) -> 0 | T41: =SUM(D41+L41) -> 0 | U41: =SUM(E41+M41) -> 0 | V41: =SUM(F41+N41) -> 0 | W41: =SUM(G41+O41) -> 0 | X41: =SUM(H41+P41) -> 0 | Y41: =SUM(I41+Q41) -> 0
A42: Psiquiatría pediátrica y de la adolescencia | R42: =SUM(B42+J42) -> 0 | S42: =SUM(C42+K42) -> 0 | T42: =SUM(D42+L42) -> 0 | U42: =SUM(E42+M42) -> 0 | V42: =SUM(F42+N42) -> 0 | W42: =SUM(G42+O42) -> 0 | X42: =SUM(H42+P42) -> 0 | Y42: =SUM(I42+Q42) -> 0
A43: Psiquiatría adulto | H43: 1 | I43: 4 | R43: =SUM(B43+J43) -> 0 | S43: =SUM(C43+K43) -> 0 | T43: =SUM(D43+L43) -> 0 | U43: =SUM(E43+M43) -> 0 | V43: =SUM(F43+N43) -> 0 | W43: =SUM(G43+O43) -> 0 | X43: =SUM(H43+P43) -> 1 | Y43: =SUM(I43+Q43) -> 4 | Z43: 5
A44: Cirugía pediátrica | R44: =SUM(B44+J44) -> 0 | S44: =SUM(C44+K44) -> 0 | T44: =SUM(D44+L44) -> 0 | U44: =SUM(E44+M44) -> 0 | V44: =SUM(F44+N44) -> 0 | W44: =SUM(G44+O44) -> 0 | X44: =SUM(H44+P44) -> 0 | Y44: =SUM(I44+Q44) -> 0
A45: Cirugía General | H45: 10 | I45: 10 | R45: =SUM(B45+J45) -> 0 | S45: =SUM(C45+K45) -> 0 | T45: =SUM(D45+L45) -> 0 | U45: =SUM(E45+M45) -> 0 | V45: =SUM(F45+N45) -> 0 | W45: =SUM(G45+O45) -> 0 | X45: =SUM(H45+P45) -> 10 | Y45: =SUM(I45+Q45) -> 10 | Z45: 20
A46: Cirugía digestiva (alta) | R46: =SUM(B46+J46) -> 0 | S46: =SUM(C46+K46) -> 0 | T46: =SUM(D46+L46) -> 0 | U46: =SUM(E46+M46) -> 0 | V46: =SUM(F46+N46) -> 0 | W46: =SUM(G46+O46) -> 0 | X46: =SUM(H46+P46) -> 0 | Y46: =SUM(I46+Q46) -> 0
A47: Cirugía de cabeza, cuello y maxilofacial | R47: =SUM(B47+J47) -> 0 | S47: =SUM(C47+K47) -> 0 | T47: =SUM(D47+L47) -> 0 | U47: =SUM(E47+M47) -> 0 | V47: =SUM(F47+N47) -> 0 | W47: =SUM(G47+O47) -> 0 | X47: =SUM(H47+P47) -> 0 | Y47: =SUM(I47+Q47) -> 0
A48: Cirugía Plástica y Reparadora | R48: =SUM(B48+J48) -> 0 | S48: =SUM(C48+K48) -> 0 | T48: =SUM(D48+L48) -> 0 | U48: =SUM(E48+M48) -> 0 | V48: =SUM(F48+N48) -> 0 | W48: =SUM(G48+O48) -> 0 | X48: =SUM(H48+P48) -> 0 | Y48: =SUM(I48+Q48) -> 0
...

Sheet FEBRERO
A1: SERVICIO DE SALUD
A2: =CONCATENATE("COMUNA: ",[3]NOMBRE!B2, " (",[3]NOMBRE!C2,[3]NOMBRE!D2,[3]NOMBRE!E2,[3]NOMBRE!F2,[3]NOMBRE!G2,")") -> COMUNA: LINARES (07401)
A3: =CONCATENATE("ESTABLECIMIENTO/ESTRATEGIA: ", [3]NOMBRE!B3, " (",[3]NOMBRE!C3,[3]NOMBRE!D3,[3]NOMBRE!E3,[3]NOMBRE!F3,[3]NOMBRE!G3,[3]NOMBRE!H3,")") -> ESTABLECIMIENTO/ESTRATEGIA: HOSPITAL PRESIDENTE CARLOS IBAÑEZ DEL CAMPO (116108)
A4: =CONCATENATE("MES: ",[3]NOMBRE!B6, " (",[3]NOMBRE!C6,[3]NOMBRE!D6,")") -> MES: FEBRERO (02)
A5: =CONCATENATE("AÑO: ",[3]NOMBRE!B7) -> AÑO: 2025
A6: REM-30. ATENCIONES POR TELEMEDICINA EN LA RED ASISTENCIAL
A8: SECCIÓN A: TELEINTERCONSULTA DE ESPECIALIDAD (ATENCION REALIZADA DE MÉDICO A MÉDICO)
A9: Especialidades | B9: Teleinterconsulta médica de especialidad ambulatoria nueva | J9: Teleinterconsulta médica de especialidad ambulatoria control | R9: TOTAL TELEINTERCONSULTAS MEDICAS AMBULATORIAS DE ESPECIALIDAD | Z9: Modalidad | AC9: Teleinterconsulta medicina de especialidad realizadas a pacientes hospitalizados | AK9: Modalidad | AN9: Teleinterconsultas solicitadas desde APS o Nivel Secundario para ser resueltas por otro establecimiento
B10: 0 - 14 años | D10: 15 - 17 años | F10: 18-19 años | H10: 20 y más años | J10: 0 - 14 años | L10: 15 - 17 años | N10: 18 - 19 años | P10: 20 y más años | R10: 0 - 14 años | T10: 15 - 17 años | V10: 18- 19 años | X10: 20 y más años | Z10: Institucional | AA10: Compra de Servicio | AC10: 0 - 14 años | AE10: 15 - 17 años | AG10: 18 a 19 años | AI10: 20 y más años | AK10: Institucional | AL10: Compra de Servicio | AN10: 0 - 14 años | AP10: 15 - 17 años | AR10: 18 - 19 años | AT10: 20 y más años
B11: Hombres | C11: Mujeres | D11: Hombres | E11: Mujeres | F11: Hombres | G11: Mujeres | H11: Hombres | I11: Mujeres | J11: Hombres | K11: Mujeres | L11: Hombres | M11: Mujeres | N11: Hombres | O11: Mujeres | P11: Hombres | Q11: Mujeres | R11: Hombres | S11: Mujeres | T11: Hombres | U11: Mujeres | V11: Hombres | W11: Mujeres | X11: Hombres | Y11: Mujeres | AA11: Sistema | AB11: Extrasistema | AC11: Hombres | AD11: Mujeres | AE11: Hombres | AF11: Mujeres | AG11: Hombres | AH11: Mujeres | AI11: Hombres | AJ11: Mujeres | AL11: Sistema | AM11: Extrasistema | AN11: Hombres | AO11: Mujeres | AP11: Hombres | AQ11: Mujeres | AR11: Hombres | AS11: Mujeres | AT11: Hombres | AU11: Mujeres
A12: TOTAL | B12: =SUM(B13:B67) -> 6 | C12: =SUM(C13:C67) -> 24 | D12: =SUM(D13:D67) -> 1 | E12: =SUM(E13:E67) -> 4 | F12: =SUM(F13:F67) -> 0 | G12: =SUM(G13:G67) -> 0 | H12: =SUM(H13:H67) -> 12 | I12: =SUM(I13:I67) -> 39 | ... AU12: =SUM(AU13:AU67) -> 0
A13: Pediatría | B13: 1 | C13: 8 | E13: 1 | R13: =SUM(B13+J13) -> 1 | S13: =SUM(C13+K13) -> 8 | T13: =SUM(D13+L13) -> 0 | U13: =SUM(E13+M13) -> 1 | V13: =SUM(F13+N13) -> 0 | W13: =SUM(G13+O13) -> 0 | X13: =SUM(H13+P13) -> 0 | Y13: =SUM(I13+Q13) -> 0 | Z13: 10
A14: Medicina interna | H14: 3 | I14: 4 | R14: =SUM(B14+J14) -> 0 | S14: =SUM(C14+K14) -> 0 | T14: =SUM(D14+L14) -> 0 | U14: =SUM(E14+M14) -> 0 | V14: =SUM(F14+N14) -> 0 | W14: =SUM(G14+O14) -> 0 | X14: =SUM(H14+P14) -> 3 | Y14: =SUM(I14+Q14) -> 4 | Z14: 7
A15: Neonatología | R15: =SUM(B15+J15) -> 0 | S15: =SUM(C15+K15) -> 0 | T15: =SUM(D15+L15) -> 0 | U15: =SUM(E15+M15) -> 0 | V15: =SUM(F15+N15) -> 0 | W15: =SUM(G15+O15) -> 0 | X15: =SUM(H15+P15) -> 0 | Y15: =SUM(I15+Q15) -> 0
A16: Enfermedad respiratoria pediátrica (Brocopulmonar infantil) | R16: =SUM(B16+J16) -> 0 | S16: =SUM(C16+K16) -> 0 | T16: =SUM(D16+L16) -> 0 | U16: =SUM(E16+M16) -> 0 | V16: =SUM(F16+N16) -> 0 | W16: =SUM(G16+O16) -> 0 | X16: =SUM(H16+P16) -> 0 | Y16: =SUM(I16+Q16) -> 0
A17: Enfermedad respiratoria de adulto (Broncopulmonar) | H17: 2 | I17: 3 | R17: =SUM(B17+J17) -> 0 | S17: =SUM(C17+K17) -> 0 | T17: =SUM(D17+L17) -> 0 | U17: =SUM(E17+M17) -> 0 | V17: =SUM(F17+N17) -> 0 | W17: =SUM(G17+O17) -> 0 | X17: =SUM(H17+P17) -> 2 | Y17: =SUM(I17+Q17) -> 3 | Z17: 5
A18: Cardiología | B18: 2 | C18: 5 | D18: 1 | E18: 0 | R18: =SUM(B18+J18) -> 2 | S18: =SUM(C18+K18) -> 5 | T18: =SUM(D18+L18) -> 1 | U18: =SUM(E18+M18) -> 0 | V18: =SUM(F18+N18) -> 0 | W18: =SUM(G18+O18) -> 0 | X18: =SUM(H18+P18) -> 0 | Y18: =SUM(I18+Q18) -> 0 | Z18: 8
A19: Mastología | R19: =SUM(B19+J19) -> 0 | S19: =SUM(C19+K19) -> 0 | T19: =SUM(D19+L19) -> 0 | U19: =SUM(E19+M19) -> 0 | V19: =SUM(F19+N19) -> 0 | W19: =SUM(G19+O19) -> 0 | X19: =SUM(H19+P19) -> 0 | Y19: =SUM(I19+Q19) -> 0
A20: Endocrinología pediátrica | R20: =SUM(B20+J20) -> 0 | S20: =SUM(C20+K20) -> 0 | T20: =SUM(D20+L20) -> 0 | U20: =SUM(E20+M20) -> 0 | V20: =SUM(F20+N20) -> 0 | W20: =SUM(G20+O20) -> 0 | X20: =SUM(H20+P20) -> 0 | Y20: =SUM(I20+Q20) -> 0
A21: Endocrinología adulto | R21: =SUM(B21+J21) -> 0 | S21: =SUM(C21+K21) -> 0 | T21: =SUM(D21+L21) -> 0 | U21: =SUM(E21+M21) -> 0 | V21: =SUM(F21+N21) -> 0 | W21: =SUM(G21+O21) -> 0 | X21: =SUM(H21+P21) -> 0 | Y21: =SUM(I21+Q21) -> 0
A22: Gastroenterología pediátrica | R22: =SUM(B22+J22) -> 0 | S22: =SUM(C22+K22) -> 0 | T22: =SUM(D22+L22) -> 0 | U22: =SUM(E22+M22) -> 0 | V22: =SUM(F22+N22) -> 0 | W22: =SUM(G22+O22) -> 0 | X22: =SUM(H22+P22) -> 0 | Y22: =SUM(I22+Q22) -> 0
A23: Gastroenterología adulto | R23: =SUM(B23+J23) -> 0 | S23: =SUM(C23+K23) -> 0 | T23: =SUM(D23+L23) -> 0 | U23: =SUM(E23+M23) -> 0 | V23: =SUM(F23+N23) -> 0 | W23: =SUM(G23+O23) -> 0 | X23: =SUM(H23+P23) -> 0 | Y23: =SUM(I23+Q23) -> 0
A24: Genética clínica | R24: =SUM(B24+J24) -> 0 | S24: =SUM(C24+K24) -> 0 | T24: =SUM(D24+L24) -> 0 | U24: =SUM(E24+M24) -> 0 | V24: =SUM(F24+N24) -> 0 | W24: =SUM(G24+O24) -> 0 | X24: =SUM(H24+P24) -> 0 | Y24: =SUM(I24+Q24) -> 0
A25: Hematología | R25: =SUM(B25+J25) -> 0 | S25: =SUM(C25+K25) -> 0 | T25: =SUM(D25+L25) -> 0 | U25: =SUM(E25+M25) -> 0 | V25: =SUM(F25+N25) -> 0 | W25: =SUM(G25+O25) -> 0 | X25: =SUM(H25+P25) -> 0 | Y25: =SUM(I25+Q25) -> 0
A26: Medicina del adolescente | R26: =SUM(B26+J26) -> 0 | S26: =SUM(C26+K26) -> 0 | T26: =SUM(D26+L26) -> 0 | U26: =SUM(E26+M26) -> 0 | V26: =SUM(F26+N26) -> 0 | W26: =SUM(G26+O26) -> 0 | X26: =SUM(H26+P26) -> 0 | Y26: =SUM(I26+Q26) -> 0
A27: Nefrología pediátrica | R27: =SUM(B27+J27) -> 0 | S27: =SUM(C27+K27) -> 0 | T27: =SUM(D27+L27) -> 0 | U27: =SUM(E27+M27) -> 0 | V27: =SUM(F27+N27) -> 0 | W27: =SUM(G27+O27) -> 0 | X27: =SUM(H27+P27) -> 0 | Y27: =SUM(I27+Q27) -> 0
A28: Nefrología adulto | R28: =SUM(B28+J28) -> 0 | S28: =SUM(C28+K28) -> 0 | T28: =SUM(D28+L28) -> 0 | U28: =SUM(E28+M28) -> 0 | V28: =SUM(F28+N28) -> 0 | W28: =SUM(G28+O28) -> 0 | X28: =SUM(H28+P28) -> 0 | Y28: =SUM(I28+Q28) -> 0
A29: Nutrición clínica | R29: =SUM(B29+J29) -> 0 | S29: =SUM(C29+K29) -> 0 | T29: =SUM(D29+L29) -> 0 | U29: =SUM(E29+M29) -> 0 | V29: =SUM(F29+N29) -> 0 | W29: =SUM(G29+O29) -> 0 | X29: =SUM(H29+P29) -> 0 | Y29: =SUM(I29+Q29) -> 0
A30: Medicina Materno Infantil | R30: =SUM(B30+J30) -> 0 | S30: =SUM(C30+K30) -> 0 | T30: =SUM(D30+L30) -> 0 | U30: =SUM(E30+M30) -> 0 | V30: =SUM(F30+N30) -> 0 | W30: =SUM(G30+O30) -> 0 | X30: =SUM(H30+P30) -> 0 | Y30: =SUM(I30+Q30) -> 0
... A32: Medicina Paliativa y Manejo del Dolor | R32: =SUM(B32+J32) -> 0 | S32: =SUM(C32+K32) -> 0 | T32: =SUM(D32+L32) -> 0 | U32: =SUM(E32+M32) -> 0 | V32: =SUM(F32+N32) -> 0 | W32: =SUM(G32+O32) -> 0 | X32: =SUM(H32+P32) -> 0 | Y32: =SUM(I32+Q32) -> 0
A33: Dermatología | H33: 4 | I33: 7 | R33: =SUM(B33+J33) -> 0 | S33: =SUM(C33+K33) -> 0 | T33: =SUM(D33+L33) -> 0 | U33: =SUM(E33+M33) -> 0 | V33: =SUM(F33+N33) -> 0 | W33: =SUM(G33+O33) -> 0 | X33: =SUM(H33+P33) -> 4 | Y33: =SUM(I33+Q33) -> 7 | Z33: 11
A34: Infectología | R34: =SUM(B34+J34) -> 0 | S34: =SUM(C34+K34) -> 0 | T34: =SUM(D34+L34) -> 0 | U34: =SUM(E34+M34) -> 0 | V34: =SUM(F34+N34) -> 0 | W34: =SUM(G34+O34) -> 0 | X34: =SUM(H34+P34) -> 0 | Y34: =SUM(I34+Q34) -> 0
A35: Inmunología | R35: =SUM(B35+J35) -> 0 | S35: =SUM(C35+K35) -> 0 | T35: =SUM(D35+L35) -> 0 | U35: =SUM(E35+M35) -> 0 | V35: =SUM(F35+N35) -> 0 | W35: =SUM(G35+O35) -> 0 | X35: =SUM(H35+P35) -> 0 | Y35: =SUM(I35+Q35) -> 0
A36: Geriatría | R36: =SUM(B36+J36) -> 0 | S36: =SUM(C36+K36) -> 0 | T36: =SUM(D36+L36) -> 0 | U36: =SUM(E36+M36) -> 0 | V36: =SUM(F36+N36) -> 0 | W36: =SUM(G36+O36) -> 0 | X36: =SUM(H36+P36) -> 0 | Y36: =SUM(I36+Q36) -> 0
A37: Medicina Física y Rehabilitación | R37: =SUM(B37+J37) -> 0 | S37: =SUM(C37+K37) -> 0 | T37: =SUM(D37+L37) -> 0 | U37: =SUM(E37+M37) -> 0 | V37: =SUM(F37+N37) -> 0 | W37: =SUM(G37+O37) -> 0 | X37: =SUM(H37+P37) -> 0 | Y37: =SUM(I37+Q37) -> 0
A38: Medicina Reproductiva e Infertilidad | R38: =SUM(B38+J38) -> 0 | S38: =SUM(C38+K38) -> 0 | T38: =SUM(D38+L38) -> 0 | U38: =SUM(E38+M38) -> 0 | V38: =SUM(F38+N38) -> 0 | W38: =SUM(G38+O38) -> 0 | X38: =SUM(H38+P38) -> 0 | Y38: =SUM(I38+Q38) -> 0
A39: Neurología pediátrica | B39: 1 | R39: =SUM(B39+J39) -> 1 | S39: =SUM(C39+K39) -> 0 | T39: =SUM(D39+L39) -> 0 | U39: =SUM(E39+M39) -> 0 | V39: =SUM(F39+N39) -> 0 | W39: =SUM(G39+O39) -> 0 | X39: =SUM(H39+P39) -> 0 | Y39: =SUM(I39+Q39) -> 0 | Z39: 1
A40: Neurología adulto | R40: =SUM(B40+J40) -> 0 | S40: =SUM(C40+K40) -> 0 | T40: =SUM(D40+L40) -> 0 | U40: =SUM(E40+M40) -> 0 | V40: =SUM(F40+N40) -> 0 | W40: =SUM(G40+O40) -> 0 | X40: =SUM(H40+P40) -> 0 | Y40: =SUM(I40+Q40) -> 0
A41: Oncología médica | R41: =SUM(B41+J41) -> 0 | S41: =SUM(C41+K41) -> 0 | T41: =SUM(D41+L41) -> 0 | U41: =SUM(E41+M41) -> 0 | V41: =SUM(F41+N41) -> 0 | W41: =SUM(G41+O41) -> 0 | X41: =SUM(H41+P41) -> 0 | Y41: =SUM(I41+Q41) -> 0
A42: Psiquiatría pediátrica y de la adolescencia | R42: =SUM(B42+J42) -> 0 | S42: =SUM(C42+K42) -> 0 | T42: =SUM(D42+L42) -> 0 | U42: =SUM(E42+M42) -> 0 | V42: =SUM(F42+N42) -> 0 | W42: =SUM(G42+O42) -> 0 | X42: =SUM(H42+P42) -> 0 | Y42: =SUM(I42+Q42) -> 0
...

Sheet MARZO
A1: SERVICIO DE SALUD
A2: =CONCATENATE("COMUNA: ",[4]NOMBRE!B2, " (",[4]NOMBRE!C2,[4]NOMBRE!D2,[4]NOMBRE!E2,[4]NOMBRE!F2,[4]NOMBRE!G2,")") -> COMUNA: LINARES (07401)
A3: =CONCATENATE("ESTABLECIMIENTO/ESTRATEGIA: ", [4]NOMBRE!B3, " (",[4]NOMBRE!C3,[4]NOMBRE!D3,[4]NOMBRE!E3,[4]NOMBRE!F3,[4]NOMBRE!G3,[4]NOMBRE!H3,")") -> ESTABLECIMIENTO/ESTRATEGIA: HOSPITAL PRESIDENTE CARLOS IBAÑEZ DEL CAMPO (116108)
A4: =CONCATENATE("MES: ",[4]NOMBRE!B6, " (",[4]NOMBRE!C6,[4]NOMBRE!D6,")") -> MES: MARZO (03)
A5: =CONCATENATE("AÑO: ",[4]NOMBRE!B7) -> AÑO: 2025
A6: REM-30. ATENCIONES POR TELEMEDICINA EN LA RED ASISTENCIAL
A8: SECCIÓN A: TELEINTERCONSULTA DE ESPECIALIDAD (ATENCION REALIZADA DE MÉDICO A MÉDICO)
A9: Especialidades | B9: Teleinterconsulta médica de especialidad ambulatoria nueva | J9: Teleinterconsulta médica de especialidad ambulatoria control | R9: TOTAL TELEINTERCONSULTAS MEDICAS AMBULATORIAS DE ESPECIALIDAD | Z9: Modalidad | AC9: Teleinterconsulta medicina de especialidad realizadas a pacientes hospitalizados | AK9: Modalidad | AN9: Teleinterconsultas solicitadas desde APS o Nivel Secundario para ser resueltas por otro establecimiento
B10: 0 - 14 años | D10: 15 - 17 años | F10: 18-19 años | H10: 20 y más años | J10: 0 - 14 años | L10: 15 - 17 años | N10: 18 - 19 años | P10: 20 y más años | R10: 0 - 14 años | T10: 15 - 17 años | V10: 18- 19 años | X10: 20 y más años | Z10: Institucional | AA10: Compra de Servicio | AC10: 0 - 14 años | AE10: 15 - 17 años | AG10: 18 a 19 años | AI10: 20 y más años | AK10: Institucional | AL10: Compra de Servicio | AN10: 0 - 14 años | AP10: 15 - 17 años | AR10: 18 - 19 años | AT10: 20 y más años
B11: Hombres | C11: Mujeres | D11: Hombres | E11: Mujeres | F11: Hombres | G11: Mujeres | H11: Hombres | I11: Mujeres | J11: Hombres | K11: Mujeres | L11: Hombres | M11: Mujeres | N11: Hombres | O11: Mujeres | P11: Hombres | Q11: Mujeres | R11: Hombres | S11: Mujeres | T11: Hombres | U11: Mujeres | V11: Hombres | W11: Mujeres | X11: Hombres | Y11: Mujeres | AA11: Sistema | AB11: Extrasistema | AC11: Hombres | AD11: Mujeres | AE11: Hombres | AF11: Mujeres | AG11: Hombres | AH11: Mujeres | AI11: Hombres | AJ11: Mujeres | AL11: Sistema | AM11: Extrasistema | AN11: Hombres | AO11: Mujeres | AP11: Hombres | AQ11: Mujeres | AR11: Hombres | AS11: Mujeres | AT11: Hombres | AU11: Mujeres
A12: TOTAL | B12: =SUM(B13:B67) -> 5 | C12: =SUM(C13:C67) -> 6 | D12: =SUM(D13:D67) -> 0 | E12: =SUM(E13:E67) -> 0 | F12: =SUM(F13:F67) -> 0 | G12: =SUM(G13:G67) -> 6 | H12: =SUM(H13:H67) -> 12 | I12: =SUM(I13:I67) -> 65 | ... AU12: =SUM(AU13:AU67) -> 0
A13: Pediatría | B13: 4 | C13: 5 | R13: =SUM(B13+J13) -> 4 | S13: =SUM(C13+K13) -> 5 | T13: =SUM(D13+L13) -> 0 | U13: =SUM(E13+M13) -> 0 | V13: =SUM(F13+N13) -> 0 | W13: =SUM(G13+O13) -> 0 | X13: =SUM(H13+P13) -> 0 | Y13: =SUM(I13+Q13) -> 0 | Z13: 9
A14: Medicina interna | H14: 4 | I14: 6 | R14: =SUM(B14+J14) -> 0 | S14: =SUM(C14+K14) -> 0 | T14: =SUM(D14+L14) -> 0 | U14: =SUM(E14+M14) -> 0 | V14: =SUM(F14+N14) -> 0 | W14: =SUM(G14+O14) -> 0 | X14: =SUM(H14+P14) -> 4 | Y14: =SUM(I14+Q14) -> 6 | Z14: 10
A15: Neonatología | R15: =SUM(B15+J15) -> 0 | S15: =SUM(C15+K15) -> 0 | T15: =SUM(D15+L15) -> 0 | U15: =SUM(E15+M15) -> 0 | V15: =SUM(F15+N15) -> 0 | W15: =SUM(G15+O15) -> 0 | X15: =SUM(H15+P15) -> 0 | Y15: =SUM(I15+Q15) -> 0
A16: Enfermedad respiratoria pediátrica (Brocopulmonar infantil) | R16: =SUM(B16+J16) -> 0 | S16: =SUM(C16+K16) -> 0 | T16: =SUM(D16+L16) -> 0 | U16: =SUM(E16+M16) -> 0 | V16: =SUM(F16+N16) -> 0 | W16: =SUM(G16+O16) -> 0 | X16: =SUM(H16+P16) -> 0 | Y16: =SUM(I16+Q16) -> 0
A17: Enfermedad respiratoria de adulto (Broncopulmonar) | G17: 1 | H17: 1 | I17: 2 | R17: =SUM(B17+J17) -> 0 | S17: =SUM(C17+K17) -> 0 | T17: =SUM(D17+L17) -> 0 | U17: =SUM(E17+M17) -> 0 | V17: =SUM(F17+N17) -> 0 | W17: =SUM(G17+O17) -> 1 | X17: =SUM(H17+P17) -> 1 | Y17: =SUM(I17+Q17) -> 2 | Z17: 4
A18: Cardiología | B18: 1 | H18: 1 | I18: 1 | R18: =SUM(B18+J18) -> 1 | S18: =SUM(C18+K18) -> 0 | T18: =SUM(D18+L18) -> 0 | U18: =SUM(E18+M18) -> 0 | V18: =SUM(F18+N18) -> 0 | W18: =SUM(G18+O18) -> 0 | X18: =SUM(H18+P18) -> 1 | Y18: =SUM(I18+Q18) -> 1 | Z18: 3
A19: Mastología | R19: =SUM(B19+J19) -> 0 | S19: =SUM(C19+K19) -> 0 | T19: =SUM(D19+L19) -> 0 | U19: =SUM(E19+M19) -> 0 | V19: =SUM(F19+N19) -> 0 | W19: =SUM(G19+O19) -> 0 | X19: =SUM(H19+P19) -> 0 | Y19: =SUM(I19+Q19) -> 0
A20: Endocrinología pediátrica | R20: =SUM(B20+J20) -> 0 | S20: =SUM(C20+K20) -> 0 | T20: =SUM(D20+L20) -> 0 | U20: =SUM(E20+M20) -> 0 | V20: =SUM(F20+N20) -> 0 | W20: =SUM(G20+O20) -> 0 | X20: =SUM(H20+P20) -> 0 | Y20: =SUM(I20+Q20) -> 0
A21: Endocrinología adulto | H21: 1 | I21: 1 | R21: =SUM(B21+J21) -> 0 | S21: =SUM(C21+K21) -> 0 | T21: =SUM(D21+L21) -> 0 | U21: =SUM(E21+M21) -> 0 | V21: =SUM(F21+N21) -> 0 | W21: =SUM(G21+O21) -> 0 | X21: =SUM(H21+P21) -> 1 | Y21: =SUM(I21+Q21) -> 1 | Z21: 2
A22: Gastroenterología pediátrica | R22: =SUM(B22+J22) -> 0 | S22: =SUM(C22+K22) -> 0 | T22: =SUM(D22+L22) -> 0 | U22: =SUM(E22+M22) -> 0 | V22: =SUM(F22+N22) -> 0 | W22: =SUM(G22+O22) -> 0 | X22: =SUM(H22+P22) -> 0 | Y22: =SUM(I22+Q22) -> 0
A23: Gastroenterología adulto | R23: =SUM(B23+J23) -> 0 | S23: =SUM(C23+K23) -> 0 | T23: =SUM(D23+L23) -> 0 | U23: =SUM(E23+M23) -> 0 | V23: =SUM(F23+N23) -> 0 | W23: =SUM(G23+O23) -> 0 | X23: =SUM(H23+P23) -> 0 | Y23: =SUM(I23+Q23) -> 0
A24: Genética clínica | R24: =SUM(B24+J24) -> 0 | S24: =SUM(C24+K24) -> 0 | T24: =SUM(D24+L24) -> 0 | U24: =SUM(E24+M24) -> 0 | V24: =SUM(F24+N24) -> 0 | W24: =SUM(G24+O24) -> 0 | X24: =SUM(H24+P24) -> 0 | Y24: =SUM(I24+Q24) -> 0
A25: Hematología | R25: =SUM(B25+J25) -> 0 | S25: =SUM(C25+K25) -> 0 | T25: =SUM(D25+L25) -> 0 | U25: =SUM(E25+M25) -> 0 | V25: =SUM(F25+N25) -> 0 | W25: =SUM(G25+O25) -> 0 | X25: =SUM(H25+P25) -> 0 | Y25: =SUM(I25+Q25) -> 0
A26: Medicina del adolescente | R26: =SUM(B26+J26) -> 0 | S26: =SUM(C26+K26) -> 0 | T26: =SUM(D26+L26) -> 0 | U26: =SUM(E26+M26) -> 0 | V26: =SUM(F26+N26) -> 0 | W26: =SUM(G26+O26) -> 0 | X26: =SUM(H26+P26) -> 0 | Y26: =SUM(I26+Q26) -> 0
A27: Nefrología pediátrica | R27: =SUM(B27+J27) -> 0 | S27: =SUM(C27+K27) -> 0 | T27: =SUM(D27+L27) -> 0 | U27: =SUM(E27+M27) -> 0 | V27: =SUM(F27+N27) -> 0 | W27: =SUM(G27+O27) -> 0 | X27: =SUM(H27+P27) -> 0 | Y27: =SUM(I27+Q27) -> 0
A28: Nefrología adulto | R28: =SUM(B28+J28) -> 0 | S28: =SUM(C28+K28) -> 0 | T28: =SUM(D28+L28) -> 0 | U28: =SUM(E28+M28) -> 0 | V28: =SUM(F28+N28) -> 0 | W28: =SUM(G28+O28) -> 0 | X28: =SUM(H28+P28) -> 0 | Y28: =SUM(I28+Q28) -> 0
A29: Nutrición clínica | R29: =SUM(B29+J29) -> 0 | S29: =SUM(C29+K29) -> 0 | T29: =SUM(D29+L29) -> 0 | U29: =SUM(E29+M29) -> 0 | V29: =SUM(F29+N29) -> 0 | W29: =SUM(G29+O29) -> 0 | X29: =SUM(H29+P29) -> 0 | Y29: =SUM(I29+Q29) -> 0
A30: Medicina Materno Infantil | R30: =SUM(B30+J30) -> 0 | S30: =SUM(C30+K30) -> 0 | T30: =SUM(D30+L30) -> 0 | U30: =SUM(E30+M30) -> 0 | V30: =SUM(F30+N30) -> 0 | W30: =SUM(G30+O30) -> 0 | X30: =SUM(H30+P30) -> 0 | Y30: =SUM(I30+Q30) -> 0
A31: Reumatología | R31: =SUM(B31+J31) -> 0 | S31: =SUM(C31+K31) -> 0 | T31: =SUM(D31+L31) -> 0 | U31: =SUM(E31+M31) -> 0 | V31: =SUM(F31+N31) -> 0 | W31: =SUM(G31+O31) -> 0 | X31: =SUM(H31+P31) -> 0 | Y31: =SUM(I31+Q31) -> 0
A32: Medicina Paliativa y Manejo del Dolor | R32: =SUM(B32+J32) -> 0 | S32: =SUM(C32+K32) -> 0 | T32: =SUM(D32+L32) -> 0 | U32: =SUM(E32+M32) -> 0 | V32: =SUM(F32+N32) -> 0 | W32: =SUM(G32+O32) -> 0 | X32: =SUM(H32+P32) -> 0 | Y32: =SUM(I32+Q32) -> 0
A33: Dermatología | H33: 1 | I33: 2 | R33: =SUM(B33+J33) -> 0 | S33: =SUM(C33+K33) -> 0 | T33: =SUM(D33+L33) -> 0 | U33: =SUM(E33+M33) -> 0 | V33: =SUM(F33+N33) -> 0 | W33: =SUM(G33+O33) -> 0 | X33: =SUM(H33+P33) -> 1 | Y33: =SUM(I33+Q33) -> 2 | Z33: 3
A34: Infectología | R34: =SUM(B34+J34) -> 0 | S34: =SUM(C34+K34) -> 0 | T34: =SUM(D34+L34) -> 0 | U34: =SUM(E34+M34) -> 0 | V34: =SUM(F34+N34) -> 0 | W34: =SUM(G34+O34) -> 0 | X34: =SUM(H34+P34) -> 0 | Y34: =SUM(I34+Q34) -> 0
A35: Inmunología | R35: =SUM(B35+J35) -> 0 | S35: =SUM(C35+K35) -> 0 | T35: =SUM(D35+L35) -> 0 | U35: =SUM(E35+M35) -> 0 | V35: =SUM(F35+N35) -> 0 | W35: =SUM(G35+O35) -> 0 | X35: =SUM(H35+P35) -> 0 | Y35: =SUM(I35+Q35) -> 0
A36: Geriatría | R36: =SUM(B36+J36) -> 0 | S36: =SUM(C36+K36) -> 0 | T36: =SUM(D36+L36) -> 0 | U36: =SUM(E36+M36) -> 0 | V36: =SUM(F36+N36) -> 0 | W36: =SUM(G36+O36) -> 0 | X36: =SUM(H36+P36) -> 0 | Y36: =SUM(I36+Q36) -> 0
A37: Medicina Física y Rehabilitación | R37: =SUM(B37+J37) -> 0 | S37: =SUM(C37+K37) -> 0 | T37: =SUM(D37+L37) -> 0 | U37: =SUM(E37+M37) -> 0 | V37: =SUM(F37+N37) -> 0 | W37: =SUM(G37+O37) -> 0 | X37: =SUM(H37+P37) -> 0 | Y37: =SUM(I37+Q37) -> 0
A38: Medicina Reproductiva e Infertilidad | R38: =SUM(B38+J38) -> 0 | S38: =SUM(C38+K38) -> 0 | T38: =SUM(D38+L38) -> 0 | U38: =SUM(E38+M38) -> 0 | V38: =SUM(F38+N38) -> 0 | W38: =SUM(G38+O38) -> 0 | X38: =SUM(H38+P38) -> 0 | Y38: =SUM(I38+Q38) -> 0
A39: Neurología pediátrica | R39: =SUM(B39+J39) -> 0 | S39: =SUM(C39+K39) -> 0 | T39: =SUM(D39+L39) -> 0 | U39: =SUM(E39+M39) -> 0 | V39: =SUM(F39+N39) -> 0 | W39: =SUM(G39+O39) -> 0 | X39: =SUM(H39+P39) -> 0 | Y39: =SUM(I39+Q39) -> 0
A40: Neurología adulto | R40: =SUM(B40+J40) -> 0 | S40: =SUM(C40+K40) -> 0 | T40: =SUM(D40+L40) -> 0 | U40: =SUM(E40+M40) -> 0 | V40: =SUM(F40+N40) -> 0 | W40: =SUM(G40+O40) -> 0 | X40: =SUM(H40+P40) -> 0 | Y40: =SUM(I40+Q40) -> 0
A41: Oncología médica | R41: =SUM(B41+J41) -> 0 | S41: =SUM(C41+K41) -> 0 | T41: =SUM(D41+L41) -> 0 | U41: =SUM(E41+M41) -> 0 | V41: =SUM(F41+N41) -> 0 | W41: =SUM(G41+O41) -> 0 | X41: =SUM(H41+P41) -> 0 | Y41: =SUM(I41+Q41) -> 0
...

Sheet ABRIL
A1: SERVICIO DE SALUD
A2: =CONCATENATE("COMUNA: ",[5]NOMBRE!B2, " (",[5]NOMBRE!C2,[5]NOMBRE!D2,[5]NOMBRE!E2,[5]NOMBRE!F2,[5]NOMBRE!G2,")") -> COMUNA: LINARES (07401)
A3: =CONCATENATE("ESTABLECIMIENTO/ESTRATEGIA: ", [5]NOMBRE!B3, " (",[5]NOMBRE!C3,[5]NOMBRE!D3,[5]NOMBRE!E3,[5]NOMBRE!F3,[5]NOMBRE!G3,[5]NOMBRE!H3,")") -> ESTABLECIMIENTO/ESTRATEGIA: HOSPITAL PRESIDENTE CARLOS IBAÑEZ DEL CAMPO (116108)
A4: =CONCATENATE("MES: ",[5]NOMBRE!B6, " (",[5]NOMBRE!C6,[5]NOMBRE!D6,")") -> MES: ABRIL (04)
A5: =CONCATENATE("AÑO: ",[5]NOMBRE!B7) -> AÑO: 2025
A6: REM-30. ATENCIONES POR TELEMEDICINA EN LA RED ASISTENCIAL
A8: SECCIÓN A: TELEINTERCONSULTA DE ESPECIALIDAD (ATENCION REALIZADA DE MÉDICO A MÉDICO)
A9: Especialidades | B9: Teleinterconsulta médica de especialidad ambulatoria nueva | J9: Teleinterconsulta médica de especialidad ambulatoria control | R9: TOTAL TELEINTERCONSULTAS MEDICAS AMBULATORIAS DE ESPECIALIDAD | Z9: Modalidad | AC9: Teleinterconsulta medicina de especialidad realizadas a pacientes hospitalizados | AK9: Modalidad | AN9: Teleinterconsultas solicitadas desde APS o Nivel Secundario para ser resueltas por otro establecimiento
B10: 0 - 14 años | D10: 15 - 17 años | F10: 18-19 años | H10: 20 y más años | J10: 0 - 14 años | L10: 15 - 17 años | N10: 18 - 19 años | P10: 20 y más años | R10: 0 - 14 años | T10: 15 - 17 años | V10: 18- 19 años | X10: 20 y más años | Z10: Institucional | AA10: Compra de Servicio | AC10: 0 - 14 años | AE10: 15 - 17 años | AG10: 18 a 19 años | AI10: 20 y más años | AK10: Institucional | AL10: Compra de Servicio | AN10: 0 - 14 años | AP10: 15 - 17 años | AR10: 18 - 19 años | AT10: 20 y más años
B11: Hombres | C11: Mujeres | D11: Hombres | E11: Mujeres | F11: Hombres | G11: Mujeres | H11: Hombres | I11: Mujeres | J11: Hombres | K11: Mujeres | L11: Hombres | M11: Mujeres | N11: Hombres | O11: Mujeres | P11: Hombres | Q11: Mujeres | R11: Hombres | S11: Mujeres | T11: Hombres | U11: Mujeres | V11: Hombres | W11: Mujeres | X11: Hombres | Y11: Mujeres | AA11: Sistema | AB11: Extrasistema | AC11: Hombres | AD11: Mujeres | AE11: Hombres | AF11: Mujeres | AG11: Hombres | AH11: Mujeres | AI11: Hombres | AJ11: Mujeres | AL11: Sistema | AM11: Extrasistema | AN11: Hombres | AO11: Mujeres | AP11: Hombres | AQ11: Mujeres | AR11: Hombres | AS11: Mujeres | AT11: Hombres | AU11: Mujeres
A12: TOTAL | B12: =SUM(B13:B67) -> 19 | C12: =SUM(C13:C67) -> 34 | D12: =SUM(D13:D67) -> 0 | E12: =SUM(E13:E67) -> 4 | F12: =SUM(F13:F67) -> 2 | G12: =SUM(G13:G67) -> 3 | H12: =SUM(H13:H67) -> 24 | I12: =SUM(I13:I67) -> 75 | ... AU12: =SUM(AU13:AU67) -> 0
A13: Pediatría | B13: 13 | C13: 22 | R13: =SUM(B13+J13) -> 13 | S13: =SUM(C13+K13) -> 22 | T13: =SUM(D13+L13) -> 0 | U13: =SUM(E13+M13) -> 0 | V13: =SUM(F13+N13) -> 0 | W13: =SUM(G13+O13) -> 0 | X13: =SUM(H13+P13) -> 0 | Y13: =SUM(I13+Q13) -> 0 | Z13: 35
A14: Medicina interna | H14: 5 | I14: 9 | R14: =SUM(B14+J14) -> 0 | S14: =SUM(C14+K14) -> 0 | T14: =SUM(D14+L14) -> 0 | U14: =SUM(E14+M14) -> 0 | V14: =SUM(F14+N14) -> 0 | W14: =SUM(G14+O14) -> 0 | X14: =SUM(H14+P14) -> 5 | Y14: =SUM(I14+Q14) -> 9 | Z14: 14
A15: Neonatología | R15: =SUM(B15+J15) -> 0 | S15: =SUM(C15+K15) -> 0 | T15: =SUM(D15+L15) -> 0 | U15: =SUM(E15+M15) -> 0 | V15: =SUM(F15+N15) -> 0 | W15: =SUM(G15+O15) -> 0 | X15: =SUM(H15+P15) -> 0 | Y15: =SUM(I15+Q15) -> 0
A16: Enfermedad respiratoria pediátrica (Brocopulmonar infantil) | R16: =SUM(B16+J16) -> 0 | S16: =SUM(C16+K16) -> 0 | T16: =SUM(D16+L16) -> 0 | U16: =SUM(E16+M16) -> 0 | V16: =SUM(F16+N16) -> 0 | W16: =SUM(G16+O16) -> 0 | X16: =SUM(H16+P16) -> 0 | Y16: =SUM(I16+Q16) -> 0
A17: Enfermedad respiratoria de adulto (Broncopulmonar) | H17: 3 | I17: 8 | R17: =SUM(B17+J17) -> 0 | S17: =SUM(C17+K17) -> 0 | T17: =SUM(D17+L17) -> 0 | U17: =SUM(E17+M17) -> 0 | V17: =SUM(F17+N17) -> 0 | W17: =SUM(G17+O17) -> 0 | X17: =SUM(H17+P17) -> 3 | Y17: =SUM(I17+Q17) -> 8 | Z17: 11
A18: Cardiología | B18: 6 | C18: 4 | F18: 1 | R18: =SUM(B18+J18) -> 6 | S18: =SUM(C18+K18) -> 4 | T18: =SUM(D18+L18) -> 0 | U18: =SUM(E18+M18) -> 0 | V18: =SUM(F18+N18) -> 1 | W18: =SUM(G18+O18) -> 0 | X18: =SUM(H18+P18) -> 0 | Y18: =SUM(I18+Q18) -> 0 | Z18: 11
A19: Mastología | R19: =SUM(B19+J19) -> 0 | S19: =SUM(C19+K19) -> 0 | T19: =SUM(D19+L19) -> 0 | U19: =SUM(E19+M19) -> 0 | V19: =SUM(F19+N19) -> 0 | W19: =SUM(G19+O19) -> 0 | X19: =SUM(H19+P19) -> 0 | Y19: =SUM(I19+Q19) -> 0
A20: Endocrinología pediátrica | R20: =SUM(B20+J20) -> 0 | S20: =SUM(C20+K20) -> 0 | T20: =SUM(D20+L20) -> 0 | U20: =SUM(E20+M20) -> 0 | V20: =SUM(F20+N20) -> 0 | W20: =SUM(G20+O20) -> 0 | X20: =SUM(H20+P20) -> 0 | Y20: =SUM(I20+Q20) -> 0
A21: Endocrinología adulto | I21: 1 | R21: =SUM(B21+J21) -> 0 | S21: =SUM(C21+K21) -> 0 | T21: =SUM(D21+L21) -> 0 | U21: =SUM(E21+M21) -> 0 | V21: =SUM(F21+N21) -> 0 | W21: =SUM(G21+O21) -> 0 | X21: =SUM(H21+P21) -> 0 | Y21: =SUM(I21+Q21) -> 1 | Z21: 1
A22: Gastroenterología pediátrica | R22: =SUM(B22+J22) -> 0 | S22: =SUM(C22+K22) -> 0 | T22: =SUM(D22+L22) -> 0 | U22: =SUM(E22+M22) -> 0 | V22: =SUM(F22+N22) -> 0 | W22: =SUM(G22+O22) -> 0 | X22: =SUM(H22+P22) -> 0 | Y22: =SUM(I22+Q22) -> 0
A23: Gastroenterología adulto | R23: =SUM(B23+J23) -> 0 | S23: =SUM(C23+K23) -> 0 | T23: =SUM(D23+L23) -> 0 | U23: =SUM(E23+M23) -> 0 | V23: =SUM(F23+N23) -> 0 | W23: =SUM(G23+O23) -> 0 | X23: =SUM(H23+P23) -> 0 | Y23: =SUM(I23+Q23) -> 0
A24: Genética clínica | R24: =SUM(B24+J24) -> 0 | S24: =SUM(C24+K24) -> 0 | T24: =SUM(D24+L24) -> 0 | U24: =SUM(E24+M24) -> 0 | V24: =SUM(F24+N24) -> 0 | W24: =SUM(G24+O24) -> 0 | X24: =SUM(H24+P24) -> 0 | Y24: =SUM(I24+Q24) -> 0
A25: Hematología | R25: =SUM(B25+J25) -> 0 | S25: =SUM(C25+K25) -> 0 | T25: =SUM(D25+L25) -> 0 | U25: =SUM(E25+M25) -> 0 | V25: =SUM(F25+N25) -> 0 | W25: =SUM(G25+O25) -> 0 | X25: =SUM(H25+P25) -> 0 | Y25: =SUM(I25+Q25) -> 0
A26: Medicina del adolescente | R26: =SUM(B26+J26) -> 0 | S26: =SUM(C26+K26) -> 0 | T26: =SUM(D26+L26) -> 0 | U26: =SUM(E26+M26) -> 0 | V26: =SUM(F26+N26) -> 0 | W26: =SUM(G26+O26) -> 0 | X26: =SUM(H26+P26) -> 0 | Y26: =SUM(I26+Q26) -> 0
A27: Nefrología pediátrica | R27: =SUM(B27+J27) -> 0 | S27: =SUM(C27+K27) -> 0 | T27: =SUM(D27+L27) -> 0 | U27: =SUM(E27+M27) -> 0 | V27: =SUM(F27+N27) -> 0 | W27: =SUM(G27+O27) -> 0 | X27: =SUM(H27+P27) -> 0 | Y27: =SUM(I27+Q27) -> 0
A28: Nefrología adulto | R28: =SUM(B28+J28) -> 0 | S28: =SUM(C28+K28) -> 0 | T28: =SUM(D28+L28) -> 0 | U28: =SUM(E28+M28) -> 0 | V28: =SUM(F28+N28) -> 0 | W28: =SUM(G28+O28) -> 0 | X28: =SUM(H28+P28) -> 0 | Y28: =SUM(I28+Q28) -> 0
A29: Nutrición clínica | R29: =SUM(B29+J29) -> 0 | S29: =SUM(C29+K29) -> 0 | T29: =SUM(D29+L29) -> 0 | U29: =SUM(E29+M29) -> 0 | V29: =SUM(F29+N29) -> 0 | W29: =SUM(G29+O29) -> 0 | X29: =SUM(H29+P29) -> 0 | Y29: =SUM(I29+Q29) -> 0
A30: Medicina Materno Infantil | R30: =SUM(B30+J30) -> 0 | S30: =SUM(C30+K30) -> 0 | T30: =SUM(D30+L30) -> 0 | U30: =SUM(E30+M30) -> 0 | V30: =SUM(F30+N30) -> 0 | W30: =SUM(G30+O30) -> 0 | X30: =SUM(H30+P30) -> 0 | Y30: =SUM(I30+Q30) -> 0
A31: Reumatología | R31: =SUM(B31+J31) -> 0 | S31: =SUM(C31+K31) -> 0 | T31: =SUM(D31+L31) -> 0 | U31: =SUM(E31+M31) -> 0 | V31: =SUM(F31+N31) -> 0 | W31: =SUM(G31+O31) -> 0 | X31: =SUM(H31+P31) -> 0 | Y31: =SUM(I31+Q31) -> 0
A32: Medicina Paliativa y Manejo del Dolor | R32: =SUM(B32+J32) -> 0 | S32: =SUM(C32+K32) -> 0 | T32: =SUM(D32+L32) -> 0 | U32: =SUM(E32+M32) -> 0 | V32: =SUM(F32+N32) -> 0 | W32: =SUM(G32+O32) -> 0 | X32: =SUM(H32+P32) -> 0 | Y32: =SUM(I32+Q32) -> 0
A33: Dermatología | R33: =SUM(B33+J33) -> 0 | S33: =SUM(C33+K33) -> 0 | T33: =SUM(D33+L33) -> 0 | U33: =SUM(E33+M33) -> 0 | V33: =SUM(F33+N33) -> 0 | W33: =SUM(G33+O33) -> 0 | X33: =SUM(H33+P33) -> 0 | Y33: =SUM(I33+Q33) -> 0
... A38: Medicina Reproductiva e Infertilidad | R38: =SUM(B38+J38) -> 0 | S38: =SUM(C38+K38) -> 0 | T38: =SUM(D38+L38) -> 0 | U38: =SUM(E38+M38) -> 0 | V38: =SUM(F38+N38) -> 0 | W38: =SUM(G38+O38) -> 0 | X38: =SUM(H38+P38) -> 0 | Y38: =SUM(I38+Q38) -> 0
A39: Neurología pediátrica | C39: 1 | R39: =SUM(B39+J39) -> 0 | S39: =SUM(C39+K39) -> 1 | T39: =SUM(D39+L39) -> 0 | U39: =SUM(E39+M39) -> 0 | V39: =SUM(F39+N39) -> 0 | W39: =SUM(G39+O39) -> 0 | X39: =SUM(H39+P39) -> 0 | Y39: =SUM(I39+Q39) -> 0 | Z39: 1
A40: Neurología adulto | R40: =SUM(B40+J40) -> 0 | S40: =SUM(C40+K40) -> 0 | T40: =SUM(D40+L40) -> 0 | U40: =SUM(E40+M40) -> 0 | V40: =SUM(F40+N40) -> 0 | W40: =SUM(G40+O40) -> 0 | X40: =SUM(H40+P40) -> 0 | Y40: =SUM(I40+Q40) -> 0
A41: Oncología médica | R41: =SUM(B41+J41) -> 0 | S41: =SUM(C41+K41) -> 0 | T41: =SUM(D41+L41) -> 0 | U41: =SUM(E41+M41) -> 0 | V41: =SUM(F41+N41) -> 0 | W41: =SUM(G41+O41) -> 0 | X41: =SUM(H41+P41) -> 0 | Y41: =SUM(I41+Q41) -> 0
A42: Psiquiatría pediátrica y de la adolescencia | R42: =SUM(B42+J42) -> 0 | S42: =SUM(C42+K42) -> 0 | T42: =SUM(D42+L42) -> 0 | U42: =SUM(E42+M42) -> 0 | V42: =SUM(F42+N42) -> 0 | W42: =SUM(G42+O42) -> 0 | X42: =SUM(H42+P42) -> 0 | Y42: =SUM(I42+Q42) -> 0
A43: Psiquiatría adulto | H43: 1 | I43: 1 | R43: =SUM(B43+J43) -> 0 | S43: =SUM(C43+K43) -> 0 | T43: =SUM(D43+L43) -> 0 | U43: =SUM(E43+M43) -> 0 | V43: =SUM(F43+N43) -> 0 | W43: =SUM(G43+O43) -> 0 | X43: =SUM(H43+P43) -> 1 | Y43: =SUM(I43+Q43) -> 1 | Z43: 2
A44: Cirugía pediátrica | R44: =SUM(B44+J44) -> 0 | S44: =SUM(C44+K44) -> 0 | T44: =SUM(D44+L44) -> 0 | U44: =SUM(E44+M44) -> 0 | V44: =SUM(F44+N44) -> 0 | W44: =SUM(G44+O44) -> 0 | X44: =SUM(H44+P44) -> 0 | Y44: =SUM(I44+Q44) -> 0
A45: Cirugía General | F45: 1 | H45: 13 | I45: 21 | R45: =SUM(B45+J45) -> 0 | S45: =SUM(C45+K45) -> 0 | T45: =SUM(D45+L45) -> 0 | U45: =SUM(E45+M45) -> 0 | V45: =SUM(F45+N45) -> 1 | W45: =SUM(G45+O45) -> 0 | X45: =SUM(H45+P45) -> 13 | Y45: =SUM(I45+Q45) -> 21 | Z45: 35
...

Sheet MAYO
A1: SERVICIO DE SALUD
A2: =CONCATENATE("COMUNA: ",[6]NOMBRE!B2, " (",[6]NOMBRE!C2,[6]NOMBRE!D2,[6]NOMBRE!E2,[6]NOMBRE!F2,[6]NOMBRE!G2,")") -> COMUNA: LINARES (07401)
A3: =CONCATENATE("ESTABLECIMIENTO/ESTRATEGIA: ", [6]NOMBRE!B3, " (",[6]NOMBRE!C3,[6]NOMBRE!D3,[6]NOMBRE!E3,[6]NOMBRE!F3,[6]NOMBRE!G3,[6]NOMBRE!H3,")") -> ESTABLECIMIENTO/ESTRATEGIA: HOSPITAL PRESIDENTE CARLOS IBAÑEZ DEL CAMPO (116108)
A4: =CONCATENATE("MES: ",[6]NOMBRE!B6, " (",[6]NOMBRE!C6,[6]NOMBRE!D6,")") -> MES: MAYO (05)
A5: =CONCATENATE("AÑO: ",[6]NOMBRE!B7) -> AÑO: 2025
A6: REM-30. ATENCIONES POR TELEMEDICINA EN LA RED ASISTENCIAL
A8: SECCIÓN A: TELEINTERCONSULTA DE ESPECIALIDAD (ATENCION REALIZADA DE MÉDICO A MÉDICO)
A9: Especialidades | B9: Teleinterconsulta médica de especialidad ambulatoria nueva | J9: Teleinterconsulta médica de especialidad ambulatoria control | R9: TOTAL TELEINTERCONSULTAS MEDICAS AMBULATORIAS DE ESPECIALIDAD | Z9: Modalidad | AC9: Teleinterconsulta medicina de especialidad realizadas a pacientes hospitalizados | AK9: Modalidad | AN9: Teleinterconsultas solicitadas desde APS o Nivel Secundario para ser resueltas por otro establecimiento
B10: 0 - 14 años | D10: 15 - 17 años | F10: 18-19 años | H10: 20 y más años | J10: 0 - 14 años | L10: 15 - 17 años | N10: 18 - 19 años | P10: 20 y más años | R10: 0 - 14 años | T10: 15 - 17 años | V10: 18- 19 años | X10: 20 y más años | Z10: Institucional | AA10: Compra de Servicio | AC10: 0 - 14 años | AE10: 15 - 17 años | AG10: 18 a 19 años | AI10: 20 y más años | AK10: Institucional | AL10: Compra de Servicio | AN10: 0 - 14 años | AP10: 15 - 17 años | AR10: 18 - 19 años | AT10: 20 y más años
B11: Hombres | C11: Mujeres | D11: Hombres | E11: Mujeres | F11: Hombres | G11: Mujeres | H11: Hombres | I11: Mujeres | J11: Hombres | K11: Mujeres | L11: Hombres | M11: Mujeres | N11: Hombres | O11: Mujeres | P11: Hombres | Q11: Mujeres | R11: Hombres | S11: Mujeres | T11: Hombres | U11: Mujeres | V11: Hombres | W11: Mujeres | X11: Hombres | Y11: Mujeres | AA11: Sistema | AB11: Extrasistema | AC11: Hombres | AD11: Mujeres | AE11: Hombres | AF11: Mujeres | AG11: Hombres | AH11: Mujeres | AI11: Hombres | AJ11: Mujeres | AL11: Sistema | AM11: Extrasistema | AN11: Hombres | AO11: Mujeres | AP11: Hombres | AQ11: Mujeres | AR11: Hombres | AS11: Mujeres | AT11: Hombres | AU11: Mujeres
A12: TOTAL | B12: =SUM(B13:B67) -> 0 | C12: =SUM(C13:C67) -> 10 | D12: =SUM(D13:D67) -> 0 | E12: =SUM(E13:E67) -> 9 | F12: =SUM(F13:F67) -> 4 | G12: =SUM(G13:G67) -> 17 | H12: =SUM(H13:H67) -> 17 | I12: =SUM(I13:I67) -> 43 | ... AU12: =SUM(AU13:AU67) -> 0
A13: Pediatría | C13: 10 | E13: 9 | R13: =SUM(B13+J13) -> 0 | S13: =SUM(C13+K13) -> 10 | T13: =SUM(D13+L13) -> 0 | U13: =SUM(E13+M13) -> 9 | V13: =SUM(F13+N13) -> 0 | W13: =SUM(G13+O13) -> 0 | X13: =SUM(H13+P13) -> 0 | Y13: =SUM(I13+Q13) -> 0 | Z13: 19
A14: Medicina interna | F14: 2 | G14: 3 | R14: =SUM(B14+J14) -> 0 | S14: =SUM(C14+K14) -> 0 | T14: =SUM(D14+L14) -> 0 | U14: =SUM(E14+M14) -> 0 | V14: =SUM(F14+N14) -> 2 | W14: =SUM(G14+O14) -> 3 | X14: =SUM(H14+P14) -> 0 | Y14: =SUM(I14+Q14) -> 0 | Z14: 5
A15: Neonatología | R15: =SUM(B15+J15) -> 0 | S15: =SUM(C15+K15) -> 0 | T15: =SUM(D15+L15) -> 0 | U15: =SUM(E15+M15) -> 0 | V15: =SUM(F15+N15) -> 0 | W15: =SUM(G15+O15) -> 0 | X15: =SUM(H15+P15) -> 0 | Y15: =SUM(I15+Q15) -> 0
A16: Enfermedad respiratoria pediátrica (Brocopulmonar infantil) | R16: =SUM(B16+J16) -> 0 | S16: =SUM(C16+K16) -> 0 | T16: =SUM(D16+L16) -> 0 | U16: =SUM(E16+M16) -> 0 | V16: =SUM(F16+N16) -> 0 | W16: =SUM(G16+O16) -> 0 | X16: =SUM(H16+P16) -> 0 | Y16: =SUM(I16+Q16) -> 0
A17: Enfermedad respiratoria de adulto (Broncopulmonar) | H17: 6 | I17: 9 | R17: =SUM(B17+J17) -> 0 | S17: =SUM(C17+K17) -> 0 | T17: =SUM(D17+L17) -> 0 | U17: =SUM(E17+M17) -> 0 | V17: =SUM(F17+N17) -> 0 | W17: =SUM(G17+O17) -> 0 | X17: =SUM(H17+P17) -> 6 | Y17: =SUM(I17+Q17) -> 9 | Z17: 15
A18: Cardiología | R18: =SUM(B18+J18) -> 0 | S18: =SUM(C18+K18) -> 0 | T18: =SUM(D18+L18) -> 0 | U18: =SUM(E18+M18) -> 0 | V18: =SUM(F18+N18) -> 0 | W18: =SUM(G18+O18) -> 0 | X18: =SUM(H18+P18) -> 0 | Y18: =SUM(I18+Q18) -> 0
A19: Mastología | R19: =SUM(B19+J19) -> 0 | S19: =SUM(C19+K19) -> 0 | T19: =SUM(D19+L19) -> 0 | U19: =SUM(E19+M19) -> 0 | V19: =SUM(F19+N19) -> 0 | W19: =SUM(G19+O19) -> 0 | X19: =SUM(H19+P19) -> 0 | Y19: =SUM(I19+Q19) -> 0
A20: Endocrinología pediátrica | R20: =SUM(B20+J20) -> 0 | S20: =SUM(C20+K20) -> 0 | T20: =SUM(D20+L20) -> 0 | U20: =SUM(E20+M20) -> 0 | V20: =SUM(F20+N20) -> 0 | W20: =SUM(G20+O20) -> 0 | X20: =SUM(H20+P20) -> 0 | Y20: =SUM(I20+Q20) -> 0
