Workbook

Sheet CONSOLIDADO
A1: SERVICIO DE SALUD
A2: =CONCATENATE("COMUNA: ",[1]NOMBRE!B2, " (",[1]NOMBRE!C2,[1]NOMBRE!D2,[1]NOMBRE!E2,[1]NOMBRE!F2,[1]NOMBRE!G2,")") -> COMUNA: 0 (00000)
A3: =CONCATENATE("ESTABLECIMIENTO/ESTRATEGIA: ", [1]NOMBRE!B3, " (",[1]NOMBRE!C3,[1]NOMBRE!D3,[1]NOMBRE!E3,[1]NOMBRE!F3,[1]NOMBRE!G3,[1]NOMBRE!H3,")") -> ESTABLECIMIENTO/ESTRATEGIA: 0 (000000)
A4: =CONCATENATE("MES: ",[1]NOMBRE!B6, " (",[1]NOMBRE!C6,[1]NOMBRE!D6,")") -> MES: 0 (00)
A5: =CONCATENATE("AÑO: ",[1]NOMBRE!B7) -> AÑO: 2025
A6: REM-30. ATENCIONES POR TELEMEDICINA EN LA RED ASISTENCIAL
A8: SECCIÓN A: TELEINTERCONSULTA DE ESPECIALIDAD (ATENCION REALIZADA DE MÉDICO A MÉDICO)
A9: Especialidades | B9: Teleinterconsulta médica de especialidad ambulatoria nueva | J9: Teleinterconsulta médica de especialidad ambulatoria control | R9: TOTAL TELEINTERCONSULTAS MEDICAS AMBULATORIAS DE ESPECIALIDAD | Z9: Modalidad | AC9: Teleinterconsulta medicina de especialidad realizadas a pacientes hospitalizados | AK9: Modalidad | AN9: Teleinterconsultas solicitadas desde APS o Nivel Secundario para ser resueltas por otro establecimiento
B10: 0 - 14 años | D10: 15 - 17 años | F10: 18-19 años | H10: 20 y más años | J10: 0 - 14 años | L10: 15 - 17 años | N10: 18 - 19 años | P10: 20 y más años | R10: 0 - 14 años | T10: 15 - 17 años | V10: 18- 19 años | X10: 20 y más años | Z10: Institucional | AA10: Compra de Servicio | AC10: 0 - 14 años | AE10: 15 - 17 años | AG10: 18 a 19 años | AI10: 20 y más años | AK10: Institucional | AL10: Compra de Servicio | AN10: 0 - 14 años | AP10: 15 - 17 años | AR10: 18 - 19 años | AT10: 20 y más años
B11: Hombres | C11: Mujeres | D11: Hombres | E11: Mujeres | F11: Hombres | G11: Mujeres | H11: Hombres | I11: Mujeres | J11: Hombres | K11: Mujeres | L11: Hombres | M11: Mujeres | N11: Hombres | O11: Mujeres | P11: Hombres | Q11: Mujeres | R11: Hombres | S11: Mujeres | T11: Hombres | U11: Mujeres | V11: Hombres | W11: Mujeres | X11: Hombres | Y11: Mujeres | AA11: Sistema | AB11: Extrasistema | AC11: Hombres | AD11: Mujeres | AE11: Hombres | AF11: Mujeres | AG11: Hombres | AH11: Mujeres | AI11: Hombres | AJ11: Mujeres | AL11: Sistema | AM11: Extrasistema | AN11: Hombres | AO11: Mujeres | AP11: Hombres | AQ11: Mujeres | AR11: Hombres | AS11: Mujeres | AT11: Hombres | AU11: Mujeres
A12: TOTAL | B12: =SUM(B13:B67) -> 160 | C12: =SUM(C13:C67) -> 260 | D12: =SUM(D13:D67) -> 11 | E12: =SUM(E13:E67) -> 52 | F12: =SUM(F13:F67) -> 11 | G12: =SUM(G13:G67) -> 35 | H12: =SUM(H13:H67) -> 272 | I12: =SUM(I13:I67) -> 814 | ... AU12: =SUM(AU13:AU67) -> 0
A13: Pediatría | B13: =SUM(ENERO:DICIEMBRE!B13) -> 89 | C13: =SUM(ENERO:DICIEMBRE!C13) -> 113 | D13: =SUM(ENERO:DICIEMBRE!D13) -> 0 | E13: =SUM(ENERO:DICIEMBRE!E13) -> 10 | F13: =SUM(ENERO:DICIEMBRE!F13) -> 0 | G13: =SUM(ENERO:DICIEMBRE!G13) -> 0 | H13: =SUM(ENERO:DICIEMBRE!H13) -> 0 | I13: =SUM(ENERO:DICIEMBRE!I13) -> 1 | ... Q13: =SUM(ENERO:DICIEMBRE!Q13) -> 0 | R13: =SUM(B13+J13) -> 89 | S13: =SUM(C13+K13) -> 113 | T13: =SUM(D13+L13) -> 0 | U13: =SUM(E13+M13) -> 10 | V13: =SUM(F13+N13) -> 0 | W13: =SUM(G13+O13) -> 0 | X13: =SUM(H13+P13) -> 0 | Y13: =SUM(I13+Q13) -> 1 | Z13: =SUM(ENERO:DICIEMBRE!Z13) -> 213 | AA13: =SUM(ENERO:DICIEMBRE!AA13) -> 0 | AB13: =SUM(ENERO:DICIEMBRE!AB13) -> 0
A14: Medicina interna | B14: =SUM(ENERO:DICIEMBRE!B14) -> 0 | C14: =SUM(ENERO:DICIEMBRE!C14) -> 0 | D14: =SUM(ENERO:DICIEMBRE!D14) -> 0 | E14: =SUM(ENERO:DICIEMBRE!E14) -> 0 | F14: =SUM(ENERO:DICIEMBRE!F14) -> 2 | G14: =SUM(ENERO:DICIEMBRE!G14) -> 3 | H14: =SUM(ENERO:DICIEMBRE!H14) -> 41 | I14: =SUM(ENERO:DICIEMBRE!I14) -> 74 | ... Q14: =SUM(ENERO:DICIEMBRE!Q14) -> 0 | R14: =SUM(B14+J14) -> 0 | S14: =SUM(C14+K14) -> 0 | T14: =SUM(D14+L14) -> 0 | U14: =SUM(E14+M14) -> 0 | V14: =SUM(F14+N14) -> 2 | W14: =SUM(G14+O14) -> 3 | X14: =SUM(H14+P14) -> 41 | Y14: =SUM(I14+Q14) -> 74 | Z14: =SUM(ENERO:DICIEMBRE!Z14) -> 120 | AA14: =SUM(ENERO:DICIEMBRE!AA14) -> 0 | AB14: =SUM(ENERO:DICIEMBRE!AB14) -> 0
A15: Neonatología | B15: =SUM(ENERO:DICIEMBRE!B15) -> 0 | C15: =SUM(ENERO:DICIEMBRE!C15) -> 0 | D15: =SUM(ENERO:DICIEMBRE!D15) -> 0 | E15: =SUM(ENERO:DICIEMBRE!E15) -> 0 | F15: =SUM(ENERO:DICIEMBRE!F15) -> 0 | G15: =SUM(ENERO:DICIEMBRE!G15) -> 0 | H15: =SUM(ENERO:DICIEMBRE!H15) -> 0 | I15: =SUM(ENERO:DICIEMBRE!I15) -> 0 | ... Q15: =SUM(ENERO:DICIEMBRE!Q15) -> 0 | R15: =SUM(B15+J15) -> 0 | S15: =SUM(C15+K15) -> 0 | T15: =SUM(D15+L15) -> 0 | U15: =SUM(E15+M15) -> 0 | V15: =SUM(F15+N15) -> 0 | W15: =SUM(G15+O15) -> 0 | X15: =SUM(H15+P15) -> 0 | Y15: =SUM(I15+Q15) -> 0 | Z15: =SUM(ENERO:DICIEMBRE!Z15) -> 0 | AA15: =SUM(ENERO:DICIEMBRE!AA15) -> 0 | AB15: =SUM(ENERO:DICIEMBRE!AB15) -> 0
A16: Enfermedad respiratoria pediátrica (Brocopulmonar infantil) | B16: =SUM(ENERO:DICIEMBRE!B16) -> 0 | C16: =SUM(ENERO:DICIEMBRE!C16) -> 0 | D16: =SUM(ENERO:DICIEMBRE!D16) -> 0 | E16: =SUM(ENERO:DICIEMBRE!E16) -> 0 | F16: =SUM(ENERO:DICIEMBRE!F16) -> 0 | G16: =SUM(ENERO:DICIEMBRE!G16) -> 0 | H16: =SUM(ENERO:DICIEMBRE!H16) -> 0 | I16: =SUM(ENERO:DICIEMBRE!I16) -> 0 | ... Q16: =SUM(ENERO:DICIEMBRE!Q16) -> 0 | R16: =SUM(B16+J16) -> 0 | S16: =SUM(C16+K16) -> 0 | T16: =SUM(D16+L16) -> 0 | U16: =SUM(E16+M16) -> 0 | V16: =SUM(F16+N16) -> 0 | W16: =SUM(G16+O16) -> 0 | X16: =SUM(H16+P16) -> 0 | Y16: =SUM(I16+Q16) -> 0 | Z16: =SUM(ENERO:DICIEMBRE!Z16) -> 0 | AA16: =SUM(ENERO:DICIEMBRE!AA16) -> 0 | AB16: =SUM(ENERO:DICIEMBRE!AB16) -> 0
A17: Enfermedad respiratoria de adulto (Broncopulmonar) | B17: =SUM(ENERO:DICIEMBRE!B17) -> 0 | C17: =SUM(ENERO:DICIEMBRE!C17) -> 0 | D17: =SUM(ENERO:DICIEMBRE!D17) -> 1 | E17: =SUM(ENERO:DICIEMBRE!E17) -> 0 | F17: =SUM(ENERO:DICIEMBRE!F17) -> 0 | G17: =SUM(ENERO:DICIEMBRE!G17) -> 1 | H17: =SUM(ENERO:DICIEMBRE!H17) -> 39 | I17: =SUM(ENERO:DICIEMBRE!I17) -> 43 | ... Q17: =SUM(ENERO:DICIEMBRE!Q17) -> 0 | R17: =SUM(B17+J17) -> 0 | S17: =SUM(C17+K17) -> 0 | T17: =SUM(D17+L17) -> 1 | U17: =SUM(E17+M17) -> 0 | V17: =SUM(F17+N17) -> 0 | W17: =SUM(G17+O17) -> 1 | X17: =SUM(H17+P17) -> 39 | Y17: =SUM(I17+Q17) -> 43 | Z17: =SUM(ENERO:DICIEMBRE!Z17) -> 84 | AA17: =SUM(ENERO:DICIEMBRE!AA17) -> 0 | AB17: =SUM(ENERO:DICIEMBRE!AB17) -> 0
A18: Cardiología | B18: =SUM(ENERO:DICIEMBRE!B18) -> 29 | C18: =SUM(ENERO:DICIEMBRE!C18) -> 30 | D18: =SUM(ENERO:DICIEMBRE!D18) -> 1 | E18: =SUM(ENERO:DICIEMBRE!E18) -> 1 | F18: =SUM(ENERO:DICIEMBRE!F18) -> 1 | G18: =SUM(ENERO:DICIEMBRE!G18) -> 0 | H18: =SUM(ENERO:DICIEMBRE!H18) -> 5 | I18: =SUM(ENERO:DICIEMBRE!I18) -> 6 | ... Q18: =SUM(ENERO:DICIEMBRE!Q18) -> 0 | R18: =SUM(B18+J18) -> 29 | S18: =SUM(C18+K18) -> 30 | T18: =SUM(D18+L18) -> 1 | U18: =SUM(E18+M18) -> 1 | V18: =SUM(F18+N18) -> 1 | W18: =SUM(G18+O18) -> 0 | X18: =SUM(H18+P18) -> 5 | Y18: =SUM(I18+Q18) -> 6 | Z18: =SUM(ENERO:DICIEMBRE!Z18) -> 73 | AA18: =SUM(ENERO:DICIEMBRE!AA18) -> 0 | AB18: =SUM(ENERO:DICIEMBRE!AB18) -> 0
A19: Mastología | B19: =SUM(ENERO:DICIEMBRE!B19) -> 0 | C19: =SUM(ENERO:DICIEMBRE!C19) -> 0 | D19: =SUM(ENERO:DICIEMBRE!D19) -> 0 | E19: =SUM(ENERO:DICIEMBRE!E19) -> 0 | F19: =SUM(ENERO:DICIEMBRE!F19) -> 0 | G19: =SUM(ENERO:DICIEMBRE!G19) -> 0 | H19: =SUM(ENERO:DICIEMBRE!H19) -> 0 | I19: =SUM(ENERO:DICIEMBRE!I19) -> 0 | ... Q19: =SUM(ENERO:DICIEMBRE!Q19) -> 0 | R19: =SUM(B19+J19) -> 0 | S19: =SUM(C19+K19) -> 0 | T19: =SUM(D19+L19) -> 0 | U19: =SUM(E19+M19) -> 0 | V19: =SUM(F19+N19) -> 0 | W19: =SUM(G19+O19) -> 0 | X19: =SUM(H19+P19) -> 0 | Y19: =SUM(I19+Q19) -> 0 | Z19: =SUM(ENERO:DICIEMBRE!Z19) -> 0 | AA19: =SUM(ENERO:DICIEMBRE!AA19) -> 0 | AB19: =SUM(ENERO:DICIEMBRE!AB19) -> 0
A20: Endocrinología pediátrica | B20: =SUM(ENERO:DICIEMBRE!B20) -> 0 | C20: =SUM(ENERO:DICIEMBRE!C20) -> 0 | D20: =SUM(ENERO:DICIEMBRE!D20) -> 0 | E20: =SUM(ENERO:DICIEMBRE!E20) -> 0 | F20: =SUM(ENERO:DICIEMBRE!F20) -> 0 | G20: =SUM(ENERO:DICIEMBRE!G20) -> 0 | H20: =SUM(ENERO:DICIEMBRE!H20) -> 0 | I20: =SUM(ENERO:DICIEMBRE!I20) -> 0 | ... Q20: =SUM(ENERO:DICIEMBRE!Q20) -> 0 | R20: =SUM(B20+J20) -> 0 | S20: =SUM(C20+K20) -> 0 | T20: =SUM(D20+L20) -> 0 | U20: =SUM(E20+M20) -> 0 | V20: =SUM(F20+N20) -> 0 | W20: =SUM(G20+O20) -> 0 | X20: =SUM(H20+P20) -> 0 | Y20: =SUM(I20+Q20) -> 0 | Z20: =SUM(ENERO:DICIEMBRE!Z20) -> 0 | AA20: =SUM(ENERO:DICIEMBRE!AA20) -> 0 | AB20: =SUM(ENERO:DICIEMBRE!AB20) -> 0
A21: Endocrinología adulto | B21: =SUM(ENERO:DICIEMBRE!B21) -> 0 | C21: =SUM(ENERO:DICIEMBRE!C21) -> 0 | D21: =SUM(ENERO:DICIEMBRE!D21) -> 0 | E21: =SUM(ENERO:DICIEMBRE!E21) -> 0 | F21: =SUM(ENERO:DICIEMBRE!F21) -> 0 | G21: =SUM(ENERO:DICIEMBRE!G21) -> 1 | H21: =SUM(ENERO:DICIEMBRE!H21) -> 4 | I21: =SUM(ENERO:DICIEMBRE!I21) -> 6 | ... Q21: =SUM(ENERO:DICIEMBRE!Q21) -> 0 | R21: =SUM(B21+J21) -> 0 | S21: =SUM(C21+K21) -> 0 | T21: =SUM(D21+L21) -> 0 | U21: =SUM(E21+M21) -> 0 | V21: =SUM(F21+N21) -> 0 | W21: =SUM(G21+O21) -> 1 | X21: =SUM(H21+P21) -> 4 | Y21: =SUM(I21+Q21) -> 6 | Z21: =SUM(ENERO:DICIEMBRE!Z21) -> 11 | AA21: =SUM(ENERO:DICIEMBRE!AA21) -> 0 | AB21: =SUM(ENERO:DICIEMBRE!AB21) -> 0
A22: Gastroenterología pediátrica | B22: =SUM(ENERO:DICIEMBRE!B22) -> 0 | C22: =SUM(ENERO:DICIEMBRE!C22) -> 0 | D22: =SUM(ENERO:DICIEMBRE!D22) -> 0 | E22: =SUM(ENERO:DICIEMBRE!E22) -> 0 | F22: =SUM(ENERO:DICIEMBRE!F22) -> 0 | G22: =SUM(ENERO:DICIEMBRE!G22) -> 0 | H22: =SUM(ENERO:DICIEMBRE!H22) -> 0 | I22: =SUM(ENERO:DICIEMBRE!I22) -> 0 | ... Q22: =SUM(ENERO:DICIEMBRE!Q22) -> 0 | R22: =SUM(B22+J22) -> 0 | S22: =SUM(C22+K22) -> 0 | T22: =SUM(D22+L22) -> 0 | U22: =SUM(E22+M22) -> 0 | V22: =SUM(F22+N22) -> 0 | W22: =SUM(G22+O22) -> 0 | X22: =SUM(H22+P22) -> 0 | Y22: =SUM(I22+Q22) -> 0 | Z22: =SUM(ENERO:DICIEMBRE!Z22) -> 0 | AA22: =SUM(ENERO:DICIEMBRE!AA22) -> 0 | AB22: =SUM(ENERO:DICIEMBRE!AB22) -> 0
A23: Gastroenterología adulto | B23: =SUM(ENERO:DICIEMBRE!B23) -> 0 | C23: =SUM(ENERO:DICIEMBRE!C23) -> 0 | D23: =SUM(ENERO:DICIEMBRE!D23) -> 0 | E23: =SUM(ENERO:DICIEMBRE!E23) -> 0 | F23: =SUM(ENERO:DICIEMBRE!F23) -> 0 | G23: =SUM(ENERO:DICIEMBRE!G23) -> 0 | H23: =SUM(ENERO:DICIEMBRE!H23) -> 0 | I23: =SUM(ENERO:DICIEMBRE!I23) -> 0 | ... Q23: =SUM(ENERO:DICIEMBRE!Q23) -> 0 | R23: =SUM(B23+J23) -> 0 | S23: =SUM(C23+K23) -> 0 | T23: =SUM(D23+L23) -> 0 | U23: =SUM(E23+M23) -> 0 | V23: =SUM(F23+N23) -> 0 | W23: =SUM(G23+O23) -> 0 | X23: =SUM(H23+P23) -> 0 | Y23: =SUM(I23+Q23) -> 0 | Z23: =SUM(ENERO:DICIEMBRE!Z23) -> 0 | AA23: =SUM(ENERO:DICIEMBRE!AA23) -> 0 | AB23: =SUM(ENERO:DICIEMBRE!AB23) -> 0
A24: Genética clínica | B24: =SUM(ENERO:DICIEMBRE!B24) -> 0 | C24: =SUM(ENERO:DICIEMBRE!C24) -> 0 | D24: =SUM(ENERO:DICIEMBRE!D24) -> 0 | E24: =SUM(ENERO:DICIEMBRE!E24) -> 0 | F24: =SUM(ENERO:DICIEMBRE!F24) -> 0 | G24: =SUM(ENERO:DICIEMBRE!G24) -> 0 | H24: =SUM(ENERO:DICIEMBRE!H24) -> 0 | I24: =SUM(ENERO:DICIEMBRE!I24) -> 0 | ... Q24: =SUM(ENERO:DICIEMBRE!Q24) -> 0 | R24: =SUM(B24+J24) -> 0 | S24: =SUM(C24+K24) -> 0 | T24: =SUM(D24+L24) -> 0 | U24: =SUM(E24+M24) -> 0 | V24: =SUM(F24+N24) -> 0 | W24: =SUM(G24+O24) -> 0 | X24: =SUM(H24+P24) -> 0 | Y24: =SUM(I24+Q24) -> 0 | Z24: =SUM(ENERO:DICIEMBRE!Z24) -> 0 | AA24: =SUM(ENERO:DICIEMBRE!AA24) -> 0 | AB24: =SUM(ENERO:DICIEMBRE!AB24) -> 0
... A67: Radioterapia oncológica | B67: =SUM(ENERO:DICIEMBRE!B67) -> 0 | C67: =SUM(ENERO:DICIEMBRE!C67) -> 0 | D67: =SUM(ENERO:DICIEMBRE!D67) -> 0 | E67: =SUM(ENERO:DICIEMBRE!E67) -> 0 | F67: =SUM(ENERO:DICIEMBRE!F67) -> 0 | G67: =SUM(ENERO:DICIEMBRE!G67) -> 0 | H67: =SUM(ENERO:DICIEMBRE!H67) -> 0 | I67: =SUM(ENERO:DICIEMBRE!I67) -> 0 | ... Q67: =SUM(ENERO:DICIEMBRE!Q67) -> 0 | R67: =SUM(B67+J67) -> 0 | S67: =SUM(C67+K67) -> 0 | T67: =SUM(D67+L67) -> 0 | U67: =SUM(E67+M67) -> 0 | V67: =SUM(F67+N67) -> 0 | W67: =SUM(G67+O67) -> 0 | X67: =SUM(H67+P67) -> 0 | Y67: =SUM(I67+Q67) -> 0 | Z67: =SUM(ENERO:DICIEMBRE!Z67) -> 0 | AA67: =SUM(ENERO:DICIEMBRE!AA67) -> 0 | AB67: =SUM(ENERO:DICIEMBRE!AB67) -> 0
A68: SECCIÓN B : TELEINTERCONSULTA MÉDICA EN ESTABLECIMIENTOS DE ATENCIÓN SECUNDARIA DE URGENCIA (ATENCIÓN MÉDICO A MÉDICO)
A69: Tipo de teleinterconsulta de urgencia | B69: Teleinterconsulta médica de urgencia en hospitales de alta y mediana complejidad | J69: Modalidad | M69: Teleinterconsultas solicitadas desde APS o Nivel Secundario para ser resueltas por otro establecimiento
B70: 0 - 14 años | D70: 15 - 17 años | F70: 18 - 19 años | H70: 20 y más años | J70: Institucional | K70: Compra de Servicio | M70: 0 - 14 años | O70: 15 - 17 años | Q70: 18 - 19 años | S70: 20 y más años
B71: Hombres | C71: Mujeres | D71: Hombres | E71: Mujeres | F71: Hombres | G71: Mujeres | H71: Hombres | I71: Mujeres | J71: Establecimiento de la Red | K71: Sistema | L71: Extrasistema | M71: Hombres | N71: Mujeres | O71: Hombres | P71: Mujeres | Q71: Hombres | R71: Mujeres | S71: Hombres | T71: Mujeres
A72: Consulta urgencia otros | B72: =SUM(ENERO:DICIEMBRE!B72) -> 0 | C72: =SUM(ENERO:DICIEMBRE!C72) -> 0 | D72: =SUM(ENERO:DICIEMBRE!D72) -> 0 | E72: =SUM(ENERO:DICIEMBRE!E72) -> 0 | F72: =SUM(ENERO:DICIEMBRE!F72) -> 0 | G72: =SUM(ENERO:DICIEMBRE!G72) -> 0 | H72: =SUM(ENERO:DICIEMBRE!H72) -> 0 | I72: =SUM(ENERO:DICIEMBRE!I72) -> 0 | ... T72: =SUM(ENERO:DICIEMBRE!T72) -> 0
A73: Accidente cerebro vascular (ACV) | B73: =SUM(ENERO:DICIEMBRE!B73) -> 0 | C73: =SUM(ENERO:DICIEMBRE!C73) -> 0 | D73: =SUM(ENERO:DICIEMBRE!D73) -> 0 | E73: =SUM(ENERO:DICIEMBRE!E73) -> 0 | F73: =SUM(ENERO:DICIEMBRE!F73) -> 0 | G73: =SUM(ENERO:DICIEMBRE!G73) -> 0 | H73: =SUM(ENERO:DICIEMBRE!H73) -> 0 | I73: =SUM(ENERO:DICIEMBRE!I73) -> 0 | ... T73: =SUM(ENERO:DICIEMBRE!T73) -> 53
A74: Quemados | B74: =SUM(ENERO:DICIEMBRE!B74) -> 0 | C74: =SUM(ENERO:DICIEMBRE!C74) -> 0 | D74: =SUM(ENERO:DICIEMBRE!D74) -> 0 | E74: =SUM(ENERO:DICIEMBRE!E74) -> 0 | F74: =SUM(ENERO:DICIEMBRE!F74) -> 0 | G74: =SUM(ENERO:DICIEMBRE!G74) -> 0 | H74: =SUM(ENERO:DICIEMBRE!H74) -> 0 | I74: =SUM(ENERO:DICIEMBRE!I74) -> 0 | ... T74: =SUM(ENERO:DICIEMBRE!T74) -> 0
A75: SECCIÓN C : TELEINFORMES EN ESTABLECIMIENTOS DE ATENCIÓN PRIMARIA, SECUNDARIA Y TERCIARIA
A76: Teleinformes realizados | B76: Establecimientos del Nivel Primario de salud | M76: Establecimientos de Nivel Secundario y Terciario | X76: Total teleinformes realizados
B77: 0 - 14 años | D77: 15 - 17 años | F77: 18 - 19 años | H77: 20 y más años | J77: Modalidad | M77: 0 - 14 años | O77: 15 - 17 años | Q77: 18 - 19 años | S77: 20 y más años | U77: Modalidad
B78: Hombres | C78: Mujeres | D78: Hombres | E78: Mujeres | F78: Hombres | G78: Mujeres | H78: Hombres | I78: Mujeres | J78: Institucional | K78: Compra de Servicio | M78: Hombres | N78: Mujeres | O78: Hombres | P78: Mujeres | Q78: Hombres | R78: Mujeres | S78: Hombres | T78: Mujeres | U78: Institucional | V78: Compra de Servicio | X78: Teleinformes realizados por Inteligencia Artificial | Y78: Teleinformes realizados por Médico Especialista
K79: Sistema | L79: Extrasistema | V79: Sistema | W79: Extrasistema
A80: TOTAL EMISIONES DE INFORMES | B80: =B81+B82+B83+B84+B85+B86+B87+B88+B89+B92+B93 -> 0 | C80: =C81+C82+C83+C84+C85+C86+C87+C88+C89+C92+C93 -> 0 | D80: =D81+D82+D83+D84+D85+D86+D87+D88+D89+D92+D93 -> 0 | E80: =E81+E82+E83+E84+E85+E86+E87+E88+E89+E92+E93 -> 0 | F80: =F81+F82+F83+F84+F85+F86+F87+F88+F89+F92+F93 -> 0 | G80: =G81+G82+G83+G84+G85+G86+G87+G88+G89+G92+G93 -> 0 | H80: =H81+H82+H83+H84+H85+H86+H87+H88+H89+H92+H93 -> 0 | I80: =I81+I82+I83+I84+I85+I86+I87+I88+I89+I92+I93 -> 0 | ... L80: =L81+L82+L83+L84+L85+L86+L87+L88+L89+L92+L93 -> 0 | M80: =SUM(M81:M93) -> 636 | N80: =SUM(N81:N93) -> 489 | O80: =SUM(O81:O93) -> 196 | P80: =SUM(P81:P93) -> 193 | Q80: =SUM(Q81:Q93) -> 178 | R80: =SUM(R81:R93) -> 138 | S80: =SUM(S81:S93) -> 7942 | T80: =SUM(T81:T93) -> 7360 | ... Y80: =SUM(Y81:Y93) -> 15726
A81: Nº de informes Ecografías obstétricas | B81: =SUM(ENERO:DICIEMBRE!B81) -> 0 | C81: =SUM(ENERO:DICIEMBRE!C81) -> 0 | D81: =SUM(ENERO:DICIEMBRE!D81) -> 0 | E81: =SUM(ENERO:DICIEMBRE!E81) -> 0 | F81: =SUM(ENERO:DICIEMBRE!F81) -> 0 | G81: =SUM(ENERO:DICIEMBRE!G81) -> 0 | H81: =SUM(ENERO:DICIEMBRE!H81) -> 0 | I81: =SUM(ENERO:DICIEMBRE!I81) -> 0 | ... Y81: =SUM(ENERO:DICIEMBRE!Y81) -> 0
A82: Nº de informes Electrocardiograma | B82: =SUM(ENERO:DICIEMBRE!B82) -> 0 | C82: =SUM(ENERO:DICIEMBRE!C82) -> 0 | D82: =SUM(ENERO:DICIEMBRE!D82) -> 0 | E82: =SUM(ENERO:DICIEMBRE!E82) -> 0 | F82: =SUM(ENERO:DICIEMBRE!F82) -> 0 | G82: =SUM(ENERO:DICIEMBRE!G82) -> 0 | H82: =SUM(ENERO:DICIEMBRE!H82) -> 0 | I82: =SUM(ENERO:DICIEMBRE!I82) -> 0 | ... Y82: =SUM(ENERO:DICIEMBRE!Y82) -> 0
A83: Nº de informes Electroencefalograma | B83: =SUM(ENERO:DICIEMBRE!B83) -> 0 | C83: =SUM(ENERO:DICIEMBRE!C83) -> 0 | D83: =SUM(ENERO:DICIEMBRE!D83) -> 0 | E83: =SUM(ENERO:DICIEMBRE!E83) -> 0 | F83: =SUM(ENERO:DICIEMBRE!F83) -> 0 | G83: =SUM(ENERO:DICIEMBRE!G83) -> 0 | H83: =SUM(ENERO:DICIEMBRE!H83) -> 0 | I83: =SUM(ENERO:DICIEMBRE!I83) -> 0 | ... Y83: =SUM(ENERO:DICIEMBRE!Y83) -> 0
A84: Nº de informes Espirometrías | B84: =SUM(ENERO:DICIEMBRE!B84) -> 0 | C84: =SUM(ENERO:DICIEMBRE!C84) -> 0 | D84: =SUM(ENERO:DICIEMBRE!D84) -> 0 | E84: =SUM(ENERO:DICIEMBRE!E84) -> 0 | F84: =SUM(ENERO:DICIEMBRE!F84) -> 0 | G84: =SUM(ENERO:DICIEMBRE!G84) -> 0 | H84: =SUM(ENERO:DICIEMBRE!H84) -> 0 | I84: =SUM(ENERO:DICIEMBRE!I84) -> 0 | ... Y84: =SUM(ENERO:DICIEMBRE!Y84) -> 0
A85: Nº de informes Fondo de ojo (excluye resolutividad) | B85: =SUM(ENERO:DICIEMBRE!B85) -> 0 | C85: =SUM(ENERO:DICIEMBRE!C85) -> 0 | D85: =SUM(ENERO:DICIEMBRE!D85) -> 0 | E85: =SUM(ENERO:DICIEMBRE!E85) -> 0 | F85: =SUM(ENERO:DICIEMBRE!F85) -> 0 | G85: =SUM(ENERO:DICIEMBRE!G85) -> 0 | H85: =SUM(ENERO:DICIEMBRE!H85) -> 0 | I85: =SUM(ENERO:DICIEMBRE!I85) -> 0 | ... Y85: =SUM(ENERO:DICIEMBRE!Y85) -> 0
A86: Nº de informes Holter de presión arterial | B86: =SUM(ENERO:DICIEMBRE!B86) -> 0 | C86: =SUM(ENERO:DICIEMBRE!C86) -> 0 | D86: =SUM(ENERO:DICIEMBRE!D86) -> 0 | E86: =SUM(ENERO:DICIEMBRE!E86) -> 0 | F86: =SUM(ENERO:DICIEMBRE!F86) -> 0 | G86: =SUM(ENERO:DICIEMBRE!G86) -> 0 | H86: =SUM(ENERO:DICIEMBRE!H86) -> 0 | I86: =SUM(ENERO:DICIEMBRE!I86) -> 0 | ... Y86: =SUM(ENERO:DICIEMBRE!Y86) -> 0
A87: Nº de informes Test de esfuerzo | B87: =SUM(ENERO:DICIEMBRE!B87) -> 0 | C87: =SUM(ENERO:DICIEMBRE!C87) -> 0 | D87: =SUM(ENERO:DICIEMBRE!D87) -> 0 | E87: =SUM(ENERO:DICIEMBRE!E87) -> 0 | F87: =SUM(ENERO:DICIEMBRE!F87) -> 0 | G87: =SUM(ENERO:DICIEMBRE!G87) -> 0 | H87: =SUM(ENERO:DICIEMBRE!H87) -> 0 | I87: =SUM(ENERO:DICIEMBRE!I87) -> 0 | ... Y87: =SUM(ENERO:DICIEMBRE!Y87) -> 0
A88: Nº de informes radiografías simples | B88: =SUM(ENERO:DICIEMBRE!B88) -> 0 | C88: =SUM(ENERO:DICIEMBRE!C88) -> 0 | D88: =SUM(ENERO:DICIEMBRE!D88) -> 0 | E88: =SUM(ENERO:DICIEMBRE!E88) -> 0 | F88: =SUM(ENERO:DICIEMBRE!F88) -> 0 | G88: =SUM(ENERO:DICIEMBRE!G88) -> 0 | H88: =SUM(ENERO:DICIEMBRE!H88) -> 0 | I88: =SUM(ENERO:DICIEMBRE!I88) -> 0 | ... Y88: =SUM(ENERO:DICIEMBRE!Y88) -> 0
A89: Nº de informes radiografías dentales | B89: =SUM(ENERO:DICIEMBRE!B89) -> 0 | C89: =SUM(ENERO:DICIEMBRE!C89) -> 0 | D89: =SUM(ENERO:DICIEMBRE!D89) -> 0 | E89: =SUM(ENERO:DICIEMBRE!E89) -> 0 | F89: =SUM(ENERO:DICIEMBRE!F89) -> 0 | G89: =SUM(ENERO:DICIEMBRE!G89) -> 0 | H89: =SUM(ENERO:DICIEMBRE!H89) -> 0 | I89: =SUM(ENERO:DICIEMBRE!I89) -> 0 | ... Y89: =SUM(ENERO:DICIEMBRE!Y89) -> 0
A90: Nº de informes de Tomografía axial computarizada | M90: =SUM(ENERO:DICIEMBRE!M90) -> 636 | N90: =SUM(ENERO:DICIEMBRE!N90) -> 489 | O90: =SUM(ENERO:DICIEMBRE!O90) -> 196 | P90: =SUM(ENERO:DICIEMBRE!P90) -> 193 | Q90: =SUM(ENERO:DICIEMBRE!Q90) -> 178 | R90: =SUM(ENERO:DICIEMBRE!R90) -> 138 | S90: =SUM(ENERO:DICIEMBRE!S90) -> 7942 | T90: =SUM(ENERO:DICIEMBRE!T90) -> 7360 | ... Y90: =SUM(ENERO:DICIEMBRE!Y90) -> 15726
A91: Nº de informes de Resonancia magnética nuclear | M91: =SUM(ENERO:DICIEMBRE!M91) -> 0 | N91: =SUM(ENERO:DICIEMBRE!N91) -> 0 | O91: =SUM(ENERO:DICIEMBRE!O91) -> 0 | P91: =SUM(ENERO:DICIEMBRE!P91) -> 0 | Q91: =SUM(ENERO:DICIEMBRE!Q91) -> 0 | R91: =SUM(ENERO:DICIEMBRE!R91) -> 0 | S91: =SUM(ENERO:DICIEMBRE!S91) -> 0 | T91: =SUM(ENERO:DICIEMBRE!T91) -> 0 | ... Y91: =SUM(ENERO:DICIEMBRE!Y91) -> 0
A92: Nº de informes Ecografías abdominal | B92: =SUM(ENERO:DICIEMBRE!B92) -> 0 | C92: =SUM(ENERO:DICIEMBRE!C92) -> 0 | D92: =SUM(ENERO:DICIEMBRE!D92) -> 0 | E92: =SUM(ENERO:DICIEMBRE!E92) -> 0 | F92: =SUM(ENERO:DICIEMBRE!F92) -> 0 | G92: =SUM(ENERO:DICIEMBRE!G92) -> 0 | H92: =SUM(ENERO:DICIEMBRE!H92) -> 0 | I92: =SUM(ENERO:DICIEMBRE!I92) -> 0 | ... Y92: =SUM(ENERO:DICIEMBRE!Y92) -> 0
A93: N° de mamografía | B93: =SUM(ENERO:DICIEMBRE!B93) -> 0 | C93: =SUM(ENERO:DICIEMBRE!C93) -> 0 | D93: =SUM(ENERO:DICIEMBRE!D93) -> 0 | E93: =SUM(ENERO:DICIEMBRE!E93) -> 0 | F93: =SUM(ENERO:DICIEMBRE!F93) -> 0 | G93: =SUM(ENERO:DICIEMBRE!G93) -> 0 | H93: =SUM(ENERO:DICIEMBRE!H93) -> 0 | I93: =SUM(ENERO:DICIEMBRE!I93) -> 0 | ... Y93: =SUM(ENERO:DICIEMBRE!Y93) -> 0
A94: SECCIÓN D: TELEINTERCONSULTA ODONTOLÓGICA
A95: Especialidades odontológicas | B95: Teleinterconsulta de especialidad odontológica ambulatoria nueva | J95: Teleinterconsulta de especialidad odontológica ambulatoria control | R95: TOTAL TELEINTERCONSULTAS AMBULATORIAS DE ESPECIALIDAD ODONTOLÓGICA | Z95: Modalidad | AC95: Solicitud de teleinterconsulta de especialidad odontológica
B96: 0 - 14 años | D96: 15 - 17 años | F96: 18 - 19 años | H96: 20 y más años | J96: 0 - 14 años | L96: 15 - 17 años | N96: 18 - 19 años | P96: 20 y más años | R96: 0 - 14 años | T96: 15 - 17 años | V96: 18 - 19 años | X96: 20 y más años | Z96: Institucional | AA96: Compra de Servicio | AC96: 0 - 14 años | AE96: 15 - 17 años | AG96: 18-19 años | AI96: 20 y más años
B97: Hombres | C97: Mujeres | D97: Hombres | E97: Mujeres | F97: Hombres | G97: Mujeres | H97: Hombres | I97: Mujeres | J97: Hombres | K97: Mujeres | L97: Hombres | M97: Mujeres | N97: Hombres | O97: Mujeres | P97: Hombres | Q97: Mujeres | R97: Hombres | S97: Mujeres | T97: Hombres | U97: Mujeres | V97: Hombres | W97: Mujeres | X97: Hombres | Y97: Mujeres | Z97: Establecimiento de la Red | AA97: Sistema | AB97: Extrasistema | AC97: Hombres | AD97: Mujeres | AE97: Hombres | AF97: Mujeres | AG97: Hombres | AH97: Mujeres | AI97: Hombres | AJ97: Mujeres
A98: TOTAL | B98: =SUM(B99:B108) -> 0 | C98: =SUM(C99:C108) -> 1 | D98: =SUM(D99:D108) -> 0 | E98: =SUM(E99:E108) -> 0 | F98: =SUM(F99:F108) -> 0 | G98: =SUM(G99:G108) -> 0 | H98: =SUM(H99:H108) -> 0 | I98: =SUM(I99:I108) -> 2 | ... AJ98: =SUM(AJ99:AJ108) -> 0
A99: Cirugía y traumatología maxilofacial | B99: =SUM(ENERO:DICIEMBRE!B99) -> 0 | C99: =SUM(ENERO:DICIEMBRE!C99) -> 0 | D99: =SUM(ENERO:DICIEMBRE!D99) -> 0 | E99: =SUM(ENERO:DICIEMBRE!E99) -> 0 | F99: =SUM(ENERO:DICIEMBRE!F99) -> 0 | G99: =SUM(ENERO:DICIEMBRE!G99) -> 0 | H99: =SUM(ENERO:DICIEMBRE!H99) -> 0 | I99: =SUM(ENERO:DICIEMBRE!I99) -> 0 | ... Q99: =SUM(ENERO:DICIEMBRE!Q99) -> 0 | R99: =+B99+J99 -> 0 | S99: =+C99+K99 -> 0 | T99: =+D99+L99 -> 0 | U99: =+E99+M99 -> 0 | V99: =+F99+N99 -> 0 | W99: =+G99+O99 -> 0 | X99: =+H99+P99 -> 0 | Y99: =+I99+Q99 -> 0 | Z99: =SUM(ENERO:DICIEMBRE!Z99) -> 0 | AA99: =SUM(ENERO:DICIEMBRE!AA99) -> 0 | AB99: =SUM(ENERO:DICIEMBRE!AB99) -> 0 | AC99: =SUM(ENERO:DICIEMBRE!AC99) -> 0 | AD99: =SUM(ENERO:DICIEMBRE!AD99) -> 0 | AE99: =SUM(ENERO:DICIEMBRE!AE99) -> 0 | AF99: =SUM(ENERO:DICIEMBRE!AF99) -> 0 | AG99: =SUM(ENERO:DICIEMBRE!AG99) -> 0 | ... AJ99: =SUM(ENERO:DICIEMBRE!AJ99) -> 0
A100: Endodoncia | B100: =SUM(ENERO:DICIEMBRE!B100) -> 0 | C100: =SUM(ENERO:DICIEMBRE!C100) -> 0 | D100: =SUM(ENERO:DICIEMBRE!D100) -> 0 | E100: =SUM(ENERO:DICIEMBRE!E100) -> 0 | F100: =SUM(ENERO:DICIEMBRE!F100) -> 0 | G100: =SUM(ENERO:DICIEMBRE!G100) -> 0 | H100: =SUM(ENERO:DICIEMBRE!H100) -> 0 | I100: =SUM(ENERO:DICIEMBRE!I100) -> 0 | ... Q100: =SUM(ENERO:DICIEMBRE!Q100) -> 0 | R100: =+B100+J100 -> 0 | S100: =+C100+K100 -> 0 | T100: =+D100+L100 -> 0 | U100: =+E100+M100 -> 0 | V100: =+F100+N100 -> 0 | W100: =+G100+O100 -> 0 | X100: =+H100+P100 -> 0 | Y100: =+I100+Q100 -> 0 | Z100: =SUM(ENERO:DICIEMBRE!Z100) -> 0 | AA100: =SUM(ENERO:DICIEMBRE!AA100) -> 0 | AB100: =SUM(ENERO:DICIEMBRE!AB100) -> 0 | AC100: =SUM(ENERO:DICIEMBRE!AC100) -> 0 | AD100: =SUM(ENERO:DICIEMBRE!AD100) -> 0 | AE100: =SUM(ENERO:DICIEMBRE!AE100) -> 0 | AF100: =SUM(ENERO:DICIEMBRE!AF100) -> 0 | AG100: =SUM(ENERO:DICIEMBRE!AG100) -> 0 | ... AJ100: =SUM(ENERO:DICIEMBRE!AJ100) -> 0
A101: Odontopediatría | B101: =SUM(ENERO:DICIEMBRE!B101) -> 0 | C101: =SUM(ENERO:DICIEMBRE!C101) -> 0 | D101: =SUM(ENERO:DICIEMBRE!D101) -> 0 | E101: =SUM(ENERO:DICIEMBRE!E101) -> 0 | F101: =SUM(ENERO:DICIEMBRE!F101) -> 0 | G101: =SUM(ENERO:DICIEMBRE!G101) -> 0 | H101: =SUM(ENERO:DICIEMBRE!H101) -> 0 | I101: =SUM(ENERO:DICIEMBRE!I101) -> 0 | ... Q101: =SUM(ENERO:DICIEMBRE!Q101) -> 0 | R101: =+B101+J101 -> 0 | S101: =+C101+K101 -> 0 | T101: =+D101+L101 -> 0 | U101: =+E101+M101 -> 0 | V101: =+F101+N101 -> 0 | W101: =+G101+O101 -> 0 | X101: =+H101+P101 -> 0 | Y101: =+I101+Q101 -> 0 | Z101: =SUM(ENERO:DICIEMBRE!Z101) -> 0 | AA101: =SUM(ENERO:DICIEMBRE!AA101) -> 0 | AB101: =SUM(ENERO:DICIEMBRE!AB101) -> 0 | AC101: =SUM(ENERO:DICIEMBRE!AC101) -> 0 | AD101: =SUM(ENERO:DICIEMBRE!AD101) -> 0 | AE101: =SUM(ENERO:DICIEMBRE!AE101) -> 0 | AF101: =SUM(ENERO:DICIEMBRE!AF101) -> 0 | AG101: =SUM(ENERO:DICIEMBRE!AG101) -> 0 | ... AJ101: =SUM(ENERO:DICIEMBRE!AJ101) -> 0
A102: Ortodoncia y ortopedia dento maxilofacial | B102: =SUM(ENERO:DICIEMBRE!B102) -> 0 | C102: =SUM(ENERO:DICIEMBRE!C102) -> 0 | D102: =SUM(ENERO:DICIEMBRE!D102) -> 0 | E102: =SUM(ENERO:DICIEMBRE!E102) -> 0 | F102: =SUM(ENERO:DICIEMBRE!F102) -> 0 | G102: =SUM(ENERO:DICIEMBRE!G102) -> 0 | H102: =SUM(ENERO:DICIEMBRE!H102) -> 0 | I102: =SUM(ENERO:DICIEMBRE!I102) -> 0 | ... Q102: =SUM(ENERO:DICIEMBRE!Q102) -> 0 | R102: =+B102+J102 -> 0 | S102: =+C102+K102 -> 0 | T102: =+D102+L102 -> 0 | U102: =+E102+M102 -> 0 | V102: =+F102+N102 -> 0 | W102: =+G102+O102 -> 0 | X102: =+H102+P102 -> 0 | Y102: =+I102+Q102 -> 0 | Z102: =SUM(ENERO:DICIEMBRE!Z102) -> 0 | AA102: =SUM(ENERO:DICIEMBRE!AA102) -> 0 | AB102: =SUM(ENERO:DICIEMBRE!AB102) -> 0 | AC102: =SUM(ENERO:DICIEMBRE!AC102) -> 0 | AD102: =SUM(ENERO:DICIEMBRE!AD102) -> 0 | AE102: =SUM(ENERO:DICIEMBRE!AE102) -> 0 | AF102: =SUM(ENERO:DICIEMBRE!AF102) -> 0 | AG102: =SUM(ENERO:DICIEMBRE!AG102) -> 0 | ... AJ102: =SUM(ENERO:DICIEMBRE!AJ102) -> 0
A103: Periodoncia | B103: =SUM(ENERO:DICIEMBRE!B103) -> 0 | C103: =SUM(ENERO:DICIEMBRE!C103) -> 0 | D103: =SUM(ENERO:DICIEMBRE!D103) -> 0 | E103: =SUM(ENERO:DICIEMBRE!E103) -> 0 | F103: =SUM(ENERO:DICIEMBRE!F103) -> 0 | G103: =SUM(ENERO:DICIEMBRE!G103) -> 0 | H103: =SUM(ENERO:DICIEMBRE!H103) -> 0 | I103: =SUM(ENERO:DICIEMBRE!I103) -> 0 | ... Q103: =SUM(ENERO:DICIEMBRE!Q103) -> 0 | R103: =+B103+J103 -> 0 | S103: =+C103+K103 -> 0 | T103: =+D103+L103 -> 0 | U103: =+E103+M103 -> 0 | V103: =+F103+N103 -> 0 | W103: =+G103+O103 -> 0 | X103: =+H103+P103 -> 0 | Y103: =+I103+Q103 -> 0 | Z103: =SUM(ENERO:DICIEMBRE!Z103) -> 0 | AA103: =SUM(ENERO:DICIEMBRE!AA103) -> 0 | AB103: =SUM(ENERO:DICIEMBRE!AB103) -> 0 | AC103: =SUM(ENERO:DICIEMBRE!AC103) -> 0 | AD103: =SUM(ENERO:DICIEMBRE!AD103) -> 0 | AE103: =SUM(ENERO:DICIEMBRE!AE103) -> 0 | AF103: =SUM(ENERO:DICIEMBRE!AF103) -> 0 | AG103: =SUM(ENERO:DICIEMBRE!AG103) -> 0 | ... AJ103: =SUM(ENERO:DICIEMBRE!AJ103) -> 0
A104: Rehabilitación: Prótesis fija | B104: =SUM(ENERO:DICIEMBRE!B104) -> 0 | C104: =SUM(ENERO:DICIEMBRE!C104) -> 0 | D104: =SUM(ENERO:DICIEMBRE!D104) -> 0 | E104: =SUM(ENERO:DICIEMBRE!E104) -> 0 | F104: =SUM(ENERO:DICIEMBRE!F104) -> 0 | G104: =SUM(ENERO:DICIEMBRE!G104) -> 0 | H104: =SUM(ENERO:DICIEMBRE!H104) -> 0 | I104: =SUM(ENERO:DICIEMBRE!I104) -> 0 | ... Q104: =SUM(ENERO:DICIEMBRE!Q104) -> 0 | R104: =+B104+J104 -> 0 | S104: =+C104+K104 -> 0 | T104: =+D104+L104 -> 0 | U104: =+E104+M104 -> 0 | V104: =+F104+N104 -> 0 | W104: =+G104+O104 -> 0 | X104: =+H104+P104 -> 0 | Y104: =+I104+Q104 -> 0 | Z104: =SUM(ENERO:DICIEMBRE!Z104) -> 0 | AA104: =SUM(ENERO:DICIEMBRE!AA104) -> 0 | AB104: =SUM(ENERO:DICIEMBRE!AB104) -> 0 | AC104: =SUM(ENERO:DICIEMBRE!AC104) -> 0 | AD104: =SUM(ENERO:DICIEMBRE!AD104) -> 0 | AE104: =SUM(ENERO:DICIEMBRE!AE104) -> 0 | AF104: =SUM(ENERO:DICIEMBRE!AF104) -> 0 | AG104: =SUM(ENERO:DICIEMBRE!AG104) -> 0 | ... AJ104: =SUM(ENERO:DICIEMBRE!AJ104) -> 0
A105: Rehabilitación: Prótesis removible | B105: =SUM(ENERO:DICIEMBRE!B105) -> 0 | C105: =SUM(ENERO:DICIEMBRE!C105) -> 0 | D105: =SUM(ENERO:DICIEMBRE!D105) -> 0 | E105: =SUM(ENERO:DICIEMBRE!E105) -> 0 | F105: =SUM(ENERO:DICIEMBRE!F105) -> 0 | G105: =SUM(ENERO:DICIEMBRE!G105) -> 0 | H105: =SUM(ENERO:DICIEMBRE!H105) -> 0 | I105: =SUM(ENERO:DICIEMBRE!I105) -> 0 | ... Q105: =SUM(ENERO:DICIEMBRE!Q105) -> 0 | R105: =+B105+J105 -> 0 | S105: =+C105+K105 -> 0 | T105: =+D105+L105 -> 0 | U105: =+E105+M105 -> 0 | V105: =+F105+N105 -> 0 | W105: =+G105+O105 -> 0 | X105: =+H105+P105 -> 0 | Y105: =+I105+Q105 -> 0 | Z105: =SUM(ENERO:DICIEMBRE!Z105) -> 0 | AA105: =SUM(ENERO:DICIEMBRE!AA105) -> 0 | AB105: =SUM(ENERO:DICIEMBRE!AB105) -> 0 | AC105: =SUM(ENERO:DICIEMBRE!AC105) -> 0 | AD105: =SUM(ENERO:DICIEMBRE!AD105) -> 0 | AE105: =SUM(ENERO:DICIEMBRE!AE105) -> 0 | AF105: =SUM(ENERO:DICIEMBRE!AF105) -> 0 | AG105: =SUM(ENERO:DICIEMBRE!AG105) -> 0 | ... AJ105: =SUM(ENERO:DICIEMBRE!AJ105) -> 0
A106: Implantología buco maxilofacial | B106: =SUM(ENERO:DICIEMBRE!B106) -> 0 | C106: =SUM(ENERO:DICIEMBRE!C106) -> 0 | D106: =SUM(ENERO:DICIEMBRE!D106) -> 0 | E106: =SUM(ENERO:DICIEMBRE!E106) -> 0 | F106: =SUM(ENERO:DICIEMBRE!F106) -> 0 | G106: =SUM(ENERO:DICIEMBRE!G106) -> 0 | H106: =SUM(ENERO:DICIEMBRE!H106) -> 0 | I106: =SUM(ENERO:DICIEMBRE!I106) -> 0 | ... Q106: =SUM(ENERO:DICIEMBRE!Q106) -> 0 | R106: =+B106+J106 -> 0 | S106: =+C106+K106 -> 0 | T106: =+D106+L106 -> 0 | U106: =+E106+M106 -> 0 | V106: =+F106+N106 -> 0 | W106: =+G106+O106 -> 0 | X106: =+H106+P106 -> 0 | Y106: =+I106+Q106 -> 0 | Z106: =SUM(ENERO:DICIEMBRE!Z106) -> 0 | AA106: =SUM(ENERO:DICIEMBRE!AA106) -> 0 | AB106: =SUM(ENERO:DICIEMBRE!AB106) -> 0 | AC106: =SUM(ENERO:DICIEMBRE!AC106) -> 0 | AD106: =SUM(ENERO:DICIEMBRE!AD106) -> 0 | AE106: =SUM(ENERO:DICIEMBRE!AE106) -> 0 | AF106: =SUM(ENERO:DICIEMBRE!AF106) -> 0 | AG106: =SUM(ENERO:DICIEMBRE!AG106) -> 0 | ... AJ106: =SUM(ENERO:DICIEMBRE!AJ106) -> 0
A107: Patología oral | B107: =SUM(ENERO:DICIEMBRE!B107) -> 0 | C107: =SUM(ENERO:DICIEMBRE!C107) -> 1 | D107: =SUM(ENERO:DICIEMBRE!D107) -> 0 | E107: =SUM(ENERO:DICIEMBRE!E107) -> 0 | F107: =SUM(ENERO:DICIEMBRE!F107) -> 0 | G107: =SUM(ENERO:DICIEMBRE!G107) -> 0 | H107: =SUM(ENERO:DICIEMBRE!H107) -> 0 | I107: =SUM(ENERO:DICIEMBRE!I107) -> 2 | ... Q107: =SUM(ENERO:DICIEMBRE!Q107) -> 0 | R107: =+B107+J107 -> 0 | S107: =+C107+K107 -> 1 | T107: =+D107+L107 -> 0 | U107: =+E107+M107 -> 0 | V107: =+F107+N107 -> 0 | W107: =+G107+O107 -> 0 | X107: =+H107+P107 -> 0 | Y107: =+I107+Q107 -> 2 | Z107: =SUM(ENERO:DICIEMBRE!Z107) -> 3 | AA107: =SUM(ENERO:DICIEMBRE!AA107) -> 0 | AB107: =SUM(ENERO:DICIEMBRE!AB107) -> 0 | AC107: =SUM(ENERO:DICIEMBRE!AC107) -> 0 | AD107: =SUM(ENERO:DICIEMBRE!AD107) -> 0 | AE107: =SUM(ENERO:DICIEMBRE!AE107) -> 0 | AF107: =SUM(ENERO:DICIEMBRE!AF107) -> 0 | AG107: =SUM(ENERO:DICIEMBRE!AG107) -> 0 | ... AJ107: =SUM(ENERO:DICIEMBRE!AJ107) -> 0
A108: Trastornos temporomandibulares y dolor orofacial | B108: =SUM(ENERO:DICIEMBRE!B108) -> 0 | C108: =SUM(ENERO:DICIEMBRE!C108) -> 0 | D108: =SUM(ENERO:DICIEMBRE!D108) -> 0 | E108: =SUM(ENERO:DICIEMBRE!E108) -> 0 | F108: =SUM(ENERO:DICIEMBRE!F108) -> 0 | G108: =SUM(ENERO:DICIEMBRE!G108) -> 0 | H108: =SUM(ENERO:DICIEMBRE!H108) -> 0 | I108: =SUM(ENERO:DICIEMBRE!I108) -> 0 | ... Q108: =SUM(ENERO:DICIEMBRE!Q108) -> 0 | R108: =+B108+J108 -> 0 | S108: =+C108+K108 -> 0 | T108: =+D108+L108 -> 0 | U108: =+E108+M108 -> 0 | V108: =+F108+N108 -> 0 | W108: =+G108+O108 -> 0 | X108: =+H108+P108 -> 0 | Y108: =+I108+Q108 -> 0 | Z108: =SUM(ENERO:DICIEMBRE!Z108) -> 0 | AA108: =SUM(ENERO:DICIEMBRE!AA108) -> 0 | AB108: =SUM(ENERO:DICIEMBRE!AB108) -> 0 | AC108: =SUM(ENERO:DICIEMBRE!AC108) -> 0 | AD108: =SUM(ENERO:DICIEMBRE!AD108) -> 0 | AE108: =SUM(ENERO:DICIEMBRE!AE108) -> 0 | AF108: =SUM(ENERO:DICIEMBRE!AF108) -> 0 | AG108: =SUM(ENERO:DICIEMBRE!AG108) -> 0 | ... AJ108: =SUM(ENERO:DICIEMBRE!AJ108) -> 0
A109: SECCIÓN E: TELEPROCEDIMIENTOS EN ATENCIÓN SECUNDARIA Y TERCIARIA
A110: Teleprocedimientos | B110: Establecimientos de Nivel Secundario y Terciario | M110: Teleprocedimientos solicitados desde Nivel Secundario y Terciario y resueltos por otro establecimiento
B111: 0 - 14 años | D111: 15 - 17 años | F111: 18 - 19 años | H111: 20 y más años | J111: Modalidad
B112: Hombres | C112: Mujeres | D112: Hombres | E112: Mujeres | F112: Hombres | G112: Mujeres | H112: Hombres | I112: Mujeres | J112: Institucional | K112: Compra de Servicio | M112: 0 - 14 años | O112: 15 - 17 años | Q112: 18 - 19 años | S112: 20 y más años
J113: Establecimiento de la Red | K113: Sistema | L113: Extrasistema | M113: Hombres | N113: Mujeres | O113: Hombres | P113: Mujeres | Q113: Hombres | R113: Mujeres | S113: Hombres | T113: Mujeres
A114: TOTAL | B114: =SUM(B115:B118) -> 0 | C114: =SUM(C115:C118) -> 0 | D114: =SUM(D115:D118) -> 0 | E114: =SUM(E115:E118) -> 0 | F114: =SUM(F115:F118) -> 0 | G114: =SUM(G115:G118) -> 0 | H114: =SUM(H115:H118) -> 0 | I114: =SUM(I115:I118) -> 0 | ... T114: =SUM(T115:T118) -> 20
A115: Ecocardiograma | B115: =SUM(ENERO:DICIEMBRE!B115) -> 0 | C115: =SUM(ENERO:DICIEMBRE!C115) -> 0 | D115: =SUM(ENERO:DICIEMBRE!D115) -> 0 | E115: =SUM(ENERO:DICIEMBRE!E115) -> 0 | F115: =SUM(ENERO:DICIEMBRE!F115) -> 0 | G115: =SUM(ENERO:DICIEMBRE!G115) -> 0 | H115: =SUM(ENERO:DICIEMBRE!H115) -> 0 | I115: =SUM(ENERO:DICIEMBRE!I115) -> 0 | ... T115: =SUM(ENERO:DICIEMBRE!T115) -> 0
A116: Trombolisis de urgencia infarto cerebral (ACV) | B116: =SUM(ENERO:DICIEMBRE!B116) -> 0 | C116: =SUM(ENERO:DICIEMBRE!C116) -> 0 | D116: =SUM(ENERO:DICIEMBRE!D116) -> 0 | E116: =SUM(ENERO:DICIEMBRE!E116) -> 0 | F116: =SUM(ENERO:DICIEMBRE!F116) -> 0 | G116: =SUM(ENERO:DICIEMBRE!G116) -> 0 | H116: =SUM(ENERO:DICIEMBRE!H116) -> 0 | I116: =SUM(ENERO:DICIEMBRE!I116) -> 0 | ... T116: =SUM(ENERO:DICIEMBRE!T116) -> 20
A117: Trombolisis intracoronaria (IAM) | B117: =SUM(ENERO:DICIEMBRE!B117) -> 0 | C117: =SUM(ENERO:DICIEMBRE!C117) -> 0 | D117: =SUM(ENERO:DICIEMBRE!D117) -> 0 | E117: =SUM(ENERO:DICIEMBRE!E117) -> 0 | F117: =SUM(ENERO:DICIEMBRE!F117) -> 0 | G117: =SUM(ENERO:DICIEMBRE!G117) -> 0 | H117: =SUM(ENERO:DICIEMBRE!H117) -> 0 | I117: =SUM(ENERO:DICIEMBRE!I117) -> 0 | ... T117: =SUM(ENERO:DICIEMBRE!T117) -> 0
A118: Ecografía gineco-obstétrica | B118: =SUM(ENERO:DICIEMBRE!B118) -> 0 | C118: =SUM(ENERO:DICIEMBRE!C118) -> 0 | D118: =SUM(ENERO:DICIEMBRE!D118) -> 0 | E118: =SUM(ENERO:DICIEMBRE!E118) -> 0 | F118: =SUM(ENERO:DICIEMBRE!F118) -> 0 | G118: =SUM(ENERO:DICIEMBRE!G118) -> 0 | H118: =SUM(ENERO:DICIEMBRE!H118) -> 0 | I118: =SUM(ENERO:DICIEMBRE!I118) -> 0 | ... T118: =SUM(ENERO:DICIEMBRE!T118) -> 0
A119: SECCIÓN F: TELECOMITÉ DE ESPECIALIDAD
A120: Actividad | B120: TOTAL | C120: Telecomité realizados | G120: Total Nº de casos revisados | J120: Telecomité solicitados desde Nivel Secundario y Terciario y resueltos por otro establecimiento
J121: 0 - 14 años | L121: 15 - 17 años | N121: 18 - 19 años | P121: 20 y más años
A122: Telecomité de especialidad | C122: 0 - 10 años | D122: 15 - 17 años | E122: 18 - 19 años | F122: 20 y más años | G122: Ambos Sexos | H122: Hombres | I122: Mujeres | J122: Hombres | K122: Mujeres | L122: Hombres | M122: Mujeres | N122: Hombres | O122: Mujeres | P122: Hombres | Q122: Mujeres
B123: =SUM(B124:B129) -> 0 | C123: =SUM(C124:C129) -> 0 | D123: =SUM(D124:D129) -> 0 | E123: =SUM(E124:E129) -> 0 | F123: =SUM(F124:F129) -> 0 | G123: =SUM(G124:G129) -> 0 | H123: =SUM(H124:H129) -> 0 | I123: =SUM(I124:I129) -> 0 | ... Q123: =SUM(Q124:Q129) -> 0
A124: Oncológico | B124: =SUM(C124:F124) -> 0 | C124: =SUM(ENERO:DICIEMBRE!C124) -> 0 | D124: =SUM(ENERO:DICIEMBRE!D124) -> 0 | E124: =SUM(ENERO:DICIEMBRE!E124) -> 0 | F124: =SUM(ENERO:DICIEMBRE!F124) -> 0 | G124: =SUM(H124:I124) -> 0 | H124: =SUM(ENERO:DICIEMBRE!H124) -> 0 | I124: =SUM(ENERO:DICIEMBRE!I124) -> 0 | J124: =SUM(ENERO:DICIEMBRE!J124) -> 0 | K124: =SUM(ENERO:DICIEMBRE!K124) -> 0 | L124: =SUM(ENERO:DICIEMBRE!L124) -> 0 | M124: =SUM(ENERO:DICIEMBRE!M124) -> 0 | N124: =SUM(ENERO:DICIEMBRE!N124) -> 0 | O124: =SUM(ENERO:DICIEMBRE!O124) -> 0 | ... Q124: =SUM(ENERO:DICIEMBRE!Q124) -> 0
A125: Cuidados paliativos oncológicos
A126: Cuidados paliativos no oncológicos universales
A127: VIH | B127: =SUM(C127:F127) -> 0 | C127: =SUM(ENERO:DICIEMBRE!C127) -> 0 | D127: =SUM(ENERO:DICIEMBRE!D127) -> 0 | E127: =SUM(ENERO:DICIEMBRE!E127) -> 0 | F127: =SUM(ENERO:DICIEMBRE!F127) -> 0 | G127: =SUM(H127:I127) -> 0 | H127: =SUM(ENERO:DICIEMBRE!H127) -> 0 | I127: =SUM(ENERO:DICIEMBRE!I127) -> 0 | J127: =SUM(ENERO:DICIEMBRE!J127) -> 0 | K127: =SUM(ENERO:DICIEMBRE!K127) -> 0 | L127: =SUM(ENERO:DICIEMBRE!L127) -> 0 | M127: =SUM(ENERO:DICIEMBRE!M127) -> 0 | N127: =SUM(ENERO:DICIEMBRE!N127) -> 0 | O127: =SUM(ENERO:DICIEMBRE!O127) -> 0 | ... Q127: =SUM(ENERO:DICIEMBRE!Q127) -> 0
A128: Unidad de paciente crítico | B128: =SUM(C128:F128) -> 0 | C128: =SUM(ENERO:DICIEMBRE!C128) -> 0 | D128: =SUM(ENERO:DICIEMBRE!D128) -> 0 | E128: =SUM(ENERO:DICIEMBRE!E128) -> 0 | F128: =SUM(ENERO:DICIEMBRE!F128) -> 0 | G128: =SUM(H128:I128) -> 0 | H128: =SUM(ENERO:DICIEMBRE!H128) -> 0 | I128: =SUM(ENERO:DICIEMBRE!I128) -> 0 | J128: =SUM(ENERO:DICIEMBRE!J128) -> 0 | K128: =SUM(ENERO:DICIEMBRE!K128) -> 0 | L128: =SUM(ENERO:DICIEMBRE!L128) -> 0 | M128: =SUM(ENERO:DICIEMBRE!M128) -> 0 | N128: =SUM(ENERO:DICIEMBRE!N128) -> 0 | O128: =SUM(ENERO:DICIEMBRE!O128) -> 0 | ... Q128: =SUM(ENERO:DICIEMBRE!Q128) -> 0
A129: Otros | B129: =SUM(C129:F129) -> 0 | C129: =SUM(ENERO:DICIEMBRE!C129) -> 0 | D129: =SUM(ENERO:DICIEMBRE!D129) -> 0 | E129: =SUM(ENERO:DICIEMBRE!E129) -> 0 | F129: =SUM(ENERO:DICIEMBRE!F129) -> 0 | G129: =SUM(H129:I129) -> 0 | H129: =SUM(ENERO:DICIEMBRE!H129) -> 0 | I129: =SUM(ENERO:DICIEMBRE!I129) -> 0 | J129: =SUM(ENERO:DICIEMBRE!J129) -> 0 | K129: =SUM(ENERO:DICIEMBRE!K129) -> 0 | L129: =SUM(ENERO:DICIEMBRE!L129) -> 0 | M129: =SUM(ENERO:DICIEMBRE!M129) -> 0 | N129: =SUM(ENERO:DICIEMBRE!N129) -> 0 | O129: =SUM(ENERO:DICIEMBRE!O129) -> 0 | ... Q129: =SUM(ENERO:DICIEMBRE!Q129) -> 0
A130: SECCIÓN G: CONSULTA ABREVIADA POR ATENCIÓN REMOTA
A131: Tipo de consulta | B131: Modalidad
B132: Institucional | C132: Compra de Servicio
B133: Establecimiento de la Red | C133: Sistema | D133: Extrasistema
A134: Tratamiento anticoagulante oral | B134: =SUM(ENERO:DICIEMBRE!B134) -> 0 | C134: =SUM(ENERO:DICIEMBRE!C134) -> 0 | D134: =SUM(ENERO:DICIEMBRE!D134) -> 0
A174: =SUM(B12:Q12,R12:Y67,Z12:AU12,B72:T74,B80:Y80,B98:Q98,R98:Y108,Z98:AJ98,B114:T114,C123:F123,H123:I123,,J123:Q123,B134:D134) -> 56622 | B174: =SUM(CE12:CF67) -> 0

Sheet ENERO
A1: SERVICIO DE SALUD
A2: =CONCATENATE("COMUNA: ",[2]NOMBRE!B2, " (",[2]NOMBRE!C2,[2]NOMBRE!D2,[2]NOMBRE!E2,[2]NOMBRE!F2,[2]NOMBRE!G2,")") -> COMUNA: LINARES (07401)
A3: =CONCATENATE("ESTABLECIMIENTO/ESTRATEGIA: ", [2]NOMBRE!B3, " (",[2]NOMBRE!C3,[2]NOMBRE!D3,[2]NOMBRE!E3,[2]NOMBRE!F3,[2]NOMBRE!G3,[2]NOMBRE!H3,")") -> ESTABLECIMIENTO/ESTRATEGIA: HOSPITAL PRESIDENTE CARLOS IBAÑEZ DEL CAMPO (116108)
A4: =CONCATENATE("MES: ",[2]NOMBRE!B6, " (",[2]NOMBRE!C6,[2]NOMBRE!D6,")") -> MES: ENERO (01)
A5: =CONCATENATE("AÑO: ",[2]NOMBRE!B7) -> AÑO: 2025
A6: REM-30. ATENCIONES POR TELEMEDICINA EN LA RED ASISTENCIAL
A8: SECCIÓN A: TELEINTERCONSULTA DE ESPECIALIDAD (ATENCION REALIZADA DE MÉDICO A MÉDICO)
A9: Especialidades | B9: Teleinterconsulta médica de especialidad ambulatoria nueva | J9: Teleinterconsulta médica de especialidad ambulatoria control | R9: TOTAL TELEINTERCONSULTAS MEDICAS AMBULATORIAS DE ESPECIALIDAD | Z9: Modalidad | AC9: Teleinterconsulta medicina de especialidad realizadas a pacientes hospitalizados | AK9: Modalidad | AN9: Teleinterconsultas solicitadas desde APS o Nivel Secundario para ser resueltas por otro establecimiento
B10: 0 - 14 años | D10: 15 - 17 años | F10: 18-19 años | H10: 20 y más años | J10: 0 - 14 años | L10: 15 - 17 años | N10: 18 - 19 años | P10: 20 y más años | R10: 0 - 14 años | T10: 15 - 17 años | V10: 18- 19 años | X10: 20 y más años | Z10: Institucional | AA10: Compra de Servicio | AC10: 0 - 14 años | AE10: 15 - 17 años | AG10: 18 a 19 años | AI10: 20 y más años | AK10: Institucional | AL10: Compra de Servicio | AN10: 0 - 14 años | AP10: 15 - 17 años | AR10: 18 - 19 años | AT10: 20 y más años
B11: Hombres | C11: Mujeres | D11: Hombres | E11: Mujeres | F11: Hombres | G11: Mujeres | H11: Hombres | I11: Mujeres | J11: Hombres | K11: Mujeres | L11: Hombres | M11: Mujeres | N11: Hombres | O11: Mujeres | P11: Hombres | Q11: Mujeres | R11: Hombres | S11: Mujeres | T11: Hombres | U11: Mujeres | V11: Hombres | W11: Mujeres | X11: Hombres | Y11: Mujeres | AA11: Sistema | AB11: Extrasistema | AC11: Hombres | AD11: Mujeres | AE11: Hombres | AF11: Mujeres | AG11: Hombres | AH11: Mujeres | AI11: Hombres | AJ11: Mujeres | AL11: Sistema | AM11: Extrasistema | AN11: Hombres | AO11: Mujeres | AP11: Hombres | AQ11: Mujeres | AR11: Hombres | AS11: Mujeres | AT11: Hombres | AU11: Mujeres
A12: TOTAL | B12: =SUM(B13:B67) -> 9 | C12: =SUM(C13:C67) -> 12 | D12: =SUM(D13:D67) -> 0 | E12: =SUM(E13:E67) -> 0 | F12: =SUM(F13:F67) -> 0 | G12: =SUM(G13:G67) -> 1 | H12: =SUM(H13:H67) -> 23 | I12: =SUM(I13:I67) -> 45 | ... AU12: =SUM(AU13:AU67) -> 0
A13: Pediatría | B13: 5 | C13: 8 | I13: 1 | R13: =SUM(B13+J13) -> 5 | S13: =SUM(C13+K13) -> 8 | T13: =SUM(D13+L13) -> 0 | U13: =SUM(E13+M13) -> 0 | V13: =SUM(F13+N13) -> 0 | W13: =SUM(G13+O13) -> 0 | X13: =SUM(H13+P13) -> 0 | Y13: =SUM(I13+Q13) -> 1 | Z13: 14
A14: Medicina interna | H14: 5 | I14: 4 | R14: =SUM(B14+J14) -> 0 | S14: =SUM(C14+K14) -> 0 | T14: =SUM(D14+L14) -> 0 | U14: =SUM(E14+M14) -> 0 | V14: =SUM(F14+N14) -> 0 | W14: =SUM(G14+O14) -> 0 | X14: =SUM(H14+P14) -> 5 | Y14: =SUM(I14+Q14) -> 4 | Z14: 9
A15: Neonatología | R15: =SUM(B15+J15) -> 0 | S15: =SUM(C15+K15) -> 0 | T15: =SUM(D15+L15) -> 0 | U15: =SUM(E15+M15) -> 0 | V15: =SUM(F15+N15) -> 0 | W15: =SUM(G15+O15) -> 0 | X15: =SUM(H15+P15) -> 0 | Y15: =SUM(I15+Q15) -> 0
A16: Enfermedad respiratoria pediátrica (Brocopulmonar infantil) | R16: =SUM(B16+J16) -> 0 | S16: =SUM(C16+K16) -> 0 | T16: =SUM(D16+L16) -> 0 | U16: =SUM(E16+M16) -> 0 | V16: =SUM(F16+N16) -> 0 | W16: =SUM(G16+O16) -> 0 | X16: =SUM(H16+P16) -> 0 | Y16: =SUM(I16+Q16) -> 0
A17: Enfermedad respiratoria de adulto (Broncopulmonar) | H17: 6 | I17: 3 | R17: =SUM(B17+J17) -> 0 | S17: =SUM(C17+K17) -> 0 | T17: =SUM(D17+L17) -> 0 | U17: =SUM(E17+M17) -> 0 | V17: =SUM(F17+N17) -> 0 | W17: =SUM(G17+O17) -> 0 | X17: =SUM(H17+P17) -> 6 | Y17: =SUM(I17+Q17) -> 3 | Z17: 9
A18: Cardiología | B18: 3 | C18: 4 | H18: 1 | R18: =SUM(B18+J18) -> 3 | S18: =SUM(C18+K18) -> 4 | T18: =SUM(D18+L18) -> 0 | U18: =SUM(E18+M18) -> 0 | V18: =SUM(F18+N18) -> 0 | W18: =SUM(G18+O18) -> 0 | X18: =SUM(H18+P18) -> 1 | Y18: =SUM(I18+Q18) -> 0 | Z18: 8
A19: Mastología | R19: =SUM(B19+J19) -> 0 | S19: =SUM(C19+K19) -> 0 | T19: =SUM(D19+L19) -> 0 | U19: =SUM(E19+M19) -> 0 | V19: =SUM(F19+N19) -> 0 | W19: =SUM(G19+O19) -> 0 | X19: =SUM(H19+P19) -> 0 | Y19: =SUM(I19+Q19) -> 0
A20: Endocrinología pediátrica | R20: =SUM(B20+J20) -> 0 | S20: =SUM(C20+K20) -> 0 | T20: =SUM(D20+L20) -> 0 | U20: =SUM(E20+M20) -> 0 | V20: =SUM(F20+N20) -> 0 | W20: =SUM(G20+O20) -> 0 | X20: =SUM(H20+P20) -> 0 | Y20: =SUM(I20+Q20) -> 0
A21: Endocrinología adulto | R21: =SUM(B21+J21) -> 0 | S21: =SUM(C21+K21) -> 0 | T21: =SUM(D21+L21) -> 0 | U21: =SUM(E21+M21) -> 0 | V21: =SUM(F21+N21) -> 0 | W21: =SUM(G21+O21) -> 0 | X21: =SUM(H21+P21) -> 0 | Y21: =SUM(I21+Q21) -> 0
A22: Gastroenterología pediátrica | R22: =SUM(B22+J22) -> 0 | S22: =SUM(C22+K22) -> 0 | T22: =SUM(D22+L22) -> 0 | U22: =SUM(E22+M22) -> 0 | V22: =SUM(F22+N22) -> 0 | W22: =SUM(G22+O22) -> 0 | X22: =SUM(H22+P22) -> 0 | Y22: =SUM(I22+Q22) -> 0
A23: Gastroenterología adulto | R23: =SUM(B23+J23) -> 0 | S23: =SUM(C23+K23) -> 0 | T23: =SUM(D23+L23) -> 0 | U23: =SUM(E23+M23) -> 0 | V23: =SUM(F23+N23) -> 0 | W23: =SUM(G23+O23) -> 0 | X23: =SUM(H23+P23) -> 0 | Y23: =SUM(I23+Q23) -> 0
A24: Genética clínica | R24: =SUM(B24+J24) -> 0 | S24: =SUM(C24+K24) -> 0 | T24: =SUM(D24+L24) -> 0 | U24: =SUM(E24+M24) -> 0 | V24: =SUM(F24+N24) -> 0 | W24: =SUM(G24+O24) -> 0 | X24: =SUM(H24+P24) -> 0 | Y24: =SUM(I24+Q24) -> 0
A25: Hematología | R25: =SUM(B25+J25) -> 0 | S25: =SUM(C25+K25) -> 0 | T25: =SUM(D25+L25) -> 0 | U25: =SUM(E25+M25) -> 0 | V25: =SUM(F25+N25) -> 0 | W25: =SUM(G25+O25) -> 0 | X25: =SUM(H25+P25) -> 0 | Y25: =SUM(I25+Q25) -> 0
A26: Medicina del adolescente | R26: =SUM(B26+J26) -> 0 | S26: =SUM(C26+K26) -> 0 | T26: =SUM(D26+L26) -> 0 | U26: =SUM(E26+M26) -> 0 | V26: =SUM(F26+N26) -> 0 | W26: =SUM(G26+O26) -> 0 | X26: =SUM(H26+P26) -> 0 | Y26: =SUM(I26+Q26) -> 0
A27: Nefrología pediátrica | R27: =SUM(B27+J27) -> 0 | S27: =SUM(C27+K27) -> 0 | T27: =SUM(D27+L27) -> 0 | U27: =SUM(E27+M27) -> 0 | V27: =SUM(F27+N27) -> 0 | W27: =SUM(G27+O27) -> 0 | X27: =SUM(H27+P27) -> 0 | Y27: =SUM(I27+Q27) -> 0
A28: Nefrología adulto | R28: =SUM(B28+J28) -> 0 | S28: =SUM(C28+K28) -> 0 | T28: =SUM(D28+L28) -> 0 | U28: =SUM(E28+M28) -> 0 | V28: =SUM(F28+N28) -> 0 | W28: =SUM(G28+O28) -> 0 | X28: =SUM(H28+P28) -> 0 | Y28: =SUM(I28+Q28) -> 0
A29: Nutrición clínica | R29: =SUM(B29+J29) -> 0 | S29: =SUM(C29+K29) -> 0 | T29: =SUM(D29+L29) -> 0 | U29: =SUM(E29+M29) -> 0 | V29: =SUM(F29+N29) -> 0 | W29: =SUM(G29+O29) -> 0 | X29: =SUM(H29+P29) -> 0 | Y29: =SUM(I29+Q29) -> 0
A30: Medicina Materno Infantil | R30: =SUM(B30+J30) -> 0 | S30: =SUM(C30+K30) -> 0 | T30: =SUM(D30+L30) -> 0 | U30: =SUM(E30+M30) -> 0 | V30: =SUM(F30+N30) -> 0 | W30: =SUM(G30+O30) -> 0 | X30: =SUM(H30+P30) -> 0 | Y30: =SUM(I30+Q30) -> 0
... A38: Medicina Reproductiva e Infertilidad | R38: =SUM(B38+J38) -> 0 | S38: =SUM(C38+K38) -> 0 | T38: =SUM(D38+L38) -> 0 | U38: =SUM(E38+M38) -> 0 | V38: =SUM(F38+N38) -> 0 | W38: =SUM(G38+O38) -> 0 | X38: =SUM(H38+P38) -> 0 | Y38: =SUM(I38+Q38) -> 0
A39: Neurología pediátrica | B39: 1 | R39: =SUM(B39+J39) -> 1 | S39: =SUM(C39+K39) -> 0 | T39: =SUM(D39+L39) -> 0 | U39: =SUM(E39+M39) -> 0 | V39: =SUM(F39+N39) -> 0 | W39: =SUM(G39+O39) -> 0 | X39: =SUM(H39+P39) -> 0 | Y39: =SUM(I39+Q39) -> 0 | Z39: 1
A40: Neurología adulto | R40: =SUM(B40+J40) -> 0 | S40: =SUM(C40+K40) -> 0 | T40: =SUM(D40+L40) -> 0 | U40: =SUM(E40+M40) -> 0 | V40: =SUM(F40+N40) -> 0 | W40: =SUM(G40+O40) -> 0 | X40: =SUM(H40+P40) -> 0 | Y40: =SUM(I40+Q40) -> 0
A41: Oncología médica | R41: =SUM(B41+J41) -> 0 | S41: =SUM(C41+K41) -> 0 | T41: =SUM(D41+L41) -> 0 | U41: =SUM(E41+M41) -> 0 | V41: =SUM(F41+N41) -> 0 | W41: =SUM(G41+O41) -> 0 | X41: =SUM(H41+P41) -> 0 | Y41: =SUM(I41+Q41) -> 0
A42: Psiquiatría pediátrica y de la adolescencia | R42: =SUM(B42+J42) -> 0 | S42: =SUM(C42+K42) -> 0 | T42: =SUM(D42+L42) -> 0 | U42: =SUM(E42+M42) -> 0 | V42: =SUM(F42+N42) -> 0 | W42: =SUM(G42+O42) -> 0 | X42: =SUM(H42+P42) -> 0 | Y42: =SUM(I42+Q42) -> 0
A43: Psiquiatría adulto | H43: 1 | I43: 4 | R43: =SUM(B43+J43) -> 0 | S43: =SUM(C43+K43) -> 0 | T43: =SUM(D43+L43) -> 0 | U43: =SUM(E43+M43) -> 0 | V43: =SUM(F43+N43) -> 0 | W43: =SUM(G43+O43) -> 0 | X43: =SUM(H43+P43) -> 1 | Y43: =SUM(I43+Q43) -> 4 | Z43: 5
A44: Cirugía pediátrica | R44: =SUM(B44+J44) -> 0 | S44: =SUM(C44+K44) -> 0 | T44: =SUM(D44+L44) -> 0 | U44: =SUM(E44+M44) -> 0 | V44: =SUM(F44+N44) -> 0 | W44: =SUM(G44+O44) -> 0 | X44: =SUM(H44+P44) -> 0 | Y44: =SUM(I44+Q44) -> 0
A45: Cirugía General | H45: 10 | I45: 10 | R45: =SUM(B45+J45) -> 0 | S45: =SUM(C45+K45) -> 0 | T45: =SUM(D45+L45) -> 0 | U45: =SUM(E45+M45) -> 0 | V45: =SUM(F45+N45) -> 0 | W45: =SUM(G45+O45) -> 0 | X45: =SUM(H45+P45) -> 10 | Y45: =SUM(I45+Q45) -> 10 | Z45: 20
A46: Cirugía digestiva (alta) | R46: =SUM(B46+J46) -> 0 | S46: =SUM(C46+K46) -> 0 | T46: =SUM(D46+L46) -> 0 | U46: =SUM(E46+M46) -> 0 | V46: =SUM(F46+N46) -> 0 | W46: =SUM(G46+O46) -> 0 | X46: =SUM(H46+P46) -> 0 | Y46: =SUM(I46+Q46) -> 0
A47: Cirugía de cabeza, cuello y maxilofacial | R47: =SUM(B47+J47) -> 0 | S47: =SUM(C47+K47) -> 0 | T47: =SUM(D47+L47) -> 0 | U47: =SUM(E47+M47) -> 0 | V47: =SUM(F47+N47) -> 0 | W47: =SUM(G47+O47) -> 0 | X47: =SUM(H47+P47) -> 0 | Y47: =SUM(I47+Q47) -> 0
A48: Cirugía Plástica y Reparadora | R48: =SUM(B48+J48) -> 0 | S48: =SUM(C48+K48) -> 0 | T48: =SUM(D48+L48) -> 0 | U48: =SUM(E48+M48) -> 0 | V48: =SUM(F48+N48) -> 0 | W48: =SUM(G48+O48) -> 0 | X48: =SUM(H48+P48) -> 0 | Y48: =SUM(I48+Q48) -> 0
A49: Medicina del Deporte | R49: =SUM(B49+J49) -> 0 | S49: =SUM(C49+K49) -> 0 | T49: =SUM(D49+L49) -> 0 | U49: =SUM(E49+M49) -> 0 | V49: =SUM(F49+N49) -> 0 | W49: =SUM(G49+O49) -> 0 | X49: =SUM(H49+P49) -> 0 | Y49: =SUM(I49+Q49) -> 0
A50: Coloproctología (Cirugía digestiva baja) | R50: =SUM(B50+J50) -> 0 | S50: =SUM(C50+K50) -> 0 | T50: =SUM(D50+L50) -> 0 | U50: =SUM(E50+M50) -> 0 | V50: =SUM(F50+N50) -> 0 | W50: =SUM(G50+O50) -> 0 | X50: =SUM(H50+P50) -> 0 | Y50: =SUM(I50+Q50) -> 0
A51: Cirugía tórax | R51: =SUM(B51+J51) -> 0 | S51: =SUM(C51+K51) -> 0 | T51: =SUM(D51+L51) -> 0 | U51: =SUM(E51+M51) -> 0 | V51: =SUM(F51+N51) -> 0 | W51: =SUM(G51+O51) -> 0 | X51: =SUM(H51+P51) -> 0 | Y51: =SUM(I51+Q51) -> 0
A52: Cirugía vascular periferica | R52: =SUM(B52+J52) -> 0 | S52: =SUM(C52+K52) -> 0 | T52: =SUM(D52+L52) -> 0 | U52: =SUM(E52+M52) -> 0 | V52: =SUM(F52+N52) -> 0 | W52: =SUM(G52+O52) -> 0 | X52: =SUM(H52+P52) -> 0 | Y52: =SUM(I52+Q52) -> 0
A53: Neurocirugía | R53: =SUM(B53+J53) -> 0 | S53: =SUM(C53+K53) -> 0 | T53: =SUM(D53+L53) -> 0 | U53: =SUM(E53+M53) -> 0 | V53: =SUM(F53+N53) -> 0 | W53: =SUM(G53+O53) -> 0 | X53: =SUM(H53+P53) -> 0 | Y53: =SUM(I53+Q53) -> 0
A54: Cirugía cardiovascular | R54: =SUM(B54+J54) -> 0 | S54: =SUM(C54+K54) -> 0 | T54: =SUM(D54+L54) -> 0 | U54: =SUM(E54+M54) -> 0 | V54: =SUM(F54+N54) -> 0 | W54: =SUM(G54+O54) -> 0 | X54: =SUM(H54+P54) -> 0 | Y54: =SUM(I54+Q54) -> 0
A55: Anestesiología | R55: =SUM(B55+J55) -> 0 | S55: =SUM(C55+K55) -> 0 | T55: =SUM(D55+L55) -> 0 | U55: =SUM(E55+M55) -> 0 | V55: =SUM(F55+N55) -> 0 | W55: =SUM(G55+O55) -> 0 | X55: =SUM(H55+P55) -> 0 | Y55: =SUM(I55+Q55) -> 0
A56: Obstetricia y Ginecología | G56: 1 | I56: 21 | R56: =SUM(B56+J56) -> 0 | S56: =SUM(C56+K56) -> 0 | T56: =SUM(D56+L56) -> 0 | U56: =SUM(E56+M56) -> 0 | V56: =SUM(F56+N56) -> 0 | W56: =SUM(G56+O56) -> 1 | X56: =SUM(H56+P56) -> 0 | Y56: =SUM(I56+Q56) -> 21 | Z56: 22
A57: Ginecología oncológica | R57: =SUM(B57+J57) -> 0 | S57: =SUM(C57+K57) -> 0 | T57: =SUM(D57+L57) -> 0 | U57: =SUM(E57+M57) -> 0 | V57: =SUM(F57+N57) -> 0 | W57: =SUM(G57+O57) -> 0 | X57: =SUM(H57+P57) -> 0 | Y57: =SUM(I57+Q57) -> 0
A58: Neurorradiologia | R58: =SUM(B58+J58) -> 0 | S58: =SUM(C58+K58) -> 0 | T58: =SUM(D58+L58) -> 0 | U58: =SUM(E58+M58) -> 0 | V58: =SUM(F58+N58) -> 0 | W58: =SUM(G58+O58) -> 0 | X58: =SUM(H58+P58) -> 0 | Y58: =SUM(I58+Q58) -> 0
A59: Oftalmología | R59: =SUM(B59+J59) -> 0 | S59: =SUM(C59+K59) -> 0 | T59: =SUM(D59+L59) -> 0 | U59: =SUM(E59+M59) -> 0 | V59: =SUM(F59+N59) -> 0 | W59: =SUM(G59+O59) -> 0 | X59: =SUM(H59+P59) -> 0 | Y59: =SUM(I59+Q59) -> 0
A60: Otorrinolaringología | R60: =SUM(B60+J60) -> 0 | S60: =SUM(C60+K60) -> 0 | T60: =SUM(D60+L60) -> 0 | U60: =SUM(E60+M60) -> 0 | V60: =SUM(F60+N60) -> 0 | W60: =SUM(G60+O60) -> 0 | X60: =SUM(H60+P60) -> 0 | Y60: =SUM(I60+Q60) -> 0
A61: Traumatología y Ortopedia | I61: 1 | R61: =SUM(B61+J61) -> 0 | S61: =SUM(C61+K61) -> 0 | T61: =SUM(D61+L61) -> 0 | U61: =SUM(E61+M61) -> 0 | V61: =SUM(F61+N61) -> 0 | W61: =SUM(G61+O61) -> 0 | X61: =SUM(H61+P61) -> 0 | Y61: =SUM(I61+Q61) -> 1 | Z61: 1
A62: Urología | I62: 1 | R62: =SUM(B62+J62) -> 0 | S62: =SUM(C62+K62) -> 0 | T62: =SUM(D62+L62) -> 0 | U62: =SUM(E62+M62) -> 0 | V62: =SUM(F62+N62) -> 0 | W62: =SUM(G62+O62) -> 0 | X62: =SUM(H62+P62) -> 0 | Y62: =SUM(I62+Q62) -> 1 | Z62: 1
A63: Medicina familiar | R63: =SUM(B63+J63) -> 0 | S63: =SUM(C63+K63) -> 0 | T63: =SUM(D63+L63) -> 0 | U63: =SUM(E63+M63) -> 0 | V63: =SUM(F63+N63) -> 0 | W63: =SUM(G63+O63) -> 0 | X63: =SUM(H63+P63) -> 0 | Y63: =SUM(I63+Q63) -> 0
A64: Diabetología | R64: =SUM(B64+J64) -> 0 | S64: =SUM(C64+K64) -> 0 | T64: =SUM(D64+L64) -> 0 | U64: =SUM(E64+M64) -> 0 | V64: =SUM(F64+N64) -> 0 | W64: =SUM(G64+O64) -> 0 | X64: =SUM(H64+P64) -> 0 | Y64: =SUM(I64+Q64) -> 0
A65: Medicina intensiva | R65: =SUM(B65+J65) -> 0 | S65: =SUM(C65+K65) -> 0 | T65: =SUM(D65+L65) -> 0 | U65: =SUM(E65+M65) -> 0 | V65: =SUM(F65+N65) -> 0 | W65: =SUM(G65+O65) -> 0 | X65: =SUM(H65+P65) -> 0 | Y65: =SUM(I65+Q65) -> 0
A66: Imagenología | R66: =SUM(B66+J66) -> 0 | S66: =SUM(C66+K66) -> 0 | T66: =SUM(D66+L66) -> 0 | U66: =SUM(E66+M66) -> 0 | V66: =SUM(F66+N66) -> 0 | W66: =SUM(G66+O66) -> 0 | X66: =SUM(H66+P66) -> 0 | Y66: =SUM(I66+Q66) -> 0
A67: Radioterapia oncológica | R67: =SUM(B67+J67) -> 0 | S67: =SUM(C67+K67) -> 0 | T67: =SUM(D67+L67) -> 0 | U67: =SUM(E67+M67) -> 0 | V67: =SUM(F67+N67) -> 0 | W67: =SUM(G67+O67) -> 0 | X67: =SUM(H67+P67) -> 0 | Y67: =SUM(I67+Q67) -> 0
A68: SECCIÓN B : TELEINTERCONSULTA MÉDICA EN ESTABLECIMIENTOS DE ATENCIÓN SECUNDARIA DE URGENCIA (ATENCIÓN MÉDICO A MÉDICO)
A69: Tipo de teleinterconsulta de urgencia | B69: Teleinterconsulta médica de urgencia en hospitales de alta y mediana complejidad | J69: Modalidad | M69: Teleinterconsultas solicitadas desde APS o Nivel Secundario para ser resueltas por otro establecimiento
B70: 0 - 14 años | D70: 15 - 17 años | F70: 18 - 19 años | H70: 20 y más años | J70: Institucional | K70: Compra de Servicio | M70: 0 - 14 años | O70: 15 - 17 años | Q70: 18 - 19 años | S70: 20 y más años
B71: Hombres | C71: Mujeres | D71: Hombres | E71: Mujeres | F71: Hombres | G71: Mujeres | H71: Hombres | I71: Mujeres | J71: Establecimiento de la Red | K71: Sistema | L71: Extrasistema | M71: Hombres | N71: Mujeres | O71: Hombres | P71: Mujeres | Q71: Hombres | R71: Mujeres | S71: Hombres | T71: Mujeres
A72: Consulta urgencia otros
A73: Accidente cerebro vascular (ACV) | S73: 9 | T73: 5
A74: Quemados
A75: SECCIÓN C : TELEINFORMES EN ESTABLECIMIENTOS DE ATENCIÓN PRIMARIA, SECUNDARIA Y TERCIARIA
A76: Teleinformes realizados | B76: Establecimientos del Nivel Primario de salud | M76: Establecimientos de Nivel Secundario y Terciario | X76: Total teleinformes realizados
B77: 0 - 14 años | D77: 15 - 17 años | F77: 18 - 19 años | H77: 20 y más años | J77: Modalidad | M77: 0 - 14 años | O77: 15 - 17 años | Q77: 18 - 19 años | S77: 20 y más años | U77: Modalidad
B78: Hombres | C78: Mujeres | D78: Hombres | E78: Mujeres | F78: Hombres | G78: Mujeres | H78: Hombres | I78: Mujeres | J78: Institucional | K78: Compra de Servicio | M78: Hombres | N78: Mujeres | O78: Hombres | P78: Mujeres | Q78: Hombres | R78: Mujeres | S78: Hombres | T78: Mujeres | U78: Institucional | V78: Compra de Servicio | X78: Teleinformes realizados por Inteligencia Artificial | Y78: Teleinformes realizados por Médico Especialista
K79: Sistema | L79: Extrasistema | V79: Sistema | W79: Extrasistema
A80: TOTAL EMISIONES DE INFORMES | B80: =B81+B82+B83+B84+B85+B86+B87+B88+B89+B92+B93 -> 0 | C80: =C81+C82+C83+C84+C85+C86+C87+C88+C89+C92+C93 -> 0 | D80: =D81+D82+D83+D84+D85+D86+D87+D88+D89+D92+D93 -> 0 | E80: =E81+E82+E83+E84+E85+E86+E87+E88+E89+E92+E93 -> 0 | F80: =F81+F82+F83+F84+F85+F86+F87+F88+F89+F92+F93 -> 0 | G80: =G81+G82+G83+G84+G85+G86+G87+G88+G89+G92+G93 -> 0 | H80: =H81+H82+H83+H84+H85+H86+H87+H88+H89+H92+H93 -> 0 | I80: =I81+I82+I83+I84+I85+I86+I87+I88+I89+I92+I93 -> 0 | ... L80: =L81+L82+L83+L84+L85+L86+L87+L88+L89+L92+L93 -> 0 | M80: =SUM(M81:M93) -> 54 | N80: =SUM(N81:N93) -> 39 | O80: =SUM(O81:O93) -> 11 | P80: =SUM(P81:P93) -> 10 | Q80: =SUM(Q81:Q93) -> 9 | R80: =SUM(R81:R93) -> 10 | S80: =SUM(S81:S93) -> 830 | T80: =SUM(T81:T93) -> 665 | ... Y80: =SUM(Y81:Y93) -> 1628
A81: Nº de informes Ecografías obstétricas
A82: Nº de informes Electrocardiograma
A83: Nº de informes Electroencefalograma
A84: Nº de informes Espirometrías
A85: Nº de informes Fondo de ojo (excluye resolutividad)
A86: Nº de informes Holter de presión arterial
A87: Nº de informes Test de esfuerzo
A88: Nº de informes radiografías simples
A89: Nº de informes radiografías dentales
A90: Nº de informes de Tomografía axial computarizada | M90: 54 | N90: 39 | O90: 11 | P90: 10 | Q90: 9 | R90: 10 | S90: 830 | T90: 665 | W90: 1628 | Y90: 1628
A91: Nº de informes de Resonancia magnética nuclear
A92: Nº de informes Ecografías abdominal
A93: N° de mamografía
A94: SECCIÓN D: TELEINTERCONSULTA ODONTOLÓGICA
A95: Especialidades odontológicas | B95: Teleinterconsulta de especialidad odontológica ambulatoria nueva | J95: Teleinterconsulta de especialidad odontológica ambulatoria control | R95: TOTAL TELEINTERCONSULTAS AMBULATORIAS DE ESPECIALIDAD ODONTOLÓGICA | Z95: Modalidad | AC95: Solicitud de teleinterconsulta de especialidad odontológica
B96: 0 - 14 años | D96: 15 - 17 años | F96: 18 - 19 años | H96: 20 y más años | J96: 0 - 14 años | L96: 15 - 17 años | N96: 18 - 19 años | P96: 20 y más años | R96: 0 - 14 años | T96: 15 - 17 años | V96: 18 - 19 años | X96: 20 y más años | Z96: Institucional | AA96: Compra de Servicio | AC96: 0 - 14 años | AE96: 15 - 17 años | AG96: 18-19 años | AI96: 20 y más años
B97: Hombres | C97: Mujeres | D97: Hombres | E97: Mujeres | F97: Hombres | G97: Mujeres | H97: Hombres | I97: Mujeres | J97: Hombres | K97: Mujeres | L97: Hombres | M97: Mujeres | N97: Hombres | O97: Mujeres | P97: Hombres | Q97: Mujeres | R97: Hombres | S97: Mujeres | T97: Hombres | U97: Mujeres | V97: Hombres | W97: Mujeres | X97: Hombres | Y97: Mujeres | Z97: Establecimiento de la Red | AA97: Sistema | AB97: Extrasistema | AC97: Hombres | AD97: Mujeres | AE97: Hombres | AF97: Mujeres | AG97: Hombres | AH97: Mujeres | AI97: Hombres | AJ97: Mujeres
A98: TOTAL | B98: =SUM(B99:B108) -> 0 | C98: =SUM(C99:C108) -> 0 | D98: =SUM(D99:D108) -> 0 | E98: =SUM(E99:E108) -> 0 | F98: =SUM(F99:F108) -> 0 | G98: =SUM(G99:G108) -> 0 | H98: =SUM(H99:H108) -> 0 | I98: =SUM(I99:I108) -> 0 | ... AJ98: =SUM(AJ99:AJ108) -> 0
A99: Cirugía y traumatología maxilofacial | R99: =+B99+J99 -> 0 | S99: =+C99+K99 -> 0 | T99: =+D99+L99 -> 0 | U99: =+E99+M99 -> 0 | V99: =+F99+N99 -> 0 | W99: =+G99+O99 -> 0 | X99: =+H99+P99 -> 0 | Y99: =+I99+Q99 -> 0
A100: Endodoncia | R100: =+B100+J100 -> 0 | S100: =+C100+K100 -> 0 | T100: =+D100+L100 -> 0 | U100: =+E100+M100 -> 0 | V100: =+F100+N100 -> 0 | W100: =+G100+O100 -> 0 | X100: =+H100+P100 -> 0 | Y100: =+I100+Q100 -> 0
A101: Odontopediatría | R101: =+B101+J101 -> 0 | S101: =+C101+K101 -> 0 | T101: =+D101+L101 -> 0 | U101: =+E101+M101 -> 0 | V101: =+F101+N101 -> 0 | W101: =+G101+O101 -> 0 | X101: =+H101+P101 -> 0 | Y101: =+I101+Q101 -> 0
A102: Ortodoncia y ortopedia dento maxilofacial | R102: =+B102+J102 -> 0 | S102: =+C102+K102 -> 0 | T102: =+D102+L102 -> 0 | U102: =+E102+M102 -> 0 | V102: =+F102+N102 -> 0 | W102: =+G102+O102 -> 0 | X102: =+H102+P102 -> 0 | Y102: =+I102+Q102 -> 0
A103: Periodoncia | R103: =+B103+J103 -> 0 | S103: =+C103+K103 -> 0 | T103: =+D103+L103 -> 0 | U103: =+E103+M103 -> 0 | V103: =+F103+N103 -> 0 | W103: =+G103+O103 -> 0 | X103: =+H103+P103 -> 0 | Y103: =+I103+Q103 -> 0
A104: Rehabilitación: Prótesis fija | R104: =+B104+J104 -> 0 | S104: =+C104+K104 -> 0 | T104: =+D104+L104 -> 0 | U104: =+E104+M104 -> 0 | V104: =+F104+N104 -> 0 | W104: =+G104+O104 -> 0 | X104: =+H104+P104 -> 0 | Y104: =+I104+Q104 -> 0
A105: Rehabilitación: Prótesis removible | R105: =+B105+J105 -> 0 | S105: =+C105+K105 -> 0 | T105: =+D105+L105 -> 0 | U105: =+E105+M105 -> 0 | V105: =+F105+N105 -> 0 | W105: =+G105+O105 -> 0 | X105: =+H105+P105 -> 0 | Y105: =+I105+Q105 -> 0
A106: Implantología buco maxilofacial | R106: =+B106+J106 -> 0 | S106: =+C106+K106 -> 0 | T106: =+D106+L106 -> 0 | U106: =+E106+M106 -> 0 | V106: =+F106+N106 -> 0 | W106: =+G106+O106 -> 0 | X106: =+H106+P106 -> 0 | Y106: =+I106+Q106 -> 0
A107: Patología oral | R107: =+B107+J107 -> 0 | S107: =+C107+K107 -> 0 | T107: =+D107+L107 -> 0 | U107: =+E107+M107 -> 0 | V107: =+F107+N107 -> 0 | W107: =+G107+O107 -> 0 | X107: =+H107+P107 -> 0 | Y107: =+I107+Q107 -> 0
A108: Trastornos temporomandibulares y dolor orofacial | R108: =+B108+J108 -> 0 | S108: =+C108+K108 -> 0 | T108: =+D108+L108 -> 0 | U108: =+E108+M108 -> 0 | V108: =+F108+N108 -> 0 | W108: =+G108+O108 -> 0 | X108: =+H108+P108 -> 0 | Y108: =+I108+Q108 -> 0
...

Sheet FEBRERO
A1: SERVICIO DE SALUD
A2: =CONCATENATE("COMUNA: ",[3]NOMBRE!B2, " (",[3]NOMBRE!C2,[3]NOMBRE!D2,[3]NOMBRE!E2,[3]NOMBRE!F2,[3]NOMBRE!G2,")") -> COMUNA: LINARES (07401)
A3: =CONCATENATE("ESTABLECIMIENTO/ESTRATEGIA: ", [3]NOMBRE!B3, " (",[3]NOMBRE!C3,[3]NOMBRE!D3,[3]NOMBRE!E3,[3]NOMBRE!F3,[3]NOMBRE!G3,[3]NOMBRE!H3,")") -> ESTABLECIMIENTO/ESTRATEGIA: HOSPITAL PRESIDENTE CARLOS IBAÑEZ DEL CAMPO (116108)
A4: =CONCATENATE("MES: ",[3]NOMBRE!B6, " (",[3]NOMBRE!C6,[3]NOMBRE!D6,")") -> MES: FEBRERO (02)
A5: =CONCATENATE("AÑO: ",[3]NOMBRE!B7) -> AÑO: 2025
A6: REM-30. ATENCIONES POR TELEMEDICINA EN LA RED ASISTENCIAL
A8: SECCIÓN A: TELEINTERCONSULTA DE ESPECIALIDAD (ATENCION REALIZADA DE MÉDICO A MÉDICO)
A9: Especialidades | B9: Teleinterconsulta médica de especialidad ambulatoria nueva | J9: Teleinterconsulta médica de especialidad ambulatoria control | R9: TOTAL TELEINTERCONSULTAS MEDICAS AMBULATORIAS DE ESPECIALIDAD | Z9: Modalidad | AC9: Teleinterconsulta medicina de especialidad realizadas a pacientes hospitalizados | AK9: Modalidad | AN9: Teleinterconsultas solicitadas desde APS o Nivel Secundario para ser resueltas por otro establecimiento
B10: 0 - 14 años | D10: 15 - 17 años | F10: 18-19 años | H10: 20 y más años | J10: 0 - 14 años | L10: 15 - 17 años | N10: 18 - 19 años | P10: 20 y más años | R10: 0 - 14 años | T10: 15 - 17 años | V10: 18- 19 años | X10: 20 y más años | Z10: Institucional | AA10: Compra de Servicio | AC10: 0 - 14 años | AE10: 15 - 17 años | AG10: 18 a 19 años | AI10: 20 y más años | AK10: Institucional | AL10: Compra de Servicio | AN10: 0 - 14 años | AP10: 15 - 17 años | AR10: 18 - 19 años | AT10: 20 y más años
B11: Hombres | C11: Mujeres | D11: Hombres | E11: Mujeres | F11: Hombres | G11: Mujeres | H11: Hombres | I11: Mujeres | J11: Hombres | K11: Mujeres | L11: Hombres | M11: Mujeres | N11: Hombres | O11: Mujeres | P11: Hombres | Q11: Mujeres | R11: Hombres | S11: Mujeres | T11: Hombres | U11: Mujeres | V11: Hombres | W11: Mujeres | X11: Hombres | Y11: Mujeres | AA11: Sistema | AB11: Extrasistema | AC11: Hombres | AD11: Mujeres | AE11: Hombres | AF11: Mujeres | AG11: Hombres | AH11: Mujeres | AI11: Hombres | AJ11: Mujeres | AL11: Sistema | AM11: Extrasistema | AN11: Hombres | AO11: Mujeres | AP11: Hombres | AQ11: Mujeres | AR11: Hombres | AS11: Mujeres | AT11: Hombres | AU11: Mujeres
A12: TOTAL | B12: =SUM(B13:B67) -> 6 | C12: =SUM(C13:C67) -> 24 | D12: =SUM(D13:D67) -> 1 | E12: =SUM(E13:E67) -> 4 | F12: =SUM(F13:F67) -> 0 | G12: =SUM(G13:G67) -> 0 | H12: =SUM(H13:H67) -> 12 | I12: =SUM(I13:I67) -> 39 | ... AU12: =SUM(AU13:AU67) -> 0
A13: Pediatría | B13: 1 | C13: 8 | E13: 1 | R13: =SUM(B13+J13) -> 1 | S13: =SUM(C13+K13) -> 8 | T13: =SUM(D13+L13) -> 0 | U13: =SUM(E13+M13) -> 1 | V13: =SUM(F13+N13) -> 0 | W13: =SUM(G13+O13) -> 0 | X13: =SUM(H13+P13) -> 0 | Y13: =SUM(I13+Q13) -> 0 | Z13: 10
A14: Medicina interna | H14: 3 | I14: 4 | R14: =SUM(B14+J14) -> 0 | S14: =SUM(C14+K14) -> 0 | T14: =SUM(D14+L14) -> 0 | U14: =SUM(E14+M14) -> 0 | V14: =SUM(F14+N14) -> 0 | W14: =SUM(G14+O14) -> 0 | X14: =SUM(H14+P14) -> 3 | Y14: =SUM(I14+Q14) -> 4 | Z14: 7
A15: Neonatología | R15: =SUM(B15+J15) -> 0 | S15: =SUM(C15+K15) -> 0 | T15: =SUM(D15+L15) -> 0 | U15: =SUM(E15+M15) -> 0 | V15: =SUM(F15+N15) -> 0 | W15: =SUM(G15+O15) -> 0 | X15: =SUM(H15+P15) -> 0 | Y15: =SUM(I15+Q15) -> 0
A16: Enfermedad respiratoria pediátrica (Brocopulmonar infantil) | R16: =SUM(B16+J16) -> 0 | S16: =SUM(C16+K16) -> 0 | T16: =SUM(D16+L16) -> 0 | U16: =SUM(E16+M16) -> 0 | V16: =SUM(F16+N16) -> 0 | W16: =SUM(G16+O16) -> 0 | X16: =SUM(H16+P16) -> 0 | Y16: =SUM(I16+Q16) -> 0
A17: Enfermedad respiratoria de adulto (Broncopulmonar) | H17: 2 | I17: 3 | R17: =SUM(B17+J17) -> 0 | S17: =SUM(C17+K17) -> 0 | T17: =SUM(D17+L17) -> 0 | U17: =SUM(E17+M17) -> 0 | V17: =SUM(F17+N17) -> 0 | W17: =SUM(G17+O17) -> 0 | X17: =SUM(H17+P17) -> 2 | Y17: =SUM(I17+Q17) -> 3 | Z17: 5
A18: Cardiología | B18: 2 | C18: 5 | D18: 1 | E18: 0 | R18: =SUM(B18+J18) -> 2 | S18: =SUM(C18+K18) -> 5 | T18: =SUM(D18+L18) -> 1 | U18: =SUM(E18+M18) -> 0 | V18: =SUM(F18+N18) -> 0 | W18: =SUM(G18+O18) -> 0 | X18: =SUM(H18+P18) -> 0 | Y18: =SUM(I18+Q18) -> 0 | Z18: 8
A19: Mastología | R19: =SUM(B19+J19) -> 0 | S19: =SUM(C19+K19) -> 0 | T19: =SUM(D19+L19) -> 0 | U19: =SUM(E19+M19) -> 0 | V19: =SUM(F19+N19) -> 0 | W19: =SUM(G19+O19) -> 0 | X19: =SUM(H19+P19) -> 0 | Y19: =SUM(I19+Q19) -> 0
A20: Endocrinología pediátrica | R20: =SUM(B20+J20) -> 0 | S20: =SUM(C20+K20) -> 0 | T20: =SUM(D20+L20) -> 0 | U20: =SUM(E20+M20) -> 0 | V20: =SUM(F20+N20) -> 0 | W20: =SUM(G20+O20) -> 0 | X20: =SUM(H20+P20) -> 0 | Y20: =SUM(I20+Q20) -> 0
A21: Endocrinología adulto | R21: =SUM(B21+J21) -> 0 | S21: =SUM(C21+K21) -> 0 | T21: =SUM(D21+L21) -> 0 | U21: =SUM(E21+M21) -> 0 | V21: =SUM(F21+N21) -> 0 | W21: =SUM(G21+O21) -> 0 | X21: =SUM(H21+P21) -> 0 | Y21: =SUM(I21+Q21) -> 0
A22: Gastroenterología pediátrica | R22: =SUM(B22+J22) -> 0 | S22: =SUM(C22+K22) -> 0 | T22: =SUM(D22+L22) -> 0 | U22: =SUM(E22+M22) -> 0 | V22: =SUM(F22+N22) -> 0 | W22: =SUM(G22+O22) -> 0 | X22: =SUM(H22+P22) -> 0 | Y22: =SUM(I22+Q22) -> 0
A23: Gastroenterología adulto | R23: =SUM(B23+J23) -> 0 | S23: =SUM(C23+K23) -> 0 | T23: =SUM(D23+L23) -> 0 | U23: =SUM(E23+M23) -> 0 | V23: =SUM(F23+N23) -> 0 | W23: =SUM(G23+O23) -> 0 | X23: =SUM(H23+P23) -> 0 | Y23: =SUM(I23+Q23) -> 0
A24: Genética clínica | R24: =SUM(B24+J24) -> 0 | S24: =SUM(C24+K24) -> 0 | T24: =SUM(D24+L24) -> 0 | U24: =SUM(E24+M24) -> 0 | V24: =SUM(F24+N24) -> 0 | W24: =SUM(G24+O24) -> 0 | X24: =SUM(H24+P24) -> 0 | Y24: =SUM(I24+Q24) -> 0
A25: Hematología | R25: =SUM(B25+J25) -> 0 | S25: =SUM(C25+K25) -> 0 | T25: =SUM(D25+L25) -> 0 | U25: =SUM(E25+M25) -> 0 | V25: =SUM(F25+N25) -> 0 | W25: =SUM(G25+O25) -> 0 | X25: =SUM(H25+P25) -> 0 | Y25: =SUM(I25+Q25) -> 0
A26: Medicina del adolescente | R26: =SUM(B26+J26) -> 0 | S26: =SUM(C26+K26) -> 0 | T26: =SUM(D26+L26) -> 0 | U26: =SUM(E26+M26) -> 0 | V26: =SUM(F26+N26) -> 0 | W26: =SUM(G26+O26) -> 0 | X26: =SUM(H26+P26) -> 0 | Y26: =SUM(I26+Q26) -> 0
A27: Nefrología pediátrica | R27: =SUM(B27+J27) -> 0 | S27: =SUM(C27+K27) -> 0 | T27: =SUM(D27+L27) -> 0 | U27: =SUM(E27+M27) -> 0 | V27: =SUM(F27+N27) -> 0 | W27: =SUM(G27+O27) -> 0 | X27: =SUM(H27+P27) -> 0 | Y27: =SUM(I27+Q27) -> 0
A28: Nefrología adulto | R28: =SUM(B28+J28) -> 0 | S28: =SUM(C28+K28) -> 0 | T28: =SUM(D28+L28) -> 0 | U28: =SUM(E28+M28) -> 0 | V28: =SUM(F28+N28) -> 0 | W28: =SUM(G28+O28) -> 0 | X28: =SUM(H28+P28) -> 0 | Y28: =SUM(I28+Q28) -> 0
A29: Nutrición clínica | R29: =SUM(B29+J29) -> 0 | S29: =SUM(C29+K29) -> 0 | T29: =SUM(D29+L29) -> 0 | U29: =SUM(E29+M29) -> 0 | V29: =SUM(F29+N29) -> 0 | W29: =SUM(G29+O29) -> 0 | X29: =SUM(H29+P29) -> 0 | Y29: =SUM(I29+Q29) -> 0
A30: Medicina Materno Infantil | R30: =SUM(B30+J30) -> 0 | S30: =SUM(C30+K30) -> 0 | T30: =SUM(D30+L30) -> 0 | U30: =SUM(E30+M30) -> 0 | V30: =SUM(F30+N30) -> 0 | W30: =SUM(G30+O30) -> 0 | X30: =SUM(H30+P30) -> 0 | Y30: =SUM(I30+Q30) -> 0
... A32: Medicina Paliativa y Manejo del Dolor | R32: =SUM(B32+J32) -> 0 | S32: =SUM(C32+K32) -> 0 | T32: =SUM(D32+L32) -> 0 | U32: =SUM(E32+M32) -> 0 | V32: =SUM(F32+N32) -> 0 | W32: =SUM(G32+O32) -> 0 | X32: =SUM(H32+P32) -> 0 | Y32: =SUM(I32+Q32) -> 0
A33: Dermatología | H33: 4 | I33: 7 | R33: =SUM(B33+J33) -> 0 | S33: =SUM(C33+K33) -> 0 | T33: =SUM(D33+L33) -> 0 | U33: =SUM(E33+M33) -> 0 | V33: =SUM(F33+N33) -> 0 | W33: =SUM(G33+O33) -> 0 | X33: =SUM(H33+P33) -> 4 | Y33: =SUM(I33+Q33) -> 7 | Z33: 11
A34: Infectología | R34: =SUM(B34+J34) -> 0 | S34: =SUM(C34+K34) -> 0 | T34: =SUM(D34+L34) -> 0 | U34: =SUM(E34+M34) -> 0 | V34: =SUM(F34+N34) -> 0 | W34: =SUM(G34+O34) -> 0 | X34: =SUM(H34+P34) -> 0 | Y34: =SUM(I34+Q34) -> 0
A35: Inmunología | R35: =SUM(B35+J35) -> 0 | S35: =SUM(C35+K35) -> 0 | T35: =SUM(D35+L35) -> 0 | U35: =SUM(E35+M35) -> 0 | V35: =SUM(F35+N35) -> 0 | W35: =SUM(G35+O35) -> 0 | X35: =SUM(H35+P35) -> 0 | Y35: =SUM(I35+Q35) -> 0
A36: Geriatría | R36: =SUM(B36+J36) -> 0 | S36: =SUM(C36+K36) -> 0 | T36: =SUM(D36+L36) -> 0 | U36: =SUM(E36+M36) -> 0 | V36: =SUM(F36+N36) -> 0 | W36: =SUM(G36+O36) -> 0 | X36: =SUM(H36+P36) -> 0 | Y36: =SUM(I36+Q36) -> 0
A37: Medicina Física y Rehabilitación | R37: =SUM(B37+J37) -> 0 | S37: =SUM(C37+K37) -> 0 | T37: =SUM(D37+L37) -> 0 | U37: =SUM(E37+M37) -> 0 | V37: =SUM(F37+N37) -> 0 | W37: =SUM(G37+O37) -> 0 | X37: =SUM(H37+P37) -> 0 | Y37: =SUM(I37+Q37) -> 0
A38: Medicina Reproductiva e Infertilidad | R38: =SUM(B38+J38) -> 0 | S38: =SUM(C38+K38) -> 0 | T38: =SUM(D38+L38) -> 0 | U38: =SUM(E38+M38) -> 0 | V38: =SUM(F38+N38) -> 0 | W38: =SUM(G38+O38) -> 0 | X38: =SUM(H38+P38) -> 0 | Y38: =SUM(I38+Q38) -> 0
A39: Neurología pediátrica | B39: 1 | R39: =SUM(B39+J39) -> 1 | S39: =SUM(C39+K39) -> 0 | T39: =SUM(D39+L39) -> 0 | U39: =SUM(E39+M39) -> 0 | V39: =SUM(F39+N39) -> 0 | W39: =SUM(G39+O39) -> 0 | X39: =SUM(H39+P39) -> 0 | Y39: =SUM(I39+Q39) -> 0 | Z39: 1
A40: Neurología adulto | R40: =SUM(B40+J40) -> 0 | S40: =SUM(C40+K40) -> 0 | T40: =SUM(D40+L40) -> 0 | U40: =SUM(E40+M40) -> 0 | V40: =SUM(F40+N40) -> 0 | W40: =SUM(G40+O40) -> 0 | X40: =SUM(H40+P40) -> 0 | Y40: =SUM(I40+Q40) -> 0
A41: Oncología médica | R41: =SUM(B41+J41) -> 0 | S41: =SUM(C41+K41) -> 0 | T41: =SUM(D41+L41) -> 0 | U41: =SUM(E41+M41) -> 0 | V41: =SUM(F41+N41) -> 0 | W41: =SUM(G41+O41) -> 0 | X41: =SUM(H41+P41) -> 0 | Y41: =SUM(I41+Q41) -> 0
A42: Psiquiatría pediátrica y de la adolescencia | R42: =SUM(B42+J42) -> 0 | S42: =SUM(C42+K42) -> 0 | T42: =SUM(D42+L42) -> 0 | U42: =SUM(E42+M42) -> 0 | V42: =SUM(F42+N42) -> 0 | W42: =SUM(G42+O42) -> 0 | X42: =SUM(H42+P42) -> 0 | Y42: =SUM(I42+Q42) -> 0
A43: Psiquiatría adulto | I43: 1 | R43: =SUM(B43+J43) -> 0 | S43: =SUM(C43+K43) -> 0 | T43: =SUM(D43+L43) -> 0 | U43: =SUM(E43+M43) -> 0 | V43: =SUM(F43+N43) -> 0 | W43: =SUM(G43+O43) -> 0 | X43: =SUM(H43+P43) -> 0 | Y43: =SUM(I43+Q43) -> 1 | Z43: 1
A44: Cirugía pediátrica | R44: =SUM(B44+J44) -> 0 | S44: =SUM(C44+K44) -> 0 | T44: =SUM(D44+L44) -> 0 | U44: =SUM(E44+M44) -> 0 | V44: =SUM(F44+N44) -> 0 | W44: =SUM(G44+O44) -> 0 | X44: =SUM(H44+P44) -> 0 | Y44: =SUM(I44+Q44) -> 0
A45: Cirugía General | H45: 1 | I45: 4 | R45: =SUM(B45+J45) -> 0 | S45: =SUM(C45+K45) -> 0 | T45: =SUM(D45+L45) -> 0 | U45: =SUM(E45+M45) -> 0 | V45: =SUM(F45+N45) -> 0 | W45: =SUM(G45+O45) -> 0 | X45: =SUM(H45+P45) -> 1 | Y45: =SUM(I45+Q45) -> 4 | Z45: 5
A46: Cirugía digestiva (alta) | R46: =SUM(B46+J46) -> 0 | S46: =SUM(C46+K46) -> 0 | T46: =SUM(D46+L46) -> 0 | U46: =SUM(E46+M46) -> 0 | V46: =SUM(F46+N46) -> 0 | W46: =SUM(G46+O46) -> 0 | X46: =SUM(H46+P46) -> 0 | Y46: =SUM(I46+Q46) -> 0
A47: Cirugía de cabeza, cuello y maxilofacial | R47: =SUM(B47+J47) -> 0 | S47: =SUM(C47+K47) -> 0 | T47: =SUM(D47+L47) -> 0 | U47: =SUM(E47+M47) -> 0 | V47: =SUM(F47+N47) -> 0 | W47: =SUM(G47+O47) -> 0 | X47: =SUM(H47+P47) -> 0 | Y47: =SUM(I47+Q47) -> 0
A48: Cirugía Plástica y Reparadora | R48: =SUM(B48+J48) -> 0 | S48: =SUM(C48+K48) -> 0 | T48: =SUM(D48+L48) -> 0 | U48: =SUM(E48+M48) -> 0 | V48: =SUM(F48+N48) -> 0 | W48: =SUM(G48+O48) -> 0 | X48: =SUM(H48+P48) -> 0 | Y48: =SUM(I48+Q48) -> 0
A49: Medicina del Deporte | R49: =SUM(B49+J49) -> 0 | S49: =SUM(C49+K49) -> 0 | T49: =SUM(D49+L49) -> 0 | U49: =SUM(E49+M49) -> 0 | V49: =SUM(F49+N49) -> 0 | W49: =SUM(G49+O49) -> 0 | X49: =SUM(H49+P49) -> 0 | Y49: =SUM(I49+Q49) -> 0
A50: Coloproctología (Cirugía digestiva baja) | R50: =SUM(B50+J50) -> 0 | S50: =SUM(C50+K50) -> 0 | T50: =SUM(D50+L50) -> 0 | U50: =SUM(E50+M50) -> 0 | V50: =SUM(F50+N50) -> 0 | W50: =SUM(G50+O50) -> 0 | X50: =SUM(H50+P50) -> 0 | Y50: =SUM(I50+Q50) -> 0
A51: Cirugía tórax | R51: =SUM(B51+J51) -> 0 | S51: =SUM(C51+K51) -> 0 | T51: =SUM(D51+L51) -> 0 | U51: =SUM(E51+M51) -> 0 | V51: =SUM(F51+N51) -> 0 | W51: =SUM(G51+O51) -> 0 | X51: =SUM(H51+P51) -> 0 | Y51: =SUM(I51+Q51) -> 0
A52: Cirugía vascular periferica | R52: =SUM(B52+J52) -> 0 | S52: =SUM(C52+K52) -> 0 | T52: =SUM(D52+L52) -> 0 | U52: =SUM(E52+M52) -> 0 | V52: =SUM(F52+N52) -> 0 | W52: =SUM(G52+O52) -> 0 | X52: =SUM(H52+P52) -> 0 | Y52: =SUM(I52+Q52) -> 0
A53: Neurocirugía | R53: =SUM(B53+J53) -> 0 | S53: =SUM(C53+K53) -> 0 | T53: =SUM(D53+L53) -> 0 | U53: =SUM(E53+M53) -> 0 | V53: =SUM(F53+N53) -> 0 | W53: =SUM(G53+O53) -> 0 | X53: =SUM(H53+P53) -> 0 | Y53: =SUM(I53+Q53) -> 0
A54: Cirugía cardiovascular | R54: =SUM(B54+J54) -> 0 | S54: =SUM(C54+K54) -> 0 | T54: =SUM(D54+L54) -> 0 | U54: =SUM(E54+M54) -> 0 | V54: =SUM(F54+N54) -> 0 | W54: =SUM(G54+O54) -> 0 | X54: =SUM(H54+P54) -> 0 | Y54: =SUM(I54+Q54) -> 0
A55: Anestesiología | R55: =SUM(B55+J55) -> 0 | S55: =SUM(C55+K55) -> 0 | T55: =SUM(D55+L55) -> 0 | U55: =SUM(E55+M55) -> 0 | V55: =SUM(F55+N55) -> 0 | W55: =SUM(G55+O55) -> 0 | X55: =SUM(H55+P55) -> 0 | Y55: =SUM(I55+Q55) -> 0
A56: Obstetricia y Ginecología | C56: 10 | E56: 3 | I56: 18 | R56: =SUM(B56+J56) -> 0 | S56: =SUM(C56+K56) -> 10 | T56: =SUM(D56+L56) -> 0 | U56: =SUM(E56+M56) -> 3 | V56: =SUM(F56+N56) -> 0 | W56: =SUM(G56+O56) -> 0 | X56: =SUM(H56+P56) -> 0 | Y56: =SUM(I56+Q56) -> 18 | Z56: 31
A57: Ginecología oncológica | R57: =SUM(B57+J57) -> 0 | S57: =SUM(C57+K57) -> 0 | T57: =SUM(D57+L57) -> 0 | U57: =SUM(E57+M57) -> 0 | V57: =SUM(F57+N57) -> 0 | W57: =SUM(G57+O57) -> 0 | X57: =SUM(H57+P57) -> 0 | Y57: =SUM(I57+Q57) -> 0
A58: Neurorradiologia | R58: =SUM(B58+J58) -> 0 | S58: =SUM(C58+K58) -> 0 | T58: =SUM(D58+L58) -> 0 | U58: =SUM(E58+M58) -> 0 | V58: =SUM(F58+N58) -> 0 | W58: =SUM(G58+O58) -> 0 | X58: =SUM(H58+P58) -> 0 | Y58: =SUM(I58+Q58) -> 0
A59: Oftalmología | R59: =SUM(B59+J59) -> 0 | S59: =SUM(C59+K59) -> 0 | T59: =SUM(D59+L59) -> 0 | U59: =SUM(E59+M59) -> 0 | V59: =SUM(F59+N59) -> 0 | W59: =SUM(G59+O59) -> 0 | X59: =SUM(H59+P59) -> 0 | Y59: =SUM(I59+Q59) -> 0
A60: Otorrinolaringología | R60: =SUM(B60+J60) -> 0 | S60: =SUM(C60+K60) -> 0 | T60: =SUM(D60+L60) -> 0 | U60: =SUM(E60+M60) -> 0 | V60: =SUM(F60+N60) -> 0 | W60: =SUM(G60+O60) -> 0 | X60: =SUM(H60+P60) -> 0 | Y60: =SUM(I60+Q60) -> 0
A61: Traumatología y Ortopedia | B61: 2 | C61: 1 | H61: 2 | I61: 2 | R61: =SUM(B61+J61) -> 2 | S61: =SUM(C61+K61) -> 1 | T61: =SUM(D61+L61) -> 0 | U61: =SUM(E61+M61) -> 0 | V61: =SUM(F61+N61) -> 0 | W61: =SUM(G61+O61) -> 0 | X61: =SUM(H61+P61) -> 2 | Y61: =SUM(I61+Q61) -> 2 | Z61: 7
A62: Urología | R62: =SUM(B62+J62) -> 0 | S62: =SUM(C62+K62) -> 0 | T62: =SUM(D62+L62) -> 0 | U62: =SUM(E62+M62) -> 0 | V62: =SUM(F62+N62) -> 0 | W62: =SUM(G62+O62) -> 0 | X62: =SUM(H62+P62) -> 0 | Y62: =SUM(I62+Q62) -> 0
A63: Medicina familiar | R63: =SUM(B63+J63) -> 0 | S63: =SUM(C63+K63) -> 0 | T63: =SUM(D63+L63) -> 0 | U63: =SUM(E63+M63) -> 0 | V63: =SUM(F63+N63) -> 0 | W63: =SUM(G63+O63) -> 0 | X63: =SUM(H63+P63) -> 0 | Y63: =SUM(I63+Q63) -> 0
A64: Diabetología | R64: =SUM(B64+J64) -> 0 | S64: =SUM(C64+K64) -> 0 | T64: =SUM(D64+L64) -> 0 | U64: =SUM(E64+M64) -> 0 | V64: =SUM(F64+N64) -> 0 | W64: =SUM(G64+O64) -> 0 | X64: =SUM(H64+P64) -> 0 | Y64: =SUM(I64+Q64) -> 0
A65: Medicina intensiva | R65: =SUM(B65+J65) -> 0 | S65: =SUM(C65+K65) -> 0 | T65: =SUM(D65+L65) -> 0 | U65: =SUM(E65+M65) -> 0 | V65: =SUM(F65+N65) -> 0 | W65: =SUM(G65+O65) -> 0 | X65: =SUM(H65+P65) -> 0 | Y65: =SUM(I65+Q65) -> 0
A66: Imagenología | R66: =SUM(B66+J66) -> 0 | S66: =SUM(C66+K66) -> 0 | T66: =SUM(D66+L66) -> 0 | U66: =SUM(E66+M66) -> 0 | V66: =SUM(F66+N66) -> 0 | W66: =SUM(G66+O66) -> 0 | X66: =SUM(H66+P66) -> 0 | Y66: =SUM(I66+Q66) -> 0
A67: Radioterapia oncológica | R67: =SUM(B67+J67) -> 0 | S67: =SUM(C67+K67) -> 0 | T67: =SUM(D67+L67) -> 0 | U67: =SUM(E67+M67) -> 0 | V67: =SUM(F67+N67) -> 0 | W67: =SUM(G67+O67) -> 0 | X67: =SUM(H67+P67) -> 0 | Y67: =SUM(I67+Q67) -> 0
A68: SECCIÓN B : TELEINTERCONSULTA MÉDICA EN ESTABLECIMIENTOS DE ATENCIÓN SECUNDARIA DE URGENCIA (ATENCIÓN MÉDICO A MÉDICO)
A69: Tipo de teleinterconsulta de urgencia | B69: Teleinterconsulta médica de urgencia en hospitales de alta y mediana complejidad | J69: Modalidad | M69: Teleinterconsultas solicitadas desde APS o Nivel Secundario para ser resueltas por otro establecimiento
B70: 0 - 14 años | D70: 15 - 17 años | F70: 18 - 19 años | H70: 20 y más años | J70: Institucional | K70: Compra de Servicio | M70: 0 - 14 años | O70: 15 - 17 años | Q70: 18 - 19 años | S70: 20 y más años
B71: Hombres | C71: Mujeres | D71: Hombres | E71: Mujeres | F71: Hombres | G71: Mujeres | H71: Hombres | I71: Mujeres | J71: Establecimiento de la Red | K71: Sistema | L71: Extrasistema | M71: Hombres | N71: Mujeres | O71: Hombres | P71: Mujeres | Q71: Hombres | R71: Mujeres | S71: Hombres | T71: Mujeres
A72: Consulta urgencia otros
A73: Accidente cerebro vascular (ACV) | S73: 6 | T73: 5
A74: Quemados
A75: SECCIÓN C : TELEINFORMES EN ESTABLECIMIENTOS DE ATENCIÓN PRIMARIA, SECUNDARIA Y TERCIARIA
A76: Teleinformes realizados | B76: Establecimientos del Nivel Primario de salud | M76: Establecimientos de Nivel Secundario y Terciario | X76: Total teleinformes realizados
B77: 0 - 14 años | D77: 15 - 17 años | F77: 18 - 19 años | H77: 20 y más años | J77: Modalidad | M77: 0 - 14 años | O77: 15 - 17 años | Q77: 18 - 19 años | S77: 20 y más años | U77: Modalidad
B78: Hombres | C78: Mujeres | D78: Hombres | E78: Mujeres | F78: Hombres | G78: Mujeres | H78: Hombres | I78: Mujeres | J78: Institucional | K78: Compra de Servicio | M78: Hombres | N78: Mujeres | O78: Hombres | P78: Mujeres | Q78: Hombres | R78: Mujeres | S78: Hombres | T78: Mujeres | U78: Institucional | V78: Compra de Servicio | X78: Teleinformes realizados por Inteligencia Artificial | Y78: Teleinformes realizados por Médico Especialista
K79: Sistema | L79: Extrasistema | V79: Sistema | W79: Extrasistema
A80: TOTAL EMISIONES DE INFORMES | B80: =B81+B82+B83+B84+B85+B86+B87+B88+B89+B92+B93 -> 0 | C80: =C81+C82+C83+C84+C85+C86+C87+C88+C89+C92+C93 -> 0 | D80: =D81+D82+D83+D84+D85+D86+D87+D88+D89+D92+D93 -> 0 | E80: =E81+E82+E83+E84+E85+E86+E87+E88+E89+E92+E93 -> 0 | F80: =F81+F82+F83+F84+F85+F86+F87+F88+F89+F92+F93 -> 0 | G80: =G81+G82+G83+G84+G85+G86+G87+G88+G89+G92+G93 -> 0 | H80: =H81+H82+H83+H84+H85+H86+H87+H88+H89+H92+H93 -> 0 | I80: =I81+I82+I83+I84+I85+I86+I87+I88+I89+I92+I93 -> 0 | ... L80: =L81+L82+L83+L84+L85+L86+L87+L88+L89+L92+L93 -> 0 | M80: =SUM(M81:M93) -> 60 | N80: =SUM(N81:N93) -> 36 | O80: =SUM(O81:O93) -> 32 | P80: =SUM(P81:P93) -> 18 | Q80: =SUM(Q81:Q93) -> 16 | R80: =SUM(R81:R93) -> 6 | S80: =SUM(S81:S93) -> 645 | T80: =SUM(T81:T93) -> 593 | ... Y80: =SUM(Y81:Y93) -> 0
A81: Nº de informes Ecografías obstétricas
A82: Nº de informes Electrocardiograma
A83: Nº de informes Electroencefalograma
A84: Nº de informes Espirometrías
A85: Nº de informes Fondo de ojo (excluye resolutividad)
A86: Nº de informes Holter de presión arterial
A87: Nº de informes Test de esfuerzo
A88: Nº de informes radiografías simples
A89: Nº de informes radiografías dentales
A90: Nº de informes de Tomografía axial computarizada | M90: 60 | N90: 36 | O90: 32 | P90: 18 | Q90: 16 | R90: 6 | S90: 645 | T90: 593 | W90: 1406
A91: Nº de informes de Resonancia magnética nuclear
A92: Nº de informes Ecografías abdominal
A93: N° de mamografía
A94: SECCIÓN D: TELEINTERCONSULTA ODONTOLÓGICA
A95: Especialidades odontológicas | B95: Teleinterconsulta de especialidad odontológica ambulatoria nueva | J95: Teleinterconsulta de especialidad odontológica ambulatoria control | R95: TOTAL TELEINTERCONSULTAS AMBULATORIAS DE ESPECIALIDAD ODONTOLÓGICA | Z95: Modalidad | AC95: Solicitud de teleinterconsulta de especialidad odontológica
B96: 0 - 14 años | D96: 15 - 17 años | F96: 18 - 19 años | H96: 20 y más años | J96: 0 - 14 años | L96: 15 - 17 años | N96: 18 - 19 años | P96: 20 y más años | R96: 0 - 14 años | T96: 15 - 17 años | V96: 18 - 19 años | X96: 20 y más años | Z96: Institucional | AA96: Compra de Servicio | AC96: 0 - 14 años | AE96: 15 - 17 años | AG96: 18-19 años | AI96: 20 y más años
B97: Hombres | C97: Mujeres | D97: Hombres | E97: Mujeres | F97: Hombres | G97: Mujeres | H97: Hombres | I97: Mujeres | J97: Hombres | K97: Mujeres | L97: Hombres | M97: Mujeres | N97: Hombres | O97: Mujeres | P97: Hombres | Q97: Mujeres | R97: Hombres | S97: Mujeres | T97: Hombres | U97: Mujeres | V97: Hombres | W97: Mujeres | X97: Hombres | Y97: Mujeres | Z97: Establecimiento de la Red | AA97: Sistema | AB97: Extrasistema | AC97: Hombres | AD97: Mujeres | AE97: Hombres | AF97: Mujeres | AG97: Hombres | AH97: Mujeres | AI97: Hombres | AJ97: Mujeres
A98: TOTAL | B98: =SUM(B99:B108) -> 0 | C98: =SUM(C99:C108) -> 1 | D98: =SUM(D99:D108) -> 0 | E98: =SUM(E99:E108) -> 0 | F98: =SUM(F99:F108) -> 0 | G98: =SUM(G99:G108) -> 0 | H98: =SUM(H99:H108) -> 0 | I98: =SUM(I99:I108) -> 2 | ... AJ98: =SUM(AJ99:AJ108) -> 0
A99: Cirugía y traumatología maxilofacial | R99: =+B99+J99 -> 0 | S99: =+C99+K99 -> 0 | T99: =+D99+L99 -> 0 | U99: =+E99+M99 -> 0 | V99: =+F99+N99 -> 0 | W99: =+G99+O99 -> 0 | X99: =+H99+P99 -> 0 | Y99: =+I99+Q99 -> 0
A100: Endodoncia | R100: =+B100+J100 -> 0 | S100: =+C100+K100 -> 0 | T100: =+D100+L100 -> 0 | U100: =+E100+M100 -> 0 | V100: =+F100+N100 -> 0 | W100: =+G100+O100 -> 0 | X100: =+H100+P100 -> 0 | Y100: =+I100+Q100 -> 0
A101: Odontopediatría | R101: =+B101+J101 -> 0 | S101: =+C101+K101 -> 0 | T101: =+D101+L101 -> 0 | U101: =+E101+M101 -> 0 | V101: =+F101+N101 -> 0 | W101: =+G101+O101 -> 0 | X101: =+H101+P101 -> 0 | Y101: =+I101+Q101 -> 0
A102: Ortodoncia y ortopedia dento maxilofacial | R102: =+B102+J102 -> 0 | S102: =+C102+K102 -> 0 | T102: =+D102+L102 -> 0 | U102: =+E102+M102 -> 0 | V102: =+F102+N102 -> 0 | W102: =+G102+O102 -> 0 | X102: =+H102+P102 -> 0 | Y102: =+I102+Q102 -> 0
...

Sheet MARZO
A1: SERVICIO DE SALUD
A2: =CONCATENATE("COMUNA: ",[4]NOMBRE!B2, " (",[4]NOMBRE!C2,[4]NOMBRE!D2,[4]NOMBRE!E2,[4]NOMBRE!F2,[4]NOMBRE!G2,")") -> COMUNA: LINARES (07401)
A3: =CONCATENATE("ESTABLECIMIENTO/ESTRATEGIA: ", [4]NOMBRE!B3, " (",[4]NOMBRE!C3,[4]NOMBRE!D3,[4]NOMBRE!E3,[4]NOMBRE!F3,[4]NOMBRE!G3,[4]NOMBRE!H3,")") -> ESTABLECIMIENTO/ESTRATEGIA: HOSPITAL PRESIDENTE CARLOS IBAÑEZ DEL CAMPO (116108)
A4: =CONCATENATE("MES: ",[4]NOMBRE!B6, " (",[4]NOMBRE!C6,[4]NOMBRE!D6,")") -> MES: MARZO (03)
A5: =CONCATENATE("AÑO: ",[4]NOMBRE!B7) -> AÑO: 2025
A6: REM-30. ATENCIONES POR TELEMEDICINA EN LA RED ASISTENCIAL
A8: SECCIÓN A: TELEINTERCONSULTA DE ESPECIALIDAD (ATENCION REALIZADA DE MÉDICO A MÉDICO)
A9: Especialidades | B9: Teleinterconsulta médica de especialidad ambulatoria nueva | J9: Teleinterconsulta médica de especialidad ambulatoria control | R9: TOTAL TELEINTERCONSULTAS MEDICAS AMBULATORIAS DE ESPECIALIDAD | Z9: Modalidad | AC9: Teleinterconsulta medicina de especialidad realizadas a pacientes hospitalizados | AK9: Modalidad | AN9: Teleinterconsultas solicitadas desde APS o Nivel Secundario para ser resueltas por otro establecimiento
B10: 0 - 14 años | D10: 15 - 17 años | F10: 18-19 años | H10: 20 y más años | J10: 0 - 14 años | L10: 15 - 17 años | N10: 18 - 19 años | P10: 20 y más años | R10: 0 - 14 años | T10: 15 - 17 años | V10: 18- 19 años | X10: 20 y más años | Z10: Institucional | AA10: Compra de Servicio | AC10: 0 - 14 años | AE10: 15 - 17 años | AG10: 18 a 19 años | AI10: 20 y más años | AK10: Institucional | AL10: Compra de Servicio | AN10: 0 - 14 años | AP10: 15 - 17 años | AR10: 18 - 19 años | AT10: 20 y más años
B11: Hombres | C11: Mujeres | D11: Hombres | E11: Mujeres | F11: Hombres | G11: Mujeres | H11: Hombres | I11: Mujeres | J11: Hombres | K11: Mujeres | L11: Hombres | M11: Mujeres | N11: Hombres | O11: Mujeres | P11: Hombres | Q11: Mujeres | R11: Hombres | S11: Mujeres | T11: Hombres | U11: Mujeres | V11: Hombres | W11: Mujeres | X11: Hombres | Y11: Mujeres | AA11: Sistema | AB11: Extrasistema | AC11: Hombres | AD11: Mujeres | AE11: Hombres | AF11: Mujeres | AG11: Hombres | AH11: Mujeres | AI11: Hombres | AJ11: Mujeres | AL11: Sistema | AM11: Extrasistema | AN11: Hombres | AO11: Mujeres | AP11: Hombres | AQ11: Mujeres | AR11: Hombres | AS11: Mujeres | AT11: Hombres | AU11: Mujeres
A12: TOTAL | B12: =SUM(B13:B67) -> 5 | C12: =SUM(C13:C67) -> 6 | D12: =SUM(D13:D67) -> 0 | E12: =SUM(E13:E67) -> 0 | F12: =SUM(F13:F67) -> 0 | G12: =SUM(G13:G67) -> 6 | H12: =SUM(H13:H67) -> 12 | I12: =SUM(I13:I67) -> 65 | ... AU12: =SUM(AU13:AU67) -> 0
A13: Pediatría | B13: 4 | C13: 5 | R13: =SUM(B13+J13) -> 4 | S13: =SUM(C13+K13) -> 5 | T13: =SUM(D13+L13) -> 0 | U13: =SUM(E13+M13) -> 0 | V13: =SUM(F13+N13) -> 0 | W13: =SUM(G13+O13) -> 0 | X13: =SUM(H13+P13) -> 0 | Y13: =SUM(I13+Q13) -> 0 | Z13: 9
A14: Medicina interna | H14: 4 | I14: 6 | R14: =SUM(B14+J14) -> 0 | S14: =SUM(C14+K14) -> 0 | T14: =SUM(D14+L14) -> 0 | U14: =SUM(E14+M14) -> 0 | V14: =SUM(F14+N14) -> 0 | W14: =SUM(G14+O14) -> 0 | X14: =SUM(H14+P14) -> 4 | Y14: =SUM(I14+Q14) -> 6 | Z14: 10
A15: Neonatología | R15: =SUM(B15+J15) -> 0 | S15: =SUM(C15+K15) -> 0 | T15: =SUM(D15+L15) -> 0 | U15: =SUM(E15+M15) -> 0 | V15: =SUM(F15+N15) -> 0 | W15: =SUM(G15+O15) -> 0 | X15: =SUM(H15+P15) -> 0 | Y15: =SUM(I15+Q15) -> 0
A16: Enfermedad respiratoria pediátrica (Brocopulmonar infantil) | R16: =SUM(B16+J16) -> 0 | S16: =SUM(C16+K16) -> 0 | T16: =SUM(D16+L16) -> 0 | U16: =SUM(E16+M16) -> 0 | V16: =SUM(F16+N16) -> 0 | W16: =SUM(G16+O16) -> 0 | X16: =SUM(H16+P16) -> 0 | Y16: =SUM(I16+Q16) -> 0
A17: Enfermedad respiratoria de adulto (Broncopulmonar) | G17: 1 | H17: 1 | I17: 2 | R17: =SUM(B17+J17) -> 0 | S17: =SUM(C17+K17) -> 0 | T17: =SUM(D17+L17) -> 0 | U17: =SUM(E17+M17) -> 0 | V17: =SUM(F17+N17) -> 0 | W17: =SUM(G17+O17) -> 1 | X17: =SUM(H17+P17) -> 1 | Y17: =SUM(I17+Q17) -> 2 | Z17: 4
A18: Cardiología | B18: 1 | H18: 1 | I18: 1 | R18: =SUM(B18+J18) -> 1 | S18: =SUM(C18+K18) -> 0 | T18: =SUM(D18+L18) -> 0 | U18: =SUM(E18+M18) -> 0 | V18: =SUM(F18+N18) -> 0 | W18: =SUM(G18+O18) -> 0 | X18: =SUM(H18+P18) -> 1 | Y18: =SUM(I18+Q18) -> 1 | Z18: 3
A19: Mastología | R19: =SUM(B19+J19) -> 0 | S19: =SUM(C19+K19) -> 0 | T19: =SUM(D19+L19) -> 0 | U19: =SUM(E19+M19) -> 0 | V19: =SUM(F19+N19) -> 0 | W19: =SUM(G19+O19) -> 0 | X19: =SUM(H19+P19) -> 0 | Y19: =SUM(I19+Q19) -> 0
A20: Endocrinología pediátrica | R20: =SUM(B20+J20) -> 0 | S20: =SUM(C20+K20) -> 0 | T20: =SUM(D20+L20) -> 0 | U20: =SUM(E20+M20) -> 0 | V20: =SUM(F20+N20) -> 0 | W20: =SUM(G20+O20) -> 0 | X20: =SUM(H20+P20) -> 0 | Y20: =SUM(I20+Q20) -> 0
A21: Endocrinología adulto | H21: 1 | I21: 1 | R21: =SUM(B21+J21) -> 0 | S21: =SUM(C21+K21) -> 0 | T21: =SUM(D21+L21) -> 0 | U21: =SUM(E21+M21) -> 0 | V21: =SUM(F21+N21) -> 0 | W21: =SUM(G21+O21) -> 0 | X21: =SUM(H21+P21) -> 1 | Y21: =SUM(I21+Q21) -> 1 | Z21: 2
A22: Gastroenterología pediátrica | R22: =SUM(B22+J22) -> 0 | S22: =SUM(C22+K22) -> 0 | T22: =SUM(D22+L22) -> 0 | U22: =SUM(E22+M22) -> 0 | V22: =SUM(F22+N22) -> 0 | W22: =SUM(G22+O22) -> 0 | X22: =SUM(H22+P22) -> 0 | Y22: =SUM(I22+Q22) -> 0
A23: Gastroenterología adulto | R23: =SUM(B23+J23) -> 0 | S23: =SUM(C23+K23) -> 0 | T23: =SUM(D23+L23) -> 0 | U23: =SUM(E23+M23) -> 0 | V23: =SUM(F23+N23) -> 0 | W23: =SUM(G23+O23) -> 0 | X23: =SUM(H23+P23) -> 0 | Y23: =SUM(I23+Q23) -> 0
A24: Genética clínica | R24: =SUM(B24+J24) -> 0 | S24: =SUM(C24+K24) -> 0 | T24: =SUM(D24+L24) -> 0 | U24: =SUM(E24+M24) -> 0 | V24: =SUM(F24+N24) -> 0 | W24: =SUM(G24+O24) -> 0 | X24: =SUM(H24+P24) -> 0 | Y24: =SUM(I24+Q24) -> 0
A25: Hematología | R25: =SUM(B25+J25) -> 0 | S25: =SUM(C25+K25) -> 0 | T25: =SUM(D25+L25) -> 0 | U25: =SUM(E25+M25) -> 0 | V25: =SUM(F25+N25) -> 0 | W25: =SUM(G25+O25) -> 0 | X25: =SUM(H25+P25) -> 0 | Y25: =SUM(I25+Q25) -> 0
A26: Medicina del adolescente | R26: =SUM(B26+J26) -> 0 | S26: =SUM(C26+K26) -> 0 | T26: =SUM(D26+L26) -> 0 | U26: =SUM(E26+M26) -> 0 | V26: =SUM(F26+N26) -> 0 | W26: =SUM(G26+O26) -> 0 | X26: =SUM(H26+P26) -> 0 | Y26: =SUM(I26+Q26) -> 0
A27: Nefrología pediátrica | R27: =SUM(B27+J27) -> 0 | S27: =SUM(C27+K27) -> 0 | T27: =SUM(D27+L27) -> 0 | U27: =SUM(E27+M27) -> 0 | V27: =SUM(F27+N27) -> 0 | W27: =SUM(G27+O27) -> 0 | X27: =SUM(H27+P27) -> 0 | Y27: =SUM(I27+Q27) -> 0
A28: Nefrología adulto | R28: =SUM(B28+J28) -> 0 | S28: =SUM(C28+K28) -> 0 | T28: =SUM(D28+L28) -> 0 | U28: =SUM(E28+M28) -> 0 | V28: =SUM(F28+N28) -> 0 | W28: =SUM(G28+O28) -> 0 | X28: =SUM(H28+P28) -> 0 | Y28: =SUM(I28+Q28) -> 0
A29: Nutrición clínica | R29: =SUM(B29+J29) -> 0 | S29: =SUM(C29+K29) -> 0 | T29: =SUM(D29+L29) -> 0 | U29: =SUM(E29+M29) -> 0 | V29: =SUM(F29+N29) -> 0 | W29: =SUM(G29+O29) -> 0 | X29: =SUM(H29+P29) -> 0 | Y29: =SUM(I29+Q29) -> 0
A30: Medicina Materno Infantil | R30: =SUM(B30+J30) -> 0 | S30: =SUM(C30+K30) -> 0 | T30: =SUM(D30+L30) -> 0 | U30: =SUM(E30+M30) -> 0 | V30: =SUM(F30+N30) -> 0 | W30: =SUM(G30+O30) -> 0 | X30: =SUM(H30+P30) -> 0 | Y30: =SUM(I30+Q30) -> 0
A31: Reumatología | R31: =SUM(B31+J31) -> 0 | S31: =SUM(C31+K31) -> 0 | T31: =SUM(D31+L31) -> 0 | U31: =SUM(E31+M31) -> 0 | V31: =SUM(F31+N31) -> 0 | W31: =SUM(G31+O31) -> 0 | X31: =SUM(H31+P31) -> 0 | Y31: =SUM(I31+Q31) -> 0
A32: Medicina Paliativa y Manejo del Dolor | R32: =SUM(B32+J32) -> 0 | S32: =SUM(C32+K32) -> 0 | T32: =SUM(D32+L32) -> 0 | U32: =SUM(E32+M32) -> 0 | V32: =SUM(F32+N32) -> 0 | W32: =SUM(G32+O32) -> 0 | X32: =SUM(H32+P32) -> 0 | Y32: =SUM(I32+Q32) -> 0
A33: Dermatología | H33: 1 | I33: 2 | R33: =SUM(B33+J33) -> 0 | S33: =SUM(C33+K33) -> 0 | T33: =SUM(D33+L33) -> 0 | U33: =SUM(E33+M33) -> 0 | V33: =SUM(F33+N33) -> 0 | W33: =SUM(G33+O33) -> 0 | X33: =SUM(H33+P33) -> 1 | Y33: =SUM(I33+Q33) -> 2 | Z33: 3
A34: Infectología | R34: =SUM(B34+J34) -> 0 | S34: =SUM(C34+K34) -> 0 | T34: =SUM(D34+L34) -> 0 | U34: =SUM(E34+M34) -> 0 | V34: =SUM(F34+N34) -> 0 | W34: =SUM(G34+O34) -> 0 | X34: =SUM(H34+P34) -> 0 | Y34: =SUM(I34+Q34) -> 0
A35: Inmunología | R35: =SUM(B35+J35) -> 0 | S35: =SUM(C35+K35) -> 0 | T35: =SUM(D35+L35) -> 0 | U35: =SUM(E35+M35) -> 0 | V35: =SUM(F35+N35) -> 0 | W35: =SUM(G35+O35) -> 0 | X35: =SUM(H35+P35) -> 0 | Y35: =SUM(I35+Q35) -> 0
A36: Geriatría | R36: =SUM(B36+J36) -> 0 | S36: =SUM(C36+K36) -> 0 | T36: =SUM(D36+L36) -> 0 | U36: =SUM(E36+M36) -> 0 | V36: =SUM(F36+N36) -> 0 | W36: =SUM(G36+O36) -> 0 | X36: =SUM(H36+P36) -> 0 | Y36: =SUM(I36+Q36) -> 0
A37: Medicina Física y Rehabilitación | R37: =SUM(B37+J37) -> 0 | S37: =SUM(C37+K37) -> 0 | T37: =SUM(D37+L37) -> 0 | U37: =SUM(E37+M37) -> 0 | V37: =SUM(F37+N37) -> 0 | W37: =SUM(G37+O37) -> 0 | X37: =SUM(H37+P37) -> 0 | Y37: =SUM(I37+Q37) -> 0
A38: Medicina Reproductiva e Infertilidad | R38: =SUM(B38+J38) -> 0 | S38: =SUM(C38+K38) -> 0 | T38: =SUM(D38+L38) -> 0 | U38: =SUM(E38+M38) -> 0 | V38: =SUM(F38+N38) -> 0 | W38: =SUM(G38+O38) -> 0 | X38: =SUM(H38+P38) -> 0 | Y38: =SUM(I38+Q38) -> 0
A39: Neurología pediátrica | R39: =SUM(B39+J39) -> 0 | S39: =SUM(C39+K39) -> 0 | T39: =SUM(D39+L39) -> 0 | U39: =SUM(E39+M39) -> 0 | V39: =SUM(F39+N39) -> 0 | W39: =SUM(G39+O39) -> 0 | X39: =SUM(H39+P39) -> 0 | Y39: =SUM(I39+Q39) -> 0
A40: Neurología adulto | R40: =SUM(B40+J40) -> 0 | S40: =SUM(C40+K40) -> 0 | T40: =SUM(D40+L40) -> 0 | U40: =SUM(E40+M40) -> 0 | V40: =SUM(F40+N40) -> 0 | W40: =SUM(G40+O40) -> 0 | X40: =SUM(H40+P40) -> 0 | Y40: =SUM(I40+Q40) -> 0
A41: Oncología médica | R41: =SUM(B41+J41) -> 0 | S41: =SUM(C41+K41) -> 0 | T41: =SUM(D41+L41) -> 0 | U41: =SUM(E41+M41) -> 0 | V41: =SUM(F41+N41) -> 0 | W41: =SUM(G41+O41) -> 0 | X41: =SUM(H41+P41) -> 0 | Y41: =SUM(I41+Q41) -> 0
A42: Psiquiatría pediátrica y de la adolescencia | R42: =SUM(B42+J42) -> 0 | S42: =SUM(C42+K42) -> 0 | T42: =SUM(D42+L42) -> 0 | U42: =SUM(E42+M42) -> 0 | V42: =SUM(F42+N42) -> 0 | W42: =SUM(G42+O42) -> 0 | X42: =SUM(H42+P42) -> 0 | Y42: =SUM(I42+Q42) -> 0
A43: Psiquiatría adulto | R43: =SUM(B43+J43) -> 0 | S43: =SUM(C43+K43) -> 0 | T43: =SUM(D43+L43) -> 0 | U43: =SUM(E43+M43) -> 0 | V43: =SUM(F43+N43) -> 0 | W43: =SUM(G43+O43) -> 0 | X43: =SUM(H43+P43) -> 0 | Y43: =SUM(I43+Q43) -> 0
A44: Cirugía pediátrica | R44: =SUM(B44+J44) -> 0 | S44: =SUM(C44+K44) -> 0 | T44: =SUM(D44+L44) -> 0 | U44: =SUM(E44+M44) -> 0 | V44: =SUM(F44+N44) -> 0 | W44: =SUM(G44+O44) -> 0 | X44: =SUM(H44+P44) -> 0 | Y44: =SUM(I44+Q44) -> 0
A45: Cirugía General | H45: 4 | I45: 10 | R45: =SUM(B45+J45) -> 0 | S45: =SUM(C45+K45) -> 0 | T45: =SUM(D45+L45) -> 0 | U45: =SUM(E45+M45) -> 0 | V45: =SUM(F45+N45) -> 0 | W45: =SUM(G45+O45) -> 0 | X45: =SUM(H45+P45) -> 4 | Y45: =SUM(I45+Q45) -> 10 | Z45: 14
A46: Cirugía digestiva (alta) | R46: =SUM(B46+J46) -> 0 | S46: =SUM(C46+K46) -> 0 | T46: =SUM(D46+L46) -> 0 | U46: =SUM(E46+M46) -> 0 | V46: =SUM(F46+N46) -> 0 | W46: =SUM(G46+O46) -> 0 | X46: =SUM(H46+P46) -> 0 | Y46: =SUM(I46+Q46) -> 0
A47: Cirugía de cabeza, cuello y maxilofacial | R47: =SUM(B47+J47) -> 0 | S47: =SUM(C47+K47) -> 0 | T47: =SUM(D47+L47) -> 0 | U47: =SUM(E47+M47) -> 0 | V47: =SUM(F47+N47) -> 0 | W47: =SUM(G47+O47) -> 0 | X47: =SUM(H47+P47) -> 0 | Y47: =SUM(I47+Q47) -> 0
A48: Cirugía Plástica y Reparadora | R48: =SUM(B48+J48) -> 0 | S48: =SUM(C48+K48) -> 0 | T48: =SUM(D48+L48) -> 0 | U48: =SUM(E48+M48) -> 0 | V48: =SUM(F48+N48) -> 0 | W48: =SUM(G48+O48) -> 0 | X48: =SUM(H48+P48) -> 0 | Y48: =SUM(I48+Q48) -> 0
A49: Medicina del Deporte | R49: =SUM(B49+J49) -> 0 | S49: =SUM(C49+K49) -> 0 | T49: =SUM(D49+L49) -> 0 | U49: =SUM(E49+M49) -> 0 | V49: =SUM(F49+N49) -> 0 | W49: =SUM(G49+O49) -> 0 | X49: =SUM(H49+P49) -> 0 | Y49: =SUM(I49+Q49) -> 0
A50: Coloproctología (Cirugía digestiva baja) | R50: =SUM(B50+J50) -> 0 | S50: =SUM(C50+K50) -> 0 | T50: =SUM(D50+L50) -> 0 | U50: =SUM(E50+M50) -> 0 | V50: =SUM(F50+N50) -> 0 | W50: =SUM(G50+O50) -> 0 | X50: =SUM(H50+P50) -> 0 | Y50: =SUM(I50+Q50) -> 0
A51: Cirugía tórax | R51: =SUM(B51+J51) -> 0 | S51: =SUM(C51+K51) -> 0 | T51: =SUM(D51+L51) -> 0 | U51: =SUM(E51+M51) -> 0 | V51: =SUM(F51+N51) -> 0 | W51: =SUM(G51+O51) -> 0 | X51: =SUM(H51+P51) -> 0 | Y51: =SUM(I51+Q51) -> 0
A52: Cirugía vascular periferica | R52: =SUM(B52+J52) -> 0 | S52: =SUM(C52+K52) -> 0 | T52: =SUM(D52+L52) -> 0 | U52: =SUM(E52+M52) -> 0 | V52: =SUM(F52+N52) -> 0 | W52: =SUM(G52+O52) -> 0 | X52: =SUM(H52+P52) -> 0 | Y52: =SUM(I52+Q52) -> 0
A53: Neurocirugía | R53: =SUM(B53+J53) -> 0 | S53: =SUM(C53+K53) -> 0 | T53: =SUM(D53+L53) -> 0 | U53: =SUM(E53+M53) -> 0 | V53: =SUM(F53+N53) -> 0 | W53: =SUM(G53+O53) -> 0 | X53: =SUM(H53+P53) -> 0 | Y53: =SUM(I53+Q53) -> 0
A54: Cirugía cardiovascular | R54: =SUM(B54+J54) -> 0 | S54: =SUM(C54+K54) -> 0 | T54: =SUM(D54+L54) -> 0 | U54: =SUM(E54+M54) -> 0 | V54: =SUM(F54+N54) -> 0 | W54: =SUM(G54+O54) -> 0 | X54: =SUM(H54+P54) -> 0 | Y54: =SUM(I54+Q54) -> 0
A55: Anestesiología | R55: =SUM(B55+J55) -> 0 | S55: =SUM(C55+K55) -> 0 | T55: =SUM(D55+L55) -> 0 | U55: =SUM(E55+M55) -> 0 | V55: =SUM(F55+N55) -> 0 | W55: =SUM(G55+O55) -> 0 | X55: =SUM(H55+P55) -> 0 | Y55: =SUM(I55+Q55) -> 0
A56: Obstetricia y Ginecología | C56: 1 | G56: 5 | I56: 42 | R56: =SUM(B56+J56) -> 0 | S56: =SUM(C56+K56) -> 1 | T56: =SUM(D56+L56) -> 0 | U56: =SUM(E56+M56) -> 0 | V56: =SUM(F56+N56) -> 0 | W56: =SUM(G56+O56) -> 5 | X56: =SUM(H56+P56) -> 0 | Y56: =SUM(I56+Q56) -> 42 | Z56: 48
A57: Ginecología oncológica | R57: =SUM(B57+J57) -> 0 | S57: =SUM(C57+K57) -> 0 | T57: =SUM(D57+L57) -> 0 | U57: =SUM(E57+M57) -> 0 | V57: =SUM(F57+N57) -> 0 | W57: =SUM(G57+O57) -> 0 | X57: =SUM(H57+P57) -> 0 | Y57: =SUM(I57+Q57) -> 0
A58: Neurorradiologia | R58: =SUM(B58+J58) -> 0 | S58: =SUM(C58+K58) -> 0 | T58: =SUM(D58+L58) -> 0 | U58: =SUM(E58+M58) -> 0 | V58: =SUM(F58+N58) -> 0 | W58: =SUM(G58+O58) -> 0 | X58: =SUM(H58+P58) -> 0 | Y58: =SUM(I58+Q58) -> 0
A59: Oftalmología | R59: =SUM(B59+J59) -> 0 | S59: =SUM(C59+K59) -> 0 | T59: =SUM(D59+L59) -> 0 | U59: =SUM(E59+M59) -> 0 | V59: =SUM(F59+N59) -> 0 | W59: =SUM(G59+O59) -> 0 | X59: =SUM(H59+P59) -> 0 | Y59: =SUM(I59+Q59) -> 0
A60: Otorrinolaringología | R60: =SUM(B60+J60) -> 0 | S60: =SUM(C60+K60) -> 0 | T60: =SUM(D60+L60) -> 0 | U60: =SUM(E60+M60) -> 0 | V60: =SUM(F60+N60) -> 0 | W60: =SUM(G60+O60) -> 0 | X60: =SUM(H60+P60) -> 0 | Y60: =SUM(I60+Q60) -> 0
A61: Traumatología y Ortopedia | I61: 1 | R61: =SUM(B61+J61) -> 0 | S61: =SUM(C61+K61) -> 0 | T61: =SUM(D61+L61) -> 0 | U61: =SUM(E61+M61) -> 0 | V61: =SUM(F61+N61) -> 0 | W61: =SUM(G61+O61) -> 0 | X61: =SUM(H61+P61) -> 0 | Y61: =SUM(I61+Q61) -> 1 | Z61: 1
A62: Urología | R62: =SUM(B62+J62) -> 0 | S62: =SUM(C62+K62) -> 0 | T62: =SUM(D62+L62) -> 0 | U62: =SUM(E62+M62) -> 0 | V62: =SUM(F62+N62) -> 0 | W62: =SUM(G62+O62) -> 0 | X62: =SUM(H62+P62) -> 0 | Y62: =SUM(I62+Q62) -> 0
A63: Medicina familiar | R63: =SUM(B63+J63) -> 0 | S63: =SUM(C63+K63) -> 0 | T63: =SUM(D63+L63) -> 0 | U63: =SUM(E63+M63) -> 0 | V63: =SUM(F63+N63) -> 0 | W63: =SUM(G63+O63) -> 0 | X63: =SUM(H63+P63) -> 0 | Y63: =SUM(I63+Q63) -> 0
A64: Diabetología | R64: =SUM(B64+J64) -> 0 | S64: =SUM(C64+K64) -> 0 | T64: =SUM(D64+L64) -> 0 | U64: =SUM(E64+M64) -> 0 | V64: =SUM(F64+N64) -> 0 | W64: =SUM(G64+O64) -> 0 | X64: =SUM(H64+P64) -> 0 | Y64: =SUM(I64+Q64) -> 0
A65: Medicina intensiva | R65: =SUM(B65+J65) -> 0 | S65: =SUM(C65+K65) -> 0 | T65: =SUM(D65+L65) -> 0 | U65: =SUM(E65+M65) -> 0 | V65: =SUM(F65+N65) -> 0 | W65: =SUM(G65+O65) -> 0 | X65: =SUM(H65+P65) -> 0 | Y65: =SUM(I65+Q65) -> 0
A66: Imagenología | R66: =SUM(B66+J66) -> 0 | S66: =SUM(C66+K66) -> 0 | T66: =SUM(D66+L66) -> 0 | U66: =SUM(E66+M66) -> 0 | V66: =SUM(F66+N66) -> 0 | W66: =SUM(G66+O66) -> 0 | X66: =SUM(H66+P66) -> 0 | Y66: =SUM(I66+Q66) -> 0
A67: Radioterapia oncológica | R67: =SUM(B67+J67) -> 0 | S67: =SUM(C67+K67) -> 0 | T67: =SUM(D67+L67) -> 0 | U67: =SUM(E67+M67) -> 0 | V67: =SUM(F67+N67) -> 0 | W67: =SUM(G67+O67) -> 0 | X67: =SUM(H67+P67) -> 0 | Y67: =SUM(I67+Q67) -> 0
A68: SECCIÓN B : TELEINTERCONSULTA MÉDICA EN ESTABLECIMIENTOS DE ATENCIÓN SECUNDARIA DE URGENCIA (ATENCIÓN MÉDICO A MÉDICO)
A69: Tipo de teleinterconsulta de urgencia | B69: Teleinterconsulta médica de urgencia en hospitales de alta y mediana complejidad | J69: Modalidad | M69: Teleinterconsultas solicitadas desde APS o Nivel Secundario para ser resueltas por otro establecimiento
B70: 0 - 14 años | D70: 15 - 17 años | F70: 18 - 19 años | H70: 20 y más años | J70: Institucional | K70: Compra de Servicio | M70: 0 - 14 años | O70: 15 - 17 años | Q70: 18 - 19 años | S70: 20 y más años
B71: Hombres | C71: Mujeres | D71: Hombres | E71: Mujeres | F71: Hombres | G71: Mujeres | H71: Hombres | I71: Mujeres | J71: Establecimiento de la Red | K71: Sistema | L71: Extrasistema | M71: Hombres | N71: Mujeres | O71: Hombres | P71: Mujeres | Q71: Hombres | R71: Mujeres | S71: Hombres | T71: Mujeres
A72: Consulta urgencia otros
A73: Accidente cerebro vascular (ACV) | S73: 5 | T73: 3
A74: Quemados
A75: SECCIÓN C : TELEINFORMES EN ESTABLECIMIENTOS DE ATENCIÓN PRIMARIA, SECUNDARIA Y TERCIARIA
A76: Teleinformes realizados | B76: Establecimientos del Nivel Primario de salud | M76: Establecimientos de Nivel Secundario y Terciario | X76: Total teleinformes realizados
B77: 0 - 14 años | D77: 15 - 17 años | F77: 18 - 19 años | H77: 20 y más años | J77: Modalidad | M77: 0 - 14 años | O77: 15 - 17 años | Q77: 18 - 19 años | S77: 20 y más años | U77: Modalidad
B78: Hombres | C78: Mujeres | D78: Hombres | E78: Mujeres | F78: Hombres | G78: Mujeres | H78: Hombres | I78: Mujeres | J78: Institucional | K78: Compra de Servicio | M78: Hombres | N78: Mujeres | O78: Hombres | P78: Mujeres | Q78: Hombres | R78: Mujeres | S78: Hombres | T78: Mujeres | U78: Institucional | V78: Compra de Servicio | X78: Teleinformes realizados por Inteligencia Artificial | Y78: Teleinformes realizados por Médico Especialista
K79: Sistema | L79: Extrasistema | V79: Sistema | W79: Extrasistema
A80: TOTAL EMISIONES DE INFORMES | B80: =B81+B82+B83+B84+B85+B86+B87+B88+B89+B92+B93 -> 0 | C80: =C81+C82+C83+C84+C85+C86+C87+C88+C89+C92+C93 -> 0 | D80: =D81+D82+D83+D84+D85+D86+D87+D88+D89+D92+D93 -> 0 | E80: =E81+E82+E83+E84+E85+E86+E87+E88+E89+E92+E93 -> 0 | F80: =F81+F82+F83+F84+F85+F86+F87+F88+F89+F92+F93 -> 0 | G80: =G81+G82+G83+G84+G85+G86+G87+G88+G89+G92+G93 -> 0 | H80: =H81+H82+H83+H84+H85+H86+H87+H88+H89+H92+H93 -> 0 | I80: =I81+I82+I83+I84+I85+I86+I87+I88+I89+I92+I93 -> 0 | ... L80: =L81+L82+L83+L84+L85+L86+L87+L88+L89+L92+L93 -> 0 | M80: =SUM(M81:M93) -> 36 | N80: =SUM(N81:N93) -> 41 | O80: =SUM(O81:O93) -> 17 | P80: =SUM(P81:P93) -> 28 | Q80: =SUM(Q81:Q93) -> 29 | R80: =SUM(R81:R93) -> 13 | S80: =SUM(S81:S93) -> 703 | T80: =SUM(T81:T93) -> 650 | ... Y80: =SUM(Y81:Y93) -> 1517
A81: Nº de informes Ecografías obstétricas
A82: Nº de informes Electrocardiograma
A83: Nº de informes Electroencefalograma
A84: Nº de informes Espirometrías
A85: Nº de informes Fondo de ojo (excluye resolutividad)
A86: Nº de informes Holter de presión arterial
A87: Nº de informes Test de esfuerzo
A88: Nº de informes radiografías simples
A89: Nº de informes radiografías dentales
A90: Nº de informes de Tomografía axial computarizada | M90: 36 | N90: 41 | O90: 17 | P90: 28 | Q90: 29 | R90: 13 | S90: 703 | T90: 650 | W90: 1517 | Y90: 1517
A91: Nº de informes de Resonancia magnética nuclear
A92: Nº de informes Ecografías abdominal
A93: N° de mamografía
A94: SECCIÓN D: TELEINTERCONSULTA ODONTOLÓGICA
A95: Especialidades odontológicas | B95: Teleinterconsulta de especialidad odontológica ambulatoria nueva | J95: Teleinterconsulta de especialidad odontológica ambulatoria control | R95: TOTAL TELEINTERCONSULTAS AMBULATORIAS DE ESPECIALIDAD ODONTOLÓGICA | Z95: Modalidad | AC95: Solicitud de teleinterconsulta de especialidad odontológica
B96: 0 - 14 años | D96: 15 - 17 años | F96: 18 - 19 años | H96: 20 y más años | J96: 0 - 14 años | L96: 15 - 17 años | N96: 18 - 19 años | P96: 20 y más años | R96: 0 - 14 años | T96: 15 - 17 años | V96: 18 - 19 años | X96: 20 y más años | Z96: Institucional | AA96: Compra de Servicio | AC96: 0 - 14 años | AE96: 15 - 17 años | AG96: 18-19 años | AI96: 20 y más años
B97: Hombres | C97: Mujeres | D97: Hombres | E97: Mujeres | F97: Hombres | G97: Mujeres | H97: Hombres | I97: Mujeres | J97: Hombres | K97: Mujeres | L97: Hombres | M97: Mujeres | N97: Hombres | O97: Mujeres | P97: Hombres | Q97: Mujeres | R97: Hombres | S97: Mujeres | T97: Hombres | U97: Mujeres | V97: Hombres | W97: Mujeres | X97: Hombres | Y97: Mujeres | Z97: Establecimiento de la Red | AA97: Sistema | AB97: Extrasistema | AC97: Hombres | AD97: Mujeres | AE97: Hombres | AF97: Mujeres | AG97: Hombres | AH97: Mujeres | AI97: Hombres | AJ97: Mujeres
A98: TOTAL | B98: =SUM(B99:B108) -> 0 | C98: =SUM(C99:C108) -> 0 | D98: =SUM(D99:D108) -> 0 | E98: =SUM(E99:E108) -> 0 | F98: =SUM(F99:F108) -> 0 | G98: =SUM(G99:G108) -> 0 | H98: =SUM(H99:H108) -> 0 | I98: =SUM(I99:I108) -> 0 | ... AJ98: =SUM(AJ99:AJ108) -> 0
A99: Cirugía y traumatología maxilofacial | R99: =+B99+J99 -> 0 | S99: =+C99+K99 -> 0 | T99: =+D99+L99 -> 0 | U99: =+E99+M99 -> 0 | V99: =+F99+N99 -> 0 | W99: =+G99+O99 -> 0 | X99: =+H99+P99 -> 0 | Y99: =+I99+Q99 -> 0
A100: Endodoncia | R100: =+B100+J100 -> 0 | S100: =+C100+K100 -> 0 | T100: =+D100+L100 -> 0 | U100: =+E100+M100 -> 0 | V100: =+F100+N100 -> 0 | W100: =+G100+O100 -> 0 | X100: =+H100+P100 -> 0 | Y100: =+I100+Q100 -> 0
A101: Odontopediatría | R101: =+B101+J101 -> 0 | S101: =+C101+K101 -> 0 | T101: =+D101+L101 -> 0 | U101: =+E101+M101 -> 0 | V101: =+F101+N101 -> 0 | W101: =+G101+O101 -> 0 | X101: =+H101+P101 -> 0 | Y101: =+I101+Q101 -> 0
...

Sheet ABRIL
A1: SERVICIO DE SALUD
A2: =CONCATENATE("COMUNA: ",[5]NOMBRE!B2, " (",[5]NOMBRE!C2,[5]NOMBRE!D2,[5]NOMBRE!E2,[5]NOMBRE!F2,[5]NOMBRE!G2,")") -> COMUNA: LINARES (07401)
A3: =CONCATENATE("ESTABLECIMIENTO/ESTRATEGIA: ", [5]NOMBRE!B3, " (",[5]NOMBRE!C3,[5]NOMBRE!D3,[5]NOMBRE!E3,[5]NOMBRE!F3,[5]NOMBRE!G3,[5]NOMBRE!H3,")") -> ESTABLECIMIENTO/ESTRATEGIA: HOSPITAL PRESIDENTE CARLOS IBAÑEZ DEL CAMPO (116108)
A4: =CONCATENATE("MES: ",[5]NOMBRE!B6, " (",[5]NOMBRE!C6,[5]NOMBRE!D6,")") -> MES: ABRIL (04)
A5: =CONCATENATE("AÑO: ",[5]NOMBRE!B7) -> AÑO: 2025
A6: REM-30. ATENCIONES POR TELEMEDICINA EN LA RED ASISTENCIAL
A8: SECCIÓN A: TELEINTERCONSULTA DE ESPECIALIDAD (ATENCION REALIZADA DE MÉDICO A MÉDICO)
A9: Especialidades | B9: Teleinterconsulta médica de especialidad ambulatoria nueva | J9: Teleinterconsulta médica de especialidad ambulatoria control | R9: TOTAL TELEINTERCONSULTAS MEDICAS AMBULATORIAS DE ESPECIALIDAD | Z9: Modalidad | AC9: Teleinterconsulta medicina de especialidad realizadas a pacientes hospitalizados | AK9: Modalidad | AN9: Teleinterconsultas solicitadas desde APS o Nivel Secundario para ser resueltas por otro establecimiento
B10: 0 - 14 años | D10: 15 - 17 años | F10: 18-19 años | H10: 20 y más años | J10: 0 - 14 años | L10: 15 - 17 años | N10: 18 - 19 años | P10: 20 y más años | R10: 0 - 14 años | T10: 15 - 17 años | V10: 18- 19 años | X10: 20 y más años | Z10: Institucional | AA10: Compra de Servicio | AC10: 0 - 14 años | AE10: 15 - 17 años | AG10: 18 a 19 años | AI10: 20 y más años | AK10: Institucional | AL10: Compra de Servicio | AN10: 0 - 14 años | AP10: 15 - 17 años | AR10: 18 - 19 años | AT10: 20 y más años
B11: Hombres | C11: Mujeres | D11: Hombres | E11: Mujeres | F11: Hombres | G11: Mujeres | H11: Hombres | I11: Mujeres | J11: Hombres | K11: Mujeres | L11: Hombres | M11: Mujeres | N11: Hombres | O11: Mujeres | P11: Hombres | Q11: Mujeres | R11: Hombres | S11: Mujeres | T11: Hombres | U11: Mujeres | V11: Hombres | W11: Mujeres | X11: Hombres | Y11: Mujeres | AA11: Sistema | AB11: Extrasistema | AC11: Hombres | AD11: Mujeres | AE11: Hombres | AF11: Mujeres | AG11: Hombres | AH11: Mujeres | AI11: Hombres | AJ11: Mujeres | AL11: Sistema | AM11: Extrasistema | AN11: Hombres | AO11: Mujeres | AP11: Hombres | AQ11: Mujeres | AR11: Hombres | AS11: Mujeres | AT11: Hombres | AU11: Mujeres
A12: TOTAL | B12: =SUM(B13:B67) -> 19 | C12: =SUM(C13:C67) -> 34 | D12: =SUM(D13:D67) -> 0 | E12: =SUM(E13:E67) -> 4 | F12: =SUM(F13:F67) -> 2 | G12: =SUM(G13:G67) -> 3 | H12: =SUM(H13:H67) -> 24 | I12: =SUM(I13:I67) -> 75 | ... AU12: =SUM(AU13:AU67) -> 0
A13: Pediatría | B13: 13 | C13: 22 | R13: =SUM(B13+J13) -> 13 | S13: =SUM(C13+K13) -> 22 | T13: =SUM(D13+L13) -> 0 | U13: =SUM(E13+M13) -> 0 | V13: =SUM(F13+N13) -> 0 | W13: =SUM(G13+O13) -> 0 | X13: =SUM(H13+P13) -> 0 | Y13: =SUM(I13+Q13) -> 0 | Z13: 35
A14: Medicina interna | H14: 5 | I14: 9 | R14: =SUM(B14+J14) -> 0 | S14: =SUM(C14+K14) -> 0 | T14: =SUM(D14+L14) -> 0 | U14: =SUM(E14+M14) -> 0 | V14: =SUM(F14+N14) -> 0 | W14: =SUM(G14+O14) -> 0 | X14: =SUM(H14+P14) -> 5 | Y14: =SUM(I14+Q14) -> 9 | Z14: 14
A15: Neonatología | R15: =SUM(B15+J15) -> 0 | S15: =SUM(C15+K15) -> 0 | T15: =SUM(D15+L15) -> 0 | U15: =SUM(E15+M15) -> 0 | V15: =SUM(F15+N15) -> 0 | W15: =SUM(G15+O15) -> 0 | X15: =SUM(H15+P15) -> 0 | Y15: =SUM(I15+Q15) -> 0
A16: Enfermedad respiratoria pediátrica (Brocopulmonar infantil) | R16: =SUM(B16+J16) -> 0 | S16: =SUM(C16+K16) -> 0 | T16: =SUM(D16+L16) -> 0 | U16: =SUM(E16+M16) -> 0 | V16: =SUM(F16+N16) -> 0 | W16: =SUM(G16+O16) -> 0 | X16: =SUM(H16+P16) -> 0 | Y16: =SUM(I16+Q16) -> 0
A17: Enfermedad respiratoria de adulto (Broncopulmonar) | H17: 3 | I17: 8 | R17: =SUM(B17+J17) -> 0 | S17: =SUM(C17+K17) -> 0 | T17: =SUM(D17+L17) -> 0 | U17: =SUM(E17+M17) -> 0 | V17: =SUM(F17+N17) -> 0 | W17: =SUM(G17+O17) -> 0 | X17: =SUM(H17+P17) -> 3 | Y17: =SUM(I17+Q17) -> 8 | Z17: 11
A18: Cardiología | B18: 6 | C18: 4 | F18: 1 | R18: =SUM(B18+J18) -> 6 | S18: =SUM(C18+K18) -> 4 | T18: =SUM(D18+L18) -> 0 | U18: =SUM(E18+M18) -> 0 | V18: =SUM(F18+N18) -> 1 | W18: =SUM(G18+O18) -> 0 | X18: =SUM(H18+P18) -> 0 | Y18: =SUM(I18+Q18) -> 0 | Z18: 11
A19: Mastología | R19: =SUM(B19+J19) -> 0 | S19: =SUM(C19+K19) -> 0 | T19: =SUM(D19+L19) -> 0 | U19: =SUM(E19+M19) -> 0 | V19: =SUM(F19+N19) -> 0 | W19: =SUM(G19+O19) -> 0 | X19: =SUM(H19+P19) -> 0 | Y19: =SUM(I19+Q19) -> 0
A20: Endocrinología pediátrica | R20: =SUM(B20+J20) -> 0 | S20: =SUM(C20+K20) -> 0 | T20: =SUM(D20+L20) -> 0 | U20: =SUM(E20+M20) -> 0 | V20: =SUM(F20+N20) -> 0 | W20: =SUM(G20+O20) -> 0 | X20: =SUM(H20+P20) -> 0 | Y20: =SUM(I20+Q20) -> 0
A21: Endocrinología adulto | I21: 1 | R21: =SUM(B21+J21) -> 0 | S21: =SUM(C21+K21) -> 0 | T21: =SUM(D21+L21) -> 0 | U21: =SUM(E21+M21) -> 0 | V21: =SUM(F21+N21) -> 0 | W21: =SUM(G21+O21) -> 0 | X21: =SUM(H21+P21) -> 0 | Y21: =SUM(I21+Q21) -> 1 | Z21: 1
A22: Gastroenterología pediátrica | R22: =SUM(B22+J22) -> 0 | S22: =SUM(C22+K22) -> 0 | T22: =SUM(D22+L22) -> 0 | U22: =SUM(E22+M22) -> 0 | V22: =SUM(F22+N22) -> 0 | W22: =SUM(G22+O22) -> 0 | X22: =SUM(H22+P22) -> 0 | Y22: =SUM(I22+Q22) -> 0
A23: Gastroenterología adulto | R23: =SUM(B23+J23) -> 0 | S23: =SUM(C23+K23) -> 0 | T23: =SUM(D23+L23) -> 0 | U23: =SUM(E23+M23) -> 0 | V23: =SUM(F23+N23) -> 0 | W23: =SUM(G23+O23) -> 0 | X23: =SUM(H23+P23) -> 0 | Y23: =SUM(I23+Q23) -> 0
A24: Genética clínica | R24: =SUM(B24+J24) -> 0 | S24: =SUM(C24+K24) -> 0 | T24: =SUM(D24+L24) -> 0 | U24: =SUM(E24+M24) -> 0 | V24: =SUM(F24+N24) -> 0 | W24: =SUM(G24+O24) -> 0 | X24: =SUM(H24+P24) -> 0 | Y24: =SUM(I24+Q24) -> 0
A25: Hematología | R25: =SUM(B25+J25) -> 0 | S25: =SUM(C25+K25) -> 0 | T25: =SUM(D25+L25) -> 0 | U25: =SUM(E25+M25) -> 0 | V25: =SUM(F25+N25) -> 0 | W25: =SUM(G25+O25) -> 0 | X25: =SUM(H25+P25) -> 0 | Y25: =SUM(I25+Q25) -> 0
A26: Medicina del adolescente | R26: =SUM(B26+J26) -> 0 | S26: =SUM(C26+K26) -> 0 | T26: =SUM(D26+L26) -> 0 | U26: =SUM(E26+M26) -> 0 | V26: =SUM(F26+N26) -> 0 | W26: =SUM(G26+O26) -> 0 | X26: =SUM(H26+P26) -> 0 | Y26: =SUM(I26+Q26) -> 0
A27: Nefrología pediátrica | R27: =SUM(B27+J27) -> 0 | S27: =SUM(C27+K27) -> 0 | T27: =SUM(D27+L27) -> 0 | U27: =SUM(E27+M27) -> 0 | V27: =SUM(F27+N27) -> 0 | W27: =SUM(G27+O27) -> 0 | X27: =SUM(H27+P27) -> 0 | Y27: =SUM(I27+Q27) -> 0
A28: Nefrología adulto | R28: =SUM(B28+J28) -> 0 | S28: =SUM(C28+K28) -> 0 | T28: =SUM(D28+L28) -> 0 | U28: =SUM(E28+M28) -> 0 | V28: =SUM(F28+N28) -> 0 | W28: =SUM(G28+O28) -> 0 | X28: =SUM(H28+P28) -> 0 | Y28: =SUM(I28+Q28) -> 0
A29: Nutrición clínica | R29: =SUM(B29+J29) -> 0 | S29: =SUM(C29+K29) -> 0 | T29: =SUM(D29+L29) -> 0 | U29: =SUM(E29+M29) -> 0 | V29: =SUM(F29+N29) -> 0 | W29: =SUM(G29+O29) -> 0 | X29: =SUM(H29+P29) -> 0 | Y29: =SUM(I29+Q29) -> 0
A30: Medicina Materno Infantil | R30: =SUM(B30+J30) -> 0 | S30: =SUM(C30+K30) -> 0 | T30: =SUM(D30+L30) -> 0 | U30: =SUM(E30+M30) -> 0 | V30: =SUM(F30+N30) -> 0 | W30: =SUM(G30+O30) -> 0 | X30: =SUM(H30+P30) -> 0 | Y30: =SUM(I30+Q30) -> 0
A31: Reumatología | R31: =SUM(B31+J31) -> 0 | S31: =SUM(C31+K31) -> 0 | T31: =SUM(D31+L31) -> 0 | U31: =SUM(E31+M31) -> 0 | V31: =SUM(F31+N31) -> 0 | W31: =SUM(G31+O31) -> 0 | X31: =SUM(H31+P31) -> 0 | Y31: =SUM(I31+Q31) -> 0
A32: Medicina Paliativa y Manejo del Dolor | R32: =SUM(B32+J32) -> 0 | S32: =SUM(C32+K32) -> 0 | T32: =SUM(D32+L32) -> 0 | U32: =SUM(E32+M32) -> 0 | V32: =SUM(F32+N32) -> 0 | W32: =SUM(G32+O32) -> 0 | X32: =SUM(H32+P32) -> 0 | Y32: =SUM(I32+Q32) -> 0
A33: Dermatología | R33: =SUM(B33+J33) -> 0 | S33: =SUM(C33+K33) -> 0 | T33: =SUM(D33+L33) -> 0 | U33: =SUM(E33+M33) -> 0 | V33: =SUM(F33+N33) -> 0 | W33: =SUM(G33+O33) -> 0 | X33: =SUM(H33+P33) -> 0 | Y33: =SUM(I33+Q33) -> 0
... A38: Medicina Reproductiva e Infertilidad | R38: =SUM(B38+J38) -> 0 | S38: =SUM(C38+K38) -> 0 | T38: =SUM(D38+L38) -> 0 | U38: =SUM(E38+M38) -> 0 | V38: =SUM(F38+N38) -> 0 | W38: =SUM(G38+O38) -> 0 | X38: =SUM(H38+P38) -> 0 | Y38: =SUM(I38+Q38) -> 0
A39: Neurología pediátrica | C39: 1 | R39: =SUM(B39+J39) -> 0 | S39: =SUM(C39+K39) -> 1 | T39: =SUM(D39+L39) -> 0 | U39: =SUM(E39+M39) -> 0 | V39: =SUM(F39+N39) -> 0 | W39: =SUM(G39+O39) -> 0 | X39: =SUM(H39+P39) -> 0 | Y39: =SUM(I39+Q39) -> 0 | Z39: 1
A40: Neurología adulto | R40: =SUM(B40+J40) -> 0 | S40: =SUM(C40+K40) -> 0 | T40: =SUM(D40+L40) -> 0 | U40: =SUM(E40+M40) -> 0 | V40: =SUM(F40+N40) -> 0 | W40: =SUM(G40+O40) -> 0 | X40: =SUM(H40+P40) -> 0 | Y40: =SUM(I40+Q40) -> 0
A41: Oncología médica | R41: =SUM(B41+J41) -> 0 | S41: =SUM(C41+K41) -> 0 | T41: =SUM(D41+L41) -> 0 | U41: =SUM(E41+M41) -> 0 | V41: =SUM(F41+N41) -> 0 | W41: =SUM(G41+O41) -> 0 | X41: =SUM(H41+P41) -> 0 | Y41: =SUM(I41+Q41) -> 0
A42: Psiquiatría pediátrica y de la adolescencia | R42: =SUM(B42+J42) -> 0 | S42: =SUM(C42+K42) -> 0 | T42: =SUM(D42+L42) -> 0 | U42: =SUM(E42+M42) -> 0 | V42: =SUM(F42+N42) -> 0 | W42: =SUM(G42+O42) -> 0 | X42: =SUM(H42+P42) -> 0 | Y42: =SUM(I42+Q42) -> 0
A43: Psiquiatría adulto | H43: 1 | I43: 1 | R43: =SUM(B43+J43) -> 0 | S43: =SUM(C43+K43) -> 0 | T43: =SUM(D43+L43) -> 0 | U43: =SUM(E43+M43) -> 0 | V43: =SUM(F43+N43) -> 0 | W43: =SUM(G43+O43) -> 0 | X43: =SUM(H43+P43) -> 1 | Y43: =SUM(I43+Q43) -> 1 | Z43: 2
A44: Cirugía pediátrica | R44: =SUM(B44+J44) -> 0 | S44: =SUM(C44+K44) -> 0 | T44: =SUM(D44+L44) -> 0 | U44: =SUM(E44+M44) -> 0 | V44: =SUM(F44+N44) -> 0 | W44: =SUM(G44+O44) -> 0 | X44: =SUM(H44+P44) -> 0 | Y44: =SUM(I44+Q44) -> 0
A45: Cirugía General | F45: 1 | H45: 13 | I45: 21 | R45: =SUM(B45+J45) -> 0 | S45: =SUM(C45+K45) -> 0 | T45: =SUM(D45+L45) -> 0 | U45: =SUM(E45+M45) -> 0 | V45: =SUM(F45+N45) -> 1 | W45: =SUM(G45+O45) -> 0 | X45: =SUM(H45+P45) -> 13 | Y45: =SUM(I45+Q45) -> 21 | Z45: 35
A46: Cirugía digestiva (alta) | R46: =SUM(B46+J46) -> 0 | S46: =SUM(C46+K46) -> 0 | T46: =SUM(D46+L46) -> 0 | U46: =SUM(E46+M46) -> 0 | V46: =SUM(F46+N46) -> 0 | W46: =SUM(G46+O46) -> 0 | X46: =SUM(H46+P46) -> 0 | Y46: =SUM(I46+Q46) -> 0
A47: Cirugía de cabeza, cuello y maxilofacial | R47: =SUM(B47+J47) -> 0 | S47: =SUM(C47+K47) -> 0 | T47: =SUM(D47+L47) -> 0 | U47: =SUM(E47+M47) -> 0 | V47: =SUM(F47+N47) -> 0 | W47: =SUM(G47+O47) -> 0 | X47: =SUM(H47+P47) -> 0 | Y47: =SUM(I47+Q47) -> 0
A48: Cirugía Plástica y Reparadora | R48: =SUM(B48+J48) -> 0 | S48: =SUM(C48+K48) -> 0 | T48: =SUM(D48+L48) -> 0 | U48: =SUM(E48+M48) -> 0 | V48: =SUM(F48+N48) -> 0 | W48: =SUM(G48+O48) -> 0 | X48: =SUM(H48+P48) -> 0 | Y48: =SUM(I48+Q48) -> 0
A49: Medicina del Deporte | R49: =SUM(B49+J49) -> 0 | S49: =SUM(C49+K49) -> 0 | T49: =SUM(D49+L49) -> 0 | U49: =SUM(E49+M49) -> 0 | V49: =SUM(F49+N49) -> 0 | W49: =SUM(G49+O49) -> 0 | X49: =SUM(H49+P49) -> 0 | Y49: =SUM(I49+Q49) -> 0
A50: Coloproctología (Cirugía digestiva baja) | R50: =SUM(B50+J50) -> 0 | S50: =SUM(C50+K50) -> 0 | T50: =SUM(D50+L50) -> 0 | U50: =SUM(E50+M50) -> 0 | V50: =SUM(F50+N50) -> 0 | W50: =SUM(G50+O50) -> 0 | X50: =SUM(H50+P50) -> 0 | Y50: =SUM(I50+Q50) -> 0
A51: Cirugía tórax | R51: =SUM(B51+J51) -> 0 | S51: =SUM(C51+K51) -> 0 | T51: =SUM(D51+L51) -> 0 | U51: =SUM(E51+M51) -> 0 | V51: =SUM(F51+N51) -> 0 | W51: =SUM(G51+O51) -> 0 | X51: =SUM(H51+P51) -> 0 | Y51: =SUM(I51+Q51) -> 0
A52: Cirugía vascular periferica | R52: =SUM(B52+J52) -> 0 | S52: =SUM(C52+K52) -> 0 | T52: =SUM(D52+L52) -> 0 | U52: =SUM(E52+M52) -> 0 | V52: =SUM(F52+N52) -> 0 | W52: =SUM(G52+O52) -> 0 | X52: =SUM(H52+P52) -> 0 | Y52: =SUM(I52+Q52) -> 0
A53: Neurocirugía | R53: =SUM(B53+J53) -> 0 | S53: =SUM(C53+K53) -> 0 | T53: =SUM(D53+L53) -> 0 | U53: =SUM(E53+M53) -> 0 | V53: =SUM(F53+N53) -> 0 | W53: =SUM(G53+O53) -> 0 | X53: =SUM(H53+P53) -> 0 | Y53: =SUM(I53+Q53) -> 0
A54: Cirugía cardiovascular | R54: =SUM(B54+J54) -> 0 | S54: =SUM(C54+K54) -> 0 | T54: =SUM(D54+L54) -> 0 | U54: =SUM(E54+M54) -> 0 | V54: =SUM(F54+N54) -> 0 | W54: =SUM(G54+O54) -> 0 | X54: =SUM(H54+P54) -> 0 | Y54: =SUM(I54+Q54) -> 0
A55: Anestesiología | R55: =SUM(B55+J55) -> 0 | S55: =SUM(C55+K55) -> 0 | T55: =SUM(D55+L55) -> 0 | U55: =SUM(E55+M55) -> 0 | V55: =SUM(F55+N55) -> 0 | W55: =SUM(G55+O55) -> 0 | X55: =SUM(H55+P55) -> 0 | Y55: =SUM(I55+Q55) -> 0
A56: Obstetricia y Ginecología | C56: 7 | E56: 4 | G56: 3 | I56: 33 | R56: =SUM(B56+J56) -> 0 | S56: =SUM(C56+K56) -> 7 | T56: =SUM(D56+L56) -> 0 | U56: =SUM(E56+M56) -> 4 | V56: =SUM(F56+N56) -> 0 | W56: =SUM(G56+O56) -> 3 | X56: =SUM(H56+P56) -> 0 | Y56: =SUM(I56+Q56) -> 33 | Z56: 47
A57: Ginecología oncológica | R57: =SUM(B57+J57) -> 0 | S57: =SUM(C57+K57) -> 0 | T57: =SUM(D57+L57) -> 0 | U57: =SUM(E57+M57) -> 0 | V57: =SUM(F57+N57) -> 0 | W57: =SUM(G57+O57) -> 0 | X57: =SUM(H57+P57) -> 0 | Y57: =SUM(I57+Q57) -> 0
A58: Neurorradiologia | R58: =SUM(B58+J58) -> 0 | S58: =SUM(C58+K58) -> 0 | T58: =SUM(D58+L58) -> 0 | U58: =SUM(E58+M58) -> 0 | V58: =SUM(F58+N58) -> 0 | W58: =SUM(G58+O58) -> 0 | X58: =SUM(H58+P58) -> 0 | Y58: =SUM(I58+Q58) -> 0
A59: Oftalmología | R59: =SUM(B59+J59) -> 0 | S59: =SUM(C59+K59) -> 0 | T59: =SUM(D59+L59) -> 0 | U59: =SUM(E59+M59) -> 0 | V59: =SUM(F59+N59) -> 0 | W59: =SUM(G59+O59) -> 0 | X59: =SUM(H59+P59) -> 0 | Y59: =SUM(I59+Q59) -> 0
A60: Otorrinolaringología | R60: =SUM(B60+J60) -> 0 | S60: =SUM(C60+K60) -> 0 | T60: =SUM(D60+L60) -> 0 | U60: =SUM(E60+M60) -> 0 | V60: =SUM(F60+N60) -> 0 | W60: =SUM(G60+O60) -> 0 | X60: =SUM(H60+P60) -> 0 | Y60: =SUM(I60+Q60) -> 0
A61: Traumatología y Ortopedia | H61: 2 | I61: 2 | R61: =SUM(B61+J61) -> 0 | S61: =SUM(C61+K61) -> 0 | T61: =SUM(D61+L61) -> 0 | U61: =SUM(E61+M61) -> 0 | V61: =SUM(F61+N61) -> 0 | W61: =SUM(G61+O61) -> 0 | X61: =SUM(H61+P61) -> 2 | Y61: =SUM(I61+Q61) -> 2 | Z61: 4
A62: Urología | R62: =SUM(B62+J62) -> 0 | S62: =SUM(C62+K62) -> 0 | T62: =SUM(D62+L62) -> 0 | U62: =SUM(E62+M62) -> 0 | V62: =SUM(F62+N62) -> 0 | W62: =SUM(G62+O62) -> 0 | X62: =SUM(H62+P62) -> 0 | Y62: =SUM(I62+Q62) -> 0
A63: Medicina familiar | R63: =SUM(B63+J63) -> 0 | S63: =SUM(C63+K63) -> 0 | T63: =SUM(D63+L63) -> 0 | U63: =SUM(E63+M63) -> 0 | V63: =SUM(F63+N63) -> 0 | W63: =SUM(G63+O63) -> 0 | X63: =SUM(H63+P63) -> 0 | Y63: =SUM(I63+Q63) -> 0
A64: Diabetología | R64: =SUM(B64+J64) -> 0 | S64: =SUM(C64+K64) -> 0 | T64: =SUM(D64+L64) -> 0 | U64: =SUM(E64+M64) -> 0 | V64: =SUM(F64+N64) -> 0 | W64: =SUM(G64+O64) -> 0 | X64: =SUM(H64+P64) -> 0 | Y64: =SUM(I64+Q64) -> 0
A65: Medicina intensiva | R65: =SUM(B65+J65) -> 0 | S65: =SUM(C65+K65) -> 0 | T65: =SUM(D65+L65) -> 0 | U65: =SUM(E65+M65) -> 0 | V65: =SUM(F65+N65) -> 0 | W65: =SUM(G65+O65) -> 0 | X65: =SUM(H65+P65) -> 0 | Y65: =SUM(I65+Q65) -> 0
A66: Imagenología | R66: =SUM(B66+J66) -> 0 | S66: =SUM(C66+K66) -> 0 | T66: =SUM(D66+L66) -> 0 | U66: =SUM(E66+M66) -> 0 | V66: =SUM(F66+N66) -> 0 | W66: =SUM(G66+O66) -> 0 | X66: =SUM(H66+P66) -> 0 | Y66: =SUM(I66+Q66) -> 0
A67: Radioterapia oncológica | R67: =SUM(B67+J67) -> 0 | S67: =SUM(C67+K67) -> 0 | T67: =SUM(D67+L67) -> 0 | U67: =SUM(E67+M67) -> 0 | V67: =SUM(F67+N67) -> 0 | W67: =SUM(G67+O67) -> 0 | X67: =SUM(H67+P67) -> 0 | Y67: =SUM(I67+Q67) -> 0
A68: SECCIÓN B : TELEINTERCONSULTA MÉDICA EN ESTABLECIMIENTOS DE ATENCIÓN SECUNDARIA DE URGENCIA (ATENCIÓN MÉDICO A MÉDICO)
A69: Tipo de teleinterconsulta de urgencia | B69: Teleinterconsulta médica de urgencia en hospitales de alta y mediana complejidad | J69: Modalidad | M69: Teleinterconsultas solicitadas desde APS o Nivel Secundario para ser resueltas por otro establecimiento
B70: 0 - 14 años | D70: 15 - 17 años | F70: 18 - 19 años | H70: 20 y más años | J70: Institucional | K70: Compra de Servicio | M70: 0 - 14 años | O70: 15 - 17 años | Q70: 18 - 19 años | S70: 20 y más años
B71: Hombres | C71: Mujeres | D71: Hombres | E71: Mujeres | F71: Hombres | G71: Mujeres | H71: Hombres | I71: Mujeres | J71: Establecimiento de la Red | K71: Sistema | L71: Extrasistema | M71: Hombres | N71: Mujeres | O71: Hombres | P71: Mujeres | Q71: Hombres | R71: Mujeres | S71: Hombres | T71: Mujeres
A72: Consulta urgencia otros
A73: Accidente cerebro vascular (ACV) | S73: 9 | T73: 7
A74: Quemados
A75: SECCIÓN C : TELEINFORMES EN ESTABLECIMIENTOS DE ATENCIÓN PRIMARIA, SECUNDARIA Y TERCIARIA
A76: Teleinformes realizados | B76: Establecimientos del Nivel Primario de salud | M76: Establecimientos de Nivel Secundario y Terciario | X76: Total teleinformes realizados
B77: 0 - 14 años | D77: 15 - 17 años | F77: 18 - 19 años | H77: 20 y más años | J77: Modalidad | M77: 0 - 14 años | O77: 15 - 17 años | Q77: 18 - 19 años | S77: 20 y más años | U77: Modalidad
B78: Hombres | C78: Mujeres | D78: Hombres | E78: Mujeres | F78: Hombres | G78: Mujeres | H78: Hombres | I78: Mujeres | J78: Institucional | K78: Compra de Servicio | M78: Hombres | N78: Mujeres | O78: Hombres | P78: Mujeres | Q78: Hombres | R78: Mujeres | S78: Hombres | T78: Mujeres | U78: Institucional | V78: Compra de Servicio | X78: Teleinformes realizados por Inteligencia Artificial | Y78: Teleinformes realizados por Médico Especialista
K79: Sistema | L79: Extrasistema | V79: Sistema | W79: Extrasistema
A80: TOTAL EMISIONES DE INFORMES | B80: =B81+B82+B83+B84+B85+B86+B87+B88+B89+B92+B93 -> 0 | C80: =C81+C82+C83+C84+C85+C86+C87+C88+C89+C92+C93 -> 0 | D80: =D81+D82+D83+D84+D85+D86+D87+D88+D89+D92+D93 -> 0 | E80: =E81+E82+E83+E84+E85+E86+E87+E88+E89+E92+E93 -> 0 | F80: =F81+F82+F83+F84+F85+F86+F87+F88+F89+F92+F93 -> 0 | G80: =G81+G82+G83+G84+G85+G86+G87+G88+G89+G92+G93 -> 0 | H80: =H81+H82+H83+H84+H85+H86+H87+H88+H89+H92+H93 -> 0 | I80: =I81+I82+I83+I84+I85+I86+I87+I88+I89+I92+I93 -> 0 | ... L80: =L81+L82+L83+L84+L85+L86+L87+L88+L89+L92+L93 -> 0 | M80: =SUM(M81:M93) -> 63 | N80: =SUM(N81:N93) -> 36 | O80: =SUM(O81:O93) -> 12 | P80: =SUM(P81:P93) -> 17 | Q80: =SUM(Q81:Q93) -> 23 | R80: =SUM(R81:R93) -> 16 | S80: =SUM(S81:S93) -> 677 | T80: =SUM(T81:T93) -> 653 | ... Y80: =SUM(Y81:Y93) -> 1497
A81: Nº de informes Ecografías obstétricas
A82: Nº de informes Electrocardiograma
A83: Nº de informes Electroencefalograma
A84: Nº de informes Espirometrías
A85: Nº de informes Fondo de ojo (excluye resolutividad)
A86: Nº de informes Holter de presión arterial
A87: Nº de informes Test de esfuerzo
A88: Nº de informes radiografías simples
A89: Nº de informes radiografías dentales
A90: Nº de informes de Tomografía axial computarizada | M90: 63 | N90: 36 | O90: 12 | P90: 17 | Q90: 23 | R90: 16 | S90: 677 | T90: 653 | W90: 1497 | Y90: 1497
A91: Nº de informes de Resonancia magnética nuclear
A92: Nº de informes Ecografías abdominal
A93: N° de mamografía
A94: SECCIÓN D: TELEINTERCONSULTA ODONTOLÓGICA
A95: Especialidades odontológicas | B95: Teleinterconsulta de especialidad odontológica ambulatoria nueva | J95: Teleinterconsulta de especialidad odontológica ambulatoria control | R95: TOTAL TELEINTERCONSULTAS AMBULATORIAS DE ESPECIALIDAD ODONTOLÓGICA | Z95: Modalidad | AC95: Solicitud de teleinterconsulta de especialidad odontológica
B96: 0 - 14 años | D96: 15 - 17 años | F96: 18 - 19 años | H96: 20 y más años | J96: 0 - 14 años | L96: 15 - 17 años | N96: 18 - 19 años | P96: 20 y más años | R96: 0 - 14 años | T96: 15 - 17 años | V96: 18 - 19 años | X96: 20 y más años | Z96: Institucional | AA96: Compra de Servicio | AC96: 0 - 14 años | AE96: 15 - 17 años | AG96: 18-19 años | AI96: 20 y más años
B97: Hombres | C97: Mujeres | D97: Hombres | E97: Mujeres | F97: Hombres | G97: Mujeres | H97: Hombres | I97: Mujeres | J97: Hombres | K97: Mujeres | L97: Hombres | M97: Mujeres | N97: Hombres | O97: Mujeres | P97: Hombres | Q97: Mujeres | R97: Hombres | S97: Mujeres | T97: Hombres | U97: Mujeres | V97: Hombres | W97: Mujeres | X97: Hombres | Y97: Mujeres | Z97: Establecimiento de la Red | AA97: Sistema | AB97: Extrasistema | AC97: Hombres | AD97: Mujeres | AE97: Hombres | AF97: Mujeres | AG97: Hombres | AH97: Mujeres | AI97: Hombres | AJ97: Mujeres
A98: TOTAL | B98: =SUM(B99:B108) -> 0 | C98: =SUM(C99:C108) -> 0 | D98: =SUM(D99:D108) -> 0 | E98: =SUM(E99:E108) -> 0 | F98: =SUM(F99:F108) -> 0 | G98: =SUM(G99:G108) -> 0 | H98: =SUM(H99:H108) -> 0 | I98: =SUM(I99:I108) -> 0 | ... AJ98: =SUM(AJ99:AJ108) -> 0
A99: Cirugía y traumatología maxilofacial | R99: =+B99+J99 -> 0 | S99: =+C99+K99 -> 0 | T99: =+D99+L99 -> 0 | U99: =+E99+M99 -> 0 | V99: =+F99+N99 -> 0 | W99: =+G99+O99 -> 0 | X99: =+H99+P99 -> 0 | Y99: =+I99+Q99 -> 0
A100: Endodoncia | R100: =+B100+J100 -> 0 | S100: =+C100+K100 -> 0 | T100: =+D100+L100 -> 0 | U100: =+E100+M100 -> 0 | V100: =+F100+N100 -> 0 | W100: =+G100+O100 -> 0 | X100: =+H100+P100 -> 0 | Y100: =+I100+Q100 -> 0
A101: Odontopediatría | R101: =+B101+J101 -> 0 | S101: =+C101+K101 -> 0 | T101: =+D101+L101 -> 0 | U101: =+E101+M101 -> 0 | V101: =+F101+N101 -> 0 | W101: =+G101+O101 -> 0 | X101: =+H101+P101 -> 0 | Y101: =+I101+Q101 -> 0
A102: Ortodoncia y ortopedia dento maxilofacial | R102: =+B102+J102 -> 0 | S102: =+C102+K102 -> 0 | T102: =+D102+L102 -> 0 | U102: =+E102+M102 -> 0 | V102: =+F102+N102 -> 0 | W102: =+G102+O102 -> 0 | X102: =+H102+P102 -> 0 | Y102: =+I102+Q102 -> 0
A103: Periodoncia | R103: =+B103+J103 -> 0 | S103: =+C103+K103 -> 0 | T103: =+D103+L103 -> 0 | U103: =+E103+M103 -> 0 | V103: =+F103+N103 -> 0 | W103: =+G103+O103 -> 0 | X103: =+H103+P103 -> 0 | Y103: =+I103+Q103 -> 0
A104: Rehabilitación: Prótesis fija | R104: =+B104+J104 -> 0 | S104: =+C104+K104 -> 0 | T104: =+D104+L104 -> 0 | U104: =+E104+M104 -> 0 | V104: =+F104+N104 -> 0 | W104: =+G104+O104 -> 0 | X104: =+H104+P104 -> 0 | Y104: =+I104+Q104 -> 0
A105: Rehabilitación: Prótesis removible | R105: =+B105+J105 -> 0 | S105: =+C105+K105 -> 0 | T105: =+D105+L105 -> 0 | U105: =+E105+M105 -> 0 | V105: =+F105+N105 -> 0 | W105: =+G105+O105 -> 0 | X105: =+H105+P105 -> 0 | Y105: =+I105+Q105 -> 0
...

Sheet MAYO
A1: SERVICIO DE SALUD
A2: =CONCATENATE("COMUNA: ",[6]NOMBRE!B2, " (",[6]NOMBRE!C2,[6]NOMBRE!D2,[6]NOMBRE!E2,[6]NOMBRE!F2,[6]NOMBRE!G2,")") -> COMUNA: LINARES (07401)
A3: =CONCATENATE("ESTABLECIMIENTO/ESTRATEGIA: ", [6]NOMBRE!B3, " (",[6]NOMBRE!C3,[6]NOMBRE!D3,[6]NOMBRE!E3,[6]NOMBRE!F3,[6]NOMBRE!G3,[6]NOMBRE!H3,")") -> ESTABLECIMIENTO/ESTRATEGIA: HOSPITAL PRESIDENTE CARLOS IBAÑEZ DEL CAMPO (116108)
A4: =CONCATENATE("MES: ",[6]NOMBRE!B6, " (",[6]NOMBRE!C6,[6]NOMBRE!D6,")") -> MES: MAYO (05)
A5: =CONCATENATE("AÑO: ",[6]NOMBRE!B7) -> AÑO: 2025
A6: REM-30. ATENCIONES POR TELEMEDICINA EN LA RED ASISTENCIAL
A8: SECCIÓN A: TELEINTERCONSULTA DE ESPECIALIDAD (ATENCION REALIZADA DE MÉDICO A MÉDICO)
A9: Especialidades | B9: Teleinterconsulta médica de especialidad ambulatoria nueva | J9: Teleinterconsulta médica de especialidad ambulatoria control | R9: TOTAL TELEINTERCONSULTAS MEDICAS AMBULATORIAS DE ESPECIALIDAD | Z9: Modalidad | AC9: Teleinterconsulta medicina de especialidad realizadas a pacientes hospitalizados | AK9: Modalidad | AN9: Teleinterconsultas solicitadas desde APS o Nivel Secundario para ser resueltas por otro establecimiento
B10: 0 - 14 años | D10: 15 - 17 años | F10: 18-19 años | H10: 20 y más años | J10: 0 - 14 años | L10: 15 - 17 años | N10: 18 - 19 años | P10: 20 y más años | R10: 0 - 14 años | T10: 15 - 17 años | V10: 18- 19 años | X10: 20 y más años | Z10: Institucional | AA10: Compra de Servicio | AC10: 0 - 14 años | AE10: 15 - 17 años | AG10: 18 a 19 años | AI10: 20 y más años | AK10: Institucional | AL10: Compra de Servicio | AN10: 0 - 14 años | AP10: 15 - 17 años | AR10: 18 - 19 años | AT10: 20 y más años
B11: Hombres | C11: Mujeres | D11: Hombres | E11: Mujeres | F11: Hombres | G11: Mujeres | H11: Hombres | I11: Mujeres | J11: Hombres | K11: Mujeres | L11: Hombres | M11: Mujeres | N11: Hombres | O11: Mujeres | P11: Hombres | Q11: Mujeres | R11: Hombres | S11: Mujeres | T11: Hombres | U11: Mujeres | V11: Hombres | W11: Mujeres | X11: Hombres | Y11: Mujeres | AA11: Sistema | AB11: Extrasistema | AC11: Hombres | AD11: Mujeres | AE11: Hombres | AF11: Mujeres | AG11: Hombres | AH11: Mujeres | AI11: Hombres | AJ11: Mujeres | AL11: Sistema | AM11: Extrasistema | AN11: Hombres | AO11: Mujeres | AP11: Hombres | AQ11: Mujeres | AR11: Hombres | AS11: Mujeres | AT11: Hombres | AU11: Mujeres
A12: TOTAL | B12: =SUM(B13:B67) -> 0 | C12: =SUM(C13:C67) -> 10 | D12: =SUM(D13:D67) -> 0 | E12: =SUM(E13:E67) -> 9 | F12: =SUM(F13:F67) -> 4 | G12: =SUM(G13:G67) -> 17 | H12: =SUM(H13:H67) -> 17 | I12: =SUM(I13:I67) -> 43 | ... AU12: =SUM(AU13:AU67) -> 0
A13: Pediatría | C13: 10 | E13: 9 | R13: =SUM(B13+J13) -> 0 | S13: =SUM(C13+K13) -> 10 | T13: =SUM(D13+L13) -> 0 | U13: =SUM(E13+M13) -> 9 | V13: =SUM(F13+N13) -> 0 | W13: =SUM(G13+O13) -> 0 | X13: =SUM(H13+P13) -> 0 | Y13: =SUM(I13+Q13) -> 0 | Z13: 19
A14: Medicina interna | F14: 2 | G14: 3 | R14: =SUM(B14+J14) -> 0 | S14: =SUM(C14+K14) -> 0 | T14: =SUM(D14+L14) -> 0 | U14: =SUM(E14+M14) -> 0 | V14: =SUM(F14+N14) -> 2 | W14: =SUM(G14+O14) -> 3 | X14: =SUM(H14+P14) -> 0 | Y14: =SUM(I14+Q14) -> 0 | Z14: 5
A15: Neonatología | R15: =SUM(B15+J15) -> 0 | S15: =SUM(C15+K15) -> 0 | T15: =SUM(D15+L15) -> 0 | U15: =SUM(E15+M15) -> 0 | V15: =SUM(F15+N15) -> 0 | W15: =SUM(G15+O15) -> 0 | X15: =SUM(H15+P15) -> 0 | Y15: =SUM(I15+Q15) -> 0
A16: Enfermedad respiratoria pediátrica (Brocopulmonar infantil) | R16: =SUM(B16+J16) -> 0 | S16: =SUM(C16+K16) -> 0 | T16: =SUM(D16+L16) -> 0 | U16: =SUM(E16+M16) -> 0 | V16: =SUM(F16+N16) -> 0 | W16: =SUM(G16+O16) -> 0 | X16: =SUM(H16+P16) -> 0 | Y16: =SUM(I16+Q16) -> 0
A17: Enfermedad respiratoria de adulto (Broncopulmonar) | H17: 6 | I17: 9 | R17: =SUM(B17+J17) -> 0 | S17: =SUM(C17+K17) -> 0 | T17: =SUM(D17+L17) -> 0 | U17: =SUM(E17+M17) -> 0 | V17: =SUM(F17+N17) -> 0 | W17: =SUM(G17+O17) -> 0 | X17: =SUM(H17+P17) -> 6 | Y17: =SUM(I17+Q17) -> 9 | Z17: 15
A18: Cardiología | R18: =SUM(B18+J18) -> 0 | S18: =SUM(C18+K18) -> 0 | T18: =SUM(D18+L18) -> 0 | U18: =SUM(E18+M18) -> 0 | V18: =SUM(F18+N18) -> 0 | W18: =SUM(G18+O18) -> 0 | X18: =SUM(H18+P18) -> 0 | Y18: =SUM(I18+Q18) -> 0
A19: Mastología | R19: =SUM(B19+J19) -> 0 | S19: =SUM(C19+K19) -> 0 | T19: =SUM(D19+L19) -> 0 | U19: =SUM(E19+M19) -> 0 | V19: =SUM(F19+N19) -> 0 | W19: =SUM(G19+O19) -> 0 | X19: =SUM(H19+P19) -> 0 | Y19: =SUM(I19+Q19) -> 0
A20: Endocrinología pediátrica | R20: =SUM(B20+J20) -> 0 | S20: =SUM(C20+K20) -> 0 | T20: =SUM(D20+L20) -> 0 | U20: =SUM(E20+M20) -> 0 | V20: =SUM(F20+N20) -> 0 | W20: =SUM(G20+O20) -> 0 | X20: =SUM(H20+P20) -> 0 | Y20: =SUM(I20+Q20) -> 0
A21: Endocrinología adulto | G21: 1 | I21: 1 | R21: =SUM(B21+J21) -> 0 | S21: =SUM(C21+K21) -> 0 | T21: =SUM(D21+L21) -> 0 | U21: =SUM(E21+M21) -> 0 | V21: =SUM(F21+N21) -> 0 | W21: =SUM(G21+O21) -> 1 | X21: =SUM(H21+P21) -> 0 | Y21: =SUM(I21+Q21) -> 1 | Z21: 2
A22: Gastroenterología pediátrica | R22: =SUM(B22+J22) -> 0 | S22: =SUM(C22+K22) -> 0 | T22: =SUM(D22+L22) -> 0 | U22: =SUM(E22+M22) -> 0 | V22: =SUM(F22+N22) -> 0 | W22: =SUM(G22+O22) -> 0 | X22: =SUM(H22+P22) -> 0 | Y22: =SUM(I22+Q22) -> 0
A23: Gastroenterología adulto | R23: =SUM(B23+J23) -> 0 | S23: =SUM(C23+K23) -> 0 | T23: =SUM(D23+L23) -> 0 | U23: =SUM(E23+M23) -> 0 | V23: =SUM(F23+N23) -> 0 | W23: =SUM(G23+O23) -> 0 | X23: =SUM(H23+P23) -> 0 | Y23: =SUM(I23+Q23) -> 0
A24: Genética clínica | R24: =SUM(B24+J24) -> 0 | S24: =SUM(C24+K24) -> 0 | T24: =SUM(D24+L24) -> 0 | U24: =SUM(E24+M24) -> 0 | V24: =SUM(F24+N24) -> 0 | W24: =SUM(G24+O24) -> 0 | X24: =SUM(H24+P24) -> 0 | Y24: =SUM(I24+Q24) -> 0
A25: Hematología | R25: =SUM(B25+J25) -> 0 | S25: =SUM(C25+K25) -> 0 | T25: =SUM(D25+L25) -> 0 | U25: =SUM(E25+M25) -> 0 | V25: =SUM(F25+N25) -> 0 | W25: =SUM(G25+O25) -> 0 | X25: =SUM(H25+P25) -> 0 | Y25: =SUM(I25+Q25) -> 0
A26: Medicina del adolescente | R26: =SUM(B26+J26) -> 0 | S26: =SUM(C26+K26) -> 0 | T26: =SUM(D26+L26) -> 0 | U26: =SUM(E26+M26) -> 0 | V26: =SUM(F26+N26) -> 0 | W26: =SUM(G26+O26) -> 0 | X26: =SUM(H26+P26) -> 0 | Y26: =SUM(I26+Q26) -> 0
A27: Nefrología pediátrica | R27: =SUM(B27+J27) -> 0 | S27: =SUM(C27+K27) -> 0 | T27: =SUM(D27+L27) -> 0 | U27: =SUM(E27+M27) -> 0 | V27: =SUM(F27+N27) -> 0 | W27: =SUM(G27+O27) -> 0 | X27: =SUM(H27+P27) -> 0 | Y27: =SUM(I27+Q27) -> 0
A28: Nefrología adulto | R28: =SUM(B28+J28) -> 0 | S28: =SUM(C28+K28) -> 0 | T28: =SUM(D28+L28) -> 0 | U28: =SUM(E28+M28) -> 0 | V28: =SUM(F28+N28) -> 0 | W28: =SUM(G28+O28) -> 0 | X28: =SUM(H28+P28) -> 0 | Y28: =SUM(I28+Q28) -> 0
A29: Nutrición clínica | R29: =SUM(B29+J29) -> 0 | S29: =SUM(C29+K29) -> 0 | T29: =SUM(D29+L29) -> 0 | U29: =SUM(E29+M29) -> 0 | V29: =SUM(F29+N29) -> 0 | W29: =SUM(G29+O29) -> 0 | X29: =SUM(H29+P29) -> 0 | Y29: =SUM(I29+Q29) -> 0
A30: Medicina Materno Infantil | R30: =SUM(B30+J30) -> 0 | S30: =SUM(C30+K30) -> 0 | T30: =SUM(D30+L30) -> 0 | U30: =SUM(E30+M30) -> 0 | V30: =SUM(F30+N30) -> 0 | W30: =SUM(G30+O30) -> 0 | X30: =SUM(H30+P30) -> 0 | Y30: =SUM(I30+Q30) -> 0
A31: Reumatología | R31: =SUM(B31+J31) -> 0 | S31: =SUM(C31+K31) -> 0 | T31: =SUM(D31+L31) -> 0 | U31: =SUM(E31+M31) -> 0 | V31: =SUM(F31+N31) -> 0 | W31: =SUM(G31+O31) -> 0 | X31: =SUM(H31+P31) -> 0 | Y31: =SUM(I31+Q31) -> 0
A32: Medicina Paliativa y Manejo del Dolor | R32: =SUM(B32+J32) -> 0 | S32: =SUM(C32+K32) -> 0 | T32: =SUM(D32+L32) -> 0 | U32: =SUM(E32+M32) -> 0 | V32: =SUM(F32+N32) -> 0 | W32: =SUM(G32+O32) -> 0 | X32: =SUM(H32+P32) -> 0 | Y32: =SUM(I32+Q32) -> 0
A33: Dermatología | R33: =SUM(B33+J33) -> 0 | S33: =SUM(C33+K33) -> 0 | T33: =SUM(D33+L33) -> 0 | U33: =SUM(E33+M33) -> 0 | V33: =SUM(F33+N33) -> 0 | W33: =SUM(G33+O33) -> 0 | X33: =SUM(H33+P33) -> 0 | Y33: =SUM(I33+Q33) -> 0
... A39: Neurología pediátrica | R39: =SUM(B39+J39) -> 0 | S39: =SUM(C39+K39) -> 0 | T39: =SUM(D39+L39) -> 0 | U39: =SUM(E39+M39) -> 0 | V39: =SUM(F39+N39) -> 0 | W39: =SUM(G39+O39) -> 0 | X39: =SUM(H39+P39) -> 0 | Y39: =SUM(I39+Q39) -> 0
A40: Neurología adulto | H40: 2 | R40: =SUM(B40+J40) -> 0 | S40: =SUM(C40+K40) -> 0 | T40: =SUM(D40+L40) -> 0 | U40: =SUM(E40+M40) -> 0 | V40: =SUM(F40+N40) -> 0 | W40: =SUM(G40+O40) -> 0 | X40: =SUM(H40+P40) -> 2 | Y40: =SUM(I40+Q40) -> 0 | Z40: 2
A41: Oncología médica | R41: =SUM(B41+J41) -> 0 | S41: =SUM(C41+K41) -> 0 | T41: =SUM(D41+L41) -> 0 | U41: =SUM(E41+M41) -> 0 | V41: =SUM(F41+N41) -> 0 | W41: =SUM(G41+O41) -> 0 | X41: =SUM(H41+P41) -> 0 | Y41: =SUM(I41+Q41) -> 0
A42: Psiquiatría pediátrica y de la adolescencia | R42: =SUM(B42+J42) -> 0 | S42: =SUM(C42+K42) -> 0 | T42: =SUM(D42+L42) -> 0 | U42: =SUM(E42+M42) -> 0 | V42: =SUM(F42+N42) -> 0 | W42: =SUM(G42+O42) -> 0 | X42: =SUM(H42+P42) -> 0 | Y42: =SUM(I42+Q42) -> 0
A43: Psiquiatría adulto | F43: 2 | R43: =SUM(B43+J43) -> 0 | S43: =SUM(C43+K43) -> 0 | T43: =SUM(D43+L43) -> 0 | U43: =SUM(E43+M43) -> 0 | V43: =SUM(F43+N43) -> 2 | W43: =SUM(G43+O43) -> 0 | X43: =SUM(H43+P43) -> 0 | Y43: =SUM(I43+Q43) -> 0 | Z43: 2
A44: Cirugía pediátrica | R44: =SUM(B44+J44) -> 0 | S44: =SUM(C44+K44) -> 0 | T44: =SUM(D44+L44) -> 0 | U44: =SUM(E44+M44) -> 0 | V44: =SUM(F44+N44) -> 0 | W44: =SUM(G44+O44) -> 0 | X44: =SUM(H44+P44) -> 0 | Y44: =SUM(I44+Q44) -> 0
A45: Cirugía General | H45: 8 | I45: 11 | R45: =SUM(B45+J45) -> 0 | S45: =SUM(C45+K45) -> 0 | T45: =SUM(D45+L45) -> 0 | U45: =SUM(E45+M45) -> 0 | V45: =SUM(F45+N45) -> 0 | W45: =SUM(G45+O45) -> 0 | X45: =SUM(H45+P45) -> 8 | Y45: =SUM(I45+Q45) -> 11 | Z45: 19
A46: Cirugía digestiva (alta) | R46: =SUM(B46+J46) -> 0 | S46: =SUM(C46+K46) -> 0 | T46: =SUM(D46+L46) -> 0 | U46: =SUM(E46+M46) -> 0 | V46: =SUM(F46+N46) -> 0 | W46: =SUM(G46+O46) -> 0 | X46: =SUM(H46+P46) -> 0 | Y46: =SUM(I46+Q46) -> 0
A47: Cirugía de cabeza, cuello y maxilofacial | R47: =SUM(B47+J47) -> 0 | S47: =SUM(C47+K47) -> 0 | T47: =SUM(D47+L47) -> 0 | U47: =SUM(E47+M47) -> 0 | V47: =SUM(F47+N47) -> 0 | W47: =SUM(G47+O47) -> 0 | X47: =SUM(H47+P47) -> 0 | Y47: =SUM(I47+Q47) -> 0
A48: Cirugía Plástica y Reparadora | R48: =SUM(B48+J48) -> 0 | S48: =SUM(C48+K48) -> 0 | T48: =SUM(D48+L48) -> 0 | U48: =SUM(E48+M48) -> 0 | V48: =SUM(F48+N48) -> 0 | W48: =SUM(G48+O48) -> 0 | X48: =SUM(H48+P48) -> 0 | Y48: =SUM(I48+Q48) -> 0
A49: Medicina del Deporte | R49: =SUM(B49+J49) -> 0 | S49: =SUM(C49+K49) -> 0 | T49: =SUM(D49+L49) -> 0 | U49: =SUM(E49+M49) -> 0 | V49: =SUM(F49+N49) -> 0 | W49: =SUM(G49+O49) -> 0 | X49: =SUM(H49+P49) -> 0 | Y49: =SUM(I49+Q49) -> 0
A50: Coloproctología (Cirugía digestiva baja) | R50: =SUM(B50+J50) -> 0 | S50: =SUM(C50+K50) -> 0 | T50: =SUM(D50+L50) -> 0 | U50: =SUM(E50+M50) -> 0 | V50: =SUM(F50+N50) -> 0 | W50: =SUM(G50+O50) -> 0 | X50: =SUM(H50+P50) -> 0 | Y50: =SUM(I50+Q50) -> 0
A51: Cirugía tórax | R51: =SUM(B51+J51) -> 0 | S51: =SUM(C51+K51) -> 0 | T51: =SUM(D51+L51) -> 0 | U51: =SUM(E51+M51) -> 0 | V51: =SUM(F51+N51) -> 0 | W51: =SUM(G51+O51) -> 0 | X51: =SUM(H51+P51) -> 0 | Y51: =SUM(I51+Q51) -> 0
A52: Cirugía vascular periferica | R52: =SUM(B52+J52) -> 0 | S52: =SUM(C52+K52) -> 0 | T52: =SUM(D52+L52) -> 0 | U52: =SUM(E52+M52) -> 0 | V52: =SUM(F52+N52) -> 0 | W52: =SUM(G52+O52) -> 0 | X52: =SUM(H52+P52) -> 0 | Y52: =SUM(I52+Q52) -> 0
A53: Neurocirugía | R53: =SUM(B53+J53) -> 0 | S53: =SUM(C53+K53) -> 0 | T53: =SUM(D53+L53) -> 0 | U53: =SUM(E53+M53) -> 0 | V53: =SUM(F53+N53) -> 0 | W53: =SUM(G53+O53) -> 0 | X53: =SUM(H53+P53) -> 0 | Y53: =SUM(I53+Q53) -> 0
A54: Cirugía cardiovascular | R54: =SUM(B54+J54) -> 0 | S54: =SUM(C54+K54) -> 0 | T54: =SUM(D54+L54) -> 0 | U54: =SUM(E54+M54) -> 0 | V54: =SUM(F54+N54) -> 0 | W54: =SUM(G54+O54) -> 0 | X54: =SUM(H54+P54) -> 0 | Y54: =SUM(I54+Q54) -> 0
A55: Anestesiología | R55: =SUM(B55+J55) -> 0 | S55: =SUM(C55+K55) -> 0 | T55: =SUM(D55+L55) -> 0 | U55: =SUM(E55+M55) -> 0 | V55: =SUM(F55+N55) -> 0 | W55: =SUM(G55+O55) -> 0 | X55: =SUM(H55+P55) -> 0 | Y55: =SUM(I55+Q55) -> 0
A56: Obstetricia y Ginecología | G56: 13 | I56: 21 | R56: =SUM(B56+J56) -> 0 | S56: =SUM(C56+K56) -> 0 | T56: =SUM(D56+L56) -> 0 | U56: =SUM(E56+M56) -> 0 | V56: =SUM(F56+N56) -> 0 | W56: =SUM(G56+O56) -> 13 | X56: =SUM(H56+P56) -> 0 | Y56: =SUM(I56+Q56) -> 21 | Z56: 34
A57: Ginecología oncológica | R57: =SUM(B57+J57) -> 0 | S57: =SUM(C57+K57) -> 0 | T57: =SUM(D57+L57) -> 0 | U57: =SUM(E57+M57) -> 0 | V57: =SUM(F57+N57) -> 0 | W57: =SUM(G57+O57) -> 0 | X57: =SUM(H57+P57) -> 0 | Y57: =SUM(I57+Q57) -> 0
A58: Neurorradiologia | R58: =SUM(B58+J58) -> 0 | S58: =SUM(C58+K58) -> 0 | T58: =SUM(D58+L58) -> 0 | U58: =SUM(E58+M58) -> 0 | V58: =SUM(F58+N58) -> 0 | W58: =SUM(G58+O58) -> 0 | X58: =SUM(H58+P58) -> 0 | Y58: =SUM(I58+Q58) -> 0
A59: Oftalmología | R59: =SUM(B59+J59) -> 0 | S59: =SUM(C59+K59) -> 0 | T59: =SUM(D59+L59) -> 0 | U59: =SUM(E59+M59) -> 0 | V59: =SUM(F59+N59) -> 0 | W59: =SUM(G59+O59) -> 0 | X59: =SUM(H59+P59) -> 0 | Y59: =SUM(I59+Q59) -> 0
A60: Otorrinolaringología | R60: =SUM(B60+J60) -> 0 | S60: =SUM(C60+K60) -> 0 | T60: =SUM(D60+L60) -> 0 | U60: =SUM(E60+M60) -> 0 | V60: =SUM(F60+N60) -> 0 | W60: =SUM(G60+O60) -> 0 | X60: =SUM(H60+P60) -> 0 | Y60: =SUM(I60+Q60) -> 0
A61: Traumatología y Ortopedia | H61: 1 | I61: 1 | R61: =SUM(B61+J61) -> 0 | S61: =SUM(C61+K61) -> 0 | T61: =SUM(D61+L61) -> 0 | U61: =SUM(E61+M61) -> 0 | V61: =SUM(F61+N61) -> 0 | W61: =SUM(G61+O61) -> 0 | X61: =SUM(H61+P61) -> 1 | Y61: =SUM(I61+Q61) -> 1 | Z61: 2
A62: Urología | R62: =SUM(B62+J62) -> 0 | S62: =SUM(C62+K62) -> 0 | T62: =SUM(D62+L62) -> 0 | U62: =SUM(E62+M62) -> 0 | V62: =SUM(F62+N62) -> 0 | W62: =SUM(G62+O62) -> 0 | X62: =SUM(H62+P62) -> 0 | Y62: =SUM(I62+Q62) -> 0
A63: Medicina familiar | R63: =SUM(B63+J63) -> 0 | S63: =SUM(C63+K63) -> 0 | T63: =SUM(D63+L63) -> 0 | U63: =SUM(E63+M63) -> 0 | V63: =SUM(F63+N63) -> 0 | W63: =SUM(G63+O63) -> 0 | X63: =SUM(H63+P63) -> 0 | Y63: =SUM(I63+Q63) -> 0
A64: Diabetología | R64: =SUM(B64+J64) -> 0 | S64: =SUM(C64+K64) -> 0 | T64: =SUM(D64+L64) -> 0 | U64: =SUM(E64+M64) -> 0 | V64: =SUM(F64+N64) -> 0 | W64: =SUM(G64+O64) -> 0 | X64: =SUM(H64+P64) -> 0 | Y64: =SUM(I64+Q64) -> 0
A65: Medicina intensiva | R65: =SUM(B65+J65) -> 0 | S65: =SUM(C65+K65) -> 0 | T65: =SUM(D65+L65) -> 0 | U65: =SUM(E65+M65) -> 0 | V65: =SUM(F65+N65) -> 0 | W65: =SUM(G65+O65) -> 0 | X65: =SUM(H65+P65) -> 0 | Y65: =SUM(I65+Q65) -> 0
A66: Imagenología | R66: =SUM(B66+J66) -> 0 | S66: =SUM(C66+K66) -> 0 | T66: =SUM(D66+L66) -> 0 | U66: =SUM(E66+M66) -> 0 | V66: =SUM(F66+N66) -> 0 | W66: =SUM(G66+O66) -> 0 | X66: =SUM(H66+P66) -> 0 | Y66: =SUM(I66+Q66) -> 0
A67: Radioterapia oncológica | R67: =SUM(B67+J67) -> 0 | S67: =SUM(C67+K67) -> 0 | T67: =SUM(D67+L67) -> 0 | U67: =SUM(E67+M67) -> 0 | V67: =SUM(F67+N67) -> 0 | W67: =SUM(G67+O67) -> 0 | X67: =SUM(H67+P67) -> 0 | Y67: =SUM(I67+Q67) -> 0
A68: SECCIÓN B : TELEINTERCONSULTA MÉDICA EN ESTABLECIMIENTOS DE ATENCIÓN SECUNDARIA DE URGENCIA (ATENCIÓN MÉDICO A MÉDICO)
A69: Tipo de teleinterconsulta de urgencia | B69: Teleinterconsulta médica de urgencia en hospitales de alta y mediana complejidad | J69: Modalidad | M69: Teleinterconsultas solicitadas desde APS o Nivel Secundario para ser resueltas por otro establecimiento
B70: 0 - 14 años | D70: 15 - 17 años | F70: 18 - 19 años | H70: 20 y más años | J70: Institucional | K70: Compra de Servicio | M70: 0 - 14 años | O70: 15 - 17 años | Q70: 18 - 19 años | S70: 20 y más años
B71: Hombres | C71: Mujeres | D71: Hombres | E71: Mujeres | F71: Hombres | G71: Mujeres | H71: Hombres | I71: Mujeres | J71: Establecimiento de la Red | K71: Sistema | L71: Extrasistema | M71: Hombres | N71: Mujeres | O71: Hombres | P71: Mujeres | Q71: Hombres | R71: Mujeres | S71: Hombres | T71: Mujeres
A72: Consulta urgencia otros
A73: Accidente cerebro vascular (ACV) | S73: 1 | T73: 7
A74: Quemados
A75: SECCIÓN C : TELEINFORMES EN ESTABLECIMIENTOS DE ATENCIÓN PRIMARIA, SECUNDARIA Y TERCIARIA
A76: Teleinformes realizados | B76: Establecimientos del Nivel Primario de salud | M76: Establecimientos de Nivel Secundario y Terciario | X76: Total teleinformes realizados
B77: 0 - 14 años | D77: 15 - 17 años | F77: 18 - 19 años | H77: 20 y más años | J77: Modalidad | M77: 0 - 14 años | O77: 15 - 17 años | Q77: 18 - 19 años | S77: 20 y más años | U77: Modalidad
B78: Hombres | C78: Mujeres | D78: Hombres | E78: Mujeres | F78: Hombres | G78: Mujeres | H78: Hombres | I78: Mujeres | J78: Institucional | K78: Compra de Servicio | M78: Hombres | N78: Mujeres | O78: Hombres | P78: Mujeres | Q78: Hombres | R78: Mujeres | S78: Hombres | T78: Mujeres | U78: Institucional | V78: Compra de Servicio | X78: Teleinformes realizados por Inteligencia Artificial | Y78: Teleinformes realizados por Médico Especialista
K79: Sistema | L79: Extrasistema | V79: Sistema | W79: Extrasistema
A80: TOTAL EMISIONES DE INFORMES | B80: =B81+B82+B83+B84+B85+B86+B87+B88+B89+B92+B93 -> 0 | C80: =C81+C82+C83+C84+C85+C86+C87+C88+C89+C92+C93 -> 0 | D80: =D81+D82+D83+D84+D85+D86+D87+D88+D89+D92+D93 -> 0 | E80: =E81+E82+E83+E84+E85+E86+E87+E88+E89+E92+E93 -> 0 | F80: =F81+F82+F83+F84+F85+F86+F87+F88+F89+F92+F93 -> 0 | G80: =G81+G82+G83+G84+G85+G86+G87+G88+G89+G92+G93 -> 0 | H80: =H81+H82+H83+H84+H85+H86+H87+H88+H89+H92+H93 -> 0 | I80: =I81+I82+I83+I84+I85+I86+I87+I88+I89+I92+I93 -> 0 | ... L80: =L81+L82+L83+L84+L85+L86+L87+L88+L89+L92+L93 -> 0 | M80: =SUM(M81:M93) -> 55 | N80: =SUM(N81:N93) -> 47 | O80: =SUM(O81:O93) -> 27 | P80: =SUM(P81:P93) -> 24 | Q80: =SUM(Q81:Q93) -> 20 | R80: =SUM(R81:R93) -> 15 | S80: =SUM(S81:S93) -> 677 | T80: =SUM(T81:T93) -> 667 | ... Y80: =SUM(Y81:Y93) -> 1532
A81: Nº de informes Ecografías obstétricas
A82: Nº de informes Electrocardiograma
A83: Nº de informes Electroencefalograma
A84: Nº de informes Espirometrías
A85: Nº de informes Fondo de ojo (excluye resolutividad)
A86: Nº de informes Holter de presión arterial
A87: Nº de informes Test de esfuerzo
A88: Nº de informes radiografías simples
A89: Nº de informes radiografías dentales
A90: Nº de informes de Tomografía axial computarizada | M90: 55 | N90: 47 | O90: 27 | P90: 24 | Q90: 20 | R90: 15 | S90: 677 | T90: 667 | W90: 1532 | Y90: 1532
A91: Nº de informes de Resonancia magnética nuclear
A92: Nº de informes Ecografías abdominal
A93: N° de mamografía
A94: SECCIÓN D: TELEINTERCONSULTA ODONTOLÓGICA
A95: Especialidades odontológicas | B95: Teleinterconsulta de especialidad odontológica ambulatoria nueva | J95: Teleinterconsulta de especialidad odontológica ambulatoria control | R95: TOTAL TELEINTERCONSULTAS AMBULATORIAS DE ESPECIALIDAD ODONTOLÓGICA | Z95: Modalidad | AC95: Solicitud de teleinterconsulta de especialidad odontológica
B96: 0 - 14 años | D96: 15 - 17 años | F96: 18 - 19 años | H96: 20 y más años | J96: 0 - 14 años | L96: 15 - 17 años | N96: 18 - 19 años | P96: 20 y más años | R96: 0 - 14 años | T96: 15 - 17 años | V96: 18 - 19 años | X96: 20 y más años | Z96: Institucional | AA96: Compra de Servicio | AC96: 0 - 14 años | AE96: 15 - 17 años | AG96: 18-19 años | AI96: 20 y más años
B97: Hombres | C97: Mujeres | D97: Hombres | E97: Mujeres | F97: Hombres | G97: Mujeres | H97: Hombres | I97: Mujeres | J97: Hombres | K97: Mujeres | L97: Hombres | M97: Mujeres | N97: Hombres | O97: Mujeres | P97: Hombres | Q97: Mujeres | R97: Hombres | S97: Mujeres | T97: Hombres | U97: Mujeres | V97: Hombres | W97: Mujeres | X97: Hombres | Y97: Mujeres | Z97: Establecimiento de la Red | AA97: Sistema | AB97: Extrasistema | AC97: Hombres | AD97: Mujeres | AE97: Hombres | AF97: Mujeres | AG97: Hombres | AH97: Mujeres | AI97: Hombres | AJ97: Mujeres
A98: TOTAL | B98: =SUM(B99:B108) -> 0 | C98: =SUM(C99:C108) -> 0 | D98: =SUM(D99:D108) -> 0 | E98: =SUM(E99:E108) -> 0 | F98: =SUM(F99:F108) -> 0 | G98: =SUM(G99:G108) -> 0 | H98: =SUM(H99:H108) -> 0 | I98: =SUM(I99:I108) -> 0 | ... AJ98: =SUM(AJ99:AJ108) -> 0
A99: Cirugía y traumatología maxilofacial | R99: =+B99+J99 -> 0 | S99: =+C99+K99 -> 0 | T99: =+D99+L99 -> 0 | U99: =+E99+M99 -> 0 | V99: =+F99+N99 -> 0 | W99: =+G99+O99 -> 0 | X99: =+H99+P99 -> 0 | Y99: =+I99+Q99 -> 0
A100: Endodoncia | R100: =+B100+J100 -> 0 | S100: =+C100+K100 -> 0 | T100: =+D100+L100 -> 0 | U100: =+E100+M100 -> 0 | V100: =+F100+N100 -> 0 | W100: =+G100+O100 -> 0 | X100: =+H100+P100 -> 0 | Y100: =+I100+Q100 -> 0
A101: Odontopediatría | R101: =+B101+J101 -> 0 | S101: =+C101+K101 -> 0 | T101: =+D101+L101 -> 0 | U101: =+E101+M101 -> 0 | V101: =+F101+N101 -> 0 | W101: =+G101+O101 -> 0 | X101: =+H101+P101 -> 0 | Y101: =+I101+Q101 -> 0
A102: Ortodoncia y ortopedia dento maxilofacial | R102: =+B102+J102 -> 0 | S102: =+C102+K102 -> 0 | T102: =+D102+L102 -> 0 | U102: =+E102+M102 -> 0 | V102: =+F102+N102 -> 0 | W102: =+G102+O102 -> 0 | X102: =+H102+P102 -> 0 | Y102: =+I102+Q102 -> 0
A103: Periodoncia | R103: =+B103+J103 -> 0 | S103: =+C103+K103 -> 0 | T103: =+D103+L103 -> 0 | U103: =+E103+M103 -> 0 | V103: =+F103+N103 -> 0 | W103: =+G103+O103 -> 0 | X103: =+H103+P103 -> 0 | Y103: =+I103+Q103 -> 0
A104: Rehabilitación: Prótesis fija | R104: =+B104+J104 -> 0 | S104: =+C104+K104 -> 0 | T104: =+D104+L104 -> 0 | U104: =+E104+M104 -> 0 | V104: =+F104+N104 -> 0 | W104: =+G104+O104 -> 0 | X104: =+H104+P104 -> 0 | Y104: =+I104+Q104 -> 0
A105: Rehabilitación: Prótesis removible | R105: =+B105+J105 -> 0 | S105: =+C105+K105 -> 0 | T105: =+D105+L105 -> 0 | U105: =+E105+M105 -> 0 | V105: =+F105+N105 -> 0 | W105: =+G105+O105 -> 0 | X105: =+H105+P105 -> 0 | Y105: =+I105+Q105 -> 0
A106: Implantología buco maxilofacial | R106: =+B106+J106 -> 0 | S106: =+C106+K106 -> 0 | T106: =+D106+L106 -> 0 | U106: =+E106+M106 -> 0 | V106: =+F106+N106 -> 0 | W106: =+G106+O106 -> 0 | X106: =+H106+P106 -> 0 | Y106: =+I106+Q106 -> 0
...

Sheet JUNIO
A1: SERVICIO DE SALUD
A2: =CONCATENATE("COMUNA: ",[7]NOMBRE!B2, " (",[7]NOMBRE!C2,[7]NOMBRE!D2,[7]NOMBRE!E2,[7]NOMBRE!F2,[7]NOMBRE!G2,")") -> COMUNA: LINARES (07401)
A3: =CONCATENATE("ESTABLECIMIENTO/ESTRATEGIA: ", [7]NOMBRE!B3, " (",[7]NOMBRE!C3,[7]NOMBRE!D3,[7]NOMBRE!E3,[7]NOMBRE!F3,[7]NOMBRE!G3,[7]NOMBRE!H3,")") -> ESTABLECIMIENTO/ESTRATEGIA: HOSPITAL PRESIDENTE CARLOS IBAÑEZ DEL CAMPO (116108)
A4: =CONCATENATE("MES: ",[7]NOMBRE!B6, " (",[7]NOMBRE!C6,[7]NOMBRE!D6,")") -> MES: JUNIO (06)
A5: =CONCATENATE("AÑO: ",[7]NOMBRE!B7) -> AÑO: 2025
A6: REM-30. ATENCIONES POR TELEMEDICINA EN LA RED ASISTENCIAL
A8: SECCIÓN A: TELEINTERCONSULTA DE ESPECIALIDAD (ATENCION REALIZADA DE MÉDICO A MÉDICO)
A9: Especialidades | B9: Teleinterconsulta médica de especialidad ambulatoria nueva | J9: Teleinterconsulta médica de especialidad ambulatoria control | R9: TOTAL TELEINTERCONSULTAS MEDICAS AMBULATORIAS DE ESPECIALIDAD | Z9: Modalidad | AC9: Teleinterconsulta medicina de especialidad realizadas a pacientes hospitalizados | AK9: Modalidad | AN9: Teleinterconsultas solicitadas desde APS o Nivel Secundario para ser resueltas por otro establecimiento
B10: 0 - 14 años | D10: 15 - 17 años | F10: 18-19 años | H10: 20 y más años | J10: 0 - 14 años | L10: 15 - 17 años | N10: 18 - 19 años | P10: 20 y más años | R10: 0 - 14 años | T10: 15 - 17 años | V10: 18- 19 años | X10: 20 y más años | Z10: Institucional | AA10: Compra de Servicio | AC10: 0 - 14 años | AE10: 15 - 17 años | AG10: 18 a 19 años | AI10: 20 y más años | AK10: Institucional | AL10: Compra de Servicio | AN10: 0 - 14 años | AP10: 15 - 17 años | AR10: 18 - 19 años | AT10: 20 y más años
B11: Hombres | C11: Mujeres | D11: Hombres | E11: Mujeres | F11: Hombres | G11: Mujeres | H11: Hombres | I11: Mujeres | J11: Hombres | K11: Mujeres | L11: Hombres | M11: Mujeres | N11: Hombres | O11: Mujeres | P11: Hombres | Q11: Mujeres | R11: Hombres | S11: Mujeres | T11: Hombres | U11: Mujeres | V11: Hombres | W11: Mujeres | X11: Hombres | Y11: Mujeres | AA11: Sistema | AB11: Extrasistema | AC11: Hombres | AD11: Mujeres | AE11: Hombres | AF11: Mujeres | AG11: Hombres | AH11: Mujeres | AI11: Hombres | AJ11: Mujeres | AL11: Sistema | AM11: Extrasistema | AN11: Hombres | AO11: Mujeres | AP11: Hombres | AQ11: Mujeres | AR11: Hombres | AS11: Mujeres | AT11: Hombres | AU11: Mujeres
A12: TOTAL | B12: =SUM(B13:B67) -> 20 | C12: =SUM(C13:C67) -> 31 | D12: =SUM(D13:D67) -> 0 | E12: =SUM(E13:E67) -> 5 | F12: =SUM(F13:F67) -> 0 | G12: =SUM(G13:G67) -> 1 | H12: =SUM(H13:H67) -> 14 | I12: =SUM(I13:I67) -> 77 | ... AU12: =SUM(AU13:AU67) -> 0
A13: Pediatría | B13: 16 | C13: 9 | R13: =SUM(B13+J13) -> 16 | S13: =SUM(C13+K13) -> 9 | T13: =SUM(D13+L13) -> 0 | U13: =SUM(E13+M13) -> 0 | V13: =SUM(F13+N13) -> 0 | W13: =SUM(G13+O13) -> 0 | X13: =SUM(H13+P13) -> 0 | Y13: =SUM(I13+Q13) -> 0 | Z13: 25
A14: Medicina interna | H14: 5 | I14: 8 | R14: =SUM(B14+J14) -> 0 | S14: =SUM(C14+K14) -> 0 | T14: =SUM(D14+L14) -> 0 | U14: =SUM(E14+M14) -> 0 | V14: =SUM(F14+N14) -> 0 | W14: =SUM(G14+O14) -> 0 | X14: =SUM(H14+P14) -> 5 | Y14: =SUM(I14+Q14) -> 8 | Z14: 13
A15: Neonatología | R15: =SUM(B15+J15) -> 0 | S15: =SUM(C15+K15) -> 0 | T15: =SUM(D15+L15) -> 0 | U15: =SUM(E15+M15) -> 0 | V15: =SUM(F15+N15) -> 0 | W15: =SUM(G15+O15) -> 0 | X15: =SUM(H15+P15) -> 0 | Y15: =SUM(I15+Q15) -> 0
A16: Enfermedad respiratoria pediátrica (Brocopulmonar infantil) | R16: =SUM(B16+J16) -> 0 | S16: =SUM(C16+K16) -> 0 | T16: =SUM(D16+L16) -> 0 | U16: =SUM(E16+M16) -> 0 | V16: =SUM(F16+N16) -> 0 | W16: =SUM(G16+O16) -> 0 | X16: =SUM(H16+P16) -> 0 | Y16: =SUM(I16+Q16) -> 0
A17: Enfermedad respiratoria de adulto (Broncopulmonar) | H17: 2 | I17: 2 | R17: =SUM(B17+J17) -> 0 | S17: =SUM(C17+K17) -> 0 | T17: =SUM(D17+L17) -> 0 | U17: =SUM(E17+M17) -> 0 | V17: =SUM(F17+N17) -> 0 | W17: =SUM(G17+O17) -> 0 | X17: =SUM(H17+P17) -> 2 | Y17: =SUM(I17+Q17) -> 2 | Z17: 4
A18: Cardiología | B18: 3 | C18: 5 | I18: 3 | R18: =SUM(B18+J18) -> 3 | S18: =SUM(C18+K18) -> 5 | T18: =SUM(D18+L18) -> 0 | U18: =SUM(E18+M18) -> 0 | V18: =SUM(F18+N18) -> 0 | W18: =SUM(G18+O18) -> 0 | X18: =SUM(H18+P18) -> 0 | Y18: =SUM(I18+Q18) -> 3 | Z18: 11
A19: Mastología | R19: =SUM(B19+J19) -> 0 | S19: =SUM(C19+K19) -> 0 | T19: =SUM(D19+L19) -> 0 | U19: =SUM(E19+M19) -> 0 | V19: =SUM(F19+N19) -> 0 | W19: =SUM(G19+O19) -> 0 | X19: =SUM(H19+P19) -> 0 | Y19: =SUM(I19+Q19) -> 0
A20: Endocrinología pediátrica | R20: =SUM(B20+J20) -> 0 | S20: =SUM(C20+K20) -> 0 | T20: =SUM(D20+L20) -> 0 | U20: =SUM(E20+M20) -> 0 | V20: =SUM(F20+N20) -> 0 | W20: =SUM(G20+O20) -> 0 | X20: =SUM(H20+P20) -> 0 | Y20: =SUM(I20+Q20) -> 0
A21: Endocrinología adulto | R21: =SUM(B21+J21) -> 0 | S21: =SUM(C21+K21) -> 0 | T21: =SUM(D21+L21) -> 0 | U21: =SUM(E21+M21) -> 0 | V21: =SUM(F21+N21) -> 0 | W21: =SUM(G21+O21) -> 0 | X21: =SUM(H21+P21) -> 0 | Y21: =SUM(I21+Q21) -> 0
A22: Gastroenterología pediátrica | R22: =SUM(B22+J22) -> 0 | S22: =SUM(C22+K22) -> 0 | T22: =SUM(D22+L22) -> 0 | U22: =SUM(E22+M22) -> 0 | V22: =SUM(F22+N22) -> 0 | W22: =SUM(G22+O22) -> 0 | X22: =SUM(H22+P22) -> 0 | Y22: =SUM(I22+Q22) -> 0
A23: Gastroenterología adulto | R23: =SUM(B23+J23) -> 0 | S23: =SUM(C23+K23) -> 0 | T23: =SUM(D23+L23) -> 0 | U23: =SUM(E23+M23) -> 0 | V23: =SUM(F23+N23) -> 0 | W23: =SUM(G23+O23) -> 0 | X23: =SUM(H23+P23) -> 0 | Y23: =SUM(I23+Q23) -> 0
A24: Genética clínica | R24: =SUM(B24+J24) -> 0 | S24: =SUM(C24+K24) -> 0 | T24: =SUM(D24+L24) -> 0 | U24: =SUM(E24+M24) -> 0 | V24: =SUM(F24+N24) -> 0 | W24: =SUM(G24+O24) -> 0 | X24: =SUM(H24+P24) -> 0 | Y24: =SUM(I24+Q24) -> 0
A25: Hematología | R25: =SUM(B25+J25) -> 0 | S25: =SUM(C25+K25) -> 0 | T25: =SUM(D25+L25) -> 0 | U25: =SUM(E25+M25) -> 0 | V25: =SUM(F25+N25) -> 0 | W25: =SUM(G25+O25) -> 0 | X25: =SUM(H25+P25) -> 0 | Y25: =SUM(I25+Q25) -> 0
A26: Medicina del adolescente | R26: =SUM(B26+J26) -> 0 | S26: =SUM(C26+K26) -> 0 | T26: =SUM(D26+L26) -> 0 | U26: =SUM(E26+M26) -> 0 | V26: =SUM(F26+N26) -> 0 | W26: =SUM(G26+O26) -> 0 | X26: =SUM(H26+P26) -> 0 | Y26: =SUM(I26+Q26) -> 0
A27: Nefrología pediátrica | R27: =SUM(B27+J27) -> 0 | S27: =SUM(C27+K27) -> 0 | T27: =SUM(D27+L27) -> 0 | U27: =SUM(E27+M27) -> 0 | V27: =SUM(F27+N27) -> 0 | W27: =SUM(G27+O27) -> 0 | X27: =SUM(H27+P27) -> 0 | Y27: =SUM(I27+Q27) -> 0
A28: Nefrología adulto | R28: =SUM(B28+J28) -> 0 | S28: =SUM(C28+K28) -> 0 | T28: =SUM(D28+L28) -> 0 | U28: =SUM(E28+M28) -> 0 | V28: =SUM(F28+N28) -> 0 | W28: =SUM(G28+O28) -> 0 | X28: =SUM(H28+P28) -> 0 | Y28: =SUM(I28+Q28) -> 0
A29: Nutrición clínica | R29: =SUM(B29+J29) -> 0 | S29: =SUM(C29+K29) -> 0 | T29: =SUM(D29+L29) -> 0 | U29: =SUM(E29+M29) -> 0 | V29: =SUM(F29+N29) -> 0 | W29: =SUM(G29+O29) -> 0 | X29: =SUM(H29+P29) -> 0 | Y29: =SUM(I29+Q29) -> 0
A30: Medicina Materno Infantil | R30: =SUM(B30+J30) -> 0 | S30: =SUM(C30+K30) -> 0 | T30: =SUM(D30+L30) -> 0 | U30: =SUM(E30+M30) -> 0 | V30: =SUM(F30+N30) -> 0 | W30: =SUM(G30+O30) -> 0 | X30: =SUM(H30+P30) -> 0 | Y30: =SUM(I30+Q30) -> 0
... A32: Medicina Paliativa y Manejo del Dolor | R32: =SUM(B32+J32) -> 0 | S32: =SUM(C32+K32) -> 0 | T32: =SUM(D32+L32) -> 0 | U32: =SUM(E32+M32) -> 0 | V32: =SUM(F32+N32) -> 0 | W32: =SUM(G32+O32) -> 0 | X32: =SUM(H32+P32) -> 0 | Y32: =SUM(I32+Q32) -> 0
A33: Dermatología | C33: 1 | R33: =SUM(B33+J33) -> 0 | S33: =SUM(C33+K33) -> 1 | T33: =SUM(D33+L33) -> 0 | U33: =SUM(E33+M33) -> 0 | V33: =SUM(F33+N33) -> 0 | W33: =SUM(G33+O33) -> 0 | X33: =SUM(H33+P33) -> 0 | Y33: =SUM(I33+Q33) -> 0 | Z33: 1
A34: Infectología | R34: =SUM(B34+J34) -> 0 | S34: =SUM(C34+K34) -> 0 | T34: =SUM(D34+L34) -> 0 | U34: =SUM(E34+M34) -> 0 | V34: =SUM(F34+N34) -> 0 | W34: =SUM(G34+O34) -> 0 | X34: =SUM(H34+P34) -> 0 | Y34: =SUM(I34+Q34) -> 0
A35: Inmunología | R35: =SUM(B35+J35) -> 0 | S35: =SUM(C35+K35) -> 0 | T35: =SUM(D35+L35) -> 0 | U35: =SUM(E35+M35) -> 0 | V35: =SUM(F35+N35) -> 0 | W35: =SUM(G35+O35) -> 0 | X35: =SUM(H35+P35) -> 0 | Y35: =SUM(I35+Q35) -> 0
A36: Geriatría | R36: =SUM(B36+J36) -> 0 | S36: =SUM(C36+K36) -> 0 | T36: =SUM(D36+L36) -> 0 | U36: =SUM(E36+M36) -> 0 | V36: =SUM(F36+N36) -> 0 | W36: =SUM(G36+O36) -> 0 | X36: =SUM(H36+P36) -> 0 | Y36: =SUM(I36+Q36) -> 0
A37: Medicina Física y Rehabilitación | R37: =SUM(B37+J37) -> 0 | S37: =SUM(C37+K37) -> 0 | T37: =SUM(D37+L37) -> 0 | U37: =SUM(E37+M37) -> 0 | V37: =SUM(F37+N37) -> 0 | W37: =SUM(G37+O37) -> 0 | X37: =SUM(H37+P37) -> 0 | Y37: =SUM(I37+Q37) -> 0
A38: Medicina Reproductiva e Infertilidad | R38: =SUM(B38+J38) -> 0 | S38: =SUM(C38+K38) -> 0 | T38: =SUM(D38+L38) -> 0 | U38: =SUM(E38+M38) -> 0 | V38: =SUM(F38+N38) -> 0 | W38: =SUM(G38+O38) -> 0 | X38: =SUM(H38+P38) -> 0 | Y38: =SUM(I38+Q38) -> 0
A39: Neurología pediátrica | B39: 1 | R39: =SUM(B39+J39) -> 1 | S39: =SUM(C39+K39) -> 0 | T39: =SUM(D39+L39) -> 0 | U39: =SUM(E39+M39) -> 0 | V39: =SUM(F39+N39) -> 0 | W39: =SUM(G39+O39) -> 0 | X39: =SUM(H39+P39) -> 0 | Y39: =SUM(I39+Q39) -> 0 | Z39: 1
A40: Neurología adulto | E40: 1 | H40: 2 | I40: 7 | R40: =SUM(B40+J40) -> 0 | S40: =SUM(C40+K40) -> 0 | T40: =SUM(D40+L40) -> 0 | U40: =SUM(E40+M40) -> 1 | V40: =SUM(F40+N40) -> 0 | W40: =SUM(G40+O40) -> 0 | X40: =SUM(H40+P40) -> 2 | Y40: =SUM(I40+Q40) -> 7 | Z40: 10
A41: Oncología médica | R41: =SUM(B41+J41) -> 0 | S41: =SUM(C41+K41) -> 0 | T41: =SUM(D41+L41) -> 0 | U41: =SUM(E41+M41) -> 0 | V41: =SUM(F41+N41) -> 0 | W41: =SUM(G41+O41) -> 0 | X41: =SUM(H41+P41) -> 0 | Y41: =SUM(I41+Q41) -> 0
A42: Psiquiatría pediátrica y de la adolescencia | R42: =SUM(B42+J42) -> 0 | S42: =SUM(C42+K42) -> 0 | T42: =SUM(D42+L42) -> 0 | U42: =SUM(E42+M42) -> 0 | V42: =SUM(F42+N42) -> 0 | W42: =SUM(G42+O42) -> 0 | X42: =SUM(H42+P42) -> 0 | Y42: =SUM(I42+Q42) -> 0
A43: Psiquiatría adulto | I43: 3 | R43: =SUM(B43+J43) -> 0 | S43: =SUM(C43+K43) -> 0 | T43: =SUM(D43+L43) -> 0 | U43: =SUM(E43+M43) -> 0 | V43: =SUM(F43+N43) -> 0 | W43: =SUM(G43+O43) -> 0 | X43: =SUM(H43+P43) -> 0 | Y43: =SUM(I43+Q43) -> 3 | Z43: 3
A44: Cirugía pediátrica | R44: =SUM(B44+J44) -> 0 | S44: =SUM(C44+K44) -> 0 | T44: =SUM(D44+L44) -> 0 | U44: =SUM(E44+M44) -> 0 | V44: =SUM(F44+N44) -> 0 | W44: =SUM(G44+O44) -> 0 | X44: =SUM(H44+P44) -> 0 | Y44: =SUM(I44+Q44) -> 0
A45: Cirugía General | H45: 5 | I45: 16 | R45: =SUM(B45+J45) -> 0 | S45: =SUM(C45+K45) -> 0 | T45: =SUM(D45+L45) -> 0 | U45: =SUM(E45+M45) -> 0 | V45: =SUM(F45+N45) -> 0 | W45: =SUM(G45+O45) -> 0 | X45: =SUM(H45+P45) -> 5 | Y45: =SUM(I45+Q45) -> 16 | Z45: 21
A46: Cirugía digestiva (alta) | R46: =SUM(B46+J46) -> 0 | S46: =SUM(C46+K46) -> 0 | T46: =SUM(D46+L46) -> 0 | U46: =SUM(E46+M46) -> 0 | V46: =SUM(F46+N46) -> 0 | W46: =SUM(G46+O46) -> 0 | X46: =SUM(H46+P46) -> 0 | Y46: =SUM(I46+Q46) -> 0
A47: Cirugía de cabeza, cuello y maxilofacial | R47: =SUM(B47+J47) -> 0 | S47: =SUM(C47+K47) -> 0 | T47: =SUM(D47+L47) -> 0 | U47: =SUM(E47+M47) -> 0 | V47: =SUM(F47+N47) -> 0 | W47: =SUM(G47+O47) -> 0 | X47: =SUM(H47+P47) -> 0 | Y47: =SUM(I47+Q47) -> 0
A48: Cirugía Plástica y Reparadora | R48: =SUM(B48+J48) -> 0 | S48: =SUM(C48+K48) -> 0 | T48: =SUM(D48+L48) -> 0 | U48: =SUM(E48+M48) -> 0 | V48: =SUM(F48+N48) -> 0 | W48: =SUM(G48+O48) -> 0 | X48: =SUM(H48+P48) -> 0 | Y48: =SUM(I48+Q48) -> 0
A49: Medicina del Deporte | R49: =SUM(B49+J49) -> 0 | S49: =SUM(C49+K49) -> 0 | T49: =SUM(D49+L49) -> 0 | U49: =SUM(E49+M49) -> 0 | V49: =SUM(F49+N49) -> 0 | W49: =SUM(G49+O49) -> 0 | X49: =SUM(H49+P49) -> 0 | Y49: =SUM(I49+Q49) -> 0
A50: Coloproctología (Cirugía digestiva baja) | R50: =SUM(B50+J50) -> 0 | S50: =SUM(C50+K50) -> 0 | T50: =SUM(D50+L50) -> 0 | U50: =SUM(E50+M50) -> 0 | V50: =SUM(F50+N50) -> 0 | W50: =SUM(G50+O50) -> 0 | X50: =SUM(H50+P50) -> 0 | Y50: =SUM(I50+Q50) -> 0
A51: Cirugía tórax | R51: =SUM(B51+J51) -> 0 | S51: =SUM(C51+K51) -> 0 | T51: =SUM(D51+L51) -> 0 | U51: =SUM(E51+M51) -> 0 | V51: =SUM(F51+N51) -> 0 | W51: =SUM(G51+O51) -> 0 | X51: =SUM(H51+P51) -> 0 | Y51: =SUM(I51+Q51) -> 0
A52: Cirugía vascular periferica | R52: =SUM(B52+J52) -> 0 | S52: =SUM(C52+K52) -> 0 | T52: =SUM(D52+L52) -> 0 | U52: =SUM(E52+M52) -> 0 | V52: =SUM(F52+N52) -> 0 | W52: =SUM(G52+O52) -> 0 | X52: =SUM(H52+P52) -> 0 | Y52: =SUM(I52+Q52) -> 0
A53: Neurocirugía | R53: =SUM(B53+J53) -> 0 | S53: =SUM(C53+K53) -> 0 | T53: =SUM(D53+L53) -> 0 | U53: =SUM(E53+M53) -> 0 | V53: =SUM(F53+N53) -> 0 | W53: =SUM(G53+O53) -> 0 | X53: =SUM(H53+P53) -> 0 | Y53: =SUM(I53+Q53) -> 0
A54: Cirugía cardiovascular | R54: =SUM(B54+J54) -> 0 | S54: =SUM(C54+K54) -> 0 | T54: =SUM(D54+L54) -> 0 | U54: =SUM(E54+M54) -> 0 | V54: =SUM(F54+N54) -> 0 | W54: =SUM(G54+O54) -> 0 | X54: =SUM(H54+P54) -> 0 | Y54: =SUM(I54+Q54) -> 0
A55: Anestesiología | R55: =SUM(B55+J55) -> 0 | S55: =SUM(C55+K55) -> 0 | T55: =SUM(D55+L55) -> 0 | U55: =SUM(E55+M55) -> 0 | V55: =SUM(F55+N55) -> 0 | W55: =SUM(G55+O55) -> 0 | X55: =SUM(H55+P55) -> 0 | Y55: =SUM(I55+Q55) -> 0
A56: Obstetricia y Ginecología | C56: 16 | E56: 4 | G56: 1 | I56: 35 | R56: =SUM(B56+J56) -> 0 | S56: =SUM(C56+K56) -> 16 | T56: =SUM(D56+L56) -> 0 | U56: =SUM(E56+M56) -> 4 | V56: =SUM(F56+N56) -> 0 | W56: =SUM(G56+O56) -> 1 | X56: =SUM(H56+P56) -> 0 | Y56: =SUM(I56+Q56) -> 35 | Z56: 56
A57: Ginecología oncológica | R57: =SUM(B57+J57) -> 0 | S57: =SUM(C57+K57) -> 0 | T57: =SUM(D57+L57) -> 0 | U57: =SUM(E57+M57) -> 0 | V57: =SUM(F57+N57) -> 0 | W57: =SUM(G57+O57) -> 0 | X57: =SUM(H57+P57) -> 0 | Y57: =SUM(I57+Q57) -> 0
A58: Neurorradiologia | R58: =SUM(B58+J58) -> 0 | S58: =SUM(C58+K58) -> 0 | T58: =SUM(D58+L58) -> 0 | U58: =SUM(E58+M58) -> 0 | V58: =SUM(F58+N58) -> 0 | W58: =SUM(G58+O58) -> 0 | X58: =SUM(H58+P58) -> 0 | Y58: =SUM(I58+Q58) -> 0
A59: Oftalmología | R59: =SUM(B59+J59) -> 0 | S59: =SUM(C59+K59) -> 0 | T59: =SUM(D59+L59) -> 0 | U59: =SUM(E59+M59) -> 0 | V59: =SUM(F59+N59) -> 0 | W59: =SUM(G59+O59) -> 0 | X59: =SUM(H59+P59) -> 0 | Y59: =SUM(I59+Q59) -> 0
A60: Otorrinolaringología | R60: =SUM(B60+J60) -> 0 | S60: =SUM(C60+K60) -> 0 | T60: =SUM(D60+L60) -> 0 | U60: =SUM(E60+M60) -> 0 | V60: =SUM(F60+N60) -> 0 | W60: =SUM(G60+O60) -> 0 | X60: =SUM(H60+P60) -> 0 | Y60: =SUM(I60+Q60) -> 0
A61: Traumatología y Ortopedia | I61: 3 | R61: =SUM(B61+J61) -> 0 | S61: =SUM(C61+K61) -> 0 | T61: =SUM(D61+L61) -> 0 | U61: =SUM(E61+M61) -> 0 | V61: =SUM(F61+N61) -> 0 | W61: =SUM(G61+O61) -> 0 | X61: =SUM(H61+P61) -> 0 | Y61: =SUM(I61+Q61) -> 3 | Z61: 3
A62: Urología | R62: =SUM(B62+J62) -> 0 | S62: =SUM(C62+K62) -> 0 | T62: =SUM(D62+L62) -> 0 | U62: =SUM(E62+M62) -> 0 | V62: =SUM(F62+N62) -> 0 | W62: =SUM(G62+O62) -> 0 | X62: =SUM(H62+P62) -> 0 | Y62: =SUM(I62+Q62) -> 0
A63: Medicina familiar | R63: =SUM(B63+J63) -> 0 | S63: =SUM(C63+K63) -> 0 | T63: =SUM(D63+L63) -> 0 | U63: =SUM(E63+M63) -> 0 | V63: =SUM(F63+N63) -> 0 | W63: =SUM(G63+O63) -> 0 | X63: =SUM(H63+P63) -> 0 | Y63: =SUM(I63+Q63) -> 0
A64: Diabetología | R64: =SUM(B64+J64) -> 0 | S64: =SUM(C64+K64) -> 0 | T64: =SUM(D64+L64) -> 0 | U64: =SUM(E64+M64) -> 0 | V64: =SUM(F64+N64) -> 0 | W64: =SUM(G64+O64) -> 0 | X64: =SUM(H64+P64) -> 0 | Y64: =SUM(I64+Q64) -> 0
A65: Medicina intensiva | R65: =SUM(B65+J65) -> 0 | S65: =SUM(C65+K65) -> 0 | T65: =SUM(D65+L65) -> 0 | U65: =SUM(E65+M65) -> 0 | V65: =SUM(F65+N65) -> 0 | W65: =SUM(G65+O65) -> 0 | X65: =SUM(H65+P65) -> 0 | Y65: =SUM(I65+Q65) -> 0
A66: Imagenología | R66: =SUM(B66+J66) -> 0 | S66: =SUM(C66+K66) -> 0 | T66: =SUM(D66+L66) -> 0 | U66: =SUM(E66+M66) -> 0 | V66: =SUM(F66+N66) -> 0 | W66: =SUM(G66+O66) -> 0 | X66: =SUM(H66+P66) -> 0 | Y66: =SUM(I66+Q66) -> 0
A67: Radioterapia oncológica | R67: =SUM(B67+J67) -> 0 | S67: =SUM(C67+K67) -> 0 | T67: =SUM(D67+L67) -> 0 | U67: =SUM(E67+M67) -> 0 | V67: =SUM(F67+N67) -> 0 | W67: =SUM(G67+O67) -> 0 | X67: =SUM(H67+P67) -> 0 | Y67: =SUM(I67+Q67) -> 0
A68: SECCIÓN B : TELEINTERCONSULTA MÉDICA EN ESTABLECIMIENTOS DE ATENCIÓN SECUNDARIA DE URGENCIA (ATENCIÓN MÉDICO A MÉDICO)
A69: Tipo de teleinterconsulta de urgencia | B69: Teleinterconsulta médica de urgencia en hospitales de alta y mediana complejidad | J69: Modalidad | M69: Teleinterconsultas solicitadas desde APS o Nivel Secundario para ser resueltas por otro establecimiento
B70: 0 - 14 años | D70: 15 - 17 años | F70: 18 - 19 años | H70: 20 y más años | J70: Institucional | K70: Compra de Servicio | M70: 0 - 14 años | O70: 15 - 17 años | Q70: 18 - 19 años | S70: 20 y más años
B71: Hombres | C71: Mujeres | D71: Hombres | E71: Mujeres | F71: Hombres | G71: Mujeres | H71: Hombres | I71: Mujeres | J71: Establecimiento de la Red | K71: Sistema | L71: Extrasistema | M71: Hombres | N71: Mujeres | O71: Hombres | P71: Mujeres | Q71: Hombres | R71: Mujeres | S71: Hombres | T71: Mujeres
A72: Consulta urgencia otros
A73: Accidente cerebro vascular (ACV) | S73: 2 | T73: 1
A74: Quemados
A75: SECCIÓN C : TELEINFORMES EN ESTABLECIMIENTOS DE ATENCIÓN PRIMARIA, SECUNDARIA Y TERCIARIA
A76: Teleinformes realizados | B76: Establecimientos del Nivel Primario de salud | M76: Establecimientos de Nivel Secundario y Terciario | X76: Total teleinformes realizados
B77: 0 - 14 años | D77: 15 - 17 años | F77: 18 - 19 años | H77: 20 y más años | J77: Modalidad | M77: 0 - 14 años | O77: 15 - 17 años | Q77: 18 - 19 años | S77: 20 y más años | U77: Modalidad
B78: Hombres | C78: Mujeres | D78: Hombres | E78: Mujeres | F78: Hombres | G78: Mujeres | H78: Hombres | I78: Mujeres | J78: Institucional | K78: Compra de Servicio | M78: Hombres | N78: Mujeres | O78: Hombres | P78: Mujeres | Q78: Hombres | R78: Mujeres | S78: Hombres | T78: Mujeres | U78: Institucional | V78: Compra de Servicio | X78: Teleinformes realizados por Inteligencia Artificial | Y78: Teleinformes realizados por Médico Especialista
K79: Sistema | L79: Extrasistema | V79: Sistema | W79: Extrasistema
A80: TOTAL EMISIONES DE INFORMES | B80: =B81+B82+B83+B84+B85+B86+B87+B88+B89+B92+B93 -> 0 | C80: =C81+C82+C83+C84+C85+C86+C87+C88+C89+C92+C93 -> 0 | D80: =D81+D82+D83+D84+D85+D86+D87+D88+D89+D92+D93 -> 0 | E80: =E81+E82+E83+E84+E85+E86+E87+E88+E89+E92+E93 -> 0 | F80: =F81+F82+F83+F84+F85+F86+F87+F88+F89+F92+F93 -> 0 | G80: =G81+G82+G83+G84+G85+G86+G87+G88+G89+G92+G93 -> 0 | H80: =H81+H82+H83+H84+H85+H86+H87+H88+H89+H92+H93 -> 0 | I80: =I81+I82+I83+I84+I85+I86+I87+I88+I89+I92+I93 -> 0 | ... L80: =L81+L82+L83+L84+L85+L86+L87+L88+L89+L92+L93 -> 0 | M80: =SUM(M81:M93) -> 30 | N80: =SUM(N81:N93) -> 31 | O80: =SUM(O81:O93) -> 1 | P80: =SUM(P81:P93) -> 13 | Q80: =SUM(Q81:Q93) -> 22 | R80: =SUM(R81:R93) -> 17 | S80: =SUM(S81:S93) -> 625 | T80: =SUM(T81:T93) -> 665 | ... Y80: =SUM(Y81:Y93) -> 1404
A81: Nº de informes Ecografías obstétricas
A82: Nº de informes Electrocardiograma
A83: Nº de informes Electroencefalograma
A84: Nº de informes Espirometrías
A85: Nº de informes Fondo de ojo (excluye resolutividad)
A86: Nº de informes Holter de presión arterial
A87: Nº de informes Test de esfuerzo
A88: Nº de informes radiografías simples
A89: Nº de informes radiografías dentales
A90: Nº de informes de Tomografía axial computarizada | M90: 30 | N90: 31 | O90: 1 | P90: 13 | Q90: 22 | R90: 17 | S90: 625 | T90: 665 | W90: 1404 | Y90: 1404
A91: Nº de informes de Resonancia magnética nuclear
A92: Nº de informes Ecografías abdominal
A93: N° de mamografía
A94: SECCIÓN D: TELEINTERCONSULTA ODONTOLÓGICA
A95: Especialidades odontológicas | B95: Teleinterconsulta de especialidad odontológica ambulatoria nueva | J95: Teleinterconsulta de especialidad odontológica ambulatoria control | R95: TOTAL TELEINTERCONSULTAS AMBULATORIAS DE ESPECIALIDAD ODONTOLÓGICA | Z95: Modalidad | AC95: Solicitud de teleinterconsulta de especialidad odontológica
B96: 0 - 14 años | D96: 15 - 17 años | F96: 18 - 19 años | H96: 20 y más años | J96: 0 - 14 años | L96: 15 - 17 años | N96: 18 - 19 años | P96: 20 y más años | R96: 0 - 14 años | T96: 15 - 17 años | V96: 18 - 19 años | X96: 20 y más años | Z96: Institucional | AA96: Compra de Servicio | AC96: 0 - 14 años | AE96: 15 - 17 años | AG96: 18-19 años | AI96: 20 y más años
B97: Hombres | C97: Mujeres | D97: Hombres | E97: Mujeres | F97: Hombres | G97: Mujeres | H97: Hombres | I97: Mujeres | J97: Hombres | K97: Mujeres | L97: Hombres | M97: Mujeres | N97: Hombres | O97: Mujeres | P97: Hombres | Q97: Mujeres | R97: Hombres | S97: Mujeres | T97: Hombres | U97: Mujeres | V97: Hombres | W97: Mujeres | X97: Hombres | Y97: Mujeres | Z97: Establecimiento de la Red | AA97: Sistema | AB97: Extrasistema | AC97: Hombres | AD97: Mujeres | AE97: Hombres | AF97: Mujeres | AG97: Hombres | AH97: Mujeres | AI97: Hombres | AJ97: Mujeres
A98: TOTAL | B98: =SUM(B99:B108) -> 0 | C98: =SUM(C99:C108) -> 0 | D98: =SUM(D99:D108) -> 0 | E98: =SUM(E99:E108) -> 0 | F98: =SUM(F99:F108) -> 0 | G98: =SUM(G99:G108) -> 0 | H98: =SUM(H99:H108) -> 0 | I98: =SUM(I99:I108) -> 0 | ... AJ98: =SUM(AJ99:AJ108) -> 0
A99: Cirugía y traumatología maxilofacial | R99: =+B99+J99 -> 0 | S99: =+C99+K99 -> 0 | T99: =+D99+L99 -> 0 | U99: =+E99+M99 -> 0 | V99: =+F99+N99 -> 0 | W99: =+G99+O99 -> 0 | X99: =+H99+P99 -> 0 | Y99: =+I99+Q99 -> 0
A100: Endodoncia | R100: =+B100+J100 -> 0 | S100: =+C100+K100 -> 0 | T100: =+D100+L100 -> 0 | U100: =+E100+M100 -> 0 | V100: =+F100+N100 -> 0 | W100: =+G100+O100 -> 0 | X100: =+H100+P100 -> 0 | Y100: =+I100+Q100 -> 0
A101: Odontopediatría | R101: =+B101+J101 -> 0 | S101: =+C101+K101 -> 0 | T101: =+D101+L101 -> 0 | U101: =+E101+M101 -> 0 | V101: =+F101+N101 -> 0 | W101: =+G101+O101 -> 0 | X101: =+H101+P101 -> 0 | Y101: =+I101+Q101 -> 0
A102: Ortodoncia y ortopedia dento maxilofacial | R102: =+B102+J102 -> 0 | S102: =+C102+K102 -> 0 | T102: =+D102+L102 -> 0 | U102: =+E102+M102 -> 0 | V102: =+F102+N102 -> 0 | W102: =+G102+O102 -> 0 | X102: =+H102+P102 -> 0 | Y102: =+I102+Q102 -> 0
...

Sheet JULIO
A1: SERVICIO DE SALUD
A2: =CONCATENATE("COMUNA: ",[8]NOMBRE!B2, " (",[8]NOMBRE!C2,[8]NOMBRE!D2,[8]NOMBRE!E2,[8]NOMBRE!F2,[8]NOMBRE!G2,")") -> COMUNA: LINARES (07401)
A3: =CONCATENATE("ESTABLECIMIENTO/ESTRATEGIA: ", [8]NOMBRE!B3, " (",[8]NOMBRE!C3,[8]NOMBRE!D3,[8]NOMBRE!E3,[8]NOMBRE!F3,[8]NOMBRE!G3,[8]NOMBRE!H3,")") -> ESTABLECIMIENTO/ESTRATEGIA: HOSPITAL PRESIDENTE CARLOS IBAÑEZ DEL CAMPO (116108)
A4: =CONCATENATE("MES: ",[8]NOMBRE!B6, " (",[8]NOMBRE!C6,[8]NOMBRE!D6,")") -> MES: JULIO (07)
A5: =CONCATENATE("AÑO: ",[8]NOMBRE!B7) -> AÑO: 2025
A6: REM-30. ATENCIONES POR TELEMEDICINA EN LA RED ASISTENCIAL
A8: SECCIÓN A: TELEINTERCONSULTA DE ESPECIALIDAD (ATENCION REALIZADA DE MÉDICO A MÉDICO)
A9: Especialidades | B9: Teleinterconsulta médica de especialidad ambulatoria nueva | J9: Teleinterconsulta médica de especialidad ambulatoria control | R9: TOTAL TELEINTERCONSULTAS MEDICAS AMBULATORIAS DE ESPECIALIDAD | Z9: Modalidad | AC9: Teleinterconsulta medicina de especialidad realizadas a pacientes hospitalizados | AK9: Modalidad | AN9: Teleinterconsultas solicitadas desde APS o Nivel Secundario para ser resueltas por otro establecimiento
B10: 0 - 14 años | D10: 15 - 17 años | F10: 18-19 años | H10: 20 y más años | J10: 0 - 14 años | L10: 15 - 17 años | N10: 18 - 19 años | P10: 20 y más años | R10: 0 - 14 años | T10: 15 - 17 años | V10: 18- 19 años | X10: 20 y más años | Z10: Institucional | AA10: Compra de Servicio | AC10: 0 - 14 años | AE10: 15 - 17 años | AG10: 18 a 19 años | AI10: 20 y más años | AK10: Institucional | AL10: Compra de Servicio | AN10: 0 - 14 años | AP10: 15 - 17 años | AR10: 18 - 19 años | AT10: 20 y más años
B11: Hombres | C11: Mujeres | D11: Hombres | E11: Mujeres | F11: Hombres | G11: Mujeres | H11: Hombres | I11: Mujeres | J11: Hombres | K11: Mujeres | L11: Hombres | M11: Mujeres | N11: Hombres | O11: Mujeres | P11: Hombres | Q11: Mujeres | R11: Hombres | S11: Mujeres | T11: Hombres | U11: Mujeres | V11: Hombres | W11: Mujeres | X11: Hombres | Y11: Mujeres | AA11: Sistema | AB11: Extrasistema | AC11: Hombres | AD11: Mujeres | AE11: Hombres | AF11: Mujeres | AG11: Hombres | AH11: Mujeres | AI11: Hombres | AJ11: Mujeres | AL11: Sistema | AM11: Extrasistema | AN11: Hombres | AO11: Mujeres | AP11: Hombres | AQ11: Mujeres | AR11: Hombres | AS11: Mujeres | AT11: Hombres | AU11: Mujeres
A12: TOTAL | B12: =SUM(B13:B67) -> 27 | C12: =SUM(C13:C67) -> 28 | D12: =SUM(D13:D67) -> 0 | E12: =SUM(E13:E67) -> 0 | F12: =SUM(F13:F67) -> 0 | G12: =SUM(G13:G67) -> 2 | H12: =SUM(H13:H67) -> 39 | I12: =SUM(I13:I67) -> 103 | ... AU12: =SUM(AU13:AU67) -> 0
A13: Pediatría | B13: 12 | C13: 10 | R13: =SUM(B13+J13) -> 12 | S13: =SUM(C13+K13) -> 10 | T13: =SUM(D13+L13) -> 0 | U13: =SUM(E13+M13) -> 0 | V13: =SUM(F13+N13) -> 0 | W13: =SUM(G13+O13) -> 0 | X13: =SUM(H13+P13) -> 0 | Y13: =SUM(I13+Q13) -> 0 | Z13: 22
A14: Medicina interna | H14: 10 | I14: 14 | R14: =SUM(B14+J14) -> 0 | S14: =SUM(C14+K14) -> 0 | T14: =SUM(D14+L14) -> 0 | U14: =SUM(E14+M14) -> 0 | V14: =SUM(F14+N14) -> 0 | W14: =SUM(G14+O14) -> 0 | X14: =SUM(H14+P14) -> 10 | Y14: =SUM(I14+Q14) -> 14 | Z14: 24
A15: Neonatología | R15: =SUM(B15+J15) -> 0 | S15: =SUM(C15+K15) -> 0 | T15: =SUM(D15+L15) -> 0 | U15: =SUM(E15+M15) -> 0 | V15: =SUM(F15+N15) -> 0 | W15: =SUM(G15+O15) -> 0 | X15: =SUM(H15+P15) -> 0 | Y15: =SUM(I15+Q15) -> 0
A16: Enfermedad respiratoria pediátrica (Brocopulmonar infantil) | R16: =SUM(B16+J16) -> 0 | S16: =SUM(C16+K16) -> 0 | T16: =SUM(D16+L16) -> 0 | U16: =SUM(E16+M16) -> 0 | V16: =SUM(F16+N16) -> 0 | W16: =SUM(G16+O16) -> 0 | X16: =SUM(H16+P16) -> 0 | Y16: =SUM(I16+Q16) -> 0
A17: Enfermedad respiratoria de adulto (Broncopulmonar) | H17: 7 | I17: 5 | R17: =SUM(B17+J17) -> 0 | S17: =SUM(C17+K17) -> 0 | T17: =SUM(D17+L17) -> 0 | U17: =SUM(E17+M17) -> 0 | V17: =SUM(F17+N17) -> 0 | W17: =SUM(G17+O17) -> 0 | X17: =SUM(H17+P17) -> 7 | Y17: =SUM(I17+Q17) -> 5 | Z17: 12
A18: Cardiología | B18: 7 | C18: 7 | I18: 1 | R18: =SUM(B18+J18) -> 7 | S18: =SUM(C18+K18) -> 7 | T18: =SUM(D18+L18) -> 0 | U18: =SUM(E18+M18) -> 0 | V18: =SUM(F18+N18) -> 0 | W18: =SUM(G18+O18) -> 0 | X18: =SUM(H18+P18) -> 0 | Y18: =SUM(I18+Q18) -> 1 | Z18: 15
A19: Mastología | R19: =SUM(B19+J19) -> 0 | S19: =SUM(C19+K19) -> 0 | T19: =SUM(D19+L19) -> 0 | U19: =SUM(E19+M19) -> 0 | V19: =SUM(F19+N19) -> 0 | W19: =SUM(G19+O19) -> 0 | X19: =SUM(H19+P19) -> 0 | Y19: =SUM(I19+Q19) -> 0
A20: Endocrinología pediátrica | R20: =SUM(B20+J20) -> 0 | S20: =SUM(C20+K20) -> 0 | T20: =SUM(D20+L20) -> 0 | U20: =SUM(E20+M20) -> 0 | V20: =SUM(F20+N20) -> 0 | W20: =SUM(G20+O20) -> 0 | X20: =SUM(H20+P20) -> 0 | Y20: =SUM(I20+Q20) -> 0
A21: Endocrinología adulto | H21: 1 | R21: =SUM(B21+J21) -> 0 | S21: =SUM(C21+K21) -> 0 | T21: =SUM(D21+L21) -> 0 | U21: =SUM(E21+M21) -> 0 | V21: =SUM(F21+N21) -> 0 | W21: =SUM(G21+O21) -> 0 | X21: =SUM(H21+P21) -> 1 | Y21: =SUM(I21+Q21) -> 0 | Z21: 1
A22: Gastroenterología pediátrica | R22: =SUM(B22+J22) -> 0 | S22: =SUM(C22+K22) -> 0 | T22: =SUM(D22+L22) -> 0 | U22: =SUM(E22+M22) -> 0 | V22: =SUM(F22+N22) -> 0 | W22: =SUM(G22+O22) -> 0 | X22: =SUM(H22+P22) -> 0 | Y22: =SUM(I22+Q22) -> 0
A23: Gastroenterología adulto | R23: =SUM(B23+J23) -> 0 | S23: =SUM(C23+K23) -> 0 | T23: =SUM(D23+L23) -> 0 | U23: =SUM(E23+M23) -> 0 | V23: =SUM(F23+N23) -> 0 | W23: =SUM(G23+O23) -> 0 | X23: =SUM(H23+P23) -> 0 | Y23: =SUM(I23+Q23) -> 0
A24: Genética clínica | R24: =SUM(B24+J24) -> 0 | S24: =SUM(C24+K24) -> 0 | T24: =SUM(D24+L24) -> 0 | U24: =SUM(E24+M24) -> 0 | V24: =SUM(F24+N24) -> 0 | W24: =SUM(G24+O24) -> 0 | X24: =SUM(H24+P24) -> 0 | Y24: =SUM(I24+Q24) -> 0
A25: Hematología | R25: =SUM(B25+J25) -> 0 | S25: =SUM(C25+K25) -> 0 | T25: =SUM(D25+L25) -> 0 | U25: =SUM(E25+M25) -> 0 | V25: =SUM(F25+N25) -> 0 | W25: =SUM(G25+O25) -> 0 | X25: =SUM(H25+P25) -> 0 | Y25: =SUM(I25+Q25) -> 0
A26: Medicina del adolescente | R26: =SUM(B26+J26) -> 0 | S26: =SUM(C26+K26) -> 0 | T26: =SUM(D26+L26) -> 0 | U26: =SUM(E26+M26) -> 0 | V26: =SUM(F26+N26) -> 0 | W26: =SUM(G26+O26) -> 0 | X26: =SUM(H26+P26) -> 0 | Y26: =SUM(I26+Q26) -> 0
A27: Nefrología pediátrica | R27: =SUM(B27+J27) -> 0 | S27: =SUM(C27+K27) -> 0 | T27: =SUM(D27+L27) -> 0 | U27: =SUM(E27+M27) -> 0 | V27: =SUM(F27+N27) -> 0 | W27: =SUM(G27+O27) -> 0 | X27: =SUM(H27+P27) -> 0 | Y27: =SUM(I27+Q27) -> 0
A28: Nefrología adulto | R28: =SUM(B28+J28) -> 0 | S28: =SUM(C28+K28) -> 0 | T28: =SUM(D28+L28) -> 0 | U28: =SUM(E28+M28) -> 0 | V28: =SUM(F28+N28) -> 0 | W28: =SUM(G28+O28) -> 0 | X28: =SUM(H28+P28) -> 0 | Y28: =SUM(I28+Q28) -> 0
A29: Nutrición clínica | R29: =SUM(B29+J29) -> 0 | S29: =SUM(C29+K29) -> 0 | T29: =SUM(D29+L29) -> 0 | U29: =SUM(E29+M29) -> 0 | V29: =SUM(F29+N29) -> 0 | W29: =SUM(G29+O29) -> 0 | X29: =SUM(H29+P29) -> 0 | Y29: =SUM(I29+Q29) -> 0
A30: Medicina Materno Infantil | R30: =SUM(B30+J30) -> 0 | S30: =SUM(C30+K30) -> 0 | T30: =SUM(D30+L30) -> 0 | U30: =SUM(E30+M30) -> 0 | V30: =SUM(F30+N30) -> 0 | W30: =SUM(G30+O30) -> 0 | X30: =SUM(H30+P30) -> 0 | Y30: =SUM(I30+Q30) -> 0
A31: Reumatología | R31: =SUM(B31+J31) -> 0 | S31: =SUM(C31+K31) -> 0 | T31: =SUM(D31+L31) -> 0 | U31: =SUM(E31+M31) -> 0 | V31: =SUM(F31+N31) -> 0 | W31: =SUM(G31+O31) -> 0 | X31: =SUM(H31+P31) -> 0 | Y31: =SUM(I31+Q31) -> 0
A32: Medicina Paliativa y Manejo del Dolor | R32: =SUM(B32+J32) -> 0 | S32: =SUM(C32+K32) -> 0 | T32: =SUM(D32+L32) -> 0 | U32: =SUM(E32+M32) -> 0 | V32: =SUM(F32+N32) -> 0 | W32: =SUM(G32+O32) -> 0 | X32: =SUM(H32+P32) -> 0 | Y32: =SUM(I32+Q32) -> 0
A33: Dermatología | R33: =SUM(B33+J33) -> 0 | S33: =SUM(C33+K33) -> 0 | T33: =SUM(D33+L33) -> 0 | U33: =SUM(E33+M33) -> 0 | V33: =SUM(F33+N33) -> 0 | W33: =SUM(G33+O33) -> 0 | X33: =SUM(H33+P33) -> 0 | Y33: =SUM(I33+Q33) -> 0
... A42: Psiquiatría pediátrica y de la adolescencia | R42: =SUM(B42+J42) -> 0 | S42: =SUM(C42+K42) -> 0 | T42: =SUM(D42+L42) -> 0 | U42: =SUM(E42+M42) -> 0 | V42: =SUM(F42+N42) -> 0 | W42: =SUM(G42+O42) -> 0 | X42: =SUM(H42+P42) -> 0 | Y42: =SUM(I42+Q42) -> 0
A43: Psiquiatría adulto | H43: 1 | I43: 3 | R43: =SUM(B43+J43) -> 0 | S43: =SUM(C43+K43) -> 0 | T43: =SUM(D43+L43) -> 0 | U43: =SUM(E43+M43) -> 0 | V43: =SUM(F43+N43) -> 0 | W43: =SUM(G43+O43) -> 0 | X43: =SUM(H43+P43) -> 1 | Y43: =SUM(I43+Q43) -> 3 | Z43: 4
A44: Cirugía pediátrica | R44: =SUM(B44+J44) -> 0 | S44: =SUM(C44+K44) -> 0 | T44: =SUM(D44+L44) -> 0 | U44: =SUM(E44+M44) -> 0 | V44: =SUM(F44+N44) -> 0 | W44: =SUM(G44+O44) -> 0 | X44: =SUM(H44+P44) -> 0 | Y44: =SUM(I44+Q44) -> 0
A45: Cirugía General | H45: 17 | I45: 38 | R45: =SUM(B45+J45) -> 0 | S45: =SUM(C45+K45) -> 0 | T45: =SUM(D45+L45) -> 0 | U45: =SUM(E45+M45) -> 0 | V45: =SUM(F45+N45) -> 0 | W45: =SUM(G45+O45) -> 0 | X45: =SUM(H45+P45) -> 17 | Y45: =SUM(I45+Q45) -> 38 | Z45: 55
A46: Cirugía digestiva (alta) | R46: =SUM(B46+J46) -> 0 | S46: =SUM(C46+K46) -> 0 | T46: =SUM(D46+L46) -> 0 | U46: =SUM(E46+M46) -> 0 | V46: =SUM(F46+N46) -> 0 | W46: =SUM(G46+O46) -> 0 | X46: =SUM(H46+P46) -> 0 | Y46: =SUM(I46+Q46) -> 0
A47: Cirugía de cabeza, cuello y maxilofacial | R47: =SUM(B47+J47) -> 0 | S47: =SUM(C47+K47) -> 0 | T47: =SUM(D47+L47) -> 0 | U47: =SUM(E47+M47) -> 0 | V47: =SUM(F47+N47) -> 0 | W47: =SUM(G47+O47) -> 0 | X47: =SUM(H47+P47) -> 0 | Y47: =SUM(I47+Q47) -> 0
A48: Cirugía Plástica y Reparadora | R48: =SUM(B48+J48) -> 0 | S48: =SUM(C48+K48) -> 0 | T48: =SUM(D48+L48) -> 0 | U48: =SUM(E48+M48) -> 0 | V48: =SUM(F48+N48) -> 0 | W48: =SUM(G48+O48) -> 0 | X48: =SUM(H48+P48) -> 0 | Y48: =SUM(I48+Q48) -> 0
A49: Medicina del Deporte | R49: =SUM(B49+J49) -> 0 | S49: =SUM(C49+K49) -> 0 | T49: =SUM(D49+L49) -> 0 | U49: =SUM(E49+M49) -> 0 | V49: =SUM(F49+N49) -> 0 | W49: =SUM(G49+O49) -> 0 | X49: =SUM(H49+P49) -> 0 | Y49: =SUM(I49+Q49) -> 0
A50: Coloproctología (Cirugía digestiva baja) | R50: =SUM(B50+J50) -> 0 | S50: =SUM(C50+K50) -> 0 | T50: =SUM(D50+L50) -> 0 | U50: =SUM(E50+M50) -> 0 | V50: =SUM(F50+N50) -> 0 | W50: =SUM(G50+O50) -> 0 | X50: =SUM(H50+P50) -> 0 | Y50: =SUM(I50+Q50) -> 0
A51: Cirugía tórax | R51: =SUM(B51+J51) -> 0 | S51: =SUM(C51+K51) -> 0 | T51: =SUM(D51+L51) -> 0 | U51: =SUM(E51+M51) -> 0 | V51: =SUM(F51+N51) -> 0 | W51: =SUM(G51+O51) -> 0 | X51: =SUM(H51+P51) -> 0 | Y51: =SUM(I51+Q51) -> 0
A52: Cirugía vascular periferica | R52: =SUM(B52+J52) -> 0 | S52: =SUM(C52+K52) -> 0 | T52: =SUM(D52+L52) -> 0 | U52: =SUM(E52+M52) -> 0 | V52: =SUM(F52+N52) -> 0 | W52: =SUM(G52+O52) -> 0 | X52: =SUM(H52+P52) -> 0 | Y52: =SUM(I52+Q52) -> 0
A53: Neurocirugía | R53: =SUM(B53+J53) -> 0 | S53: =SUM(C53+K53) -> 0 | T53: =SUM(D53+L53) -> 0 | U53: =SUM(E53+M53) -> 0 | V53: =SUM(F53+N53) -> 0 | W53: =SUM(G53+O53) -> 0 | X53: =SUM(H53+P53) -> 0 | Y53: =SUM(I53+Q53) -> 0
A54: Cirugía cardiovascular | R54: =SUM(B54+J54) -> 0 | S54: =SUM(C54+K54) -> 0 | T54: =SUM(D54+L54) -> 0 | U54: =SUM(E54+M54) -> 0 | V54: =SUM(F54+N54) -> 0 | W54: =SUM(G54+O54) -> 0 | X54: =SUM(H54+P54) -> 0 | Y54: =SUM(I54+Q54) -> 0
A55: Anestesiología | R55: =SUM(B55+J55) -> 0 | S55: =SUM(C55+K55) -> 0 | T55: =SUM(D55+L55) -> 0 | U55: =SUM(E55+M55) -> 0 | V55: =SUM(F55+N55) -> 0 | W55: =SUM(G55+O55) -> 0 | X55: =SUM(H55+P55) -> 0 | Y55: =SUM(I55+Q55) -> 0
A56: Obstetricia y Ginecología | C56: 1 | G56: 2 | I56: 40 | R56: =SUM(B56+J56) -> 0 | S56: =SUM(C56+K56) -> 1 | T56: =SUM(D56+L56) -> 0 | U56: =SUM(E56+M56) -> 0 | V56: =SUM(F56+N56) -> 0 | W56: =SUM(G56+O56) -> 2 | X56: =SUM(H56+P56) -> 0 | Y56: =SUM(I56+Q56) -> 40 | Z56: 43
A57: Ginecología oncológica | R57: =SUM(B57+J57) -> 0 | S57: =SUM(C57+K57) -> 0 | T57: =SUM(D57+L57) -> 0 | U57: =SUM(E57+M57) -> 0 | V57: =SUM(F57+N57) -> 0 | W57: =SUM(G57+O57) -> 0 | X57: =SUM(H57+P57) -> 0 | Y57: =SUM(I57+Q57) -> 0
A58: Neurorradiologia | R58: =SUM(B58+J58) -> 0 | S58: =SUM(C58+K58) -> 0 | T58: =SUM(D58+L58) -> 0 | U58: =SUM(E58+M58) -> 0 | V58: =SUM(F58+N58) -> 0 | W58: =SUM(G58+O58) -> 0 | X58: =SUM(H58+P58) -> 0 | Y58: =SUM(I58+Q58) -> 0
A59: Oftalmología | R59: =SUM(B59+J59) -> 0 | S59: =SUM(C59+K59) -> 0 | T59: =SUM(D59+L59) -> 0 | U59: =SUM(E59+M59) -> 0 | V59: =SUM(F59+N59) -> 0 | W59: =SUM(G59+O59) -> 0 | X59: =SUM(H59+P59) -> 0 | Y59: =SUM(I59+Q59) -> 0
A60: Otorrinolaringología | R60: =SUM(B60+J60) -> 0 | S60: =SUM(C60+K60) -> 0 | T60: =SUM(D60+L60) -> 0 | U60: =SUM(E60+M60) -> 0 | V60: =SUM(F60+N60) -> 0 | W60: =SUM(G60+O60) -> 0 | X60: =SUM(H60+P60) -> 0 | Y60: =SUM(I60+Q60) -> 0
A61: Traumatología y Ortopedia | B61: 8 | C61: 10 | H61: 3 | I61: 2 | R61: =SUM(B61+J61) -> 8 | S61: =SUM(C61+K61) -> 10 | T61: =SUM(D61+L61) -> 0 | U61: =SUM(E61+M61) -> 0 | V61: =SUM(F61+N61) -> 0 | W61: =SUM(G61+O61) -> 0 | X61: =SUM(H61+P61) -> 3 | Y61: =SUM(I61+Q61) -> 2 | Z61: 23
A62: Urología | R62: =SUM(B62+J62) -> 0 | S62: =SUM(C62+K62) -> 0 | T62: =SUM(D62+L62) -> 0 | U62: =SUM(E62+M62) -> 0 | V62: =SUM(F62+N62) -> 0 | W62: =SUM(G62+O62) -> 0 | X62: =SUM(H62+P62) -> 0 | Y62: =SUM(I62+Q62) -> 0
A63: Medicina familiar | R63: =SUM(B63+J63) -> 0 | S63: =SUM(C63+K63) -> 0 | T63: =SUM(D63+L63) -> 0 | U63: =SUM(E63+M63) -> 0 | V63: =SUM(F63+N63) -> 0 | W63: =SUM(G63+O63) -> 0 | X63: =SUM(H63+P63) -> 0 | Y63: =SUM(I63+Q63) -> 0
A64: Diabetología | R64: =SUM(B64+J64) -> 0 | S64: =SUM(C64+K64) -> 0 | T64: =SUM(D64+L64) -> 0 | U64: =SUM(E64+M64) -> 0 | V64: =SUM(F64+N64) -> 0 | W64: =SUM(G64+O64) -> 0 | X64: =SUM(H64+P64) -> 0 | Y64: =SUM(I64+Q64) -> 0
A65: Medicina intensiva | R65: =SUM(B65+J65) -> 0 | S65: =SUM(C65+K65) -> 0 | T65: =SUM(D65+L65) -> 0 | U65: =SUM(E65+M65) -> 0 | V65: =SUM(F65+N65) -> 0 | W65: =SUM(G65+O65) -> 0 | X65: =SUM(H65+P65) -> 0 | Y65: =SUM(I65+Q65) -> 0
A66: Imagenología | R66: =SUM(B66+J66) -> 0 | S66: =SUM(C66+K66) -> 0 | T66: =SUM(D66+L66) -> 0 | U66: =SUM(E66+M66) -> 0 | V66: =SUM(F66+N66) -> 0 | W66: =SUM(G66+O66) -> 0 | X66: =SUM(H66+P66) -> 0 | Y66: =SUM(I66+Q66) -> 0
A67: Radioterapia oncológica | R67: =SUM(B67+J67) -> 0 | S67: =SUM(C67+K67) -> 0 | T67: =SUM(D67+L67) -> 0 | U67: =SUM(E67+M67) -> 0 | V67: =SUM(F67+N67) -> 0 | W67: =SUM(G67+O67) -> 0 | X67: =SUM(H67+P67) -> 0 | Y67: =SUM(I67+Q67) -> 0
A68: SECCIÓN B : TELEINTERCONSULTA MÉDICA EN ESTABLECIMIENTOS DE ATENCIÓN SECUNDARIA DE URGENCIA (ATENCIÓN MÉDICO A MÉDICO)
A69: Tipo de teleinterconsulta de urgencia | B69: Teleinterconsulta médica de urgencia en hospitales de alta y mediana complejidad | J69: Modalidad | M69: Teleinterconsultas solicitadas desde APS o Nivel Secundario para ser resueltas por otro establecimiento
B70: 0 - 14 años | D70: 15 - 17 años | F70: 18 - 19 años | H70: 20 y más años | J70: Institucional | K70: Compra de Servicio | M70: 0 - 14 años | O70: 15 - 17 años | Q70: 18 - 19 años | S70: 20 y más años
B71: Hombres | C71: Mujeres | D71: Hombres | E71: Mujeres | F71: Hombres | G71: Mujeres | H71: Hombres | I71: Mujeres | J71: Establecimiento de la Red | K71: Sistema | L71: Extrasistema | M71: Hombres | N71: Mujeres | O71: Hombres | P71: Mujeres | Q71: Hombres | R71: Mujeres | S71: Hombres | T71: Mujeres
A72: Consulta urgencia otros
A73: Accidente cerebro vascular (ACV) | S73: 3 | T73: 3
A74: Quemados
A75: SECCIÓN C : TELEINFORMES EN ESTABLECIMIENTOS DE ATENCIÓN PRIMARIA, SECUNDARIA Y TERCIARIA
A76: Teleinformes realizados | B76: Establecimientos del Nivel Primario de salud | M76: Establecimientos de Nivel Secundario y Terciario | X76: Total teleinformes realizados
B77: 0 - 14 años | D77: 15 - 17 años | F77: 18 - 19 años | H77: 20 y más años | J77: Modalidad | M77: 0 - 14 años | O77: 15 - 17 años | Q77: 18 - 19 años | S77: 20 y más años | U77: Modalidad
B78: Hombres | C78: Mujeres | D78: Hombres | E78: Mujeres | F78: Hombres | G78: Mujeres | H78: Hombres | I78: Mujeres | J78: Institucional | K78: Compra de Servicio | M78: Hombres | N78: Mujeres | O78: Hombres | P78: Mujeres | Q78: Hombres | R78: Mujeres | S78: Hombres | T78: Mujeres | U78: Institucional | V78: Compra de Servicio | X78: Teleinformes realizados por Inteligencia Artificial | Y78: Teleinformes realizados por Médico Especialista
K79: Sistema | L79: Extrasistema | V79: Sistema | W79: Extrasistema
A80: TOTAL EMISIONES DE INFORMES | B80: =B81+B82+B83+B84+B85+B86+B87+B88+B89+B92+B93 -> 0 | C80: =C81+C82+C83+C84+C85+C86+C87+C88+C89+C92+C93 -> 0 | D80: =D81+D82+D83+D84+D85+D86+D87+D88+D89+D92+D93 -> 0 | E80: =E81+E82+E83+E84+E85+E86+E87+E88+E89+E92+E93 -> 0 | F80: =F81+F82+F83+F84+F85+F86+F87+F88+F89+F92+F93 -> 0 | G80: =G81+G82+G83+G84+G85+G86+G87+G88+G89+G92+G93 -> 0 | H80: =H81+H82+H83+H84+H85+H86+H87+H88+H89+H92+H93 -> 0 | I80: =I81+I82+I83+I84+I85+I86+I87+I88+I89+I92+I93 -> 0 | ... L80: =L81+L82+L83+L84+L85+L86+L87+L88+L89+L92+L93 -> 0 | M80: =SUM(M81:M93) -> 33 | N80: =SUM(N81:N93) -> 34 | O80: =SUM(O81:O93) -> 17 | P80: =SUM(P81:P93) -> 11 | Q80: =SUM(Q81:Q93) -> 6 | R80: =SUM(R81:R93) -> 12 | S80: =SUM(S81:S93) -> 473 | T80: =SUM(T81:T93) -> 377 | ... Y80: =SUM(Y81:Y93) -> 963
A81: Nº de informes Ecografías obstétricas
A82: Nº de informes Electrocardiograma
A83: Nº de informes Electroencefalograma
A84: Nº de informes Espirometrías
A85: Nº de informes Fondo de ojo (excluye resolutividad)
A86: Nº de informes Holter de presión arterial
A87: Nº de informes Test de esfuerzo
A88: Nº de informes radiografías simples
A89: Nº de informes radiografías dentales
A90: Nº de informes de Tomografía axial computarizada | M90: 33 | N90: 34 | O90: 17 | P90: 11 | Q90: 6 | R90: 12 | S90: 473 | T90: 377 | W90: 963 | Y90: 963
A91: Nº de informes de Resonancia magnética nuclear
A92: Nº de informes Ecografías abdominal
A93: N° de mamografía
A94: SECCIÓN D: TELEINTERCONSULTA ODONTOLÓGICA
A95: Especialidades odontológicas | B95: Teleinterconsulta de especialidad odontológica ambulatoria nueva | J95: Teleinterconsulta de especialidad odontológica ambulatoria control | R95: TOTAL TELEINTERCONSULTAS AMBULATORIAS DE ESPECIALIDAD ODONTOLÓGICA | Z95: Modalidad | AC95: Solicitud de teleinterconsulta de especialidad odontológica
B96: 0 - 14 años | D96: 15 - 17 años | F96: 18 - 19 años | H96: 20 y más años | J96: 0 - 14 años | L96: 15 - 17 años | N96: 18 - 19 años | P96: 20 y más años | R96: 0 - 14 años | T96: 15 - 17 años | V96: 18 - 19 años | X96: 20 y más años | Z96: Institucional | AA96: Compra de Servicio | AC96: 0 - 14 años | AE96: 15 - 17 años | AG96: 18-19 años | AI96: 20 y más años
B97: Hombres | C97: Mujeres | D97: Hombres | E97: Mujeres | F97: Hombres | G97: Mujeres | H97: Hombres | I97: Mujeres | J97: Hombres | K97: Mujeres | L97: Hombres | M97: Mujeres | N97: Hombres | O97: Mujeres | P97: Hombres | Q97: Mujeres | R97: Hombres | S97: Mujeres | T97: Hombres | U97: Mujeres | V97: Hombres | W97: Mujeres | X97: Hombres | Y97: Mujeres | Z97: Establecimiento de la Red | AA97: Sistema | AB97: Extrasistema | AC97: Hombres | AD97: Mujeres | AE97: Hombres | AF97: Mujeres | AG97: Hombres | AH97: Mujeres | AI97: Hombres | AJ97: Mujeres
A98: TOTAL | B98: =SUM(B99:B108) -> 0 | C98: =SUM(C99:C108) -> 0 | D98: =SUM(D99:D108) -> 0 | E98: =SUM(E99:E108) -> 0 | F98: =SUM(F99:F108) -> 0 | G98: =SUM(G99:G108) -> 0 | H98: =SUM(H99:H108) -> 0 | I98: =SUM(I99:I108) -> 0 | ... AJ98: =SUM(AJ99:AJ108) -> 0
A99: Cirugía y traumatología maxilofacial | R99: =+B99+J99 -> 0 | S99: =+C99+K99 -> 0 | T99: =+D99+L99 -> 0 | U99: =+E99+M99 -> 0 | V99: =+F99+N99 -> 0 | W99: =+G99+O99 -> 0 | X99: =+H99+P99 -> 0 | Y99: =+I99+Q99 -> 0
A100: Endodoncia | R100: =+B100+J100 -> 0 | S100: =+C100+K100 -> 0 | T100: =+D100+L100 -> 0 | U100: =+E100+M100 -> 0 | V100: =+F100+N100 -> 0 | W100: =+G100+O100 -> 0 | X100: =+H100+P100 -> 0 | Y100: =+I100+Q100 -> 0
A101: Odontopediatría | R101: =+B101+J101 -> 0 | S101: =+C101+K101 -> 0 | T101: =+D101+L101 -> 0 | U101: =+E101+M101 -> 0 | V101: =+F101+N101 -> 0 | W101: =+G101+O101 -> 0 | X101: =+H101+P101 -> 0 | Y101: =+I101+Q101 -> 0
A102: Ortodoncia y ortopedia dento maxilofacial | R102: =+B102+J102 -> 0 | S102: =+C102+K102 -> 0 | T102: =+D102+L102 -> 0 | U102: =+E102+M102 -> 0 | V102: =+F102+N102 -> 0 | W102: =+G102+O102 -> 0 | X102: =+H102+P102 -> 0 | Y102: =+I102+Q102 -> 0
A103: Periodoncia | R103: =+B103+J103 -> 0 | S103: =+C103+K103 -> 0 | T103: =+D103+L103 -> 0 | U103: =+E103+M103 -> 0 | V103: =+F103+N103 -> 0 | W103: =+G103+O103 -> 0 | X103: =+H103+P103 -> 0 | Y103: =+I103+Q103 -> 0
A104: Rehabilitación: Prótesis fija | R104: =+B104+J104 -> 0 | S104: =+C104+K104 -> 0 | T104: =+D104+L104 -> 0 | U104: =+E104+M104 -> 0 | V104: =+F104+N104 -> 0 | W104: =+G104+O104 -> 0 | X104: =+H104+P104 -> 0 | Y104: =+I104+Q104 -> 0
A105: Rehabilitación: Prótesis removible | R105: =+B105+J105 -> 0 | S105: =+C105+K105 -> 0 | T105: =+D105+L105 -> 0 | U105: =+E105+M105 -> 0 | V105: =+F105+N105 -> 0 | W105: =+G105+O105 -> 0 | X105: =+H105+P105 -> 0 | Y105: =+I105+Q105 -> 0
A106: Implantología buco maxilofacial | R106: =+B106+J106 -> 0 | S106: =+C106+K106 -> 0 | T106: =+D106+L106 -> 0 | U106: =+E106+M106 -> 0 | V106: =+F106+N106 -> 0 | W106: =+G106+O106 -> 0 | X106: =+H106+P106 -> 0 | Y106: =+I106+Q106 -> 0
A107: Patología oral | R107: =+B107+J107 -> 0 | S107: =+C107+K107 -> 0 | T107: =+D107+L107 -> 0 | U107: =+E107+M107 -> 0 | V107: =+F107+N107 -> 0 | W107: =+G107+O107 -> 0 | X107: =+H107+P107 -> 0 | Y107: =+I107+Q107 -> 0
A108: Trastornos temporomandibulares y dolor orofacial | R108: =+B108+J108 -> 0 | S108: =+C108+K108 -> 0 | T108: =+D108+L108 -> 0 | U108: =+E108+M108 -> 0 | V108: =+F108+N108 -> 0 | W108: =+G108+O108 -> 0 | X108: =+H108+P108 -> 0 | Y108: =+I108+Q108 -> 0
A109: SECCIÓN E: TELEPROCEDIMIENTOS EN ATENCIÓN SECUNDARIA Y TERCIARIA
...

Sheet AGOSTO
A1: SERVICIO DE SALUD
A2: =CONCATENATE("COMUNA: ",[9]NOMBRE!B2, " (",[9]NOMBRE!C2,[9]NOMBRE!D2,[9]NOMBRE!E2,[9]NOMBRE!F2,[9]NOMBRE!G2,")") -> COMUNA: LINARES (07401)
A3: =CONCATENATE("ESTABLECIMIENTO/ESTRATEGIA: ", [9]NOMBRE!B3, " (",[9]NOMBRE!C3,[9]NOMBRE!D3,[9]NOMBRE!E3,[9]NOMBRE!F3,[9]NOMBRE!G3,[9]NOMBRE!H3,")") -> ESTABLECIMIENTO/ESTRATEGIA: HOSPITAL PRESIDENTE CARLOS IBAÑEZ DEL CAMPO (116108)
A4: =CONCATENATE("MES: ",[9]NOMBRE!B6, " (",[9]NOMBRE!C6,[9]NOMBRE!D6,")") -> MES: AGOSTO (08)
A5: =CONCATENATE("AÑO: ",[9]NOMBRE!B7) -> AÑO: 2025
A6: REM-30. ATENCIONES POR TELEMEDICINA EN LA RED ASISTENCIAL
A8: SECCIÓN A: TELEINTERCONSULTA DE ESPECIALIDAD (ATENCION REALIZADA DE MÉDICO A MÉDICO)
A9: Especialidades | B9: Teleinterconsulta médica de especialidad ambulatoria nueva | J9: Teleinterconsulta médica de especialidad ambulatoria control | R9: TOTAL TELEINTERCONSULTAS MEDICAS AMBULATORIAS DE ESPECIALIDAD | Z9: Modalidad | AC9: Teleinterconsulta medicina de especialidad realizadas a pacientes hospitalizados | AK9: Modalidad | AN9: Teleinterconsultas solicitadas desde APS o Nivel Secundario para ser resueltas por otro establecimiento
B10: 0 - 14 años | D10: 15 - 17 años | F10: 18-19 años | H10: 20 y más años | J10: 0 - 14 años | L10: 15 - 17 años | N10: 18 - 19 años | P10: 20 y más años | R10: 0 - 14 años | T10: 15 - 17 años | V10: 18- 19 años | X10: 20 y más años | Z10: Institucional | AA10: Compra de Servicio | AC10: 0 - 14 años | AE10: 15 - 17 años | AG10: 18 a 19 años | AI10: 20 y más años | AK10: Institucional | AL10: Compra de Servicio | AN10: 0 - 14 años | AP10: 15 - 17 años | AR10: 18 - 19 años | AT10: 20 y más años
B11: Hombres | C11: Mujeres | D11: Hombres | E11: Mujeres | F11: Hombres | G11: Mujeres | H11: Hombres | I11: Mujeres | J11: Hombres | K11: Mujeres | L11: Hombres | M11: Mujeres | N11: Hombres | O11: Mujeres | P11: Hombres | Q11: Mujeres | R11: Hombres | S11: Mujeres | T11: Hombres | U11: Mujeres | V11: Hombres | W11: Mujeres | X11: Hombres | Y11: Mujeres | AA11: Sistema | AB11: Extrasistema | AC11: Hombres | AD11: Mujeres | AE11: Hombres | AF11: Mujeres | AG11: Hombres | AH11: Mujeres | AI11: Hombres | AJ11: Mujeres | AL11: Sistema | AM11: Extrasistema | AN11: Hombres | AO11: Mujeres | AP11: Hombres | AQ11: Mujeres | AR11: Hombres | AS11: Mujeres | AT11: Hombres | AU11: Mujeres
A12: TOTAL | B12: =SUM(B13:B67) -> 14 | C12: =SUM(C13:C67) -> 15 | D12: =SUM(D13:D67) -> 2 | E12: =SUM(E13:E67) -> 4 | F12: =SUM(F13:F67) -> 0 | G12: =SUM(G13:G67) -> 1 | H12: =SUM(H13:H67) -> 25 | I12: =SUM(I13:I67) -> 82 | ... AU12: =SUM(AU13:AU67) -> 0
A13: Pediatría | B13: 6 | C13: 8 | R13: =SUM(B13+J13) -> 6 | S13: =SUM(C13+K13) -> 8 | T13: =SUM(D13+L13) -> 0 | U13: =SUM(E13+M13) -> 0 | V13: =SUM(F13+N13) -> 0 | W13: =SUM(G13+O13) -> 0 | X13: =SUM(H13+P13) -> 0 | Y13: =SUM(I13+Q13) -> 0 | Z13: 14
A14: Medicina interna | H14: 2 | I14: 15 | R14: =SUM(B14+J14) -> 0 | S14: =SUM(C14+K14) -> 0 | T14: =SUM(D14+L14) -> 0 | U14: =SUM(E14+M14) -> 0 | V14: =SUM(F14+N14) -> 0 | W14: =SUM(G14+O14) -> 0 | X14: =SUM(H14+P14) -> 2 | Y14: =SUM(I14+Q14) -> 15 | Z14: 17
A15: Neonatología | R15: =SUM(B15+J15) -> 0 | S15: =SUM(C15+K15) -> 0 | T15: =SUM(D15+L15) -> 0 | U15: =SUM(E15+M15) -> 0 | V15: =SUM(F15+N15) -> 0 | W15: =SUM(G15+O15) -> 0 | X15: =SUM(H15+P15) -> 0 | Y15: =SUM(I15+Q15) -> 0
A16: Enfermedad respiratoria pediátrica (Brocopulmonar infantil) | R16: =SUM(B16+J16) -> 0 | S16: =SUM(C16+K16) -> 0 | T16: =SUM(D16+L16) -> 0 | U16: =SUM(E16+M16) -> 0 | V16: =SUM(F16+N16) -> 0 | W16: =SUM(G16+O16) -> 0 | X16: =SUM(H16+P16) -> 0 | Y16: =SUM(I16+Q16) -> 0
A17: Enfermedad respiratoria de adulto (Broncopulmonar) | H17: 1 | I17: 2 | R17: =SUM(B17+J17) -> 0 | S17: =SUM(C17+K17) -> 0 | T17: =SUM(D17+L17) -> 0 | U17: =SUM(E17+M17) -> 0 | V17: =SUM(F17+N17) -> 0 | W17: =SUM(G17+O17) -> 0 | X17: =SUM(H17+P17) -> 1 | Y17: =SUM(I17+Q17) -> 2 | Z17: 3
A18: Cardiología | B18: 0 | C18: 1 | H18: 2 | R18: =SUM(B18+J18) -> 0 | S18: =SUM(C18+K18) -> 1 | T18: =SUM(D18+L18) -> 0 | U18: =SUM(E18+M18) -> 0 | V18: =SUM(F18+N18) -> 0 | W18: =SUM(G18+O18) -> 0 | X18: =SUM(H18+P18) -> 2 | Y18: =SUM(I18+Q18) -> 0 | Z18: 3
A19: Mastología | R19: =SUM(B19+J19) -> 0 | S19: =SUM(C19+K19) -> 0 | T19: =SUM(D19+L19) -> 0 | U19: =SUM(E19+M19) -> 0 | V19: =SUM(F19+N19) -> 0 | W19: =SUM(G19+O19) -> 0 | X19: =SUM(H19+P19) -> 0 | Y19: =SUM(I19+Q19) -> 0
A20: Endocrinología pediátrica | R20: =SUM(B20+J20) -> 0 | S20: =SUM(C20+K20) -> 0 | T20: =SUM(D20+L20) -> 0 | U20: =SUM(E20+M20) -> 0 | V20: =SUM(F20+N20) -> 0 | W20: =SUM(G20+O20) -> 0 | X20: =SUM(H20+P20) -> 0 | Y20: =SUM(I20+Q20) -> 0
A21: Endocrinología adulto | H21: 1 | I21: 1 | R21: =SUM(B21+J21) -> 0 | S21: =SUM(C21+K21) -> 0 | T21: =SUM(D21+L21) -> 0 | U21: =SUM(E21+M21) -> 0 | V21: =SUM(F21+N21) -> 0 | W21: =SUM(G21+O21) -> 0 | X21: =SUM(H21+P21) -> 1 | Y21: =SUM(I21+Q21) -> 1 | Z21: 2
A22: Gastroenterología pediátrica | R22: =SUM(B22+J22) -> 0 | S22: =SUM(C22+K22) -> 0 | T22: =SUM(D22+L22) -> 0 | U22: =SUM(E22+M22) -> 0 | V22: =SUM(F22+N22) -> 0 | W22: =SUM(G22+O22) -> 0 | X22: =SUM(H22+P22) -> 0 | Y22: =SUM(I22+Q22) -> 0
A23: Gastroenterología adulto | R23: =SUM(B23+J23) -> 0 | S23: =SUM(C23+K23) -> 0 | T23: =SUM(D23+L23) -> 0 | U23: =SUM(E23+M23) -> 0 | V23: =SUM(F23+N23) -> 0 | W23: =SUM(G23+O23) -> 0 | X23: =SUM(H23+P23) -> 0 | Y23: =SUM(I23+Q23) -> 0
A24: Genética clínica | R24: =SUM(B24+J24) -> 0 | S24: =SUM(C24+K24) -> 0 | T24: =SUM(D24+L24) -> 0 | U24: =SUM(E24+M24) -> 0 | V24: =SUM(F24+N24) -> 0 | W24: =SUM(G24+O24) -> 0 | X24: =SUM(H24+P24) -> 0 | Y24: =SUM(I24+Q24) -> 0
A25: Hematología | R25: =SUM(B25+J25) -> 0 | S25: =SUM(C25+K25) -> 0 | T25: =SUM(D25+L25) -> 0 | U25: =SUM(E25+M25) -> 0 | V25: =SUM(F25+N25) -> 0 | W25: =SUM(G25+O25) -> 0 | X25: =SUM(H25+P25) -> 0 | Y25: =SUM(I25+Q25) -> 0
A26: Medicina del adolescente | R26: =SUM(B26+J26) -> 0 | S26: =SUM(C26+K26) -> 0 | T26: =SUM(D26+L26) -> 0 | U26: =SUM(E26+M26) -> 0 | V26: =SUM(F26+N26) -> 0 | W26: =SUM(G26+O26) -> 0 | X26: =SUM(H26+P26) -> 0 | Y26: =SUM(I26+Q26) -> 0
A27: Nefrología pediátrica | R27: =SUM(B27+J27) -> 0 | S27: =SUM(C27+K27) -> 0 | T27: =SUM(D27+L27) -> 0 | U27: =SUM(E27+M27) -> 0 | V27: =SUM(F27+N27) -> 0 | W27: =SUM(G27+O27) -> 0 | X27: =SUM(H27+P27) -> 0 | Y27: =SUM(I27+Q27) -> 0
A28: Nefrología adulto | R28: =SUM(B28+J28) -> 0 | S28: =SUM(C28+K28) -> 0 | T28: =SUM(D28+L28) -> 0 | U28: =SUM(E28+M28) -> 0 | V28: =SUM(F28+N28) -> 0 | W28: =SUM(G28+O28) -> 0 | X28: =SUM(H28+P28) -> 0 | Y28: =SUM(I28+Q28) -> 0
A29: Nutrición clínica | R29: =SUM(B29+J29) -> 0 | S29: =SUM(C29+K29) -> 0 | T29: =SUM(D29+L29) -> 0 | U29: =SUM(E29+M29) -> 0 | V29: =SUM(F29+N29) -> 0 | W29: =SUM(G29+O29) -> 0 | X29: =SUM(H29+P29) -> 0 | Y29: =SUM(I29+Q29) -> 0
A30: Medicina Materno Infantil | R30: =SUM(B30+J30) -> 0 | S30: =SUM(C30+K30) -> 0 | T30: =SUM(D30+L30) -> 0 | U30: =SUM(E30+M30) -> 0 | V30: =SUM(F30+N30) -> 0 | W30: =SUM(G30+O30) -> 0 | X30: =SUM(H30+P30) -> 0 | Y30: =SUM(I30+Q30) -> 0
A31: Reumatología | R31: =SUM(B31+J31) -> 0 | S31: =SUM(C31+K31) -> 0 | T31: =SUM(D31+L31) -> 0 | U31: =SUM(E31+M31) -> 0 | V31: =SUM(F31+N31) -> 0 | W31: =SUM(G31+O31) -> 0 | X31: =SUM(H31+P31) -> 0 | Y31: =SUM(I31+Q31) -> 0
A32: Medicina Paliativa y Manejo del Dolor | R32: =SUM(B32+J32) -> 0 | S32: =SUM(C32+K32) -> 0 | T32: =SUM(D32+L32) -> 0 | U32: =SUM(E32+M32) -> 0 | V32: =SUM(F32+N32) -> 0 | W32: =SUM(G32+O32) -> 0 | X32: =SUM(H32+P32) -> 0 | Y32: =SUM(I32+Q32) -> 0
A33: Dermatología | R33: =SUM(B33+J33) -> 0 | S33: =SUM(C33+K33) -> 0 | T33: =SUM(D33+L33) -> 0 | U33: =SUM(E33+M33) -> 0 | V33: =SUM(F33+N33) -> 0 | W33: =SUM(G33+O33) -> 0 | X33: =SUM(H33+P33) -> 0 | Y33: =SUM(I33+Q33) -> 0
... A38: Medicina Reproductiva e Infertilidad | R38: =SUM(B38+J38) -> 0 | S38: =SUM(C38+K38) -> 0 | T38: =SUM(D38+L38) -> 0 | U38: =SUM(E38+M38) -> 0 | V38: =SUM(F38+N38) -> 0 | W38: =SUM(G38+O38) -> 0 | X38: =SUM(H38+P38) -> 0 | Y38: =SUM(I38+Q38) -> 0
A39: Neurología pediátrica | B39: 1 | C39: 0 | R39: =SUM(B39+J39) -> 1 | S39: =SUM(C39+K39) -> 0 | T39: =SUM(D39+L39) -> 0 | U39: =SUM(E39+M39) -> 0 | V39: =SUM(F39+N39) -> 0 | W39: =SUM(G39+O39) -> 0 | X39: =SUM(H39+P39) -> 0 | Y39: =SUM(I39+Q39) -> 0 | Z39: 1
A40: Neurología adulto | R40: =SUM(B40+J40) -> 0 | S40: =SUM(C40+K40) -> 0 | T40: =SUM(D40+L40) -> 0 | U40: =SUM(E40+M40) -> 0 | V40: =SUM(F40+N40) -> 0 | W40: =SUM(G40+O40) -> 0 | X40: =SUM(H40+P40) -> 0 | Y40: =SUM(I40+Q40) -> 0
A41: Oncología médica | R41: =SUM(B41+J41) -> 0 | S41: =SUM(C41+K41) -> 0 | T41: =SUM(D41+L41) -> 0 | U41: =SUM(E41+M41) -> 0 | V41: =SUM(F41+N41) -> 0 | W41: =SUM(G41+O41) -> 0 | X41: =SUM(H41+P41) -> 0 | Y41: =SUM(I41+Q41) -> 0
A42: Psiquiatría pediátrica y de la adolescencia | R42: =SUM(B42+J42) -> 0 | S42: =SUM(C42+K42) -> 0 | T42: =SUM(D42+L42) -> 0 | U42: =SUM(E42+M42) -> 0 | V42: =SUM(F42+N42) -> 0 | W42: =SUM(G42+O42) -> 0 | X42: =SUM(H42+P42) -> 0 | Y42: =SUM(I42+Q42) -> 0
A43: Psiquiatría adulto | H43: 2 | I43: 1 | R43: =SUM(B43+J43) -> 0 | S43: =SUM(C43+K43) -> 0 | T43: =SUM(D43+L43) -> 0 | U43: =SUM(E43+M43) -> 0 | V43: =SUM(F43+N43) -> 0 | W43: =SUM(G43+O43) -> 0 | X43: =SUM(H43+P43) -> 2 | Y43: =SUM(I43+Q43) -> 1 | Z43: 3
A44: Cirugía pediátrica | R44: =SUM(B44+J44) -> 0 | S44: =SUM(C44+K44) -> 0 | T44: =SUM(D44+L44) -> 0 | U44: =SUM(E44+M44) -> 0 | V44: =SUM(F44+N44) -> 0 | W44: =SUM(G44+O44) -> 0 | X44: =SUM(H44+P44) -> 0 | Y44: =SUM(I44+Q44) -> 0
A45: Cirugía General | D45: 1 | E45: 0 | H45: 9 | I45: 7 | R45: =SUM(B45+J45) -> 0 | S45: =SUM(C45+K45) -> 0 | T45: =SUM(D45+L45) -> 1 | U45: =SUM(E45+M45) -> 0 | V45: =SUM(F45+N45) -> 0 | W45: =SUM(G45+O45) -> 0 | X45: =SUM(H45+P45) -> 9 | Y45: =SUM(I45+Q45) -> 7 | Z45: 17
A46: Cirugía digestiva (alta) | R46: =SUM(B46+J46) -> 0 | S46: =SUM(C46+K46) -> 0 | T46: =SUM(D46+L46) -> 0 | U46: =SUM(E46+M46) -> 0 | V46: =SUM(F46+N46) -> 0 | W46: =SUM(G46+O46) -> 0 | X46: =SUM(H46+P46) -> 0 | Y46: =SUM(I46+Q46) -> 0
A47: Cirugía de cabeza, cuello y maxilofacial | R47: =SUM(B47+J47) -> 0 | S47: =SUM(C47+K47) -> 0 | T47: =SUM(D47+L47) -> 0 | U47: =SUM(E47+M47) -> 0 | V47: =SUM(F47+N47) -> 0 | W47: =SUM(G47+O47) -> 0 | X47: =SUM(H47+P47) -> 0 | Y47: =SUM(I47+Q47) -> 0
A48: Cirugía Plástica y Reparadora | R48: =SUM(B48+J48) -> 0 | S48: =SUM(C48+K48) -> 0 | T48: =SUM(D48+L48) -> 0 | U48: =SUM(E48+M48) -> 0 | V48: =SUM(F48+N48) -> 0 | W48: =SUM(G48+O48) -> 0 | X48: =SUM(H48+P48) -> 0 | Y48: =SUM(I48+Q48) -> 0
A49: Medicina del Deporte | R49: =SUM(B49+J49) -> 0 | S49: =SUM(C49+K49) -> 0 | T49: =SUM(D49+L49) -> 0 | U49: =SUM(E49+M49) -> 0 | V49: =SUM(F49+N49) -> 0 | W49: =SUM(G49+O49) -> 0 | X49: =SUM(H49+P49) -> 0 | Y49: =SUM(I49+Q49) -> 0
A50: Coloproctología (Cirugía digestiva baja) | R50: =SUM(B50+J50) -> 0 | S50: =SUM(C50+K50) -> 0 | T50: =SUM(D50+L50) -> 0 | U50: =SUM(E50+M50) -> 0 | V50: =SUM(F50+N50) -> 0 | W50: =SUM(G50+O50) -> 0 | X50: =SUM(H50+P50) -> 0 | Y50: =SUM(I50+Q50) -> 0
A51: Cirugía tórax | R51: =SUM(B51+J51) -> 0 | S51: =SUM(C51+K51) -> 0 | T51: =SUM(D51+L51) -> 0 | U51: =SUM(E51+M51) -> 0 | V51: =SUM(F51+N51) -> 0 | W51: =SUM(G51+O51) -> 0 | X51: =SUM(H51+P51) -> 0 | Y51: =SUM(I51+Q51) -> 0
