Workbook

Sheet CONSOLIDADO
A1: SERVICIO DE SALUD
A2: =CONCATENATE("COMUNA: ",[1]NOMBRE!B2, " (",[1]NOMBRE!C2,[1]NOMBRE!D2,[1]NOMBRE!E2,[1]NOMBRE!F2,[1]NOMBRE!G2,")") -> COMUNA: 0 (00000)
A3: =CONCATENATE("ESTABLECIMIENTO/ESTRATEGIA: ", [1]NOMBRE!B3, " (",[1]NOMBRE!C3,[1]NOMBRE!D3,[1]NOMBRE!E3,[1]NOMBRE!F3,[1]NOMBRE!G3,[1]NOMBRE!H3,")") -> ESTABLECIMIENTO/ESTRATEGIA: 0 (000000)
A4: =CONCATENATE("MES: ",[1]NOMBRE!B6, " (",[1]NOMBRE!C6,[1]NOMBRE!D6,")") -> MES: 0 (00)
A5: =CONCATENATE("AÑO: ",[1]NOMBRE!B7) -> AÑO: 2025
A6: REM-28. REHABILITACIÓN INTEGRAL
A8: SECCIÓN A: ATENCIONES DE REHABILITACIÓN NIVEL PRIMARIO
A9: SECCIÓN A.1: INGRESOS Y EGRESOS A ATENCIONES DE REHABILITACIÓN EN EL NIVEL PRIMARIO
A10: TIPO DE INGRESO | B10: TOTAL | E10: RANGO ETARIO Y SEXO | AM10: TIPO DE ESTRATEGIA | AQ10: Personas con discapacidad (con RND) | AR10: Pueblos Originarios | AS10: Migrantes
E11: 0 - 4 años | G11: 5 - 9 años | I11: 10 - 14 años | K11: 15 - 19 años | M11: 20 - 24 años | O11: 25-29 años | Q11: 30-34 años | S11: 35 - 39 años | U11: 40 - 44 años | W11: 45- 49 años | Y11: 50 - 54 años | AA11: 55 - 59 años | AC11: 60 - 64 años | AE11: 65 - 69 años | AG11: 70 - 74 años | AI11: 75 - 79 años | AK11: 80 y más años | AM11: Rehabilitación NNA | AN11: Rehabilitación Integral APS | AO11: Otros Rehabilitación | AP11: Rehabilitación móvil (rural)
B12: Ambos Sexos | C12: Hombres | D12: Mujeres | E12: Hombres | F12: Mujeres | G12: Hombres | H12: Mujeres | I12: Hombres | J12: Mujeres | K12: Hombres | L12: Mujeres | M12: Hombres | N12: Mujeres | O12: Hombres | P12: Mujeres | Q12: Hombres | R12: Mujeres | S12: Hombres | T12: Mujeres | U12: Hombres | V12: Mujeres | W12: Hombres | X12: Mujeres | Y12: Hombres | Z12: Mujeres | AA12: Hombres | AB12: Mujeres | AC12: Hombres | AD12: Mujeres | AE12: Hombres | AF12: Mujeres | AG12: Hombres | AH12: Mujeres | AI12: Hombres | AJ12: Mujeres | AK12: Hombres | AL12: Mujeres
A13: Ingresos | B13: =SUM(C13:D13) -> 0 | C13: =SUM(E13,G13,I13,K13,M13,O13,Q13,S13,U13,W13,Y13,AA13,AC13,AE13,AG13,AI13,AK13) -> 0 | D13: =SUM(F13,H13,J13,L13,N13,P13,R13,T13,V13,X13,Z13,AB13,AD13,AF13,AH13,AJ13,AL13) -> 0 | AT13: =CA13&CB13&CC13&CD13 | CA13: =IF(AM13+AN13+AO13+AP13<>$B13,"* La suma de "&AM$10&""&" no puede ser distinto del Total Ambos Sexos. ","") | CB13: =IF(AND($B13<>0,AQ13=""),"* No olvide ingresar la variable Personas con discapacidad (con RND). Digite Cero si no tiene. ",IF(AQ13>$B13,"* La variable Personas con discapacidad (con RND) no puede superar el Total Ambos Sexos. ","")) | CC13: =IF(AND($B13<>0,AR13=""),"* No olvide ingresar la variable Pueblos Originarios. Digite CERO si no tiene. ",IF(AR13>$B13,"* La variable Pueblos Originarios no puede superar el Total Ambos Sexos. ","")) | CD13: =IF(AND($B13<>0,AS13=""),"* No olvide ingresar la variable Migrantes. Digite CERO si no tiene. ",IF(AS13>$B13,"* La variable Migrantes no puede superar el Total Ambos Sexos. ","")) | CM13: =IF(AM13+AN13+AO13+AP13<>$B13,1,0) -> 0 | CN13: =IF(AND($B13<>0,AQ13=""),1,IF(AQ13>$B13,1,0)) -> 0 | CO13: =IF(AND($B13<>0,AR13=""),1,IF(AR13>$B13,1,0)) -> 0 | CP13: =IF(AND($B13<>0,AS13=""),1,IF(AS13>$B13,1,0)) -> 0
A14: Ingresos con plan de tratamiento integral (PTI) | B14: =SUM(C14:D14) -> 0 | C14: =SUM(E14,G14,I14,K14,M14,O14,Q14,S14,U14,W14,Y14,AA14,AC14,AE14,AG14,AI14,AK14) -> 0 | D14: =SUM(F14,H14,J14,L14,N14,P14,R14,T14,V14,X14,Z14,AB14,AD14,AF14,AH14,AJ14,AL14) -> 0 | AT14: =CA14&CB14&CC14&CD14 | CA14: =IF(AM14+AN14+AO14+AP14<>$B14,"* La suma de "&AM$10&""&" no puede ser distinto del Total Ambos Sexos. ","") | CB14: =IF(AND($B14<>0,AQ14=""),"* No olvide ingresar la variable Personas con discapacidad (con RND). Digite Cero si no tiene. ",IF(AQ14>$B14,"* La variable Personas con discapacidad (con RND) no puede superar el Total Ambos Sexos. ","")) | CC14: =IF(AND($B14<>0,AR14=""),"* No olvide ingresar la variable Pueblos Originarios. Digite CERO si no tiene. ",IF(AR14>$B14,"* La variable Pueblos Originarios no puede superar el Total Ambos Sexos. ","")) | CD14: =IF(AND($B14<>0,AS14=""),"* No olvide ingresar la variable Migrantes. Digite CERO si no tiene. ",IF(AS14>$B14,"* La variable Migrantes no puede superar el Total Ambos Sexos. ","")) | CM14: =IF(AM14+AN14+AO14+AP14<>$B14,1,0) -> 0 | CN14: =IF(AND($B14<>0,AQ14=""),1,IF(AQ14>$B14,1,0)) -> 0 | CO14: =IF(AND($B14<>0,AR14=""),1,IF(AR14>$B14,1,0)) -> 0 | CP14: =IF(AND($B14<>0,AS14=""),1,IF(AS14>$B14,1,0)) -> 0
A15: Ingresos con plan de tratamiento integral (PTI) con objetivos para el trabajo | B15: =SUM(C15:D15) -> 0 | C15: =SUM(E15,G15,I15,K15,M15,O15,Q15,S15,U15,W15,Y15,AA15,AC15,AE15,AG15,AI15,AK15) -> 0 | D15: =SUM(F15,H15,J15,L15,N15,P15,R15,T15,V15,X15,Z15,AB15,AD15,AF15,AH15,AJ15,AL15) -> 0 | AT15: =CA15&CB15&CC15&CD15 | CA15: =IF(AM15+AN15+AO15+AP15<>$B15,"* La suma de "&AM$10&""&" no puede ser distinto del Total Ambos Sexos. ","") | CB15: =IF(AND($B15<>0,AQ15=""),"* No olvide ingresar la variable Personas con discapacidad (con RND). Digite Cero si no tiene. ",IF(AQ15>$B15,"* La variable Personas con discapacidad (con RND) no puede superar el Total Ambos Sexos. ","")) | CC15: =IF(AND($B15<>0,AR15=""),"* No olvide ingresar la variable Pueblos Originarios. Digite CERO si no tiene. ",IF(AR15>$B15,"* La variable Pueblos Originarios no puede superar el Total Ambos Sexos. ","")) | CD15: =IF(AND($B15<>0,AS15=""),"* No olvide ingresar la variable Migrantes. Digite CERO si no tiene. ",IF(AS15>$B15,"* La variable Migrantes no puede superar el Total Ambos Sexos. ","")) | CM15: =IF(AM15+AN15+AO15+AP15<>$B15,1,0) -> 0 | CN15: =IF(AND($B15<>0,AQ15=""),1,IF(AQ15>$B15,1,0)) -> 0 | CO15: =IF(AND($B15<>0,AR15=""),1,IF(AR15>$B15,1,0)) -> 0 | CP15: =IF(AND($B15<>0,AS15=""),1,IF(AS15>$B15,1,0)) -> 0
A16: Ingresos de usuarios con cuidador | B16: =SUM(C16:D16) -> 0 | C16: =SUM(E16,G16,I16,K16,M16,O16,Q16,S16,U16,W16,Y16,AA16,AC16,AE16,AG16,AI16,AK16) -> 0 | D16: =SUM(F16,H16,J16,L16,N16,P16,R16,T16,V16,X16,Z16,AB16,AD16,AF16,AH16,AJ16,AL16) -> 0 | AT16: =CA16&CB16&CC16&CD16 | CA16: =IF(AM16+AN16+AO16+AP16<>$B16,"* La suma de "&AM$10&""&" no puede ser distinto del Total Ambos Sexos. ","") | CB16: =IF(AND($B16<>0,AQ16=""),"* No olvide ingresar la variable Personas con discapacidad (con RND). Digite Cero si no tiene. ",IF(AQ16>$B16,"* La variable Personas con discapacidad (con RND) no puede superar el Total Ambos Sexos. ","")) | CC16: =IF(AND($B16<>0,AR16=""),"* No olvide ingresar la variable Pueblos Originarios. Digite CERO si no tiene. ",IF(AR16>$B16,"* La variable Pueblos Originarios no puede superar el Total Ambos Sexos. ","")) | CD16: =IF(AND($B16<>0,AS16=""),"* No olvide ingresar la variable Migrantes. Digite CERO si no tiene. ",IF(AS16>$B16,"* La variable Migrantes no puede superar el Total Ambos Sexos. ","")) | CM16: =IF(AM16+AN16+AO16+AP16<>$B16,1,0) -> 0 | CN16: =IF(AND($B16<>0,AQ16=""),1,IF(AQ16>$B16,1,0)) -> 0 | CO16: =IF(AND($B16<>0,AR16=""),1,IF(AR16>$B16,1,0)) -> 0 | CP16: =IF(AND($B16<>0,AS16=""),1,IF(AS16>$B16,1,0)) -> 0
A17: Reingreso | B17: =SUM(C17:D17) -> 0 | C17: =SUM(E17,G17,I17,K17,M17,O17,Q17,S17,U17,W17,Y17,AA17,AC17,AE17,AG17,AI17,AK17) -> 0 | D17: =SUM(F17,H17,J17,L17,N17,P17,R17,T17,V17,X17,Z17,AB17,AD17,AF17,AH17,AJ17,AL17) -> 0 | AT17: =CA17&CB17&CC17&CD17 | CA17: =IF(AM17+AN17+AO17+AP17<>$B17,"* La suma de "&AM$10&""&" no puede ser distinto del Total Ambos Sexos. ","") | CB17: =IF(AND($B17<>0,AQ17=""),"* No olvide ingresar la variable Personas con discapacidad (con RND). Digite Cero si no tiene. ",IF(AQ17>$B17,"* La variable Personas con discapacidad (con RND) no puede superar el Total Ambos Sexos. ","")) | CC17: =IF(AND($B17<>0,AR17=""),"* No olvide ingresar la variable Pueblos Originarios. Digite CERO si no tiene. ",IF(AR17>$B17,"* La variable Pueblos Originarios no puede superar el Total Ambos Sexos. ","")) | CD17: =IF(AND($B17<>0,AS17=""),"* No olvide ingresar la variable Migrantes. Digite CERO si no tiene. ",IF(AS17>$B17,"* La variable Migrantes no puede superar el Total Ambos Sexos. ","")) | CM17: =IF(AM17+AN17+AO17+AP17<>$B17,1,0) -> 0 | CN17: =IF(AND($B17<>0,AQ17=""),1,IF(AQ17>$B17,1,0)) -> 0 | CO17: =IF(AND($B17<>0,AR17=""),1,IF(AR17>$B17,1,0)) -> 0 | CP17: =IF(AND($B17<>0,AS17=""),1,IF(AS17>$B17,1,0)) -> 0
A18: Ingresos con PTI cuidador | B18: =SUM(C18:D18) -> 0 | C18: =SUM(E18,G18,I18,K18,M18,O18,Q18,S18,U18,W18,Y18,AA18,AC18,AE18,AG18,AI18,AK18) -> 0 | D18: =SUM(F18,H18,J18,L18,N18,P18,R18,T18,V18,X18,Z18,AB18,AD18,AF18,AH18,AJ18,AL18) -> 0 | AT18: =CA18&CB18&CC18&CD18 | CA18: =IF(AM18+AN18+AO18+AP18<>$B18,"* La suma de "&AM$10&""&" no puede ser distinto del Total Ambos Sexos. ","") | CB18: =IF(AND($B18<>0,AQ18=""),"* No olvide ingresar la variable Personas con discapacidad (con RND). Digite Cero si no tiene. ",IF(AQ18>$B18,"* La variable Personas con discapacidad (con RND) no puede superar el Total Ambos Sexos. ","")) | CC18: =IF(AND($B18<>0,AR18=""),"* No olvide ingresar la variable Pueblos Originarios. Digite CERO si no tiene. ",IF(AR18>$B18,"* La variable Pueblos Originarios no puede superar el Total Ambos Sexos. ","")) | CD18: =IF(AND($B18<>0,AS18=""),"* No olvide ingresar la variable Migrantes. Digite CERO si no tiene. ",IF(AS18>$B18,"* La variable Migrantes no puede superar el Total Ambos Sexos. ","")) | CM18: =IF(AM18+AN18+AO18+AP18<>$B18,1,0) -> 0 | CN18: =IF(AND($B18<>0,AQ18=""),1,IF(AQ18>$B18,1,0)) -> 0 | CO18: =IF(AND($B18<>0,AR18=""),1,IF(AR18>$B18,1,0)) -> 0 | CP18: =IF(AND($B18<>0,AS18=""),1,IF(AS18>$B18,1,0)) -> 0
A19: Egresos | B19: =SUM(C19:D19) -> 0 | C19: =SUM(E19,G19,I19,K19,M19,O19,Q19,S19,U19,W19,Y19,AA19,AC19,AE19,AG19,AI19,AK19) -> 0 | D19: =SUM(F19,H19,J19,L19,N19,P19,R19,T19,V19,X19,Z19,AB19,AD19,AF19,AH19,AJ19,AL19) -> 0 | E19: =SUM(E20:E24) -> 0 | F19: =SUM(F20:F24) -> 0 | G19: =SUM(G20:G24) -> 0 | H19: =SUM(H20:H24) -> 0 | I19: =SUM(I20:I24) -> 0 | J19: =SUM(J20:J24) -> 0 | K19: =SUM(K20:K24) -> 0 | L19: =SUM(L20:L24) -> 0 | ... AS19: =SUM(AS20:AS24) -> 0
A20: Egresos por alta | B20: =SUM(C20:D20) -> 0 | C20: =SUM(E20,G20,I20,K20,M20,O20,Q20,S20,U20,W20,Y20,AA20,AC20,AE20,AG20,AI20,AK20) -> 0 | D20: =SUM(F20,H20,J20,L20,N20,P20,R20,T20,V20,X20,Z20,AB20,AD20,AF20,AH20,AJ20,AL20) -> 0 | AT20: =CA20&CB20&CC20&CD20 | CA20: =IF(AM20+AN20+AO20+AP20<>$B20,"* La suma de "&AM$10&""&" no puede ser distinto del Total Ambos Sexos. ","") | CB20: =IF(AND($B20<>0,AQ20=""),"* No olvide ingresar la variable Personas con discapacidad (con RND). Digite Cero si no tiene. ",IF(AQ20>$B20,"* La variable Personas con discapacidad (con RND) no puede superar el Total Ambos Sexos. ","")) | CC20: =IF(AND($B20<>0,AR20=""),"* No olvide ingresar la variable Pueblos Originarios. Digite CERO si no tiene. ",IF(AR20>$B20,"* La variable Pueblos Originarios no puede superar el Total Ambos Sexos. ","")) | CD20: =IF(AND($B20<>0,AS20=""),"* No olvide ingresar la variable Migrantes. Digite CERO si no tiene. ",IF(AS20>$B20,"* La variable Migrantes no puede superar el Total Ambos Sexos. ","")) | CM20: =IF(AM20+AN20+AO20+AP20<>$B20,1,0) -> 0 | CN20: =IF(AND($B20<>0,AQ20=""),1,IF(AQ20>$B20,1,0)) -> 0 | CO20: =IF(AND($B20<>0,AR20=""),1,IF(AR20>$B20,1,0)) -> 0 | CP20: =IF(AND($B20<>0,AS20=""),1,IF(AS20>$B20,1,0)) -> 0
A21: Egresos por abandono | B21: =SUM(C21:D21) -> 0 | C21: =SUM(E21,G21,I21,K21,M21,O21,Q21,S21,U21,W21,Y21,AA21,AC21,AE21,AG21,AI21,AK21) -> 0 | D21: =SUM(F21,H21,J21,L21,N21,P21,R21,T21,V21,X21,Z21,AB21,AD21,AF21,AH21,AJ21,AL21) -> 0 | AT21: =CA21&CB21&CC21&CD21 | CA21: =IF(AM21+AN21+AO21+AP21<>$B21,"* La suma de "&AM$10&""&" no puede ser distinto del Total Ambos Sexos. ","") | CB21: =IF(AND($B21<>0,AQ21=""),"* No olvide ingresar la variable Personas con discapacidad (con RND). Digite Cero si no tiene. ",IF(AQ21>$B21,"* La variable Personas con discapacidad (con RND) no puede superar el Total Ambos Sexos. ","")) | CC21: =IF(AND($B21<>0,AR21=""),"* No olvide ingresar la variable Pueblos Originarios. Digite CERO si no tiene. ",IF(AR21>$B21,"* La variable Pueblos Originarios no puede superar el Total Ambos Sexos. ","")) | CD21: =IF(AND($B21<>0,AS21=""),"* No olvide ingresar la variable Migrantes. Digite CERO si no tiene. ",IF(AS21>$B21,"* La variable Migrantes no puede superar el Total Ambos Sexos. ","")) | CM21: =IF(AM21+AN21+AO21+AP21<>$B21,1,0) -> 0 | CN21: =IF(AND($B21<>0,AQ21=""),1,IF(AQ21>$B21,1,0)) -> 0 | CO21: =IF(AND($B21<>0,AR21=""),1,IF(AR21>$B21,1,0)) -> 0 | CP21: =IF(AND($B21<>0,AS21=""),1,IF(AS21>$B21,1,0)) -> 0
A22: Egresos por fallecimiento | B22: =SUM(C22:D22) -> 0 | C22: =SUM(E22,G22,I22,K22,M22,O22,Q22,S22,U22,W22,Y22,AA22,AC22,AE22,AG22,AI22,AK22) -> 0 | D22: =SUM(F22,H22,J22,L22,N22,P22,R22,T22,V22,X22,Z22,AB22,AD22,AF22,AH22,AJ22,AL22) -> 0 | AT22: =CA22&CB22&CC22&CD22 | CA22: =IF(AM22+AN22+AO22+AP22<>$B22,"* La suma de "&AM$10&""&" no puede ser distinto del Total Ambos Sexos. ","") | CB22: =IF(AND($B22<>0,AQ22=""),"* No olvide ingresar la variable Personas con discapacidad (con RND). Digite Cero si no tiene. ",IF(AQ22>$B22,"* La variable Personas con discapacidad (con RND) no puede superar el Total Ambos Sexos. ","")) | CC22: =IF(AND($B22<>0,AR22=""),"* No olvide ingresar la variable Pueblos Originarios. Digite CERO si no tiene. ",IF(AR22>$B22,"* La variable Pueblos Originarios no puede superar el Total Ambos Sexos. ","")) | CD22: =IF(AND($B22<>0,AS22=""),"* No olvide ingresar la variable Migrantes. Digite CERO si no tiene. ",IF(AS22>$B22,"* La variable Migrantes no puede superar el Total Ambos Sexos. ","")) | CM22: =IF(AM22+AN22+AO22+AP22<>$B22,1,0) -> 0 | CN22: =IF(AND($B22<>0,AQ22=""),1,IF(AQ22>$B22,1,0)) -> 0 | CO22: =IF(AND($B22<>0,AR22=""),1,IF(AR22>$B22,1,0)) -> 0 | CP22: =IF(AND($B22<>0,AS22=""),1,IF(AS22>$B22,1,0)) -> 0
A23: Egresos por otras causas | B23: =SUM(C23:D23) -> 0 | C23: =SUM(E23,G23,I23,K23,M23,O23,Q23,S23,U23,W23,Y23,AA23,AC23,AE23,AG23,AI23,AK23) -> 0 | D23: =SUM(F23,H23,J23,L23,N23,P23,R23,T23,V23,X23,Z23,AB23,AD23,AF23,AH23,AJ23,AL23) -> 0 | AT23: =CA23&CB23&CC23&CD23 | CA23: =IF(AM23+AN23+AO23+AP23<>$B23,"* La suma de "&AM$10&""&" no puede ser distinto del Total Ambos Sexos. ","") | CB23: =IF(AND($B23<>0,AQ23=""),"* No olvide ingresar la variable Personas con discapacidad (con RND). Digite Cero si no tiene. ",IF(AQ23>$B23,"* La variable Personas con discapacidad (con RND) no puede superar el Total Ambos Sexos. ","")) | CC23: =IF(AND($B23<>0,AR23=""),"* No olvide ingresar la variable Pueblos Originarios. Digite CERO si no tiene. ",IF(AR23>$B23,"* La variable Pueblos Originarios no puede superar el Total Ambos Sexos. ","")) | CD23: =IF(AND($B23<>0,AS23=""),"* No olvide ingresar la variable Migrantes. Digite CERO si no tiene. ",IF(AS23>$B23,"* La variable Migrantes no puede superar el Total Ambos Sexos. ","")) | CM23: =IF(AM23+AN23+AO23+AP23<>$B23,1,0) -> 0 | CN23: =IF(AND($B23<>0,AQ23=""),1,IF(AQ23>$B23,1,0)) -> 0 | CO23: =IF(AND($B23<>0,AR23=""),1,IF(AR23>$B23,1,0)) -> 0 | CP23: =IF(AND($B23<>0,AS23=""),1,IF(AS23>$B23,1,0)) -> 0
A24: Egresos con PTI cuidador | B24: =SUM(C24:D24) -> 0 | C24: =SUM(E24,G24,I24,K24,M24,O24,Q24,S24,U24,W24,Y24,AA24,AC24,AE24,AG24,AI24,AK24) -> 0 | D24: =SUM(F24,H24,J24,L24,N24,P24,R24,T24,V24,X24,Z24,AB24,AD24,AF24,AH24,AJ24,AL24) -> 0 | AT24: =CA24&CB24&CC24&CD24 | CA24: =IF(AM24+AN24+AO24+AP24<>$B24,"* La suma de "&AM$10&""&" no puede ser distinto del Total Ambos Sexos. ","") | CB24: =IF(AND($B24<>0,AQ24=""),"* No olvide ingresar la variable Personas con discapacidad (con RND). Digite Cero si no tiene. ",IF(AQ24>$B24,"* La variable Personas con discapacidad (con RND) no puede superar el Total Ambos Sexos. ","")) | CC24: =IF(AND($B24<>0,AR24=""),"* No olvide ingresar la variable Pueblos Originarios. Digite CERO si no tiene. ",IF(AR24>$B24,"* La variable Pueblos Originarios no puede superar el Total Ambos Sexos. ","")) | CD24: =IF(AND($B24<>0,AS24=""),"* No olvide ingresar la variable Migrantes. Digite CERO si no tiene. ",IF(AS24>$B24,"* La variable Migrantes no puede superar el Total Ambos Sexos. ","")) | CM24: =IF(AM24+AN24+AO24+AP24<>$B24,1,0) -> 0 | CN24: =IF(AND($B24<>0,AQ24=""),1,IF(AQ24>$B24,1,0)) -> 0 | CO24: =IF(AND($B24<>0,AR24=""),1,IF(AR24>$B24,1,0)) -> 0 | CP24: =IF(AND($B24<>0,AS24=""),1,IF(AS24>$B24,1,0)) -> 0
A25: SECCIÓN A.2: INGRESOS POR CONDICIÓN DE SALUD
A26: CONDICIÓN DE SALUD | B26: TOTAL | E26: RANGO ETARIO Y SEXO | AM26: TIPO DE ESTRATEGIA
E27: 0 a 4 años | G27: 5 a 9 años | I27: 10 - 14 | K27: 15 - 19 | M27: 20 - 24 | O27: 25-29 | Q27: 30-34 | S27: 35 - 39 | U27: 40 - 44 | W27: 45- 49 | Y27: 50 - 54 | AA27: 55 - 59 | AC27: 60 - 64 | AE27: 65 - 69 | AG27: 70 - 74 | AI27: 75 - 79 | AK27: 80 y más años | AM27: Rehabilitación NNA | AN27: Rehabilitación Integral APS | AO27: Otros Rehabilitación | AP27: Rehabilitación móvil (rural)
B28: Ambos Sexos | C28: Hombres | D28: Mujeres | E28: Hombres | F28: Mujeres | G28: Hombres | H28: Mujeres | I28: Hombres | J28: Mujeres | K28: Hombres | L28: Mujeres | M28: Hombres | N28: Mujeres | O28: Hombres | P28: Mujeres | Q28: Hombres | R28: Mujeres | S28: Hombres | T28: Mujeres | U28: Hombres | V28: Mujeres | W28: Hombres | X28: Mujeres | Y28: Hombres | Z28: Mujeres | AA28: Hombres | AB28: Mujeres | AC28: Hombres | AD28: Mujeres | AE28: Hombres | AF28: Mujeres | AG28: Hombres | AH28: Mujeres | AI28: Hombres | AJ28: Mujeres | AK28: Hombres | AL28: Mujeres | CM28: =IF(B29<>SUM(B30:B50),1,0) -> 0
A29: Total ingreso (N° de personas) | B29: =SUM(C29:D29) -> 0 | C29: =+E29+G29+I29+K29+M29+O29+Q29+S29+U29+W29+Y29+AA29+AC29+AE29+AG29+AI29+AK29 -> 0 | D29: =+F29+H29+J29+L29+N29+P29+R29+T29+V29+X29+Z29+AB29+AD29+AF29+AH29+AJ29+AL29 -> 0 | AQ29: =CB29&CA29&CC29&CD29&CE29&CF29 | CA29: =IF(CM28=1,"* Existen Condiciones de Salud que son mayores al Total de Ingreso (N° Personas). ","") | CB29: =IF(CM29=1," * El total de Ingresos debe ser igual a la suma de los Tipos de Estrategia. ","") | CC29: =IF(CN29=1,"* Existen Condiciones de Salud en la variable Rehabilitación NNA que son Mayores a los Ingreso (N° Personas). ","") | CD29: =IF(CO29=1,"* Existen Condiciones de Salud en la variable Rehabilitación Integral APS que son Mayores a los Ingreso (N° Personas). ","") | CE29: =IF(CP29=1,"* Existen Condiciones de Salud en la variable Otros Rehabilitación que son Mayores a los Ingreso (N° Personas). ","") | CF29: =IF(CQ29=1,"* Existen Condiciones de Salud en la variable Rehabilitación móvil (rural) que son Mayores a los Ingreso (N° Personas). ","") | CM29: =IF(SUM(AM29:AP29)=B29,0,1) -> 0 | CN29: =IF($AM29<MAX($AM30:$AM50),1,0) -> 0 | CO29: =IF(AN29<MAX(AN30:AN50),1,0) -> 0 | CP29: =IF(AO29<MAX(AO30:AO50),1,0) -> 0 | CQ29: =IF(AP29<MAX(AP30:AP50),1,0) -> 0
A30: Dolor cervical agudo | B30: =SUM(C30:D30) -> 0 | C30: =+E30+G30+I30+K30+M30+O30+Q30+S30+U30+W30+Y30+AA30+AC30+AE30+AG30+AI30+AK30 -> 0 | D30: =+F30+H30+J30+L30+N30+P30+R30+T30+V30+X30+Z30+AB30+AD30+AF30+AH30+AJ30+AL30 -> 0 | AQ30: =CA30&CB30&CC30&CD30&CE30&CF30 | CB30: =IF(CM30=1," * El total de Ingresos debe ser igual a la suma de los Tipos de Estrategia. ","") | CM30: =IF(SUM(AM30:AP30)=B30,0,1) -> 0
A31: Dolor lumbar agudo | B31: =SUM(C31:D31) -> 0 | C31: =+E31+G31+I31+K31+M31+O31+Q31+S31+U31+W31+Y31+AA31+AC31+AE31+AG31+AI31+AK31 -> 0 | D31: =+F31+H31+J31+L31+N31+P31+R31+T31+V31+X31+Z31+AB31+AD31+AF31+AH31+AJ31+AL31 -> 0 | AQ31: =CA31&CB31 | CB31: =IF(CM31=1," * El total de Ingresos debe ser igual a la suma de los Tipos de Estrategia. ","") | CM31: =IF(SUM(AM31:AP31)=B31,0,1) -> 0
A32: Hombro doloroso agudo | B32: =SUM(C32:D32) -> 0 | C32: =+E32+G32+I32+K32+M32+O32+Q32+S32+U32+W32+Y32+AA32+AC32+AE32+AG32+AI32+AK32 -> 0 | D32: =+F32+H32+J32+L32+N32+P32+R32+T32+V32+X32+Z32+AB32+AD32+AF32+AH32+AJ32+AL32 -> 0 | AQ32: =CA32&CB32 | CB32: =IF(CM32=1," * El total de Ingresos debe ser igual a la suma de los Tipos de Estrategia. ","") | CM32: =IF(SUM(AM32:AP32)=B32,0,1) -> 0
A33: Otro dolor musculoesquelético agudo | B33: =SUM(C33:D33) -> 0 | C33: =+E33+G33+I33+K33+M33+O33+Q33+S33+U33+W33+Y33+AA33+AC33+AE33+AG33+AI33+AK33 -> 0 | D33: =+F33+H33+J33+L33+N33+P33+R33+T33+V33+X33+Z33+AB33+AD33+AF33+AH33+AJ33+AL33 -> 0 | AQ33: =CA33&CB33 | CB33: =IF(CM33=1," * El total de Ingresos debe ser igual a la suma de los Tipos de Estrategia. ","") | CM33: =IF(SUM(AM33:AP33)=B33,0,1) -> 0
A34: Artrosis de rodilla y cadera | B34: =SUM(C34:D34) -> 0 | C34: =+E34+G34+I34+K34+M34+O34+Q34+S34+U34+W34+Y34+AA34+AC34+AE34+AG34+AI34+AK34 -> 0 | D34: =+F34+H34+J34+L34+N34+P34+R34+T34+V34+X34+Z34+AB34+AD34+AF34+AH34+AJ34+AL34 -> 0 | AQ34: =CA34&CB34 | CB34: =IF(CM34=1," * El total de Ingresos debe ser igual a la suma de los Tipos de Estrategia. ","") | CM34: =IF(SUM(AM34:AP34)=B34,0,1) -> 0
A35: Artritis reumatoidea | B35: =SUM(C35:D35) -> 0 | C35: =+E35+G35+I35+K35+M35+O35+Q35+S35+U35+W35+Y35+AA35+AC35+AE35+AG35+AI35+AK35 -> 0 | D35: =+F35+H35+J35+L35+N35+P35+R35+T35+V35+X35+Z35+AB35+AD35+AF35+AH35+AJ35+AL35 -> 0 | AQ35: =CA35&CB35 | CB35: =IF(CM35=1," * El total de Ingresos debe ser igual a la suma de los Tipos de Estrategia. ","") | CM35: =IF(SUM(AM35:AP35)=B35,0,1) -> 0
A36: Otro dolor musculoesquelético crónico | B36: =SUM(C36:D36) -> 0 | C36: =+E36+G36+I36+K36+M36+O36+Q36+S36+U36+W36+Y36+AA36+AC36+AE36+AG36+AI36+AK36 -> 0 | D36: =+F36+H36+J36+L36+N36+P36+R36+T36+V36+X36+Z36+AB36+AD36+AF36+AH36+AJ36+AL36 -> 0 | AQ36: =CA36&CB36 | CB36: =IF(CM36=1," * El total de Ingresos debe ser igual a la suma de los Tipos de Estrategia. ","") | CM36: =IF(SUM(AM36:AP36)=B36,0,1) -> 0
A37: Ataque cerebro vascular (ACV) | B37: =SUM(C37:D37) -> 0 | C37: =+E37+G37+I37+K37+M37+O37+Q37+S37+U37+W37+Y37+AA37+AC37+AE37+AG37+AI37+AK37 -> 0 | D37: =+F37+H37+J37+L37+N37+P37+R37+T37+V37+X37+Z37+AB37+AD37+AF37+AH37+AJ37+AL37 -> 0 | AQ37: =CA37&CB37 | CB37: =IF(CM37=1," * El total de Ingresos debe ser igual a la suma de los Tipos de Estrategia. ","") | CM37: =IF(SUM(AM37:AP37)=B37,0,1) -> 0
A38: Traumatismo encéfalo craneano (TEC) | B38: =SUM(C38:D38) -> 0 | C38: =+E38+G38+I38+K38+M38+O38+Q38+S38+U38+W38+Y38+AA38+AC38+AE38+AG38+AI38+AK38 -> 0 | D38: =+F38+H38+J38+L38+N38+P38+R38+T38+V38+X38+Z38+AB38+AD38+AF38+AH38+AJ38+AL38 -> 0 | AQ38: =CA38&CB38 | CB38: =IF(CM38=1," * El total de Ingresos debe ser igual a la suma de los Tipos de Estrategia. ","") | CM38: =IF(SUM(AM38:AP38)=B38,0,1) -> 0
A39: Lesión medular | B39: =SUM(C39:D39) -> 0 | C39: =+E39+G39+I39+K39+M39+O39+Q39+S39+U39+W39+Y39+AA39+AC39+AE39+AG39+AI39+AK39 -> 0 | D39: =+F39+H39+J39+L39+N39+P39+R39+T39+V39+X39+Z39+AB39+AD39+AF39+AH39+AJ39+AL39 -> 0 | AQ39: =CA39&CB39 | CB39: =IF(CM39=1," * El total de Ingresos debe ser igual a la suma de los Tipos de Estrategia. ","") | CM39: =IF(SUM(AM39:AP39)=B39,0,1) -> 0
A40: Enfermedad de Parkinson | B40: =SUM(C40:D40) -> 0 | C40: =+E40+G40+I40+K40+M40+O40+Q40+S40+U40+W40+Y40+AA40+AC40+AE40+AG40+AI40+AK40 -> 0 | D40: =+F40+H40+J40+L40+N40+P40+R40+T40+V40+X40+Z40+AB40+AD40+AF40+AH40+AJ40+AL40 -> 0 | AQ40: =CA40&CB40 | CB40: =IF(CM40=1," * El total de Ingresos debe ser igual a la suma de los Tipos de Estrategia. ","") | CM40: =IF(SUM(AM40:AP40)=B40,0,1) -> 0
A41: Enfermedades neuromusculares | B41: =SUM(C41:D41) -> 0 | C41: =+E41+G41+I41+K41+M41+O41+Q41+S41+U41+W41+Y41+AA41+AC41+AE41+AG41+AI41+AK41 -> 0 | D41: =+F41+H41+J41+L41+N41+P41+R41+T41+V41+X41+Z41+AB41+AD41+AF41+AH41+AJ41+AL41 -> 0 | AQ41: =CA41&CB41 | CB41: =IF(CM41=1," * El total de Ingresos debe ser igual a la suma de los Tipos de Estrategia. ","") | CM41: =IF(SUM(AM41:AP41)=B41,0,1) -> 0
A42: Alteraciones en el desarrollo psicomotor | B42: =SUM(C42:D42) -> 0 | C42: =+E42+G42+I42+K42+M42+O42+Q42+S42+U42+W42+Y42+AA42+AC42+AE42+AG42+AI42+AK42 -> 0 | D42: =+F42+H42+J42+L42+N42+P42+R42+T42+V42+X42+Z42+AB42+AD42+AF42+AH42+AJ42+AL42 -> 0 | AQ42: =CA42&CB42 | CB42: =IF(CM42=1," * El total de Ingresos debe ser igual a la suma de los Tipos de Estrategia. ","") | CM42: =IF(SUM(AM42:AP42)=B42,0,1) -> 0
... A48: Quemados | B48: =SUM(C48:D48) -> 0 | C48: =+E48+G48+I48+K48+M48+O48+Q48+S48+U48+W48+Y48+AA48+AC48+AE48+AG48+AI48+AK48 -> 0 | D48: =+F48+H48+J48+L48+N48+P48+R48+T48+V48+X48+Z48+AB48+AD48+AF48+AH48+AJ48+AL48 -> 0 | AQ48: =CA48&CB48 | CB48: =IF(CM48=1," * El total de Ingresos debe ser igual a la suma de los Tipos de Estrategia. ","") | CM48: =IF(SUM(AM48:AP48)=B48,0,1) -> 0
A49: COVID-19 | B49: =SUM(C49:D49) -> 0 | C49: =+E49+G49+I49+K49+M49+O49+Q49+S49+U49+W49+Y49+AA49+AC49+AE49+AG49+AI49+AK49 -> 0 | D49: =+F49+H49+J49+L49+N49+P49+R49+T49+V49+X49+Z49+AB49+AD49+AF49+AH49+AJ49+AL49 -> 0 | AQ49: =CB49 | CB49: =IF(CM49=1," * El total de Ingresos debe ser igual a la suma de los Tipos de Estrategia. ","") | CM49: =IF(SUM(AM49:AP49)=B49,0,1) -> 0
A50: Otros | B50: =SUM(C50:D50) -> 0 | C50: =+E50+G50+I50+K50+M50+O50+Q50+S50+U50+W50+Y50+AA50+AC50+AE50+AG50+AI50+AK50 -> 0 | D50: =+F50+H50+J50+L50+N50+P50+R50+T50+V50+X50+Z50+AB50+AD50+AF50+AH50+AJ50+AL50 -> 0 | AQ50: =CB50 | CB50: =IF(CM50=1," * El total de Ingresos debe ser igual a la suma de los Tipos de Estrategia. ","") | CM50: =IF(SUM(AM50:AP50)=B50,0,1) -> 0
A51: Alteraciones visuales | B51: =SUM(C51:D51) -> 0 | C51: =+E51+G51+I51+K51+M51+O51+Q51+S51+U51+W51+Y51+AA51+AC51+AE51+AG51+AI51+AK51 -> 0 | D51: =+F51+H51+J51+L51+N51+P51+R51+T51+V51+X51+Z51+AB51+AD51+AF51+AH51+AJ51+AL51 -> 0 | AQ51: =CB51 | CB51: =IF(CM51=1," * El total de Ingresos debe ser igual a la suma de los Tipos de Estrategia. ","") | CM51: =IF(SUM(AM51:AP51)=B51,0,1) -> 0
A52: Alteraciones auditivas | B52: =SUM(C52:D52) -> 0 | C52: =+E52+G52+I52+K52+M52+O52+Q52+S52+U52+W52+Y52+AA52+AC52+AE52+AG52+AI52+AK52 -> 0 | D52: =+F52+H52+J52+L52+N52+P52+R52+T52+V52+X52+Z52+AB52+AD52+AF52+AH52+AJ52+AL52 -> 0 | AQ52: =CA52&CB52 | CB52: =IF(CM52=1," * El total de Ingresos debe ser igual a la suma de los Tipos de Estrategia. ","") | CM52: =IF(SUM(AM52:AP52)=B52,0,1) -> 0
A53: SECCIÓN A.3: EVALUACIÓN INICIAL
A54: PROFESIONAL | B54: TOTAL | C54: TIPO DE ESTRATEGIA | G54: MODALIDAD DE REHABILITACIÓN
C55: Rehabilitación NNA | D55: Rehabilitación Integral APS | E55: Otros Rehabilitación | F55: Rehabilitación móvil (rural) | G55: Presencial (Establecimiento) | H55: Domiciliaria
A56: Médico/a | B56: =SUM(C56:F56) -> 0 | I56: =CA56&CB56&CC56 | CA56: =IF(AND($B56>0,$G56="")," * No olvide digitar la variable "&$G$54&""&" Presencial (Establecimiento). Digite CERO si no tiene.","") | CB56: =IF(AND($B56>0,$H56="")," * No olvide digitar la variable "&$G$54&""&" Domiciliaria. Digite CERO si no tiene.","") | CC56: =IF(AND($G56+$H56>$B56)," * La variable "&$G$54&""&" No puede ser mayor al Total.","") | CM56: =IF(AND($B56>0,$G56=""),1,0) -> 0 | CN56: =IF(AND($B56>0,$H56=""),1,0) -> 0 | CO56: =IF(AND($G56+$H56>$B56),1,0) -> 0
A57: Kinesiólogo/a | B57: =SUM(C57:F57) -> 0 | I57: =CA57&CB57&CC57 | CA57: =IF(AND($B57>0,$G57="")," * No olvide digitar la variable "&$G$54&""&" Presencial (Establecimiento). Digite CERO si no tiene.","") | CB57: =IF(AND($B57>0,$H57="")," * No olvide digitar la variable "&$G$54&""&" Domiciliaria. Digite CERO si no tiene.","") | CC57: =IF(AND($G57+$H57>$B57)," * La variable "&$G$54&""&" No puede ser mayor al Total.","") | CM57: =IF(AND($B57>0,$G57=""),1,0) -> 0 | CN57: =IF(AND($B57>0,$H57=""),1,0) -> 0 | CO57: =IF(AND($G57+$H57>$B57),1,0) -> 0
A58: Terpeuta Ocupacional | B58: =SUM(C58:F58) -> 0 | I58: =CA58&CB58&CC58 | CA58: =IF(AND($B58>0,$G58="")," * No olvide digitar la variable "&$G$54&""&" Presencial (Establecimiento). Digite CERO si no tiene.","") | CB58: =IF(AND($B58>0,$H58="")," * No olvide digitar la variable "&$G$54&""&" Domiciliaria. Digite CERO si no tiene.","") | CC58: =IF(AND($G58+$H58>$B58)," * La variable "&$G$54&""&" No puede ser mayor al Total.","") | CM58: =IF(AND($B58>0,$G58=""),1,0) -> 0 | CN58: =IF(AND($B58>0,$H58=""),1,0) -> 0 | CO58: =IF(AND($G58+$H58>$B58),1,0) -> 0
A59: Fonoaudiólogo/a | B59: =SUM(C59:F59) -> 0 | I59: =CA59&CB59&CC59 | CA59: =IF(AND($B59>0,$G59="")," * No olvide digitar la variable "&$G$54&""&" Presencial (Establecimiento). Digite CERO si no tiene.","") | CB59: =IF(AND($B59>0,$H59="")," * No olvide digitar la variable "&$G$54&""&" Domiciliaria. Digite CERO si no tiene.","") | CC59: =IF(AND($G59+$H59>$B59)," * La variable "&$G$54&""&" No puede ser mayor al Total.","") | CM59: =IF(AND($B59>0,$G59=""),1,0) -> 0 | CN59: =IF(AND($B59>0,$H59=""),1,0) -> 0 | CO59: =IF(AND($G59+$H59>$B59),1,0) -> 0
A60: Psicólogo/a | B60: =SUM(C60:F60) -> 0 | I60: =CA60&CB60&CC60 | CA60: =IF(AND($B60>0,$G60="")," * No olvide digitar la variable "&$G$54&""&" Presencial (Establecimiento). Digite CERO si no tiene.","") | CB60: =IF(AND($B60>0,$H60="")," * No olvide digitar la variable "&$G$54&""&" Domiciliaria. Digite CERO si no tiene.","") | CC60: =IF(AND($G60+$H60>$B60)," * La variable "&$G$54&""&" No puede ser mayor al Total.","") | CM60: =IF(AND($B60>0,$G60=""),1,0) -> 0 | CN60: =IF(AND($B60>0,$H60=""),1,0) -> 0 | CO60: =IF(AND($G60+$H60>$B60),1,0) -> 0
A61: TOTAL | B61: =SUM(B56:B60) -> 0 | C61: =SUM(C56:C60) -> 0 | D61: =SUM(D56:D60) -> 0 | E61: =SUM(E56:E60) -> 0 | F61: =SUM(F56:F60) -> 0 | G61: =SUM(G56:G60) -> 0 | H61: =SUM(H56:H60) -> 0
A62: SECCIÓN A.4: EVALUACIÓN INTERMEDIA
A63: PROFESIONAL | B63: TOTAL | C63: RANGO ETARIO | T63: TIPO DE ESTRATEGIA | X63: MODALIDAD DE REHABILITACIÓN
C64: 0 a 4 años | D64: 5 a 9 años | E64: 10 - 14 | F64: 15 - 19 | G64: 20 - 24 | H64: 25-29 | I64: 30-34 | J64: 35 - 39 | K64: 40 - 44 | L64: 45- 49 | M64: 50 - 54 | N64: 55 - 59 | O64: 60 - 64 | P64: 65 - 69 | Q64: 70 - 74 | R64: 75 - 79 | S64: 80 y más años | T64: Rehabilitación NNA | U64: Rehabilitación Integral APS | V64: Otros Rehabilitación | W64: Rehabilitación móvil (rural) | X64: Presencial (Establecimiento) | Y64: A distancia | Z64: Domiciliaria
A65: Kinesiólogo/a | B65: =SUM(C65:S65) -> 0 | AA65: =CA65&CB65 | CA65: =IF(T65+U65+V65+W65<>$B65,"* La suma de "&T$63&""&" no debe ser distinto del Total. ","") | CB65: =IF(X65+Y65+Z65>$B65,"* La suma de "&X$63&""&" no puede superar el Total. ","") | CM65: =IF(T65+U65+V65+W65<>$B65,1,0) -> 0 | CN65: =IF(X65+Y65+Z65>$B65,1,0) -> 0
A66: Terpeuta Ocupacional | B66: =SUM(C66:S66) -> 0 | AA66: =CA66&CB66 | CA66: =IF(T66+U66+V66+W66<>$B66,"* La suma de "&T$63&""&" no debe ser distinto del Total. ","") | CB66: =IF(X66+Y66+Z66>$B66,"* La suma de "&X$63&""&" no puede superar el Total. ","") | CM66: =IF(T66+U66+V66+W66<>$B66,1,0) -> 0 | CN66: =IF(X66+Y66+Z66>$B66,1,0) -> 0
A67: Fonoaudiólogo/a | B67: =SUM(C67:S67) -> 0 | AA67: =CA67&CB67 | CA67: =IF(T67+U67+V67+W67<>$B67,"* La suma de "&T$63&""&" no debe ser distinto del Total. ","") | CB67: =IF(X67+Y67+Z67>$B67,"* La suma de "&X$63&""&" no puede superar el Total. ","") | CM67: =IF(T67+U67+V67+W67<>$B67,1,0) -> 0 | CN67: =IF(X67+Y67+Z67>$B67,1,0) -> 0
A68: Psicólogo/a | B68: =SUM(C68:S68) -> 0 | AA68: =CA68&CB68 | CA68: =IF(T68+U68+V68+W68<>$B68,"* La suma de "&T$63&""&" no debe ser distinto del Total. ","") | CB68: =IF(X68+Y68+Z68>$B68,"* La suma de "&X$63&""&" no puede superar el Total. ","") | CM68: =IF(T68+U68+V68+W68<>$B68,1,0) -> 0 | CN68: =IF(X68+Y68+Z68>$B68,1,0) -> 0
A69: TOTAL | B69: =SUM(B65:B68) -> 0 | C69: =SUM(C65:C68) -> 0 | D69: =SUM(D65:D68) -> 0 | E69: =SUM(E65:E68) -> 0 | F69: =SUM(F65:F68) -> 0 | G69: =SUM(G65:G68) -> 0 | H69: =SUM(H65:H68) -> 0 | I69: =SUM(I65:I68) -> 0 | ... Z69: =SUM(Z65:Z68) -> 0
A70: SECCIÓN A.5: SESIONES DE REHABILITACIÓN
A71: PROFESIONAL | B71: TOTAL | C71: RANGO ETARIO | T71: TIPO DE ESTRATEGIA | X71: MODALIDAD DE REHABILITACIÓN
C72: 0 a 4 años | D72: 5 a 9 años | E72: 10 - 14 | F72: 15 - 19 | G72: 20 - 24 | H72: 25-29 | I72: 30-34 | J72: 35 - 39 | K72: 40 - 44 | L72: 45- 49 | M72: 50 - 54 | N72: 55 - 59 | O72: 60 - 64 | P72: 65 - 69 | Q72: 70 - 74 | R72: 75 - 79 | S72: 80 y más años | T72: Rehabilitación NNA | U72: Rehabilitación Integral APS | V72: Otros Rehabilitación | W72: Rehabilitación móvil (rural) | X72: Presencial (Establecimiento) | Y72: A distancia | Z72: Domiciliaria
A73: Kinesiólogo/a | B73: =SUM(C73:S73) -> 0 | AA73: =CA73&CB73 | CA73: =IF(T73+U73+V73+W73<>$B73,"* La suma de "&T$71&""&" no debe ser distinto del Total. ","") | CB73: =IF(X73+Y73+Z73>$B73,"* La suma de "&X$71&""&" no puede superar el Total. ","") | CM73: =IF(T73+U73+V73+W73<>$B73,1,0) -> 0 | CN73: =IF(X73+Y73+Z73>$B73,1,0) -> 0
A74: Terpeuta Ocupacional | B74: =SUM(C74:S74) -> 0 | AA74: =CA74&CB74 | CA74: =IF(T74+U74+V74+W74<>$B74,"* La suma de "&T$71&""&" no debe ser distinto del Total. ","") | CB74: =IF(X74+Y74+Z74>$B74,"* La suma de "&X$71&""&" no puede superar el Total. ","") | CM74: =IF(T74+U74+V74+W74<>$B74,1,0) -> 0 | CN74: =IF(X74+Y74+Z74>$B74,1,0) -> 0
A75: Fonoaudiólogo/a | B75: =SUM(C75:S75) -> 0 | AA75: =CA75&CB75 | CA75: =IF(T75+U75+V75+W75<>$B75,"* La suma de "&T$71&""&" no debe ser distinto del Total. ","") | CB75: =IF(X75+Y75+Z75>$B75,"* La suma de "&X$71&""&" no puede superar el Total. ","") | CM75: =IF(T75+U75+V75+W75<>$B75,1,0) -> 0 | CN75: =IF(X75+Y75+Z75>$B75,1,0) -> 0
A76: Psicólogo/a | B76: =SUM(C76:S76) -> 0 | AA76: =CA76&CB76 | CA76: =IF(T76+U76+V76+W76<>$B76,"* La suma de "&T$71&""&" no debe ser distinto del Total. ","") | CB76: =IF(X76+Y76+Z76>$B76,"* La suma de "&X$71&""&" no puede superar el Total. ","") | CM76: =IF(T76+U76+V76+W76<>$B76,1,0) -> 0 | CN76: =IF(X76+Y76+Z76>$B76,1,0) -> 0
A77: TOTAL | B77: =SUM(B73:B76) -> 0 | C77: =SUM(C73:C76) -> 0 | D77: =SUM(D73:D76) -> 0 | E77: =SUM(E73:E76) -> 0 | F77: =SUM(F73:F76) -> 0 | G77: =SUM(G73:G76) -> 0 | H77: =SUM(H73:H76) -> 0 | I77: =SUM(I73:I76) -> 0 | ... Z77: =SUM(Z73:Z76) -> 0
A78: SECCIÓN A.6: PROCEDIMIENTOS Y ACTIVIDADES
A79: TIPO | B79: Rehabilitación NNA | C79: Rehabilitación Integral APS | D79: Otros Rehabilitación | E79: Rehabilitación móvil (rural)
A80: Fisioterapia
A81: Actividad Física
A82: Ejercicios Terapéuticos
A83: Intervenciones en actividades de la vida diaria, básicas, instrumentadas y avanzadas
A84: Habilitación y Rehabilitación Educacional
A85: Actividades Terapéuticas
A86: Itegración Sensorial
A87: Adaptación del Hogar
A88: Confecciones Ortesis y/o Adaptaciones
A89: Reparación de Ortesis y/o Adaptaciones
A90: Habilitación y Rehabilitación Socio-Laboral
A91: Estimulación Cognitiva
... A96: Atención Psicoterapéutica
A97: TOTAL | B97: =SUM(B80:B96) -> 0 | C97: =SUM(C80:C96) -> 0 | D97: =SUM(D80:D96) -> 0 | E97: =SUM(E80:E96) -> 0
A98: SECCIÓN A.7: CONSEJERÍA INDIVIDUAL AGENDADA
A99: PROFESIONAL | B99: Rehabilitación NNA | C99: Rehabilitación Integral APS | D99: Otros Rehabilitación | E99: Rehabilitación móvil (rural)
A100: Kinesiólogo/a
A101: Terapeuta Ocupacional
A102: Fonoaudiólogo/a
A103: Psicólogo/a
A104: Trabajador/a social
A105: TOTAL | B105: =SUM(B100:B104) -> 0 | C105: =SUM(C100:C104) -> 0 | D105: =SUM(D100:D104) -> 0 | E105: =SUM(E100:E104) -> 0
A106: SECCIÓN A.8: CONSEJERÍA FAMILIAR AGENDADA
A107: PROFESIONAL | B107: Rehabilitación NNA | C107: Rehabilitación Integral APS | D107: Otros Rehabilitación | E107: Rehabilitación móvil (rural)
A108: Kinesiólogo/a
A109: Terapeuta Ocupacional
A110: Fonoaudiólogo/a
...

Sheet ENERO
A1: SERVICIO DE SALUD
A2: =CONCATENATE("COMUNA: ",[2]NOMBRE!B2, " (",[2]NOMBRE!C2,[2]NOMBRE!D2,[2]NOMBRE!E2,[2]NOMBRE!F2,[2]NOMBRE!G2,")") -> COMUNA: LINARES (07401)
A3: =CONCATENATE("ESTABLECIMIENTO/ESTRATEGIA: ", [2]NOMBRE!B3, " (",[2]NOMBRE!C3,[2]NOMBRE!D3,[2]NOMBRE!E3,[2]NOMBRE!F3,[2]NOMBRE!G3,[2]NOMBRE!H3,")") -> ESTABLECIMIENTO/ESTRATEGIA: HOSPITAL PRESIDENTE CARLOS IBAÑEZ DEL CAMPO (116108)
A4: =CONCATENATE("MES: ",[2]NOMBRE!B6, " (",[2]NOMBRE!C6,[2]NOMBRE!D6,")") -> MES: ENERO (01)
A5: =CONCATENATE("AÑO: ",[2]NOMBRE!B7) -> AÑO: 2025
A6: REM-28. REHABILITACIÓN INTEGRAL
A8: SECCIÓN A: ATENCIONES DE REHABILITACIÓN NIVEL PRIMARIO
A9: SECCIÓN A.1: INGRESOS Y EGRESOS A ATENCIONES DE REHABILITACIÓN EN EL NIVEL PRIMARIO
A10: TIPO DE INGRESO | B10: TOTAL | E10: RANGO ETARIO Y SEXO | AM10: TIPO DE ESTRATEGIA | AQ10: Personas con discapacidad (con RND) | AR10: Pueblos Originarios | AS10: Migrantes
E11: 0 - 4 años | G11: 5 - 9 años | I11: 10 - 14 años | K11: 15 - 19 años | M11: 20 - 24 años | O11: 25-29 años | Q11: 30-34 años | S11: 35 - 39 años | U11: 40 - 44 años | W11: 45- 49 años | Y11: 50 - 54 años | AA11: 55 - 59 años | AC11: 60 - 64 años | AE11: 65 - 69 años | AG11: 70 - 74 años | AI11: 75 - 79 años | AK11: 80 y más años | AM11: Rehabilitación NNA | AN11: Rehabilitación Integral APS | AO11: Otros Rehabilitación | AP11: Rehabilitación móvil (rural)
B12: Ambos Sexos | C12: Hombres | D12: Mujeres | E12: Hombres | F12: Mujeres | G12: Hombres | H12: Mujeres | I12: Hombres | J12: Mujeres | K12: Hombres | L12: Mujeres | M12: Hombres | N12: Mujeres | O12: Hombres | P12: Mujeres | Q12: Hombres | R12: Mujeres | S12: Hombres | T12: Mujeres | U12: Hombres | V12: Mujeres | W12: Hombres | X12: Mujeres | Y12: Hombres | Z12: Mujeres | AA12: Hombres | AB12: Mujeres | AC12: Hombres | AD12: Mujeres | AE12: Hombres | AF12: Mujeres | AG12: Hombres | AH12: Mujeres | AI12: Hombres | AJ12: Mujeres | AK12: Hombres | AL12: Mujeres
A13: Ingresos | B13: =SUM(C13:D13) -> 0 | C13: =SUM(E13,G13,I13,K13,M13,O13,Q13,S13,U13,W13,Y13,AA13,AC13,AE13,AG13,AI13,AK13) -> 0 | D13: =SUM(F13,H13,J13,L13,N13,P13,R13,T13,V13,X13,Z13,AB13,AD13,AF13,AH13,AJ13,AL13) -> 0 | AT13: =CA13&CB13&CC13&CD13 | CA13: =IF(AM13+AN13+AO13+AP13<>$B13,"* La suma de "&AM$10&""&" no puede ser distinto del Total Ambos Sexos. ","") | CB13: =IF(AND($B13<>0,AQ13=""),"* No olvide ingresar la variable Personas con discapacidad (con RND). Digite Cero si no tiene. ",IF(AQ13>$B13,"* La variable Personas con discapacidad (con RND) no puede superar el Total Ambos Sexos. ","")) | CC13: =IF(AND($B13<>0,AR13=""),"* No olvide ingresar la variable Pueblos Originarios. Digite CERO si no tiene. ",IF(AR13>$B13,"* La variable Pueblos Originarios no puede superar el Total Ambos Sexos. ","")) | CD13: =IF(AND($B13<>0,AS13=""),"* No olvide ingresar la variable Migrantes. Digite CERO si no tiene. ",IF(AS13>$B13,"* La variable Migrantes no puede superar el Total Ambos Sexos. ","")) | CM13: =IF(AM13+AN13+AO13+AP13<>$B13,1,0) -> 0 | CN13: =IF(AND($B13<>0,AQ13=""),1,IF(AQ13>$B13,1,0)) -> 0 | CO13: =IF(AND($B13<>0,AR13=""),1,IF(AR13>$B13,1,0)) -> 0 | CP13: =IF(AND($B13<>0,AS13=""),1,IF(AS13>$B13,1,0)) -> 0
A14: Ingresos con plan de tratamiento integral (PTI) | B14: =SUM(C14:D14) -> 0 | C14: =SUM(E14,G14,I14,K14,M14,O14,Q14,S14,U14,W14,Y14,AA14,AC14,AE14,AG14,AI14,AK14) -> 0 | D14: =SUM(F14,H14,J14,L14,N14,P14,R14,T14,V14,X14,Z14,AB14,AD14,AF14,AH14,AJ14,AL14) -> 0 | AT14: =CA14&CB14&CC14&CD14 | CA14: =IF(AM14+AN14+AO14+AP14<>$B14,"* La suma de "&AM$10&""&" no puede ser distinto del Total Ambos Sexos. ","") | CB14: =IF(AND($B14<>0,AQ14=""),"* No olvide ingresar la variable Personas con discapacidad (con RND). Digite Cero si no tiene. ",IF(AQ14>$B14,"* La variable Personas con discapacidad (con RND) no puede superar el Total Ambos Sexos. ","")) | CC14: =IF(AND($B14<>0,AR14=""),"* No olvide ingresar la variable Pueblos Originarios. Digite CERO si no tiene. ",IF(AR14>$B14,"* La variable Pueblos Originarios no puede superar el Total Ambos Sexos. ","")) | CD14: =IF(AND($B14<>0,AS14=""),"* No olvide ingresar la variable Migrantes. Digite CERO si no tiene. ",IF(AS14>$B14,"* La variable Migrantes no puede superar el Total Ambos Sexos. ","")) | CM14: =IF(AM14+AN14+AO14+AP14<>$B14,1,0) -> 0 | CN14: =IF(AND($B14<>0,AQ14=""),1,IF(AQ14>$B14,1,0)) -> 0 | CO14: =IF(AND($B14<>0,AR14=""),1,IF(AR14>$B14,1,0)) -> 0 | CP14: =IF(AND($B14<>0,AS14=""),1,IF(AS14>$B14,1,0)) -> 0
A15: Ingresos con plan de tratamiento integral (PTI) con objetivos para el trabajo | B15: =SUM(C15:D15) -> 0 | C15: =SUM(E15,G15,I15,K15,M15,O15,Q15,S15,U15,W15,Y15,AA15,AC15,AE15,AG15,AI15,AK15) -> 0 | D15: =SUM(F15,H15,J15,L15,N15,P15,R15,T15,V15,X15,Z15,AB15,AD15,AF15,AH15,AJ15,AL15) -> 0 | AT15: =CA15&CB15&CC15&CD15 | CA15: =IF(AM15+AN15+AO15+AP15<>$B15,"* La suma de "&AM$10&""&" no puede ser distinto del Total Ambos Sexos. ","") | CB15: =IF(AND($B15<>0,AQ15=""),"* No olvide ingresar la variable Personas con discapacidad (con RND). Digite Cero si no tiene. ",IF(AQ15>$B15,"* La variable Personas con discapacidad (con RND) no puede superar el Total Ambos Sexos. ","")) | CC15: =IF(AND($B15<>0,AR15=""),"* No olvide ingresar la variable Pueblos Originarios. Digite CERO si no tiene. ",IF(AR15>$B15,"* La variable Pueblos Originarios no puede superar el Total Ambos Sexos. ","")) | CD15: =IF(AND($B15<>0,AS15=""),"* No olvide ingresar la variable Migrantes. Digite CERO si no tiene. ",IF(AS15>$B15,"* La variable Migrantes no puede superar el Total Ambos Sexos. ","")) | CM15: =IF(AM15+AN15+AO15+AP15<>$B15,1,0) -> 0 | CN15: =IF(AND($B15<>0,AQ15=""),1,IF(AQ15>$B15,1,0)) -> 0 | CO15: =IF(AND($B15<>0,AR15=""),1,IF(AR15>$B15,1,0)) -> 0 | CP15: =IF(AND($B15<>0,AS15=""),1,IF(AS15>$B15,1,0)) -> 0
A16: Ingresos de usuarios con cuidador | B16: =SUM(C16:D16) -> 0 | C16: =SUM(E16,G16,I16,K16,M16,O16,Q16,S16,U16,W16,Y16,AA16,AC16,AE16,AG16,AI16,AK16) -> 0 | D16: =SUM(F16,H16,J16,L16,N16,P16,R16,T16,V16,X16,Z16,AB16,AD16,AF16,AH16,AJ16,AL16) -> 0 | AT16: =CA16&CB16&CC16&CD16 | CA16: =IF(AM16+AN16+AO16+AP16<>$B16,"* La suma de "&AM$10&""&" no puede ser distinto del Total Ambos Sexos. ","") | CB16: =IF(AND($B16<>0,AQ16=""),"* No olvide ingresar la variable Personas con discapacidad (con RND). Digite Cero si no tiene. ",IF(AQ16>$B16,"* La variable Personas con discapacidad (con RND) no puede superar el Total Ambos Sexos. ","")) | CC16: =IF(AND($B16<>0,AR16=""),"* No olvide ingresar la variable Pueblos Originarios. Digite CERO si no tiene. ",IF(AR16>$B16,"* La variable Pueblos Originarios no puede superar el Total Ambos Sexos. ","")) | CD16: =IF(AND($B16<>0,AS16=""),"* No olvide ingresar la variable Migrantes. Digite CERO si no tiene. ",IF(AS16>$B16,"* La variable Migrantes no puede superar el Total Ambos Sexos. ","")) | CM16: =IF(AM16+AN16+AO16+AP16<>$B16,1,0) -> 0 | CN16: =IF(AND($B16<>0,AQ16=""),1,IF(AQ16>$B16,1,0)) -> 0 | CO16: =IF(AND($B16<>0,AR16=""),1,IF(AR16>$B16,1,0)) -> 0 | CP16: =IF(AND($B16<>0,AS16=""),1,IF(AS16>$B16,1,0)) -> 0
A17: Reingreso | B17: =SUM(C17:D17) -> 0 | C17: =SUM(E17,G17,I17,K17,M17,O17,Q17,S17,U17,W17,Y17,AA17,AC17,AE17,AG17,AI17,AK17) -> 0 | D17: =SUM(F17,H17,J17,L17,N17,P17,R17,T17,V17,X17,Z17,AB17,AD17,AF17,AH17,AJ17,AL17) -> 0 | AT17: =CA17&CB17&CC17&CD17 | CA17: =IF(AM17+AN17+AO17+AP17<>$B17,"* La suma de "&AM$10&""&" no puede ser distinto del Total Ambos Sexos. ","") | CB17: =IF(AND($B17<>0,AQ17=""),"* No olvide ingresar la variable Personas con discapacidad (con RND). Digite Cero si no tiene. ",IF(AQ17>$B17,"* La variable Personas con discapacidad (con RND) no puede superar el Total Ambos Sexos. ","")) | CC17: =IF(AND($B17<>0,AR17=""),"* No olvide ingresar la variable Pueblos Originarios. Digite CERO si no tiene. ",IF(AR17>$B17,"* La variable Pueblos Originarios no puede superar el Total Ambos Sexos. ","")) | CD17: =IF(AND($B17<>0,AS17=""),"* No olvide ingresar la variable Migrantes. Digite CERO si no tiene. ",IF(AS17>$B17,"* La variable Migrantes no puede superar el Total Ambos Sexos. ","")) | CM17: =IF(AM17+AN17+AO17+AP17<>$B17,1,0) -> 0 | CN17: =IF(AND($B17<>0,AQ17=""),1,IF(AQ17>$B17,1,0)) -> 0 | CO17: =IF(AND($B17<>0,AR17=""),1,IF(AR17>$B17,1,0)) -> 0 | CP17: =IF(AND($B17<>0,AS17=""),1,IF(AS17>$B17,1,0)) -> 0
A18: Ingresos con PTI cuidador | B18: =SUM(C18:D18) -> 0 | C18: =SUM(E18,G18,I18,K18,M18,O18,Q18,S18,U18,W18,Y18,AA18,AC18,AE18,AG18,AI18,AK18) -> 0 | D18: =SUM(F18,H18,J18,L18,N18,P18,R18,T18,V18,X18,Z18,AB18,AD18,AF18,AH18,AJ18,AL18) -> 0 | AT18: =CA18&CB18&CC18&CD18 | CA18: =IF(AM18+AN18+AO18+AP18<>$B18,"* La suma de "&AM$10&""&" no puede ser distinto del Total Ambos Sexos. ","") | CB18: =IF(AND($B18<>0,AQ18=""),"* No olvide ingresar la variable Personas con discapacidad (con RND). Digite Cero si no tiene. ",IF(AQ18>$B18,"* La variable Personas con discapacidad (con RND) no puede superar el Total Ambos Sexos. ","")) | CC18: =IF(AND($B18<>0,AR18=""),"* No olvide ingresar la variable Pueblos Originarios. Digite CERO si no tiene. ",IF(AR18>$B18,"* La variable Pueblos Originarios no puede superar el Total Ambos Sexos. ","")) | CD18: =IF(AND($B18<>0,AS18=""),"* No olvide ingresar la variable Migrantes. Digite CERO si no tiene. ",IF(AS18>$B18,"* La variable Migrantes no puede superar el Total Ambos Sexos. ","")) | CM18: =IF(AM18+AN18+AO18+AP18<>$B18,1,0) -> 0 | CN18: =IF(AND($B18<>0,AQ18=""),1,IF(AQ18>$B18,1,0)) -> 0 | CO18: =IF(AND($B18<>0,AR18=""),1,IF(AR18>$B18,1,0)) -> 0 | CP18: =IF(AND($B18<>0,AS18=""),1,IF(AS18>$B18,1,0)) -> 0
A19: Egresos | B19: =SUM(C19:D19) -> 0 | C19: =SUM(E19,G19,I19,K19,M19,O19,Q19,S19,U19,W19,Y19,AA19,AC19,AE19,AG19,AI19,AK19) -> 0 | D19: =SUM(F19,H19,J19,L19,N19,P19,R19,T19,V19,X19,Z19,AB19,AD19,AF19,AH19,AJ19,AL19) -> 0 | E19: =SUM(E20:E24) -> 0 | F19: =SUM(F20:F24) -> 0 | G19: =SUM(G20:G24) -> 0 | H19: =SUM(H20:H24) -> 0 | I19: =SUM(I20:I24) -> 0 | J19: =SUM(J20:J24) -> 0 | K19: =SUM(K20:K24) -> 0 | L19: =SUM(L20:L24) -> 0 | ... AS19: =SUM(AS20:AS24) -> 0
A20: Egresos por alta | B20: =SUM(C20:D20) -> 0 | C20: =SUM(E20,G20,I20,K20,M20,O20,Q20,S20,U20,W20,Y20,AA20,AC20,AE20,AG20,AI20,AK20) -> 0 | D20: =SUM(F20,H20,J20,L20,N20,P20,R20,T20,V20,X20,Z20,AB20,AD20,AF20,AH20,AJ20,AL20) -> 0 | AT20: =CA20&CB20&CC20&CD20 | CA20: =IF(AM20+AN20+AO20+AP20<>$B20,"* La suma de "&AM$10&""&" no puede ser distinto del Total Ambos Sexos. ","") | CB20: =IF(AND($B20<>0,AQ20=""),"* No olvide ingresar la variable Personas con discapacidad (con RND). Digite Cero si no tiene. ",IF(AQ20>$B20,"* La variable Personas con discapacidad (con RND) no puede superar el Total Ambos Sexos. ","")) | CC20: =IF(AND($B20<>0,AR20=""),"* No olvide ingresar la variable Pueblos Originarios. Digite CERO si no tiene. ",IF(AR20>$B20,"* La variable Pueblos Originarios no puede superar el Total Ambos Sexos. ","")) | CD20: =IF(AND($B20<>0,AS20=""),"* No olvide ingresar la variable Migrantes. Digite CERO si no tiene. ",IF(AS20>$B20,"* La variable Migrantes no puede superar el Total Ambos Sexos. ","")) | CM20: =IF(AM20+AN20+AO20+AP20<>$B20,1,0) -> 0 | CN20: =IF(AND($B20<>0,AQ20=""),1,IF(AQ20>$B20,1,0)) -> 0 | CO20: =IF(AND($B20<>0,AR20=""),1,IF(AR20>$B20,1,0)) -> 0 | CP20: =IF(AND($B20<>0,AS20=""),1,IF(AS20>$B20,1,0)) -> 0
A21: Egresos por abandono | B21: =SUM(C21:D21) -> 0 | C21: =SUM(E21,G21,I21,K21,M21,O21,Q21,S21,U21,W21,Y21,AA21,AC21,AE21,AG21,AI21,AK21) -> 0 | D21: =SUM(F21,H21,J21,L21,N21,P21,R21,T21,V21,X21,Z21,AB21,AD21,AF21,AH21,AJ21,AL21) -> 0 | AT21: =CA21&CB21&CC21&CD21 | CA21: =IF(AM21+AN21+AO21+AP21<>$B21,"* La suma de "&AM$10&""&" no puede ser distinto del Total Ambos Sexos. ","") | CB21: =IF(AND($B21<>0,AQ21=""),"* No olvide ingresar la variable Personas con discapacidad (con RND). Digite Cero si no tiene. ",IF(AQ21>$B21,"* La variable Personas con discapacidad (con RND) no puede superar el Total Ambos Sexos. ","")) | CC21: =IF(AND($B21<>0,AR21=""),"* No olvide ingresar la variable Pueblos Originarios. Digite CERO si no tiene. ",IF(AR21>$B21,"* La variable Pueblos Originarios no puede superar el Total Ambos Sexos. ","")) | CD21: =IF(AND($B21<>0,AS21=""),"* No olvide ingresar la variable Migrantes. Digite CERO si no tiene. ",IF(AS21>$B21,"* La variable Migrantes no puede superar el Total Ambos Sexos. ","")) | CM21: =IF(AM21+AN21+AO21+AP21<>$B21,1,0) -> 0 | CN21: =IF(AND($B21<>0,AQ21=""),1,IF(AQ21>$B21,1,0)) -> 0 | CO21: =IF(AND($B21<>0,AR21=""),1,IF(AR21>$B21,1,0)) -> 0 | CP21: =IF(AND($B21<>0,AS21=""),1,IF(AS21>$B21,1,0)) -> 0
A22: Egresos por fallecimiento | B22: =SUM(C22:D22) -> 0 | C22: =SUM(E22,G22,I22,K22,M22,O22,Q22,S22,U22,W22,Y22,AA22,AC22,AE22,AG22,AI22,AK22) -> 0 | D22: =SUM(F22,H22,J22,L22,N22,P22,R22,T22,V22,X22,Z22,AB22,AD22,AF22,AH22,AJ22,AL22) -> 0 | AT22: =CA22&CB22&CC22&CD22 | CA22: =IF(AM22+AN22+AO22+AP22<>$B22,"* La suma de "&AM$10&""&" no puede ser distinto del Total Ambos Sexos. ","") | CB22: =IF(AND($B22<>0,AQ22=""),"* No olvide ingresar la variable Personas con discapacidad (con RND). Digite Cero si no tiene. ",IF(AQ22>$B22,"* La variable Personas con discapacidad (con RND) no puede superar el Total Ambos Sexos. ","")) | CC22: =IF(AND($B22<>0,AR22=""),"* No olvide ingresar la variable Pueblos Originarios. Digite CERO si no tiene. ",IF(AR22>$B22,"* La variable Pueblos Originarios no puede superar el Total Ambos Sexos. ","")) | CD22: =IF(AND($B22<>0,AS22=""),"* No olvide ingresar la variable Migrantes. Digite CERO si no tiene. ",IF(AS22>$B22,"* La variable Migrantes no puede superar el Total Ambos Sexos. ","")) | CM22: =IF(AM22+AN22+AO22+AP22<>$B22,1,0) -> 0 | CN22: =IF(AND($B22<>0,AQ22=""),1,IF(AQ22>$B22,1,0)) -> 0 | CO22: =IF(AND($B22<>0,AR22=""),1,IF(AR22>$B22,1,0)) -> 0 | CP22: =IF(AND($B22<>0,AS22=""),1,IF(AS22>$B22,1,0)) -> 0
A23: Egresos por otras causas | B23: =SUM(C23:D23) -> 0 | C23: =SUM(E23,G23,I23,K23,M23,O23,Q23,S23,U23,W23,Y23,AA23,AC23,AE23,AG23,AI23,AK23) -> 0 | D23: =SUM(F23,H23,J23,L23,N23,P23,R23,T23,V23,X23,Z23,AB23,AD23,AF23,AH23,AJ23,AL23) -> 0 | AT23: =CA23&CB23&CC23&CD23 | CA23: =IF(AM23+AN23+AO23+AP23<>$B23,"* La suma de "&AM$10&""&" no puede ser distinto del Total Ambos Sexos. ","") | CB23: =IF(AND($B23<>0,AQ23=""),"* No olvide ingresar la variable Personas con discapacidad (con RND). Digite Cero si no tiene. ",IF(AQ23>$B23,"* La variable Personas con discapacidad (con RND) no puede superar el Total Ambos Sexos. ","")) | CC23: =IF(AND($B23<>0,AR23=""),"* No olvide ingresar la variable Pueblos Originarios. Digite CERO si no tiene. ",IF(AR23>$B23,"* La variable Pueblos Originarios no puede superar el Total Ambos Sexos. ","")) | CD23: =IF(AND($B23<>0,AS23=""),"* No olvide ingresar la variable Migrantes. Digite CERO si no tiene. ",IF(AS23>$B23,"* La variable Migrantes no puede superar el Total Ambos Sexos. ","")) | CM23: =IF(AM23+AN23+AO23+AP23<>$B23,1,0) -> 0 | CN23: =IF(AND($B23<>0,AQ23=""),1,IF(AQ23>$B23,1,0)) -> 0 | CO23: =IF(AND($B23<>0,AR23=""),1,IF(AR23>$B23,1,0)) -> 0 | CP23: =IF(AND($B23<>0,AS23=""),1,IF(AS23>$B23,1,0)) -> 0
A24: Egresos con PTI cuidador | B24: =SUM(C24:D24) -> 0 | C24: =SUM(E24,G24,I24,K24,M24,O24,Q24,S24,U24,W24,Y24,AA24,AC24,AE24,AG24,AI24,AK24) -> 0 | D24: =SUM(F24,H24,J24,L24,N24,P24,R24,T24,V24,X24,Z24,AB24,AD24,AF24,AH24,AJ24,AL24) -> 0 | AT24: =CA24&CB24&CC24&CD24 | CA24: =IF(AM24+AN24+AO24+AP24<>$B24,"* La suma de "&AM$10&""&" no puede ser distinto del Total Ambos Sexos. ","") | CB24: =IF(AND($B24<>0,AQ24=""),"* No olvide ingresar la variable Personas con discapacidad (con RND). Digite Cero si no tiene. ",IF(AQ24>$B24,"* La variable Personas con discapacidad (con RND) no puede superar el Total Ambos Sexos. ","")) | CC24: =IF(AND($B24<>0,AR24=""),"* No olvide ingresar la variable Pueblos Originarios. Digite CERO si no tiene. ",IF(AR24>$B24,"* La variable Pueblos Originarios no puede superar el Total Ambos Sexos. ","")) | CD24: =IF(AND($B24<>0,AS24=""),"* No olvide ingresar la variable Migrantes. Digite CERO si no tiene. ",IF(AS24>$B24,"* La variable Migrantes no puede superar el Total Ambos Sexos. ","")) | CM24: =IF(AM24+AN24+AO24+AP24<>$B24,1,0) -> 0 | CN24: =IF(AND($B24<>0,AQ24=""),1,IF(AQ24>$B24,1,0)) -> 0 | CO24: =IF(AND($B24<>0,AR24=""),1,IF(AR24>$B24,1,0)) -> 0 | CP24: =IF(AND($B24<>0,AS24=""),1,IF(AS24>$B24,1,0)) -> 0
A25: SECCIÓN A.2: INGRESOS POR CONDICIÓN DE SALUD
A26: CONDICIÓN DE SALUD | B26: TOTAL | E26: RANGO ETARIO Y SEXO | AM26: TIPO DE ESTRATEGIA
E27: 0 a 4 años | G27: 5 a 9 años | I27: 10 - 14 | K27: 15 - 19 | M27: 20 - 24 | O27: 25-29 | Q27: 30-34 | S27: 35 - 39 | U27: 40 - 44 | W27: 45- 49 | Y27: 50 - 54 | AA27: 55 - 59 | AC27: 60 - 64 | AE27: 65 - 69 | AG27: 70 - 74 | AI27: 75 - 79 | AK27: 80 y más años | AM27: Rehabilitación NNA | AN27: Rehabilitación Integral APS | AO27: Otros Rehabilitación | AP27: Rehabilitación móvil (rural)
B28: Ambos Sexos | C28: Hombres | D28: Mujeres | E28: Hombres | F28: Mujeres | G28: Hombres | H28: Mujeres | I28: Hombres | J28: Mujeres | K28: Hombres | L28: Mujeres | M28: Hombres | N28: Mujeres | O28: Hombres | P28: Mujeres | Q28: Hombres | R28: Mujeres | S28: Hombres | T28: Mujeres | U28: Hombres | V28: Mujeres | W28: Hombres | X28: Mujeres | Y28: Hombres | Z28: Mujeres | AA28: Hombres | AB28: Mujeres | AC28: Hombres | AD28: Mujeres | AE28: Hombres | AF28: Mujeres | AG28: Hombres | AH28: Mujeres | AI28: Hombres | AJ28: Mujeres | AK28: Hombres | AL28: Mujeres | CM28: =IF(B29<>SUM(B30:B50),1,0) -> 0
A29: Total ingreso (N° de personas) | B29: =SUM(C29:D29) -> 0 | C29: =+E29+G29+I29+K29+M29+O29+Q29+S29+U29+W29+Y29+AA29+AC29+AE29+AG29+AI29+AK29 -> 0 | D29: =+F29+H29+J29+L29+N29+P29+R29+T29+V29+X29+Z29+AB29+AD29+AF29+AH29+AJ29+AL29 -> 0 | AQ29: =CB29&CA29&CC29&CD29&CE29&CF29 | CA29: =IF(CM28=1,"* Existen Condiciones de Salud que son mayores al Total de Ingreso (N° Personas). ","") | CB29: =IF(CM29=1," * El total de Ingresos debe ser igual a la suma de los Tipos de Estrategia. ","") | CC29: =IF(CN29=1,"* Existen Condiciones de Salud en la variable Rehabilitación NNA que son Mayores a los Ingreso (N° Personas). ","") | CD29: =IF(CO29=1,"* Existen Condiciones de Salud en la variable Rehabilitación Integral APS que son Mayores a los Ingreso (N° Personas). ","") | CE29: =IF(CP29=1,"* Existen Condiciones de Salud en la variable Otros Rehabilitación que son Mayores a los Ingreso (N° Personas). ","") | CF29: =IF(CQ29=1,"* Existen Condiciones de Salud en la variable Rehabilitación móvil (rural) que son Mayores a los Ingreso (N° Personas). ","") | CM29: =IF(SUM(AM29:AP29)=B29,0,1) -> 0 | CN29: =IF($AM29<MAX($AM30:$AM50),1,0) -> 0 | CO29: =IF(AN29<MAX(AN30:AN50),1,0) -> 0 | CP29: =IF(AO29<MAX(AO30:AO50),1,0) -> 0 | CQ29: =IF(AP29<MAX(AP30:AP50),1,0) -> 0
A30: Dolor cervical agudo | B30: =SUM(C30:D30) -> 0 | C30: =+E30+G30+I30+K30+M30+O30+Q30+S30+U30+W30+Y30+AA30+AC30+AE30+AG30+AI30+AK30 -> 0 | D30: =+F30+H30+J30+L30+N30+P30+R30+T30+V30+X30+Z30+AB30+AD30+AF30+AH30+AJ30+AL30 -> 0 | AQ30: =CA30&CB30&CC30&CD30&CE30&CF30 | CB30: =IF(CM30=1," * El total de Ingresos debe ser igual a la suma de los Tipos de Estrategia. ","") | CM30: =IF(SUM(AM30:AP30)=B30,0,1) -> 0
A31: Dolor lumbar agudo | B31: =SUM(C31:D31) -> 0 | C31: =+E31+G31+I31+K31+M31+O31+Q31+S31+U31+W31+Y31+AA31+AC31+AE31+AG31+AI31+AK31 -> 0 | D31: =+F31+H31+J31+L31+N31+P31+R31+T31+V31+X31+Z31+AB31+AD31+AF31+AH31+AJ31+AL31 -> 0 | AQ31: =CA31&CB31 | CB31: =IF(CM31=1," * El total de Ingresos debe ser igual a la suma de los Tipos de Estrategia. ","") | CM31: =IF(SUM(AM31:AP31)=B31,0,1) -> 0
A32: Hombro doloroso agudo | B32: =SUM(C32:D32) -> 0 | C32: =+E32+G32+I32+K32+M32+O32+Q32+S32+U32+W32+Y32+AA32+AC32+AE32+AG32+AI32+AK32 -> 0 | D32: =+F32+H32+J32+L32+N32+P32+R32+T32+V32+X32+Z32+AB32+AD32+AF32+AH32+AJ32+AL32 -> 0 | AQ32: =CA32&CB32 | CB32: =IF(CM32=1," * El total de Ingresos debe ser igual a la suma de los Tipos de Estrategia. ","") | CM32: =IF(SUM(AM32:AP32)=B32,0,1) -> 0
A33: Otro dolor musculoesquelético agudo | B33: =SUM(C33:D33) -> 0 | C33: =+E33+G33+I33+K33+M33+O33+Q33+S33+U33+W33+Y33+AA33+AC33+AE33+AG33+AI33+AK33 -> 0 | D33: =+F33+H33+J33+L33+N33+P33+R33+T33+V33+X33+Z33+AB33+AD33+AF33+AH33+AJ33+AL33 -> 0 | AQ33: =CA33&CB33 | CB33: =IF(CM33=1," * El total de Ingresos debe ser igual a la suma de los Tipos de Estrategia. ","") | CM33: =IF(SUM(AM33:AP33)=B33,0,1) -> 0
A34: Artrosis de rodilla y cadera | B34: =SUM(C34:D34) -> 0 | C34: =+E34+G34+I34+K34+M34+O34+Q34+S34+U34+W34+Y34+AA34+AC34+AE34+AG34+AI34+AK34 -> 0 | D34: =+F34+H34+J34+L34+N34+P34+R34+T34+V34+X34+Z34+AB34+AD34+AF34+AH34+AJ34+AL34 -> 0 | AQ34: =CA34&CB34 | CB34: =IF(CM34=1," * El total de Ingresos debe ser igual a la suma de los Tipos de Estrategia. ","") | CM34: =IF(SUM(AM34:AP34)=B34,0,1) -> 0
A35: Artritis reumatoidea | B35: =SUM(C35:D35) -> 0 | C35: =+E35+G35+I35+K35+M35+O35+Q35+S35+U35+W35+Y35+AA35+AC35+AE35+AG35+AI35+AK35 -> 0 | D35: =+F35+H35+J35+L35+N35+P35+R35+T35+V35+X35+Z35+AB35+AD35+AF35+AH35+AJ35+AL35 -> 0 | AQ35: =CA35&CB35 | CB35: =IF(CM35=1," * El total de Ingresos debe ser igual a la suma de los Tipos de Estrategia. ","") | CM35: =IF(SUM(AM35:AP35)=B35,0,1) -> 0
A36: Otro dolor musculoesquelético crónico | B36: =SUM(C36:D36) -> 0 | C36: =+E36+G36+I36+K36+M36+O36+Q36+S36+U36+W36+Y36+AA36+AC36+AE36+AG36+AI36+AK36 -> 0 | D36: =+F36+H36+J36+L36+N36+P36+R36+T36+V36+X36+Z36+AB36+AD36+AF36+AH36+AJ36+AL36 -> 0 | AQ36: =CA36&CB36 | CB36: =IF(CM36=1," * El total de Ingresos debe ser igual a la suma de los Tipos de Estrategia. ","") | CM36: =IF(SUM(AM36:AP36)=B36,0,1) -> 0
A37: Ataque cerebro vascular (ACV) | B37: =SUM(C37:D37) -> 0 | C37: =+E37+G37+I37+K37+M37+O37+Q37+S37+U37+W37+Y37+AA37+AC37+AE37+AG37+AI37+AK37 -> 0 | D37: =+F37+H37+J37+L37+N37+P37+R37+T37+V37+X37+Z37+AB37+AD37+AF37+AH37+AJ37+AL37 -> 0 | AQ37: =CA37&CB37 | CB37: =IF(CM37=1," * El total de Ingresos debe ser igual a la suma de los Tipos de Estrategia. ","") | CM37: =IF(SUM(AM37:AP37)=B37,0,1) -> 0
A38: Traumatismo encéfalo craneano (TEC) | B38: =SUM(C38:D38) -> 0 | C38: =+E38+G38+I38+K38+M38+O38+Q38+S38+U38+W38+Y38+AA38+AC38+AE38+AG38+AI38+AK38 -> 0 | D38: =+F38+H38+J38+L38+N38+P38+R38+T38+V38+X38+Z38+AB38+AD38+AF38+AH38+AJ38+AL38 -> 0 | AQ38: =CA38&CB38 | CB38: =IF(CM38=1," * El total de Ingresos debe ser igual a la suma de los Tipos de Estrategia. ","") | CM38: =IF(SUM(AM38:AP38)=B38,0,1) -> 0
A39: Lesión medular | B39: =SUM(C39:D39) -> 0 | C39: =+E39+G39+I39+K39+M39+O39+Q39+S39+U39+W39+Y39+AA39+AC39+AE39+AG39+AI39+AK39 -> 0 | D39: =+F39+H39+J39+L39+N39+P39+R39+T39+V39+X39+Z39+AB39+AD39+AF39+AH39+AJ39+AL39 -> 0 | AQ39: =CA39&CB39 | CB39: =IF(CM39=1," * El total de Ingresos debe ser igual a la suma de los Tipos de Estrategia. ","") | CM39: =IF(SUM(AM39:AP39)=B39,0,1) -> 0
A40: Enfermedad de Parkinson | B40: =SUM(C40:D40) -> 0 | C40: =+E40+G40+I40+K40+M40+O40+Q40+S40+U40+W40+Y40+AA40+AC40+AE40+AG40+AI40+AK40 -> 0 | D40: =+F40+H40+J40+L40+N40+P40+R40+T40+V40+X40+Z40+AB40+AD40+AF40+AH40+AJ40+AL40 -> 0 | AQ40: =CA40&CB40 | CB40: =IF(CM40=1," * El total de Ingresos debe ser igual a la suma de los Tipos de Estrategia. ","") | CM40: =IF(SUM(AM40:AP40)=B40,0,1) -> 0
A41: Enfermedades neuromusculares | B41: =SUM(C41:D41) -> 0 | C41: =+E41+G41+I41+K41+M41+O41+Q41+S41+U41+W41+Y41+AA41+AC41+AE41+AG41+AI41+AK41 -> 0 | D41: =+F41+H41+J41+L41+N41+P41+R41+T41+V41+X41+Z41+AB41+AD41+AF41+AH41+AJ41+AL41 -> 0 | AQ41: =CA41&CB41 | CB41: =IF(CM41=1," * El total de Ingresos debe ser igual a la suma de los Tipos de Estrategia. ","") | CM41: =IF(SUM(AM41:AP41)=B41,0,1) -> 0
A42: Alteraciones en el desarrollo psicomotor | B42: =SUM(C42:D42) -> 0 | C42: =+E42+G42+I42+K42+M42+O42+Q42+S42+U42+W42+Y42+AA42+AC42+AE42+AG42+AI42+AK42 -> 0 | D42: =+F42+H42+J42+L42+N42+P42+R42+T42+V42+X42+Z42+AB42+AD42+AF42+AH42+AJ42+AL42 -> 0 | AQ42: =CA42&CB42 | CB42: =IF(CM42=1," * El total de Ingresos debe ser igual a la suma de los Tipos de Estrategia. ","") | CM42: =IF(SUM(AM42:AP42)=B42,0,1) -> 0
... A48: Quemados | B48: =SUM(C48:D48) -> 0 | C48: =+E48+G48+I48+K48+M48+O48+Q48+S48+U48+W48+Y48+AA48+AC48+AE48+AG48+AI48+AK48 -> 0 | D48: =+F48+H48+J48+L48+N48+P48+R48+T48+V48+X48+Z48+AB48+AD48+AF48+AH48+AJ48+AL48 -> 0 | AQ48: =CA48&CB48 | CB48: =IF(CM48=1," * El total de Ingresos debe ser igual a la suma de los Tipos de Estrategia. ","") | CM48: =IF(SUM(AM48:AP48)=B48,0,1) -> 0
A49: COVID-19 | B49: =SUM(C49:D49) -> 0 | C49: =+E49+G49+I49+K49+M49+O49+Q49+S49+U49+W49+Y49+AA49+AC49+AE49+AG49+AI49+AK49 -> 0 | D49: =+F49+H49+J49+L49+N49+P49+R49+T49+V49+X49+Z49+AB49+AD49+AF49+AH49+AJ49+AL49 -> 0 | AQ49: =CB49 | CB49: =IF(CM49=1," * El total de Ingresos debe ser igual a la suma de los Tipos de Estrategia. ","") | CM49: =IF(SUM(AM49:AP49)=B49,0,1) -> 0
A50: Otros | B50: =SUM(C50:D50) -> 0 | C50: =+E50+G50+I50+K50+M50+O50+Q50+S50+U50+W50+Y50+AA50+AC50+AE50+AG50+AI50+AK50 -> 0 | D50: =+F50+H50+J50+L50+N50+P50+R50+T50+V50+X50+Z50+AB50+AD50+AF50+AH50+AJ50+AL50 -> 0 | AQ50: =CB50 | CB50: =IF(CM50=1," * El total de Ingresos debe ser igual a la suma de los Tipos de Estrategia. ","") | CM50: =IF(SUM(AM50:AP50)=B50,0,1) -> 0
A51: Alteraciones visuales | B51: =SUM(C51:D51) -> 0 | C51: =+E51+G51+I51+K51+M51+O51+Q51+S51+U51+W51+Y51+AA51+AC51+AE51+AG51+AI51+AK51 -> 0 | D51: =+F51+H51+J51+L51+N51+P51+R51+T51+V51+X51+Z51+AB51+AD51+AF51+AH51+AJ51+AL51 -> 0 | AQ51: =CB51 | CB51: =IF(CM51=1," * El total de Ingresos debe ser igual a la suma de los Tipos de Estrategia. ","") | CM51: =IF(SUM(AM51:AP51)=B51,0,1) -> 0
A52: Alteraciones auditivas | B52: =SUM(C52:D52) -> 0 | C52: =+E52+G52+I52+K52+M52+O52+Q52+S52+U52+W52+Y52+AA52+AC52+AE52+AG52+AI52+AK52 -> 0 | D52: =+F52+H52+J52+L52+N52+P52+R52+T52+V52+X52+Z52+AB52+AD52+AF52+AH52+AJ52+AL52 -> 0 | AQ52: =CA52&CB52 | CB52: =IF(CM52=1," * El total de Ingresos debe ser igual a la suma de los Tipos de Estrategia. ","") | CM52: =IF(SUM(AM52:AP52)=B52,0,1) -> 0
A53: SECCIÓN A.3: EVALUACIÓN INICIAL
A54: PROFESIONAL | B54: TOTAL | C54: TIPO DE ESTRATEGIA | G54: MODALIDAD DE REHABILITACIÓN
C55: Rehabilitación NNA | D55: Rehabilitación Integral APS | E55: Otros Rehabilitación | F55: Rehabilitación móvil (rural) | G55: Presencial (Establecimiento) | H55: Domiciliaria
A56: Médico/a | B56: =SUM(C56:F56) -> 0 | I56: =CA56&CB56&CC56 | CA56: =IF(AND($B56>0,$G56="")," * No olvide digitar la variable "&$G$54&""&" Presencial (Establecimiento). Digite CERO si no tiene.","") | CB56: =IF(AND($B56>0,$H56="")," * No olvide digitar la variable "&$G$54&""&" Domiciliaria. Digite CERO si no tiene.","") | CC56: =IF(AND($G56+$H56>$B56)," * La variable "&$G$54&""&" No puede ser mayor al Total.","") | CM56: =IF(AND($B56>0,$G56=""),1,0) -> 0 | CN56: =IF(AND($B56>0,$H56=""),1,0) -> 0 | CO56: =IF(AND($G56+$H56>$B56),1,0) -> 0
A57: Kinesiólogo/a | B57: =SUM(C57:F57) -> 0 | I57: =CA57&CB57&CC57 | CA57: =IF(AND($B57>0,$G57="")," * No olvide digitar la variable "&$G$54&""&" Presencial (Establecimiento). Digite CERO si no tiene.","") | CB57: =IF(AND($B57>0,$H57="")," * No olvide digitar la variable "&$G$54&""&" Domiciliaria. Digite CERO si no tiene.","") | CC57: =IF(AND($G57+$H57>$B57)," * La variable "&$G$54&""&" No puede ser mayor al Total.","") | CM57: =IF(AND($B57>0,$G57=""),1,0) -> 0 | CN57: =IF(AND($B57>0,$H57=""),1,0) -> 0 | CO57: =IF(AND($G57+$H57>$B57),1,0) -> 0
A58: Terpeuta Ocupacional | B58: =SUM(C58:F58) -> 0 | I58: =CA58&CB58&CC58 | CA58: =IF(AND($B58>0,$G58="")," * No olvide digitar la variable "&$G$54&""&" Presencial (Establecimiento). Digite CERO si no tiene.","") | CB58: =IF(AND($B58>0,$H58="")," * No olvide digitar la variable "&$G$54&""&" Domiciliaria. Digite CERO si no tiene.","") | CC58: =IF(AND($G58+$H58>$B58)," * La variable "&$G$54&""&" No puede ser mayor al Total.","") | CM58: =IF(AND($B58>0,$G58=""),1,0) -> 0 | CN58: =IF(AND($B58>0,$H58=""),1,0) -> 0 | CO58: =IF(AND($G58+$H58>$B58),1,0) -> 0
A59: Fonoaudiólogo/a | B59: =SUM(C59:F59) -> 0 | I59: =CA59&CB59&CC59 | CA59: =IF(AND($B59>0,$G59="")," * No olvide digitar la variable "&$G$54&""&" Presencial (Establecimiento). Digite CERO si no tiene.","") | CB59: =IF(AND($B59>0,$H59="")," * No olvide digitar la variable "&$G$54&""&" Domiciliaria. Digite CERO si no tiene.","") | CC59: =IF(AND($G59+$H59>$B59)," * La variable "&$G$54&""&" No puede ser mayor al Total.","") | CM59: =IF(AND($B59>0,$G59=""),1,0) -> 0 | CN59: =IF(AND($B59>0,$H59=""),1,0) -> 0 | CO59: =IF(AND($G59+$H59>$B59),1,0) -> 0
A60: Psicólogo/a | B60: =SUM(C60:F60) -> 0 | I60: =CA60&CB60&CC60 | CA60: =IF(AND($B60>0,$G60="")," * No olvide digitar la variable "&$G$54&""&" Presencial (Establecimiento). Digite CERO si no tiene.","") | CB60: =IF(AND($B60>0,$H60="")," * No olvide digitar la variable "&$G$54&""&" Domiciliaria. Digite CERO si no tiene.","") | CC60: =IF(AND($G60+$H60>$B60)," * La variable "&$G$54&""&" No puede ser mayor al Total.","") | CM60: =IF(AND($B60>0,$G60=""),1,0) -> 0 | CN60: =IF(AND($B60>0,$H60=""),1,0) -> 0 | CO60: =IF(AND($G60+$H60>$B60),1,0) -> 0
A61: TOTAL | B61: =SUM(B56:B60) -> 0 | C61: =SUM(C56:C60) -> 0 | D61: =SUM(D56:D60) -> 0 | E61: =SUM(E56:E60) -> 0 | F61: =SUM(F56:F60) -> 0 | G61: =SUM(G56:G60) -> 0 | H61: =SUM(H56:H60) -> 0
A62: SECCIÓN A.4: EVALUACIÓN INTERMEDIA
A63: PROFESIONAL | B63: TOTAL | C63: RANGO ETARIO | T63: TIPO DE ESTRATEGIA | X63: MODALIDAD DE REHABILITACIÓN
C64: 0 a 4 años | D64: 5 a 9 años | E64: 10 - 14 | F64: 15 - 19 | G64: 20 - 24 | H64: 25-29 | I64: 30-34 | J64: 35 - 39 | K64: 40 - 44 | L64: 45- 49 | M64: 50 - 54 | N64: 55 - 59 | O64: 60 - 64 | P64: 65 - 69 | Q64: 70 - 74 | R64: 75 - 79 | S64: 80 y más años | T64: Rehabilitación NNA | U64: Rehabilitación Integral APS | V64: Otros Rehabilitación | W64: Rehabilitación móvil (rural) | X64: Presencial (Establecimiento) | Y64: A distancia | Z64: Domiciliaria
A65: Kinesiólogo/a | B65: =SUM(C65:S65) -> 0 | AA65: =CA65&CB65 | CA65: =IF(T65+U65+V65+W65<>$B65,"* La suma de "&T$63&""&" no debe ser distinto del Total. ","") | CB65: =IF(X65+Y65+Z65>$B65,"* La suma de "&X$63&""&" no puede superar el Total. ","") | CM65: =IF(T65+U65+V65+W65<>$B65,1,0) -> 0 | CN65: =IF(X65+Y65+Z65>$B65,1,0) -> 0
A66: Terpeuta Ocupacional | B66: =SUM(C66:S66) -> 0 | AA66: =CA66&CB66 | CA66: =IF(T66+U66+V66+W66<>$B66,"* La suma de "&T$63&""&" no debe ser distinto del Total. ","") | CB66: =IF(X66+Y66+Z66>$B66,"* La suma de "&X$63&""&" no puede superar el Total. ","") | CM66: =IF(T66+U66+V66+W66<>$B66,1,0) -> 0 | CN66: =IF(X66+Y66+Z66>$B66,1,0) -> 0
A67: Fonoaudiólogo/a | B67: =SUM(C67:S67) -> 0 | AA67: =CA67&CB67 | CA67: =IF(T67+U67+V67+W67<>$B67,"* La suma de "&T$63&""&" no debe ser distinto del Total. ","") | CB67: =IF(X67+Y67+Z67>$B67,"* La suma de "&X$63&""&" no puede superar el Total. ","") | CM67: =IF(T67+U67+V67+W67<>$B67,1,0) -> 0 | CN67: =IF(X67+Y67+Z67>$B67,1,0) -> 0
A68: Psicólogo/a | B68: =SUM(C68:S68) -> 0 | AA68: =CA68&CB68 | CA68: =IF(T68+U68+V68+W68<>$B68,"* La suma de "&T$63&""&" no debe ser distinto del Total. ","") | CB68: =IF(X68+Y68+Z68>$B68,"* La suma de "&X$63&""&" no puede superar el Total. ","") | CM68: =IF(T68+U68+V68+W68<>$B68,1,0) -> 0 | CN68: =IF(X68+Y68+Z68>$B68,1,0) -> 0
A69: TOTAL | B69: =SUM(B65:B68) -> 0 | C69: =SUM(C65:C68) -> 0 | D69: =SUM(D65:D68) -> 0 | E69: =SUM(E65:E68) -> 0 | F69: =SUM(F65:F68) -> 0 | G69: =SUM(G65:G68) -> 0 | H69: =SUM(H65:H68) -> 0 | I69: =SUM(I65:I68) -> 0 | ... Z69: =SUM(Z65:Z68) -> 0
A70: SECCIÓN A.5: SESIONES DE REHABILITACIÓN
A71: PROFESIONAL | B71: TOTAL | C71: RANGO ETARIO | T71: TIPO DE ESTRATEGIA | X71: MODALIDAD DE REHABILITACIÓN
C72: 0 a 4 años | D72: 5 a 9 años | E72: 10 - 14 | F72: 15 - 19 | G72: 20 - 24 | H72: 25-29 | I72: 30-34 | J72: 35 - 39 | K72: 40 - 44 | L72: 45- 49 | M72: 50 - 54 | N72: 55 - 59 | O72: 60 - 64 | P72: 65 - 69 | Q72: 70 - 74 | R72: 75 - 79 | S72: 80 y más años | T72: Rehabilitación NNA | U72: Rehabilitación Integral APS | V72: Otros Rehabilitación | W72: Rehabilitación móvil (rural) | X72: Presencial (Establecimiento) | Y72: A distancia | Z72: Domiciliaria
A73: Kinesiólogo/a | B73: =SUM(C73:S73) -> 0 | AA73: =CA73&CB73 | CA73: =IF(T73+U73+V73+W73<>$B73,"* La suma de "&T$71&""&" no debe ser distinto del Total. ","") | CB73: =IF(X73+Y73+Z73>$B73,"* La suma de "&X$71&""&" no puede superar el Total. ","") | CM73: =IF(T73+U73+V73+W73<>$B73,1,0) -> 0 | CN73: =IF(X73+Y73+Z73>$B73,1,0) -> 0
A74: Terpeuta Ocupacional | B74: =SUM(C74:S74) -> 0 | AA74: =CA74&CB74 | CA74: =IF(T74+U74+V74+W74<>$B74,"* La suma de "&T$71&""&" no debe ser distinto del Total. ","") | CB74: =IF(X74+Y74+Z74>$B74,"* La suma de "&X$71&""&" no puede superar el Total. ","") | CM74: =IF(T74+U74+V74+W74<>$B74,1,0) -> 0 | CN74: =IF(X74+Y74+Z74>$B74,1,0) -> 0
A75: Fonoaudiólogo/a | B75: =SUM(C75:S75) -> 0 | AA75: =CA75&CB75 | CA75: =IF(T75+U75+V75+W75<>$B75,"* La suma de "&T$71&""&" no debe ser distinto del Total. ","") | CB75: =IF(X75+Y75+Z75>$B75,"* La suma de "&X$71&""&" no puede superar el Total. ","") | CM75: =IF(T75+U75+V75+W75<>$B75,1,0) -> 0 | CN75: =IF(X75+Y75+Z75>$B75,1,0) -> 0
A76: Psicólogo/a | B76: =SUM(C76:S76) -> 0 | AA76: =CA76&CB76 | CA76: =IF(T76+U76+V76+W76<>$B76,"* La suma de "&T$71&""&" no debe ser distinto del Total. ","") | CB76: =IF(X76+Y76+Z76>$B76,"* La suma de "&X$71&""&" no puede superar el Total. ","") | CM76: =IF(T76+U76+V76+W76<>$B76,1,0) -> 0 | CN76: =IF(X76+Y76+Z76>$B76,1,0) -> 0
A77: TOTAL | B77: =SUM(B73:B76) -> 0 | C77: =SUM(C73:C76) -> 0 | D77: =SUM(D73:D76) -> 0 | E77: =SUM(E73:E76) -> 0 | F77: =SUM(F73:F76) -> 0 | G77: =SUM(G73:G76) -> 0 | H77: =SUM(H73:H76) -> 0 | I77: =SUM(I73:I76) -> 0 | ... Z77: =SUM(Z73:Z76) -> 0
A78: SECCIÓN A.6: PROCEDIMIENTOS Y ACTIVIDADES
A79: TIPO | B79: Rehabilitación NNA | C79: Rehabilitación Integral APS | D79: Otros Rehabilitación | E79: Rehabilitación móvil (rural)
A80: Fisioterapia
A81: Actividad Física
A82: Ejercicios Terapéuticos
A83: Intervenciones en actividades de la vida diaria, básicas, instrumentadas y avanzadas
A84: Habilitación y Rehabilitación Educacional
A85: Actividades Terapéuticas
A86: Itegración Sensorial
A87: Adaptación del Hogar
A88: Confecciones Ortesis y/o Adaptaciones
A89: Reparación de Ortesis y/o Adaptaciones
A90: Habilitación y Rehabilitación Socio-Laboral
A91: Estimulación Cognitiva
... A96: Atención Psicoterapéutica
A97: TOTAL | B97: =SUM(B80:B96) -> 0 | C97: =SUM(C80:C96) -> 0 | D97: =SUM(D80:D96) -> 0 | E97: =SUM(E80:E96) -> 0
A98: SECCIÓN A.7: CONSEJERÍA INDIVIDUAL AGENDADA
A99: PROFESIONAL | B99: Rehabilitación NNA | C99: Rehabilitación Integral APS | D99: Otros Rehabilitación | E99: Rehabilitación móvil (rural)
A100: Kinesiólogo/a
A101: Terapeuta Ocupacional
A102: Fonoaudiólogo/a
A103: Psicólogo/a
A104: Trabajador/a social
A105: TOTAL | B105: =SUM(B100:B104) -> 0 | C105: =SUM(C100:C104) -> 0 | D105: =SUM(D100:D104) -> 0 | E105: =SUM(E100:E104) -> 0
A106: SECCIÓN A.8: CONSEJERÍA FAMILIAR AGENDADA
A107: PROFESIONAL | B107: Rehabilitación NNA | C107: Rehabilitación Integral APS | D107: Otros Rehabilitación | E107: Rehabilitación móvil (rural)
A108: Kinesiólogo/a
A109: Terapeuta Ocupacional
A110: Fonoaudiólogo/a
...

Sheet FEBRERO
A1: SERVICIO DE SALUD
A2: =CONCATENATE("COMUNA: ",[3]NOMBRE!B2, " (",[3]NOMBRE!C2,[3]NOMBRE!D2,[3]NOMBRE!E2,[3]NOMBRE!F2,[3]NOMBRE!G2,")") -> COMUNA: LINARES (07401)
A3: =CONCATENATE("ESTABLECIMIENTO/ESTRATEGIA: ", [3]NOMBRE!B3, " (",[3]NOMBRE!C3,[3]NOMBRE!D3,[3]NOMBRE!E3,[3]NOMBRE!F3,[3]NOMBRE!G3,[3]NOMBRE!H3,")") -> ESTABLECIMIENTO/ESTRATEGIA: HOSPITAL PRESIDENTE CARLOS IBAÑEZ DEL CAMPO (116108)
A4: =CONCATENATE("MES: ",[3]NOMBRE!B6, " (",[3]NOMBRE!C6,[3]NOMBRE!D6,")") -> MES: FEBRERO (02)
A5: =CONCATENATE("AÑO: ",[3]NOMBRE!B7) -> AÑO: 2025
A6: REM-28. REHABILITACIÓN INTEGRAL
A8: SECCIÓN A: ATENCIONES DE REHABILITACIÓN NIVEL PRIMARIO
A9: SECCIÓN A.1: INGRESOS Y EGRESOS A ATENCIONES DE REHABILITACIÓN EN EL NIVEL PRIMARIO
A10: TIPO DE INGRESO | B10: TOTAL | E10: RANGO ETARIO Y SEXO | AM10: TIPO DE ESTRATEGIA | AQ10: Personas con discapacidad (con RND) | AR10: Pueblos Originarios | AS10: Migrantes
E11: 0 - 4 años | G11: 5 - 9 años | I11: 10 - 14 años | K11: 15 - 19 años | M11: 20 - 24 años | O11: 25-29 años | Q11: 30-34 años | S11: 35 - 39 años | U11: 40 - 44 años | W11: 45- 49 años | Y11: 50 - 54 años | AA11: 55 - 59 años | AC11: 60 - 64 años | AE11: 65 - 69 años | AG11: 70 - 74 años | AI11: 75 - 79 años | AK11: 80 y más años | AM11: Rehabilitación NNA | AN11: Rehabilitación Integral APS | AO11: Otros Rehabilitación | AP11: Rehabilitación móvil (rural)
B12: Ambos Sexos | C12: Hombres | D12: Mujeres | E12: Hombres | F12: Mujeres | G12: Hombres | H12: Mujeres | I12: Hombres | J12: Mujeres | K12: Hombres | L12: Mujeres | M12: Hombres | N12: Mujeres | O12: Hombres | P12: Mujeres | Q12: Hombres | R12: Mujeres | S12: Hombres | T12: Mujeres | U12: Hombres | V12: Mujeres | W12: Hombres | X12: Mujeres | Y12: Hombres | Z12: Mujeres | AA12: Hombres | AB12: Mujeres | AC12: Hombres | AD12: Mujeres | AE12: Hombres | AF12: Mujeres | AG12: Hombres | AH12: Mujeres | AI12: Hombres | AJ12: Mujeres | AK12: Hombres | AL12: Mujeres
A13: Ingresos | B13: =SUM(C13:D13) -> 0 | C13: =SUM(E13,G13,I13,K13,M13,O13,Q13,S13,U13,W13,Y13,AA13,AC13,AE13,AG13,AI13,AK13) -> 0 | D13: =SUM(F13,H13,J13,L13,N13,P13,R13,T13,V13,X13,Z13,AB13,AD13,AF13,AH13,AJ13,AL13) -> 0 | AT13: =CA13&CB13&CC13&CD13 | CA13: =IF(AM13+AN13+AO13+AP13<>$B13,"* La suma de "&AM$10&""&" no puede ser distinto del Total Ambos Sexos. ","") | CB13: =IF(AND($B13<>0,AQ13=""),"* No olvide ingresar la variable Personas con discapacidad (con RND). Digite Cero si no tiene. ",IF(AQ13>$B13,"* La variable Personas con discapacidad (con RND) no puede superar el Total Ambos Sexos. ","")) | CC13: =IF(AND($B13<>0,AR13=""),"* No olvide ingresar la variable Pueblos Originarios. Digite CERO si no tiene. ",IF(AR13>$B13,"* La variable Pueblos Originarios no puede superar el Total Ambos Sexos. ","")) | CD13: =IF(AND($B13<>0,AS13=""),"* No olvide ingresar la variable Migrantes. Digite CERO si no tiene. ",IF(AS13>$B13,"* La variable Migrantes no puede superar el Total Ambos Sexos. ","")) | CM13: =IF(AM13+AN13+AO13+AP13<>$B13,1,0) -> 0 | CN13: =IF(AND($B13<>0,AQ13=""),1,IF(AQ13>$B13,1,0)) -> 0 | CO13: =IF(AND($B13<>0,AR13=""),1,IF(AR13>$B13,1,0)) -> 0 | CP13: =IF(AND($B13<>0,AS13=""),1,IF(AS13>$B13,1,0)) -> 0
A14: Ingresos con plan de tratamiento integral (PTI) | B14: =SUM(C14:D14) -> 0 | C14: =SUM(E14,G14,I14,K14,M14,O14,Q14,S14,U14,W14,Y14,AA14,AC14,AE14,AG14,AI14,AK14) -> 0 | D14: =SUM(F14,H14,J14,L14,N14,P14,R14,T14,V14,X14,Z14,AB14,AD14,AF14,AH14,AJ14,AL14) -> 0 | AT14: =CA14&CB14&CC14&CD14 | CA14: =IF(AM14+AN14+AO14+AP14<>$B14,"* La suma de "&AM$10&""&" no puede ser distinto del Total Ambos Sexos. ","") | CB14: =IF(AND($B14<>0,AQ14=""),"* No olvide ingresar la variable Personas con discapacidad (con RND). Digite Cero si no tiene. ",IF(AQ14>$B14,"* La variable Personas con discapacidad (con RND) no puede superar el Total Ambos Sexos. ","")) | CC14: =IF(AND($B14<>0,AR14=""),"* No olvide ingresar la variable Pueblos Originarios. Digite CERO si no tiene. ",IF(AR14>$B14,"* La variable Pueblos Originarios no puede superar el Total Ambos Sexos. ","")) | CD14: =IF(AND($B14<>0,AS14=""),"* No olvide ingresar la variable Migrantes. Digite CERO si no tiene. ",IF(AS14>$B14,"* La variable Migrantes no puede superar el Total Ambos Sexos. ","")) | CM14: =IF(AM14+AN14+AO14+AP14<>$B14,1,0) -> 0 | CN14: =IF(AND($B14<>0,AQ14=""),1,IF(AQ14>$B14,1,0)) -> 0 | CO14: =IF(AND($B14<>0,AR14=""),1,IF(AR14>$B14,1,0)) -> 0 | CP14: =IF(AND($B14<>0,AS14=""),1,IF(AS14>$B14,1,0)) -> 0
A15: Ingresos con plan de tratamiento integral (PTI) con objetivos para el trabajo | B15: =SUM(C15:D15) -> 0 | C15: =SUM(E15,G15,I15,K15,M15,O15,Q15,S15,U15,W15,Y15,AA15,AC15,AE15,AG15,AI15,AK15) -> 0 | D15: =SUM(F15,H15,J15,L15,N15,P15,R15,T15,V15,X15,Z15,AB15,AD15,AF15,AH15,AJ15,AL15) -> 0 | AT15: =CA15&CB15&CC15&CD15 | CA15: =IF(AM15+AN15+AO15+AP15<>$B15,"* La suma de "&AM$10&""&" no puede ser distinto del Total Ambos Sexos. ","") | CB15: =IF(AND($B15<>0,AQ15=""),"* No olvide ingresar la variable Personas con discapacidad (con RND). Digite Cero si no tiene. ",IF(AQ15>$B15,"* La variable Personas con discapacidad (con RND) no puede superar el Total Ambos Sexos. ","")) | CC15: =IF(AND($B15<>0,AR15=""),"* No olvide ingresar la variable Pueblos Originarios. Digite CERO si no tiene. ",IF(AR15>$B15,"* La variable Pueblos Originarios no puede superar el Total Ambos Sexos. ","")) | CD15: =IF(AND($B15<>0,AS15=""),"* No olvide ingresar la variable Migrantes. Digite CERO si no tiene. ",IF(AS15>$B15,"* La variable Migrantes no puede superar el Total Ambos Sexos. ","")) | CM15: =IF(AM15+AN15+AO15+AP15<>$B15,1,0) -> 0 | CN15: =IF(AND($B15<>0,AQ15=""),1,IF(AQ15>$B15,1,0)) -> 0 | CO15: =IF(AND($B15<>0,AR15=""),1,IF(AR15>$B15,1,0)) -> 0 | CP15: =IF(AND($B15<>0,AS15=""),1,IF(AS15>$B15,1,0)) -> 0
A16: Ingresos de usuarios con cuidador | B16: =SUM(C16:D16) -> 0 | C16: =SUM(E16,G16,I16,K16,M16,O16,Q16,S16,U16,W16,Y16,AA16,AC16,AE16,AG16,AI16,AK16) -> 0 | D16: =SUM(F16,H16,J16,L16,N16,P16,R16,T16,V16,X16,Z16,AB16,AD16,AF16,AH16,AJ16,AL16) -> 0 | AT16: =CA16&CB16&CC16&CD16 | CA16: =IF(AM16+AN16+AO16+AP16<>$B16,"* La suma de "&AM$10&""&" no puede ser distinto del Total Ambos Sexos. ","") | CB16: =IF(AND($B16<>0,AQ16=""),"* No olvide ingresar la variable Personas con discapacidad (con RND). Digite Cero si no tiene. ",IF(AQ16>$B16,"* La variable Personas con discapacidad (con RND) no puede superar el Total Ambos Sexos. ","")) | CC16: =IF(AND($B16<>0,AR16=""),"* No olvide ingresar la variable Pueblos Originarios. Digite CERO si no tiene. ",IF(AR16>$B16,"* La variable Pueblos Originarios no puede superar el Total Ambos Sexos. ","")) | CD16: =IF(AND($B16<>0,AS16=""),"* No olvide ingresar la variable Migrantes. Digite CERO si no tiene. ",IF(AS16>$B16,"* La variable Migrantes no puede superar el Total Ambos Sexos. ","")) | CM16: =IF(AM16+AN16+AO16+AP16<>$B16,1,0) -> 0 | CN16: =IF(AND($B16<>0,AQ16=""),1,IF(AQ16>$B16,1,0)) -> 0 | CO16: =IF(AND($B16<>0,AR16=""),1,IF(AR16>$B16,1,0)) -> 0 | CP16: =IF(AND($B16<>0,AS16=""),1,IF(AS16>$B16,1,0)) -> 0
A17: Reingreso | B17: =SUM(C17:D17) -> 0 | C17: =SUM(E17,G17,I17,K17,M17,O17,Q17,S17,U17,W17,Y17,AA17,AC17,AE17,AG17,AI17,AK17) -> 0 | D17: =SUM(F17,H17,J17,L17,N17,P17,R17,T17,V17,X17,Z17,AB17,AD17,AF17,AH17,AJ17,AL17) -> 0 | AT17: =CA17&CB17&CC17&CD17 | CA17: =IF(AM17+AN17+AO17+AP17<>$B17,"* La suma de "&AM$10&""&" no puede ser distinto del Total Ambos Sexos. ","") | CB17: =IF(AND($B17<>0,AQ17=""),"* No olvide ingresar la variable Personas con discapacidad (con RND). Digite Cero si no tiene. ",IF(AQ17>$B17,"* La variable Personas con discapacidad (con RND) no puede superar el Total Ambos Sexos. ","")) | CC17: =IF(AND($B17<>0,AR17=""),"* No olvide ingresar la variable Pueblos Originarios. Digite CERO si no tiene. ",IF(AR17>$B17,"* La variable Pueblos Originarios no puede superar el Total Ambos Sexos. ","")) | CD17: =IF(AND($B17<>0,AS17=""),"* No olvide ingresar la variable Migrantes. Digite CERO si no tiene. ",IF(AS17>$B17,"* La variable Migrantes no puede superar el Total Ambos Sexos. ","")) | CM17: =IF(AM17+AN17+AO17+AP17<>$B17,1,0) -> 0 | CN17: =IF(AND($B17<>0,AQ17=""),1,IF(AQ17>$B17,1,0)) -> 0 | CO17: =IF(AND($B17<>0,AR17=""),1,IF(AR17>$B17,1,0)) -> 0 | CP17: =IF(AND($B17<>0,AS17=""),1,IF(AS17>$B17,1,0)) -> 0
A18: Ingresos con PTI cuidador | B18: =SUM(C18:D18) -> 0 | C18: =SUM(E18,G18,I18,K18,M18,O18,Q18,S18,U18,W18,Y18,AA18,AC18,AE18,AG18,AI18,AK18) -> 0 | D18: =SUM(F18,H18,J18,L18,N18,P18,R18,T18,V18,X18,Z18,AB18,AD18,AF18,AH18,AJ18,AL18) -> 0 | AT18: =CA18&CB18&CC18&CD18 | CA18: =IF(AM18+AN18+AO18+AP18<>$B18,"* La suma de "&AM$10&""&" no puede ser distinto del Total Ambos Sexos. ","") | CB18: =IF(AND($B18<>0,AQ18=""),"* No olvide ingresar la variable Personas con discapacidad (con RND). Digite Cero si no tiene. ",IF(AQ18>$B18,"* La variable Personas con discapacidad (con RND) no puede superar el Total Ambos Sexos. ","")) | CC18: =IF(AND($B18<>0,AR18=""),"* No olvide ingresar la variable Pueblos Originarios. Digite CERO si no tiene. ",IF(AR18>$B18,"* La variable Pueblos Originarios no puede superar el Total Ambos Sexos. ","")) | CD18: =IF(AND($B18<>0,AS18=""),"* No olvide ingresar la variable Migrantes. Digite CERO si no tiene. ",IF(AS18>$B18,"* La variable Migrantes no puede superar el Total Ambos Sexos. ","")) | CM18: =IF(AM18+AN18+AO18+AP18<>$B18,1,0) -> 0 | CN18: =IF(AND($B18<>0,AQ18=""),1,IF(AQ18>$B18,1,0)) -> 0 | CO18: =IF(AND($B18<>0,AR18=""),1,IF(AR18>$B18,1,0)) -> 0 | CP18: =IF(AND($B18<>0,AS18=""),1,IF(AS18>$B18,1,0)) -> 0
A19: Egresos | B19: =SUM(C19:D19) -> 0 | C19: =SUM(E19,G19,I19,K19,M19,O19,Q19,S19,U19,W19,Y19,AA19,AC19,AE19,AG19,AI19,AK19) -> 0 | D19: =SUM(F19,H19,J19,L19,N19,P19,R19,T19,V19,X19,Z19,AB19,AD19,AF19,AH19,AJ19,AL19) -> 0 | E19: =SUM(E20:E24) -> 0 | F19: =SUM(F20:F24) -> 0 | G19: =SUM(G20:G24) -> 0 | H19: =SUM(H20:H24) -> 0 | I19: =SUM(I20:I24) -> 0 | J19: =SUM(J20:J24) -> 0 | K19: =SUM(K20:K24) -> 0 | L19: =SUM(L20:L24) -> 0 | ... AS19: =SUM(AS20:AS24) -> 0
A20: Egresos por alta | B20: =SUM(C20:D20) -> 0 | C20: =SUM(E20,G20,I20,K20,M20,O20,Q20,S20,U20,W20,Y20,AA20,AC20,AE20,AG20,AI20,AK20) -> 0 | D20: =SUM(F20,H20,J20,L20,N20,P20,R20,T20,V20,X20,Z20,AB20,AD20,AF20,AH20,AJ20,AL20) -> 0 | AT20: =CA20&CB20&CC20&CD20 | CA20: =IF(AM20+AN20+AO20+AP20<>$B20,"* La suma de "&AM$10&""&" no puede ser distinto del Total Ambos Sexos. ","") | CB20: =IF(AND($B20<>0,AQ20=""),"* No olvide ingresar la variable Personas con discapacidad (con RND). Digite Cero si no tiene. ",IF(AQ20>$B20,"* La variable Personas con discapacidad (con RND) no puede superar el Total Ambos Sexos. ","")) | CC20: =IF(AND($B20<>0,AR20=""),"* No olvide ingresar la variable Pueblos Originarios. Digite CERO si no tiene. ",IF(AR20>$B20,"* La variable Pueblos Originarios no puede superar el Total Ambos Sexos. ","")) | CD20: =IF(AND($B20<>0,AS20=""),"* No olvide ingresar la variable Migrantes. Digite CERO si no tiene. ",IF(AS20>$B20,"* La variable Migrantes no puede superar el Total Ambos Sexos. ","")) | CM20: =IF(AM20+AN20+AO20+AP20<>$B20,1,0) -> 0 | CN20: =IF(AND($B20<>0,AQ20=""),1,IF(AQ20>$B20,1,0)) -> 0 | CO20: =IF(AND($B20<>0,AR20=""),1,IF(AR20>$B20,1,0)) -> 0 | CP20: =IF(AND($B20<>0,AS20=""),1,IF(AS20>$B20,1,0)) -> 0
A21: Egresos por abandono | B21: =SUM(C21:D21) -> 0 | C21: =SUM(E21,G21,I21,K21,M21,O21,Q21,S21,U21,W21,Y21,AA21,AC21,AE21,AG21,AI21,AK21) -> 0 | D21: =SUM(F21,H21,J21,L21,N21,P21,R21,T21,V21,X21,Z21,AB21,AD21,AF21,AH21,AJ21,AL21) -> 0 | AT21: =CA21&CB21&CC21&CD21 | CA21: =IF(AM21+AN21+AO21+AP21<>$B21,"* La suma de "&AM$10&""&" no puede ser distinto del Total Ambos Sexos. ","") | CB21: =IF(AND($B21<>0,AQ21=""),"* No olvide ingresar la variable Personas con discapacidad (con RND). Digite Cero si no tiene. ",IF(AQ21>$B21,"* La variable Personas con discapacidad (con RND) no puede superar el Total Ambos Sexos. ","")) | CC21: =IF(AND($B21<>0,AR21=""),"* No olvide ingresar la variable Pueblos Originarios. Digite CERO si no tiene. ",IF(AR21>$B21,"* La variable Pueblos Originarios no puede superar el Total Ambos Sexos. ","")) | CD21: =IF(AND($B21<>0,AS21=""),"* No olvide ingresar la variable Migrantes. Digite CERO si no tiene. ",IF(AS21>$B21,"* La variable Migrantes no puede superar el Total Ambos Sexos. ","")) | CM21: =IF(AM21+AN21+AO21+AP21<>$B21,1,0) -> 0 | CN21: =IF(AND($B21<>0,AQ21=""),1,IF(AQ21>$B21,1,0)) -> 0 | CO21: =IF(AND($B21<>0,AR21=""),1,IF(AR21>$B21,1,0)) -> 0 | CP21: =IF(AND($B21<>0,AS21=""),1,IF(AS21>$B21,1,0)) -> 0
A22: Egresos por fallecimiento | B22: =SUM(C22:D22) -> 0 | C22: =SUM(E22,G22,I22,K22,M22,O22,Q22,S22,U22,W22,Y22,AA22,AC22,AE22,AG22,AI22,AK22) -> 0 | D22: =SUM(F22,H22,J22,L22,N22,P22,R22,T22,V22,X22,Z22,AB22,AD22,AF22,AH22,AJ22,AL22) -> 0 | AT22: =CA22&CB22&CC22&CD22 | CA22: =IF(AM22+AN22+AO22+AP22<>$B22,"* La suma de "&AM$10&""&" no puede ser distinto del Total Ambos Sexos. ","") | CB22: =IF(AND($B22<>0,AQ22=""),"* No olvide ingresar la variable Personas con discapacidad (con RND). Digite Cero si no tiene. ",IF(AQ22>$B22,"* La variable Personas con discapacidad (con RND) no puede superar el Total Ambos Sexos. ","")) | CC22: =IF(AND($B22<>0,AR22=""),"* No olvide ingresar la variable Pueblos Originarios. Digite CERO si no tiene. ",IF(AR22>$B22,"* La variable Pueblos Originarios no puede superar el Total Ambos Sexos. ","")) | CD22: =IF(AND($B22<>0,AS22=""),"* No olvide ingresar la variable Migrantes. Digite CERO si no tiene. ",IF(AS22>$B22,"* La variable Migrantes no puede superar el Total Ambos Sexos. ","")) | CM22: =IF(AM22+AN22+AO22+AP22<>$B22,1,0) -> 0 | CN22: =IF(AND($B22<>0,AQ22=""),1,IF(AQ22>$B22,1,0)) -> 0 | CO22: =IF(AND($B22<>0,AR22=""),1,IF(AR22>$B22,1,0)) -> 0 | CP22: =IF(AND($B22<>0,AS22=""),1,IF(AS22>$B22,1,0)) -> 0
A23: Egresos por otras causas | B23: =SUM(C23:D23) -> 0 | C23: =SUM(E23,G23,I23,K23,M23,O23,Q23,S23,U23,W23,Y23,AA23,AC23,AE23,AG23,AI23,AK23) -> 0 | D23: =SUM(F23,H23,J23,L23,N23,P23,R23,T23,V23,X23,Z23,AB23,AD23,AF23,AH23,AJ23,AL23) -> 0 | AT23: =CA23&CB23&CC23&CD23 | CA23: =IF(AM23+AN23+AO23+AP23<>$B23,"* La suma de "&AM$10&""&" no puede ser distinto del Total Ambos Sexos. ","") | CB23: =IF(AND($B23<>0,AQ23=""),"* No olvide ingresar la variable Personas con discapacidad (con RND). Digite Cero si no tiene. ",IF(AQ23>$B23,"* La variable Personas con discapacidad (con RND) no puede superar el Total Ambos Sexos. ","")) | CC23: =IF(AND($B23<>0,AR23=""),"* No olvide ingresar la variable Pueblos Originarios. Digite CERO si no tiene. ",IF(AR23>$B23,"* La variable Pueblos Originarios no puede superar el Total Ambos Sexos. ","")) | CD23: =IF(AND($B23<>0,AS23=""),"* No olvide ingresar la variable Migrantes. Digite CERO si no tiene. ",IF(AS23>$B23,"* La variable Migrantes no puede superar el Total Ambos Sexos. ","")) | CM23: =IF(AM23+AN23+AO23+AP23<>$B23,1,0) -> 0 | CN23: =IF(AND($B23<>0,AQ23=""),1,IF(AQ23>$B23,1,0)) -> 0 | CO23: =IF(AND($B23<>0,AR23=""),1,IF(AR23>$B23,1,0)) -> 0 | CP23: =IF(AND($B23<>0,AS23=""),1,IF(AS23>$B23,1,0)) -> 0
A24: Egresos con PTI cuidador | B24: =SUM(C24:D24) -> 0 | C24: =SUM(E24,G24,I24,K24,M24,O24,Q24,S24,U24,W24,Y24,AA24,AC24,AE24,AG24,AI24,AK24) -> 0 | D24: =SUM(F24,H24,J24,L24,N24,P24,R24,T24,V24,X24,Z24,AB24,AD24,AF24,AH24,AJ24,AL24) -> 0 | AT24: =CA24&CB24&CC24&CD24 | CA24: =IF(AM24+AN24+AO24+AP24<>$B24,"* La suma de "&AM$10&""&" no puede ser distinto del Total Ambos Sexos. ","") | CB24: =IF(AND($B24<>0,AQ24=""),"* No olvide ingresar la variable Personas con discapacidad (con RND). Digite Cero si no tiene. ",IF(AQ24>$B24,"* La variable Personas con discapacidad (con RND) no puede superar el Total Ambos Sexos. ","")) | CC24: =IF(AND($B24<>0,AR24=""),"* No olvide ingresar la variable Pueblos Originarios. Digite CERO si no tiene. ",IF(AR24>$B24,"* La variable Pueblos Originarios no puede superar el Total Ambos Sexos. ","")) | CD24: =IF(AND($B24<>0,AS24=""),"* No olvide ingresar la variable Migrantes. Digite CERO si no tiene. ",IF(AS24>$B24,"* La variable Migrantes no puede superar el Total Ambos Sexos. ","")) | CM24: =IF(AM24+AN24+AO24+AP24<>$B24,1,0) -> 0 | CN24: =IF(AND($B24<>0,AQ24=""),1,IF(AQ24>$B24,1,0)) -> 0 | CO24: =IF(AND($B24<>0,AR24=""),1,IF(AR24>$B24,1,0)) -> 0 | CP24: =IF(AND($B24<>0,AS24=""),1,IF(AS24>$B24,1,0)) -> 0
A25: SECCIÓN A.2: INGRESOS POR CONDICIÓN DE SALUD
A26: CONDICIÓN DE SALUD | B26: TOTAL | E26: RANGO ETARIO Y SEXO | AM26: TIPO DE ESTRATEGIA
E27: 0 a 4 años | G27: 5 a 9 años | I27: 10 - 14 | K27: 15 - 19 | M27: 20 - 24 | O27: 25-29 | Q27: 30-34 | S27: 35 - 39 | U27: 40 - 44 | W27: 45- 49 | Y27: 50 - 54 | AA27: 55 - 59 | AC27: 60 - 64 | AE27: 65 - 69 | AG27: 70 - 74 | AI27: 75 - 79 | AK27: 80 y más años | AM27: Rehabilitación NNA | AN27: Rehabilitación Integral APS | AO27: Otros Rehabilitación | AP27: Rehabilitación móvil (rural)
B28: Ambos Sexos | C28: Hombres | D28: Mujeres | E28: Hombres | F28: Mujeres | G28: Hombres | H28: Mujeres | I28: Hombres | J28: Mujeres | K28: Hombres | L28: Mujeres | M28: Hombres | N28: Mujeres | O28: Hombres | P28: Mujeres | Q28: Hombres | R28: Mujeres | S28: Hombres | T28: Mujeres | U28: Hombres | V28: Mujeres | W28: Hombres | X28: Mujeres | Y28: Hombres | Z28: Mujeres | AA28: Hombres | AB28: Mujeres | AC28: Hombres | AD28: Mujeres | AE28: Hombres | AF28: Mujeres | AG28: Hombres | AH28: Mujeres | AI28: Hombres | AJ28: Mujeres | AK28: Hombres | AL28: Mujeres | CM28: =IF(B29<>SUM(B30:B50),1,0) -> 0
A29: Total ingreso (N° de personas) | B29: =SUM(C29:D29) -> 0 | C29: =+E29+G29+I29+K29+M29+O29+Q29+S29+U29+W29+Y29+AA29+AC29+AE29+AG29+AI29+AK29 -> 0 | D29: =+F29+H29+J29+L29+N29+P29+R29+T29+V29+X29+Z29+AB29+AD29+AF29+AH29+AJ29+AL29 -> 0 | AQ29: =CB29&CA29&CC29&CD29&CE29&CF29 | CA29: =IF(CM28=1,"* Existen Condiciones de Salud que son mayores al Total de Ingreso (N° Personas). ","") | CB29: =IF(CM29=1," * El total de Ingresos debe ser igual a la suma de los Tipos de Estrategia. ","") | CC29: =IF(CN29=1,"* Existen Condiciones de Salud en la variable Rehabilitación NNA que son Mayores a los Ingreso (N° Personas). ","") | CD29: =IF(CO29=1,"* Existen Condiciones de Salud en la variable Rehabilitación Integral APS que son Mayores a los Ingreso (N° Personas). ","") | CE29: =IF(CP29=1,"* Existen Condiciones de Salud en la variable Otros Rehabilitación que son Mayores a los Ingreso (N° Personas). ","") | CF29: =IF(CQ29=1,"* Existen Condiciones de Salud en la variable Rehabilitación móvil (rural) que son Mayores a los Ingreso (N° Personas). ","") | CM29: =IF(SUM(AM29:AP29)=B29,0,1) -> 0 | CN29: =IF($AM29<MAX($AM30:$AM50),1,0) -> 0 | CO29: =IF(AN29<MAX(AN30:AN50),1,0) -> 0 | CP29: =IF(AO29<MAX(AO30:AO50),1,0) -> 0 | CQ29: =IF(AP29<MAX(AP30:AP50),1,0) -> 0
A30: Dolor cervical agudo | B30: =SUM(C30:D30) -> 0 | C30: =+E30+G30+I30+K30+M30+O30+Q30+S30+U30+W30+Y30+AA30+AC30+AE30+AG30+AI30+AK30 -> 0 | D30: =+F30+H30+J30+L30+N30+P30+R30+T30+V30+X30+Z30+AB30+AD30+AF30+AH30+AJ30+AL30 -> 0 | AQ30: =CA30&CB30&CC30&CD30&CE30&CF30 | CB30: =IF(CM30=1," * El total de Ingresos debe ser igual a la suma de los Tipos de Estrategia. ","") | CM30: =IF(SUM(AM30:AP30)=B30,0,1) -> 0
A31: Dolor lumbar agudo | B31: =SUM(C31:D31) -> 0 | C31: =+E31+G31+I31+K31+M31+O31+Q31+S31+U31+W31+Y31+AA31+AC31+AE31+AG31+AI31+AK31 -> 0 | D31: =+F31+H31+J31+L31+N31+P31+R31+T31+V31+X31+Z31+AB31+AD31+AF31+AH31+AJ31+AL31 -> 0 | AQ31: =CA31&CB31 | CB31: =IF(CM31=1," * El total de Ingresos debe ser igual a la suma de los Tipos de Estrategia. ","") | CM31: =IF(SUM(AM31:AP31)=B31,0,1) -> 0
A32: Hombro doloroso agudo | B32: =SUM(C32:D32) -> 0 | C32: =+E32+G32+I32+K32+M32+O32+Q32+S32+U32+W32+Y32+AA32+AC32+AE32+AG32+AI32+AK32 -> 0 | D32: =+F32+H32+J32+L32+N32+P32+R32+T32+V32+X32+Z32+AB32+AD32+AF32+AH32+AJ32+AL32 -> 0 | AQ32: =CA32&CB32 | CB32: =IF(CM32=1," * El total de Ingresos debe ser igual a la suma de los Tipos de Estrategia. ","") | CM32: =IF(SUM(AM32:AP32)=B32,0,1) -> 0
A33: Otro dolor musculoesquelético agudo | B33: =SUM(C33:D33) -> 0 | C33: =+E33+G33+I33+K33+M33+O33+Q33+S33+U33+W33+Y33+AA33+AC33+AE33+AG33+AI33+AK33 -> 0 | D33: =+F33+H33+J33+L33+N33+P33+R33+T33+V33+X33+Z33+AB33+AD33+AF33+AH33+AJ33+AL33 -> 0 | AQ33: =CA33&CB33 | CB33: =IF(CM33=1," * El total de Ingresos debe ser igual a la suma de los Tipos de Estrategia. ","") | CM33: =IF(SUM(AM33:AP33)=B33,0,1) -> 0
A34: Artrosis de rodilla y cadera | B34: =SUM(C34:D34) -> 0 | C34: =+E34+G34+I34+K34+M34+O34+Q34+S34+U34+W34+Y34+AA34+AC34+AE34+AG34+AI34+AK34 -> 0 | D34: =+F34+H34+J34+L34+N34+P34+R34+T34+V34+X34+Z34+AB34+AD34+AF34+AH34+AJ34+AL34 -> 0 | AQ34: =CA34&CB34 | CB34: =IF(CM34=1," * El total de Ingresos debe ser igual a la suma de los Tipos de Estrategia. ","") | CM34: =IF(SUM(AM34:AP34)=B34,0,1) -> 0
A35: Artritis reumatoidea | B35: =SUM(C35:D35) -> 0 | C35: =+E35+G35+I35+K35+M35+O35+Q35+S35+U35+W35+Y35+AA35+AC35+AE35+AG35+AI35+AK35 -> 0 | D35: =+F35+H35+J35+L35+N35+P35+R35+T35+V35+X35+Z35+AB35+AD35+AF35+AH35+AJ35+AL35 -> 0 | AQ35: =CA35&CB35 | CB35: =IF(CM35=1," * El total de Ingresos debe ser igual a la suma de los Tipos de Estrategia. ","") | CM35: =IF(SUM(AM35:AP35)=B35,0,1) -> 0
A36: Otro dolor musculoesquelético crónico | B36: =SUM(C36:D36) -> 0 | C36: =+E36+G36+I36+K36+M36+O36+Q36+S36+U36+W36+Y36+AA36+AC36+AE36+AG36+AI36+AK36 -> 0 | D36: =+F36+H36+J36+L36+N36+P36+R36+T36+V36+X36+Z36+AB36+AD36+AF36+AH36+AJ36+AL36 -> 0 | AQ36: =CA36&CB36 | CB36: =IF(CM36=1," * El total de Ingresos debe ser igual a la suma de los Tipos de Estrategia. ","") | CM36: =IF(SUM(AM36:AP36)=B36,0,1) -> 0
A37: Ataque cerebro vascular (ACV) | B37: =SUM(C37:D37) -> 0 | C37: =+E37+G37+I37+K37+M37+O37+Q37+S37+U37+W37+Y37+AA37+AC37+AE37+AG37+AI37+AK37 -> 0 | D37: =+F37+H37+J37+L37+N37+P37+R37+T37+V37+X37+Z37+AB37+AD37+AF37+AH37+AJ37+AL37 -> 0 | AQ37: =CA37&CB37 | CB37: =IF(CM37=1," * El total de Ingresos debe ser igual a la suma de los Tipos de Estrategia. ","") | CM37: =IF(SUM(AM37:AP37)=B37,0,1) -> 0
A38: Traumatismo encéfalo craneano (TEC) | B38: =SUM(C38:D38) -> 0 | C38: =+E38+G38+I38+K38+M38+O38+Q38+S38+U38+W38+Y38+AA38+AC38+AE38+AG38+AI38+AK38 -> 0 | D38: =+F38+H38+J38+L38+N38+P38+R38+T38+V38+X38+Z38+AB38+AD38+AF38+AH38+AJ38+AL38 -> 0 | AQ38: =CA38&CB38 | CB38: =IF(CM38=1," * El total de Ingresos debe ser igual a la suma de los Tipos de Estrategia. ","") | CM38: =IF(SUM(AM38:AP38)=B38,0,1) -> 0
A39: Lesión medular | B39: =SUM(C39:D39) -> 0 | C39: =+E39+G39+I39+K39+M39+O39+Q39+S39+U39+W39+Y39+AA39+AC39+AE39+AG39+AI39+AK39 -> 0 | D39: =+F39+H39+J39+L39+N39+P39+R39+T39+V39+X39+Z39+AB39+AD39+AF39+AH39+AJ39+AL39 -> 0 | AQ39: =CA39&CB39 | CB39: =IF(CM39=1," * El total de Ingresos debe ser igual a la suma de los Tipos de Estrategia. ","") | CM39: =IF(SUM(AM39:AP39)=B39,0,1) -> 0
A40: Enfermedad de Parkinson | B40: =SUM(C40:D40) -> 0 | C40: =+E40+G40+I40+K40+M40+O40+Q40+S40+U40+W40+Y40+AA40+AC40+AE40+AG40+AI40+AK40 -> 0 | D40: =+F40+H40+J40+L40+N40+P40+R40+T40+V40+X40+Z40+AB40+AD40+AF40+AH40+AJ40+AL40 -> 0 | AQ40: =CA40&CB40 | CB40: =IF(CM40=1," * El total de Ingresos debe ser igual a la suma de los Tipos de Estrategia. ","") | CM40: =IF(SUM(AM40:AP40)=B40,0,1) -> 0
A41: Enfermedades neuromusculares | B41: =SUM(C41:D41) -> 0 | C41: =+E41+G41+I41+K41+M41+O41+Q41+S41+U41+W41+Y41+AA41+AC41+AE41+AG41+AI41+AK41 -> 0 | D41: =+F41+H41+J41+L41+N41+P41+R41+T41+V41+X41+Z41+AB41+AD41+AF41+AH41+AJ41+AL41 -> 0 | AQ41: =CA41&CB41 | CB41: =IF(CM41=1," * El total de Ingresos debe ser igual a la suma de los Tipos de Estrategia. ","") | CM41: =IF(SUM(AM41:AP41)=B41,0,1) -> 0
A42: Alteraciones en el desarrollo psicomotor | B42: =SUM(C42:D42) -> 0 | C42: =+E42+G42+I42+K42+M42+O42+Q42+S42+U42+W42+Y42+AA42+AC42+AE42+AG42+AI42+AK42 -> 0 | D42: =+F42+H42+J42+L42+N42+P42+R42+T42+V42+X42+Z42+AB42+AD42+AF42+AH42+AJ42+AL42 -> 0 | AQ42: =CA42&CB42 | CB42: =IF(CM42=1," * El total de Ingresos debe ser igual a la suma de los Tipos de Estrategia. ","") | CM42: =IF(SUM(AM42:AP42)=B42,0,1) -> 0
... A48: Quemados | B48: =SUM(C48:D48) -> 0 | C48: =+E48+G48+I48+K48+M48+O48+Q48+S48+U48+W48+Y48+AA48+AC48+AE48+AG48+AI48+AK48 -> 0 | D48: =+F48+H48+J48+L48+N48+P48+R48+T48+V48+X48+Z48+AB48+AD48+AF48+AH48+AJ48+AL48 -> 0 | AQ48: =CA48&CB48 | CB48: =IF(CM48=1," * El total de Ingresos debe ser igual a la suma de los Tipos de Estrategia. ","") | CM48: =IF(SUM(AM48:AP48)=B48,0,1) -> 0
A49: COVID-19 | B49: =SUM(C49:D49) -> 0 | C49: =+E49+G49+I49+K49+M49+O49+Q49+S49+U49+W49+Y49+AA49+AC49+AE49+AG49+AI49+AK49 -> 0 | D49: =+F49+H49+J49+L49+N49+P49+R49+T49+V49+X49+Z49+AB49+AD49+AF49+AH49+AJ49+AL49 -> 0 | AQ49: =CB49 | CB49: =IF(CM49=1," * El total de Ingresos debe ser igual a la suma de los Tipos de Estrategia. ","") | CM49: =IF(SUM(AM49:AP49)=B49,0,1) -> 0
A50: Otros | B50: =SUM(C50:D50) -> 0 | C50: =+E50+G50+I50+K50+M50+O50+Q50+S50+U50+W50+Y50+AA50+AC50+AE50+AG50+AI50+AK50 -> 0 | D50: =+F50+H50+J50+L50+N50+P50+R50+T50+V50+X50+Z50+AB50+AD50+AF50+AH50+AJ50+AL50 -> 0 | AQ50: =CB50 | CB50: =IF(CM50=1," * El total de Ingresos debe ser igual a la suma de los Tipos de Estrategia. ","") | CM50: =IF(SUM(AM50:AP50)=B50,0,1) -> 0
A51: Alteraciones visuales | B51: =SUM(C51:D51) -> 0 | C51: =+E51+G51+I51+K51+M51+O51+Q51+S51+U51+W51+Y51+AA51+AC51+AE51+AG51+AI51+AK51 -> 0 | D51: =+F51+H51+J51+L51+N51+P51+R51+T51+V51+X51+Z51+AB51+AD51+AF51+AH51+AJ51+AL51 -> 0 | AQ51: =CB51 | CB51: =IF(CM51=1," * El total de Ingresos debe ser igual a la suma de los Tipos de Estrategia. ","") | CM51: =IF(SUM(AM51:AP51)=B51,0,1) -> 0
A52: Alteraciones auditivas | B52: =SUM(C52:D52) -> 0 | C52: =+E52+G52+I52+K52+M52+O52+Q52+S52+U52+W52+Y52+AA52+AC52+AE52+AG52+AI52+AK52 -> 0 | D52: =+F52+H52+J52+L52+N52+P52+R52+T52+V52+X52+Z52+AB52+AD52+AF52+AH52+AJ52+AL52 -> 0 | AQ52: =CA52&CB52 | CB52: =IF(CM52=1," * El total de Ingresos debe ser igual a la suma de los Tipos de Estrategia. ","") | CM52: =IF(SUM(AM52:AP52)=B52,0,1) -> 0
A53: SECCIÓN A.3: EVALUACIÓN INICIAL
A54: PROFESIONAL | B54: TOTAL | C54: TIPO DE ESTRATEGIA | G54: MODALIDAD DE REHABILITACIÓN
C55: Rehabilitación NNA | D55: Rehabilitación Integral APS | E55: Otros Rehabilitación | F55: Rehabilitación móvil (rural) | G55: Presencial (Establecimiento) | H55: Domiciliaria
A56: Médico/a | B56: =SUM(C56:F56) -> 0 | I56: =CA56&CB56&CC56 | CA56: =IF(AND($B56>0,$G56="")," * No olvide digitar la variable "&$G$54&""&" Presencial (Establecimiento). Digite CERO si no tiene.","") | CB56: =IF(AND($B56>0,$H56="")," * No olvide digitar la variable "&$G$54&""&" Domiciliaria. Digite CERO si no tiene.","") | CC56: =IF(AND($G56+$H56>$B56)," * La variable "&$G$54&""&" No puede ser mayor al Total.","") | CM56: =IF(AND($B56>0,$G56=""),1,0) -> 0 | CN56: =IF(AND($B56>0,$H56=""),1,0) -> 0 | CO56: =IF(AND($G56+$H56>$B56),1,0) -> 0
A57: Kinesiólogo/a | B57: =SUM(C57:F57) -> 0 | I57: =CA57&CB57&CC57 | CA57: =IF(AND($B57>0,$G57="")," * No olvide digitar la variable "&$G$54&""&" Presencial (Establecimiento). Digite CERO si no tiene.","") | CB57: =IF(AND($B57>0,$H57="")," * No olvide digitar la variable "&$G$54&""&" Domiciliaria. Digite CERO si no tiene.","") | CC57: =IF(AND($G57+$H57>$B57)," * La variable "&$G$54&""&" No puede ser mayor al Total.","") | CM57: =IF(AND($B57>0,$G57=""),1,0) -> 0 | CN57: =IF(AND($B57>0,$H57=""),1,0) -> 0 | CO57: =IF(AND($G57+$H57>$B57),1,0) -> 0
A58: Terpeuta Ocupacional | B58: =SUM(C58:F58) -> 0 | I58: =CA58&CB58&CC58 | CA58: =IF(AND($B58>0,$G58="")," * No olvide digitar la variable "&$G$54&""&" Presencial (Establecimiento). Digite CERO si no tiene.","") | CB58: =IF(AND($B58>0,$H58="")," * No olvide digitar la variable "&$G$54&""&" Domiciliaria. Digite CERO si no tiene.","") | CC58: =IF(AND($G58+$H58>$B58)," * La variable "&$G$54&""&" No puede ser mayor al Total.","") | CM58: =IF(AND($B58>0,$G58=""),1,0) -> 0 | CN58: =IF(AND($B58>0,$H58=""),1,0) -> 0 | CO58: =IF(AND($G58+$H58>$B58),1,0) -> 0
A59: Fonoaudiólogo/a | B59: =SUM(C59:F59) -> 0 | I59: =CA59&CB59&CC59 | CA59: =IF(AND($B59>0,$G59="")," * No olvide digitar la variable "&$G$54&""&" Presencial (Establecimiento). Digite CERO si no tiene.","") | CB59: =IF(AND($B59>0,$H59="")," * No olvide digitar la variable "&$G$54&""&" Domiciliaria. Digite CERO si no tiene.","") | CC59: =IF(AND($G59+$H59>$B59)," * La variable "&$G$54&""&" No puede ser mayor al Total.","") | CM59: =IF(AND($B59>0,$G59=""),1,0) -> 0 | CN59: =IF(AND($B59>0,$H59=""),1,0) -> 0 | CO59: =IF(AND($G59+$H59>$B59),1,0) -> 0
A60: Psicólogo/a | B60: =SUM(C60:F60) -> 0 | I60: =CA60&CB60&CC60 | CA60: =IF(AND($B60>0,$G60="")," * No olvide digitar la variable "&$G$54&""&" Presencial (Establecimiento). Digite CERO si no tiene.","") | CB60: =IF(AND($B60>0,$H60="")," * No olvide digitar la variable "&$G$54&""&" Domiciliaria. Digite CERO si no tiene.","") | CC60: =IF(AND($G60+$H60>$B60)," * La variable "&$G$54&""&" No puede ser mayor al Total.","") | CM60: =IF(AND($B60>0,$G60=""),1,0) -> 0 | CN60: =IF(AND($B60>0,$H60=""),1,0) -> 0 | CO60: =IF(AND($G60+$H60>$B60),1,0) -> 0
A61: TOTAL | B61: =SUM(B56:B60) -> 0 | C61: =SUM(C56:C60) -> 0 | D61: =SUM(D56:D60) -> 0 | E61: =SUM(E56:E60) -> 0 | F61: =SUM(F56:F60) -> 0 | G61: =SUM(G56:G60) -> 0 | H61: =SUM(H56:H60) -> 0
A62: SECCIÓN A.4: EVALUACIÓN INTERMEDIA
A63: PROFESIONAL | B63: TOTAL | C63: RANGO ETARIO | T63: TIPO DE ESTRATEGIA | X63: MODALIDAD DE REHABILITACIÓN
C64: 0 a 4 años | D64: 5 a 9 años | E64: 10 - 14 | F64: 15 - 19 | G64: 20 - 24 | H64: 25-29 | I64: 30-34 | J64: 35 - 39 | K64: 40 - 44 | L64: 45- 49 | M64: 50 - 54 | N64: 55 - 59 | O64: 60 - 64 | P64: 65 - 69 | Q64: 70 - 74 | R64: 75 - 79 | S64: 80 y más años | T64: Rehabilitación NNA | U64: Rehabilitación Integral APS | V64: Otros Rehabilitación | W64: Rehabilitación móvil (rural) | X64: Presencial (Establecimiento) | Y64: A distancia | Z64: Domiciliaria
A65: Kinesiólogo/a | B65: =SUM(C65:S65) -> 0 | AA65: =CA65&CB65 | CA65: =IF(T65+U65+V65+W65<>$B65,"* La suma de "&T$63&""&" no debe ser distinto del Total. ","") | CB65: =IF(X65+Y65+Z65>$B65,"* La suma de "&X$63&""&" no puede superar el Total. ","") | CM65: =IF(T65+U65+V65+W65<>$B65,1,0) -> 0 | CN65: =IF(X65+Y65+Z65>$B65,1,0) -> 0
A66: Terpeuta Ocupacional | B66: =SUM(C66:S66) -> 0 | AA66: =CA66&CB66 | CA66: =IF(T66+U66+V66+W66<>$B66,"* La suma de "&T$63&""&" no debe ser distinto del Total. ","") | CB66: =IF(X66+Y66+Z66>$B66,"* La suma de "&X$63&""&" no puede superar el Total. ","") | CM66: =IF(T66+U66+V66+W66<>$B66,1,0) -> 0 | CN66: =IF(X66+Y66+Z66>$B66,1,0) -> 0
A67: Fonoaudiólogo/a | B67: =SUM(C67:S67) -> 0 | AA67: =CA67&CB67 | CA67: =IF(T67+U67+V67+W67<>$B67,"* La suma de "&T$63&""&" no debe ser distinto del Total. ","") | CB67: =IF(X67+Y67+Z67>$B67,"* La suma de "&X$63&""&" no puede superar el Total. ","") | CM67: =IF(T67+U67+V67+W67<>$B67,1,0) -> 0 | CN67: =IF(X67+Y67+Z67>$B67,1,0) -> 0
A68: Psicólogo/a | B68: =SUM(C68:S68) -> 0 | AA68: =CA68&CB68 | CA68: =IF(T68+U68+V68+W68<>$B68,"* La suma de "&T$63&""&" no debe ser distinto del Total. ","") | CB68: =IF(X68+Y68+Z68>$B68,"* La suma de "&X$63&""&" no puede superar el Total. ","") | CM68: =IF(T68+U68+V68+W68<>$B68,1,0) -> 0 | CN68: =IF(X68+Y68+Z68>$B68,1,0) -> 0
A69: TOTAL | B69: =SUM(B65:B68) -> 0 | C69: =SUM(C65:C68) -> 0 | D69: =SUM(D65:D68) -> 0 | E69: =SUM(E65:E68) -> 0 | F69: =SUM(F65:F68) -> 0 | G69: =SUM(G65:G68) -> 0 | H69: =SUM(H65:H68) -> 0 | I69: =SUM(I65:I68) -> 0 | ... Z69: =SUM(Z65:Z68) -> 0
A70: SECCIÓN A.5: SESIONES DE REHABILITACIÓN
A71: PROFESIONAL | B71: TOTAL | C71: RANGO ETARIO | T71: TIPO DE ESTRATEGIA | X71: MODALIDAD DE REHABILITACIÓN
C72: 0 a 4 años | D72: 5 a 9 años | E72: 10 - 14 | F72: 15 - 19 | G72: 20 - 24 | H72: 25-29 | I72: 30-34 | J72: 35 - 39 | K72: 40 - 44 | L72: 45- 49 | M72: 50 - 54 | N72: 55 - 59 | O72: 60 - 64 | P72: 65 - 69 | Q72: 70 - 74 | R72: 75 - 79 | S72: 80 y más años | T72: Rehabilitación NNA | U72: Rehabilitación Integral APS | V72: Otros Rehabilitación | W72: Rehabilitación móvil (rural) | X72: Presencial (Establecimiento) | Y72: A distancia | Z72: Domiciliaria
A73: Kinesiólogo/a | B73: =SUM(C73:S73) -> 0 | AA73: =CA73&CB73 | CA73: =IF(T73+U73+V73+W73<>$B73,"* La suma de "&T$71&""&" no debe ser distinto del Total. ","") | CB73: =IF(X73+Y73+Z73>$B73,"* La suma de "&X$71&""&" no puede superar el Total. ","") | CM73: =IF(T73+U73+V73+W73<>$B73,1,0) -> 0 | CN73: =IF(X73+Y73+Z73>$B73,1,0) -> 0
A74: Terpeuta Ocupacional | B74: =SUM(C74:S74) -> 0 | AA74: =CA74&CB74 | CA74: =IF(T74+U74+V74+W74<>$B74,"* La suma de "&T$71&""&" no debe ser distinto del Total. ","") | CB74: =IF(X74+Y74+Z74>$B74,"* La suma de "&X$71&""&" no puede superar el Total. ","") | CM74: =IF(T74+U74+V74+W74<>$B74,1,0) -> 0 | CN74: =IF(X74+Y74+Z74>$B74,1,0) -> 0
A75: Fonoaudiólogo/a | B75: =SUM(C75:S75) -> 0 | AA75: =CA75&CB75 | CA75: =IF(T75+U75+V75+W75<>$B75,"* La suma de "&T$71&""&" no debe ser distinto del Total. ","") | CB75: =IF(X75+Y75+Z75>$B75,"* La suma de "&X$71&""&" no puede superar el Total. ","") | CM75: =IF(T75+U75+V75+W75<>$B75,1,0) -> 0 | CN75: =IF(X75+Y75+Z75>$B75,1,0) -> 0
A76: Psicólogo/a | B76: =SUM(C76:S76) -> 0 | AA76: =CA76&CB76 | CA76: =IF(T76+U76+V76+W76<>$B76,"* La suma de "&T$71&""&" no debe ser distinto del Total. ","") | CB76: =IF(X76+Y76+Z76>$B76,"* La suma de "&X$71&""&" no puede superar el Total. ","") | CM76: =IF(T76+U76+V76+W76<>$B76,1,0) -> 0 | CN76: =IF(X76+Y76+Z76>$B76,1,0) -> 0
A77: TOTAL | B77: =SUM(B73:B76) -> 0 | C77: =SUM(C73:C76) -> 0 | D77: =SUM(D73:D76) -> 0 | E77: =SUM(E73:E76) -> 0 | F77: =SUM(F73:F76) -> 0 | G77: =SUM(G73:G76) -> 0 | H77: =SUM(H73:H76) -> 0 | I77: =SUM(I73:I76) -> 0 | ... Z77: =SUM(Z73:Z76) -> 0
A78: SECCIÓN A.6: PROCEDIMIENTOS Y ACTIVIDADES
A79: TIPO | B79: Rehabilitación NNA | C79: Rehabilitación Integral APS | D79: Otros Rehabilitación | E79: Rehabilitación móvil (rural)
A80: Fisioterapia
A81: Actividad Física
A82: Ejercicios Terapéuticos
A83: Intervenciones en actividades de la vida diaria, básicas, instrumentadas y avanzadas
A84: Habilitación y Rehabilitación Educacional
A85: Actividades Terapéuticas
A86: Itegración Sensorial
A87: Adaptación del Hogar
A88: Confecciones Ortesis y/o Adaptaciones
A89: Reparación de Ortesis y/o Adaptaciones
A90: Habilitación y Rehabilitación Socio-Laboral
A91: Estimulación Cognitiva
... A96: Atención Psicoterapéutica
A97: TOTAL | B97: =SUM(B80:B96) -> 0 | C97: =SUM(C80:C96) -> 0 | D97: =SUM(D80:D96) -> 0 | E97: =SUM(E80:E96) -> 0
A98: SECCIÓN A.7: CONSEJERÍA INDIVIDUAL AGENDADA
A99: PROFESIONAL | B99: Rehabilitación NNA | C99: Rehabilitación Integral APS | D99: Otros Rehabilitación | E99: Rehabilitación móvil (rural)
A100: Kinesiólogo/a
A101: Terapeuta Ocupacional
A102: Fonoaudiólogo/a
A103: Psicólogo/a
A104: Trabajador/a social
A105: TOTAL | B105: =SUM(B100:B104) -> 0 | C105: =SUM(C100:C104) -> 0 | D105: =SUM(D100:D104) -> 0 | E105: =SUM(E100:E104) -> 0
A106: SECCIÓN A.8: CONSEJERÍA FAMILIAR AGENDADA
A107: PROFESIONAL | B107: Rehabilitación NNA | C107: Rehabilitación Integral APS | D107: Otros Rehabilitación | E107: Rehabilitación móvil (rural)
A108: Kinesiólogo/a
A109: Terapeuta Ocupacional
A110: Fonoaudiólogo/a
...

Sheet MARZO
A1: SERVICIO DE SALUD
A2: =CONCATENATE("COMUNA: ",[4]NOMBRE!B2, " (",[4]NOMBRE!C2,[4]NOMBRE!D2,[4]NOMBRE!E2,[4]NOMBRE!F2,[4]NOMBRE!G2,")") -> COMUNA: LINARES (07401)
A3: =CONCATENATE("ESTABLECIMIENTO/ESTRATEGIA: ", [4]NOMBRE!B3, " (",[4]NOMBRE!C3,[4]NOMBRE!D3,[4]NOMBRE!E3,[4]NOMBRE!F3,[4]NOMBRE!G3,[4]NOMBRE!H3,")") -> ESTABLECIMIENTO/ESTRATEGIA: HOSPITAL PRESIDENTE CARLOS IBAÑEZ DEL CAMPO (116108)
A4: =CONCATENATE("MES: ",[4]NOMBRE!B6, " (",[4]NOMBRE!C6,[4]NOMBRE!D6,")") -> MES: MARZO (03)
A5: =CONCATENATE("AÑO: ",[4]NOMBRE!B7) -> AÑO: 2025
A6: REM-28. REHABILITACIÓN INTEGRAL
A8: SECCIÓN A: ATENCIONES DE REHABILITACIÓN NIVEL PRIMARIO
A9: SECCIÓN A.1: INGRESOS Y EGRESOS A ATENCIONES DE REHABILITACIÓN EN EL NIVEL PRIMARIO
A10: TIPO DE INGRESO | B10: TOTAL | E10: RANGO ETARIO Y SEXO | AM10: TIPO DE ESTRATEGIA | AQ10: Personas con discapacidad (con RND) | AR10: Pueblos Originarios | AS10: Migrantes
E11: 0 - 4 años | G11: 5 - 9 años | I11: 10 - 14 años | K11: 15 - 19 años | M11: 20 - 24 años | O11: 25-29 años | Q11: 30-34 años | S11: 35 - 39 años | U11: 40 - 44 años | W11: 45- 49 años | Y11: 50 - 54 años | AA11: 55 - 59 años | AC11: 60 - 64 años | AE11: 65 - 69 años | AG11: 70 - 74 años | AI11: 75 - 79 años | AK11: 80 y más años | AM11: Rehabilitación NNA | AN11: Rehabilitación Integral APS | AO11: Otros Rehabilitación | AP11: Rehabilitación móvil (rural)
B12: Ambos Sexos | C12: Hombres | D12: Mujeres | E12: Hombres | F12: Mujeres | G12: Hombres | H12: Mujeres | I12: Hombres | J12: Mujeres | K12: Hombres | L12: Mujeres | M12: Hombres | N12: Mujeres | O12: Hombres | P12: Mujeres | Q12: Hombres | R12: Mujeres | S12: Hombres | T12: Mujeres | U12: Hombres | V12: Mujeres | W12: Hombres | X12: Mujeres | Y12: Hombres | Z12: Mujeres | AA12: Hombres | AB12: Mujeres | AC12: Hombres | AD12: Mujeres | AE12: Hombres | AF12: Mujeres | AG12: Hombres | AH12: Mujeres | AI12: Hombres | AJ12: Mujeres | AK12: Hombres | AL12: Mujeres
A13: Ingresos | B13: =SUM(C13:D13) -> 0 | C13: =SUM(E13,G13,I13,K13,M13,O13,Q13,S13,U13,W13,Y13,AA13,AC13,AE13,AG13,AI13,AK13) -> 0 | D13: =SUM(F13,H13,J13,L13,N13,P13,R13,T13,V13,X13,Z13,AB13,AD13,AF13,AH13,AJ13,AL13) -> 0 | AT13: =CA13&CB13&CC13&CD13 | CA13: =IF(AM13+AN13+AO13+AP13<>$B13,"* La suma de "&AM$10&""&" no puede ser distinto del Total Ambos Sexos. ","") | CB13: =IF(AND($B13<>0,AQ13=""),"* No olvide ingresar la variable Personas con discapacidad (con RND). Digite Cero si no tiene. ",IF(AQ13>$B13,"* La variable Personas con discapacidad (con RND) no puede superar el Total Ambos Sexos. ","")) | CC13: =IF(AND($B13<>0,AR13=""),"* No olvide ingresar la variable Pueblos Originarios. Digite CERO si no tiene. ",IF(AR13>$B13,"* La variable Pueblos Originarios no puede superar el Total Ambos Sexos. ","")) | CD13: =IF(AND($B13<>0,AS13=""),"* No olvide ingresar la variable Migrantes. Digite CERO si no tiene. ",IF(AS13>$B13,"* La variable Migrantes no puede superar el Total Ambos Sexos. ","")) | CM13: =IF(AM13+AN13+AO13+AP13<>$B13,1,0) -> 0 | CN13: =IF(AND($B13<>0,AQ13=""),1,IF(AQ13>$B13,1,0)) -> 0 | CO13: =IF(AND($B13<>0,AR13=""),1,IF(AR13>$B13,1,0)) -> 0 | CP13: =IF(AND($B13<>0,AS13=""),1,IF(AS13>$B13,1,0)) -> 0
A14: Ingresos con plan de tratamiento integral (PTI) | B14: =SUM(C14:D14) -> 0 | C14: =SUM(E14,G14,I14,K14,M14,O14,Q14,S14,U14,W14,Y14,AA14,AC14,AE14,AG14,AI14,AK14) -> 0 | D14: =SUM(F14,H14,J14,L14,N14,P14,R14,T14,V14,X14,Z14,AB14,AD14,AF14,AH14,AJ14,AL14) -> 0 | AT14: =CA14&CB14&CC14&CD14 | CA14: =IF(AM14+AN14+AO14+AP14<>$B14,"* La suma de "&AM$10&""&" no puede ser distinto del Total Ambos Sexos. ","") | CB14: =IF(AND($B14<>0,AQ14=""),"* No olvide ingresar la variable Personas con discapacidad (con RND). Digite Cero si no tiene. ",IF(AQ14>$B14,"* La variable Personas con discapacidad (con RND) no puede superar el Total Ambos Sexos. ","")) | CC14: =IF(AND($B14<>0,AR14=""),"* No olvide ingresar la variable Pueblos Originarios. Digite CERO si no tiene. ",IF(AR14>$B14,"* La variable Pueblos Originarios no puede superar el Total Ambos Sexos. ","")) | CD14: =IF(AND($B14<>0,AS14=""),"* No olvide ingresar la variable Migrantes. Digite CERO si no tiene. ",IF(AS14>$B14,"* La variable Migrantes no puede superar el Total Ambos Sexos. ","")) | CM14: =IF(AM14+AN14+AO14+AP14<>$B14,1,0) -> 0 | CN14: =IF(AND($B14<>0,AQ14=""),1,IF(AQ14>$B14,1,0)) -> 0 | CO14: =IF(AND($B14<>0,AR14=""),1,IF(AR14>$B14,1,0)) -> 0 | CP14: =IF(AND($B14<>0,AS14=""),1,IF(AS14>$B14,1,0)) -> 0
A15: Ingresos con plan de tratamiento integral (PTI) con objetivos para el trabajo | B15: =SUM(C15:D15) -> 0 | C15: =SUM(E15,G15,I15,K15,M15,O15,Q15,S15,U15,W15,Y15,AA15,AC15,AE15,AG15,AI15,AK15) -> 0 | D15: =SUM(F15,H15,J15,L15,N15,P15,R15,T15,V15,X15,Z15,AB15,AD15,AF15,AH15,AJ15,AL15) -> 0 | AT15: =CA15&CB15&CC15&CD15 | CA15: =IF(AM15+AN15+AO15+AP15<>$B15,"* La suma de "&AM$10&""&" no puede ser distinto del Total Ambos Sexos. ","") | CB15: =IF(AND($B15<>0,AQ15=""),"* No olvide ingresar la variable Personas con discapacidad (con RND). Digite Cero si no tiene. ",IF(AQ15>$B15,"* La variable Personas con discapacidad (con RND) no puede superar el Total Ambos Sexos. ","")) | CC15: =IF(AND($B15<>0,AR15=""),"* No olvide ingresar la variable Pueblos Originarios. Digite CERO si no tiene. ",IF(AR15>$B15,"* La variable Pueblos Originarios no puede superar el Total Ambos Sexos. ","")) | CD15: =IF(AND($B15<>0,AS15=""),"* No olvide ingresar la variable Migrantes. Digite CERO si no tiene. ",IF(AS15>$B15,"* La variable Migrantes no puede superar el Total Ambos Sexos. ","")) | CM15: =IF(AM15+AN15+AO15+AP15<>$B15,1,0) -> 0 | CN15: =IF(AND($B15<>0,AQ15=""),1,IF(AQ15>$B15,1,0)) -> 0 | CO15: =IF(AND($B15<>0,AR15=""),1,IF(AR15>$B15,1,0)) -> 0 | CP15: =IF(AND($B15<>0,AS15=""),1,IF(AS15>$B15,1,0)) -> 0
A16: Ingresos de usuarios con cuidador | B16: =SUM(C16:D16) -> 0 | C16: =SUM(E16,G16,I16,K16,M16,O16,Q16,S16,U16,W16,Y16,AA16,AC16,AE16,AG16,AI16,AK16) -> 0 | D16: =SUM(F16,H16,J16,L16,N16,P16,R16,T16,V16,X16,Z16,AB16,AD16,AF16,AH16,AJ16,AL16) -> 0 | AT16: =CA16&CB16&CC16&CD16 | CA16: =IF(AM16+AN16+AO16+AP16<>$B16,"* La suma de "&AM$10&""&" no puede ser distinto del Total Ambos Sexos. ","") | CB16: =IF(AND($B16<>0,AQ16=""),"* No olvide ingresar la variable Personas con discapacidad (con RND). Digite Cero si no tiene. ",IF(AQ16>$B16,"* La variable Personas con discapacidad (con RND) no puede superar el Total Ambos Sexos. ","")) | CC16: =IF(AND($B16<>0,AR16=""),"* No olvide ingresar la variable Pueblos Originarios. Digite CERO si no tiene. ",IF(AR16>$B16,"* La variable Pueblos Originarios no puede superar el Total Ambos Sexos. ","")) | CD16: =IF(AND($B16<>0,AS16=""),"* No olvide ingresar la variable Migrantes. Digite CERO si no tiene. ",IF(AS16>$B16,"* La variable Migrantes no puede superar el Total Ambos Sexos. ","")) | CM16: =IF(AM16+AN16+AO16+AP16<>$B16,1,0) -> 0 | CN16: =IF(AND($B16<>0,AQ16=""),1,IF(AQ16>$B16,1,0)) -> 0 | CO16: =IF(AND($B16<>0,AR16=""),1,IF(AR16>$B16,1,0)) -> 0 | CP16: =IF(AND($B16<>0,AS16=""),1,IF(AS16>$B16,1,0)) -> 0
A17: Reingreso | B17: =SUM(C17:D17) -> 0 | C17: =SUM(E17,G17,I17,K17,M17,O17,Q17,S17,U17,W17,Y17,AA17,AC17,AE17,AG17,AI17,AK17) -> 0 | D17: =SUM(F17,H17,J17,L17,N17,P17,R17,T17,V17,X17,Z17,AB17,AD17,AF17,AH17,AJ17,AL17) -> 0 | AT17: =CA17&CB17&CC17&CD17 | CA17: =IF(AM17+AN17+AO17+AP17<>$B17,"* La suma de "&AM$10&""&" no puede ser distinto del Total Ambos Sexos. ","") | CB17: =IF(AND($B17<>0,AQ17=""),"* No olvide ingresar la variable Personas con discapacidad (con RND). Digite Cero si no tiene. ",IF(AQ17>$B17,"* La variable Personas con discapacidad (con RND) no puede superar el Total Ambos Sexos. ","")) | CC17: =IF(AND($B17<>0,AR17=""),"* No olvide ingresar la variable Pueblos Originarios. Digite CERO si no tiene. ",IF(AR17>$B17,"* La variable Pueblos Originarios no puede superar el Total Ambos Sexos. ","")) | CD17: =IF(AND($B17<>0,AS17=""),"* No olvide ingresar la variable Migrantes. Digite CERO si no tiene. ",IF(AS17>$B17,"* La variable Migrantes no puede superar el Total Ambos Sexos. ","")) | CM17: =IF(AM17+AN17+AO17+AP17<>$B17,1,0) -> 0 | CN17: =IF(AND($B17<>0,AQ17=""),1,IF(AQ17>$B17,1,0)) -> 0 | CO17: =IF(AND($B17<>0,AR17=""),1,IF(AR17>$B17,1,0)) -> 0 | CP17: =IF(AND($B17<>0,AS17=""),1,IF(AS17>$B17,1,0)) -> 0
A18: Ingresos con PTI cuidador | B18: =SUM(C18:D18) -> 0 | C18: =SUM(E18,G18,I18,K18,M18,O18,Q18,S18,U18,W18,Y18,AA18,AC18,AE18,AG18,AI18,AK18) -> 0 | D18: =SUM(F18,H18,J18,L18,N18,P18,R18,T18,V18,X18,Z18,AB18,AD18,AF18,AH18,AJ18,AL18) -> 0 | AT18: =CA18&CB18&CC18&CD18 | CA18: =IF(AM18+AN18+AO18+AP18<>$B18,"* La suma de "&AM$10&""&" no puede ser distinto del Total Ambos Sexos. ","") | CB18: =IF(AND($B18<>0,AQ18=""),"* No olvide ingresar la variable Personas con discapacidad (con RND). Digite Cero si no tiene. ",IF(AQ18>$B18,"* La variable Personas con discapacidad (con RND) no puede superar el Total Ambos Sexos. ","")) | CC18: =IF(AND($B18<>0,AR18=""),"* No olvide ingresar la variable Pueblos Originarios. Digite CERO si no tiene. ",IF(AR18>$B18,"* La variable Pueblos Originarios no puede superar el Total Ambos Sexos. ","")) | CD18: =IF(AND($B18<>0,AS18=""),"* No olvide ingresar la variable Migrantes. Digite CERO si no tiene. ",IF(AS18>$B18,"* La variable Migrantes no puede superar el Total Ambos Sexos. ","")) | CM18: =IF(AM18+AN18+AO18+AP18<>$B18,1,0) -> 0 | CN18: =IF(AND($B18<>0,AQ18=""),1,IF(AQ18>$B18,1,0)) -> 0 | CO18: =IF(AND($B18<>0,AR18=""),1,IF(AR18>$B18,1,0)) -> 0 | CP18: =IF(AND($B18<>0,AS18=""),1,IF(AS18>$B18,1,0)) -> 0
A19: Egresos | B19: =SUM(C19:D19) -> 0 | C19: =SUM(E19,G19,I19,K19,M19,O19,Q19,S19,U19,W19,Y19,AA19,AC19,AE19,AG19,AI19,AK19) -> 0 | D19: =SUM(F19,H19,J19,L19,N19,P19,R19,T19,V19,X19,Z19,AB19,AD19,AF19,AH19,AJ19,AL19) -> 0 | E19: =SUM(E20:E24) -> 0 | F19: =SUM(F20:F24) -> 0 | G19: =SUM(G20:G24) -> 0 | H19: =SUM(H20:H24) -> 0 | I19: =SUM(I20:I24) -> 0 | J19: =SUM(J20:J24) -> 0 | K19: =SUM(K20:K24) -> 0 | L19: =SUM(L20:L24) -> 0 | ... AS19: =SUM(AS20:AS24) -> 0
A20: Egresos por alta | B20: =SUM(C20:D20) -> 0 | C20: =SUM(E20,G20,I20,K20,M20,O20,Q20,S20,U20,W20,Y20,AA20,AC20,AE20,AG20,AI20,AK20) -> 0 | D20: =SUM(F20,H20,J20,L20,N20,P20,R20,T20,V20,X20,Z20,AB20,AD20,AF20,AH20,AJ20,AL20) -> 0 | AT20: =CA20&CB20&CC20&CD20 | CA20: =IF(AM20+AN20+AO20+AP20<>$B20,"* La suma de "&AM$10&""&" no puede ser distinto del Total Ambos Sexos. ","") | CB20: =IF(AND($B20<>0,AQ20=""),"* No olvide ingresar la variable Personas con discapacidad (con RND). Digite Cero si no tiene. ",IF(AQ20>$B20,"* La variable Personas con discapacidad (con RND) no puede superar el Total Ambos Sexos. ","")) | CC20: =IF(AND($B20<>0,AR20=""),"* No olvide ingresar la variable Pueblos Originarios. Digite CERO si no tiene. ",IF(AR20>$B20,"* La variable Pueblos Originarios no puede superar el Total Ambos Sexos. ","")) | CD20: =IF(AND($B20<>0,AS20=""),"* No olvide ingresar la variable Migrantes. Digite CERO si no tiene. ",IF(AS20>$B20,"* La variable Migrantes no puede superar el Total Ambos Sexos. ","")) | CM20: =IF(AM20+AN20+AO20+AP20<>$B20,1,0) -> 0 | CN20: =IF(AND($B20<>0,AQ20=""),1,IF(AQ20>$B20,1,0)) -> 0 | CO20: =IF(AND($B20<>0,AR20=""),1,IF(AR20>$B20,1,0)) -> 0 | CP20: =IF(AND($B20<>0,AS20=""),1,IF(AS20>$B20,1,0)) -> 0
A21: Egresos por abandono | B21: =SUM(C21:D21) -> 0 | C21: =SUM(E21,G21,I21,K21,M21,O21,Q21,S21,U21,W21,Y21,AA21,AC21,AE21,AG21,AI21,AK21) -> 0 | D21: =SUM(F21,H21,J21,L21,N21,P21,R21,T21,V21,X21,Z21,AB21,AD21,AF21,AH21,AJ21,AL21) -> 0 | AT21: =CA21&CB21&CC21&CD21 | CA21: =IF(AM21+AN21+AO21+AP21<>$B21,"* La suma de "&AM$10&""&" no puede ser distinto del Total Ambos Sexos. ","") | CB21: =IF(AND($B21<>0,AQ21=""),"* No olvide ingresar la variable Personas con discapacidad (con RND). Digite Cero si no tiene. ",IF(AQ21>$B21,"* La variable Personas con discapacidad (con RND) no puede superar el Total Ambos Sexos. ","")) | CC21: =IF(AND($B21<>0,AR21=""),"* No olvide ingresar la variable Pueblos Originarios. Digite CERO si no tiene. ",IF(AR21>$B21,"* La variable Pueblos Originarios no puede superar el Total Ambos Sexos. ","")) | CD21: =IF(AND($B21<>0,AS21=""),"* No olvide ingresar la variable Migrantes. Digite CERO si no tiene. ",IF(AS21>$B21,"* La variable Migrantes no puede superar el Total Ambos Sexos. ","")) | CM21: =IF(AM21+AN21+AO21+AP21<>$B21,1,0) -> 0 | CN21: =IF(AND($B21<>0,AQ21=""),1,IF(AQ21>$B21,1,0)) -> 0 | CO21: =IF(AND($B21<>0,AR21=""),1,IF(AR21>$B21,1,0)) -> 0 | CP21: =IF(AND($B21<>0,AS21=""),1,IF(AS21>$B21,1,0)) -> 0
A22: Egresos por fallecimiento | B22: =SUM(C22:D22) -> 0 | C22: =SUM(E22,G22,I22,K22,M22,O22,Q22,S22,U22,W22,Y22,AA22,AC22,AE22,AG22,AI22,AK22) -> 0 | D22: =SUM(F22,H22,J22,L22,N22,P22,R22,T22,V22,X22,Z22,AB22,AD22,AF22,AH22,AJ22,AL22) -> 0 | AT22: =CA22&CB22&CC22&CD22 | CA22: =IF(AM22+AN22+AO22+AP22<>$B22,"* La suma de "&AM$10&""&" no puede ser distinto del Total Ambos Sexos. ","") | CB22: =IF(AND($B22<>0,AQ22=""),"* No olvide ingresar la variable Personas con discapacidad (con RND). Digite Cero si no tiene. ",IF(AQ22>$B22,"* La variable Personas con discapacidad (con RND) no puede superar el Total Ambos Sexos. ","")) | CC22: =IF(AND($B22<>0,AR22=""),"* No olvide ingresar la variable Pueblos Originarios. Digite CERO si no tiene. ",IF(AR22>$B22,"* La variable Pueblos Originarios no puede superar el Total Ambos Sexos. ","")) | CD22: =IF(AND($B22<>0,AS22=""),"* No olvide ingresar la variable Migrantes. Digite CERO si no tiene. ",IF(AS22>$B22,"* La variable Migrantes no puede superar el Total Ambos Sexos. ","")) | CM22: =IF(AM22+AN22+AO22+AP22<>$B22,1,0) -> 0 | CN22: =IF(AND($B22<>0,AQ22=""),1,IF(AQ22>$B22,1,0)) -> 0 | CO22: =IF(AND($B22<>0,AR22=""),1,IF(AR22>$B22,1,0)) -> 0 | CP22: =IF(AND($B22<>0,AS22=""),1,IF(AS22>$B22,1,0)) -> 0
A23: Egresos por otras causas | B23: =SUM(C23:D23) -> 0 | C23: =SUM(E23,G23,I23,K23,M23,O23,Q23,S23,U23,W23,Y23,AA23,AC23,AE23,AG23,AI23,AK23) -> 0 | D23: =SUM(F23,H23,J23,L23,N23,P23,R23,T23,V23,X23,Z23,AB23,AD23,AF23,AH23,AJ23,AL23) -> 0 | AT23: =CA23&CB23&CC23&CD23 | CA23: =IF(AM23+AN23+AO23+AP23<>$B23,"* La suma de "&AM$10&""&" no puede ser distinto del Total Ambos Sexos. ","") | CB23: =IF(AND($B23<>0,AQ23=""),"* No olvide ingresar la variable Personas con discapacidad (con RND). Digite Cero si no tiene. ",IF(AQ23>$B23,"* La variable Personas con discapacidad (con RND) no puede superar el Total Ambos Sexos. ","")) | CC23: =IF(AND($B23<>0,AR23=""),"* No olvide ingresar la variable Pueblos Originarios. Digite CERO si no tiene. ",IF(AR23>$B23,"* La variable Pueblos Originarios no puede superar el Total Ambos Sexos. ","")) | CD23: =IF(AND($B23<>0,AS23=""),"* No olvide ingresar la variable Migrantes. Digite CERO si no tiene. ",IF(AS23>$B23,"* La variable Migrantes no puede superar el Total Ambos Sexos. ","")) | CM23: =IF(AM23+AN23+AO23+AP23<>$B23,1,0) -> 0 | CN23: =IF(AND($B23<>0,AQ23=""),1,IF(AQ23>$B23,1,0)) -> 0 | CO23: =IF(AND($B23<>0,AR23=""),1,IF(AR23>$B23,1,0)) -> 0 | CP23: =IF(AND($B23<>0,AS23=""),1,IF(AS23>$B23,1,0)) -> 0
A24: Egresos con PTI cuidador | B24: =SUM(C24:D24) -> 0 | C24: =SUM(E24,G24,I24,K24,M24,O24,Q24,S24,U24,W24,Y24,AA24,AC24,AE24,AG24,AI24,AK24) -> 0 | D24: =SUM(F24,H24,J24,L24,N24,P24,R24,T24,V24,X24,Z24,AB24,AD24,AF24,AH24,AJ24,AL24) -> 0 | AT24: =CA24&CB24&CC24&CD24 | CA24: =IF(AM24+AN24+AO24+AP24<>$B24,"* La suma de "&AM$10&""&" no puede ser distinto del Total Ambos Sexos. ","") | CB24: =IF(AND($B24<>0,AQ24=""),"* No olvide ingresar la variable Personas con discapacidad (con RND). Digite Cero si no tiene. ",IF(AQ24>$B24,"* La variable Personas con discapacidad (con RND) no puede superar el Total Ambos Sexos. ","")) | CC24: =IF(AND($B24<>0,AR24=""),"* No olvide ingresar la variable Pueblos Originarios. Digite CERO si no tiene. ",IF(AR24>$B24,"* La variable Pueblos Originarios no puede superar el Total Ambos Sexos. ","")) | CD24: =IF(AND($B24<>0,AS24=""),"* No olvide ingresar la variable Migrantes. Digite CERO si no tiene. ",IF(AS24>$B24,"* La variable Migrantes no puede superar el Total Ambos Sexos. ","")) | CM24: =IF(AM24+AN24+AO24+AP24<>$B24,1,0) -> 0 | CN24: =IF(AND($B24<>0,AQ24=""),1,IF(AQ24>$B24,1,0)) -> 0 | CO24: =IF(AND($B24<>0,AR24=""),1,IF(AR24>$B24,1,0)) -> 0 | CP24: =IF(AND($B24<>0,AS24=""),1,IF(AS24>$B24,1,0)) -> 0
A25: SECCIÓN A.2: INGRESOS POR CONDICIÓN DE SALUD
A26: CONDICIÓN DE SALUD | B26: TOTAL | E26: RANGO ETARIO Y SEXO | AM26: TIPO DE ESTRATEGIA
E27: 0 a 4 años | G27: 5 a 9 años | I27: 10 - 14 | K27: 15 - 19 | M27: 20 - 24 | O27: 25-29 | Q27: 30-34 | S27: 35 - 39 | U27: 40 - 44 | W27: 45- 49 | Y27: 50 - 54 | AA27: 55 - 59 | AC27: 60 - 64 | AE27: 65 - 69 | AG27: 70 - 74 | AI27: 75 - 79 | AK27: 80 y más años | AM27: Rehabilitación NNA | AN27: Rehabilitación Integral APS | AO27: Otros Rehabilitación | AP27: Rehabilitación móvil (rural)
B28: Ambos Sexos | C28: Hombres | D28: Mujeres | E28: Hombres | F28: Mujeres | G28: Hombres | H28: Mujeres | I28: Hombres | J28: Mujeres | K28: Hombres | L28: Mujeres | M28: Hombres | N28: Mujeres | O28: Hombres | P28: Mujeres | Q28: Hombres | R28: Mujeres | S28: Hombres | T28: Mujeres | U28: Hombres | V28: Mujeres | W28: Hombres | X28: Mujeres | Y28: Hombres | Z28: Mujeres | AA28: Hombres | AB28: Mujeres | AC28: Hombres | AD28: Mujeres | AE28: Hombres | AF28: Mujeres | AG28: Hombres | AH28: Mujeres | AI28: Hombres | AJ28: Mujeres | AK28: Hombres | AL28: Mujeres | CM28: =IF(B29<>SUM(B30:B50),1,0) -> 0
A29: Total ingreso (N° de personas) | B29: =SUM(C29:D29) -> 0 | C29: =+E29+G29+I29+K29+M29+O29+Q29+S29+U29+W29+Y29+AA29+AC29+AE29+AG29+AI29+AK29 -> 0 | D29: =+F29+H29+J29+L29+N29+P29+R29+T29+V29+X29+Z29+AB29+AD29+AF29+AH29+AJ29+AL29 -> 0 | AQ29: =CB29&CA29&CC29&CD29&CE29&CF29 | CA29: =IF(CM28=1,"* Existen Condiciones de Salud que son mayores al Total de Ingreso (N° Personas). ","") | CB29: =IF(CM29=1," * El total de Ingresos debe ser igual a la suma de los Tipos de Estrategia. ","") | CC29: =IF(CN29=1,"* Existen Condiciones de Salud en la variable Rehabilitación NNA que son Mayores a los Ingreso (N° Personas). ","") | CD29: =IF(CO29=1,"* Existen Condiciones de Salud en la variable Rehabilitación Integral APS que son Mayores a los Ingreso (N° Personas). ","") | CE29: =IF(CP29=1,"* Existen Condiciones de Salud en la variable Otros Rehabilitación que son Mayores a los Ingreso (N° Personas). ","") | CF29: =IF(CQ29=1,"* Existen Condiciones de Salud en la variable Rehabilitación móvil (rural) que son Mayores a los Ingreso (N° Personas). ","") | CM29: =IF(SUM(AM29:AP29)=B29,0,1) -> 0 | CN29: =IF($AM29<MAX($AM30:$AM50),1,0) -> 0 | CO29: =IF(AN29<MAX(AN30:AN50),1,0) -> 0 | CP29: =IF(AO29<MAX(AO30:AO50),1,0) -> 0 | CQ29: =IF(AP29<MAX(AP30:AP50),1,0) -> 0
A30: Dolor cervical agudo | B30: =SUM(C30:D30) -> 0 | C30: =+E30+G30+I30+K30+M30+O30+Q30+S30+U30+W30+Y30+AA30+AC30+AE30+AG30+AI30+AK30 -> 0 | D30: =+F30+H30+J30+L30+N30+P30+R30+T30+V30+X30+Z30+AB30+AD30+AF30+AH30+AJ30+AL30 -> 0 | AQ30: =CA30&CB30&CC30&CD30&CE30&CF30 | CB30: =IF(CM30=1," * El total de Ingresos debe ser igual a la suma de los Tipos de Estrategia. ","") | CM30: =IF(SUM(AM30:AP30)=B30,0,1) -> 0
A31: Dolor lumbar agudo | B31: =SUM(C31:D31) -> 0 | C31: =+E31+G31+I31+K31+M31+O31+Q31+S31+U31+W31+Y31+AA31+AC31+AE31+AG31+AI31+AK31 -> 0 | D31: =+F31+H31+J31+L31+N31+P31+R31+T31+V31+X31+Z31+AB31+AD31+AF31+AH31+AJ31+AL31 -> 0 | AQ31: =CA31&CB31 | CB31: =IF(CM31=1," * El total de Ingresos debe ser igual a la suma de los Tipos de Estrategia. ","") | CM31: =IF(SUM(AM31:AP31)=B31,0,1) -> 0
A32: Hombro doloroso agudo | B32: =SUM(C32:D32) -> 0 | C32: =+E32+G32+I32+K32+M32+O32+Q32+S32+U32+W32+Y32+AA32+AC32+AE32+AG32+AI32+AK32 -> 0 | D32: =+F32+H32+J32+L32+N32+P32+R32+T32+V32+X32+Z32+AB32+AD32+AF32+AH32+AJ32+AL32 -> 0 | AQ32: =CA32&CB32 | CB32: =IF(CM32=1," * El total de Ingresos debe ser igual a la suma de los Tipos de Estrategia. ","") | CM32: =IF(SUM(AM32:AP32)=B32,0,1) -> 0
A33: Otro dolor musculoesquelético agudo | B33: =SUM(C33:D33) -> 0 | C33: =+E33+G33+I33+K33+M33+O33+Q33+S33+U33+W33+Y33+AA33+AC33+AE33+AG33+AI33+AK33 -> 0 | D33: =+F33+H33+J33+L33+N33+P33+R33+T33+V33+X33+Z33+AB33+AD33+AF33+AH33+AJ33+AL33 -> 0 | AQ33: =CA33&CB33 | CB33: =IF(CM33=1," * El total de Ingresos debe ser igual a la suma de los Tipos de Estrategia. ","") | CM33: =IF(SUM(AM33:AP33)=B33,0,1) -> 0
A34: Artrosis de rodilla y cadera | B34: =SUM(C34:D34) -> 0 | C34: =+E34+G34+I34+K34+M34+O34+Q34+S34+U34+W34+Y34+AA34+AC34+AE34+AG34+AI34+AK34 -> 0 | D34: =+F34+H34+J34+L34+N34+P34+R34+T34+V34+X34+Z34+AB34+AD34+AF34+AH34+AJ34+AL34 -> 0 | AQ34: =CA34&CB34 | CB34: =IF(CM34=1," * El total de Ingresos debe ser igual a la suma de los Tipos de Estrategia. ","") | CM34: =IF(SUM(AM34:AP34)=B34,0,1) -> 0
A35: Artritis reumatoidea | B35: =SUM(C35:D35) -> 0 | C35: =+E35+G35+I35+K35+M35+O35+Q35+S35+U35+W35+Y35+AA35+AC35+AE35+AG35+AI35+AK35 -> 0 | D35: =+F35+H35+J35+L35+N35+P35+R35+T35+V35+X35+Z35+AB35+AD35+AF35+AH35+AJ35+AL35 -> 0 | AQ35: =CA35&CB35 | CB35: =IF(CM35=1," * El total de Ingresos debe ser igual a la suma de los Tipos de Estrategia. ","") | CM35: =IF(SUM(AM35:AP35)=B35,0,1) -> 0
A36: Otro dolor musculoesquelético crónico | B36: =SUM(C36:D36) -> 0 | C36: =+E36+G36+I36+K36+M36+O36+Q36+S36+U36+W36+Y36+AA36+AC36+AE36+AG36+AI36+AK36 -> 0 | D36: =+F36+H36+J36+L36+N36+P36+R36+T36+V36+X36+Z36+AB36+AD36+AF36+AH36+AJ36+AL36 -> 0 | AQ36: =CA36&CB36 | CB36: =IF(CM36=1," * El total de Ingresos debe ser igual a la suma de los Tipos de Estrategia. ","") | CM36: =IF(SUM(AM36:AP36)=B36,0,1) -> 0
A37: Ataque cerebro vascular (ACV) | B37: =SUM(C37:D37) -> 0 | C37: =+E37+G37+I37+K37+M37+O37+Q37+S37+U37+W37+Y37+AA37+AC37+AE37+AG37+AI37+AK37 -> 0 | D37: =+F37+H37+J37+L37+N37+P37+R37+T37+V37+X37+Z37+AB37+AD37+AF37+AH37+AJ37+AL37 -> 0 | AQ37: =CA37&CB37 | CB37: =IF(CM37=1," * El total de Ingresos debe ser igual a la suma de los Tipos de Estrategia. ","") | CM37: =IF(SUM(AM37:AP37)=B37,0,1) -> 0
A38: Traumatismo encéfalo craneano (TEC) | B38: =SUM(C38:D38) -> 0 | C38: =+E38+G38+I38+K38+M38+O38+Q38+S38+U38+W38+Y38+AA38+AC38+AE38+AG38+AI38+AK38 -> 0 | D38: =+F38+H38+J38+L38+N38+P38+R38+T38+V38+X38+Z38+AB38+AD38+AF38+AH38+AJ38+AL38 -> 0 | AQ38: =CA38&CB38 | CB38: =IF(CM38=1," * El total de Ingresos debe ser igual a la suma de los Tipos de Estrategia. ","") | CM38: =IF(SUM(AM38:AP38)=B38,0,1) -> 0
A39: Lesión medular | B39: =SUM(C39:D39) -> 0 | C39: =+E39+G39+I39+K39+M39+O39+Q39+S39+U39+W39+Y39+AA39+AC39+AE39+AG39+AI39+AK39 -> 0 | D39: =+F39+H39+J39+L39+N39+P39+R39+T39+V39+X39+Z39+AB39+AD39+AF39+AH39+AJ39+AL39 -> 0 | AQ39: =CA39&CB39 | CB39: =IF(CM39=1," * El total de Ingresos debe ser igual a la suma de los Tipos de Estrategia. ","") | CM39: =IF(SUM(AM39:AP39)=B39,0,1) -> 0
A40: Enfermedad de Parkinson | B40: =SUM(C40:D40) -> 0 | C40: =+E40+G40+I40+K40+M40+O40+Q40+S40+U40+W40+Y40+AA40+AC40+AE40+AG40+AI40+AK40 -> 0 | D40: =+F40+H40+J40+L40+N40+P40+R40+T40+V40+X40+Z40+AB40+AD40+AF40+AH40+AJ40+AL40 -> 0 | AQ40: =CA40&CB40 | CB40: =IF(CM40=1," * El total de Ingresos debe ser igual a la suma de los Tipos de Estrategia. ","") | CM40: =IF(SUM(AM40:AP40)=B40,0,1) -> 0
A41: Enfermedades neuromusculares | B41: =SUM(C41:D41) -> 0 | C41: =+E41+G41+I41+K41+M41+O41+Q41+S41+U41+W41+Y41+AA41+AC41+AE41+AG41+AI41+AK41 -> 0 | D41: =+F41+H41+J41+L41+N41+P41+R41+T41+V41+X41+Z41+AB41+AD41+AF41+AH41+AJ41+AL41 -> 0 | AQ41: =CA41&CB41 | CB41: =IF(CM41=1," * El total de Ingresos debe ser igual a la suma de los Tipos de Estrategia. ","") | CM41: =IF(SUM(AM41:AP41)=B41,0,1) -> 0
A42: Alteraciones en el desarrollo psicomotor | B42: =SUM(C42:D42) -> 0 | C42: =+E42+G42+I42+K42+M42+O42+Q42+S42+U42+W42+Y42+AA42+AC42+AE42+AG42+AI42+AK42 -> 0 | D42: =+F42+H42+J42+L42+N42+P42+R42+T42+V42+X42+Z42+AB42+AD42+AF42+AH42+AJ42+AL42 -> 0 | AQ42: =CA42&CB42 | CB42: =IF(CM42=1," * El total de Ingresos debe ser igual a la suma de los Tipos de Estrategia. ","") | CM42: =IF(SUM(AM42:AP42)=B42,0,1) -> 0
... A48: Quemados | B48: =SUM(C48:D48) -> 0 | C48: =+E48+G48+I48+K48+M48+O48+Q48+S48+U48+W48+Y48+AA48+AC48+AE48+AG48+AI48+AK48 -> 0 | D48: =+F48+H48+J48+L48+N48+P48+R48+T48+V48+X48+Z48+AB48+AD48+AF48+AH48+AJ48+AL48 -> 0 | AQ48: =CA48&CB48 | CB48: =IF(CM48=1," * El total de Ingresos debe ser igual a la suma de los Tipos de Estrategia. ","") | CM48: =IF(SUM(AM48:AP48)=B48,0,1) -> 0
A49: COVID-19 | B49: =SUM(C49:D49) -> 0 | C49: =+E49+G49+I49+K49+M49+O49+Q49+S49+U49+W49+Y49+AA49+AC49+AE49+AG49+AI49+AK49 -> 0 | D49: =+F49+H49+J49+L49+N49+P49+R49+T49+V49+X49+Z49+AB49+AD49+AF49+AH49+AJ49+AL49 -> 0 | AQ49: =CB49 | CB49: =IF(CM49=1," * El total de Ingresos debe ser igual a la suma de los Tipos de Estrategia. ","") | CM49: =IF(SUM(AM49:AP49)=B49,0,1) -> 0
A50: Otros | B50: =SUM(C50:D50) -> 0 | C50: =+E50+G50+I50+K50+M50+O50+Q50+S50+U50+W50+Y50+AA50+AC50+AE50+AG50+AI50+AK50 -> 0 | D50: =+F50+H50+J50+L50+N50+P50+R50+T50+V50+X50+Z50+AB50+AD50+AF50+AH50+AJ50+AL50 -> 0 | AQ50: =CB50 | CB50: =IF(CM50=1," * El total de Ingresos debe ser igual a la suma de los Tipos de Estrategia. ","") | CM50: =IF(SUM(AM50:AP50)=B50,0,1) -> 0
A51: Alteraciones visuales | B51: =SUM(C51:D51) -> 0 | C51: =+E51+G51+I51+K51+M51+O51+Q51+S51+U51+W51+Y51+AA51+AC51+AE51+AG51+AI51+AK51 -> 0 | D51: =+F51+H51+J51+L51+N51+P51+R51+T51+V51+X51+Z51+AB51+AD51+AF51+AH51+AJ51+AL51 -> 0 | AQ51: =CB51 | CB51: =IF(CM51=1," * El total de Ingresos debe ser igual a la suma de los Tipos de Estrategia. ","") | CM51: =IF(SUM(AM51:AP51)=B51,0,1) -> 0
A52: Alteraciones auditivas | B52: =SUM(C52:D52) -> 0 | C52: =+E52+G52+I52+K52+M52+O52+Q52+S52+U52+W52+Y52+AA52+AC52+AE52+AG52+AI52+AK52 -> 0 | D52: =+F52+H52+J52+L52+N52+P52+R52+T52+V52+X52+Z52+AB52+AD52+AF52+AH52+AJ52+AL52 -> 0 | AQ52: =CA52&CB52 | CB52: =IF(CM52=1," * El total de Ingresos debe ser igual a la suma de los Tipos de Estrategia. ","") | CM52: =IF(SUM(AM52:AP52)=B52,0,1) -> 0
A53: SECCIÓN A.3: EVALUACIÓN INICIAL
A54: PROFESIONAL | B54: TOTAL | C54: TIPO DE ESTRATEGIA | G54: MODALIDAD DE REHABILITACIÓN
C55: Rehabilitación NNA | D55: Rehabilitación Integral APS | E55: Otros Rehabilitación | F55: Rehabilitación móvil (rural) | G55: Presencial (Establecimiento) | H55: Domiciliaria
A56: Médico/a | B56: =SUM(C56:F56) -> 0 | I56: =CA56&CB56&CC56 | CA56: =IF(AND($B56>0,$G56="")," * No olvide digitar la variable "&$G$54&""&" Presencial (Establecimiento). Digite CERO si no tiene.","") | CB56: =IF(AND($B56>0,$H56="")," * No olvide digitar la variable "&$G$54&""&" Domiciliaria. Digite CERO si no tiene.","") | CC56: =IF(AND($G56+$H56>$B56)," * La variable "&$G$54&""&" No puede ser mayor al Total.","") | CM56: =IF(AND($B56>0,$G56=""),1,0) -> 0 | CN56: =IF(AND($B56>0,$H56=""),1,0) -> 0 | CO56: =IF(AND($G56+$H56>$B56),1,0) -> 0
A57: Kinesiólogo/a | B57: =SUM(C57:F57) -> 0 | I57: =CA57&CB57&CC57 | CA57: =IF(AND($B57>0,$G57="")," * No olvide digitar la variable "&$G$54&""&" Presencial (Establecimiento). Digite CERO si no tiene.","") | CB57: =IF(AND($B57>0,$H57="")," * No olvide digitar la variable "&$G$54&""&" Domiciliaria. Digite CERO si no tiene.","") | CC57: =IF(AND($G57+$H57>$B57)," * La variable "&$G$54&""&" No puede ser mayor al Total.","") | CM57: =IF(AND($B57>0,$G57=""),1,0) -> 0 | CN57: =IF(AND($B57>0,$H57=""),1,0) -> 0 | CO57: =IF(AND($G57+$H57>$B57),1,0) -> 0
A58: Terpeuta Ocupacional | B58: =SUM(C58:F58) -> 0 | I58: =CA58&CB58&CC58 | CA58: =IF(AND($B58>0,$G58="")," * No olvide digitar la variable "&$G$54&""&" Presencial (Establecimiento). Digite CERO si no tiene.","") | CB58: =IF(AND($B58>0,$H58="")," * No olvide digitar la variable "&$G$54&""&" Domiciliaria. Digite CERO si no tiene.","") | CC58: =IF(AND($G58+$H58>$B58)," * La variable "&$G$54&""&" No puede ser mayor al Total.","") | CM58: =IF(AND($B58>0,$G58=""),1,0) -> 0 | CN58: =IF(AND($B58>0,$H58=""),1,0) -> 0 | CO58: =IF(AND($G58+$H58>$B58),1,0) -> 0
A59: Fonoaudiólogo/a | B59: =SUM(C59:F59) -> 0 | I59: =CA59&CB59&CC59 | CA59: =IF(AND($B59>0,$G59="")," * No olvide digitar la variable "&$G$54&""&" Presencial (Establecimiento). Digite CERO si no tiene.","") | CB59: =IF(AND($B59>0,$H59="")," * No olvide digitar la variable "&$G$54&""&" Domiciliaria. Digite CERO si no tiene.","") | CC59: =IF(AND($G59+$H59>$B59)," * La variable "&$G$54&""&" No puede ser mayor al Total.","") | CM59: =IF(AND($B59>0,$G59=""),1,0) -> 0 | CN59: =IF(AND($B59>0,$H59=""),1,0) -> 0 | CO59: =IF(AND($G59+$H59>$B59),1,0) -> 0
A60: Psicólogo/a | B60: =SUM(C60:F60) -> 0 | I60: =CA60&CB60&CC60 | CA60: =IF(AND($B60>0,$G60="")," * No olvide digitar la variable "&$G$54&""&" Presencial (Establecimiento). Digite CERO si no tiene.","") | CB60: =IF(AND($B60>0,$H60="")," * No olvide digitar la variable "&$G$54&""&" Domiciliaria. Digite CERO si no tiene.","") | CC60: =IF(AND($G60+$H60>$B60)," * La variable "&$G$54&""&" No puede ser mayor al Total.","") | CM60: =IF(AND($B60>0,$G60=""),1,0) -> 0 | CN60: =IF(AND($B60>0,$H60=""),1,0) -> 0 | CO60: =IF(AND($G60+$H60>$B60),1,0) -> 0
A61: TOTAL | B61: =SUM(B56:B60) -> 0 | C61: =SUM(C56:C60) -> 0 | D61: =SUM(D56:D60) -> 0 | E61: =SUM(E56:E60) -> 0 | F61: =SUM(F56:F60) -> 0 | G61: =SUM(G56:G60) -> 0 | H61: =SUM(H56:H60) -> 0
A62: SECCIÓN A.4: EVALUACIÓN INTERMEDIA
A63: PROFESIONAL | B63: TOTAL | C63: RANGO ETARIO | T63: TIPO DE ESTRATEGIA | X63: MODALIDAD DE REHABILITACIÓN
C64: 0 a 4 años | D64: 5 a 9 años | E64: 10 - 14 | F64: 15 - 19 | G64: 20 - 24 | H64: 25-29 | I64: 30-34 | J64: 35 - 39 | K64: 40 - 44 | L64: 45- 49 | M64: 50 - 54 | N64: 55 - 59 | O64: 60 - 64 | P64: 65 - 69 | Q64: 70 - 74 | R64: 75 - 79 | S64: 80 y más años | T64: Rehabilitación NNA | U64: Rehabilitación Integral APS | V64: Otros Rehabilitación | W64: Rehabilitación móvil (rural) | X64: Presencial (Establecimiento) | Y64: A distancia | Z64: Domiciliaria
A65: Kinesiólogo/a | B65: =SUM(C65:S65) -> 0 | AA65: =CA65&CB65 | CA65: =IF(T65+U65+V65+W65<>$B65,"* La suma de "&T$63&""&" no debe ser distinto del Total. ","") | CB65: =IF(X65+Y65+Z65>$B65,"* La suma de "&X$63&""&" no puede superar el Total. ","") | CM65: =IF(T65+U65+V65+W65<>$B65,1,0) -> 0 | CN65: =IF(X65+Y65+Z65>$B65,1,0) -> 0
A66: Terpeuta Ocupacional | B66: =SUM(C66:S66) -> 0 | AA66: =CA66&CB66 | CA66: =IF(T66+U66+V66+W66<>$B66,"* La suma de "&T$63&""&" no debe ser distinto del Total. ","") | CB66: =IF(X66+Y66+Z66>$B66,"* La suma de "&X$63&""&" no puede superar el Total. ","") | CM66: =IF(T66+U66+V66+W66<>$B66,1,0) -> 0 | CN66: =IF(X66+Y66+Z66>$B66,1,0) -> 0
A67: Fonoaudiólogo/a | B67: =SUM(C67:S67) -> 0 | AA67: =CA67&CB67 | CA67: =IF(T67+U67+V67+W67<>$B67,"* La suma de "&T$63&""&" no debe ser distinto del Total. ","") | CB67: =IF(X67+Y67+Z67>$B67,"* La suma de "&X$63&""&" no puede superar el Total. ","") | CM67: =IF(T67+U67+V67+W67<>$B67,1,0) -> 0 | CN67: =IF(X67+Y67+Z67>$B67,1,0) -> 0
A68: Psicólogo/a | B68: =SUM(C68:S68) -> 0 | AA68: =CA68&CB68 | CA68: =IF(T68+U68+V68+W68<>$B68,"* La suma de "&T$63&""&" no debe ser distinto del Total. ","") | CB68: =IF(X68+Y68+Z68>$B68,"* La suma de "&X$63&""&" no puede superar el Total. ","") | CM68: =IF(T68+U68+V68+W68<>$B68,1,0) -> 0 | CN68: =IF(X68+Y68+Z68>$B68,1,0) -> 0
A69: TOTAL | B69: =SUM(B65:B68) -> 0 | C69: =SUM(C65:C68) -> 0 | D69: =SUM(D65:D68) -> 0 | E69: =SUM(E65:E68) -> 0 | F69: =SUM(F65:F68) -> 0 | G69: =SUM(G65:G68) -> 0 | H69: =SUM(H65:H68) -> 0 | I69: =SUM(I65:I68) -> 0 | ... Z69: =SUM(Z65:Z68) -> 0
A70: SECCIÓN A.5: SESIONES DE REHABILITACIÓN
A71: PROFESIONAL | B71: TOTAL | C71: RANGO ETARIO | T71: TIPO DE ESTRATEGIA | X71: MODALIDAD DE REHABILITACIÓN
C72: 0 a 4 años | D72: 5 a 9 años | E72: 10 - 14 | F72: 15 - 19 | G72: 20 - 24 | H72: 25-29 | I72: 30-34 | J72: 35 - 39 | K72: 40 - 44 | L72: 45- 49 | M72: 50 - 54 | N72: 55 - 59 | O72: 60 - 64 | P72: 65 - 69 | Q72: 70 - 74 | R72: 75 - 79 | S72: 80 y más años | T72: Rehabilitación NNA | U72: Rehabilitación Integral APS | V72: Otros Rehabilitación | W72: Rehabilitación móvil (rural) | X72: Presencial (Establecimiento) | Y72: A distancia | Z72: Domiciliaria
A73: Kinesiólogo/a | B73: =SUM(C73:S73) -> 0 | AA73: =CA73&CB73 | CA73: =IF(T73+U73+V73+W73<>$B73,"* La suma de "&T$71&""&" no debe ser distinto del Total. ","") | CB73: =IF(X73+Y73+Z73>$B73,"* La suma de "&X$71&""&" no puede superar el Total. ","") | CM73: =IF(T73+U73+V73+W73<>$B73,1,0) -> 0 | CN73: =IF(X73+Y73+Z73>$B73,1,0) -> 0
A74: Terpeuta Ocupacional | B74: =SUM(C74:S74) -> 0 | AA74: =CA74&CB74 | CA74: =IF(T74+U74+V74+W74<>$B74,"* La suma de "&T$71&""&" no debe ser distinto del Total. ","") | CB74: =IF(X74+Y74+Z74>$B74,"* La suma de "&X$71&""&" no puede superar el Total. ","") | CM74: =IF(T74+U74+V74+W74<>$B74,1,0) -> 0 | CN74: =IF(X74+Y74+Z74>$B74,1,0) -> 0
A75: Fonoaudiólogo/a | B75: =SUM(C75:S75) -> 0 | AA75: =CA75&CB75 | CA75: =IF(T75+U75+V75+W75<>$B75,"* La suma de "&T$71&""&" no debe ser distinto del Total. ","") | CB75: =IF(X75+Y75+Z75>$B75,"* La suma de "&X$71&""&" no puede superar el Total. ","") | CM75: =IF(T75+U75+V75+W75<>$B75,1,0) -> 0 | CN75: =IF(X75+Y75+Z75>$B75,1,0) -> 0
A76: Psicólogo/a | B76: =SUM(C76:S76) -> 0 | AA76: =CA76&CB76 | CA76: =IF(T76+U76+V76+W76<>$B76,"* La suma de "&T$71&""&" no debe ser distinto del Total. ","") | CB76: =IF(X76+Y76+Z76>$B76,"* La suma de "&X$71&""&" no puede superar el Total. ","") | CM76: =IF(T76+U76+V76+W76<>$B76,1,0) -> 0 | CN76: =IF(X76+Y76+Z76>$B76,1,0) -> 0
A77: TOTAL | B77: =SUM(B73:B76) -> 0 | C77: =SUM(C73:C76) -> 0 | D77: =SUM(D73:D76) -> 0 | E77: =SUM(E73:E76) -> 0 | F77: =SUM(F73:F76) -> 0 | G77: =SUM(G73:G76) -> 0 | H77: =SUM(H73:H76) -> 0 | I77: =SUM(I73:I76) -> 0 | ... Z77: =SUM(Z73:Z76) -> 0
A78: SECCIÓN A.6: PROCEDIMIENTOS Y ACTIVIDADES
A79: TIPO | B79: Rehabilitación NNA | C79: Rehabilitación Integral APS | D79: Otros Rehabilitación | E79: Rehabilitación móvil (rural)
A80: Fisioterapia
A81: Actividad Física
A82: Ejercicios Terapéuticos
A83: Intervenciones en actividades de la vida diaria, básicas, instrumentadas y avanzadas
A84: Habilitación y Rehabilitación Educacional
A85: Actividades Terapéuticas
A86: Itegración Sensorial
A87: Adaptación del Hogar
A88: Confecciones Ortesis y/o Adaptaciones
A89: Reparación de Ortesis y/o Adaptaciones
A90: Habilitación y Rehabilitación Socio-Laboral
A91: Estimulación Cognitiva
... A96: Atención Psicoterapéutica
A97: TOTAL | B97: =SUM(B80:B96) -> 0 | C97: =SUM(C80:C96) -> 0 | D97: =SUM(D80:D96) -> 0 | E97: =SUM(E80:E96) -> 0
A98: SECCIÓN A.7: CONSEJERÍA INDIVIDUAL AGENDADA
A99: PROFESIONAL | B99: Rehabilitación NNA | C99: Rehabilitación Integral APS | D99: Otros Rehabilitación | E99: Rehabilitación móvil (rural)
A100: Kinesiólogo/a
A101: Terapeuta Ocupacional
A102: Fonoaudiólogo/a
A103: Psicólogo/a
A104: Trabajador/a social
A105: TOTAL | B105: =SUM(B100:B104) -> 0 | C105: =SUM(C100:C104) -> 0 | D105: =SUM(D100:D104) -> 0 | E105: =SUM(E100:E104) -> 0
A106: SECCIÓN A.8: CONSEJERÍA FAMILIAR AGENDADA
A107: PROFESIONAL | B107: Rehabilitación NNA | C107: Rehabilitación Integral APS | D107: Otros Rehabilitación | E107: Rehabilitación móvil (rural)
A108: Kinesiólogo/a
A109: Terapeuta Ocupacional
A110: Fonoaudiólogo/a
...

Sheet ABRIL
A1: SERVICIO DE SALUD
A2: =CONCATENATE("COMUNA: ",[5]NOMBRE!B2, " (",[5]NOMBRE!C2,[5]NOMBRE!D2,[5]NOMBRE!E2,[5]NOMBRE!F2,[5]NOMBRE!G2,")") -> COMUNA: LINARES (07401)
A3: =CONCATENATE("ESTABLECIMIENTO/ESTRATEGIA: ", [5]NOMBRE!B3, " (",[5]NOMBRE!C3,[5]NOMBRE!D3,[5]NOMBRE!E3,[5]NOMBRE!F3,[5]NOMBRE!G3,[5]NOMBRE!H3,")") -> ESTABLECIMIENTO/ESTRATEGIA: HOSPITAL PRESIDENTE CARLOS IBAÑEZ DEL CAMPO (116108)
A4: =CONCATENATE("MES: ",[5]NOMBRE!B6, " (",[5]NOMBRE!C6,[5]NOMBRE!D6,")") -> MES: ABRIL (04)
A5: =CONCATENATE("AÑO: ",[5]NOMBRE!B7) -> AÑO: 2025
A6: REM-28. REHABILITACIÓN INTEGRAL
A8: SECCIÓN A: ATENCIONES DE REHABILITACIÓN NIVEL PRIMARIO
A9: SECCIÓN A.1: INGRESOS Y EGRESOS A ATENCIONES DE REHABILITACIÓN EN EL NIVEL PRIMARIO
A10: TIPO DE INGRESO | B10: TOTAL | E10: RANGO ETARIO Y SEXO | AM10: TIPO DE ESTRATEGIA | AQ10: Personas con discapacidad (con RND) | AR10: Pueblos Originarios | AS10: Migrantes
E11: 0 - 4 años | G11: 5 - 9 años | I11: 10 - 14 años | K11: 15 - 19 años | M11: 20 - 24 años | O11: 25-29 años | Q11: 30-34 años | S11: 35 - 39 años | U11: 40 - 44 años | W11: 45- 49 años | Y11: 50 - 54 años | AA11: 55 - 59 años | AC11: 60 - 64 años | AE11: 65 - 69 años | AG11: 70 - 74 años | AI11: 75 - 79 años | AK11: 80 y más años | AM11: Rehabilitación NNA | AN11: Rehabilitación Integral APS | AO11: Otros Rehabilitación | AP11: Rehabilitación móvil (rural)
B12: Ambos Sexos | C12: Hombres | D12: Mujeres | E12: Hombres | F12: Mujeres | G12: Hombres | H12: Mujeres | I12: Hombres | J12: Mujeres | K12: Hombres | L12: Mujeres | M12: Hombres | N12: Mujeres | O12: Hombres | P12: Mujeres | Q12: Hombres | R12: Mujeres | S12: Hombres | T12: Mujeres | U12: Hombres | V12: Mujeres | W12: Hombres | X12: Mujeres | Y12: Hombres | Z12: Mujeres | AA12: Hombres | AB12: Mujeres | AC12: Hombres | AD12: Mujeres | AE12: Hombres | AF12: Mujeres | AG12: Hombres | AH12: Mujeres | AI12: Hombres | AJ12: Mujeres | AK12: Hombres | AL12: Mujeres
A13: Ingresos | B13: =SUM(C13:D13) -> 0 | C13: =SUM(E13,G13,I13,K13,M13,O13,Q13,S13,U13,W13,Y13,AA13,AC13,AE13,AG13,AI13,AK13) -> 0 | D13: =SUM(F13,H13,J13,L13,N13,P13,R13,T13,V13,X13,Z13,AB13,AD13,AF13,AH13,AJ13,AL13) -> 0 | AT13: =CA13&CB13&CC13&CD13 | CA13: =IF(AM13+AN13+AO13+AP13<>$B13,"* La suma de "&AM$10&""&" no puede ser distinto del Total Ambos Sexos. ","") | CB13: =IF(AND($B13<>0,AQ13=""),"* No olvide ingresar la variable Personas con discapacidad (con RND). Digite Cero si no tiene. ",IF(AQ13>$B13,"* La variable Personas con discapacidad (con RND) no puede superar el Total Ambos Sexos. ","")) | CC13: =IF(AND($B13<>0,AR13=""),"* No olvide ingresar la variable Pueblos Originarios. Digite CERO si no tiene. ",IF(AR13>$B13,"* La variable Pueblos Originarios no puede superar el Total Ambos Sexos. ","")) | CD13: =IF(AND($B13<>0,AS13=""),"* No olvide ingresar la variable Migrantes. Digite CERO si no tiene. ",IF(AS13>$B13,"* La variable Migrantes no puede superar el Total Ambos Sexos. ","")) | CM13: =IF(AM13+AN13+AO13+AP13<>$B13,1,0) -> 0 | CN13: =IF(AND($B13<>0,AQ13=""),1,IF(AQ13>$B13,1,0)) -> 0 | CO13: =IF(AND($B13<>0,AR13=""),1,IF(AR13>$B13,1,0)) -> 0 | CP13: =IF(AND($B13<>0,AS13=""),1,IF(AS13>$B13,1,0)) -> 0
A14: Ingresos con plan de tratamiento integral (PTI) | B14: =SUM(C14:D14) -> 0 | C14: =SUM(E14,G14,I14,K14,M14,O14,Q14,S14,U14,W14,Y14,AA14,AC14,AE14,AG14,AI14,AK14) -> 0 | D14: =SUM(F14,H14,J14,L14,N14,P14,R14,T14,V14,X14,Z14,AB14,AD14,AF14,AH14,AJ14,AL14) -> 0 | AT14: =CA14&CB14&CC14&CD14 | CA14: =IF(AM14+AN14+AO14+AP14<>$B14,"* La suma de "&AM$10&""&" no puede ser distinto del Total Ambos Sexos. ","") | CB14: =IF(AND($B14<>0,AQ14=""),"* No olvide ingresar la variable Personas con discapacidad (con RND). Digite Cero si no tiene. ",IF(AQ14>$B14,"* La variable Personas con discapacidad (con RND) no puede superar el Total Ambos Sexos. ","")) | CC14: =IF(AND($B14<>0,AR14=""),"* No olvide ingresar la variable Pueblos Originarios. Digite CERO si no tiene. ",IF(AR14>$B14,"* La variable Pueblos Originarios no puede superar el Total Ambos Sexos. ","")) | CD14: =IF(AND($B14<>0,AS14=""),"* No olvide ingresar la variable Migrantes. Digite CERO si no tiene. ",IF(AS14>$B14,"* La variable Migrantes no puede superar el Total Ambos Sexos. ","")) | CM14: =IF(AM14+AN14+AO14+AP14<>$B14,1,0) -> 0 | CN14: =IF(AND($B14<>0,AQ14=""),1,IF(AQ14>$B14,1,0)) -> 0 | CO14: =IF(AND($B14<>0,AR14=""),1,IF(AR14>$B14,1,0)) -> 0 | CP14: =IF(AND($B14<>0,AS14=""),1,IF(AS14>$B14,1,0)) -> 0
A15: Ingresos con plan de tratamiento integral (PTI) con objetivos para el trabajo | B15: =SUM(C15:D15) -> 0 | C15: =SUM(E15,G15,I15,K15,M15,O15,Q15,S15,U15,W15,Y15,AA15,AC15,AE15,AG15,AI15,AK15) -> 0 | D15: =SUM(F15,H15,J15,L15,N15,P15,R15,T15,V15,X15,Z15,AB15,AD15,AF15,AH15,AJ15,AL15) -> 0 | AT15: =CA15&CB15&CC15&CD15 | CA15: =IF(AM15+AN15+AO15+AP15<>$B15,"* La suma de "&AM$10&""&" no puede ser distinto del Total Ambos Sexos. ","") | CB15: =IF(AND($B15<>0,AQ15=""),"* No olvide ingresar la variable Personas con discapacidad (con RND). Digite Cero si no tiene. ",IF(AQ15>$B15,"* La variable Personas con discapacidad (con RND) no puede superar el Total Ambos Sexos. ","")) | CC15: =IF(AND($B15<>0,AR15=""),"* No olvide ingresar la variable Pueblos Originarios. Digite CERO si no tiene. ",IF(AR15>$B15,"* La variable Pueblos Originarios no puede superar el Total Ambos Sexos. ","")) | CD15: =IF(AND($B15<>0,AS15=""),"* No olvide ingresar la variable Migrantes. Digite CERO si no tiene. ",IF(AS15>$B15,"* La variable Migrantes no puede superar el Total Ambos Sexos. ","")) | CM15: =IF(AM15+AN15+AO15+AP15<>$B15,1,0) -> 0 | CN15: =IF(AND($B15<>0,AQ15=""),1,IF(AQ15>$B15,1,0)) -> 0 | CO15: =IF(AND($B15<>0,AR15=""),1,IF(AR15>$B15,1,0)) -> 0 | CP15: =IF(AND($B15<>0,AS15=""),1,IF(AS15>$B15,1,0)) -> 0
A16: Ingresos de usuarios con cuidador | B16: =SUM(C16:D16) -> 0 | C16: =SUM(E16,G16,I16,K16,M16,O16,Q16,S16,U16,W16,Y16,AA16,AC16,AE16,AG16,AI16,AK16) -> 0 | D16: =SUM(F16,H16,J16,L16,N16,P16,R16,T16,V16,X16,Z16,AB16,AD16,AF16,AH16,AJ16,AL16) -> 0 | AT16: =CA16&CB16&CC16&CD16 | CA16: =IF(AM16+AN16+AO16+AP16<>$B16,"* La suma de "&AM$10&""&" no puede ser distinto del Total Ambos Sexos. ","") | CB16: =IF(AND($B16<>0,AQ16=""),"* No olvide ingresar la variable Personas con discapacidad (con RND). Digite Cero si no tiene. ",IF(AQ16>$B16,"* La variable Personas con discapacidad (con RND) no puede superar el Total Ambos Sexos. ","")) | CC16: =IF(AND($B16<>0,AR16=""),"* No olvide ingresar la variable Pueblos Originarios. Digite CERO si no tiene. ",IF(AR16>$B16,"* La variable Pueblos Originarios no puede superar el Total Ambos Sexos. ","")) | CD16: =IF(AND($B16<>0,AS16=""),"* No olvide ingresar la variable Migrantes. Digite CERO si no tiene. ",IF(AS16>$B16,"* La variable Migrantes no puede superar el Total Ambos Sexos. ","")) | CM16: =IF(AM16+AN16+AO16+AP16<>$B16,1,0) -> 0 | CN16: =IF(AND($B16<>0,AQ16=""),1,IF(AQ16>$B16,1,0)) -> 0 | CO16: =IF(AND($B16<>0,AR16=""),1,IF(AR16>$B16,1,0)) -> 0 | CP16: =IF(AND($B16<>0,AS16=""),1,IF(AS16>$B16,1,0)) -> 0
A17: Reingreso | B17: =SUM(C17:D17) -> 0 | C17: =SUM(E17,G17,I17,K17,M17,O17,Q17,S17,U17,W17,Y17,AA17,AC17,AE17,AG17,AI17,AK17) -> 0 | D17: =SUM(F17,H17,J17,L17,N17,P17,R17,T17,V17,X17,Z17,AB17,AD17,AF17,AH17,AJ17,AL17) -> 0 | AT17: =CA17&CB17&CC17&CD17 | CA17: =IF(AM17+AN17+AO17+AP17<>$B17,"* La suma de "&AM$10&""&" no puede ser distinto del Total Ambos Sexos. ","") | CB17: =IF(AND($B17<>0,AQ17=""),"* No olvide ingresar la variable Personas con discapacidad (con RND). Digite Cero si no tiene. ",IF(AQ17>$B17,"* La variable Personas con discapacidad (con RND) no puede superar el Total Ambos Sexos. ","")) | CC17: =IF(AND($B17<>0,AR17=""),"* No olvide ingresar la variable Pueblos Originarios. Digite CERO si no tiene. ",IF(AR17>$B17,"* La variable Pueblos Originarios no puede superar el Total Ambos Sexos. ","")) | CD17: =IF(AND($B17<>0,AS17=""),"* No olvide ingresar la variable Migrantes. Digite CERO si no tiene. ",IF(AS17>$B17,"* La variable Migrantes no puede superar el Total Ambos Sexos. ","")) | CM17: =IF(AM17+AN17+AO17+AP17<>$B17,1,0) -> 0 | CN17: =IF(AND($B17<>0,AQ17=""),1,IF(AQ17>$B17,1,0)) -> 0 | CO17: =IF(AND($B17<>0,AR17=""),1,IF(AR17>$B17,1,0)) -> 0 | CP17: =IF(AND($B17<>0,AS17=""),1,IF(AS17>$B17,1,0)) -> 0
A18: Ingresos con PTI cuidador | B18: =SUM(C18:D18) -> 0 | C18: =SUM(E18,G18,I18,K18,M18,O18,Q18,S18,U18,W18,Y18,AA18,AC18,AE18,AG18,AI18,AK18) -> 0 | D18: =SUM(F18,H18,J18,L18,N18,P18,R18,T18,V18,X18,Z18,AB18,AD18,AF18,AH18,AJ18,AL18) -> 0 | AT18: =CA18&CB18&CC18&CD18 | CA18: =IF(AM18+AN18+AO18+AP18<>$B18,"* La suma de "&AM$10&""&" no puede ser distinto del Total Ambos Sexos. ","") | CB18: =IF(AND($B18<>0,AQ18=""),"* No olvide ingresar la variable Personas con discapacidad (con RND). Digite Cero si no tiene. ",IF(AQ18>$B18,"* La variable Personas con discapacidad (con RND) no puede superar el Total Ambos Sexos. ","")) | CC18: =IF(AND($B18<>0,AR18=""),"* No olvide ingresar la variable Pueblos Originarios. Digite CERO si no tiene. ",IF(AR18>$B18,"* La variable Pueblos Originarios no puede superar el Total Ambos Sexos. ","")) | CD18: =IF(AND($B18<>0,AS18=""),"* No olvide ingresar la variable Migrantes. Digite CERO si no tiene. ",IF(AS18>$B18,"* La variable Migrantes no puede superar el Total Ambos Sexos. ","")) | CM18: =IF(AM18+AN18+AO18+AP18<>$B18,1,0) -> 0 | CN18: =IF(AND($B18<>0,AQ18=""),1,IF(AQ18>$B18,1,0)) -> 0 | CO18: =IF(AND($B18<>0,AR18=""),1,IF(AR18>$B18,1,0)) -> 0 | CP18: =IF(AND($B18<>0,AS18=""),1,IF(AS18>$B18,1,0)) -> 0
A19: Egresos | B19: =SUM(C19:D19) -> 0 | C19: =SUM(E19,G19,I19,K19,M19,O19,Q19,S19,U19,W19,Y19,AA19,AC19,AE19,AG19,AI19,AK19) -> 0 | D19: =SUM(F19,H19,J19,L19,N19,P19,R19,T19,V19,X19,Z19,AB19,AD19,AF19,AH19,AJ19,AL19) -> 0 | E19: =SUM(E20:E24) -> 0 | F19: =SUM(F20:F24) -> 0 | G19: =SUM(G20:G24) -> 0 | H19: =SUM(H20:H24) -> 0 | I19: =SUM(I20:I24) -> 0 | J19: =SUM(J20:J24) -> 0 | K19: =SUM(K20:K24) -> 0 | L19: =SUM(L20:L24) -> 0 | ... AS19: =SUM(AS20:AS24) -> 0
A20: Egresos por alta | B20: =SUM(C20:D20) -> 0 | C20: =SUM(E20,G20,I20,K20,M20,O20,Q20,S20,U20,W20,Y20,AA20,AC20,AE20,AG20,AI20,AK20) -> 0 | D20: =SUM(F20,H20,J20,L20,N20,P20,R20,T20,V20,X20,Z20,AB20,AD20,AF20,AH20,AJ20,AL20) -> 0 | AT20: =CA20&CB20&CC20&CD20 | CA20: =IF(AM20+AN20+AO20+AP20<>$B20,"* La suma de "&AM$10&""&" no puede ser distinto del Total Ambos Sexos. ","") | CB20: =IF(AND($B20<>0,AQ20=""),"* No olvide ingresar la variable Personas con discapacidad (con RND). Digite Cero si no tiene. ",IF(AQ20>$B20,"* La variable Personas con discapacidad (con RND) no puede superar el Total Ambos Sexos. ","")) | CC20: =IF(AND($B20<>0,AR20=""),"* No olvide ingresar la variable Pueblos Originarios. Digite CERO si no tiene. ",IF(AR20>$B20,"* La variable Pueblos Originarios no puede superar el Total Ambos Sexos. ","")) | CD20: =IF(AND($B20<>0,AS20=""),"* No olvide ingresar la variable Migrantes. Digite CERO si no tiene. ",IF(AS20>$B20,"* La variable Migrantes no puede superar el Total Ambos Sexos. ","")) | CM20: =IF(AM20+AN20+AO20+AP20<>$B20,1,0) -> 0 | CN20: =IF(AND($B20<>0,AQ20=""),1,IF(AQ20>$B20,1,0)) -> 0 | CO20: =IF(AND($B20<>0,AR20=""),1,IF(AR20>$B20,1,0)) -> 0 | CP20: =IF(AND($B20<>0,AS20=""),1,IF(AS20>$B20,1,0)) -> 0
A21: Egresos por abandono | B21: =SUM(C21:D21) -> 0 | C21: =SUM(E21,G21,I21,K21,M21,O21,Q21,S21,U21,W21,Y21,AA21,AC21,AE21,AG21,AI21,AK21) -> 0 | D21: =SUM(F21,H21,J21,L21,N21,P21,R21,T21,V21,X21,Z21,AB21,AD21,AF21,AH21,AJ21,AL21) -> 0 | AT21: =CA21&CB21&CC21&CD21 | CA21: =IF(AM21+AN21+AO21+AP21<>$B21,"* La suma de "&AM$10&""&" no puede ser distinto del Total Ambos Sexos. ","") | CB21: =IF(AND($B21<>0,AQ21=""),"* No olvide ingresar la variable Personas con discapacidad (con RND). Digite Cero si no tiene. ",IF(AQ21>$B21,"* La variable Personas con discapacidad (con RND) no puede superar el Total Ambos Sexos. ","")) | CC21: =IF(AND($B21<>0,AR21=""),"* No olvide ingresar la variable Pueblos Originarios. Digite CERO si no tiene. ",IF(AR21>$B21,"* La variable Pueblos Originarios no puede superar el Total Ambos Sexos. ","")) | CD21: =IF(AND($B21<>0,AS21=""),"* No olvide ingresar la variable Migrantes. Digite CERO si no tiene. ",IF(AS21>$B21,"* La variable Migrantes no puede superar el Total Ambos Sexos. ","")) | CM21: =IF(AM21+AN21+AO21+AP21<>$B21,1,0) -> 0 | CN21: =IF(AND($B21<>0,AQ21=""),1,IF(AQ21>$B21,1,0)) -> 0 | CO21: =IF(AND($B21<>0,AR21=""),1,IF(AR21>$B21,1,0)) -> 0 | CP21: =IF(AND($B21<>0,AS21=""),1,IF(AS21>$B21,1,0)) -> 0
A22: Egresos por fallecimiento | B22: =SUM(C22:D22) -> 0 | C22: =SUM(E22,G22,I22,K22,M22,O22,Q22,S22,U22,W22,Y22,AA22,AC22,AE22,AG22,AI22,AK22) -> 0 | D22: =SUM(F22,H22,J22,L22,N22,P22,R22,T22,V22,X22,Z22,AB22,AD22,AF22,AH22,AJ22,AL22) -> 0 | AT22: =CA22&CB22&CC22&CD22 | CA22: =IF(AM22+AN22+AO22+AP22<>$B22,"* La suma de "&AM$10&""&" no puede ser distinto del Total Ambos Sexos. ","") | CB22: =IF(AND($B22<>0,AQ22=""),"* No olvide ingresar la variable Personas con discapacidad (con RND). Digite Cero si no tiene. ",IF(AQ22>$B22,"* La variable Personas con discapacidad (con RND) no puede superar el Total Ambos Sexos. ","")) | CC22: =IF(AND($B22<>0,AR22=""),"* No olvide ingresar la variable Pueblos Originarios. Digite CERO si no tiene. ",IF(AR22>$B22,"* La variable Pueblos Originarios no puede superar el Total Ambos Sexos. ","")) | CD22: =IF(AND($B22<>0,AS22=""),"* No olvide ingresar la variable Migrantes. Digite CERO si no tiene. ",IF(AS22>$B22,"* La variable Migrantes no puede superar el Total Ambos Sexos. ","")) | CM22: =IF(AM22+AN22+AO22+AP22<>$B22,1,0) -> 0 | CN22: =IF(AND($B22<>0,AQ22=""),1,IF(AQ22>$B22,1,0)) -> 0 | CO22: =IF(AND($B22<>0,AR22=""),1,IF(AR22>$B22,1,0)) -> 0 | CP22: =IF(AND($B22<>0,AS22=""),1,IF(AS22>$B22,1,0)) -> 0
A23: Egresos por otras causas | B23: =SUM(C23:D23) -> 0 | C23: =SUM(E23,G23,I23,K23,M23,O23,Q23,S23,U23,W23,Y23,AA23,AC23,AE23,AG23,AI23,AK23) -> 0 | D23: =SUM(F23,H23,J23,L23,N23,P23,R23,T23,V23,X23,Z23,AB23,AD23,AF23,AH23,AJ23,AL23) -> 0 | AT23: =CA23&CB23&CC23&CD23 | CA23: =IF(AM23+AN23+AO23+AP23<>$B23,"* La suma de "&AM$10&""&" no puede ser distinto del Total Ambos Sexos. ","") | CB23: =IF(AND($B23<>0,AQ23=""),"* No olvide ingresar la variable Personas con discapacidad (con RND). Digite Cero si no tiene. ",IF(AQ23>$B23,"* La variable Personas con discapacidad (con RND) no puede superar el Total Ambos Sexos. ","")) | CC23: =IF(AND($B23<>0,AR23=""),"* No olvide ingresar la variable Pueblos Originarios. Digite CERO si no tiene. ",IF(AR23>$B23,"* La variable Pueblos Originarios no puede superar el Total Ambos Sexos. ","")) | CD23: =IF(AND($B23<>0,AS23=""),"* No olvide ingresar la variable Migrantes. Digite CERO si no tiene. ",IF(AS23>$B23,"* La variable Migrantes no puede superar el Total Ambos Sexos. ","")) | CM23: =IF(AM23+AN23+AO23+AP23<>$B23,1,0) -> 0 | CN23: =IF(AND($B23<>0,AQ23=""),1,IF(AQ23>$B23,1,0)) -> 0 | CO23: =IF(AND($B23<>0,AR23=""),1,IF(AR23>$B23,1,0)) -> 0 | CP23: =IF(AND($B23<>0,AS23=""),1,IF(AS23>$B23,1,0)) -> 0
A24: Egresos con PTI cuidador | B24: =SUM(C24:D24) -> 0 | C24: =SUM(E24,G24,I24,K24,M24,O24,Q24,S24,U24,W24,Y24,AA24,AC24,AE24,AG24,AI24,AK24) -> 0 | D24: =SUM(F24,H24,J24,L24,N24,P24,R24,T24,V24,X24,Z24,AB24,AD24,AF24,AH24,AJ24,AL24) -> 0 | AT24: =CA24&CB24&CC24&CD24 | CA24: =IF(AM24+AN24+AO24+AP24<>$B24,"* La suma de "&AM$10&""&" no puede ser distinto del Total Ambos Sexos. ","") | CB24: =IF(AND($B24<>0,AQ24=""),"* No olvide ingresar la variable Personas con discapacidad (con RND). Digite Cero si no tiene. ",IF(AQ24>$B24,"* La variable Personas con discapacidad (con RND) no puede superar el Total Ambos Sexos. ","")) | CC24: =IF(AND($B24<>0,AR24=""),"* No olvide ingresar la variable Pueblos Originarios. Digite CERO si no tiene. ",IF(AR24>$B24,"* La variable Pueblos Originarios no puede superar el Total Ambos Sexos. ","")) | CD24: =IF(AND($B24<>0,AS24=""),"* No olvide ingresar la variable Migrantes. Digite CERO si no tiene. ",IF(AS24>$B24,"* La variable Migrantes no puede superar el Total Ambos Sexos. ","")) | CM24: =IF(AM24+AN24+AO24+AP24<>$B24,1,0) -> 0 | CN24: =IF(AND($B24<>0,AQ24=""),1,IF(AQ24>$B24,1,0)) -> 0 | CO24: =IF(AND($B24<>0,AR24=""),1,IF(AR24>$B24,1,0)) -> 0 | CP24: =IF(AND($B24<>0,AS24=""),1,IF(AS24>$B24,1,0)) -> 0
A25: SECCIÓN A.2: INGRESOS POR CONDICIÓN DE SALUD
A26: CONDICIÓN DE SALUD | B26: TOTAL | E26: RANGO ETARIO Y SEXO | AM26: TIPO DE ESTRATEGIA
E27: 0 a 4 años | G27: 5 a 9 años | I27: 10 - 14 | K27: 15 - 19 | M27: 20 - 24 | O27: 25-29 | Q27: 30-34 | S27: 35 - 39 | U27: 40 - 44 | W27: 45- 49 | Y27: 50 - 54 | AA27: 55 - 59 | AC27: 60 - 64 | AE27: 65 - 69 | AG27: 70 - 74 | AI27: 75 - 79 | AK27: 80 y más años | AM27: Rehabilitación NNA | AN27: Rehabilitación Integral APS | AO27: Otros Rehabilitación | AP27: Rehabilitación móvil (rural)
B28: Ambos Sexos | C28: Hombres | D28: Mujeres | E28: Hombres | F28: Mujeres | G28: Hombres | H28: Mujeres | I28: Hombres | J28: Mujeres | K28: Hombres | L28: Mujeres | M28: Hombres | N28: Mujeres | O28: Hombres | P28: Mujeres | Q28: Hombres | R28: Mujeres | S28: Hombres | T28: Mujeres | U28: Hombres | V28: Mujeres | W28: Hombres | X28: Mujeres | Y28: Hombres | Z28: Mujeres | AA28: Hombres | AB28: Mujeres | AC28: Hombres | AD28: Mujeres | AE28: Hombres | AF28: Mujeres | AG28: Hombres | AH28: Mujeres | AI28: Hombres | AJ28: Mujeres | AK28: Hombres | AL28: Mujeres | CM28: =IF(B29<>SUM(B30:B50),1,0) -> 0
A29: Total ingreso (N° de personas) | B29: =SUM(C29:D29) -> 0 | C29: =+E29+G29+I29+K29+M29+O29+Q29+S29+U29+W29+Y29+AA29+AC29+AE29+AG29+AI29+AK29 -> 0 | D29: =+F29+H29+J29+L29+N29+P29+R29+T29+V29+X29+Z29+AB29+AD29+AF29+AH29+AJ29+AL29 -> 0 | AQ29: =CB29&CA29&CC29&CD29&CE29&CF29 | CA29: =IF(CM28=1,"* Existen Condiciones de Salud que son mayores al Total de Ingreso (N° Personas). ","") | CB29: =IF(CM29=1," * El total de Ingresos debe ser igual a la suma de los Tipos de Estrategia. ","") | CC29: =IF(CN29=1,"* Existen Condiciones de Salud en la variable Rehabilitación NNA que son Mayores a los Ingreso (N° Personas). ","") | CD29: =IF(CO29=1,"* Existen Condiciones de Salud en la variable Rehabilitación Integral APS que son Mayores a los Ingreso (N° Personas). ","") | CE29: =IF(CP29=1,"* Existen Condiciones de Salud en la variable Otros Rehabilitación que son Mayores a los Ingreso (N° Personas). ","") | CF29: =IF(CQ29=1,"* Existen Condiciones de Salud en la variable Rehabilitación móvil (rural) que son Mayores a los Ingreso (N° Personas). ","") | CM29: =IF(SUM(AM29:AP29)=B29,0,1) -> 0 | CN29: =IF($AM29<MAX($AM30:$AM50),1,0) -> 0 | CO29: =IF(AN29<MAX(AN30:AN50),1,0) -> 0 | CP29: =IF(AO29<MAX(AO30:AO50),1,0) -> 0 | CQ29: =IF(AP29<MAX(AP30:AP50),1,0) -> 0
A30: Dolor cervical agudo | B30: =SUM(C30:D30) -> 0 | C30: =+E30+G30+I30+K30+M30+O30+Q30+S30+U30+W30+Y30+AA30+AC30+AE30+AG30+AI30+AK30 -> 0 | D30: =+F30+H30+J30+L30+N30+P30+R30+T30+V30+X30+Z30+AB30+AD30+AF30+AH30+AJ30+AL30 -> 0 | AQ30: =CA30&CB30&CC30&CD30&CE30&CF30 | CB30: =IF(CM30=1," * El total de Ingresos debe ser igual a la suma de los Tipos de Estrategia. ","") | CM30: =IF(SUM(AM30:AP30)=B30,0,1) -> 0
A31: Dolor lumbar agudo | B31: =SUM(C31:D31) -> 0 | C31: =+E31+G31+I31+K31+M31+O31+Q31+S31+U31+W31+Y31+AA31+AC31+AE31+AG31+AI31+AK31 -> 0 | D31: =+F31+H31+J31+L31+N31+P31+R31+T31+V31+X31+Z31+AB31+AD31+AF31+AH31+AJ31+AL31 -> 0 | AQ31: =CA31&CB31 | CB31: =IF(CM31=1," * El total de Ingresos debe ser igual a la suma de los Tipos de Estrategia. ","") | CM31: =IF(SUM(AM31:AP31)=B31,0,1) -> 0
A32: Hombro doloroso agudo | B32: =SUM(C32:D32) -> 0 | C32: =+E32+G32+I32+K32+M32+O32+Q32+S32+U32+W32+Y32+AA32+AC32+AE32+AG32+AI32+AK32 -> 0 | D32: =+F32+H32+J32+L32+N32+P32+R32+T32+V32+X32+Z32+AB32+AD32+AF32+AH32+AJ32+AL32 -> 0 | AQ32: =CA32&CB32 | CB32: =IF(CM32=1," * El total de Ingresos debe ser igual a la suma de los Tipos de Estrategia. ","") | CM32: =IF(SUM(AM32:AP32)=B32,0,1) -> 0
A33: Otro dolor musculoesquelético agudo | B33: =SUM(C33:D33) -> 0 | C33: =+E33+G33+I33+K33+M33+O33+Q33+S33+U33+W33+Y33+AA33+AC33+AE33+AG33+AI33+AK33 -> 0 | D33: =+F33+H33+J33+L33+N33+P33+R33+T33+V33+X33+Z33+AB33+AD33+AF33+AH33+AJ33+AL33 -> 0 | AQ33: =CA33&CB33 | CB33: =IF(CM33=1," * El total de Ingresos debe ser igual a la suma de los Tipos de Estrategia. ","") | CM33: =IF(SUM(AM33:AP33)=B33,0,1) -> 0
A34: Artrosis de rodilla y cadera | B34: =SUM(C34:D34) -> 0 | C34: =+E34+G34+I34+K34+M34+O34+Q34+S34+U34+W34+Y34+AA34+AC34+AE34+AG34+AI34+AK34 -> 0 | D34: =+F34+H34+J34+L34+N34+P34+R34+T34+V34+X34+Z34+AB34+AD34+AF34+AH34+AJ34+AL34 -> 0 | AQ34: =CA34&CB34 | CB34: =IF(CM34=1," * El total de Ingresos debe ser igual a la suma de los Tipos de Estrategia. ","") | CM34: =IF(SUM(AM34:AP34)=B34,0,1) -> 0
A35: Artritis reumatoidea | B35: =SUM(C35:D35) -> 0 | C35: =+E35+G35+I35+K35+M35+O35+Q35+S35+U35+W35+Y35+AA35+AC35+AE35+AG35+AI35+AK35 -> 0 | D35: =+F35+H35+J35+L35+N35+P35+R35+T35+V35+X35+Z35+AB35+AD35+AF35+AH35+AJ35+AL35 -> 0 | AQ35: =CA35&CB35 | CB35: =IF(CM35=1," * El total de Ingresos debe ser igual a la suma de los Tipos de Estrategia. ","") | CM35: =IF(SUM(AM35:AP35)=B35,0,1) -> 0
A36: Otro dolor musculoesquelético crónico | B36: =SUM(C36:D36) -> 0 | C36: =+E36+G36+I36+K36+M36+O36+Q36+S36+U36+W36+Y36+AA36+AC36+AE36+AG36+AI36+AK36 -> 0 | D36: =+F36+H36+J36+L36+N36+P36+R36+T36+V36+X36+Z36+AB36+AD36+AF36+AH36+AJ36+AL36 -> 0 | AQ36: =CA36&CB36 | CB36: =IF(CM36=1," * El total de Ingresos debe ser igual a la suma de los Tipos de Estrategia. ","") | CM36: =IF(SUM(AM36:AP36)=B36,0,1) -> 0
A37: Ataque cerebro vascular (ACV) | B37: =SUM(C37:D37) -> 0 | C37: =+E37+G37+I37+K37+M37+O37+Q37+S37+U37+W37+Y37+AA37+AC37+AE37+AG37+AI37+AK37 -> 0 | D37: =+F37+H37+J37+L37+N37+P37+R37+T37+V37+X37+Z37+AB37+AD37+AF37+AH37+AJ37+AL37 -> 0 | AQ37: =CA37&CB37 | CB37: =IF(CM37=1," * El total de Ingresos debe ser igual a la suma de los Tipos de Estrategia. ","") | CM37: =IF(SUM(AM37:AP37)=B37,0,1) -> 0
A38: Traumatismo encéfalo craneano (TEC) | B38: =SUM(C38:D38) -> 0 | C38: =+E38+G38+I38+K38+M38+O38+Q38+S38+U38+W38+Y38+AA38+AC38+AE38+AG38+AI38+AK38 -> 0 | D38: =+F38+H38+J38+L38+N38+P38+R38+T38+V38+X38+Z38+AB38+AD38+AF38+AH38+AJ38+AL38 -> 0 | AQ38: =CA38&CB38 | CB38: =IF(CM38=1," * El total de Ingresos debe ser igual a la suma de los Tipos de Estrategia. ","") | CM38: =IF(SUM(AM38:AP38)=B38,0,1) -> 0
A39: Lesión medular | B39: =SUM(C39:D39) -> 0 | C39: =+E39+G39+I39+K39+M39+O39+Q39+S39+U39+W39+Y39+AA39+AC39+AE39+AG39+AI39+AK39 -> 0 | D39: =+F39+H39+J39+L39+N39+P39+R39+T39+V39+X39+Z39+AB39+AD39+AF39+AH39+AJ39+AL39 -> 0 | AQ39: =CA39&CB39 | CB39: =IF(CM39=1," * El total de Ingresos debe ser igual a la suma de los Tipos de Estrategia. ","") | CM39: =IF(SUM(AM39:AP39)=B39,0,1) -> 0
A40: Enfermedad de Parkinson | B40: =SUM(C40:D40) -> 0 | C40: =+E40+G40+I40+K40+M40+O40+Q40+S40+U40+W40+Y40+AA40+AC40+AE40+AG40+AI40+AK40 -> 0 | D40: =+F40+H40+J40+L40+N40+P40+R40+T40+V40+X40+Z40+AB40+AD40+AF40+AH40+AJ40+AL40 -> 0 | AQ40: =CA40&CB40 | CB40: =IF(CM40=1," * El total de Ingresos debe ser igual a la suma de los Tipos de Estrategia. ","") | CM40: =IF(SUM(AM40:AP40)=B40,0,1) -> 0
A41: Enfermedades neuromusculares | B41: =SUM(C41:D41) -> 0 | C41: =+E41+G41+I41+K41+M41+O41+Q41+S41+U41+W41+Y41+AA41+AC41+AE41+AG41+AI41+AK41 -> 0 | D41: =+F41+H41+J41+L41+N41+P41+R41+T41+V41+X41+Z41+AB41+AD41+AF41+AH41+AJ41+AL41 -> 0 | AQ41: =CA41&CB41 | CB41: =IF(CM41=1," * El total de Ingresos debe ser igual a la suma de los Tipos de Estrategia. ","") | CM41: =IF(SUM(AM41:AP41)=B41,0,1) -> 0
A42: Alteraciones en el desarrollo psicomotor | B42: =SUM(C42:D42) -> 0 | C42: =+E42+G42+I42+K42+M42+O42+Q42+S42+U42+W42+Y42+AA42+AC42+AE42+AG42+AI42+AK42 -> 0 | D42: =+F42+H42+J42+L42+N42+P42+R42+T42+V42+X42+Z42+AB42+AD42+AF42+AH42+AJ42+AL42 -> 0 | AQ42: =CA42&CB42 | CB42: =IF(CM42=1," * El total de Ingresos debe ser igual a la suma de los Tipos de Estrategia. ","") | CM42: =IF(SUM(AM42:AP42)=B42,0,1) -> 0
... A48: Quemados | B48: =SUM(C48:D48) -> 0 | C48: =+E48+G48+I48+K48+M48+O48+Q48+S48+U48+W48+Y48+AA48+AC48+AE48+AG48+AI48+AK48 -> 0 | D48: =+F48+H48+J48+L48+N48+P48+R48+T48+V48+X48+Z48+AB48+AD48+AF48+AH48+AJ48+AL48 -> 0 | AQ48: =CA48&CB48 | CB48: =IF(CM48=1," * El total de Ingresos debe ser igual a la suma de los Tipos de Estrategia. ","") | CM48: =IF(SUM(AM48:AP48)=B48,0,1) -> 0
A49: COVID-19 | B49: =SUM(C49:D49) -> 0 | C49: =+E49+G49+I49+K49+M49+O49+Q49+S49+U49+W49+Y49+AA49+AC49+AE49+AG49+AI49+AK49 -> 0 | D49: =+F49+H49+J49+L49+N49+P49+R49+T49+V49+X49+Z49+AB49+AD49+AF49+AH49+AJ49+AL49 -> 0 | AQ49: =CB49 | CB49: =IF(CM49=1," * El total de Ingresos debe ser igual a la suma de los Tipos de Estrategia. ","") | CM49: =IF(SUM(AM49:AP49)=B49,0,1) -> 0
A50: Otros | B50: =SUM(C50:D50) -> 0 | C50: =+E50+G50+I50+K50+M50+O50+Q50+S50+U50+W50+Y50+AA50+AC50+AE50+AG50+AI50+AK50 -> 0 | D50: =+F50+H50+J50+L50+N50+P50+R50+T50+V50+X50+Z50+AB50+AD50+AF50+AH50+AJ50+AL50 -> 0 | AQ50: =CB50 | CB50: =IF(CM50=1," * El total de Ingresos debe ser igual a la suma de los Tipos de Estrategia. ","") | CM50: =IF(SUM(AM50:AP50)=B50,0,1) -> 0
A51: Alteraciones visuales | B51: =SUM(C51:D51) -> 0 | C51: =+E51+G51+I51+K51+M51+O51+Q51+S51+U51+W51+Y51+AA51+AC51+AE51+AG51+AI51+AK51 -> 0 | D51: =+F51+H51+J51+L51+N51+P51+R51+T51+V51+X51+Z51+AB51+AD51+AF51+AH51+AJ51+AL51 -> 0 | AQ51: =CB51 | CB51: =IF(CM51=1," * El total de Ingresos debe ser igual a la suma de los Tipos de Estrategia. ","") | CM51: =IF(SUM(AM51:AP51)=B51,0,1) -> 0
A52: Alteraciones auditivas | B52: =SUM(C52:D52) -> 0 | C52: =+E52+G52+I52+K52+M52+O52+Q52+S52+U52+W52+Y52+AA52+AC52+AE52+AG52+AI52+AK52 -> 0 | D52: =+F52+H52+J52+L52+N52+P52+R52+T52+V52+X52+Z52+AB52+AD52+AF52+AH52+AJ52+AL52 -> 0 | AQ52: =CA52&CB52 | CB52: =IF(CM52=1," * El total de Ingresos debe ser igual a la suma de los Tipos de Estrategia. ","") | CM52: =IF(SUM(AM52:AP52)=B52,0,1) -> 0
A53: SECCIÓN A.3: EVALUACIÓN INICIAL
A54: PROFESIONAL | B54: TOTAL | C54: TIPO DE ESTRATEGIA | G54: MODALIDAD DE REHABILITACIÓN
C55: Rehabilitación NNA | D55: Rehabilitación Integral APS | E55: Otros Rehabilitación | F55: Rehabilitación móvil (rural) | G55: Presencial (Establecimiento) | H55: Domiciliaria
A56: Médico/a | B56: =SUM(C56:F56) -> 0 | I56: =CA56&CB56&CC56 | CA56: =IF(AND($B56>0,$G56="")," * No olvide digitar la variable "&$G$54&""&" Presencial (Establecimiento). Digite CERO si no tiene.","") | CB56: =IF(AND($B56>0,$H56="")," * No olvide digitar la variable "&$G$54&""&" Domiciliaria. Digite CERO si no tiene.","") | CC56: =IF(AND($G56+$H56>$B56)," * La variable "&$G$54&""&" No puede ser mayor al Total.","") | CM56: =IF(AND($B56>0,$G56=""),1,0) -> 0 | CN56: =IF(AND($B56>0,$H56=""),1,0) -> 0 | CO56: =IF(AND($G56+$H56>$B56),1,0) -> 0
A57: Kinesiólogo/a | B57: =SUM(C57:F57) -> 0 | I57: =CA57&CB57&CC57 | CA57: =IF(AND($B57>0,$G57="")," * No olvide digitar la variable "&$G$54&""&" Presencial (Establecimiento). Digite CERO si no tiene.","") | CB57: =IF(AND($B57>0,$H57="")," * No olvide digitar la variable "&$G$54&""&" Domiciliaria. Digite CERO si no tiene.","") | CC57: =IF(AND($G57+$H57>$B57)," * La variable "&$G$54&""&" No puede ser mayor al Total.","") | CM57: =IF(AND($B57>0,$G57=""),1,0) -> 0 | CN57: =IF(AND($B57>0,$H57=""),1,0) -> 0 | CO57: =IF(AND($G57+$H57>$B57),1,0) -> 0
A58: Terpeuta Ocupacional | B58: =SUM(C58:F58) -> 0 | I58: =CA58&CB58&CC58 | CA58: =IF(AND($B58>0,$G58="")," * No olvide digitar la variable "&$G$54&""&" Presencial (Establecimiento). Digite CERO si no tiene.","") | CB58: =IF(AND($B58>0,$H58="")," * No olvide digitar la variable "&$G$54&""&" Domiciliaria. Digite CERO si no tiene.","") | CC58: =IF(AND($G58+$H58>$B58)," * La variable "&$G$54&""&" No puede ser mayor al Total.","") | CM58: =IF(AND($B58>0,$G58=""),1,0) -> 0 | CN58: =IF(AND($B58>0,$H58=""),1,0) -> 0 | CO58: =IF(AND($G58+$H58>$B58),1,0) -> 0
A59: Fonoaudiólogo/a | B59: =SUM(C59:F59) -> 0 | I59: =CA59&CB59&CC59 | CA59: =IF(AND($B59>0,$G59="")," * No olvide digitar la variable "&$G$54&""&" Presencial (Establecimiento). Digite CERO si no tiene.","") | CB59: =IF(AND($B59>0,$H59="")," * No olvide digitar la variable "&$G$54&""&" Domiciliaria. Digite CERO si no tiene.","") | CC59: =IF(AND($G59+$H59>$B59)," * La variable "&$G$54&""&" No puede ser mayor al Total.","") | CM59: =IF(AND($B59>0,$G59=""),1,0) -> 0 | CN59: =IF(AND($B59>0,$H59=""),1,0) -> 0 | CO59: =IF(AND($G59+$H59>$B59),1,0) -> 0
A60: Psicólogo/a | B60: =SUM(C60:F60) -> 0 | I60: =CA60&CB60&CC60 | CA60: =IF(AND($B60>0,$G60="")," * No olvide digitar la variable "&$G$54&""&" Presencial (Establecimiento). Digite CERO si no tiene.","") | CB60: =IF(AND($B60>0,$H60="")," * No olvide digitar la variable "&$G$54&""&" Domiciliaria. Digite CERO si no tiene.","") | CC60: =IF(AND($G60+$H60>$B60)," * La variable "&$G$54&""&" No puede ser mayor al Total.","") | CM60: =IF(AND($B60>0,$G60=""),1,0) -> 0 | CN60: =IF(AND($B60>0,$H60=""),1,0) -> 0 | CO60: =IF(AND($G60+$H60>$B60),1,0) -> 0
A61: TOTAL | B61: =SUM(B56:B60) -> 0 | C61: =SUM(C56:C60) -> 0 | D61: =SUM(D56:D60) -> 0 | E61: =SUM(E56:E60) -> 0 | F61: =SUM(F56:F60) -> 0 | G61: =SUM(G56:G60) -> 0 | H61: =SUM(H56:H60) -> 0
A62: SECCIÓN A.4: EVALUACIÓN INTERMEDIA
A63: PROFESIONAL | B63: TOTAL | C63: RANGO ETARIO | T63: TIPO DE ESTRATEGIA | X63: MODALIDAD DE REHABILITACIÓN
C64: 0 a 4 años | D64: 5 a 9 años | E64: 10 - 14 | F64: 15 - 19 | G64: 20 - 24 | H64: 25-29 | I64: 30-34 | J64: 35 - 39 | K64: 40 - 44 | L64: 45- 49 | M64: 50 - 54 | N64: 55 - 59 | O64: 60 - 64 | P64: 65 - 69 | Q64: 70 - 74 | R64: 75 - 79 | S64: 80 y más años | T64: Rehabilitación NNA | U64: Rehabilitación Integral APS | V64: Otros Rehabilitación | W64: Rehabilitación móvil (rural) | X64: Presencial (Establecimiento) | Y64: A distancia | Z64: Domiciliaria
A65: Kinesiólogo/a | B65: =SUM(C65:S65) -> 0 | AA65: =CA65&CB65 | CA65: =IF(T65+U65+V65+W65<>$B65,"* La suma de "&T$63&""&" no debe ser distinto del Total. ","") | CB65: =IF(X65+Y65+Z65>$B65,"* La suma de "&X$63&""&" no puede superar el Total. ","") | CM65: =IF(T65+U65+V65+W65<>$B65,1,0) -> 0 | CN65: =IF(X65+Y65+Z65>$B65,1,0) -> 0
A66: Terpeuta Ocupacional | B66: =SUM(C66:S66) -> 0 | AA66: =CA66&CB66 | CA66: =IF(T66+U66+V66+W66<>$B66,"* La suma de "&T$63&""&" no debe ser distinto del Total. ","") | CB66: =IF(X66+Y66+Z66>$B66,"* La suma de "&X$63&""&" no puede superar el Total. ","") | CM66: =IF(T66+U66+V66+W66<>$B66,1,0) -> 0 | CN66: =IF(X66+Y66+Z66>$B66,1,0) -> 0
A67: Fonoaudiólogo/a | B67: =SUM(C67:S67) -> 0 | AA67: =CA67&CB67 | CA67: =IF(T67+U67+V67+W67<>$B67,"* La suma de "&T$63&""&" no debe ser distinto del Total. ","") | CB67: =IF(X67+Y67+Z67>$B67,"* La suma de "&X$63&""&" no puede superar el Total. ","") | CM67: =IF(T67+U67+V67+W67<>$B67,1,0) -> 0 | CN67: =IF(X67+Y67+Z67>$B67,1,0) -> 0
A68: Psicólogo/a | B68: =SUM(C68:S68) -> 0 | AA68: =CA68&CB68 | CA68: =IF(T68+U68+V68+W68<>$B68,"* La suma de "&T$63&""&" no debe ser distinto del Total. ","") | CB68: =IF(X68+Y68+Z68>$B68,"* La suma de "&X$63&""&" no puede superar el Total. ","") | CM68: =IF(T68+U68+V68+W68<>$B68,1,0) -> 0 | CN68: =IF(X68+Y68+Z68>$B68,1,0) -> 0
A69: TOTAL | B69: =SUM(B65:B68) -> 0 | C69: =SUM(C65:C68) -> 0 | D69: =SUM(D65:D68) -> 0 | E69: =SUM(E65:E68) -> 0 | F69: =SUM(F65:F68) -> 0 | G69: =SUM(G65:G68) -> 0 | H69: =SUM(H65:H68) -> 0 | I69: =SUM(I65:I68) -> 0 | ... Z69: =SUM(Z65:Z68) -> 0
A70: SECCIÓN A.5: SESIONES DE REHABILITACIÓN
A71: PROFESIONAL | B71: TOTAL | C71: RANGO ETARIO | T71: TIPO DE ESTRATEGIA | X71: MODALIDAD DE REHABILITACIÓN
C72: 0 a 4 años | D72: 5 a 9 años | E72: 10 - 14 | F72: 15 - 19 | G72: 20 - 24 | H72: 25-29 | I72: 30-34 | J72: 35 - 39 | K72: 40 - 44 | L72: 45- 49 | M72: 50 - 54 | N72: 55 - 59 | O72: 60 - 64 | P72: 65 - 69 | Q72: 70 - 74 | R72: 75 - 79 | S72: 80 y más años | T72: Rehabilitación NNA | U72: Rehabilitación Integral APS | V72: Otros Rehabilitación | W72: Rehabilitación móvil (rural) | X72: Presencial (Establecimiento) | Y72: A distancia | Z72: Domiciliaria
A73: Kinesiólogo/a | B73: =SUM(C73:S73) -> 0 | AA73: =CA73&CB73 | CA73: =IF(T73+U73+V73+W73<>$B73,"* La suma de "&T$71&""&" no debe ser distinto del Total. ","") | CB73: =IF(X73+Y73+Z73>$B73,"* La suma de "&X$71&""&" no puede superar el Total. ","") | CM73: =IF(T73+U73+V73+W73<>$B73,1,0) -> 0 | CN73: =IF(X73+Y73+Z73>$B73,1,0) -> 0
A74: Terpeuta Ocupacional | B74: =SUM(C74:S74) -> 0 | AA74: =CA74&CB74 | CA74: =IF(T74+U74+V74+W74<>$B74,"* La suma de "&T$71&""&" no debe ser distinto del Total. ","") | CB74: =IF(X74+Y74+Z74>$B74,"* La suma de "&X$71&""&" no puede superar el Total. ","") | CM74: =IF(T74+U74+V74+W74<>$B74,1,0) -> 0 | CN74: =IF(X74+Y74+Z74>$B74,1,0) -> 0
A75: Fonoaudiólogo/a | B75: =SUM(C75:S75) -> 0 | AA75: =CA75&CB75 | CA75: =IF(T75+U75+V75+W75<>$B75,"* La suma de "&T$71&""&" no debe ser distinto del Total. ","") | CB75: =IF(X75+Y75+Z75>$B75,"* La suma de "&X$71&""&" no puede superar el Total. ","") | CM75: =IF(T75+U75+V75+W75<>$B75,1,0) -> 0 | CN75: =IF(X75+Y75+Z75>$B75,1,0) -> 0
A76: Psicólogo/a | B76: =SUM(C76:S76) -> 0 | AA76: =CA76&CB76 | CA76: =IF(T76+U76+V76+W76<>$B76,"* La suma de "&T$71&""&" no debe ser distinto del Total. ","") | CB76: =IF(X76+Y76+Z76>$B76,"* La suma de "&X$71&""&" no puede superar el Total. ","") | CM76: =IF(T76+U76+V76+W76<>$B76,1,0) -> 0 | CN76: =IF(X76+Y76+Z76>$B76,1,0) -> 0
A77: TOTAL | B77: =SUM(B73:B76) -> 0 | C77: =SUM(C73:C76) -> 0 | D77: =SUM(D73:D76) -> 0 | E77: =SUM(E73:E76) -> 0 | F77: =SUM(F73:F76) -> 0 | G77: =SUM(G73:G76) -> 0 | H77: =SUM(H73:H76) -> 0 | I77: =SUM(I73:I76) -> 0 | ... Z77: =SUM(Z73:Z76) -> 0
A78: SECCIÓN A.6: PROCEDIMIENTOS Y ACTIVIDADES
A79: TIPO | B79: Rehabilitación NNA | C79: Rehabilitación Integral APS | D79: Otros Rehabilitación | E79: Rehabilitación móvil (rural)
A80: Fisioterapia
A81: Actividad Física
A82: Ejercicios Terapéuticos
A83: Intervenciones en actividades de la vida diaria, básicas, instrumentadas y avanzadas
A84: Habilitación y Rehabilitación Educacional
A85: Actividades Terapéuticas
A86: Itegración Sensorial
A87: Adaptación del Hogar
A88: Confecciones Ortesis y/o Adaptaciones
A89: Reparación de Ortesis y/o Adaptaciones
A90: Habilitación y Rehabilitación Socio-Laboral
A91: Estimulación Cognitiva
... A96: Atención Psicoterapéutica
A97: TOTAL | B97: =SUM(B80:B96) -> 0 | C97: =SUM(C80:C96) -> 0 | D97: =SUM(D80:D96) -> 0 | E97: =SUM(E80:E96) -> 0
A98: SECCIÓN A.7: CONSEJERÍA INDIVIDUAL AGENDADA
A99: PROFESIONAL | B99: Rehabilitación NNA | C99: Rehabilitación Integral APS | D99: Otros Rehabilitación | E99: Rehabilitación móvil (rural)
A100: Kinesiólogo/a
A101: Terapeuta Ocupacional
A102: Fonoaudiólogo/a
A103: Psicólogo/a
A104: Trabajador/a social
A105: TOTAL | B105: =SUM(B100:B104) -> 0 | C105: =SUM(C100:C104) -> 0 | D105: =SUM(D100:D104) -> 0 | E105: =SUM(E100:E104) -> 0
A106: SECCIÓN A.8: CONSEJERÍA FAMILIAR AGENDADA
A107: PROFESIONAL | B107: Rehabilitación NNA | C107: Rehabilitación Integral APS | D107: Otros Rehabilitación | E107: Rehabilitación móvil (rural)
A108: Kinesiólogo/a
A109: Terapeuta Ocupacional
A110: Fonoaudiólogo/a
...

Sheet MAYO
A1: SERVICIO DE SALUD
A2: =CONCATENATE("COMUNA: ",[6]NOMBRE!B2, " (",[6]NOMBRE!C2,[6]NOMBRE!D2,[6]NOMBRE!E2,[6]NOMBRE!F2,[6]NOMBRE!G2,")") -> COMUNA: LINARES (07401)
A3: =CONCATENATE("ESTABLECIMIENTO/ESTRATEGIA: ", [6]NOMBRE!B3, " (",[6]NOMBRE!C3,[6]NOMBRE!D3,[6]NOMBRE!E3,[6]NOMBRE!F3,[6]NOMBRE!G3,[6]NOMBRE!H3,")") -> ESTABLECIMIENTO/ESTRATEGIA: HOSPITAL PRESIDENTE CARLOS IBAÑEZ DEL CAMPO (116108)
A4: =CONCATENATE("MES: ",[6]NOMBRE!B6, " (",[6]NOMBRE!C6,[6]NOMBRE!D6,")") -> MES: MAYO (05)
A5: =CONCATENATE("AÑO: ",[6]NOMBRE!B7) -> AÑO: 2025
A6: REM-28. REHABILITACIÓN INTEGRAL
A8: SECCIÓN A: ATENCIONES DE REHABILITACIÓN NIVEL PRIMARIO
A9: SECCIÓN A.1: INGRESOS Y EGRESOS A ATENCIONES DE REHABILITACIÓN EN EL NIVEL PRIMARIO
A10: TIPO DE INGRESO | B10: TOTAL | E10: RANGO ETARIO Y SEXO | AM10: TIPO DE ESTRATEGIA | AQ10: Personas con discapacidad (con RND) | AR10: Pueblos Originarios | AS10: Migrantes
E11: 0 - 4 años | G11: 5 - 9 años | I11: 10 - 14 años | K11: 15 - 19 años | M11: 20 - 24 años | O11: 25-29 años | Q11: 30-34 años | S11: 35 - 39 años | U11: 40 - 44 años | W11: 45- 49 años | Y11: 50 - 54 años | AA11: 55 - 59 años | AC11: 60 - 64 años | AE11: 65 - 69 años | AG11: 70 - 74 años | AI11: 75 - 79 años | AK11: 80 y más años | AM11: Rehabilitación NNA | AN11: Rehabilitación Integral APS | AO11: Otros Rehabilitación | AP11: Rehabilitación móvil (rural)
B12: Ambos Sexos | C12: Hombres | D12: Mujeres | E12: Hombres | F12: Mujeres | G12: Hombres | H12: Mujeres | I12: Hombres | J12: Mujeres | K12: Hombres | L12: Mujeres | M12: Hombres | N12: Mujeres | O12: Hombres | P12: Mujeres | Q12: Hombres | R12: Mujeres | S12: Hombres | T12: Mujeres | U12: Hombres | V12: Mujeres | W12: Hombres | X12: Mujeres | Y12: Hombres | Z12: Mujeres | AA12: Hombres | AB12: Mujeres | AC12: Hombres | AD12: Mujeres | AE12: Hombres | AF12: Mujeres | AG12: Hombres | AH12: Mujeres | AI12: Hombres | AJ12: Mujeres | AK12: Hombres | AL12: Mujeres
A13: Ingresos | B13: =SUM(C13:D13) -> 0 | C13: =SUM(E13,G13,I13,K13,M13,O13,Q13,S13,U13,W13,Y13,AA13,AC13,AE13,AG13,AI13,AK13) -> 0 | D13: =SUM(F13,H13,J13,L13,N13,P13,R13,T13,V13,X13,Z13,AB13,AD13,AF13,AH13,AJ13,AL13) -> 0 | AT13: =CA13&CB13&CC13&CD13 | CA13: =IF(AM13+AN13+AO13+AP13<>$B13,"* La suma de "&AM$10&""&" no puede ser distinto del Total Ambos Sexos. ","") | CB13: =IF(AND($B13<>0,AQ13=""),"* No olvide ingresar la variable Personas con discapacidad (con RND). Digite Cero si no tiene. ",IF(AQ13>$B13,"* La variable Personas con discapacidad (con RND) no puede superar el Total Ambos Sexos. ","")) | CC13: =IF(AND($B13<>0,AR13=""),"* No olvide ingresar la variable Pueblos Originarios. Digite CERO si no tiene. ",IF(AR13>$B13,"* La variable Pueblos Originarios no puede superar el Total Ambos Sexos. ","")) | CD13: =IF(AND($B13<>0,AS13=""),"* No olvide ingresar la variable Migrantes. Digite CERO si no tiene. ",IF(AS13>$B13,"* La variable Migrantes no puede superar el Total Ambos Sexos. ","")) | CM13: =IF(AM13+AN13+AO13+AP13<>$B13,1,0) -> 0 | CN13: =IF(AND($B13<>0,AQ13=""),1,IF(AQ13>$B13,1,0)) -> 0 | CO13: =IF(AND($B13<>0,AR13=""),1,IF(AR13>$B13,1,0)) -> 0 | CP13: =IF(AND($B13<>0,AS13=""),1,IF(AS13>$B13,1,0)) -> 0
A14: Ingresos con plan de tratamiento integral (PTI) | B14: =SUM(C14:D14) -> 0 | C14: =SUM(E14,G14,I14,K14,M14,O14,Q14,S14,U14,W14,Y14,AA14,AC14,AE14,AG14,AI14,AK14) -> 0 | D14: =SUM(F14,H14,J14,L14,N14,P14,R14,T14,V14,X14,Z14,AB14,AD14,AF14,AH14,AJ14,AL14) -> 0 | AT14: =CA14&CB14&CC14&CD14 | CA14: =IF(AM14+AN14+AO14+AP14<>$B14,"* La suma de "&AM$10&""&" no puede ser distinto del Total Ambos Sexos. ","") | CB14: =IF(AND($B14<>0,AQ14=""),"* No olvide ingresar la variable Personas con discapacidad (con RND). Digite Cero si no tiene. ",IF(AQ14>$B14,"* La variable Personas con discapacidad (con RND) no puede superar el Total Ambos Sexos. ","")) | CC14: =IF(AND($B14<>0,AR14=""),"* No olvide ingresar la variable Pueblos Originarios. Digite CERO si no tiene. ",IF(AR14>$B14,"* La variable Pueblos Originarios no puede superar el Total Ambos Sexos. ","")) | CD14: =IF(AND($B14<>0,AS14=""),"* No olvide ingresar la variable Migrantes. Digite CERO si no tiene. ",IF(AS14>$B14,"* La variable Migrantes no puede superar el Total Ambos Sexos. ","")) | CM14: =IF(AM14+AN14+AO14+AP14<>$B14,1,0) -> 0 | CN14: =IF(AND($B14<>0,AQ14=""),1,IF(AQ14>$B14,1,0)) -> 0 | CO14: =IF(AND($B14<>0,AR14=""),1,IF(AR14>$B14,1,0)) -> 0 | CP14: =IF(AND($B14<>0,AS14=""),1,IF(AS14>$B14,1,0)) -> 0
A15: Ingresos con plan de tratamiento integral (PTI) con objetivos para el trabajo | B15: =SUM(C15:D15) -> 0 | C15: =SUM(E15,G15,I15,K15,M15,O15,Q15,S15,U15,W15,Y15,AA15,AC15,AE15,AG15,AI15,AK15) -> 0 | D15: =SUM(F15,H15,J15,L15,N15,P15,R15,T15,V15,X15,Z15,AB15,AD15,AF15,AH15,AJ15,AL15) -> 0 | AT15: =CA15&CB15&CC15&CD15 | CA15: =IF(AM15+AN15+AO15+AP15<>$B15,"* La suma de "&AM$10&""&" no puede ser distinto del Total Ambos Sexos. ","") | CB15: =IF(AND($B15<>0,AQ15=""),"* No olvide ingresar la variable Personas con discapacidad (con RND). Digite Cero si no tiene. ",IF(AQ15>$B15,"* La variable Personas con discapacidad (con RND) no puede superar el Total Ambos Sexos. ","")) | CC15: =IF(AND($B15<>0,AR15=""),"* No olvide ingresar la variable Pueblos Originarios. Digite CERO si no tiene. ",IF(AR15>$B15,"* La variable Pueblos Originarios no puede superar el Total Ambos Sexos. ","")) | CD15: =IF(AND($B15<>0,AS15=""),"* No olvide ingresar la variable Migrantes. Digite CERO si no tiene. ",IF(AS15>$B15,"* La variable Migrantes no puede superar el Total Ambos Sexos. ","")) | CM15: =IF(AM15+AN15+AO15+AP15<>$B15,1,0) -> 0 | CN15: =IF(AND($B15<>0,AQ15=""),1,IF(AQ15>$B15,1,0)) -> 0 | CO15: =IF(AND($B15<>0,AR15=""),1,IF(AR15>$B15,1,0)) -> 0 | CP15: =IF(AND($B15<>0,AS15=""),1,IF(AS15>$B15,1,0)) -> 0
A16: Ingresos de usuarios con cuidador | B16: =SUM(C16:D16) -> 0 | C16: =SUM(E16,G16,I16,K16,M16,O16,Q16,S16,U16,W16,Y16,AA16,AC16,AE16,AG16,AI16,AK16) -> 0 | D16: =SUM(F16,H16,J16,L16,N16,P16,R16,T16,V16,X16,Z16,AB16,AD16,AF16,AH16,AJ16,AL16) -> 0 | AT16: =CA16&CB16&CC16&CD16 | CA16: =IF(AM16+AN16+AO16+AP16<>$B16,"* La suma de "&AM$10&""&" no puede ser distinto del Total Ambos Sexos. ","") | CB16: =IF(AND($B16<>0,AQ16=""),"* No olvide ingresar la variable Personas con discapacidad (con RND). Digite Cero si no tiene. ",IF(AQ16>$B16,"* La variable Personas con discapacidad (con RND) no puede superar el Total Ambos Sexos. ","")) | CC16: =IF(AND($B16<>0,AR16=""),"* No olvide ingresar la variable Pueblos Originarios. Digite CERO si no tiene. ",IF(AR16>$B16,"* La variable Pueblos Originarios no puede superar el Total Ambos Sexos. ","")) | CD16: =IF(AND($B16<>0,AS16=""),"* No olvide ingresar la variable Migrantes. Digite CERO si no tiene. ",IF(AS16>$B16,"* La variable Migrantes no puede superar el Total Ambos Sexos. ","")) | CM16: =IF(AM16+AN16+AO16+AP16<>$B16,1,0) -> 0 | CN16: =IF(AND($B16<>0,AQ16=""),1,IF(AQ16>$B16,1,0)) -> 0 | CO16: =IF(AND($B16<>0,AR16=""),1,IF(AR16>$B16,1,0)) -> 0 | CP16: =IF(AND($B16<>0,AS16=""),1,IF(AS16>$B16,1,0)) -> 0
A17: Reingreso | B17: =SUM(C17:D17) -> 0 | C17: =SUM(E17,G17,I17,K17,M17,O17,Q17,S17,U17,W17,Y17,AA17,AC17,AE17,AG17,AI17,AK17) -> 0 | D17: =SUM(F17,H17,J17,L17,N17,P17,R17,T17,V17,X17,Z17,AB17,AD17,AF17,AH17,AJ17,AL17) -> 0 | AT17: =CA17&CB17&CC17&CD17 | CA17: =IF(AM17+AN17+AO17+AP17<>$B17,"* La suma de "&AM$10&""&" no puede ser distinto del Total Ambos Sexos. ","") | CB17: =IF(AND($B17<>0,AQ17=""),"* No olvide ingresar la variable Personas con discapacidad (con RND). Digite Cero si no tiene. ",IF(AQ17>$B17,"* La variable Personas con discapacidad (con RND) no puede superar el Total Ambos Sexos. ","")) | CC17: =IF(AND($B17<>0,AR17=""),"* No olvide ingresar la variable Pueblos Originarios. Digite CERO si no tiene. ",IF(AR17>$B17,"* La variable Pueblos Originarios no puede superar el Total Ambos Sexos. ","")) | CD17: =IF(AND($B17<>0,AS17=""),"* No olvide ingresar la variable Migrantes. Digite CERO si no tiene. ",IF(AS17>$B17,"* La variable Migrantes no puede superar el Total Ambos Sexos. ","")) | CM17: =IF(AM17+AN17+AO17+AP17<>$B17,1,0) -> 0 | CN17: =IF(AND($B17<>0,AQ17=""),1,IF(AQ17>$B17,1,0)) -> 0 | CO17: =IF(AND($B17<>0,AR17=""),1,IF(AR17>$B17,1,0)) -> 0 | CP17: =IF(AND($B17<>0,AS17=""),1,IF(AS17>$B17,1,0)) -> 0
A18: Ingresos con PTI cuidador | B18: =SUM(C18:D18) -> 0 | C18: =SUM(E18,G18,I18,K18,M18,O18,Q18,S18,U18,W18,Y18,AA18,AC18,AE18,AG18,AI18,AK18) -> 0 | D18: =SUM(F18,H18,J18,L18,N18,P18,R18,T18,V18,X18,Z18,AB18,AD18,AF18,AH18,AJ18,AL18) -> 0 | AT18: =CA18&CB18&CC18&CD18 | CA18: =IF(AM18+AN18+AO18+AP18<>$B18,"* La suma de "&AM$10&""&" no puede ser distinto del Total Ambos Sexos. ","") | CB18: =IF(AND($B18<>0,AQ18=""),"* No olvide ingresar la variable Personas con discapacidad (con RND). Digite Cero si no tiene. ",IF(AQ18>$B18,"* La variable Personas con discapacidad (con RND) no puede superar el Total Ambos Sexos. ","")) | CC18: =IF(AND($B18<>0,AR18=""),"* No olvide ingresar la variable Pueblos Originarios. Digite CERO si no tiene. ",IF(AR18>$B18,"* La variable Pueblos Originarios no puede superar el Total Ambos Sexos. ","")) | CD18: =IF(AND($B18<>0,AS18=""),"* No olvide ingresar la variable Migrantes. Digite CERO si no tiene. ",IF(AS18>$B18,"* La variable Migrantes no puede superar el Total Ambos Sexos. ","")) | CM18: =IF(AM18+AN18+AO18+AP18<>$B18,1,0) -> 0 | CN18: =IF(AND($B18<>0,AQ18=""),1,IF(AQ18>$B18,1,0)) -> 0 | CO18: =IF(AND($B18<>0,AR18=""),1,IF(AR18>$B18,1,0)) -> 0 | CP18: =IF(AND($B18<>0,AS18=""),1,IF(AS18>$B18,1,0)) -> 0
A19: Egresos | B19: =SUM(C19:D19) -> 0 | C19: =SUM(E19,G19,I19,K19,M19,O19,Q19,S19,U19,W19,Y19,AA19,AC19,AE19,AG19,AI19,AK19) -> 0 | D19: =SUM(F19,H19,J19,L19,N19,P19,R19,T19,V19,X19,Z19,AB19,AD19,AF19,AH19,AJ19,AL19) -> 0 | E19: =SUM(E20:E24) -> 0 | F19: =SUM(F20:F24) -> 0 | G19: =SUM(G20:G24) -> 0 | H19: =SUM(H20:H24) -> 0 | I19: =SUM(I20:I24) -> 0 | J19: =SUM(J20:J24) -> 0 | K19: =SUM(K20:K24) -> 0 | L19: =SUM(L20:L24) -> 0 | ... AS19: =SUM(AS20:AS24) -> 0
A20: Egresos por alta | B20: =SUM(C20:D20) -> 0 | C20: =SUM(E20,G20,I20,K20,M20,O20,Q20,S20,U20,W20,Y20,AA20,AC20,AE20,AG20,AI20,AK20) -> 0 | D20: =SUM(F20,H20,J20,L20,N20,P20,R20,T20,V20,X20,Z20,AB20,AD20,AF20,AH20,AJ20,AL20) -> 0 | AT20: =CA20&CB20&CC20&CD20 | CA20: =IF(AM20+AN20+AO20+AP20<>$B20,"* La suma de "&AM$10&""&" no puede ser distinto del Total Ambos Sexos. ","") | CB20: =IF(AND($B20<>0,AQ20=""),"* No olvide ingresar la variable Personas con discapacidad (con RND). Digite Cero si no tiene. ",IF(AQ20>$B20,"* La variable Personas con discapacidad (con RND) no puede superar el Total Ambos Sexos. ","")) | CC20: =IF(AND($B20<>0,AR20=""),"* No olvide ingresar la variable Pueblos Originarios. Digite CERO si no tiene. ",IF(AR20>$B20,"* La variable Pueblos Originarios no puede superar el Total Ambos Sexos. ","")) | CD20: =IF(AND($B20<>0,AS20=""),"* No olvide ingresar la variable Migrantes. Digite CERO si no tiene. ",IF(AS20>$B20,"* La variable Migrantes no puede superar el Total Ambos Sexos. ","")) | CM20: =IF(AM20+AN20+AO20+AP20<>$B20,1,0) -> 0 | CN20: =IF(AND($B20<>0,AQ20=""),1,IF(AQ20>$B20,1,0)) -> 0 | CO20: =IF(AND($B20<>0,AR20=""),1,IF(AR20>$B20,1,0)) -> 0 | CP20: =IF(AND($B20<>0,AS20=""),1,IF(AS20>$B20,1,0)) -> 0
A21: Egresos por abandono | B21: =SUM(C21:D21) -> 0 | C21: =SUM(E21,G21,I21,K21,M21,O21,Q21,S21,U21,W21,Y21,AA21,AC21,AE21,AG21,AI21,AK21) -> 0 | D21: =SUM(F21,H21,J21,L21,N21,P21,R21,T21,V21,X21,Z21,AB21,AD21,AF21,AH21,AJ21,AL21) -> 0 | AT21: =CA21&CB21&CC21&CD21 | CA21: =IF(AM21+AN21+AO21+AP21<>$B21,"* La suma de "&AM$10&""&" no puede ser distinto del Total Ambos Sexos. ","") | CB21: =IF(AND($B21<>0,AQ21=""),"* No olvide ingresar la variable Personas con discapacidad (con RND). Digite Cero si no tiene. ",IF(AQ21>$B21,"* La variable Personas con discapacidad (con RND) no puede superar el Total Ambos Sexos. ","")) | CC21: =IF(AND($B21<>0,AR21=""),"* No olvide ingresar la variable Pueblos Originarios. Digite CERO si no tiene. ",IF(AR21>$B21,"* La variable Pueblos Originarios no puede superar el Total Ambos Sexos. ","")) | CD21: =IF(AND($B21<>0,AS21=""),"* No olvide ingresar la variable Migrantes. Digite CERO si no tiene. ",IF(AS21>$B21,"* La variable Migrantes no puede superar el Total Ambos Sexos. ","")) | CM21: =IF(AM21+AN21+AO21+AP21<>$B21,1,0) -> 0 | CN21: =IF(AND($B21<>0,AQ21=""),1,IF(AQ21>$B21,1,0)) -> 0 | CO21: =IF(AND($B21<>0,AR21=""),1,IF(AR21>$B21,1,0)) -> 0 | CP21: =IF(AND($B21<>0,AS21=""),1,IF(AS21>$B21,1,0)) -> 0
A22: Egresos por fallecimiento | B22: =SUM(C22:D22) -> 0 | C22: =SUM(E22,G22,I22,K22,M22,O22,Q22,S22,U22,W22,Y22,AA22,AC22,AE22,AG22,AI22,AK22) -> 0 | D22: =SUM(F22,H22,J22,L22,N22,P22,R22,T22,V22,X22,Z22,AB22,AD22,AF22,AH22,AJ22,AL22) -> 0 | AT22: =CA22&CB22&CC22&CD22 | CA22: =IF(AM22+AN22+AO22+AP22<>$B22,"* La suma de "&AM$10&""&" no puede ser distinto del Total Ambos Sexos. ","") | CB22: =IF(AND($B22<>0,AQ22=""),"* No olvide ingresar la variable Personas con discapacidad (con RND). Digite Cero si no tiene. ",IF(AQ22>$B22,"* La variable Personas con discapacidad (con RND) no puede superar el Total Ambos Sexos. ","")) | CC22: =IF(AND($B22<>0,AR22=""),"* No olvide ingresar la variable Pueblos Originarios. Digite CERO si no tiene. ",IF(AR22>$B22,"* La variable Pueblos Originarios no puede superar el Total Ambos Sexos. ","")) | CD22: =IF(AND($B22<>0,AS22=""),"* No olvide ingresar la variable Migrantes. Digite CERO si no tiene. ",IF(AS22>$B22,"* La variable Migrantes no puede superar el Total Ambos Sexos. ","")) | CM22: =IF(AM22+AN22+AO22+AP22<>$B22,1,0) -> 0 | CN22: =IF(AND($B22<>0,AQ22=""),1,IF(AQ22>$B22,1,0)) -> 0 | CO22: =IF(AND($B22<>0,AR22=""),1,IF(AR22>$B22,1,0)) -> 0 | CP22: =IF(AND($B22<>0,AS22=""),1,IF(AS22>$B22,1,0)) -> 0
A23: Egresos por otras causas | B23: =SUM(C23:D23) -> 0 | C23: =SUM(E23,G23,I23,K23,M23,O23,Q23,S23,U23,W23,Y23,AA23,AC23,AE23,AG23,AI23,AK23) -> 0 | D23: =SUM(F23,H23,J23,L23,N23,P23,R23,T23,V23,X23,Z23,AB23,AD23,AF23,AH23,AJ23,AL23) -> 0 | AT23: =CA23&CB23&CC23&CD23 | CA23: =IF(AM23+AN23+AO23+AP23<>$B23,"* La suma de "&AM$10&""&" no puede ser distinto del Total Ambos Sexos. ","") | CB23: =IF(AND($B23<>0,AQ23=""),"* No olvide ingresar la variable Personas con discapacidad (con RND). Digite Cero si no tiene. ",IF(AQ23>$B23,"* La variable Personas con discapacidad (con RND) no puede superar el Total Ambos Sexos. ","")) | CC23: =IF(AND($B23<>0,AR23=""),"* No olvide ingresar la variable Pueblos Originarios. Digite CERO si no tiene. ",IF(AR23>$B23,"* La variable Pueblos Originarios no puede superar el Total Ambos Sexos. ","")) | CD23: =IF(AND($B23<>0,AS23=""),"* No olvide ingresar la variable Migrantes. Digite CERO si no tiene. ",IF(AS23>$B23,"* La variable Migrantes no puede superar el Total Ambos Sexos. ","")) | CM23: =IF(AM23+AN23+AO23+AP23<>$B23,1,0) -> 0 | CN23: =IF(AND($B23<>0,AQ23=""),1,IF(AQ23>$B23,1,0)) -> 0 | CO23: =IF(AND($B23<>0,AR23=""),1,IF(AR23>$B23,1,0)) -> 0 | CP23: =IF(AND($B23<>0,AS23=""),1,IF(AS23>$B23,1,0)) -> 0
A24: Egresos con PTI cuidador | B24: =SUM(C24:D24) -> 0 | C24: =SUM(E24,G24,I24,K24,M24,O24,Q24,S24,U24,W24,Y24,AA24,AC24,AE24,AG24,AI24,AK24) -> 0 | D24: =SUM(F24,H24,J24,L24,N24,P24,R24,T24,V24,X24,Z24,AB24,AD24,AF24,AH24,AJ24,AL24) -> 0 | AT24: =CA24&CB24&CC24&CD24 | CA24: =IF(AM24+AN24+AO24+AP24<>$B24,"* La suma de "&AM$10&""&" no puede ser distinto del Total Ambos Sexos. ","") | CB24: =IF(AND($B24<>0,AQ24=""),"* No olvide ingresar la variable Personas con discapacidad (con RND). Digite Cero si no tiene. ",IF(AQ24>$B24,"* La variable Personas con discapacidad (con RND) no puede superar el Total Ambos Sexos. ","")) | CC24: =IF(AND($B24<>0,AR24=""),"* No olvide ingresar la variable Pueblos Originarios. Digite CERO si no tiene. ",IF(AR24>$B24,"* La variable Pueblos Originarios no puede superar el Total Ambos Sexos. ","")) | CD24: =IF(AND($B24<>0,AS24=""),"* No olvide ingresar la variable Migrantes. Digite CERO si no tiene. ",IF(AS24>$B24,"* La variable Migrantes no puede superar el Total Ambos Sexos. ","")) | CM24: =IF(AM24+AN24+AO24+AP24<>$B24,1,0) -> 0 | CN24: =IF(AND($B24<>0,AQ24=""),1,IF(AQ24>$B24,1,0)) -> 0 | CO24: =IF(AND($B24<>0,AR24=""),1,IF(AR24>$B24,1,0)) -> 0 | CP24: =IF(AND($B24<>0,AS24=""),1,IF(AS24>$B24,1,0)) -> 0
A25: SECCIÓN A.2: INGRESOS POR CONDICIÓN DE SALUD
A26: CONDICIÓN DE SALUD | B26: TOTAL | E26: RANGO ETARIO Y SEXO | AM26: TIPO DE ESTRATEGIA
E27: 0 a 4 años | G27: 5 a 9 años | I27: 10 - 14 | K27: 15 - 19 | M27: 20 - 24 | O27: 25-29 | Q27: 30-34 | S27: 35 - 39 | U27: 40 - 44 | W27: 45- 49 | Y27: 50 - 54 | AA27: 55 - 59 | AC27: 60 - 64 | AE27: 65 - 69 | AG27: 70 - 74 | AI27: 75 - 79 | AK27: 80 y más años | AM27: Rehabilitación NNA | AN27: Rehabilitación Integral APS | AO27: Otros Rehabilitación | AP27: Rehabilitación móvil (rural)
B28: Ambos Sexos | C28: Hombres | D28: Mujeres | E28: Hombres | F28: Mujeres | G28: Hombres | H28: Mujeres | I28: Hombres | J28: Mujeres | K28: Hombres | L28: Mujeres | M28: Hombres | N28: Mujeres | O28: Hombres | P28: Mujeres | Q28: Hombres | R28: Mujeres | S28: Hombres | T28: Mujeres | U28: Hombres | V28: Mujeres | W28: Hombres | X28: Mujeres | Y28: Hombres | Z28: Mujeres | AA28: Hombres | AB28: Mujeres | AC28: Hombres | AD28: Mujeres | AE28: Hombres | AF28: Mujeres | AG28: Hombres | AH28: Mujeres | AI28: Hombres | AJ28: Mujeres | AK28: Hombres | AL28: Mujeres | CM28: =IF(B29<>SUM(B30:B50),1,0) -> 0
A29: Total ingreso (N° de personas) | B29: =SUM(C29:D29) -> 0 | C29: =+E29+G29+I29+K29+M29+O29+Q29+S29+U29+W29+Y29+AA29+AC29+AE29+AG29+AI29+AK29 -> 0 | D29: =+F29+H29+J29+L29+N29+P29+R29+T29+V29+X29+Z29+AB29+AD29+AF29+AH29+AJ29+AL29 -> 0 | AQ29: =CB29&CA29&CC29&CD29&CE29&CF29 | CA29: =IF(CM28=1,"* Existen Condiciones de Salud que son mayores al Total de Ingreso (N° Personas). ","") | CB29: =IF(CM29=1," * El total de Ingresos debe ser igual a la suma de los Tipos de Estrategia. ","") | CC29: =IF(CN29=1,"* Existen Condiciones de Salud en la variable Rehabilitación NNA que son Mayores a los Ingreso (N° Personas). ","") | CD29: =IF(CO29=1,"* Existen Condiciones de Salud en la variable Rehabilitación Integral APS que son Mayores a los Ingreso (N° Personas). ","") | CE29: =IF(CP29=1,"* Existen Condiciones de Salud en la variable Otros Rehabilitación que son Mayores a los Ingreso (N° Personas). ","") | CF29: =IF(CQ29=1,"* Existen Condiciones de Salud en la variable Rehabilitación móvil (rural) que son Mayores a los Ingreso (N° Personas). ","") | CM29: =IF(SUM(AM29:AP29)=B29,0,1) -> 0 | CN29: =IF($AM29<MAX($AM30:$AM50),1,0) -> 0 | CO29: =IF(AN29<MAX(AN30:AN50),1,0) -> 0 | CP29: =IF(AO29<MAX(AO30:AO50),1,0) -> 0 | CQ29: =IF(AP29<MAX(AP30:AP50),1,0) -> 0
A30: Dolor cervical agudo | B30: =SUM(C30:D30) -> 0 | C30: =+E30+G30+I30+K30+M30+O30+Q30+S30+U30+W30+Y30+AA30+AC30+AE30+AG30+AI30+AK30 -> 0 | D30: =+F30+H30+J30+L30+N30+P30+R30+T30+V30+X30+Z30+AB30+AD30+AF30+AH30+AJ30+AL30 -> 0 | AQ30: =CA30&CB30&CC30&CD30&CE30&CF30 | CB30: =IF(CM30=1," * El total de Ingresos debe ser igual a la suma de los Tipos de Estrategia. ","") | CM30: =IF(SUM(AM30:AP30)=B30,0,1) -> 0
A31: Dolor lumbar agudo | B31: =SUM(C31:D31) -> 0 | C31: =+E31+G31+I31+K31+M31+O31+Q31+S31+U31+W31+Y31+AA31+AC31+AE31+AG31+AI31+AK31 -> 0 | D31: =+F31+H31+J31+L31+N31+P31+R31+T31+V31+X31+Z31+AB31+AD31+AF31+AH31+AJ31+AL31 -> 0 | AQ31: =CA31&CB31 | CB31: =IF(CM31=1," * El total de Ingresos debe ser igual a la suma de los Tipos de Estrategia. ","") | CM31: =IF(SUM(AM31:AP31)=B31,0,1) -> 0
A32: Hombro doloroso agudo | B32: =SUM(C32:D32) -> 0 | C32: =+E32+G32+I32+K32+M32+O32+Q32+S32+U32+W32+Y32+AA32+AC32+AE32+AG32+AI32+AK32 -> 0 | D32: =+F32+H32+J32+L32+N32+P32+R32+T32+V32+X32+Z32+AB32+AD32+AF32+AH32+AJ32+AL32 -> 0 | AQ32: =CA32&CB32 | CB32: =IF(CM32=1," * El total de Ingresos debe ser igual a la suma de los Tipos de Estrategia. ","") | CM32: =IF(SUM(AM32:AP32)=B32,0,1) -> 0
A33: Otro dolor musculoesquelético agudo | B33: =SUM(C33:D33) -> 0 | C33: =+E33+G33+I33+K33+M33+O33+Q33+S33+U33+W33+Y33+AA33+AC33+AE33+AG33+AI33+AK33 -> 0 | D33: =+F33+H33+J33+L33+N33+P33+R33+T33+V33+X33+Z33+AB33+AD33+AF33+AH33+AJ33+AL33 -> 0 | AQ33: =CA33&CB33 | CB33: =IF(CM33=1," * El total de Ingresos debe ser igual a la suma de los Tipos de Estrategia. ","") | CM33: =IF(SUM(AM33:AP33)=B33,0,1) -> 0
A34: Artrosis de rodilla y cadera | B34: =SUM(C34:D34) -> 0 | C34: =+E34+G34+I34+K34+M34+O34+Q34+S34+U34+W34+Y34+AA34+AC34+AE34+AG34+AI34+AK34 -> 0 | D34: =+F34+H34+J34+L34+N34+P34+R34+T34+V34+X34+Z34+AB34+AD34+AF34+AH34+AJ34+AL34 -> 0 | AQ34: =CA34&CB34 | CB34: =IF(CM34=1," * El total de Ingresos debe ser igual a la suma de los Tipos de Estrategia. ","") | CM34: =IF(SUM(AM34:AP34)=B34,0,1) -> 0
A35: Artritis reumatoidea | B35: =SUM(C35:D35) -> 0 | C35: =+E35+G35+I35+K35+M35+O35+Q35+S35+U35+W35+Y35+AA35+AC35+AE35+AG35+AI35+AK35 -> 0 | D35: =+F35+H35+J35+L35+N35+P35+R35+T35+V35+X35+Z35+AB35+AD35+AF35+AH35+AJ35+AL35 -> 0 | AQ35: =CA35&CB35 | CB35: =IF(CM35=1," * El total de Ingresos debe ser igual a la suma de los Tipos de Estrategia. ","") | CM35: =IF(SUM(AM35:AP35)=B35,0,1) -> 0
A36: Otro dolor musculoesquelético crónico | B36: =SUM(C36:D36) -> 0 | C36: =+E36+G36+I36+K36+M36+O36+Q36+S36+U36+W36+Y36+AA36+AC36+AE36+AG36+AI36+AK36 -> 0 | D36: =+F36+H36+J36+L36+N36+P36+R36+T36+V36+X36+Z36+AB36+AD36+AF36+AH36+AJ36+AL36 -> 0 | AQ36: =CA36&CB36 | CB36: =IF(CM36=1," * El total de Ingresos debe ser igual a la suma de los Tipos de Estrategia. ","") | CM36: =IF(SUM(AM36:AP36)=B36,0,1) -> 0
A37: Ataque cerebro vascular (ACV) | B37: =SUM(C37:D37) -> 0 | C37: =+E37+G37+I37+K37+M37+O37+Q37+S37+U37+W37+Y37+AA37+AC37+AE37+AG37+AI37+AK37 -> 0 | D37: =+F37+H37+J37+L37+N37+P37+R37+T37+V37+X37+Z37+AB37+AD37+AF37+AH37+AJ37+AL37 -> 0 | AQ37: =CA37&CB37 | CB37: =IF(CM37=1," * El total de Ingresos debe ser igual a la suma de los Tipos de Estrategia. ","") | CM37: =IF(SUM(AM37:AP37)=B37,0,1) -> 0
A38: Traumatismo encéfalo craneano (TEC) | B38: =SUM(C38:D38) -> 0 | C38: =+E38+G38+I38+K38+M38+O38+Q38+S38+U38+W38+Y38+AA38+AC38+AE38+AG38+AI38+AK38 -> 0 | D38: =+F38+H38+J38+L38+N38+P38+R38+T38+V38+X38+Z38+AB38+AD38+AF38+AH38+AJ38+AL38 -> 0 | AQ38: =CA38&CB38 | CB38: =IF(CM38=1," * El total de Ingresos debe ser igual a la suma de los Tipos de Estrategia. ","") | CM38: =IF(SUM(AM38:AP38)=B38,0,1) -> 0
A39: Lesión medular | B39: =SUM(C39:D39) -> 0 | C39: =+E39+G39+I39+K39+M39+O39+Q39+S39+U39+W39+Y39+AA39+AC39+AE39+AG39+AI39+AK39 -> 0 | D39: =+F39+H39+J39+L39+N39+P39+R39+T39+V39+X39+Z39+AB39+AD39+AF39+AH39+AJ39+AL39 -> 0 | AQ39: =CA39&CB39 | CB39: =IF(CM39=1," * El total de Ingresos debe ser igual a la suma de los Tipos de Estrategia. ","") | CM39: =IF(SUM(AM39:AP39)=B39,0,1) -> 0
A40: Enfermedad de Parkinson | B40: =SUM(C40:D40) -> 0 | C40: =+E40+G40+I40+K40+M40+O40+Q40+S40+U40+W40+Y40+AA40+AC40+AE40+AG40+AI40+AK40 -> 0 | D40: =+F40+H40+J40+L40+N40+P40+R40+T40+V40+X40+Z40+AB40+AD40+AF40+AH40+AJ40+AL40 -> 0 | AQ40: =CA40&CB40 | CB40: =IF(CM40=1," * El total de Ingresos debe ser igual a la suma de los Tipos de Estrategia. ","") | CM40: =IF(SUM(AM40:AP40)=B40,0,1) -> 0
A41: Enfermedades neuromusculares | B41: =SUM(C41:D41) -> 0 | C41: =+E41+G41+I41+K41+M41+O41+Q41+S41+U41+W41+Y41+AA41+AC41+AE41+AG41+AI41+AK41 -> 0 | D41: =+F41+H41+J41+L41+N41+P41+R41+T41+V41+X41+Z41+AB41+AD41+AF41+AH41+AJ41+AL41 -> 0 | AQ41: =CA41&CB41 | CB41: =IF(CM41=1," * El total de Ingresos debe ser igual a la suma de los Tipos de Estrategia. ","") | CM41: =IF(SUM(AM41:AP41)=B41,0,1) -> 0
A42: Alteraciones en el desarrollo psicomotor | B42: =SUM(C42:D42) -> 0 | C42: =+E42+G42+I42+K42+M42+O42+Q42+S42+U42+W42+Y42+AA42+AC42+AE42+AG42+AI42+AK42 -> 0 | D42: =+F42+H42+J42+L42+N42+P42+R42+T42+V42+X42+Z42+AB42+AD42+AF42+AH42+AJ42+AL42 -> 0 | AQ42: =CA42&CB42 | CB42: =IF(CM42=1," * El total de Ingresos debe ser igual a la suma de los Tipos de Estrategia. ","") | CM42: =IF(SUM(AM42:AP42)=B42,0,1) -> 0
... A48: Quemados | B48: =SUM(C48:D48) -> 0 | C48: =+E48+G48+I48+K48+M48+O48+Q48+S48+U48+W48+Y48+AA48+AC48+AE48+AG48+AI48+AK48 -> 0 | D48: =+F48+H48+J48+L48+N48+P48+R48+T48+V48+X48+Z48+AB48+AD48+AF48+AH48+AJ48+AL48 -> 0 | AQ48: =CA48&CB48 | CB48: =IF(CM48=1," * El total de Ingresos debe ser igual a la suma de los Tipos de Estrategia. ","") | CM48: =IF(SUM(AM48:AP48)=B48,0,1) -> 0
A49: COVID-19 | B49: =SUM(C49:D49) -> 0 | C49: =+E49+G49+I49+K49+M49+O49+Q49+S49+U49+W49+Y49+AA49+AC49+AE49+AG49+AI49+AK49 -> 0 | D49: =+F49+H49+J49+L49+N49+P49+R49+T49+V49+X49+Z49+AB49+AD49+AF49+AH49+AJ49+AL49 -> 0 | AQ49: =CB49 | CB49: =IF(CM49=1," * El total de Ingresos debe ser igual a la suma de los Tipos de Estrategia. ","") | CM49: =IF(SUM(AM49:AP49)=B49,0,1) -> 0
A50: Otros | B50: =SUM(C50:D50) -> 0 | C50: =+E50+G50+I50+K50+M50+O50+Q50+S50+U50+W50+Y50+AA50+AC50+AE50+AG50+AI50+AK50 -> 0 | D50: =+F50+H50+J50+L50+N50+P50+R50+T50+V50+X50+Z50+AB50+AD50+AF50+AH50+AJ50+AL50 -> 0 | AQ50: =CB50 | CB50: =IF(CM50=1," * El total de Ingresos debe ser igual a la suma de los Tipos de Estrategia. ","") | CM50: =IF(SUM(AM50:AP50)=B50,0,1) -> 0
A51: Alteraciones visuales | B51: =SUM(C51:D51) -> 0 | C51: =+E51+G51+I51+K51+M51+O51+Q51+S51+U51+W51+Y51+AA51+AC51+AE51+AG51+AI51+AK51 -> 0 | D51: =+F51+H51+J51+L51+N51+P51+R51+T51+V51+X51+Z51+AB51+AD51+AF51+AH51+AJ51+AL51 -> 0 | AQ51: =CB51 | CB51: =IF(CM51=1," * El total de Ingresos debe ser igual a la suma de los Tipos de Estrategia. ","") | CM51: =IF(SUM(AM51:AP51)=B51,0,1) -> 0
A52: Alteraciones auditivas | B52: =SUM(C52:D52) -> 0 | C52: =+E52+G52+I52+K52+M52+O52+Q52+S52+U52+W52+Y52+AA52+AC52+AE52+AG52+AI52+AK52 -> 0 | D52: =+F52+H52+J52+L52+N52+P52+R52+T52+V52+X52+Z52+AB52+AD52+AF52+AH52+AJ52+AL52 -> 0 | AQ52: =CA52&CB52 | CB52: =IF(CM52=1," * El total de Ingresos debe ser igual a la suma de los Tipos de Estrategia. ","") | CM52: =IF(SUM(AM52:AP52)=B52,0,1) -> 0
A53: SECCIÓN A.3: EVALUACIÓN INICIAL
