Workbook

Sheet CONSOLIDADO
A1: SERVICIO DE SALUD
A2: =CONCATENATE("COMUNA: ",[1]NOMBRE!B2, " (",[1]NOMBRE!C2,[1]NOMBRE!D2,[1]NOMBRE!E2,[1]NOMBRE!F2,[1]NOMBRE!G2,")") -> COMUNA: ()
A3: =CONCATENATE("ESTABLECIMIENTO/ESTRATEGIA: ", [1]NOMBRE!B3, " (",[1]NOMBRE!C3,[1]NOMBRE!D3,[1]NOMBRE!E3,[1]NOMBRE!F3,[1]NOMBRE!G3,[1]NOMBRE!H3,")") -> ESTABLECIMIENTO/ESTRATEGIA: ()
A4: =CONCATENATE("MES: ",[1]NOMBRE!B6, " (",[1]NOMBRE!C6,[1]NOMBRE!D6,")") -> MES: ()
A5: =CONCATENATE("AÑO: ",[1]NOMBRE!B7) -> AÑO: 2025
A6: REM-27. EDUCACIÓN PARA LA SALUD
A8: SECCIÓN A: PERSONAS QUE INGRESAN A EDUCACIÓN GRUPAL SEGÚN ÁREAS TEMÁTICAS Y EDAD
A9: ÁREAS TEMÁTICAS DE PREVENCIÓN | D9: TOTAL | E9: Madre, Padre o Cuidador de: | J9: RANGO ETARIO | Y9: Gestantes | AB9: Familias en Riesgo | AC9: Pueblos Originarios | AD9: Migrantes | AE9: Espacios Amigables/ Adolescentes | AF9: TRANS | AH9: Niños, niñas, adolescentes y jóvenes SENAME | AI9: Niños, niñas, adolescentes y jóvenes Mejor Niñez
E10: Menos de 1 año | F10: Niños 12 - 23 meses | G10: Niños de 2 - 5 años | H10: Niños de 6 - 9 años | I10: Niños de 10 - 14 años | J10: 10 - 14 años | K10: 15 - 19 años | L10: 20 - 24 años | M10: 25 - 29 años | N10: 30 - 34 años | O10: 35 - 39 años | P10: 40 - 44 años | Q10: 45 - 49 años | R10: 50 - 54 años | S10: 55 - 59 años | T10: 60 - 64 años | U10: 65 - 69 años | V10: 70 - 74 años | W10: 75 - 79 años | X10: 80 y más años | Y10: APS | Z10: Nivel Secundario | AA10: Nivel Terciario | AF10: Masculino | AG10: Femenino
A11: Educación en grupo | B11: Estimulación desarrollo psicomotor | D11: =SUM(E11:G11) -> 0 | E11: =SUM(ENERO:DICIEMBRE!E11) -> 0 | F11: =SUM(ENERO:DICIEMBRE!F11) -> 0 | G11: =SUM(ENERO:DICIEMBRE!G11) -> 0 | Y11: =SUM(ENERO:DICIEMBRE!Y11) -> 0 | AC11: =SUM(ENERO:DICIEMBRE!AC11) -> 0 | AD11: =SUM(ENERO:DICIEMBRE!AD11) -> 0 | AE11: =SUM(ENERO:DICIEMBRE!AE11) -> 0 | AF11: =SUM(ENERO:DICIEMBRE!AF11) -> 0 | AG11: =SUM(ENERO:DICIEMBRE!AG11) -> 0 | AH11: =SUM(ENERO:DICIEMBRE!AH11) -> 0 | AI11: =SUM(ENERO:DICIEMBRE!AI11) -> 0 | AJ11: =CB11&CC11&CD11&CE11&CF11&CG11&CH11 | CC11: =IF(AND($D11<>0,AC11=""),"* No olvide ingresar la variable "&AC$9&""&" (Digite CERO si no tiene). ",IF(AC11>$D11,"* La variable Pueblos Originarios no puede superar el Total. ","")) | CD11: =IF(AND($D11<>0,AD11=""),"* No olvide ingresar la variable "&AD$9&""&" (Digite CERO si no tiene). ",IF(AD11>$D11,"* La variable Migrantes no puede superar el Total. ","")) | CE11: =IF(AND($D11<>0,AE11=""),"* No olvide ingresar la variable "&AE$9&""&" (Digite CERO si no tiene). ",IF(AE11>$D11,"* La variable Espacios Amigables/ Adolescentes no puede superar el Total. ","")) | CF11: =IF(AND(D11>0,OR(AF11="",AG11="",))," * No olvide digitar la variable TRANS Masculino/Femenino (Digite CERO si no tiene). ",IF(AF11+AG11>$D11,"* La suma de TRANS Masculino + Femenino no puede superar el Total. ","")) | CG11: =IF(AND(D11>0,AH11=""),"* No olvide digitar la variable Niños, niñas, adolescentes y jóvenes SENAME (Digite CERO si no tiene). ",IF(AH11>$D11,"* La suma de Niños, niñas, adolescentes y jóvenes SENAME no puede superar el Total. ","")) | CH11: =IF(AND(D11>0,AI11=""),"* No olvide digitar la variable Niños, niñas, adolescentes y jóvenes Mejor Niñez (Digite CERO si no tiene). ",IF(AI11>$D11,"* La suma de Niños, niñas, adolescentes y jóvenes Mejor Niñez no puede superar el Total. ","")) | CM11: =IF(AND($D11<>0,AC11=""),1,IF(AC11>$D11,1,0)) -> 0 | CN11: =IF(AND($D11<>0,AD11=""),1,IF(AD11>$D11,1,0)) -> 0 | CO11: =IF(AND($D11<>0,AE11=""),1,IF(AE11>$D11,1,0)) -> 0 | CP11: =IF(AND(D11>0,OR(AF11="",AG11="",)),1,IF(AF11+AG11>$D11,1,0)) -> 0 | CQ11: =IF(AND(D11>0,AH11=""),1,IF(AH11>$D11,1,0)) -> 0 | CR11: =IF(AND(D11>0,AI11=""),1,IF(AI11>$D11,1,0)) -> 0
B12: Nutrición | C12: Riesgo de malnutrición por exceso | D12: =SUM(E12:X12) -> 0 | E12: =SUM(ENERO:DICIEMBRE!E12) -> 0 | F12: =SUM(ENERO:DICIEMBRE!F12) -> 0 | G12: =SUM(ENERO:DICIEMBRE!G12) -> 0 | H12: =SUM(ENERO:DICIEMBRE!H12) -> 0 | I12: =SUM(ENERO:DICIEMBRE!I12) -> 0 | J12: =SUM(ENERO:DICIEMBRE!J12) -> 0 | K12: =SUM(ENERO:DICIEMBRE!K12) -> 0 | L12: =SUM(ENERO:DICIEMBRE!L12) -> 0 | ... Y12: =SUM(ENERO:DICIEMBRE!Y12) -> 0 | AB12: =SUM(ENERO:DICIEMBRE!AB12) -> 0 | AC12: =SUM(ENERO:DICIEMBRE!AC12) -> 0 | AD12: =SUM(ENERO:DICIEMBRE!AD12) -> 0 | AE12: =SUM(ENERO:DICIEMBRE!AE12) -> 0 | AF12: =SUM(ENERO:DICIEMBRE!AF12) -> 0 | AG12: =SUM(ENERO:DICIEMBRE!AG12) -> 0 | AH12: =SUM(ENERO:DICIEMBRE!AH12) -> 0 | AI12: =SUM(ENERO:DICIEMBRE!AI12) -> 0 | AJ12: =CB12&CC12&CD12&CE12&CF12&CG12&CH12 | CB12: =IF(AND($D12<>0,AB12=""),"* No olvide ingresar la columna "&AB$9&""&" (Digite CERO si no tiene). ",IF(AB12>$D12,"* El Número de Familias en Riesgo no puede superar el Total. ","")) | CC12: =IF(AND($D12<>0,AC12=""),"* No olvide ingresar la variable "&AC$9&""&" (Digite CERO si no tiene). ",IF(AC12>$D12,"* La variable Pueblos Originarios no puede superar el Total. ","")) | CD12: =IF(AND($D12<>0,AD12=""),"* No olvide ingresar la variable "&AD$9&""&" (Digite CERO si no tiene). ",IF(AD12>$D12,"* La variable Migrantes no puede superar el Total. ","")) | CE12: =IF(AND($D12<>0,AE12=""),"* No olvide ingresar la variable "&AE$9&""&" (Digite CERO si no tiene). ",IF(AE12>$D12,"* La variable Espacios Amigables/ Adolescentes no puede superar el Total. ","")) | CF12: =IF(AND(D12>0,OR(AF12="",AG12="",))," * No olvide digitar la variable TRANS Masculino/Femenino (Digite CERO si no tiene). ",IF(AF12+AG12>$D12,"* La suma de TRANS Masculino + Femenino no puede superar el Total. ","")) | CG12: =IF(AND(D12>0,AI12=""),"* No olvide digitar la variable Niños, niñas, adolescentes y jóvenes SENAME (Digite CERO si no tiene). ",IF(AI12>$D12,"* La suma de Niños, niñas, adolescentes y jóvenes SENAME no puede superar el Total. ","")) | CH12: =IF(AND(D12>0,AI12=""),"* No olvide digitar la variable Niños, niñas, adolescentes y jóvenes Mejor Niñez (Digite CERO si no tiene). ",IF(AI12>$D12,"* La suma de Niños, niñas, adolescentes y jóvenes Mejor Niñez no puede superar el Total. ","")) | CL12: =IF(AND($D12<>0,AB12=""),1,IF(AB12>$D12,1,0)) -> 0 | CM12: =IF(AND($D12<>0,AC12=""),1,IF(AC12>$D12,1,0)) -> 0 | CN12: =IF(AND($D12<>0,AD12=""),1,IF(AD12>$D12,1,0)) -> 0 | CO12: =IF(AND($D12<>0,AE12=""),1,IF(AE12>$D12,1,0)) -> 0 | CP12: =IF(AND(D12>0,OR(AF12="",AG12="",)),1,IF(AF12+AG12>$D12,1,0)) -> 0 | CQ12: =IF(AND(D12>0,AI12=""),1,IF(AI12>$D12,1,0)) -> 0 | CR12: =IF(AND(D12>0,AI12=""),1,IF(AI12>$D12,1,0)) -> 0
C13: Malnutrición por exceso | D13: =SUM(E13:X13) -> 0 | E13: =SUM(ENERO:DICIEMBRE!E13) -> 0 | F13: =SUM(ENERO:DICIEMBRE!F13) -> 0 | G13: =SUM(ENERO:DICIEMBRE!G13) -> 0 | H13: =SUM(ENERO:DICIEMBRE!H13) -> 0 | I13: =SUM(ENERO:DICIEMBRE!I13) -> 0 | J13: =SUM(ENERO:DICIEMBRE!J13) -> 0 | K13: =SUM(ENERO:DICIEMBRE!K13) -> 0 | L13: =SUM(ENERO:DICIEMBRE!L13) -> 0 | ... Y13: =SUM(ENERO:DICIEMBRE!Y13) -> 0 | AB13: =SUM(ENERO:DICIEMBRE!AB13) -> 0 | AC13: =SUM(ENERO:DICIEMBRE!AC13) -> 0 | AD13: =SUM(ENERO:DICIEMBRE!AD13) -> 0 | AE13: =SUM(ENERO:DICIEMBRE!AE13) -> 0 | AF13: =SUM(ENERO:DICIEMBRE!AF13) -> 0 | AG13: =SUM(ENERO:DICIEMBRE!AG13) -> 0 | AH13: =SUM(ENERO:DICIEMBRE!AH13) -> 0 | AI13: =SUM(ENERO:DICIEMBRE!AI13) -> 0 | AJ13: =CB13&CC13&CD13&CE13&CF13&CG13&CH13 | CB13: =IF(AND($D13<>0,AB13=""),"* No olvide ingresar la columna "&AB$9&""&" (Digite CERO si no tiene). ",IF(AB13>$D13,"* El Número de Familias en Riesgo no puede superar el Total. ","")) | CC13: =IF(AND($D13<>0,AC13=""),"* No olvide ingresar la variable "&AC$9&""&" (Digite CERO si no tiene). ",IF(AC13>$D13,"* La variable Pueblos Originarios no puede superar el Total. ","")) | CD13: =IF(AND($D13<>0,AD13=""),"* No olvide ingresar la variable "&AD$9&""&" (Digite CERO si no tiene). ",IF(AD13>$D13,"* La variable Migrantes no puede superar el Total. ","")) | CE13: =IF(AND($D13<>0,AE13=""),"* No olvide ingresar la variable "&AE$9&""&" (Digite CERO si no tiene). ",IF(AE13>$D13,"* La variable Espacios Amigables/ Adolescentes no puede superar el Total. ","")) | CF13: =IF(AND(D13>0,OR(AF13="",AG13="",))," * No olvide digitar la variable TRANS Masculino/Femenino (Digite CERO si no tiene). ",IF(AF13+AG13>$D13,"* La suma de TRANS Masculino + Femenino no puede superar el Total. ","")) | CG13: =IF(AND(D13>0,AI13=""),"* No olvide digitar la variable Niños, niñas, adolescentes y jóvenes SENAME (Digite CERO si no tiene). ",IF(AI13>$D13,"* La suma de Niños, niñas, adolescentes y jóvenes SENAME no puede superar el Total. ","")) | CH13: =IF(AND(D13>0,AI13=""),"* No olvide digitar la variable Niños, niñas, adolescentes y jóvenes Mejor Niñez (Digite CERO si no tiene). ",IF(AI13>$D13,"* La suma de Niños, niñas, adolescentes y jóvenes Mejor Niñez no puede superar el Total. ","")) | CL13: =IF(AND($D13<>0,AB13=""),1,IF(AB13>$D13,1,0)) -> 0 | CM13: =IF(AND($D13<>0,AC13=""),1,IF(AC13>$D13,1,0)) -> 0 | CN13: =IF(AND($D13<>0,AD13=""),1,IF(AD13>$D13,1,0)) -> 0 | CO13: =IF(AND($D13<>0,AE13=""),1,IF(AE13>$D13,1,0)) -> 0 | CP13: =IF(AND(D13>0,OR(AF13="",AG13="",)),1,IF(AF13+AG13>$D13,1,0)) -> 0 | CQ13: =IF(AND(D13>0,AI13=""),1,IF(AI13>$D13,1,0)) -> 0 | CR13: =IF(AND(D13>0,AI13=""),1,IF(AI13>$D13,1,0)) -> 0
C14: Malnutrición de déficit | D14: =SUM(E14:X14) -> 0 | E14: =SUM(ENERO:DICIEMBRE!E14) -> 0 | F14: =SUM(ENERO:DICIEMBRE!F14) -> 0 | G14: =SUM(ENERO:DICIEMBRE!G14) -> 0 | H14: =SUM(ENERO:DICIEMBRE!H14) -> 0 | I14: =SUM(ENERO:DICIEMBRE!I14) -> 0 | J14: =SUM(ENERO:DICIEMBRE!J14) -> 0 | K14: =SUM(ENERO:DICIEMBRE!K14) -> 0 | L14: =SUM(ENERO:DICIEMBRE!L14) -> 0 | ... Y14: =SUM(ENERO:DICIEMBRE!Y14) -> 0 | AB14: =SUM(ENERO:DICIEMBRE!AB14) -> 0 | AC14: =SUM(ENERO:DICIEMBRE!AC14) -> 0 | AD14: =SUM(ENERO:DICIEMBRE!AD14) -> 0 | AE14: =SUM(ENERO:DICIEMBRE!AE14) -> 0 | AF14: =SUM(ENERO:DICIEMBRE!AF14) -> 0 | AG14: =SUM(ENERO:DICIEMBRE!AG14) -> 0 | AH14: =SUM(ENERO:DICIEMBRE!AH14) -> 0 | AI14: =SUM(ENERO:DICIEMBRE!AI14) -> 0 | AJ14: =CB14&CC14&CD14&CE14&CF14&CG14&CH14 | CB14: =IF(AND($D14<>0,AB14=""),"* No olvide ingresar la columna "&AB$9&""&" (Digite CERO si no tiene). ",IF(AB14>$D14,"* El Número de Familias en Riesgo no puede superar el Total. ","")) | CC14: =IF(AND($D14<>0,AC14=""),"* No olvide ingresar la variable "&AC$9&""&" (Digite CERO si no tiene). ",IF(AC14>$D14,"* La variable Pueblos Originarios no puede superar el Total. ","")) | CD14: =IF(AND($D14<>0,AD14=""),"* No olvide ingresar la variable "&AD$9&""&" (Digite CERO si no tiene). ",IF(AD14>$D14,"* La variable Migrantes no puede superar el Total. ","")) | CE14: =IF(AND($D14<>0,AE14=""),"* No olvide ingresar la variable "&AE$9&""&" (Digite CERO si no tiene). ",IF(AE14>$D14,"* La variable Espacios Amigables/ Adolescentes no puede superar el Total. ","")) | CF14: =IF(AND(D14>0,OR(AF14="",AG14="",))," * No olvide digitar la variable TRANS Masculino/Femenino (Digite CERO si no tiene). ",IF(AF14+AG14>$D14,"* La suma de TRANS Masculino + Femenino no puede superar el Total. ","")) | CG14: =IF(AND(D14>0,AI14=""),"* No olvide digitar la variable Niños, niñas, adolescentes y jóvenes SENAME (Digite CERO si no tiene). ",IF(AI14>$D14,"* La suma de Niños, niñas, adolescentes y jóvenes SENAME no puede superar el Total. ","")) | CH14: =IF(AND(D14>0,AI14=""),"* No olvide digitar la variable Niños, niñas, adolescentes y jóvenes Mejor Niñez (Digite CERO si no tiene). ",IF(AI14>$D14,"* La suma de Niños, niñas, adolescentes y jóvenes Mejor Niñez no puede superar el Total. ","")) | CL14: =IF(AND($D14<>0,AB14=""),1,IF(AB14>$D14,1,0)) -> 0 | CM14: =IF(AND($D14<>0,AC14=""),1,IF(AC14>$D14,1,0)) -> 0 | CN14: =IF(AND($D14<>0,AD14=""),1,IF(AD14>$D14,1,0)) -> 0 | CO14: =IF(AND($D14<>0,AE14=""),1,IF(AE14>$D14,1,0)) -> 0 | CP14: =IF(AND(D14>0,OR(AF14="",AG14="",)),1,IF(AF14+AG14>$D14,1,0)) -> 0 | CQ14: =IF(AND(D14>0,AI14=""),1,IF(AI14>$D14,1,0)) -> 0 | CR14: =IF(AND(D14>0,AI14=""),1,IF(AI14>$D14,1,0)) -> 0
C15: Sin riesgo de malnutrición | D15: =SUM(E15:X15) -> 0 | E15: =SUM(ENERO:DICIEMBRE!E15) -> 0 | F15: =SUM(ENERO:DICIEMBRE!F15) -> 0 | G15: =SUM(ENERO:DICIEMBRE!G15) -> 0 | H15: =SUM(ENERO:DICIEMBRE!H15) -> 0 | I15: =SUM(ENERO:DICIEMBRE!I15) -> 0 | J15: =SUM(ENERO:DICIEMBRE!J15) -> 0 | K15: =SUM(ENERO:DICIEMBRE!K15) -> 0 | L15: =SUM(ENERO:DICIEMBRE!L15) -> 0 | ... Y15: =SUM(ENERO:DICIEMBRE!Y15) -> 0 | AB15: =SUM(ENERO:DICIEMBRE!AB15) -> 0 | AC15: =SUM(ENERO:DICIEMBRE!AC15) -> 0 | AD15: =SUM(ENERO:DICIEMBRE!AD15) -> 0 | AE15: =SUM(ENERO:DICIEMBRE!AE15) -> 0 | AF15: =SUM(ENERO:DICIEMBRE!AF15) -> 0 | AG15: =SUM(ENERO:DICIEMBRE!AG15) -> 0 | AH15: =SUM(ENERO:DICIEMBRE!AH15) -> 0 | AI15: =SUM(ENERO:DICIEMBRE!AI15) -> 0 | AJ15: =CB15&CC15&CD15&CE15&CF15&CG15&CH15 | CB15: =IF(AND($D15<>0,AB15=""),"* No olvide ingresar la columna "&AB$9&""&" (Digite CERO si no tiene). ",IF(AB15>$D15,"* El Número de Familias en Riesgo no puede superar el Total. ","")) | CC15: =IF(AND($D15<>0,AC15=""),"* No olvide ingresar la variable "&AC$9&""&" (Digite CERO si no tiene). ",IF(AC15>$D15,"* La variable Pueblos Originarios no puede superar el Total. ","")) | CD15: =IF(AND($D15<>0,AD15=""),"* No olvide ingresar la variable "&AD$9&""&" (Digite CERO si no tiene). ",IF(AD15>$D15,"* La variable Migrantes no puede superar el Total. ","")) | CE15: =IF(AND($D15<>0,AE15=""),"* No olvide ingresar la variable "&AE$9&""&" (Digite CERO si no tiene). ",IF(AE15>$D15,"* La variable Espacios Amigables/ Adolescentes no puede superar el Total. ","")) | CF15: =IF(AND(D15>0,OR(AF15="",AG15="",))," * No olvide digitar la variable TRANS Masculino/Femenino (Digite CERO si no tiene). ",IF(AF15+AG15>$D15,"* La suma de TRANS Masculino + Femenino no puede superar el Total. ","")) | CG15: =IF(AND(D15>0,AI15=""),"* No olvide digitar la variable Niños, niñas, adolescentes y jóvenes SENAME (Digite CERO si no tiene). ",IF(AI15>$D15,"* La suma de Niños, niñas, adolescentes y jóvenes SENAME no puede superar el Total. ","")) | CH15: =IF(AND(D15>0,AI15=""),"* No olvide digitar la variable Niños, niñas, adolescentes y jóvenes Mejor Niñez (Digite CERO si no tiene). ",IF(AI15>$D15,"* La suma de Niños, niñas, adolescentes y jóvenes Mejor Niñez no puede superar el Total. ","")) | CL15: =IF(AND($D15<>0,AB15=""),1,IF(AB15>$D15,1,0)) -> 0 | CM15: =IF(AND($D15<>0,AC15=""),1,IF(AC15>$D15,1,0)) -> 0 | CN15: =IF(AND($D15<>0,AD15=""),1,IF(AD15>$D15,1,0)) -> 0 | CO15: =IF(AND($D15<>0,AE15=""),1,IF(AE15>$D15,1,0)) -> 0 | CP15: =IF(AND(D15>0,OR(AF15="",AG15="",)),1,IF(AF15+AG15>$D15,1,0)) -> 0 | CQ15: =IF(AND(D15>0,AI15=""),1,IF(AI15>$D15,1,0)) -> 0 | CR15: =IF(AND(D15>0,AI15=""),1,IF(AI15>$D15,1,0)) -> 0
B16: Prevención de IRA - ERA | D16: =SUM(E16:X16) -> 0 | E16: =SUM(ENERO:DICIEMBRE!E16) -> 0 | F16: =SUM(ENERO:DICIEMBRE!F16) -> 0 | G16: =SUM(ENERO:DICIEMBRE!G16) -> 0 | H16: =SUM(ENERO:DICIEMBRE!H16) -> 0 | I16: =SUM(ENERO:DICIEMBRE!I16) -> 0 | J16: =SUM(ENERO:DICIEMBRE!J16) -> 0 | K16: =SUM(ENERO:DICIEMBRE!K16) -> 0 | L16: =SUM(ENERO:DICIEMBRE!L16) -> 0 | ... Y16: =SUM(ENERO:DICIEMBRE!Y16) -> 0 | AB16: =SUM(ENERO:DICIEMBRE!AB16) -> 0 | AC16: =SUM(ENERO:DICIEMBRE!AC16) -> 0 | AD16: =SUM(ENERO:DICIEMBRE!AD16) -> 0 | AE16: =SUM(ENERO:DICIEMBRE!AE16) -> 0 | AF16: =SUM(ENERO:DICIEMBRE!AF16) -> 0 | AG16: =SUM(ENERO:DICIEMBRE!AG16) -> 0 | AH16: =SUM(ENERO:DICIEMBRE!AH16) -> 0 | AI16: =SUM(ENERO:DICIEMBRE!AI16) -> 0 | AJ16: =CB16&CC16&CD16&CE16&CF16&CG16&CH16 | CB16: =IF(AND($D16<>0,AB16=""),"* No olvide ingresar la columna "&AB$9&""&" (Digite CERO si no tiene). ",IF(AB16>$D16,"* El Número de Familias en Riesgo no puede superar el Total. ","")) | CC16: =IF(AND($D16<>0,AC16=""),"* No olvide ingresar la variable "&AC$9&""&" (Digite CERO si no tiene). ",IF(AC16>$D16,"* La variable Pueblos Originarios no puede superar el Total. ","")) | CD16: =IF(AND($D16<>0,AD16=""),"* No olvide ingresar la variable "&AD$9&""&" (Digite CERO si no tiene). ",IF(AD16>$D16,"* La variable Migrantes no puede superar el Total. ","")) | CE16: =IF(AND($D16<>0,AE16=""),"* No olvide ingresar la variable "&AE$9&""&" (Digite CERO si no tiene). ",IF(AE16>$D16,"* La variable Espacios Amigables/ Adolescentes no puede superar el Total. ","")) | CF16: =IF(AND(D16>0,OR(AF16="",AG16="",))," * No olvide digitar la variable TRANS Masculino/Femenino (Digite CERO si no tiene). ",IF(AF16+AG16>$D16,"* La suma de TRANS Masculino + Femenino no puede superar el Total. ","")) | CG16: =IF(AND(D16>0,AI16=""),"* No olvide digitar la variable Niños, niñas, adolescentes y jóvenes SENAME (Digite CERO si no tiene). ",IF(AI16>$D16,"* La suma de Niños, niñas, adolescentes y jóvenes SENAME no puede superar el Total. ","")) | CH16: =IF(AND(D16>0,AI16=""),"* No olvide digitar la variable Niños, niñas, adolescentes y jóvenes Mejor Niñez (Digite CERO si no tiene). ",IF(AI16>$D16,"* La suma de Niños, niñas, adolescentes y jóvenes Mejor Niñez no puede superar el Total. ","")) | CL16: =IF(AND($D16<>0,AB16=""),1,IF(AB16>$D16,1,0)) -> 0 | CM16: =IF(AND($D16<>0,AC16=""),1,IF(AC16>$D16,1,0)) -> 0 | CN16: =IF(AND($D16<>0,AD16=""),1,IF(AD16>$D16,1,0)) -> 0 | CO16: =IF(AND($D16<>0,AE16=""),1,IF(AE16>$D16,1,0)) -> 0 | CP16: =IF(AND(D16>0,OR(AF16="",AG16="",)),1,IF(AF16+AG16>$D16,1,0)) -> 0 | CQ16: =IF(AND(D16>0,AI16=""),1,IF(AI16>$D16,1,0)) -> 0 | CR16: =IF(AND(D16>0,AI16=""),1,IF(AI16>$D16,1,0)) -> 0
B17: Prevención de accidentes | D17: =SUM(E17:X17) -> 0 | E17: =SUM(ENERO:DICIEMBRE!E17) -> 0 | F17: =SUM(ENERO:DICIEMBRE!F17) -> 0 | G17: =SUM(ENERO:DICIEMBRE!G17) -> 0 | H17: =SUM(ENERO:DICIEMBRE!H17) -> 0 | I17: =SUM(ENERO:DICIEMBRE!I17) -> 0 | J17: =SUM(ENERO:DICIEMBRE!J17) -> 0 | K17: =SUM(ENERO:DICIEMBRE!K17) -> 0 | L17: =SUM(ENERO:DICIEMBRE!L17) -> 0 | ... Y17: =SUM(ENERO:DICIEMBRE!Y17) -> 0 | AB17: =SUM(ENERO:DICIEMBRE!AB17) -> 0 | AC17: =SUM(ENERO:DICIEMBRE!AC17) -> 0 | AD17: =SUM(ENERO:DICIEMBRE!AD17) -> 0 | AE17: =SUM(ENERO:DICIEMBRE!AE17) -> 0 | AF17: =SUM(ENERO:DICIEMBRE!AF17) -> 0 | AG17: =SUM(ENERO:DICIEMBRE!AG17) -> 0 | AH17: =SUM(ENERO:DICIEMBRE!AH17) -> 0 | AI17: =SUM(ENERO:DICIEMBRE!AI17) -> 0 | AJ17: =CB17&CC17&CD17&CE17&CF17&CG17&CH17 | CB17: =IF(AND($D17<>0,AB17=""),"* No olvide ingresar la columna "&AB$9&""&" (Digite CERO si no tiene). ",IF(AB17>$D17,"* El Número de Familias en Riesgo no puede superar el Total. ","")) | CC17: =IF(AND($D17<>0,AC17=""),"* No olvide ingresar la variable "&AC$9&""&" (Digite CERO si no tiene). ",IF(AC17>$D17,"* La variable Pueblos Originarios no puede superar el Total. ","")) | CD17: =IF(AND($D17<>0,AD17=""),"* No olvide ingresar la variable "&AD$9&""&" (Digite CERO si no tiene). ",IF(AD17>$D17,"* La variable Migrantes no puede superar el Total. ","")) | CE17: =IF(AND($D17<>0,AE17=""),"* No olvide ingresar la variable "&AE$9&""&" (Digite CERO si no tiene). ",IF(AE17>$D17,"* La variable Espacios Amigables/ Adolescentes no puede superar el Total. ","")) | CF17: =IF(AND(D17>0,OR(AF17="",AG17="",))," * No olvide digitar la variable TRANS Masculino/Femenino (Digite CERO si no tiene). ",IF(AF17+AG17>$D17,"* La suma de TRANS Masculino + Femenino no puede superar el Total. ","")) | CG17: =IF(AND(D17>0,AI17=""),"* No olvide digitar la variable Niños, niñas, adolescentes y jóvenes SENAME (Digite CERO si no tiene). ",IF(AI17>$D17,"* La suma de Niños, niñas, adolescentes y jóvenes SENAME no puede superar el Total. ","")) | CH17: =IF(AND(D17>0,AI17=""),"* No olvide digitar la variable Niños, niñas, adolescentes y jóvenes Mejor Niñez (Digite CERO si no tiene). ",IF(AI17>$D17,"* La suma de Niños, niñas, adolescentes y jóvenes Mejor Niñez no puede superar el Total. ","")) | CL17: =IF(AND($D17<>0,AB17=""),1,IF(AB17>$D17,1,0)) -> 0 | CM17: =IF(AND($D17<>0,AC17=""),1,IF(AC17>$D17,1,0)) -> 0 | CN17: =IF(AND($D17<>0,AD17=""),1,IF(AD17>$D17,1,0)) -> 0 | CO17: =IF(AND($D17<>0,AE17=""),1,IF(AE17>$D17,1,0)) -> 0 | CP17: =IF(AND(D17>0,OR(AF17="",AG17="",)),1,IF(AF17+AG17>$D17,1,0)) -> 0 | CQ17: =IF(AND(D17>0,AI17=""),1,IF(AI17>$D17,1,0)) -> 0 | CR17: =IF(AND(D17>0,AI17=""),1,IF(AI17>$D17,1,0)) -> 0
B18: Salud buco-dental | D18: =SUM(E18:X18) -> 0 | E18: =SUM(ENERO:DICIEMBRE!E18) -> 0 | F18: =SUM(ENERO:DICIEMBRE!F18) -> 0 | G18: =SUM(ENERO:DICIEMBRE!G18) -> 0 | H18: =SUM(ENERO:DICIEMBRE!H18) -> 0 | I18: =SUM(ENERO:DICIEMBRE!I18) -> 0 | J18: =SUM(ENERO:DICIEMBRE!J18) -> 0 | K18: =SUM(ENERO:DICIEMBRE!K18) -> 0 | L18: =SUM(ENERO:DICIEMBRE!L18) -> 0 | ... Y18: =SUM(ENERO:DICIEMBRE!Y18) -> 0 | AB18: =SUM(ENERO:DICIEMBRE!AB18) -> 0 | AC18: =SUM(ENERO:DICIEMBRE!AC18) -> 0 | AD18: =SUM(ENERO:DICIEMBRE!AD18) -> 0 | AE18: =SUM(ENERO:DICIEMBRE!AE18) -> 0 | AF18: =SUM(ENERO:DICIEMBRE!AF18) -> 0 | AG18: =SUM(ENERO:DICIEMBRE!AG18) -> 0 | AH18: =SUM(ENERO:DICIEMBRE!AH18) -> 0 | AI18: =SUM(ENERO:DICIEMBRE!AI18) -> 0 | AJ18: =CB18&CC18&CD18&CE18&CF18&CG18&CH18 | CB18: =IF(AND($D18<>0,AB18=""),"* No olvide ingresar la columna "&AB$9&""&" (Digite CERO si no tiene). ",IF(AB18>$D18,"* El Número de Familias en Riesgo no puede superar el Total. ","")) | CC18: =IF(AND($D18<>0,AC18=""),"* No olvide ingresar la variable "&AC$9&""&" (Digite CERO si no tiene). ",IF(AC18>$D18,"* La variable Pueblos Originarios no puede superar el Total. ","")) | CD18: =IF(AND($D18<>0,AD18=""),"* No olvide ingresar la variable "&AD$9&""&" (Digite CERO si no tiene). ",IF(AD18>$D18,"* La variable Migrantes no puede superar el Total. ","")) | CE18: =IF(AND($D18<>0,AE18=""),"* No olvide ingresar la variable "&AE$9&""&" (Digite CERO si no tiene). ",IF(AE18>$D18,"* La variable Espacios Amigables/ Adolescentes no puede superar el Total. ","")) | CF18: =IF(AND(D18>0,OR(AF18="",AG18="",))," * No olvide digitar la variable TRANS Masculino/Femenino (Digite CERO si no tiene). ",IF(AF18+AG18>$D18,"* La suma de TRANS Masculino + Femenino no puede superar el Total. ","")) | CG18: =IF(AND(D18>0,AI18=""),"* No olvide digitar la variable Niños, niñas, adolescentes y jóvenes SENAME (Digite CERO si no tiene). ",IF(AI18>$D18,"* La suma de Niños, niñas, adolescentes y jóvenes SENAME no puede superar el Total. ","")) | CH18: =IF(AND(D18>0,AI18=""),"* No olvide digitar la variable Niños, niñas, adolescentes y jóvenes Mejor Niñez (Digite CERO si no tiene). ",IF(AI18>$D18,"* La suma de Niños, niñas, adolescentes y jóvenes Mejor Niñez no puede superar el Total. ","")) | CL18: =IF(AND($D18<>0,AB18=""),1,IF(AB18>$D18,1,0)) -> 0 | CM18: =IF(AND($D18<>0,AC18=""),1,IF(AC18>$D18,1,0)) -> 0 | CN18: =IF(AND($D18<>0,AD18=""),1,IF(AD18>$D18,1,0)) -> 0 | CO18: =IF(AND($D18<>0,AE18=""),1,IF(AE18>$D18,1,0)) -> 0 | CP18: =IF(AND(D18>0,OR(AF18="",AG18="",)),1,IF(AF18+AG18>$D18,1,0)) -> 0 | CQ18: =IF(AND(D18>0,AI18=""),1,IF(AI18>$D18,1,0)) -> 0 | CR18: =IF(AND(D18>0,AI18=""),1,IF(AI18>$D18,1,0)) -> 0
B19: Prevención violencia de género | D19: =SUM(E19:X19) -> 0 | E19: =SUM(ENERO:DICIEMBRE!E19) -> 0 | F19: =SUM(ENERO:DICIEMBRE!F19) -> 0 | G19: =SUM(ENERO:DICIEMBRE!G19) -> 0 | H19: =SUM(ENERO:DICIEMBRE!H19) -> 0 | I19: =SUM(ENERO:DICIEMBRE!I19) -> 0 | J19: =SUM(ENERO:DICIEMBRE!J19) -> 0 | K19: =SUM(ENERO:DICIEMBRE!K19) -> 0 | L19: =SUM(ENERO:DICIEMBRE!L19) -> 0 | ... AI19: =SUM(ENERO:DICIEMBRE!AI19) -> 0 | AJ19: =CB19&CC19&CD19&CE19&CF19&CG19&CH19 | CB19: =IF(AND($D19<>0,AB19=""),"* No olvide ingresar la columna "&AB$9&""&" (Digite CERO si no tiene). ",IF(AB19>$D19,"* El Número de Familias en Riesgo no puede superar el Total. ","")) | CC19: =IF(AND($D19<>0,AC19=""),"* No olvide ingresar la variable "&AC$9&""&" (Digite CERO si no tiene). ",IF(AC19>$D19,"* La variable Pueblos Originarios no puede superar el Total. ","")) | CD19: =IF(AND($D19<>0,AD19=""),"* No olvide ingresar la variable "&AD$9&""&" (Digite CERO si no tiene). ",IF(AD19>$D19,"* La variable Migrantes no puede superar el Total. ","")) | CE19: =IF(AND($D19<>0,AE19=""),"* No olvide ingresar la variable "&AE$9&""&" (Digite CERO si no tiene). ",IF(AE19>$D19,"* La variable Espacios Amigables/ Adolescentes no puede superar el Total. ","")) | CF19: =IF(AND(D19>0,OR(AF19="",AG19="",))," * No olvide digitar la variable TRANS Masculino/Femenino (Digite CERO si no tiene). ",IF(AF19+AG19>$D19,"* La suma de TRANS Masculino + Femenino no puede superar el Total. ","")) | CG19: =IF(AND(D19>0,AI19=""),"* No olvide digitar la variable Niños, niñas, adolescentes y jóvenes SENAME (Digite CERO si no tiene). ",IF(AI19>$D19,"* La suma de Niños, niñas, adolescentes y jóvenes SENAME no puede superar el Total. ","")) | CH19: =IF(AND(D19>0,AI19=""),"* No olvide digitar la variable Niños, niñas, adolescentes y jóvenes Mejor Niñez (Digite CERO si no tiene). ",IF(AI19>$D19,"* La suma de Niños, niñas, adolescentes y jóvenes Mejor Niñez no puede superar el Total. ","")) | CL19: =IF(AND($D19<>0,AB19=""),1,IF(AB19>$D19,1,0)) -> 0 | CM19: =IF(AND($D19<>0,AC19=""),1,IF(AC19>$D19,1,0)) -> 0 | CN19: =IF(AND($D19<>0,AD19=""),1,IF(AD19>$D19,1,0)) -> 0 | CO19: =IF(AND($D19<>0,AE19=""),1,IF(AE19>$D19,1,0)) -> 0 | CP19: =IF(AND(D19>0,OR(AF19="",AG19="",)),1,IF(AF19+AG19>$D19,1,0)) -> 0 | CQ19: =IF(AND(D19>0,AI19=""),1,IF(AI19>$D19,1,0)) -> 0 | CR19: =IF(AND(D19>0,AI19=""),1,IF(AI19>$D19,1,0)) -> 0
B20: Salud Sexual y reproductiva | C20: Mujeres | D20: =SUM(E20:X20) -> 0 | J20: =SUM(ENERO:DICIEMBRE!J20) -> 0 | K20: =SUM(ENERO:DICIEMBRE!K20) -> 0 | L20: =SUM(ENERO:DICIEMBRE!L20) -> 0 | M20: =SUM(ENERO:DICIEMBRE!M20) -> 0 | N20: =SUM(ENERO:DICIEMBRE!N20) -> 0 | O20: =SUM(ENERO:DICIEMBRE!O20) -> 0 | P20: =SUM(ENERO:DICIEMBRE!P20) -> 0 | Q20: =SUM(ENERO:DICIEMBRE!Q20) -> 0 | ... AI20: =SUM(ENERO:DICIEMBRE!AI20) -> 0 | AJ20: =CB20&CC20&CD20&CE20&CF20&CG20&CH20 | CB20: =IF(AND($D20<>0,AB20=""),"* No olvide ingresar la columna "&AB$9&""&" (Digite CERO si no tiene). ",IF(AB20>$D20,"* El Número de Familias en Riesgo no puede superar el Total. ","")) | CC20: =IF(AND($D20<>0,AC20=""),"* No olvide ingresar la variable "&AC$9&""&" (Digite CERO si no tiene). ",IF(AC20>$D20,"* La variable Pueblos Originarios no puede superar el Total. ","")) | CD20: =IF(AND($D20<>0,AD20=""),"* No olvide ingresar la variable "&AD$9&""&" (Digite CERO si no tiene). ",IF(AD20>$D20,"* La variable Migrantes no puede superar el Total. ","")) | CE20: =IF(AND($D20<>0,AE20=""),"* No olvide ingresar la variable "&AE$9&""&" (Digite CERO si no tiene). ",IF(AE20>$D20,"* La variable Espacios Amigables/ Adolescentes no puede superar el Total. ","")) | CF20: =IF(AND(D20>0,OR(AF20="",AG20="",))," * No olvide digitar la variable TRANS Masculino/Femenino (Digite CERO si no tiene). ",IF(AF20+AG20>$D20,"* La suma de TRANS Masculino + Femenino no puede superar el Total. ","")) | CG20: =IF(AND(D20>0,AI20=""),"* No olvide digitar la variable Niños, niñas, adolescentes y jóvenes SENAME (Digite CERO si no tiene). ",IF(AI20>$D20,"* La suma de Niños, niñas, adolescentes y jóvenes SENAME no puede superar el Total. ","")) | CH20: =IF(AND(D20>0,AI20=""),"* No olvide digitar la variable Niños, niñas, adolescentes y jóvenes Mejor Niñez (Digite CERO si no tiene). ",IF(AI20>$D20,"* La suma de Niños, niñas, adolescentes y jóvenes Mejor Niñez no puede superar el Total. ","")) | CL20: =IF(AND($D20<>0,AB20=""),1,IF(AB20>$D20,1,0)) -> 0 | CM20: =IF(AND($D20<>0,AC20=""),1,IF(AC20>$D20,1,0)) -> 0 | CN20: =IF(AND($D20<>0,AD20=""),1,IF(AD20>$D20,1,0)) -> 0 | CO20: =IF(AND($D20<>0,AE20=""),1,IF(AE20>$D20,1,0)) -> 0 | CP20: =IF(AND(D20>0,OR(AF20="",AG20="",)),1,IF(AF20+AG20>$D20,1,0)) -> 0 | CQ20: =IF(AND(D20>0,AI20=""),1,IF(AI20>$D20,1,0)) -> 0 | CR20: =IF(AND(D20>0,AI20=""),1,IF(AI20>$D20,1,0)) -> 0
C21: Hombres | D21: =SUM(E21:X21) -> 0 | J21: =SUM(ENERO:DICIEMBRE!J21) -> 0 | K21: =SUM(ENERO:DICIEMBRE!K21) -> 0 | L21: =SUM(ENERO:DICIEMBRE!L21) -> 0 | M21: =SUM(ENERO:DICIEMBRE!M21) -> 0 | N21: =SUM(ENERO:DICIEMBRE!N21) -> 0 | O21: =SUM(ENERO:DICIEMBRE!O21) -> 0 | P21: =SUM(ENERO:DICIEMBRE!P21) -> 0 | Q21: =SUM(ENERO:DICIEMBRE!Q21) -> 0 | ... AI21: =SUM(ENERO:DICIEMBRE!AI21) -> 0 | AJ21: =CB21&CC21&CD21&CE21&CF21&CG21&CH21 | CB21: =IF(AND($D21<>0,AB21=""),"* No olvide ingresar la columna "&AB$9&""&" (Digite CERO si no tiene). ",IF(AB21>$D21,"* El Número de Familias en Riesgo no puede superar el Total. ","")) | CC21: =IF(AND($D21<>0,AC21=""),"* No olvide ingresar la variable "&AC$9&""&" (Digite CERO si no tiene). ",IF(AC21>$D21,"* La variable Pueblos Originarios no puede superar el Total. ","")) | CD21: =IF(AND($D21<>0,AD21=""),"* No olvide ingresar la variable "&AD$9&""&" (Digite CERO si no tiene). ",IF(AD21>$D21,"* La variable Migrantes no puede superar el Total. ","")) | CE21: =IF(AND($D21<>0,AE21=""),"* No olvide ingresar la variable "&AE$9&""&" (Digite CERO si no tiene). ",IF(AE21>$D21,"* La variable Espacios Amigables/ Adolescentes no puede superar el Total. ","")) | CF21: =IF(AND(D21>0,OR(AF21="",AG21="",))," * No olvide digitar la variable TRANS Masculino/Femenino (Digite CERO si no tiene). ",IF(AF21+AG21>$D21,"* La suma de TRANS Masculino + Femenino no puede superar el Total. ","")) | CG21: =IF(AND(D21>0,AI21=""),"* No olvide digitar la variable Niños, niñas, adolescentes y jóvenes SENAME (Digite CERO si no tiene). ",IF(AI21>$D21,"* La suma de Niños, niñas, adolescentes y jóvenes SENAME no puede superar el Total. ","")) | CH21: =IF(AND(D21>0,AI21=""),"* No olvide digitar la variable Niños, niñas, adolescentes y jóvenes Mejor Niñez (Digite CERO si no tiene). ",IF(AI21>$D21,"* La suma de Niños, niñas, adolescentes y jóvenes Mejor Niñez no puede superar el Total. ","")) | CL21: =IF(AND($D21<>0,AB21=""),1,IF(AB21>$D21,1,0)) -> 0 | CM21: =IF(AND($D21<>0,AC21=""),1,IF(AC21>$D21,1,0)) -> 0 | CN21: =IF(AND($D21<>0,AD21=""),1,IF(AD21>$D21,1,0)) -> 0 | CO21: =IF(AND($D21<>0,AE21=""),1,IF(AE21>$D21,1,0)) -> 0 | CP21: =IF(AND(D21>0,OR(AF21="",AG21="",)),1,IF(AF21+AG21>$D21,1,0)) -> 0 | CQ21: =IF(AND(D21>0,AI21=""),1,IF(AI21>$D21,1,0)) -> 0 | CR21: =IF(AND(D21>0,AI21=""),1,IF(AI21>$D21,1,0)) -> 0
B22: Talleres de climaterio | D22: =P22+Q22+R22+S22+T22 -> 0 | P22: =SUM(ENERO:DICIEMBRE!P22) -> 0 | Q22: =SUM(ENERO:DICIEMBRE!Q22) -> 0 | R22: =SUM(ENERO:DICIEMBRE!R22) -> 0 | S22: =SUM(ENERO:DICIEMBRE!S22) -> 0 | T22: =SUM(ENERO:DICIEMBRE!T22) -> 0 | Y22: =SUM(ENERO:DICIEMBRE!Y22) -> 0 | AB22: =SUM(ENERO:DICIEMBRE!AB22) -> 0 | AC22: =SUM(ENERO:DICIEMBRE!AC22) -> 0 | AD22: =SUM(ENERO:DICIEMBRE!AD22) -> 0 | AE22: =SUM(ENERO:DICIEMBRE!AE22) -> 0 | AF22: =SUM(ENERO:DICIEMBRE!AF22) -> 0 | AG22: =SUM(ENERO:DICIEMBRE!AG22) -> 0 | AH22: =SUM(ENERO:DICIEMBRE!AH22) -> 0 | AI22: =SUM(ENERO:DICIEMBRE!AI22) -> 0 | AJ22: =CB22&CC22&CD22&CE22&CF22&CG22&CH22 | CB22: =IF(AND($D22<>0,AB22=""),"* No olvide ingresar la columna "&AB$9&""&" (Digite CERO si no tiene). ",IF(AB22>$D22,"* El Número de Familias en Riesgo no puede superar el Total. ","")) | CC22: =IF(AND($D22<>0,AC22=""),"* No olvide ingresar la variable "&AC$9&""&" (Digite CERO si no tiene). ",IF(AC22>$D22,"* La variable Pueblos Originarios no puede superar el Total. ","")) | CD22: =IF(AND($D22<>0,AD22=""),"* No olvide ingresar la variable "&AD$9&""&" (Digite CERO si no tiene). ",IF(AD22>$D22,"* La variable Migrantes no puede superar el Total. ","")) | CE22: =IF(AND($D22<>0,AE22=""),"* No olvide ingresar la variable "&AE$9&""&" (Digite CERO si no tiene). ",IF(AE22>$D22,"* La variable Espacios Amigables/ Adolescentes no puede superar el Total. ","")) | CF22: =IF(AND(D22>0,OR(AF22="",AG22="",))," * No olvide digitar la variable TRANS Masculino/Femenino (Digite CERO si no tiene). ",IF(AF22+AG22>$D22,"* La suma de TRANS Masculino + Femenino no puede superar el Total. ","")) | CG22: =IF(AND(D22>0,AI22=""),"* No olvide digitar la variable Niños, niñas, adolescentes y jóvenes SENAME (Digite CERO si no tiene). ",IF(AI22>$D22,"* La suma de Niños, niñas, adolescentes y jóvenes SENAME no puede superar el Total. ","")) | CH22: =IF(AND(D22>0,AI22=""),"* No olvide digitar la variable Niños, niñas, adolescentes y jóvenes Mejor Niñez (Digite CERO si no tiene). ",IF(AI22>$D22,"* La suma de Niños, niñas, adolescentes y jóvenes Mejor Niñez no puede superar el Total. ","")) | CL22: =IF(AND($D22<>0,AB22=""),1,IF(AB22>$D22,1,0)) -> 0 | CM22: =IF(AND($D22<>0,AC22=""),1,IF(AC22>$D22,1,0)) -> 0 | CN22: =IF(AND($D22<>0,AD22=""),1,IF(AD22>$D22,1,0)) -> 0 | CO22: =IF(AND($D22<>0,AE22=""),1,IF(AE22>$D22,1,0)) -> 0 | CP22: =IF(AND(D22>0,OR(AF22="",AG22="",)),1,IF(AF22+AG22>$D22,1,0)) -> 0 | CQ22: =IF(AND(D22>0,AI22=""),1,IF(AI22>$D22,1,0)) -> 0 | CR22: =IF(AND(D22>0,AI22=""),1,IF(AI22>$D22,1,0)) -> 0
B23: Educación prenatal (Nutrición-lactancia-crianza-autocuidado-preparación parto y otros) | D23: =SUM(J23:S23) -> 194 | J23: =SUM(ENERO:DICIEMBRE!J23) -> 1 | K23: =SUM(ENERO:DICIEMBRE!K23) -> 12 | L23: =SUM(ENERO:DICIEMBRE!L23) -> 38 | M23: =SUM(ENERO:DICIEMBRE!M23) -> 51 | N23: =SUM(ENERO:DICIEMBRE!N23) -> 46 | O23: =SUM(ENERO:DICIEMBRE!O23) -> 27 | P23: =SUM(ENERO:DICIEMBRE!P23) -> 5 | Q23: =SUM(ENERO:DICIEMBRE!Q23) -> 14 | ... S23: =SUM(ENERO:DICIEMBRE!S23) -> 0 | Y23: =SUM(ENERO:DICIEMBRE!Y23) -> 194 | Z23: =SUM(ENERO:DICIEMBRE!Z23) -> 0 | AA23: =SUM(ENERO:DICIEMBRE!AA23) -> 0 | AB23: =SUM(ENERO:DICIEMBRE!AB23) -> 0 | AC23: =SUM(ENERO:DICIEMBRE!AC23) -> 0 | AD23: =SUM(ENERO:DICIEMBRE!AD23) -> 0 | AF23: =SUM(ENERO:DICIEMBRE!AF23) -> 0 | AG23: =SUM(ENERO:DICIEMBRE!AG23) -> 0 | AH23: =SUM(ENERO:DICIEMBRE!AH23) -> 0 | AI23: =SUM(ENERO:DICIEMBRE!AI23) -> 0 | AJ23: =CB23&CC23&CD23&CE23&CF23&CG23&CH23 | CB23: =IF(AND($D23<>0,AB23=""),"* No olvide ingresar la columna "&AB$9&""&" (Digite CERO si no tiene). ",IF(AB23>$D23,"* El Número de Familias en Riesgo no puede superar el Total. ","")) | CC23: =IF(AND($D23<>0,AC23=""),"* No olvide ingresar la variable "&AC$9&""&" (Digite CERO si no tiene). ",IF(AC23>$D23,"* La variable Pueblos Originarios no puede superar el Total. ","")) | CD23: =IF(AND($D23<>0,AD23=""),"* No olvide ingresar la variable "&AD$9&""&" (Digite CERO si no tiene). ",IF(AD23>$D23,"* La variable Migrantes no puede superar el Total. ","")) | CF23: =IF(AND(D23>0,OR(AF23="",AG23="",))," * No olvide digitar la variable TRANS Masculino/Femenino (Digite CERO si no tiene). ",IF(AF23+AG23>$D23,"* La suma de TRANS Masculino + Femenino no puede superar el Total. ","")) | CG23: =IF(AND(D23>0,AI23=""),"* No olvide digitar la variable Niños, niñas, adolescentes y jóvenes SENAME (Digite CERO si no tiene). ",IF(AI23>$D23,"* La suma de Niños, niñas, adolescentes y jóvenes SENAME no puede superar el Total. ","")) | CH23: =IF(AND(D23>0,AI23=""),"* No olvide digitar la variable Niños, niñas, adolescentes y jóvenes Mejor Niñez (Digite CERO si no tiene). ",IF(AI23>$D23,"* La suma de Niños, niñas, adolescentes y jóvenes Mejor Niñez no puede superar el Total. ","")) | CL23: =IF(AND($D23<>0,AB23=""),1,IF(AB23>$D23,1,0)) -> 0 | CM23: =IF(AND($D23<>0,AC23=""),1,IF(AC23>$D23,1,0)) -> 0 | CN23: =IF(AND($D23<>0,AD23=""),1,IF(AD23>$D23,1,0)) -> 0 | CP23: =IF(AND(D23>0,OR(AF23="",AG23="",)),1,IF(AF23+AG23>$D23,1,0)) -> 0 | CQ23: =IF(AND(D23>0,AI23=""),1,IF(AI23>$D23,1,0)) -> 0 | CR23: =IF(AND(D23>0,AI23=""),1,IF(AI23>$D23,1,0)) -> 0
B24: Visita guiada a la maternidad | C24: Primigesta | D24: =SUM(J24:S24) -> 82 | J24: =SUM(ENERO:DICIEMBRE!J24) -> 1 | K24: =SUM(ENERO:DICIEMBRE!K24) -> 7 | L24: =SUM(ENERO:DICIEMBRE!L24) -> 22 | M24: =SUM(ENERO:DICIEMBRE!M24) -> 30 | N24: =SUM(ENERO:DICIEMBRE!N24) -> 16 | O24: =SUM(ENERO:DICIEMBRE!O24) -> 6 | P24: =SUM(ENERO:DICIEMBRE!P24) -> 0 | Q24: =SUM(ENERO:DICIEMBRE!Q24) -> 0 | ... S24: =SUM(ENERO:DICIEMBRE!S24) -> 0 | Y24: =SUM(ENERO:DICIEMBRE!Y24) -> 82 | Z24: =SUM(ENERO:DICIEMBRE!Z24) -> 0 | AA24: =SUM(ENERO:DICIEMBRE!AA24) -> 0 | AB24: =SUM(ENERO:DICIEMBRE!AB24) -> 0 | AC24: =SUM(ENERO:DICIEMBRE!AC24) -> 0 | AD24: =SUM(ENERO:DICIEMBRE!AD24) -> 0 | AF24: =SUM(ENERO:DICIEMBRE!AF24) -> 0 | AG24: =SUM(ENERO:DICIEMBRE!AG24) -> 0 | AH24: =SUM(ENERO:DICIEMBRE!AH24) -> 0 | AI24: =SUM(ENERO:DICIEMBRE!AI24) -> 0 | AJ24: =CB24&CC24&CD24&CE24&CF24&CG24&CH24 | CB24: =IF(AND($D24<>0,AB24=""),"* No olvide ingresar la columna "&AB$9&""&" (Digite CERO si no tiene). ",IF(AB24>$D24,"* El Número de Familias en Riesgo no puede superar el Total. ","")) | CC24: =IF(AND($D24<>0,AC24=""),"* No olvide ingresar la variable "&AC$9&""&" (Digite CERO si no tiene). ",IF(AC24>$D24,"* La variable Pueblos Originarios no puede superar el Total. ","")) | CD24: =IF(AND($D24<>0,AD24=""),"* No olvide ingresar la variable "&AD$9&""&" (Digite CERO si no tiene). ",IF(AD24>$D24,"* La variable Migrantes no puede superar el Total. ","")) | CF24: =IF(AND(D24>0,OR(AF24="",AG24="",))," * No olvide digitar la variable TRANS Masculino/Femenino (Digite CERO si no tiene). ",IF(AF24+AG24>$D24,"* La suma de TRANS Masculino + Femenino no puede superar el Total. ","")) | CG24: =IF(AND(D24>0,AI24=""),"* No olvide digitar la variable Niños, niñas, adolescentes y jóvenes SENAME (Digite CERO si no tiene). ",IF(AI24>$D24,"* La suma de Niños, niñas, adolescentes y jóvenes SENAME no puede superar el Total. ","")) | CH24: =IF(AND(D24>0,AI24=""),"* No olvide digitar la variable Niños, niñas, adolescentes y jóvenes Mejor Niñez (Digite CERO si no tiene). ",IF(AI24>$D24,"* La suma de Niños, niñas, adolescentes y jóvenes Mejor Niñez no puede superar el Total. ","")) | CL24: =IF(AND($D24<>0,AB24=""),1,IF(AB24>$D24,1,0)) -> 0 | CM24: =IF(AND($D24<>0,AC24=""),1,IF(AC24>$D24,1,0)) -> 0 | CN24: =IF(AND($D24<>0,AD24=""),1,IF(AD24>$D24,1,0)) -> 0 | CP24: =IF(AND(D24>0,OR(AF24="",AG24="",)),1,IF(AF24+AG24>$D24,1,0)) -> 0 | CQ24: =IF(AND(D24>0,AI24=""),1,IF(AI24>$D24,1,0)) -> 0 | CR24: =IF(AND(D24>0,AI24=""),1,IF(AI24>$D24,1,0)) -> 0
C25: Multípara | D25: =SUM(J25:S25) -> 112 | J25: =SUM(ENERO:DICIEMBRE!J25) -> 0 | K25: =SUM(ENERO:DICIEMBRE!K25) -> 5 | L25: =SUM(ENERO:DICIEMBRE!L25) -> 16 | M25: =SUM(ENERO:DICIEMBRE!M25) -> 21 | N25: =SUM(ENERO:DICIEMBRE!N25) -> 30 | O25: =SUM(ENERO:DICIEMBRE!O25) -> 21 | P25: =SUM(ENERO:DICIEMBRE!P25) -> 5 | Q25: =SUM(ENERO:DICIEMBRE!Q25) -> 14 | ... S25: =SUM(ENERO:DICIEMBRE!S25) -> 0 | Y25: =SUM(ENERO:DICIEMBRE!Y25) -> 112 | AA25: =SUM(ENERO:DICIEMBRE!AA25) -> 0 | AB25: =SUM(ENERO:DICIEMBRE!AB25) -> 0 | AC25: =SUM(ENERO:DICIEMBRE!AC25) -> 0 | AD25: =SUM(ENERO:DICIEMBRE!AD25) -> 0 | AF25: =SUM(ENERO:DICIEMBRE!AF25) -> 0 | AG25: =SUM(ENERO:DICIEMBRE!AG25) -> 0 | AH25: =SUM(ENERO:DICIEMBRE!AH25) -> 0 | AI25: =SUM(ENERO:DICIEMBRE!AI25) -> 0 | AJ25: =CB25&CC25&CD25&CE25&CF25&CG25&CH25 | CB25: =IF(AND($D25<>0,AB25=""),"* No olvide ingresar la columna "&AB$9&""&" (Digite CERO si no tiene). ",IF(AB25>$D25,"* El Número de Familias en Riesgo no puede superar el Total. ","")) | CC25: =IF(AND($D25<>0,AC25=""),"* No olvide ingresar la variable "&AC$9&""&" (Digite CERO si no tiene). ",IF(AC25>$D25,"* La variable Pueblos Originarios no puede superar el Total. ","")) | CD25: =IF(AND($D25<>0,AD25=""),"* No olvide ingresar la variable "&AD$9&""&" (Digite CERO si no tiene). ",IF(AD25>$D25,"* La variable Migrantes no puede superar el Total. ","")) | CF25: =IF(AND(D25>0,OR(AF25="",AG25="",))," * No olvide digitar la variable TRANS Masculino/Femenino (Digite CERO si no tiene). ",IF(AF25+AG25>$D25,"* La suma de TRANS Masculino + Femenino no puede superar el Total. ","")) | CG25: =IF(AND(D25>0,AI25=""),"* No olvide digitar la variable Niños, niñas, adolescentes y jóvenes SENAME (Digite CERO si no tiene). ",IF(AI25>$D25,"* La suma de Niños, niñas, adolescentes y jóvenes SENAME no puede superar el Total. ","")) | CH25: =IF(AND(D25>0,AI25=""),"* No olvide digitar la variable Niños, niñas, adolescentes y jóvenes Mejor Niñez (Digite CERO si no tiene). ",IF(AI25>$D25,"* La suma de Niños, niñas, adolescentes y jóvenes Mejor Niñez no puede superar el Total. ","")) | CL25: =IF(AND($D25<>0,AB25=""),1,IF(AB25>$D25,1,0)) -> 0 | CM25: =IF(AND($D25<>0,AC25=""),1,IF(AC25>$D25,1,0)) -> 0 | CN25: =IF(AND($D25<>0,AD25=""),1,IF(AD25>$D25,1,0)) -> 0 | CP25: =IF(AND(D25>0,OR(AF25="",AG25="",)),1,IF(AF25+AG25>$D25,1,0)) -> 0 | CQ25: =IF(AND(D25>0,AI25=""),1,IF(AI25>$D25,1,0)) -> 0 | CR25: =IF(AND(D25>0,AI25=""),1,IF(AI25>$D25,1,0)) -> 0
B26: Promoción de salud mental | D26: =SUM(H26:X26) -> 0 | H26: =SUM(ENERO:DICIEMBRE!H26) -> 0 | I26: =SUM(ENERO:DICIEMBRE!I26) -> 0 | J26: =SUM(ENERO:DICIEMBRE!J26) -> 0 | K26: =SUM(ENERO:DICIEMBRE!K26) -> 0 | L26: =SUM(ENERO:DICIEMBRE!L26) -> 0 | M26: =SUM(ENERO:DICIEMBRE!M26) -> 0 | N26: =SUM(ENERO:DICIEMBRE!N26) -> 0 | O26: =SUM(ENERO:DICIEMBRE!O26) -> 0 | ... AI26: =SUM(ENERO:DICIEMBRE!AI26) -> 0 | AJ26: =CB26&CC26&CD26&CE26&CF26&CG26&CH26 | CB26: =IF(AND($D26<>0,AB26=""),"* No olvide ingresar la columna "&AB$9&""&" (Digite CERO si no tiene). ",IF(AB26>$D26,"* El Número de Familias en Riesgo no puede superar el Total. ","")) | CC26: =IF(AND($D26<>0,AC26=""),"* No olvide ingresar la variable "&AC$9&""&" (Digite CERO si no tiene). ",IF(AC26>$D26,"* La variable Pueblos Originarios no puede superar el Total. ","")) | CD26: =IF(AND($D26<>0,AD26=""),"* No olvide ingresar la variable "&AD$9&""&" (Digite CERO si no tiene). ",IF(AD26>$D26,"* La variable Migrantes no puede superar el Total. ","")) | CE26: =IF(AND($D26<>0,AE26=""),"* No olvide ingresar la variable "&AE$9&""&" (Digite CERO si no tiene). ",IF(AE26>$D26,"* La variable Espacios Amigables/ Adolescentes no puede superar el Total. ","")) | CF26: =IF(AND(D26>0,OR(AF26="",AG26="",))," * No olvide digitar la variable TRANS Masculino/Femenino (Digite CERO si no tiene). ",IF(AF26+AG26>$D26,"* La suma de TRANS Masculino + Femenino no puede superar el Total. ","")) | CG26: =IF(AND(D26>0,AI26=""),"* No olvide digitar la variable Niños, niñas, adolescentes y jóvenes SENAME (Digite CERO si no tiene). ",IF(AI26>$D26,"* La suma de Niños, niñas, adolescentes y jóvenes SENAME no puede superar el Total. ","")) | CH26: =IF(AND(D26>0,AI26=""),"* No olvide digitar la variable Niños, niñas, adolescentes y jóvenes Mejor Niñez (Digite CERO si no tiene). ",IF(AI26>$D26,"* La suma de Niños, niñas, adolescentes y jóvenes Mejor Niñez no puede superar el Total. ","")) | CL26: =IF(AND($D26<>0,AB26=""),1,IF(AB26>$D26,1,0)) -> 0 | CM26: =IF(AND($D26<>0,AC26=""),1,IF(AC26>$D26,1,0)) -> 0 | CN26: =IF(AND($D26<>0,AD26=""),1,IF(AD26>$D26,1,0)) -> 0 | CO26: =IF(AND($D26<>0,AE26=""),1,IF(AE26>$D26,1,0)) -> 0 | CP26: =IF(AND(D26>0,OR(AF26="",AG26="",)),1,IF(AF26+AG26>$D26,1,0)) -> 0 | CQ26: =IF(AND(D26>0,AI26=""),1,IF(AI26>$D26,1,0)) -> 0 | CR26: =IF(AND(D26>0,AI26=""),1,IF(AI26>$D26,1,0)) -> 0
B27: Promoción del desarrollo infantil temprano | C27: Del lenguaje | D27: =SUM(E27:F27) -> 0 | E27: =SUM(ENERO:DICIEMBRE!E27) -> 0 | Y27: =SUM(ENERO:DICIEMBRE!Y27) -> 0 | AB27: =SUM(ENERO:DICIEMBRE!AB27) -> 0 | AC27: =SUM(ENERO:DICIEMBRE!AC27) -> 0 | AD27: =SUM(ENERO:DICIEMBRE!AD27) -> 0 | AF27: =SUM(ENERO:DICIEMBRE!AF27) -> 0 | AG27: =SUM(ENERO:DICIEMBRE!AG27) -> 0 | AH27: =SUM(ENERO:DICIEMBRE!AH27) -> 0 | AI27: =SUM(ENERO:DICIEMBRE!AI27) -> 0 | AJ27: =CB27&CC27&CD27&CE27&CF27&CG27&CH27 | CB27: =IF(AND($D27<>0,AB27=""),"* No olvide ingresar la columna "&AB$9&""&" (Digite CERO si no tiene). ",IF(AB27>$D27,"* El Número de Familias en Riesgo no puede superar el Total. ","")) | CC27: =IF(AND($D27<>0,AC27=""),"* No olvide ingresar la variable "&AC$9&""&" (Digite CERO si no tiene). ",IF(AC27>$D27,"* La variable Pueblos Originarios no puede superar el Total. ","")) | CD27: =IF(AND($D27<>0,AD27=""),"* No olvide ingresar la variable "&AD$9&""&" (Digite CERO si no tiene). ",IF(AD27>$D27,"* La variable Migrantes no puede superar el Total. ","")) | CF27: =IF(AND(D27>0,OR(AF27="",AG27="",))," * No olvide digitar la variable TRANS Masculino/Femenino (Digite CERO si no tiene). ",IF(AF27+AG27>$D27,"* La suma de TRANS Masculino + Femenino no puede superar el Total. ","")) | CG27: =IF(AND(D27>0,AI27=""),"* No olvide digitar la variable Niños, niñas, adolescentes y jóvenes SENAME (Digite CERO si no tiene). ",IF(AI27>$D27,"* La suma de Niños, niñas, adolescentes y jóvenes SENAME no puede superar el Total. ","")) | CH27: =IF(AND(D27>0,AI27=""),"* No olvide digitar la variable Niños, niñas, adolescentes y jóvenes Mejor Niñez (Digite CERO si no tiene). ",IF(AI27>$D27,"* La suma de Niños, niñas, adolescentes y jóvenes Mejor Niñez no puede superar el Total. ","")) | CL27: =IF(AND($D27<>0,AB27=""),1,IF(AB27>$D27,1,0)) -> 0 | CM27: =IF(AND($D27<>0,AC27=""),1,IF(AC27>$D27,1,0)) -> 0 | CN27: =IF(AND($D27<>0,AD27=""),1,IF(AD27>$D27,1,0)) -> 0 | CP27: =IF(AND(D27>0,OR(AF27="",AG27="",)),1,IF(AF27+AG27>$D27,1,0)) -> 0 | CQ27: =IF(AND(D27>0,AI27=""),1,IF(AI27>$D27,1,0)) -> 0 | CR27: =IF(AND(D27>0,AI27=""),1,IF(AI27>$D27,1,0)) -> 0
C28: Motor | D28: =SUM(E28:G28) -> 0 | E28: =SUM(ENERO:DICIEMBRE!E28) -> 0 | Y28: =SUM(ENERO:DICIEMBRE!Y28) -> 0 | AB28: =SUM(ENERO:DICIEMBRE!AB28) -> 0 | AC28: =SUM(ENERO:DICIEMBRE!AC28) -> 0 | AD28: =SUM(ENERO:DICIEMBRE!AD28) -> 0 | AE28: =SUM(ENERO:DICIEMBRE!AE28) -> 0 | AF28: =SUM(ENERO:DICIEMBRE!AF28) -> 0 | AG28: =SUM(ENERO:DICIEMBRE!AG28) -> 0 | AH28: =SUM(ENERO:DICIEMBRE!AH28) -> 0 | AI28: =SUM(ENERO:DICIEMBRE!AI28) -> 0 | AJ28: =CB28&CC28&CD28&CE28&CF28&CG28&CH28 | CB28: =IF(AND($D28<>0,AB28=""),"* No olvide ingresar la columna "&AB$9&""&" (Digite CERO si no tiene). ",IF(AB28>$D28,"* El Número de Familias en Riesgo no puede superar el Total. ","")) | CC28: =IF(AND($D28<>0,AC28=""),"* No olvide ingresar la variable "&AC$9&""&" (Digite CERO si no tiene). ",IF(AC28>$D28,"* La variable Pueblos Originarios no puede superar el Total. ","")) | CD28: =IF(AND($D28<>0,AD28=""),"* No olvide ingresar la variable "&AD$9&""&" (Digite CERO si no tiene). ",IF(AD28>$D28,"* La variable Migrantes no puede superar el Total. ","")) | CE28: =IF(AND($D28<>0,AE28=""),"* No olvide ingresar la variable "&AE$9&""&" (Digite CERO si no tiene). ",IF(AE28>$D28,"* La variable Espacios Amigables/ Adolescentes no puede superar el Total. ","")) | CF28: =IF(AND(D28>0,OR(AF28="",AG28="",))," * No olvide digitar la variable TRANS Masculino/Femenino (Digite CERO si no tiene). ",IF(AF28+AG28>$D28,"* La suma de TRANS Masculino + Femenino no puede superar el Total. ","")) | CG28: =IF(AND(D28>0,AI28=""),"* No olvide digitar la variable Niños, niñas, adolescentes y jóvenes SENAME (Digite CERO si no tiene). ",IF(AI28>$D28,"* La suma de Niños, niñas, adolescentes y jóvenes SENAME no puede superar el Total. ","")) | CH28: =IF(AND(D28>0,AI28=""),"* No olvide digitar la variable Niños, niñas, adolescentes y jóvenes Mejor Niñez (Digite CERO si no tiene). ",IF(AI28>$D28,"* La suma de Niños, niñas, adolescentes y jóvenes Mejor Niñez no puede superar el Total. ","")) | CL28: =IF(AND($D28<>0,AB28=""),1,IF(AB28>$D28,1,0)) -> 0 | CM28: =IF(AND($D28<>0,AC28=""),1,IF(AC28>$D28,1,0)) -> 0 | CN28: =IF(AND($D28<>0,AD28=""),1,IF(AD28>$D28,1,0)) -> 0 | CO28: =IF(AND($D28<>0,AE28=""),1,IF(AE28>$D28,1,0)) -> 0 | CP28: =IF(AND(D28>0,OR(AF28="",AG28="",)),1,IF(AF28+AG28>$D28,1,0)) -> 0 | CQ28: =IF(AND(D28>0,AI28=""),1,IF(AI28>$D28,1,0)) -> 0 | CR28: =IF(AND(D28>0,AI28=""),1,IF(AI28>$D28,1,0)) -> 0
C29: Otros | D29: =SUM(E29:G29) -> 0 | E29: =SUM(ENERO:DICIEMBRE!E29) -> 0 | F29: =SUM(ENERO:DICIEMBRE!F29) -> 0 | G29: =SUM(ENERO:DICIEMBRE!G29) -> 0 | Y29: =SUM(ENERO:DICIEMBRE!Y29) -> 0 | AB29: =SUM(ENERO:DICIEMBRE!AB29) -> 0 | AC29: =SUM(ENERO:DICIEMBRE!AC29) -> 0 | AD29: =SUM(ENERO:DICIEMBRE!AD29) -> 0 | AE29: =SUM(ENERO:DICIEMBRE!AE29) -> 0 | AF29: =SUM(ENERO:DICIEMBRE!AF29) -> 0 | AG29: =SUM(ENERO:DICIEMBRE!AG29) -> 0 | AH29: =SUM(ENERO:DICIEMBRE!AH29) -> 0 | AI29: =SUM(ENERO:DICIEMBRE!AI29) -> 0 | AJ29: =CB29&CC29&CD29&CE29&CF29&CG29&CH29 | CB29: =IF(AND($D29<>0,AB29=""),"* No olvide ingresar la columna "&AB$9&""&" (Digite CERO si no tiene). ",IF(AB29>$D29,"* El Número de Familias en Riesgo no puede superar el Total. ","")) | CC29: =IF(AND($D29<>0,AC29=""),"* No olvide ingresar la variable "&AC$9&""&" (Digite CERO si no tiene). ",IF(AC29>$D29,"* La variable Pueblos Originarios no puede superar el Total. ","")) | CD29: =IF(AND($D29<>0,AD29=""),"* No olvide ingresar la variable "&AD$9&""&" (Digite CERO si no tiene). ",IF(AD29>$D29,"* La variable Migrantes no puede superar el Total. ","")) | CE29: =IF(AND($D29<>0,AE29=""),"* No olvide ingresar la variable "&AE$9&""&" (Digite CERO si no tiene). ",IF(AE29>$D29,"* La variable Espacios Amigables/ Adolescentes no puede superar el Total. ","")) | CF29: =IF(AND(D29>0,OR(AF29="",AG29="",))," * No olvide digitar la variable TRANS Masculino/Femenino (Digite CERO si no tiene). ",IF(AF29+AG29>$D29,"* La suma de TRANS Masculino + Femenino no puede superar el Total. ","")) | CG29: =IF(AND(D29>0,AI29=""),"* No olvide digitar la variable Niños, niñas, adolescentes y jóvenes SENAME (Digite CERO si no tiene). ",IF(AI29>$D29,"* La suma de Niños, niñas, adolescentes y jóvenes SENAME no puede superar el Total. ","")) | CH29: =IF(AND(D29>0,AI29=""),"* No olvide digitar la variable Niños, niñas, adolescentes y jóvenes Mejor Niñez (Digite CERO si no tiene). ",IF(AI29>$D29,"* La suma de Niños, niñas, adolescentes y jóvenes Mejor Niñez no puede superar el Total. ","")) | CL29: =IF(AND($D29<>0,AB29=""),1,IF(AB29>$D29,1,0)) -> 0 | CM29: =IF(AND($D29<>0,AC29=""),1,IF(AC29>$D29,1,0)) -> 0 | CN29: =IF(AND($D29<>0,AD29=""),1,IF(AD29>$D29,1,0)) -> 0 | CO29: =IF(AND($D29<>0,AE29=""),1,IF(AE29>$D29,1,0)) -> 0 | CP29: =IF(AND(D29>0,OR(AF29="",AG29="",)),1,IF(AF29+AG29>$D29,1,0)) -> 0 | CQ29: =IF(AND(D29>0,AI29=""),1,IF(AI29>$D29,1,0)) -> 0 | CR29: =IF(AND(D29>0,AI29=""),1,IF(AI29>$D29,1,0)) -> 0
B30: Habilidades parentales | C30: Nadie es perfecto | D30: =SUM(E30:H30) -> 0 | E30: =SUM(ENERO:DICIEMBRE!E30) -> 0 | F30: =SUM(ENERO:DICIEMBRE!F30) -> 0 | G30: =SUM(ENERO:DICIEMBRE!G30) -> 0 | H30: =SUM(ENERO:DICIEMBRE!H30) -> 0 | Y30: =SUM(ENERO:DICIEMBRE!Y30) -> 0 | AB30: =SUM(ENERO:DICIEMBRE!AB30) -> 0 | AC30: =SUM(ENERO:DICIEMBRE!AC30) -> 0 | AD30: =SUM(ENERO:DICIEMBRE!AD30) -> 0 | AE30: =SUM(ENERO:DICIEMBRE!AE30) -> 0 | AF30: =SUM(ENERO:DICIEMBRE!AF30) -> 0 | AG30: =SUM(ENERO:DICIEMBRE!AG30) -> 0 | AH30: =SUM(ENERO:DICIEMBRE!AH30) -> 0 | AI30: =SUM(ENERO:DICIEMBRE!AI30) -> 0 | AJ30: =CB30&CC30&CD30&CE30&CF30&CG30&CH30 | CB30: =IF(AND($D30<>0,AB30=""),"* No olvide ingresar la columna "&AB$9&""&" (Digite CERO si no tiene). ",IF(AB30>$D30,"* El Número de Familias en Riesgo no puede superar el Total. ","")) | CC30: =IF(AND($D30<>0,AC30=""),"* No olvide ingresar la variable "&AC$9&""&" (Digite CERO si no tiene). ",IF(AC30>$D30,"* La variable Pueblos Originarios no puede superar el Total. ","")) | CD30: =IF(AND($D30<>0,AD30=""),"* No olvide ingresar la variable "&AD$9&""&" (Digite CERO si no tiene). ",IF(AD30>$D30,"* La variable Migrantes no puede superar el Total. ","")) | CE30: =IF(AND($D30<>0,AE30=""),"* No olvide ingresar la variable "&AE$9&""&" (Digite CERO si no tiene). ",IF(AE30>$D30,"* La variable Espacios Amigables/ Adolescentes no puede superar el Total. ","")) | CF30: =IF(AND(D30>0,OR(AF30="",AG30="",))," * No olvide digitar la variable TRANS Masculino/Femenino (Digite CERO si no tiene). ",IF(AF30+AG30>$D30,"* La suma de TRANS Masculino + Femenino no puede superar el Total. ","")) | CG30: =IF(AND(D30>0,AI30=""),"* No olvide digitar la variable Niños, niñas, adolescentes y jóvenes SENAME (Digite CERO si no tiene). ",IF(AI30>$D30,"* La suma de Niños, niñas, adolescentes y jóvenes SENAME no puede superar el Total. ","")) | CH30: =IF(AND(D30>0,AI30=""),"* No olvide digitar la variable Niños, niñas, adolescentes y jóvenes Mejor Niñez (Digite CERO si no tiene). ",IF(AI30>$D30,"* La suma de Niños, niñas, adolescentes y jóvenes Mejor Niñez no puede superar el Total. ","")) | CL30: =IF(AND($D30<>0,AB30=""),1,IF(AB30>$D30,1,0)) -> 0 | CM30: =IF(AND($D30<>0,AC30=""),1,IF(AC30>$D30,1,0)) -> 0 | CN30: =IF(AND($D30<>0,AD30=""),1,IF(AD30>$D30,1,0)) -> 0 | CO30: =IF(AND($D30<>0,AE30=""),1,IF(AE30>$D30,1,0)) -> 0 | CP30: =IF(AND(D30>0,OR(AF30="",AG30="",)),1,IF(AF30+AG30>$D30,1,0)) -> 0 | CQ30: =IF(AND(D30>0,AI30=""),1,IF(AI30>$D30,1,0)) -> 0 | CR30: =IF(AND(D30>0,AI30=""),1,IF(AI30>$D30,1,0)) -> 0
C31: Familias fuertes | D31: =SUM(I31+J31) -> 0 | I31: =SUM(ENERO:DICIEMBRE!I31) -> 0 | J31: =SUM(ENERO:DICIEMBRE!J31) -> 0 | Y31: =SUM(ENERO:DICIEMBRE!Y31) -> 0 | AB31: =SUM(ENERO:DICIEMBRE!AB31) -> 0 | AC31: =SUM(ENERO:DICIEMBRE!AC31) -> 0 | AD31: =SUM(ENERO:DICIEMBRE!AD31) -> 0 | AE31: =SUM(ENERO:DICIEMBRE!AE31) -> 0 | AF31: =SUM(ENERO:DICIEMBRE!AF31) -> 0 | AG31: =SUM(ENERO:DICIEMBRE!AG31) -> 0 | AH31: =SUM(ENERO:DICIEMBRE!AH31) -> 0 | AI31: =SUM(ENERO:DICIEMBRE!AI31) -> 0 | AJ31: =CB31&CC31&CD31&CE31&CF31&CG31&CH31 | CB31: =IF(AND($D31<>0,AB31=""),"* No olvide ingresar la columna "&AB$9&""&" (Digite CERO si no tiene). ",IF(AB31>$D31,"* El Número de Familias en Riesgo no puede superar el Total. ","")) | CC31: =IF(AND($D31<>0,AC31=""),"* No olvide ingresar la variable "&AC$9&""&" (Digite CERO si no tiene). ",IF(AC31>$D31,"* La variable Pueblos Originarios no puede superar el Total. ","")) | CD31: =IF(AND($D31<>0,AD31=""),"* No olvide ingresar la variable "&AD$9&""&" (Digite CERO si no tiene). ",IF(AD31>$D31,"* La variable Migrantes no puede superar el Total. ","")) | CE31: =IF(AND($D31<>0,AE31=""),"* No olvide ingresar la variable "&AE$9&""&" (Digite CERO si no tiene). ",IF(AE31>$D31,"* La variable Espacios Amigables/ Adolescentes no puede superar el Total. ","")) | CF31: =IF(AND(D31>0,OR(AF31="",AG31="",))," * No olvide digitar la variable TRANS Masculino/Femenino (Digite CERO si no tiene). ",IF(AF31+AG31>$D31,"* La suma de TRANS Masculino + Femenino no puede superar el Total. ","")) | CG31: =IF(AND(D31>0,AI31=""),"* No olvide digitar la variable Niños, niñas, adolescentes y jóvenes SENAME (Digite CERO si no tiene). ",IF(AI31>$D31,"* La suma de Niños, niñas, adolescentes y jóvenes SENAME no puede superar el Total. ","")) | CH31: =IF(AND(D31>0,AI31=""),"* No olvide digitar la variable Niños, niñas, adolescentes y jóvenes Mejor Niñez (Digite CERO si no tiene). ",IF(AI31>$D31,"* La suma de Niños, niñas, adolescentes y jóvenes Mejor Niñez no puede superar el Total. ","")) | CL31: =IF(AND($D31<>0,AB31=""),1,IF(AB31>$D31,1,0)) -> 0 | CM31: =IF(AND($D31<>0,AC31=""),1,IF(AC31>$D31,1,0)) -> 0 | CN31: =IF(AND($D31<>0,AD31=""),1,IF(AD31>$D31,1,0)) -> 0 | CO31: =IF(AND($D31<>0,AE31=""),1,IF(AE31>$D31,1,0)) -> 0 | CP31: =IF(AND(D31>0,OR(AF31="",AG31="",)),1,IF(AF31+AG31>$D31,1,0)) -> 0 | CQ31: =IF(AND(D31>0,AI31=""),1,IF(AI31>$D31,1,0)) -> 0 | CR31: =IF(AND(D31>0,AI31=""),1,IF(AI31>$D31,1,0)) -> 0
C32: Otros | D32: =SUM(E32:I32) -> 0 | E32: =SUM(ENERO:DICIEMBRE!E32) -> 0 | F32: =SUM(ENERO:DICIEMBRE!F32) -> 0 | G32: =SUM(ENERO:DICIEMBRE!G32) -> 0 | H32: =SUM(ENERO:DICIEMBRE!H32) -> 0 | I32: =SUM(ENERO:DICIEMBRE!I32) -> 0 | Y32: =SUM(ENERO:DICIEMBRE!Y32) -> 0 | AB32: =SUM(ENERO:DICIEMBRE!AB32) -> 0 | AC32: =SUM(ENERO:DICIEMBRE!AC32) -> 0 | AD32: =SUM(ENERO:DICIEMBRE!AD32) -> 0 | AE32: =SUM(ENERO:DICIEMBRE!AE32) -> 0 | AF32: =SUM(ENERO:DICIEMBRE!AF32) -> 0 | AG32: =SUM(ENERO:DICIEMBRE!AG32) -> 0 | AH32: =SUM(ENERO:DICIEMBRE!AH32) -> 0 | AI32: =SUM(ENERO:DICIEMBRE!AI32) -> 0 | AJ32: =CB32&CC32&CD32&CE32&CF32&CG32&CH32 | CB32: =IF(AND($D32<>0,AB32=""),"* No olvide ingresar la columna "&AB$9&""&" (Digite CERO si no tiene). ",IF(AB32>$D32,"* El Número de Familias en Riesgo no puede superar el Total. ","")) | CC32: =IF(AND($D32<>0,AC32=""),"* No olvide ingresar la variable "&AC$9&""&" (Digite CERO si no tiene). ",IF(AC32>$D32,"* La variable Pueblos Originarios no puede superar el Total. ","")) | CD32: =IF(AND($D32<>0,AD32=""),"* No olvide ingresar la variable "&AD$9&""&" (Digite CERO si no tiene). ",IF(AD32>$D32,"* La variable Migrantes no puede superar el Total. ","")) | CE32: =IF(AND($D32<>0,AE32=""),"* No olvide ingresar la variable "&AE$9&""&" (Digite CERO si no tiene). ",IF(AE32>$D32,"* La variable Espacios Amigables/ Adolescentes no puede superar el Total. ","")) | CF32: =IF(AND(D32>0,OR(AF32="",AG32="",))," * No olvide digitar la variable TRANS Masculino/Femenino (Digite CERO si no tiene). ",IF(AF32+AG32>$D32,"* La suma de TRANS Masculino + Femenino no puede superar el Total. ","")) | CG32: =IF(AND(D32>0,AI32=""),"* No olvide digitar la variable Niños, niñas, adolescentes y jóvenes SENAME (Digite CERO si no tiene). ",IF(AI32>$D32,"* La suma de Niños, niñas, adolescentes y jóvenes SENAME no puede superar el Total. ","")) | CH32: =IF(AND(D32>0,AI32=""),"* No olvide digitar la variable Niños, niñas, adolescentes y jóvenes Mejor Niñez (Digite CERO si no tiene). ",IF(AI32>$D32,"* La suma de Niños, niñas, adolescentes y jóvenes Mejor Niñez no puede superar el Total. ","")) | CL32: =IF(AND($D32<>0,AB32=""),1,IF(AB32>$D32,1,0)) -> 0 | CM32: =IF(AND($D32<>0,AC32=""),1,IF(AC32>$D32,1,0)) -> 0 | CN32: =IF(AND($D32<>0,AD32=""),1,IF(AD32>$D32,1,0)) -> 0 | CO32: =IF(AND($D32<>0,AE32=""),1,IF(AE32>$D32,1,0)) -> 0 | CP32: =IF(AND(D32>0,OR(AF32="",AG32="",)),1,IF(AF32+AG32>$D32,1,0)) -> 0 | CQ32: =IF(AND(D32>0,AI32=""),1,IF(AI32>$D32,1,0)) -> 0 | CR32: =IF(AND(D32>0,AI32=""),1,IF(AI32>$D32,1,0)) -> 0
B33: Apoyo madre a madre | D33: =SUM(E33:X33) -> 0 | E33: =SUM(ENERO:DICIEMBRE!E33) -> 0 | F33: =SUM(ENERO:DICIEMBRE!F33) -> 0 | G33: =SUM(ENERO:DICIEMBRE!G33) -> 0 | H33: =SUM(ENERO:DICIEMBRE!H33) -> 0 | I33: =SUM(ENERO:DICIEMBRE!I33) -> 0 | J33: =SUM(ENERO:DICIEMBRE!J33) -> 0 | K33: =SUM(ENERO:DICIEMBRE!K33) -> 0 | L33: =SUM(ENERO:DICIEMBRE!L33) -> 0 | ... AI33: =SUM(ENERO:DICIEMBRE!AI33) -> 0 | AJ33: =CB33&CC33&CD33&CE33&CF33&CG33&CH33 | CB33: =IF(AND($D33<>0,AB33=""),"* No olvide ingresar la columna "&AB$9&""&" (Digite CERO si no tiene). ",IF(AB33>$D33,"* El Número de Familias en Riesgo no puede superar el Total. ","")) | CC33: =IF(AND($D33<>0,AC33=""),"* No olvide ingresar la variable "&AC$9&""&" (Digite CERO si no tiene). ",IF(AC33>$D33,"* La variable Pueblos Originarios no puede superar el Total. ","")) | CD33: =IF(AND($D33<>0,AD33=""),"* No olvide ingresar la variable "&AD$9&""&" (Digite CERO si no tiene). ",IF(AD33>$D33,"* La variable Migrantes no puede superar el Total. ","")) | CE33: =IF(AND($D33<>0,AE33=""),"* No olvide ingresar la variable "&AE$9&""&" (Digite CERO si no tiene). ",IF(AE33>$D33,"* La variable Espacios Amigables/ Adolescentes no puede superar el Total. ","")) | CF33: =IF(AND(D33>0,OR(AF33="",AG33="",))," * No olvide digitar la variable TRANS Masculino/Femenino (Digite CERO si no tiene). ",IF(AF33+AG33>$D33,"* La suma de TRANS Masculino + Femenino no puede superar el Total. ","")) | CG33: =IF(AND(D33>0,AI33=""),"* No olvide digitar la variable Niños, niñas, adolescentes y jóvenes SENAME (Digite CERO si no tiene). ",IF(AI33>$D33,"* La suma de Niños, niñas, adolescentes y jóvenes SENAME no puede superar el Total. ","")) | CH33: =IF(AND(D33>0,AI33=""),"* No olvide digitar la variable Niños, niñas, adolescentes y jóvenes Mejor Niñez (Digite CERO si no tiene). ",IF(AI33>$D33,"* La suma de Niños, niñas, adolescentes y jóvenes Mejor Niñez no puede superar el Total. ","")) | CL33: =IF(AND($D33<>0,AB33=""),1,IF(AB33>$D33,1,0)) -> 0 | CM33: =IF(AND($D33<>0,AC33=""),1,IF(AC33>$D33,1,0)) -> 0 | CN33: =IF(AND($D33<>0,AD33=""),1,IF(AD33>$D33,1,0)) -> 0 | CO33: =IF(AND($D33<>0,AE33=""),1,IF(AE33>$D33,1,0)) -> 0 | CP33: =IF(AND(D33>0,OR(AF33="",AG33="",)),1,IF(AF33+AG33>$D33,1,0)) -> 0 | CQ33: =IF(AND(D33>0,AI33=""),1,IF(AI33>$D33,1,0)) -> 0 | CR33: =IF(AND(D33>0,AI33=""),1,IF(AI33>$D33,1,0)) -> 0
