Workbook

Sheet CONSOLIDADO
A1: SERVICIO DE SALUD
A2: =CONCATENATE("COMUNA: ",[1]NOMBRE!B2, " (",[1]NOMBRE!C2,[1]NOMBRE!D2,[1]NOMBRE!E2,[1]NOMBRE!F2,[1]NOMBRE!G2,")") -> COMUNA: ()
A3: =CONCATENATE("ESTABLECIMIENTO/ESTRATEGIA: ", [1]NOMBRE!B3, " (",[1]NOMBRE!C3,[1]NOMBRE!D3,[1]NOMBRE!E3,[1]NOMBRE!F3,[1]NOMBRE!G3,[1]NOMBRE!H3,")") -> ESTABLECIMIENTO/ESTRATEGIA: ()
A4: =CONCATENATE("MES: ",[1]NOMBRE!B6, " (",[1]NOMBRE!C6,[1]NOMBRE!D6,")") -> MES: ()
A5: =CONCATENATE("AÑO: ",[1]NOMBRE!B7) -> AÑO: 2025
A6: REM-27. EDUCACIÓN PARA LA SALUD
A8: SECCIÓN A: PERSONAS QUE INGRESAN A EDUCACIÓN GRUPAL SEGÚN ÁREAS TEMÁTICAS Y EDAD
A9: ÁREAS TEMÁTICAS DE PREVENCIÓN | D9: TOTAL | E9: Madre, Padre o Cuidador de: | J9: RANGO ETARIO | Y9: Gestantes | AB9: Familias en Riesgo | AC9: Pueblos Originarios | AD9: Migrantes | AE9: Espacios Amigables/ Adolescentes | AF9: TRANS | AH9: Niños, niñas, adolescentes y jóvenes SENAME | AI9: Niños, niñas, adolescentes y jóvenes Mejor Niñez
E10: Menos de 1 año | F10: Niños 12 - 23 meses | G10: Niños de 2 - 5 años | H10: Niños de 6 - 9 años | I10: Niños de 10 - 14 años | J10: 10 - 14 años | K10: 15 - 19 años | L10: 20 - 24 años | M10: 25 - 29 años | N10: 30 - 34 años | O10: 35 - 39 años | P10: 40 - 44 años | Q10: 45 - 49 años | R10: 50 - 54 años | S10: 55 - 59 años | T10: 60 - 64 años | U10: 65 - 69 años | V10: 70 - 74 años | W10: 75 - 79 años | X10: 80 y más años | Y10: APS | Z10: Nivel Secundario | AA10: Nivel Terciario | AF10: Masculino | AG10: Femenino
A11: Educación en grupo | B11: Estimulación desarrollo psicomotor | D11: =SUM(E11:G11) -> 0 | E11: =SUM(ENERO:DICIEMBRE!E11) -> 0 | F11: =SUM(ENERO:DICIEMBRE!F11) -> 0 | G11: =SUM(ENERO:DICIEMBRE!G11) -> 0 | Y11: =SUM(ENERO:DICIEMBRE!Y11) -> 0 | AC11: =SUM(ENERO:DICIEMBRE!AC11) -> 0 | AD11: =SUM(ENERO:DICIEMBRE!AD11) -> 0 | AE11: =SUM(ENERO:DICIEMBRE!AE11) -> 0 | AF11: =SUM(ENERO:DICIEMBRE!AF11) -> 0 | AG11: =SUM(ENERO:DICIEMBRE!AG11) -> 0 | AH11: =SUM(ENERO:DICIEMBRE!AH11) -> 0 | AI11: =SUM(ENERO:DICIEMBRE!AI11) -> 0 | AJ11: =CB11&CC11&CD11&CE11&CF11&CG11&CH11 | CC11: =IF(AND($D11<>0,AC11=""),"* No olvide ingresar la variable "&AC$9&""&" (Digite CERO si no tiene). ",IF(AC11>$D11,"* La variable Pueblos Originarios no puede superar el Total. ","")) | CD11: =IF(AND($D11<>0,AD11=""),"* No olvide ingresar la variable "&AD$9&""&" (Digite CERO si no tiene). ",IF(AD11>$D11,"* La variable Migrantes no puede superar el Total. ","")) | CE11: =IF(AND($D11<>0,AE11=""),"* No olvide ingresar la variable "&AE$9&""&" (Digite CERO si no tiene). ",IF(AE11>$D11,"* La variable Espacios Amigables/ Adolescentes no puede superar el Total. ","")) | CF11: =IF(AND(D11>0,OR(AF11="",AG11="",))," * No olvide digitar la variable TRANS Masculino/Femenino (Digite CERO si no tiene). ",IF(AF11+AG11>$D11,"* La suma de TRANS Masculino + Femenino no puede superar el Total. ","")) | CG11: =IF(AND(D11>0,AH11=""),"* No olvide digitar la variable Niños, niñas, adolescentes y jóvenes SENAME (Digite CERO si no tiene). ",IF(AH11>$D11,"* La suma de Niños, niñas, adolescentes y jóvenes SENAME no puede superar el Total. ","")) | CH11: =IF(AND(D11>0,AI11=""),"* No olvide digitar la variable Niños, niñas, adolescentes y jóvenes Mejor Niñez (Digite CERO si no tiene). ",IF(AI11>$D11,"* La suma de Niños, niñas, adolescentes y jóvenes Mejor Niñez no puede superar el Total. ","")) | CM11: =IF(AND($D11<>0,AC11=""),1,IF(AC11>$D11,1,0)) -> 0 | CN11: =IF(AND($D11<>0,AD11=""),1,IF(AD11>$D11,1,0)) -> 0 | CO11: =IF(AND($D11<>0,AE11=""),1,IF(AE11>$D11,1,0)) -> 0 | CP11: =IF(AND(D11>0,OR(AF11="",AG11="",)),1,IF(AF11+AG11>$D11,1,0)) -> 0 | CQ11: =IF(AND(D11>0,AH11=""),1,IF(AH11>$D11,1,0)) -> 0 | CR11: =IF(AND(D11>0,AI11=""),1,IF(AI11>$D11,1,0)) -> 0
B12: Nutrición | C12: Riesgo de malnutrición por exceso | D12: =SUM(E12:X12) -> 0 | E12: =SUM(ENERO:DICIEMBRE!E12) -> 0 | F12: =SUM(ENERO:DICIEMBRE!F12) -> 0 | G12: =SUM(ENERO:DICIEMBRE!G12) -> 0 | H12: =SUM(ENERO:DICIEMBRE!H12) -> 0 | I12: =SUM(ENERO:DICIEMBRE!I12) -> 0 | J12: =SUM(ENERO:DICIEMBRE!J12) -> 0 | K12: =SUM(ENERO:DICIEMBRE!K12) -> 0 | L12: =SUM(ENERO:DICIEMBRE!L12) -> 0 | ... Y12: =SUM(ENERO:DICIEMBRE!Y12) -> 0 | AB12: =SUM(ENERO:DICIEMBRE!AB12) -> 0 | AC12: =SUM(ENERO:DICIEMBRE!AC12) -> 0 | AD12: =SUM(ENERO:DICIEMBRE!AD12) -> 0 | AE12: =SUM(ENERO:DICIEMBRE!AE12) -> 0 | AF12: =SUM(ENERO:DICIEMBRE!AF12) -> 0 | AG12: =SUM(ENERO:DICIEMBRE!AG12) -> 0 | AH12: =SUM(ENERO:DICIEMBRE!AH12) -> 0 | AI12: =SUM(ENERO:DICIEMBRE!AI12) -> 0 | AJ12: =CB12&CC12&CD12&CE12&CF12&CG12&CH12 | CB12: =IF(AND($D12<>0,AB12=""),"* No olvide ingresar la columna "&AB$9&""&" (Digite CERO si no tiene). ",IF(AB12>$D12,"* El Número de Familias en Riesgo no puede superar el Total. ","")) | CC12: =IF(AND($D12<>0,AC12=""),"* No olvide ingresar la variable "&AC$9&""&" (Digite CERO si no tiene). ",IF(AC12>$D12,"* La variable Pueblos Originarios no puede superar el Total. ","")) | CD12: =IF(AND($D12<>0,AD12=""),"* No olvide ingresar la variable "&AD$9&""&" (Digite CERO si no tiene). ",IF(AD12>$D12,"* La variable Migrantes no puede superar el Total. ","")) | CE12: =IF(AND($D12<>0,AE12=""),"* No olvide ingresar la variable "&AE$9&""&" (Digite CERO si no tiene). ",IF(AE12>$D12,"* La variable Espacios Amigables/ Adolescentes no puede superar el Total. ","")) | CF12: =IF(AND(D12>0,OR(AF12="",AG12="",))," * No olvide digitar la variable TRANS Masculino/Femenino (Digite CERO si no tiene). ",IF(AF12+AG12>$D12,"* La suma de TRANS Masculino + Femenino no puede superar el Total. ","")) | CG12: =IF(AND(D12>0,AI12=""),"* No olvide digitar la variable Niños, niñas, adolescentes y jóvenes SENAME (Digite CERO si no tiene). ",IF(AI12>$D12,"* La suma de Niños, niñas, adolescentes y jóvenes SENAME no puede superar el Total. ","")) | CH12: =IF(AND(D12>0,AI12=""),"* No olvide digitar la variable Niños, niñas, adolescentes y jóvenes Mejor Niñez (Digite CERO si no tiene). ",IF(AI12>$D12,"* La suma de Niños, niñas, adolescentes y jóvenes Mejor Niñez no puede superar el Total. ","")) | CL12: =IF(AND($D12<>0,AB12=""),1,IF(AB12>$D12,1,0)) -> 0 | CM12: =IF(AND($D12<>0,AC12=""),1,IF(AC12>$D12,1,0)) -> 0 | CN12: =IF(AND($D12<>0,AD12=""),1,IF(AD12>$D12,1,0)) -> 0 | CO12: =IF(AND($D12<>0,AE12=""),1,IF(AE12>$D12,1,0)) -> 0 | CP12: =IF(AND(D12>0,OR(AF12="",AG12="",)),1,IF(AF12+AG12>$D12,1,0)) -> 0 | CQ12: =IF(AND(D12>0,AI12=""),1,IF(AI12>$D12,1,0)) -> 0 | CR12: =IF(AND(D12>0,AI12=""),1,IF(AI12>$D12,1,0)) -> 0
C13: Malnutrición por exceso | D13: =SUM(E13:X13) -> 0 | E13: =SUM(ENERO:DICIEMBRE!E13) -> 0 | F13: =SUM(ENERO:DICIEMBRE!F13) -> 0 | G13: =SUM(ENERO:DICIEMBRE!G13) -> 0 | H13: =SUM(ENERO:DICIEMBRE!H13) -> 0 | I13: =SUM(ENERO:DICIEMBRE!I13) -> 0 | J13: =SUM(ENERO:DICIEMBRE!J13) -> 0 | K13: =SUM(ENERO:DICIEMBRE!K13) -> 0 | L13: =SUM(ENERO:DICIEMBRE!L13) -> 0 | ... Y13: =SUM(ENERO:DICIEMBRE!Y13) -> 0 | AB13: =SUM(ENERO:DICIEMBRE!AB13) -> 0 | AC13: =SUM(ENERO:DICIEMBRE!AC13) -> 0 | AD13: =SUM(ENERO:DICIEMBRE!AD13) -> 0 | AE13: =SUM(ENERO:DICIEMBRE!AE13) -> 0 | AF13: =SUM(ENERO:DICIEMBRE!AF13) -> 0 | AG13: =SUM(ENERO:DICIEMBRE!AG13) -> 0 | AH13: =SUM(ENERO:DICIEMBRE!AH13) -> 0 | AI13: =SUM(ENERO:DICIEMBRE!AI13) -> 0 | AJ13: =CB13&CC13&CD13&CE13&CF13&CG13&CH13 | CB13: =IF(AND($D13<>0,AB13=""),"* No olvide ingresar la columna "&AB$9&""&" (Digite CERO si no tiene). ",IF(AB13>$D13,"* El Número de Familias en Riesgo no puede superar el Total. ","")) | CC13: =IF(AND($D13<>0,AC13=""),"* No olvide ingresar la variable "&AC$9&""&" (Digite CERO si no tiene). ",IF(AC13>$D13,"* La variable Pueblos Originarios no puede superar el Total. ","")) | CD13: =IF(AND($D13<>0,AD13=""),"* No olvide ingresar la variable "&AD$9&""&" (Digite CERO si no tiene). ",IF(AD13>$D13,"* La variable Migrantes no puede superar el Total. ","")) | CE13: =IF(AND($D13<>0,AE13=""),"* No olvide ingresar la variable "&AE$9&""&" (Digite CERO si no tiene). ",IF(AE13>$D13,"* La variable Espacios Amigables/ Adolescentes no puede superar el Total. ","")) | CF13: =IF(AND(D13>0,OR(AF13="",AG13="",))," * No olvide digitar la variable TRANS Masculino/Femenino (Digite CERO si no tiene). ",IF(AF13+AG13>$D13,"* La suma de TRANS Masculino + Femenino no puede superar el Total. ","")) | CG13: =IF(AND(D13>0,AI13=""),"* No olvide digitar la variable Niños, niñas, adolescentes y jóvenes SENAME (Digite CERO si no tiene). ",IF(AI13>$D13,"* La suma de Niños, niñas, adolescentes y jóvenes SENAME no puede superar el Total. ","")) | CH13: =IF(AND(D13>0,AI13=""),"* No olvide digitar la variable Niños, niñas, adolescentes y jóvenes Mejor Niñez (Digite CERO si no tiene). ",IF(AI13>$D13,"* La suma de Niños, niñas, adolescentes y jóvenes Mejor Niñez no puede superar el Total. ","")) | CL13: =IF(AND($D13<>0,AB13=""),1,IF(AB13>$D13,1,0)) -> 0 | CM13: =IF(AND($D13<>0,AC13=""),1,IF(AC13>$D13,1,0)) -> 0 | CN13: =IF(AND($D13<>0,AD13=""),1,IF(AD13>$D13,1,0)) -> 0 | CO13: =IF(AND($D13<>0,AE13=""),1,IF(AE13>$D13,1,0)) -> 0 | CP13: =IF(AND(D13>0,OR(AF13="",AG13="",)),1,IF(AF13+AG13>$D13,1,0)) -> 0 | CQ13: =IF(AND(D13>0,AI13=""),1,IF(AI13>$D13,1,0)) -> 0 | CR13: =IF(AND(D13>0,AI13=""),1,IF(AI13>$D13,1,0)) -> 0
C14: Malnutrición de déficit | D14: =SUM(E14:X14) -> 0 | E14: =SUM(ENERO:DICIEMBRE!E14) -> 0 | F14: =SUM(ENERO:DICIEMBRE!F14) -> 0 | G14: =SUM(ENERO:DICIEMBRE!G14) -> 0 | H14: =SUM(ENERO:DICIEMBRE!H14) -> 0 | I14: =SUM(ENERO:DICIEMBRE!I14) -> 0 | J14: =SUM(ENERO:DICIEMBRE!J14) -> 0 | K14: =SUM(ENERO:DICIEMBRE!K14) -> 0 | L14: =SUM(ENERO:DICIEMBRE!L14) -> 0 | ... Y14: =SUM(ENERO:DICIEMBRE!Y14) -> 0 | AB14: =SUM(ENERO:DICIEMBRE!AB14) -> 0 | AC14: =SUM(ENERO:DICIEMBRE!AC14) -> 0 | AD14: =SUM(ENERO:DICIEMBRE!AD14) -> 0 | AE14: =SUM(ENERO:DICIEMBRE!AE14) -> 0 | AF14: =SUM(ENERO:DICIEMBRE!AF14) -> 0 | AG14: =SUM(ENERO:DICIEMBRE!AG14) -> 0 | AH14: =SUM(ENERO:DICIEMBRE!AH14) -> 0 | AI14: =SUM(ENERO:DICIEMBRE!AI14) -> 0 | AJ14: =CB14&CC14&CD14&CE14&CF14&CG14&CH14 | CB14: =IF(AND($D14<>0,AB14=""),"* No olvide ingresar la columna "&AB$9&""&" (Digite CERO si no tiene). ",IF(AB14>$D14,"* El Número de Familias en Riesgo no puede superar el Total. ","")) | CC14: =IF(AND($D14<>0,AC14=""),"* No olvide ingresar la variable "&AC$9&""&" (Digite CERO si no tiene). ",IF(AC14>$D14,"* La variable Pueblos Originarios no puede superar el Total. ","")) | CD14: =IF(AND($D14<>0,AD14=""),"* No olvide ingresar la variable "&AD$9&""&" (Digite CERO si no tiene). ",IF(AD14>$D14,"* La variable Migrantes no puede superar el Total. ","")) | CE14: =IF(AND($D14<>0,AE14=""),"* No olvide ingresar la variable "&AE$9&""&" (Digite CERO si no tiene). ",IF(AE14>$D14,"* La variable Espacios Amigables/ Adolescentes no puede superar el Total. ","")) | CF14: =IF(AND(D14>0,OR(AF14="",AG14="",))," * No olvide digitar la variable TRANS Masculino/Femenino (Digite CERO si no tiene). ",IF(AF14+AG14>$D14,"* La suma de TRANS Masculino + Femenino no puede superar el Total. ","")) | CG14: =IF(AND(D14>0,AI14=""),"* No olvide digitar la variable Niños, niñas, adolescentes y jóvenes SENAME (Digite CERO si no tiene). ",IF(AI14>$D14,"* La suma de Niños, niñas, adolescentes y jóvenes SENAME no puede superar el Total. ","")) | CH14: =IF(AND(D14>0,AI14=""),"* No olvide digitar la variable Niños, niñas, adolescentes y jóvenes Mejor Niñez (Digite CERO si no tiene). ",IF(AI14>$D14,"* La suma de Niños, niñas, adolescentes y jóvenes Mejor Niñez no puede superar el Total. ","")) | CL14: =IF(AND($D14<>0,AB14=""),1,IF(AB14>$D14,1,0)) -> 0 | CM14: =IF(AND($D14<>0,AC14=""),1,IF(AC14>$D14,1,0)) -> 0 | CN14: =IF(AND($D14<>0,AD14=""),1,IF(AD14>$D14,1,0)) -> 0 | CO14: =IF(AND($D14<>0,AE14=""),1,IF(AE14>$D14,1,0)) -> 0 | CP14: =IF(AND(D14>0,OR(AF14="",AG14="",)),1,IF(AF14+AG14>$D14,1,0)) -> 0 | CQ14: =IF(AND(D14>0,AI14=""),1,IF(AI14>$D14,1,0)) -> 0 | CR14: =IF(AND(D14>0,AI14=""),1,IF(AI14>$D14,1,0)) -> 0
C15: Sin riesgo de malnutrición | D15: =SUM(E15:X15) -> 0 | E15: =SUM(ENERO:DICIEMBRE!E15) -> 0 | F15: =SUM(ENERO:DICIEMBRE!F15) -> 0 | G15: =SUM(ENERO:DICIEMBRE!G15) -> 0 | H15: =SUM(ENERO:DICIEMBRE!H15) -> 0 | I15: =SUM(ENERO:DICIEMBRE!I15) -> 0 | J15: =SUM(ENERO:DICIEMBRE!J15) -> 0 | K15: =SUM(ENERO:DICIEMBRE!K15) -> 0 | L15: =SUM(ENERO:DICIEMBRE!L15) -> 0 | ... Y15: =SUM(ENERO:DICIEMBRE!Y15) -> 0 | AB15: =SUM(ENERO:DICIEMBRE!AB15) -> 0 | AC15: =SUM(ENERO:DICIEMBRE!AC15) -> 0 | AD15: =SUM(ENERO:DICIEMBRE!AD15) -> 0 | AE15: =SUM(ENERO:DICIEMBRE!AE15) -> 0 | AF15: =SUM(ENERO:DICIEMBRE!AF15) -> 0 | AG15: =SUM(ENERO:DICIEMBRE!AG15) -> 0 | AH15: =SUM(ENERO:DICIEMBRE!AH15) -> 0 | AI15: =SUM(ENERO:DICIEMBRE!AI15) -> 0 | AJ15: =CB15&CC15&CD15&CE15&CF15&CG15&CH15 | CB15: =IF(AND($D15<>0,AB15=""),"* No olvide ingresar la columna "&AB$9&""&" (Digite CERO si no tiene). ",IF(AB15>$D15,"* El Número de Familias en Riesgo no puede superar el Total. ","")) | CC15: =IF(AND($D15<>0,AC15=""),"* No olvide ingresar la variable "&AC$9&""&" (Digite CERO si no tiene). ",IF(AC15>$D15,"* La variable Pueblos Originarios no puede superar el Total. ","")) | CD15: =IF(AND($D15<>0,AD15=""),"* No olvide ingresar la variable "&AD$9&""&" (Digite CERO si no tiene). ",IF(AD15>$D15,"* La variable Migrantes no puede superar el Total. ","")) | CE15: =IF(AND($D15<>0,AE15=""),"* No olvide ingresar la variable "&AE$9&""&" (Digite CERO si no tiene). ",IF(AE15>$D15,"* La variable Espacios Amigables/ Adolescentes no puede superar el Total. ","")) | CF15: =IF(AND(D15>0,OR(AF15="",AG15="",))," * No olvide digitar la variable TRANS Masculino/Femenino (Digite CERO si no tiene). ",IF(AF15+AG15>$D15,"* La suma de TRANS Masculino + Femenino no puede superar el Total. ","")) | CG15: =IF(AND(D15>0,AI15=""),"* No olvide digitar la variable Niños, niñas, adolescentes y jóvenes SENAME (Digite CERO si no tiene). ",IF(AI15>$D15,"* La suma de Niños, niñas, adolescentes y jóvenes SENAME no puede superar el Total. ","")) | CH15: =IF(AND(D15>0,AI15=""),"* No olvide digitar la variable Niños, niñas, adolescentes y jóvenes Mejor Niñez (Digite CERO si no tiene). ",IF(AI15>$D15,"* La suma de Niños, niñas, adolescentes y jóvenes Mejor Niñez no puede superar el Total. ","")) | CL15: =IF(AND($D15<>0,AB15=""),1,IF(AB15>$D15,1,0)) -> 0 | CM15: =IF(AND($D15<>0,AC15=""),1,IF(AC15>$D15,1,0)) -> 0 | CN15: =IF(AND($D15<>0,AD15=""),1,IF(AD15>$D15,1,0)) -> 0 | CO15: =IF(AND($D15<>0,AE15=""),1,IF(AE15>$D15,1,0)) -> 0 | CP15: =IF(AND(D15>0,OR(AF15="",AG15="",)),1,IF(AF15+AG15>$D15,1,0)) -> 0 | CQ15: =IF(AND(D15>0,AI15=""),1,IF(AI15>$D15,1,0)) -> 0 | CR15: =IF(AND(D15>0,AI15=""),1,IF(AI15>$D15,1,0)) -> 0
B16: Prevención de IRA - ERA | D16: =SUM(E16:X16) -> 0 | E16: =SUM(ENERO:DICIEMBRE!E16) -> 0 | F16: =SUM(ENERO:DICIEMBRE!F16) -> 0 | G16: =SUM(ENERO:DICIEMBRE!G16) -> 0 | H16: =SUM(ENERO:DICIEMBRE!H16) -> 0 | I16: =SUM(ENERO:DICIEMBRE!I16) -> 0 | J16: =SUM(ENERO:DICIEMBRE!J16) -> 0 | K16: =SUM(ENERO:DICIEMBRE!K16) -> 0 | L16: =SUM(ENERO:DICIEMBRE!L16) -> 0 | ... Y16: =SUM(ENERO:DICIEMBRE!Y16) -> 0 | AB16: =SUM(ENERO:DICIEMBRE!AB16) -> 0 | AC16: =SUM(ENERO:DICIEMBRE!AC16) -> 0 | AD16: =SUM(ENERO:DICIEMBRE!AD16) -> 0 | AE16: =SUM(ENERO:DICIEMBRE!AE16) -> 0 | AF16: =SUM(ENERO:DICIEMBRE!AF16) -> 0 | AG16: =SUM(ENERO:DICIEMBRE!AG16) -> 0 | AH16: =SUM(ENERO:DICIEMBRE!AH16) -> 0 | AI16: =SUM(ENERO:DICIEMBRE!AI16) -> 0 | AJ16: =CB16&CC16&CD16&CE16&CF16&CG16&CH16 | CB16: =IF(AND($D16<>0,AB16=""),"* No olvide ingresar la columna "&AB$9&""&" (Digite CERO si no tiene). ",IF(AB16>$D16,"* El Número de Familias en Riesgo no puede superar el Total. ","")) | CC16: =IF(AND($D16<>0,AC16=""),"* No olvide ingresar la variable "&AC$9&""&" (Digite CERO si no tiene). ",IF(AC16>$D16,"* La variable Pueblos Originarios no puede superar el Total. ","")) | CD16: =IF(AND($D16<>0,AD16=""),"* No olvide ingresar la variable "&AD$9&""&" (Digite CERO si no tiene). ",IF(AD16>$D16,"* La variable Migrantes no puede superar el Total. ","")) | CE16: =IF(AND($D16<>0,AE16=""),"* No olvide ingresar la variable "&AE$9&""&" (Digite CERO si no tiene). ",IF(AE16>$D16,"* La variable Espacios Amigables/ Adolescentes no puede superar el Total. ","")) | CF16: =IF(AND(D16>0,OR(AF16="",AG16="",))," * No olvide digitar la variable TRANS Masculino/Femenino (Digite CERO si no tiene). ",IF(AF16+AG16>$D16,"* La suma de TRANS Masculino + Femenino no puede superar el Total. ","")) | CG16: =IF(AND(D16>0,AI16=""),"* No olvide digitar la variable Niños, niñas, adolescentes y jóvenes SENAME (Digite CERO si no tiene). ",IF(AI16>$D16,"* La suma de Niños, niñas, adolescentes y jóvenes SENAME no puede superar el Total. ","")) | CH16: =IF(AND(D16>0,AI16=""),"* No olvide digitar la variable Niños, niñas, adolescentes y jóvenes Mejor Niñez (Digite CERO si no tiene). ",IF(AI16>$D16,"* La suma de Niños, niñas, adolescentes y jóvenes Mejor Niñez no puede superar el Total. ","")) | CL16: =IF(AND($D16<>0,AB16=""),1,IF(AB16>$D16,1,0)) -> 0 | CM16: =IF(AND($D16<>0,AC16=""),1,IF(AC16>$D16,1,0)) -> 0 | CN16: =IF(AND($D16<>0,AD16=""),1,IF(AD16>$D16,1,0)) -> 0 | CO16: =IF(AND($D16<>0,AE16=""),1,IF(AE16>$D16,1,0)) -> 0 | CP16: =IF(AND(D16>0,OR(AF16="",AG16="",)),1,IF(AF16+AG16>$D16,1,0)) -> 0 | CQ16: =IF(AND(D16>0,AI16=""),1,IF(AI16>$D16,1,0)) -> 0 | CR16: =IF(AND(D16>0,AI16=""),1,IF(AI16>$D16,1,0)) -> 0
B17: Prevención de accidentes | D17: =SUM(E17:X17) -> 0 | E17: =SUM(ENERO:DICIEMBRE!E17) -> 0 | F17: =SUM(ENERO:DICIEMBRE!F17) -> 0 | G17: =SUM(ENERO:DICIEMBRE!G17) -> 0 | H17: =SUM(ENERO:DICIEMBRE!H17) -> 0 | I17: =SUM(ENERO:DICIEMBRE!I17) -> 0 | J17: =SUM(ENERO:DICIEMBRE!J17) -> 0 | K17: =SUM(ENERO:DICIEMBRE!K17) -> 0 | L17: =SUM(ENERO:DICIEMBRE!L17) -> 0 | ... Y17: =SUM(ENERO:DICIEMBRE!Y17) -> 0 | AB17: =SUM(ENERO:DICIEMBRE!AB17) -> 0 | AC17: =SUM(ENERO:DICIEMBRE!AC17) -> 0 | AD17: =SUM(ENERO:DICIEMBRE!AD17) -> 0 | AE17: =SUM(ENERO:DICIEMBRE!AE17) -> 0 | AF17: =SUM(ENERO:DICIEMBRE!AF17) -> 0 | AG17: =SUM(ENERO:DICIEMBRE!AG17) -> 0 | AH17: =SUM(ENERO:DICIEMBRE!AH17) -> 0 | AI17: =SUM(ENERO:DICIEMBRE!AI17) -> 0 | AJ17: =CB17&CC17&CD17&CE17&CF17&CG17&CH17 | CB17: =IF(AND($D17<>0,AB17=""),"* No olvide ingresar la columna "&AB$9&""&" (Digite CERO si no tiene). ",IF(AB17>$D17,"* El Número de Familias en Riesgo no puede superar el Total. ","")) | CC17: =IF(AND($D17<>0,AC17=""),"* No olvide ingresar la variable "&AC$9&""&" (Digite CERO si no tiene). ",IF(AC17>$D17,"* La variable Pueblos Originarios no puede superar el Total. ","")) | CD17: =IF(AND($D17<>0,AD17=""),"* No olvide ingresar la variable "&AD$9&""&" (Digite CERO si no tiene). ",IF(AD17>$D17,"* La variable Migrantes no puede superar el Total. ","")) | CE17: =IF(AND($D17<>0,AE17=""),"* No olvide ingresar la variable "&AE$9&""&" (Digite CERO si no tiene). ",IF(AE17>$D17,"* La variable Espacios Amigables/ Adolescentes no puede superar el Total. ","")) | CF17: =IF(AND(D17>0,OR(AF17="",AG17="",))," * No olvide digitar la variable TRANS Masculino/Femenino (Digite CERO si no tiene). ",IF(AF17+AG17>$D17,"* La suma de TRANS Masculino + Femenino no puede superar el Total. ","")) | CG17: =IF(AND(D17>0,AI17=""),"* No olvide digitar la variable Niños, niñas, adolescentes y jóvenes SENAME (Digite CERO si no tiene). ",IF(AI17>$D17,"* La suma de Niños, niñas, adolescentes y jóvenes SENAME no puede superar el Total. ","")) | CH17: =IF(AND(D17>0,AI17=""),"* No olvide digitar la variable Niños, niñas, adolescentes y jóvenes Mejor Niñez (Digite CERO si no tiene). ",IF(AI17>$D17,"* La suma de Niños, niñas, adolescentes y jóvenes Mejor Niñez no puede superar el Total. ","")) | CL17: =IF(AND($D17<>0,AB17=""),1,IF(AB17>$D17,1,0)) -> 0 | CM17: =IF(AND($D17<>0,AC17=""),1,IF(AC17>$D17,1,0)) -> 0 | CN17: =IF(AND($D17<>0,AD17=""),1,IF(AD17>$D17,1,0)) -> 0 | CO17: =IF(AND($D17<>0,AE17=""),1,IF(AE17>$D17,1,0)) -> 0 | CP17: =IF(AND(D17>0,OR(AF17="",AG17="",)),1,IF(AF17+AG17>$D17,1,0)) -> 0 | CQ17: =IF(AND(D17>0,AI17=""),1,IF(AI17>$D17,1,0)) -> 0 | CR17: =IF(AND(D17>0,AI17=""),1,IF(AI17>$D17,1,0)) -> 0
B18: Salud buco-dental | D18: =SUM(E18:X18) -> 0 | E18: =SUM(ENERO:DICIEMBRE!E18) -> 0 | F18: =SUM(ENERO:DICIEMBRE!F18) -> 0 | G18: =SUM(ENERO:DICIEMBRE!G18) -> 0 | H18: =SUM(ENERO:DICIEMBRE!H18) -> 0 | I18: =SUM(ENERO:DICIEMBRE!I18) -> 0 | J18: =SUM(ENERO:DICIEMBRE!J18) -> 0 | K18: =SUM(ENERO:DICIEMBRE!K18) -> 0 | L18: =SUM(ENERO:DICIEMBRE!L18) -> 0 | ... Y18: =SUM(ENERO:DICIEMBRE!Y18) -> 0 | AB18: =SUM(ENERO:DICIEMBRE!AB18) -> 0 | AC18: =SUM(ENERO:DICIEMBRE!AC18) -> 0 | AD18: =SUM(ENERO:DICIEMBRE!AD18) -> 0 | AE18: =SUM(ENERO:DICIEMBRE!AE18) -> 0 | AF18: =SUM(ENERO:DICIEMBRE!AF18) -> 0 | AG18: =SUM(ENERO:DICIEMBRE!AG18) -> 0 | AH18: =SUM(ENERO:DICIEMBRE!AH18) -> 0 | AI18: =SUM(ENERO:DICIEMBRE!AI18) -> 0 | AJ18: =CB18&CC18&CD18&CE18&CF18&CG18&CH18 | CB18: =IF(AND($D18<>0,AB18=""),"* No olvide ingresar la columna "&AB$9&""&" (Digite CERO si no tiene). ",IF(AB18>$D18,"* El Número de Familias en Riesgo no puede superar el Total. ","")) | CC18: =IF(AND($D18<>0,AC18=""),"* No olvide ingresar la variable "&AC$9&""&" (Digite CERO si no tiene). ",IF(AC18>$D18,"* La variable Pueblos Originarios no puede superar el Total. ","")) | CD18: =IF(AND($D18<>0,AD18=""),"* No olvide ingresar la variable "&AD$9&""&" (Digite CERO si no tiene). ",IF(AD18>$D18,"* La variable Migrantes no puede superar el Total. ","")) | CE18: =IF(AND($D18<>0,AE18=""),"* No olvide ingresar la variable "&AE$9&""&" (Digite CERO si no tiene). ",IF(AE18>$D18,"* La variable Espacios Amigables/ Adolescentes no puede superar el Total. ","")) | CF18: =IF(AND(D18>0,OR(AF18="",AG18="",))," * No olvide digitar la variable TRANS Masculino/Femenino (Digite CERO si no tiene). ",IF(AF18+AG18>$D18,"* La suma de TRANS Masculino + Femenino no puede superar el Total. ","")) | CG18: =IF(AND(D18>0,AI18=""),"* No olvide digitar la variable Niños, niñas, adolescentes y jóvenes SENAME (Digite CERO si no tiene). ",IF(AI18>$D18,"* La suma de Niños, niñas, adolescentes y jóvenes SENAME no puede superar el Total. ","")) | CH18: =IF(AND(D18>0,AI18=""),"* No olvide digitar la variable Niños, niñas, adolescentes y jóvenes Mejor Niñez (Digite CERO si no tiene). ",IF(AI18>$D18,"* La suma de Niños, niñas, adolescentes y jóvenes Mejor Niñez no puede superar el Total. ","")) | CL18: =IF(AND($D18<>0,AB18=""),1,IF(AB18>$D18,1,0)) -> 0 | CM18: =IF(AND($D18<>0,AC18=""),1,IF(AC18>$D18,1,0)) -> 0 | CN18: =IF(AND($D18<>0,AD18=""),1,IF(AD18>$D18,1,0)) -> 0 | CO18: =IF(AND($D18<>0,AE18=""),1,IF(AE18>$D18,1,0)) -> 0 | CP18: =IF(AND(D18>0,OR(AF18="",AG18="",)),1,IF(AF18+AG18>$D18,1,0)) -> 0 | CQ18: =IF(AND(D18>0,AI18=""),1,IF(AI18>$D18,1,0)) -> 0 | CR18: =IF(AND(D18>0,AI18=""),1,IF(AI18>$D18,1,0)) -> 0
B19: Prevención violencia de género | D19: =SUM(E19:X19) -> 0 | E19: =SUM(ENERO:DICIEMBRE!E19) -> 0 | F19: =SUM(ENERO:DICIEMBRE!F19) -> 0 | G19: =SUM(ENERO:DICIEMBRE!G19) -> 0 | H19: =SUM(ENERO:DICIEMBRE!H19) -> 0 | I19: =SUM(ENERO:DICIEMBRE!I19) -> 0 | J19: =SUM(ENERO:DICIEMBRE!J19) -> 0 | K19: =SUM(ENERO:DICIEMBRE!K19) -> 0 | L19: =SUM(ENERO:DICIEMBRE!L19) -> 0 | ... AI19: =SUM(ENERO:DICIEMBRE!AI19) -> 0 | AJ19: =CB19&CC19&CD19&CE19&CF19&CG19&CH19 | CB19: =IF(AND($D19<>0,AB19=""),"* No olvide ingresar la columna "&AB$9&""&" (Digite CERO si no tiene). ",IF(AB19>$D19,"* El Número de Familias en Riesgo no puede superar el Total. ","")) | CC19: =IF(AND($D19<>0,AC19=""),"* No olvide ingresar la variable "&AC$9&""&" (Digite CERO si no tiene). ",IF(AC19>$D19,"* La variable Pueblos Originarios no puede superar el Total. ","")) | CD19: =IF(AND($D19<>0,AD19=""),"* No olvide ingresar la variable "&AD$9&""&" (Digite CERO si no tiene). ",IF(AD19>$D19,"* La variable Migrantes no puede superar el Total. ","")) | CE19: =IF(AND($D19<>0,AE19=""),"* No olvide ingresar la variable "&AE$9&""&" (Digite CERO si no tiene). ",IF(AE19>$D19,"* La variable Espacios Amigables/ Adolescentes no puede superar el Total. ","")) | CF19: =IF(AND(D19>0,OR(AF19="",AG19="",))," * No olvide digitar la variable TRANS Masculino/Femenino (Digite CERO si no tiene). ",IF(AF19+AG19>$D19,"* La suma de TRANS Masculino + Femenino no puede superar el Total. ","")) | CG19: =IF(AND(D19>0,AI19=""),"* No olvide digitar la variable Niños, niñas, adolescentes y jóvenes SENAME (Digite CERO si no tiene). ",IF(AI19>$D19,"* La suma de Niños, niñas, adolescentes y jóvenes SENAME no puede superar el Total. ","")) | CH19: =IF(AND(D19>0,AI19=""),"* No olvide digitar la variable Niños, niñas, adolescentes y jóvenes Mejor Niñez (Digite CERO si no tiene). ",IF(AI19>$D19,"* La suma de Niños, niñas, adolescentes y jóvenes Mejor Niñez no puede superar el Total. ","")) | CL19: =IF(AND($D19<>0,AB19=""),1,IF(AB19>$D19,1,0)) -> 0 | CM19: =IF(AND($D19<>0,AC19=""),1,IF(AC19>$D19,1,0)) -> 0 | CN19: =IF(AND($D19<>0,AD19=""),1,IF(AD19>$D19,1,0)) -> 0 | CO19: =IF(AND($D19<>0,AE19=""),1,IF(AE19>$D19,1,0)) -> 0 | CP19: =IF(AND(D19>0,OR(AF19="",AG19="",)),1,IF(AF19+AG19>$D19,1,0)) -> 0 | CQ19: =IF(AND(D19>0,AI19=""),1,IF(AI19>$D19,1,0)) -> 0 | CR19: =IF(AND(D19>0,AI19=""),1,IF(AI19>$D19,1,0)) -> 0
B20: Salud Sexual y reproductiva | C20: Mujeres | D20: =SUM(E20:X20) -> 0 | J20: =SUM(ENERO:DICIEMBRE!J20) -> 0 | K20: =SUM(ENERO:DICIEMBRE!K20) -> 0 | L20: =SUM(ENERO:DICIEMBRE!L20) -> 0 | M20: =SUM(ENERO:DICIEMBRE!M20) -> 0 | N20: =SUM(ENERO:DICIEMBRE!N20) -> 0 | O20: =SUM(ENERO:DICIEMBRE!O20) -> 0 | P20: =SUM(ENERO:DICIEMBRE!P20) -> 0 | Q20: =SUM(ENERO:DICIEMBRE!Q20) -> 0 | ... AI20: =SUM(ENERO:DICIEMBRE!AI20) -> 0 | AJ20: =CB20&CC20&CD20&CE20&CF20&CG20&CH20 | CB20: =IF(AND($D20<>0,AB20=""),"* No olvide ingresar la columna "&AB$9&""&" (Digite CERO si no tiene). ",IF(AB20>$D20,"* El Número de Familias en Riesgo no puede superar el Total. ","")) | CC20: =IF(AND($D20<>0,AC20=""),"* No olvide ingresar la variable "&AC$9&""&" (Digite CERO si no tiene). ",IF(AC20>$D20,"* La variable Pueblos Originarios no puede superar el Total. ","")) | CD20: =IF(AND($D20<>0,AD20=""),"* No olvide ingresar la variable "&AD$9&""&" (Digite CERO si no tiene). ",IF(AD20>$D20,"* La variable Migrantes no puede superar el Total. ","")) | CE20: =IF(AND($D20<>0,AE20=""),"* No olvide ingresar la variable "&AE$9&""&" (Digite CERO si no tiene). ",IF(AE20>$D20,"* La variable Espacios Amigables/ Adolescentes no puede superar el Total. ","")) | CF20: =IF(AND(D20>0,OR(AF20="",AG20="",))," * No olvide digitar la variable TRANS Masculino/Femenino (Digite CERO si no tiene). ",IF(AF20+AG20>$D20,"* La suma de TRANS Masculino + Femenino no puede superar el Total. ","")) | CG20: =IF(AND(D20>0,AI20=""),"* No olvide digitar la variable Niños, niñas, adolescentes y jóvenes SENAME (Digite CERO si no tiene). ",IF(AI20>$D20,"* La suma de Niños, niñas, adolescentes y jóvenes SENAME no puede superar el Total. ","")) | CH20: =IF(AND(D20>0,AI20=""),"* No olvide digitar la variable Niños, niñas, adolescentes y jóvenes Mejor Niñez (Digite CERO si no tiene). ",IF(AI20>$D20,"* La suma de Niños, niñas, adolescentes y jóvenes Mejor Niñez no puede superar el Total. ","")) | CL20: =IF(AND($D20<>0,AB20=""),1,IF(AB20>$D20,1,0)) -> 0 | CM20: =IF(AND($D20<>0,AC20=""),1,IF(AC20>$D20,1,0)) -> 0 | CN20: =IF(AND($D20<>0,AD20=""),1,IF(AD20>$D20,1,0)) -> 0 | CO20: =IF(AND($D20<>0,AE20=""),1,IF(AE20>$D20,1,0)) -> 0 | CP20: =IF(AND(D20>0,OR(AF20="",AG20="",)),1,IF(AF20+AG20>$D20,1,0)) -> 0 | CQ20: =IF(AND(D20>0,AI20=""),1,IF(AI20>$D20,1,0)) -> 0 | CR20: =IF(AND(D20>0,AI20=""),1,IF(AI20>$D20,1,0)) -> 0
C21: Hombres | D21: =SUM(E21:X21) -> 0 | J21: =SUM(ENERO:DICIEMBRE!J21) -> 0 | K21: =SUM(ENERO:DICIEMBRE!K21) -> 0 | L21: =SUM(ENERO:DICIEMBRE!L21) -> 0 | M21: =SUM(ENERO:DICIEMBRE!M21) -> 0 | N21: =SUM(ENERO:DICIEMBRE!N21) -> 0 | O21: =SUM(ENERO:DICIEMBRE!O21) -> 0 | P21: =SUM(ENERO:DICIEMBRE!P21) -> 0 | Q21: =SUM(ENERO:DICIEMBRE!Q21) -> 0 | ... AI21: =SUM(ENERO:DICIEMBRE!AI21) -> 0 | AJ21: =CB21&CC21&CD21&CE21&CF21&CG21&CH21 | CB21: =IF(AND($D21<>0,AB21=""),"* No olvide ingresar la columna "&AB$9&""&" (Digite CERO si no tiene). ",IF(AB21>$D21,"* El Número de Familias en Riesgo no puede superar el Total. ","")) | CC21: =IF(AND($D21<>0,AC21=""),"* No olvide ingresar la variable "&AC$9&""&" (Digite CERO si no tiene). ",IF(AC21>$D21,"* La variable Pueblos Originarios no puede superar el Total. ","")) | CD21: =IF(AND($D21<>0,AD21=""),"* No olvide ingresar la variable "&AD$9&""&" (Digite CERO si no tiene). ",IF(AD21>$D21,"* La variable Migrantes no puede superar el Total. ","")) | CE21: =IF(AND($D21<>0,AE21=""),"* No olvide ingresar la variable "&AE$9&""&" (Digite CERO si no tiene). ",IF(AE21>$D21,"* La variable Espacios Amigables/ Adolescentes no puede superar el Total. ","")) | CF21: =IF(AND(D21>0,OR(AF21="",AG21="",))," * No olvide digitar la variable TRANS Masculino/Femenino (Digite CERO si no tiene). ",IF(AF21+AG21>$D21,"* La suma de TRANS Masculino + Femenino no puede superar el Total. ","")) | CG21: =IF(AND(D21>0,AI21=""),"* No olvide digitar la variable Niños, niñas, adolescentes y jóvenes SENAME (Digite CERO si no tiene). ",IF(AI21>$D21,"* La suma de Niños, niñas, adolescentes y jóvenes SENAME no puede superar el Total. ","")) | CH21: =IF(AND(D21>0,AI21=""),"* No olvide digitar la variable Niños, niñas, adolescentes y jóvenes Mejor Niñez (Digite CERO si no tiene). ",IF(AI21>$D21,"* La suma de Niños, niñas, adolescentes y jóvenes Mejor Niñez no puede superar el Total. ","")) | CL21: =IF(AND($D21<>0,AB21=""),1,IF(AB21>$D21,1,0)) -> 0 | CM21: =IF(AND($D21<>0,AC21=""),1,IF(AC21>$D21,1,0)) -> 0 | CN21: =IF(AND($D21<>0,AD21=""),1,IF(AD21>$D21,1,0)) -> 0 | CO21: =IF(AND($D21<>0,AE21=""),1,IF(AE21>$D21,1,0)) -> 0 | CP21: =IF(AND(D21>0,OR(AF21="",AG21="",)),1,IF(AF21+AG21>$D21,1,0)) -> 0 | CQ21: =IF(AND(D21>0,AI21=""),1,IF(AI21>$D21,1,0)) -> 0 | CR21: =IF(AND(D21>0,AI21=""),1,IF(AI21>$D21,1,0)) -> 0
B22: Talleres de climaterio | D22: =P22+Q22+R22+S22+T22 -> 0 | P22: =SUM(ENERO:DICIEMBRE!P22) -> 0 | Q22: =SUM(ENERO:DICIEMBRE!Q22) -> 0 | R22: =SUM(ENERO:DICIEMBRE!R22) -> 0 | S22: =SUM(ENERO:DICIEMBRE!S22) -> 0 | T22: =SUM(ENERO:DICIEMBRE!T22) -> 0 | Y22: =SUM(ENERO:DICIEMBRE!Y22) -> 0 | AB22: =SUM(ENERO:DICIEMBRE!AB22) -> 0 | AC22: =SUM(ENERO:DICIEMBRE!AC22) -> 0 | AD22: =SUM(ENERO:DICIEMBRE!AD22) -> 0 | AE22: =SUM(ENERO:DICIEMBRE!AE22) -> 0 | AF22: =SUM(ENERO:DICIEMBRE!AF22) -> 0 | AG22: =SUM(ENERO:DICIEMBRE!AG22) -> 0 | AH22: =SUM(ENERO:DICIEMBRE!AH22) -> 0 | AI22: =SUM(ENERO:DICIEMBRE!AI22) -> 0 | AJ22: =CB22&CC22&CD22&CE22&CF22&CG22&CH22 | CB22: =IF(AND($D22<>0,AB22=""),"* No olvide ingresar la columna "&AB$9&""&" (Digite CERO si no tiene). ",IF(AB22>$D22,"* El Número de Familias en Riesgo no puede superar el Total. ","")) | CC22: =IF(AND($D22<>0,AC22=""),"* No olvide ingresar la variable "&AC$9&""&" (Digite CERO si no tiene). ",IF(AC22>$D22,"* La variable Pueblos Originarios no puede superar el Total. ","")) | CD22: =IF(AND($D22<>0,AD22=""),"* No olvide ingresar la variable "&AD$9&""&" (Digite CERO si no tiene). ",IF(AD22>$D22,"* La variable Migrantes no puede superar el Total. ","")) | CE22: =IF(AND($D22<>0,AE22=""),"* No olvide ingresar la variable "&AE$9&""&" (Digite CERO si no tiene). ",IF(AE22>$D22,"* La variable Espacios Amigables/ Adolescentes no puede superar el Total. ","")) | CF22: =IF(AND(D22>0,OR(AF22="",AG22="",))," * No olvide digitar la variable TRANS Masculino/Femenino (Digite CERO si no tiene). ",IF(AF22+AG22>$D22,"* La suma de TRANS Masculino + Femenino no puede superar el Total. ","")) | CG22: =IF(AND(D22>0,AI22=""),"* No olvide digitar la variable Niños, niñas, adolescentes y jóvenes SENAME (Digite CERO si no tiene). ",IF(AI22>$D22,"* La suma de Niños, niñas, adolescentes y jóvenes SENAME no puede superar el Total. ","")) | CH22: =IF(AND(D22>0,AI22=""),"* No olvide digitar la variable Niños, niñas, adolescentes y jóvenes Mejor Niñez (Digite CERO si no tiene). ",IF(AI22>$D22,"* La suma de Niños, niñas, adolescentes y jóvenes Mejor Niñez no puede superar el Total. ","")) | CL22: =IF(AND($D22<>0,AB22=""),1,IF(AB22>$D22,1,0)) -> 0 | CM22: =IF(AND($D22<>0,AC22=""),1,IF(AC22>$D22,1,0)) -> 0 | CN22: =IF(AND($D22<>0,AD22=""),1,IF(AD22>$D22,1,0)) -> 0 | CO22: =IF(AND($D22<>0,AE22=""),1,IF(AE22>$D22,1,0)) -> 0 | CP22: =IF(AND(D22>0,OR(AF22="",AG22="",)),1,IF(AF22+AG22>$D22,1,0)) -> 0 | CQ22: =IF(AND(D22>0,AI22=""),1,IF(AI22>$D22,1,0)) -> 0 | CR22: =IF(AND(D22>0,AI22=""),1,IF(AI22>$D22,1,0)) -> 0
B23: Educación prenatal (Nutrición-lactancia-crianza-autocuidado-preparación parto y otros) | D23: =SUM(J23:S23) -> 194 | J23: =SUM(ENERO:DICIEMBRE!J23) -> 1 | K23: =SUM(ENERO:DICIEMBRE!K23) -> 12 | L23: =SUM(ENERO:DICIEMBRE!L23) -> 38 | M23: =SUM(ENERO:DICIEMBRE!M23) -> 51 | N23: =SUM(ENERO:DICIEMBRE!N23) -> 46 | O23: =SUM(ENERO:DICIEMBRE!O23) -> 27 | P23: =SUM(ENERO:DICIEMBRE!P23) -> 5 | Q23: =SUM(ENERO:DICIEMBRE!Q23) -> 14 | ... S23: =SUM(ENERO:DICIEMBRE!S23) -> 0 | Y23: =SUM(ENERO:DICIEMBRE!Y23) -> 194 | Z23: =SUM(ENERO:DICIEMBRE!Z23) -> 0 | AA23: =SUM(ENERO:DICIEMBRE!AA23) -> 0 | AB23: =SUM(ENERO:DICIEMBRE!AB23) -> 0 | AC23: =SUM(ENERO:DICIEMBRE!AC23) -> 0 | AD23: =SUM(ENERO:DICIEMBRE!AD23) -> 0 | AF23: =SUM(ENERO:DICIEMBRE!AF23) -> 0 | AG23: =SUM(ENERO:DICIEMBRE!AG23) -> 0 | AH23: =SUM(ENERO:DICIEMBRE!AH23) -> 0 | AI23: =SUM(ENERO:DICIEMBRE!AI23) -> 0 | AJ23: =CB23&CC23&CD23&CE23&CF23&CG23&CH23 | CB23: =IF(AND($D23<>0,AB23=""),"* No olvide ingresar la columna "&AB$9&""&" (Digite CERO si no tiene). ",IF(AB23>$D23,"* El Número de Familias en Riesgo no puede superar el Total. ","")) | CC23: =IF(AND($D23<>0,AC23=""),"* No olvide ingresar la variable "&AC$9&""&" (Digite CERO si no tiene). ",IF(AC23>$D23,"* La variable Pueblos Originarios no puede superar el Total. ","")) | CD23: =IF(AND($D23<>0,AD23=""),"* No olvide ingresar la variable "&AD$9&""&" (Digite CERO si no tiene). ",IF(AD23>$D23,"* La variable Migrantes no puede superar el Total. ","")) | CF23: =IF(AND(D23>0,OR(AF23="",AG23="",))," * No olvide digitar la variable TRANS Masculino/Femenino (Digite CERO si no tiene). ",IF(AF23+AG23>$D23,"* La suma de TRANS Masculino + Femenino no puede superar el Total. ","")) | CG23: =IF(AND(D23>0,AI23=""),"* No olvide digitar la variable Niños, niñas, adolescentes y jóvenes SENAME (Digite CERO si no tiene). ",IF(AI23>$D23,"* La suma de Niños, niñas, adolescentes y jóvenes SENAME no puede superar el Total. ","")) | CH23: =IF(AND(D23>0,AI23=""),"* No olvide digitar la variable Niños, niñas, adolescentes y jóvenes Mejor Niñez (Digite CERO si no tiene). ",IF(AI23>$D23,"* La suma de Niños, niñas, adolescentes y jóvenes Mejor Niñez no puede superar el Total. ","")) | CL23: =IF(AND($D23<>0,AB23=""),1,IF(AB23>$D23,1,0)) -> 0 | CM23: =IF(AND($D23<>0,AC23=""),1,IF(AC23>$D23,1,0)) -> 0 | CN23: =IF(AND($D23<>0,AD23=""),1,IF(AD23>$D23,1,0)) -> 0 | CP23: =IF(AND(D23>0,OR(AF23="",AG23="",)),1,IF(AF23+AG23>$D23,1,0)) -> 0 | CQ23: =IF(AND(D23>0,AI23=""),1,IF(AI23>$D23,1,0)) -> 0 | CR23: =IF(AND(D23>0,AI23=""),1,IF(AI23>$D23,1,0)) -> 0
B24: Visita guiada a la maternidad | C24: Primigesta | D24: =SUM(J24:S24) -> 82 | J24: =SUM(ENERO:DICIEMBRE!J24) -> 1 | K24: =SUM(ENERO:DICIEMBRE!K24) -> 7 | L24: =SUM(ENERO:DICIEMBRE!L24) -> 22 | M24: =SUM(ENERO:DICIEMBRE!M24) -> 30 | N24: =SUM(ENERO:DICIEMBRE!N24) -> 16 | O24: =SUM(ENERO:DICIEMBRE!O24) -> 6 | P24: =SUM(ENERO:DICIEMBRE!P24) -> 0 | Q24: =SUM(ENERO:DICIEMBRE!Q24) -> 0 | ... S24: =SUM(ENERO:DICIEMBRE!S24) -> 0 | Y24: =SUM(ENERO:DICIEMBRE!Y24) -> 82 | Z24: =SUM(ENERO:DICIEMBRE!Z24) -> 0 | AA24: =SUM(ENERO:DICIEMBRE!AA24) -> 0 | AB24: =SUM(ENERO:DICIEMBRE!AB24) -> 0 | AC24: =SUM(ENERO:DICIEMBRE!AC24) -> 0 | AD24: =SUM(ENERO:DICIEMBRE!AD24) -> 0 | AF24: =SUM(ENERO:DICIEMBRE!AF24) -> 0 | AG24: =SUM(ENERO:DICIEMBRE!AG24) -> 0 | AH24: =SUM(ENERO:DICIEMBRE!AH24) -> 0 | AI24: =SUM(ENERO:DICIEMBRE!AI24) -> 0 | AJ24: =CB24&CC24&CD24&CE24&CF24&CG24&CH24 | CB24: =IF(AND($D24<>0,AB24=""),"* No olvide ingresar la columna "&AB$9&""&" (Digite CERO si no tiene). ",IF(AB24>$D24,"* El Número de Familias en Riesgo no puede superar el Total. ","")) | CC24: =IF(AND($D24<>0,AC24=""),"* No olvide ingresar la variable "&AC$9&""&" (Digite CERO si no tiene). ",IF(AC24>$D24,"* La variable Pueblos Originarios no puede superar el Total. ","")) | CD24: =IF(AND($D24<>0,AD24=""),"* No olvide ingresar la variable "&AD$9&""&" (Digite CERO si no tiene). ",IF(AD24>$D24,"* La variable Migrantes no puede superar el Total. ","")) | CF24: =IF(AND(D24>0,OR(AF24="",AG24="",))," * No olvide digitar la variable TRANS Masculino/Femenino (Digite CERO si no tiene). ",IF(AF24+AG24>$D24,"* La suma de TRANS Masculino + Femenino no puede superar el Total. ","")) | CG24: =IF(AND(D24>0,AI24=""),"* No olvide digitar la variable Niños, niñas, adolescentes y jóvenes SENAME (Digite CERO si no tiene). ",IF(AI24>$D24,"* La suma de Niños, niñas, adolescentes y jóvenes SENAME no puede superar el Total. ","")) | CH24: =IF(AND(D24>0,AI24=""),"* No olvide digitar la variable Niños, niñas, adolescentes y jóvenes Mejor Niñez (Digite CERO si no tiene). ",IF(AI24>$D24,"* La suma de Niños, niñas, adolescentes y jóvenes Mejor Niñez no puede superar el Total. ","")) | CL24: =IF(AND($D24<>0,AB24=""),1,IF(AB24>$D24,1,0)) -> 0 | CM24: =IF(AND($D24<>0,AC24=""),1,IF(AC24>$D24,1,0)) -> 0 | CN24: =IF(AND($D24<>0,AD24=""),1,IF(AD24>$D24,1,0)) -> 0 | CP24: =IF(AND(D24>0,OR(AF24="",AG24="",)),1,IF(AF24+AG24>$D24,1,0)) -> 0 | CQ24: =IF(AND(D24>0,AI24=""),1,IF(AI24>$D24,1,0)) -> 0 | CR24: =IF(AND(D24>0,AI24=""),1,IF(AI24>$D24,1,0)) -> 0
C25: Multípara | D25: =SUM(J25:S25) -> 112 | J25: =SUM(ENERO:DICIEMBRE!J25) -> 0 | K25: =SUM(ENERO:DICIEMBRE!K25) -> 5 | L25: =SUM(ENERO:DICIEMBRE!L25) -> 16 | M25: =SUM(ENERO:DICIEMBRE!M25) -> 21 | N25: =SUM(ENERO:DICIEMBRE!N25) -> 30 | O25: =SUM(ENERO:DICIEMBRE!O25) -> 21 | P25: =SUM(ENERO:DICIEMBRE!P25) -> 5 | Q25: =SUM(ENERO:DICIEMBRE!Q25) -> 14 | ... S25: =SUM(ENERO:DICIEMBRE!S25) -> 0 | Y25: =SUM(ENERO:DICIEMBRE!Y25) -> 112 | AA25: =SUM(ENERO:DICIEMBRE!AA25) -> 0 | AB25: =SUM(ENERO:DICIEMBRE!AB25) -> 0 | AC25: =SUM(ENERO:DICIEMBRE!AC25) -> 0 | AD25: =SUM(ENERO:DICIEMBRE!AD25) -> 0 | AF25: =SUM(ENERO:DICIEMBRE!AF25) -> 0 | AG25: =SUM(ENERO:DICIEMBRE!AG25) -> 0 | AH25: =SUM(ENERO:DICIEMBRE!AH25) -> 0 | AI25: =SUM(ENERO:DICIEMBRE!AI25) -> 0 | AJ25: =CB25&CC25&CD25&CE25&CF25&CG25&CH25 | CB25: =IF(AND($D25<>0,AB25=""),"* No olvide ingresar la columna "&AB$9&""&" (Digite CERO si no tiene). ",IF(AB25>$D25,"* El Número de Familias en Riesgo no puede superar el Total. ","")) | CC25: =IF(AND($D25<>0,AC25=""),"* No olvide ingresar la variable "&AC$9&""&" (Digite CERO si no tiene). ",IF(AC25>$D25,"* La variable Pueblos Originarios no puede superar el Total. ","")) | CD25: =IF(AND($D25<>0,AD25=""),"* No olvide ingresar la variable "&AD$9&""&" (Digite CERO si no tiene). ",IF(AD25>$D25,"* La variable Migrantes no puede superar el Total. ","")) | CF25: =IF(AND(D25>0,OR(AF25="",AG25="",))," * No olvide digitar la variable TRANS Masculino/Femenino (Digite CERO si no tiene). ",IF(AF25+AG25>$D25,"* La suma de TRANS Masculino + Femenino no puede superar el Total. ","")) | CG25: =IF(AND(D25>0,AI25=""),"* No olvide digitar la variable Niños, niñas, adolescentes y jóvenes SENAME (Digite CERO si no tiene). ",IF(AI25>$D25,"* La suma de Niños, niñas, adolescentes y jóvenes SENAME no puede superar el Total. ","")) | CH25: =IF(AND(D25>0,AI25=""),"* No olvide digitar la variable Niños, niñas, adolescentes y jóvenes Mejor Niñez (Digite CERO si no tiene). ",IF(AI25>$D25,"* La suma de Niños, niñas, adolescentes y jóvenes Mejor Niñez no puede superar el Total. ","")) | CL25: =IF(AND($D25<>0,AB25=""),1,IF(AB25>$D25,1,0)) -> 0 | CM25: =IF(AND($D25<>0,AC25=""),1,IF(AC25>$D25,1,0)) -> 0 | CN25: =IF(AND($D25<>0,AD25=""),1,IF(AD25>$D25,1,0)) -> 0 | CP25: =IF(AND(D25>0,OR(AF25="",AG25="",)),1,IF(AF25+AG25>$D25,1,0)) -> 0 | CQ25: =IF(AND(D25>0,AI25=""),1,IF(AI25>$D25,1,0)) -> 0 | CR25: =IF(AND(D25>0,AI25=""),1,IF(AI25>$D25,1,0)) -> 0
B26: Promoción de salud mental | D26: =SUM(H26:X26) -> 0 | H26: =SUM(ENERO:DICIEMBRE!H26) -> 0 | I26: =SUM(ENERO:DICIEMBRE!I26) -> 0 | J26: =SUM(ENERO:DICIEMBRE!J26) -> 0 | K26: =SUM(ENERO:DICIEMBRE!K26) -> 0 | L26: =SUM(ENERO:DICIEMBRE!L26) -> 0 | M26: =SUM(ENERO:DICIEMBRE!M26) -> 0 | N26: =SUM(ENERO:DICIEMBRE!N26) -> 0 | O26: =SUM(ENERO:DICIEMBRE!O26) -> 0 | ... AI26: =SUM(ENERO:DICIEMBRE!AI26) -> 0 | AJ26: =CB26&CC26&CD26&CE26&CF26&CG26&CH26 | CB26: =IF(AND($D26<>0,AB26=""),"* No olvide ingresar la columna "&AB$9&""&" (Digite CERO si no tiene). ",IF(AB26>$D26,"* El Número de Familias en Riesgo no puede superar el Total. ","")) | CC26: =IF(AND($D26<>0,AC26=""),"* No olvide ingresar la variable "&AC$9&""&" (Digite CERO si no tiene). ",IF(AC26>$D26,"* La variable Pueblos Originarios no puede superar el Total. ","")) | CD26: =IF(AND($D26<>0,AD26=""),"* No olvide ingresar la variable "&AD$9&""&" (Digite CERO si no tiene). ",IF(AD26>$D26,"* La variable Migrantes no puede superar el Total. ","")) | CE26: =IF(AND($D26<>0,AE26=""),"* No olvide ingresar la variable "&AE$9&""&" (Digite CERO si no tiene). ",IF(AE26>$D26,"* La variable Espacios Amigables/ Adolescentes no puede superar el Total. ","")) | CF26: =IF(AND(D26>0,OR(AF26="",AG26="",))," * No olvide digitar la variable TRANS Masculino/Femenino (Digite CERO si no tiene). ",IF(AF26+AG26>$D26,"* La suma de TRANS Masculino + Femenino no puede superar el Total. ","")) | CG26: =IF(AND(D26>0,AI26=""),"* No olvide digitar la variable Niños, niñas, adolescentes y jóvenes SENAME (Digite CERO si no tiene). ",IF(AI26>$D26,"* La suma de Niños, niñas, adolescentes y jóvenes SENAME no puede superar el Total. ","")) | CH26: =IF(AND(D26>0,AI26=""),"* No olvide digitar la variable Niños, niñas, adolescentes y jóvenes Mejor Niñez (Digite CERO si no tiene). ",IF(AI26>$D26,"* La suma de Niños, niñas, adolescentes y jóvenes Mejor Niñez no puede superar el Total. ","")) | CL26: =IF(AND($D26<>0,AB26=""),1,IF(AB26>$D26,1,0)) -> 0 | CM26: =IF(AND($D26<>0,AC26=""),1,IF(AC26>$D26,1,0)) -> 0 | CN26: =IF(AND($D26<>0,AD26=""),1,IF(AD26>$D26,1,0)) -> 0 | CO26: =IF(AND($D26<>0,AE26=""),1,IF(AE26>$D26,1,0)) -> 0 | CP26: =IF(AND(D26>0,OR(AF26="",AG26="",)),1,IF(AF26+AG26>$D26,1,0)) -> 0 | CQ26: =IF(AND(D26>0,AI26=""),1,IF(AI26>$D26,1,0)) -> 0 | CR26: =IF(AND(D26>0,AI26=""),1,IF(AI26>$D26,1,0)) -> 0
B27: Promoción del desarrollo infantil temprano | C27: Del lenguaje | D27: =SUM(E27:F27) -> 0 | E27: =SUM(ENERO:DICIEMBRE!E27) -> 0 | Y27: =SUM(ENERO:DICIEMBRE!Y27) -> 0 | AB27: =SUM(ENERO:DICIEMBRE!AB27) -> 0 | AC27: =SUM(ENERO:DICIEMBRE!AC27) -> 0 | AD27: =SUM(ENERO:DICIEMBRE!AD27) -> 0 | AF27: =SUM(ENERO:DICIEMBRE!AF27) -> 0 | AG27: =SUM(ENERO:DICIEMBRE!AG27) -> 0 | AH27: =SUM(ENERO:DICIEMBRE!AH27) -> 0 | AI27: =SUM(ENERO:DICIEMBRE!AI27) -> 0 | AJ27: =CB27&CC27&CD27&CE27&CF27&CG27&CH27 | CB27: =IF(AND($D27<>0,AB27=""),"* No olvide ingresar la columna "&AB$9&""&" (Digite CERO si no tiene). ",IF(AB27>$D27,"* El Número de Familias en Riesgo no puede superar el Total. ","")) | CC27: =IF(AND($D27<>0,AC27=""),"* No olvide ingresar la variable "&AC$9&""&" (Digite CERO si no tiene). ",IF(AC27>$D27,"* La variable Pueblos Originarios no puede superar el Total. ","")) | CD27: =IF(AND($D27<>0,AD27=""),"* No olvide ingresar la variable "&AD$9&""&" (Digite CERO si no tiene). ",IF(AD27>$D27,"* La variable Migrantes no puede superar el Total. ","")) | CF27: =IF(AND(D27>0,OR(AF27="",AG27="",))," * No olvide digitar la variable TRANS Masculino/Femenino (Digite CERO si no tiene). ",IF(AF27+AG27>$D27,"* La suma de TRANS Masculino + Femenino no puede superar el Total. ","")) | CG27: =IF(AND(D27>0,AI27=""),"* No olvide digitar la variable Niños, niñas, adolescentes y jóvenes SENAME (Digite CERO si no tiene). ",IF(AI27>$D27,"* La suma de Niños, niñas, adolescentes y jóvenes SENAME no puede superar el Total. ","")) | CH27: =IF(AND(D27>0,AI27=""),"* No olvide digitar la variable Niños, niñas, adolescentes y jóvenes Mejor Niñez (Digite CERO si no tiene). ",IF(AI27>$D27,"* La suma de Niños, niñas, adolescentes y jóvenes Mejor Niñez no puede superar el Total. ","")) | CL27: =IF(AND($D27<>0,AB27=""),1,IF(AB27>$D27,1,0)) -> 0 | CM27: =IF(AND($D27<>0,AC27=""),1,IF(AC27>$D27,1,0)) -> 0 | CN27: =IF(AND($D27<>0,AD27=""),1,IF(AD27>$D27,1,0)) -> 0 | CP27: =IF(AND(D27>0,OR(AF27="",AG27="",)),1,IF(AF27+AG27>$D27,1,0)) -> 0 | CQ27: =IF(AND(D27>0,AI27=""),1,IF(AI27>$D27,1,0)) -> 0 | CR27: =IF(AND(D27>0,AI27=""),1,IF(AI27>$D27,1,0)) -> 0
C28: Motor | D28: =SUM(E28:G28) -> 0 | E28: =SUM(ENERO:DICIEMBRE!E28) -> 0 | Y28: =SUM(ENERO:DICIEMBRE!Y28) -> 0 | AB28: =SUM(ENERO:DICIEMBRE!AB28) -> 0 | AC28: =SUM(ENERO:DICIEMBRE!AC28) -> 0 | AD28: =SUM(ENERO:DICIEMBRE!AD28) -> 0 | AE28: =SUM(ENERO:DICIEMBRE!AE28) -> 0 | AF28: =SUM(ENERO:DICIEMBRE!AF28) -> 0 | AG28: =SUM(ENERO:DICIEMBRE!AG28) -> 0 | AH28: =SUM(ENERO:DICIEMBRE!AH28) -> 0 | AI28: =SUM(ENERO:DICIEMBRE!AI28) -> 0 | AJ28: =CB28&CC28&CD28&CE28&CF28&CG28&CH28 | CB28: =IF(AND($D28<>0,AB28=""),"* No olvide ingresar la columna "&AB$9&""&" (Digite CERO si no tiene). ",IF(AB28>$D28,"* El Número de Familias en Riesgo no puede superar el Total. ","")) | CC28: =IF(AND($D28<>0,AC28=""),"* No olvide ingresar la variable "&AC$9&""&" (Digite CERO si no tiene). ",IF(AC28>$D28,"* La variable Pueblos Originarios no puede superar el Total. ","")) | CD28: =IF(AND($D28<>0,AD28=""),"* No olvide ingresar la variable "&AD$9&""&" (Digite CERO si no tiene). ",IF(AD28>$D28,"* La variable Migrantes no puede superar el Total. ","")) | CE28: =IF(AND($D28<>0,AE28=""),"* No olvide ingresar la variable "&AE$9&""&" (Digite CERO si no tiene). ",IF(AE28>$D28,"* La variable Espacios Amigables/ Adolescentes no puede superar el Total. ","")) | CF28: =IF(AND(D28>0,OR(AF28="",AG28="",))," * No olvide digitar la variable TRANS Masculino/Femenino (Digite CERO si no tiene). ",IF(AF28+AG28>$D28,"* La suma de TRANS Masculino + Femenino no puede superar el Total. ","")) | CG28: =IF(AND(D28>0,AI28=""),"* No olvide digitar la variable Niños, niñas, adolescentes y jóvenes SENAME (Digite CERO si no tiene). ",IF(AI28>$D28,"* La suma de Niños, niñas, adolescentes y jóvenes SENAME no puede superar el Total. ","")) | CH28: =IF(AND(D28>0,AI28=""),"* No olvide digitar la variable Niños, niñas, adolescentes y jóvenes Mejor Niñez (Digite CERO si no tiene). ",IF(AI28>$D28,"* La suma de Niños, niñas, adolescentes y jóvenes Mejor Niñez no puede superar el Total. ","")) | CL28: =IF(AND($D28<>0,AB28=""),1,IF(AB28>$D28,1,0)) -> 0 | CM28: =IF(AND($D28<>0,AC28=""),1,IF(AC28>$D28,1,0)) -> 0 | CN28: =IF(AND($D28<>0,AD28=""),1,IF(AD28>$D28,1,0)) -> 0 | CO28: =IF(AND($D28<>0,AE28=""),1,IF(AE28>$D28,1,0)) -> 0 | CP28: =IF(AND(D28>0,OR(AF28="",AG28="",)),1,IF(AF28+AG28>$D28,1,0)) -> 0 | CQ28: =IF(AND(D28>0,AI28=""),1,IF(AI28>$D28,1,0)) -> 0 | CR28: =IF(AND(D28>0,AI28=""),1,IF(AI28>$D28,1,0)) -> 0
C29: Otros | D29: =SUM(E29:G29) -> 0 | E29: =SUM(ENERO:DICIEMBRE!E29) -> 0 | F29: =SUM(ENERO:DICIEMBRE!F29) -> 0 | G29: =SUM(ENERO:DICIEMBRE!G29) -> 0 | Y29: =SUM(ENERO:DICIEMBRE!Y29) -> 0 | AB29: =SUM(ENERO:DICIEMBRE!AB29) -> 0 | AC29: =SUM(ENERO:DICIEMBRE!AC29) -> 0 | AD29: =SUM(ENERO:DICIEMBRE!AD29) -> 0 | AE29: =SUM(ENERO:DICIEMBRE!AE29) -> 0 | AF29: =SUM(ENERO:DICIEMBRE!AF29) -> 0 | AG29: =SUM(ENERO:DICIEMBRE!AG29) -> 0 | AH29: =SUM(ENERO:DICIEMBRE!AH29) -> 0 | AI29: =SUM(ENERO:DICIEMBRE!AI29) -> 0 | AJ29: =CB29&CC29&CD29&CE29&CF29&CG29&CH29 | CB29: =IF(AND($D29<>0,AB29=""),"* No olvide ingresar la columna "&AB$9&""&" (Digite CERO si no tiene). ",IF(AB29>$D29,"* El Número de Familias en Riesgo no puede superar el Total. ","")) | CC29: =IF(AND($D29<>0,AC29=""),"* No olvide ingresar la variable "&AC$9&""&" (Digite CERO si no tiene). ",IF(AC29>$D29,"* La variable Pueblos Originarios no puede superar el Total. ","")) | CD29: =IF(AND($D29<>0,AD29=""),"* No olvide ingresar la variable "&AD$9&""&" (Digite CERO si no tiene). ",IF(AD29>$D29,"* La variable Migrantes no puede superar el Total. ","")) | CE29: =IF(AND($D29<>0,AE29=""),"* No olvide ingresar la variable "&AE$9&""&" (Digite CERO si no tiene). ",IF(AE29>$D29,"* La variable Espacios Amigables/ Adolescentes no puede superar el Total. ","")) | CF29: =IF(AND(D29>0,OR(AF29="",AG29="",))," * No olvide digitar la variable TRANS Masculino/Femenino (Digite CERO si no tiene). ",IF(AF29+AG29>$D29,"* La suma de TRANS Masculino + Femenino no puede superar el Total. ","")) | CG29: =IF(AND(D29>0,AI29=""),"* No olvide digitar la variable Niños, niñas, adolescentes y jóvenes SENAME (Digite CERO si no tiene). ",IF(AI29>$D29,"* La suma de Niños, niñas, adolescentes y jóvenes SENAME no puede superar el Total. ","")) | CH29: =IF(AND(D29>0,AI29=""),"* No olvide digitar la variable Niños, niñas, adolescentes y jóvenes Mejor Niñez (Digite CERO si no tiene). ",IF(AI29>$D29,"* La suma de Niños, niñas, adolescentes y jóvenes Mejor Niñez no puede superar el Total. ","")) | CL29: =IF(AND($D29<>0,AB29=""),1,IF(AB29>$D29,1,0)) -> 0 | CM29: =IF(AND($D29<>0,AC29=""),1,IF(AC29>$D29,1,0)) -> 0 | CN29: =IF(AND($D29<>0,AD29=""),1,IF(AD29>$D29,1,0)) -> 0 | CO29: =IF(AND($D29<>0,AE29=""),1,IF(AE29>$D29,1,0)) -> 0 | CP29: =IF(AND(D29>0,OR(AF29="",AG29="",)),1,IF(AF29+AG29>$D29,1,0)) -> 0 | CQ29: =IF(AND(D29>0,AI29=""),1,IF(AI29>$D29,1,0)) -> 0 | CR29: =IF(AND(D29>0,AI29=""),1,IF(AI29>$D29,1,0)) -> 0
B30: Habilidades parentales | C30: Nadie es perfecto | D30: =SUM(E30:H30) -> 0 | E30: =SUM(ENERO:DICIEMBRE!E30) -> 0 | F30: =SUM(ENERO:DICIEMBRE!F30) -> 0 | G30: =SUM(ENERO:DICIEMBRE!G30) -> 0 | H30: =SUM(ENERO:DICIEMBRE!H30) -> 0 | Y30: =SUM(ENERO:DICIEMBRE!Y30) -> 0 | AB30: =SUM(ENERO:DICIEMBRE!AB30) -> 0 | AC30: =SUM(ENERO:DICIEMBRE!AC30) -> 0 | AD30: =SUM(ENERO:DICIEMBRE!AD30) -> 0 | AE30: =SUM(ENERO:DICIEMBRE!AE30) -> 0 | AF30: =SUM(ENERO:DICIEMBRE!AF30) -> 0 | AG30: =SUM(ENERO:DICIEMBRE!AG30) -> 0 | AH30: =SUM(ENERO:DICIEMBRE!AH30) -> 0 | AI30: =SUM(ENERO:DICIEMBRE!AI30) -> 0 | AJ30: =CB30&CC30&CD30&CE30&CF30&CG30&CH30 | CB30: =IF(AND($D30<>0,AB30=""),"* No olvide ingresar la columna "&AB$9&""&" (Digite CERO si no tiene). ",IF(AB30>$D30,"* El Número de Familias en Riesgo no puede superar el Total. ","")) | CC30: =IF(AND($D30<>0,AC30=""),"* No olvide ingresar la variable "&AC$9&""&" (Digite CERO si no tiene). ",IF(AC30>$D30,"* La variable Pueblos Originarios no puede superar el Total. ","")) | CD30: =IF(AND($D30<>0,AD30=""),"* No olvide ingresar la variable "&AD$9&""&" (Digite CERO si no tiene). ",IF(AD30>$D30,"* La variable Migrantes no puede superar el Total. ","")) | CE30: =IF(AND($D30<>0,AE30=""),"* No olvide ingresar la variable "&AE$9&""&" (Digite CERO si no tiene). ",IF(AE30>$D30,"* La variable Espacios Amigables/ Adolescentes no puede superar el Total. ","")) | CF30: =IF(AND(D30>0,OR(AF30="",AG30="",))," * No olvide digitar la variable TRANS Masculino/Femenino (Digite CERO si no tiene). ",IF(AF30+AG30>$D30,"* La suma de TRANS Masculino + Femenino no puede superar el Total. ","")) | CG30: =IF(AND(D30>0,AI30=""),"* No olvide digitar la variable Niños, niñas, adolescentes y jóvenes SENAME (Digite CERO si no tiene). ",IF(AI30>$D30,"* La suma de Niños, niñas, adolescentes y jóvenes SENAME no puede superar el Total. ","")) | CH30: =IF(AND(D30>0,AI30=""),"* No olvide digitar la variable Niños, niñas, adolescentes y jóvenes Mejor Niñez (Digite CERO si no tiene). ",IF(AI30>$D30,"* La suma de Niños, niñas, adolescentes y jóvenes Mejor Niñez no puede superar el Total. ","")) | CL30: =IF(AND($D30<>0,AB30=""),1,IF(AB30>$D30,1,0)) -> 0 | CM30: =IF(AND($D30<>0,AC30=""),1,IF(AC30>$D30,1,0)) -> 0 | CN30: =IF(AND($D30<>0,AD30=""),1,IF(AD30>$D30,1,0)) -> 0 | CO30: =IF(AND($D30<>0,AE30=""),1,IF(AE30>$D30,1,0)) -> 0 | CP30: =IF(AND(D30>0,OR(AF30="",AG30="",)),1,IF(AF30+AG30>$D30,1,0)) -> 0 | CQ30: =IF(AND(D30>0,AI30=""),1,IF(AI30>$D30,1,0)) -> 0 | CR30: =IF(AND(D30>0,AI30=""),1,IF(AI30>$D30,1,0)) -> 0
C31: Familias fuertes | D31: =SUM(I31+J31) -> 0 | I31: =SUM(ENERO:DICIEMBRE!I31) -> 0 | J31: =SUM(ENERO:DICIEMBRE!J31) -> 0 | Y31: =SUM(ENERO:DICIEMBRE!Y31) -> 0 | AB31: =SUM(ENERO:DICIEMBRE!AB31) -> 0 | AC31: =SUM(ENERO:DICIEMBRE!AC31) -> 0 | AD31: =SUM(ENERO:DICIEMBRE!AD31) -> 0 | AE31: =SUM(ENERO:DICIEMBRE!AE31) -> 0 | AF31: =SUM(ENERO:DICIEMBRE!AF31) -> 0 | AG31: =SUM(ENERO:DICIEMBRE!AG31) -> 0 | AH31: =SUM(ENERO:DICIEMBRE!AH31) -> 0 | AI31: =SUM(ENERO:DICIEMBRE!AI31) -> 0 | AJ31: =CB31&CC31&CD31&CE31&CF31&CG31&CH31 | CB31: =IF(AND($D31<>0,AB31=""),"* No olvide ingresar la columna "&AB$9&""&" (Digite CERO si no tiene). ",IF(AB31>$D31,"* El Número de Familias en Riesgo no puede superar el Total. ","")) | CC31: =IF(AND($D31<>0,AC31=""),"* No olvide ingresar la variable "&AC$9&""&" (Digite CERO si no tiene). ",IF(AC31>$D31,"* La variable Pueblos Originarios no puede superar el Total. ","")) | CD31: =IF(AND($D31<>0,AD31=""),"* No olvide ingresar la variable "&AD$9&""&" (Digite CERO si no tiene). ",IF(AD31>$D31,"* La variable Migrantes no puede superar el Total. ","")) | CE31: =IF(AND($D31<>0,AE31=""),"* No olvide ingresar la variable "&AE$9&""&" (Digite CERO si no tiene). ",IF(AE31>$D31,"* La variable Espacios Amigables/ Adolescentes no puede superar el Total. ","")) | CF31: =IF(AND(D31>0,OR(AF31="",AG31="",))," * No olvide digitar la variable TRANS Masculino/Femenino (Digite CERO si no tiene). ",IF(AF31+AG31>$D31,"* La suma de TRANS Masculino + Femenino no puede superar el Total. ","")) | CG31: =IF(AND(D31>0,AI31=""),"* No olvide digitar la variable Niños, niñas, adolescentes y jóvenes SENAME (Digite CERO si no tiene). ",IF(AI31>$D31,"* La suma de Niños, niñas, adolescentes y jóvenes SENAME no puede superar el Total. ","")) | CH31: =IF(AND(D31>0,AI31=""),"* No olvide digitar la variable Niños, niñas, adolescentes y jóvenes Mejor Niñez (Digite CERO si no tiene). ",IF(AI31>$D31,"* La suma de Niños, niñas, adolescentes y jóvenes Mejor Niñez no puede superar el Total. ","")) | CL31: =IF(AND($D31<>0,AB31=""),1,IF(AB31>$D31,1,0)) -> 0 | CM31: =IF(AND($D31<>0,AC31=""),1,IF(AC31>$D31,1,0)) -> 0 | CN31: =IF(AND($D31<>0,AD31=""),1,IF(AD31>$D31,1,0)) -> 0 | CO31: =IF(AND($D31<>0,AE31=""),1,IF(AE31>$D31,1,0)) -> 0 | CP31: =IF(AND(D31>0,OR(AF31="",AG31="",)),1,IF(AF31+AG31>$D31,1,0)) -> 0 | CQ31: =IF(AND(D31>0,AI31=""),1,IF(AI31>$D31,1,0)) -> 0 | CR31: =IF(AND(D31>0,AI31=""),1,IF(AI31>$D31,1,0)) -> 0
C32: Otros | D32: =SUM(E32:I32) -> 0 | E32: =SUM(ENERO:DICIEMBRE!E32) -> 0 | F32: =SUM(ENERO:DICIEMBRE!F32) -> 0 | G32: =SUM(ENERO:DICIEMBRE!G32) -> 0 | H32: =SUM(ENERO:DICIEMBRE!H32) -> 0 | I32: =SUM(ENERO:DICIEMBRE!I32) -> 0 | Y32: =SUM(ENERO:DICIEMBRE!Y32) -> 0 | AB32: =SUM(ENERO:DICIEMBRE!AB32) -> 0 | AC32: =SUM(ENERO:DICIEMBRE!AC32) -> 0 | AD32: =SUM(ENERO:DICIEMBRE!AD32) -> 0 | AE32: =SUM(ENERO:DICIEMBRE!AE32) -> 0 | AF32: =SUM(ENERO:DICIEMBRE!AF32) -> 0 | AG32: =SUM(ENERO:DICIEMBRE!AG32) -> 0 | AH32: =SUM(ENERO:DICIEMBRE!AH32) -> 0 | AI32: =SUM(ENERO:DICIEMBRE!AI32) -> 0 | AJ32: =CB32&CC32&CD32&CE32&CF32&CG32&CH32 | CB32: =IF(AND($D32<>0,AB32=""),"* No olvide ingresar la columna "&AB$9&""&" (Digite CERO si no tiene). ",IF(AB32>$D32,"* El Número de Familias en Riesgo no puede superar el Total. ","")) | CC32: =IF(AND($D32<>0,AC32=""),"* No olvide ingresar la variable "&AC$9&""&" (Digite CERO si no tiene). ",IF(AC32>$D32,"* La variable Pueblos Originarios no puede superar el Total. ","")) | CD32: =IF(AND($D32<>0,AD32=""),"* No olvide ingresar la variable "&AD$9&""&" (Digite CERO si no tiene). ",IF(AD32>$D32,"* La variable Migrantes no puede superar el Total. ","")) | CE32: =IF(AND($D32<>0,AE32=""),"* No olvide ingresar la variable "&AE$9&""&" (Digite CERO si no tiene). ",IF(AE32>$D32,"* La variable Espacios Amigables/ Adolescentes no puede superar el Total. ","")) | CF32: =IF(AND(D32>0,OR(AF32="",AG32="",))," * No olvide digitar la variable TRANS Masculino/Femenino (Digite CERO si no tiene). ",IF(AF32+AG32>$D32,"* La suma de TRANS Masculino + Femenino no puede superar el Total. ","")) | CG32: =IF(AND(D32>0,AI32=""),"* No olvide digitar la variable Niños, niñas, adolescentes y jóvenes SENAME (Digite CERO si no tiene). ",IF(AI32>$D32,"* La suma de Niños, niñas, adolescentes y jóvenes SENAME no puede superar el Total. ","")) | CH32: =IF(AND(D32>0,AI32=""),"* No olvide digitar la variable Niños, niñas, adolescentes y jóvenes Mejor Niñez (Digite CERO si no tiene). ",IF(AI32>$D32,"* La suma de Niños, niñas, adolescentes y jóvenes Mejor Niñez no puede superar el Total. ","")) | CL32: =IF(AND($D32<>0,AB32=""),1,IF(AB32>$D32,1,0)) -> 0 | CM32: =IF(AND($D32<>0,AC32=""),1,IF(AC32>$D32,1,0)) -> 0 | CN32: =IF(AND($D32<>0,AD32=""),1,IF(AD32>$D32,1,0)) -> 0 | CO32: =IF(AND($D32<>0,AE32=""),1,IF(AE32>$D32,1,0)) -> 0 | CP32: =IF(AND(D32>0,OR(AF32="",AG32="",)),1,IF(AF32+AG32>$D32,1,0)) -> 0 | CQ32: =IF(AND(D32>0,AI32=""),1,IF(AI32>$D32,1,0)) -> 0 | CR32: =IF(AND(D32>0,AI32=""),1,IF(AI32>$D32,1,0)) -> 0
B33: Apoyo madre a madre | D33: =SUM(E33:X33) -> 0 | E33: =SUM(ENERO:DICIEMBRE!E33) -> 0 | F33: =SUM(ENERO:DICIEMBRE!F33) -> 0 | G33: =SUM(ENERO:DICIEMBRE!G33) -> 0 | H33: =SUM(ENERO:DICIEMBRE!H33) -> 0 | I33: =SUM(ENERO:DICIEMBRE!I33) -> 0 | J33: =SUM(ENERO:DICIEMBRE!J33) -> 0 | K33: =SUM(ENERO:DICIEMBRE!K33) -> 0 | L33: =SUM(ENERO:DICIEMBRE!L33) -> 0 | ... AI33: =SUM(ENERO:DICIEMBRE!AI33) -> 0 | AJ33: =CB33&CC33&CD33&CE33&CF33&CG33&CH33 | CB33: =IF(AND($D33<>0,AB33=""),"* No olvide ingresar la columna "&AB$9&""&" (Digite CERO si no tiene). ",IF(AB33>$D33,"* El Número de Familias en Riesgo no puede superar el Total. ","")) | CC33: =IF(AND($D33<>0,AC33=""),"* No olvide ingresar la variable "&AC$9&""&" (Digite CERO si no tiene). ",IF(AC33>$D33,"* La variable Pueblos Originarios no puede superar el Total. ","")) | CD33: =IF(AND($D33<>0,AD33=""),"* No olvide ingresar la variable "&AD$9&""&" (Digite CERO si no tiene). ",IF(AD33>$D33,"* La variable Migrantes no puede superar el Total. ","")) | CE33: =IF(AND($D33<>0,AE33=""),"* No olvide ingresar la variable "&AE$9&""&" (Digite CERO si no tiene). ",IF(AE33>$D33,"* La variable Espacios Amigables/ Adolescentes no puede superar el Total. ","")) | CF33: =IF(AND(D33>0,OR(AF33="",AG33="",))," * No olvide digitar la variable TRANS Masculino/Femenino (Digite CERO si no tiene). ",IF(AF33+AG33>$D33,"* La suma de TRANS Masculino + Femenino no puede superar el Total. ","")) | CG33: =IF(AND(D33>0,AI33=""),"* No olvide digitar la variable Niños, niñas, adolescentes y jóvenes SENAME (Digite CERO si no tiene). ",IF(AI33>$D33,"* La suma de Niños, niñas, adolescentes y jóvenes SENAME no puede superar el Total. ","")) | CH33: =IF(AND(D33>0,AI33=""),"* No olvide digitar la variable Niños, niñas, adolescentes y jóvenes Mejor Niñez (Digite CERO si no tiene). ",IF(AI33>$D33,"* La suma de Niños, niñas, adolescentes y jóvenes Mejor Niñez no puede superar el Total. ","")) | CL33: =IF(AND($D33<>0,AB33=""),1,IF(AB33>$D33,1,0)) -> 0 | CM33: =IF(AND($D33<>0,AC33=""),1,IF(AC33>$D33,1,0)) -> 0 | CN33: =IF(AND($D33<>0,AD33=""),1,IF(AD33>$D33,1,0)) -> 0 | CO33: =IF(AND($D33<>0,AE33=""),1,IF(AE33>$D33,1,0)) -> 0 | CP33: =IF(AND(D33>0,OR(AF33="",AG33="",)),1,IF(AF33+AG33>$D33,1,0)) -> 0 | CQ33: =IF(AND(D33>0,AI33=""),1,IF(AI33>$D33,1,0)) -> 0 | CR33: =IF(AND(D33>0,AI33=""),1,IF(AI33>$D33,1,0)) -> 0
B34: Prevención de salud mental | C34: Prevención suicidio | D34: =SUM(E34:X34) -> 0 | E34: =SUM(ENERO:DICIEMBRE!E34) -> 0 | F34: =SUM(ENERO:DICIEMBRE!F34) -> 0 | G34: =SUM(ENERO:DICIEMBRE!G34) -> 0 | H34: =SUM(ENERO:DICIEMBRE!H34) -> 0 | I34: =SUM(ENERO:DICIEMBRE!I34) -> 0 | J34: =SUM(ENERO:DICIEMBRE!J34) -> 0 | K34: =SUM(ENERO:DICIEMBRE!K34) -> 0 | L34: =SUM(ENERO:DICIEMBRE!L34) -> 0 | ... AI34: =SUM(ENERO:DICIEMBRE!AI34) -> 0 | AJ34: =CB34&CC34&CD34&CE34&CF34&CG34&CH34 | CB34: =IF(AND($D34<>0,AB34=""),"* No olvide ingresar la columna "&AB$9&""&" (Digite CERO si no tiene). ",IF(AB34>$D34,"* El Número de Familias en Riesgo no puede superar el Total. ","")) | CC34: =IF(AND($D34<>0,AC34=""),"* No olvide ingresar la variable "&AC$9&""&" (Digite CERO si no tiene). ",IF(AC34>$D34,"* La variable Pueblos Originarios no puede superar el Total. ","")) | CD34: =IF(AND($D34<>0,AD34=""),"* No olvide ingresar la variable "&AD$9&""&" (Digite CERO si no tiene). ",IF(AD34>$D34,"* La variable Migrantes no puede superar el Total. ","")) | CE34: =IF(AND($D34<>0,AE34=""),"* No olvide ingresar la variable "&AE$9&""&" (Digite CERO si no tiene). ",IF(AE34>$D34,"* La variable Espacios Amigables/ Adolescentes no puede superar el Total. ","")) | CF34: =IF(AND(D34>0,OR(AF34="",AG34="",))," * No olvide digitar la variable TRANS Masculino/Femenino (Digite CERO si no tiene). ",IF(AF34+AG34>$D34,"* La suma de TRANS Masculino + Femenino no puede superar el Total. ","")) | CG34: =IF(AND(D34>0,AI34=""),"* No olvide digitar la variable Niños, niñas, adolescentes y jóvenes SENAME (Digite CERO si no tiene). ",IF(AI34>$D34,"* La suma de Niños, niñas, adolescentes y jóvenes SENAME no puede superar el Total. ","")) | CH34: =IF(AND(D34>0,AI34=""),"* No olvide digitar la variable Niños, niñas, adolescentes y jóvenes Mejor Niñez (Digite CERO si no tiene). ",IF(AI34>$D34,"* La suma de Niños, niñas, adolescentes y jóvenes Mejor Niñez no puede superar el Total. ","")) | CL34: =IF(AND($D34<>0,AB34=""),1,IF(AB34>$D34,1,0)) -> 0 | CM34: =IF(AND($D34<>0,AC34=""),1,IF(AC34>$D34,1,0)) -> 0 | CN34: =IF(AND($D34<>0,AD34=""),1,IF(AD34>$D34,1,0)) -> 0 | CO34: =IF(AND($D34<>0,AE34=""),1,IF(AE34>$D34,1,0)) -> 0 | CP34: =IF(AND(D34>0,OR(AF34="",AG34="",)),1,IF(AF34+AG34>$D34,1,0)) -> 0 | CQ34: =IF(AND(D34>0,AI34=""),1,IF(AI34>$D34,1,0)) -> 0 | CR34: =IF(AND(D34>0,AI34=""),1,IF(AI34>$D34,1,0)) -> 0
C35: Prevención trastorno mental | D35: =SUM(E35:X35) -> 0 | E35: =SUM(ENERO:DICIEMBRE!E35) -> 0 | F35: =SUM(ENERO:DICIEMBRE!F35) -> 0 | G35: =SUM(ENERO:DICIEMBRE!G35) -> 0 | H35: =SUM(ENERO:DICIEMBRE!H35) -> 0 | I35: =SUM(ENERO:DICIEMBRE!I35) -> 0 | J35: =SUM(ENERO:DICIEMBRE!J35) -> 0 | K35: =SUM(ENERO:DICIEMBRE!K35) -> 0 | L35: =SUM(ENERO:DICIEMBRE!L35) -> 0 | ... AI35: =SUM(ENERO:DICIEMBRE!AI35) -> 0 | AJ35: =CB35&CC35&CD35&CE35&CF35&CG35&CH35 | CB35: =IF(AND($D35<>0,AB35=""),"* No olvide ingresar la columna "&AB$9&""&" (Digite CERO si no tiene). ",IF(AB35>$D35,"* El Número de Familias en Riesgo no puede superar el Total. ","")) | CC35: =IF(AND($D35<>0,AC35=""),"* No olvide ingresar la variable "&AC$9&""&" (Digite CERO si no tiene). ",IF(AC35>$D35,"* La variable Pueblos Originarios no puede superar el Total. ","")) | CD35: =IF(AND($D35<>0,AD35=""),"* No olvide ingresar la variable "&AD$9&""&" (Digite CERO si no tiene). ",IF(AD35>$D35,"* La variable Migrantes no puede superar el Total. ","")) | CE35: =IF(AND($D35<>0,AE35=""),"* No olvide ingresar la variable "&AE$9&""&" (Digite CERO si no tiene). ",IF(AE35>$D35,"* La variable Espacios Amigables/ Adolescentes no puede superar el Total. ","")) | CF35: =IF(AND(D35>0,OR(AF35="",AG35="",))," * No olvide digitar la variable TRANS Masculino/Femenino (Digite CERO si no tiene). ",IF(AF35+AG35>$D35,"* La suma de TRANS Masculino + Femenino no puede superar el Total. ","")) | CG35: =IF(AND(D35>0,AI35=""),"* No olvide digitar la variable Niños, niñas, adolescentes y jóvenes SENAME (Digite CERO si no tiene). ",IF(AI35>$D35,"* La suma de Niños, niñas, adolescentes y jóvenes SENAME no puede superar el Total. ","")) | CH35: =IF(AND(D35>0,AI35=""),"* No olvide digitar la variable Niños, niñas, adolescentes y jóvenes Mejor Niñez (Digite CERO si no tiene). ",IF(AI35>$D35,"* La suma de Niños, niñas, adolescentes y jóvenes Mejor Niñez no puede superar el Total. ","")) | CL35: =IF(AND($D35<>0,AB35=""),1,IF(AB35>$D35,1,0)) -> 0 | CM35: =IF(AND($D35<>0,AC35=""),1,IF(AC35>$D35,1,0)) -> 0 | CN35: =IF(AND($D35<>0,AD35=""),1,IF(AD35>$D35,1,0)) -> 0 | CO35: =IF(AND($D35<>0,AE35=""),1,IF(AE35>$D35,1,0)) -> 0 | CP35: =IF(AND(D35>0,OR(AF35="",AG35="",)),1,IF(AF35+AG35>$D35,1,0)) -> 0 | CQ35: =IF(AND(D35>0,AI35=""),1,IF(AI35>$D35,1,0)) -> 0 | CR35: =IF(AND(D35>0,AI35=""),1,IF(AI35>$D35,1,0)) -> 0
B36: Prevención alcohol y drogas | D36: =SUM(E36:X36) -> 0 | E36: =SUM(ENERO:DICIEMBRE!E36) -> 0 | F36: =SUM(ENERO:DICIEMBRE!F36) -> 0 | G36: =SUM(ENERO:DICIEMBRE!G36) -> 0 | H36: =SUM(ENERO:DICIEMBRE!H36) -> 0 | I36: =SUM(ENERO:DICIEMBRE!I36) -> 0 | J36: =SUM(ENERO:DICIEMBRE!J36) -> 0 | K36: =SUM(ENERO:DICIEMBRE!K36) -> 0 | L36: =SUM(ENERO:DICIEMBRE!L36) -> 0 | ... AI36: =SUM(ENERO:DICIEMBRE!AI36) -> 0 | AJ36: =CB36&CC36&CD36&CE36&CF36&CG36&CH36 | CB36: =IF(AND($D36<>0,AB36=""),"* No olvide ingresar la columna "&AB$9&""&" (Digite CERO si no tiene). ",IF(AB36>$D36,"* El Número de Familias en Riesgo no puede superar el Total. ","")) | CC36: =IF(AND($D36<>0,AC36=""),"* No olvide ingresar la variable "&AC$9&""&" (Digite CERO si no tiene). ",IF(AC36>$D36,"* La variable Pueblos Originarios no puede superar el Total. ","")) | CD36: =IF(AND($D36<>0,AD36=""),"* No olvide ingresar la variable "&AD$9&""&" (Digite CERO si no tiene). ",IF(AD36>$D36,"* La variable Migrantes no puede superar el Total. ","")) | CE36: =IF(AND($D36<>0,AE36=""),"* No olvide ingresar la variable "&AE$9&""&" (Digite CERO si no tiene). ",IF(AE36>$D36,"* La variable Espacios Amigables/ Adolescentes no puede superar el Total. ","")) | CF36: =IF(AND(D36>0,OR(AF36="",AG36="",))," * No olvide digitar la variable TRANS Masculino/Femenino (Digite CERO si no tiene). ",IF(AF36+AG36>$D36,"* La suma de TRANS Masculino + Femenino no puede superar el Total. ","")) | CG36: =IF(AND(D36>0,AI36=""),"* No olvide digitar la variable Niños, niñas, adolescentes y jóvenes SENAME (Digite CERO si no tiene). ",IF(AI36>$D36,"* La suma de Niños, niñas, adolescentes y jóvenes SENAME no puede superar el Total. ","")) | CH36: =IF(AND(D36>0,AI36=""),"* No olvide digitar la variable Niños, niñas, adolescentes y jóvenes Mejor Niñez (Digite CERO si no tiene). ",IF(AI36>$D36,"* La suma de Niños, niñas, adolescentes y jóvenes Mejor Niñez no puede superar el Total. ","")) | CL36: =IF(AND($D36<>0,AB36=""),1,IF(AB36>$D36,1,0)) -> 0 | CM36: =IF(AND($D36<>0,AC36=""),1,IF(AC36>$D36,1,0)) -> 0 | CN36: =IF(AND($D36<>0,AD36=""),1,IF(AD36>$D36,1,0)) -> 0 | CO36: =IF(AND($D36<>0,AE36=""),1,IF(AE36>$D36,1,0)) -> 0 | CP36: =IF(AND(D36>0,OR(AF36="",AG36="",)),1,IF(AF36+AG36>$D36,1,0)) -> 0 | CQ36: =IF(AND(D36>0,AI36=""),1,IF(AI36>$D36,1,0)) -> 0 | CR36: =IF(AND(D36>0,AI36=""),1,IF(AI36>$D36,1,0)) -> 0
B37: Antitabáquica (excluye REM 23) | D37: =SUM(E37:X37) -> 0 | E37: =SUM(ENERO:DICIEMBRE!E37) -> 0 | F37: =SUM(ENERO:DICIEMBRE!F37) -> 0 | G37: =SUM(ENERO:DICIEMBRE!G37) -> 0 | H37: =SUM(ENERO:DICIEMBRE!H37) -> 0 | I37: =SUM(ENERO:DICIEMBRE!I37) -> 0 | J37: =SUM(ENERO:DICIEMBRE!J37) -> 0 | K37: =SUM(ENERO:DICIEMBRE!K37) -> 0 | L37: =SUM(ENERO:DICIEMBRE!L37) -> 0 | ... AI37: =SUM(ENERO:DICIEMBRE!AI37) -> 0 | AJ37: =CB37&CC37&CD37&CE37&CF37&CG37&CH37 | CB37: =IF(AND($D37<>0,AB37=""),"* No olvide ingresar la columna "&AB$9&""&" (Digite CERO si no tiene). ",IF(AB37>$D37,"* El Número de Familias en Riesgo no puede superar el Total. ","")) | CC37: =IF(AND($D37<>0,AC37=""),"* No olvide ingresar la variable "&AC$9&""&" (Digite CERO si no tiene). ",IF(AC37>$D37,"* La variable Pueblos Originarios no puede superar el Total. ","")) | CD37: =IF(AND($D37<>0,AD37=""),"* No olvide ingresar la variable "&AD$9&""&" (Digite CERO si no tiene). ",IF(AD37>$D37,"* La variable Migrantes no puede superar el Total. ","")) | CE37: =IF(AND($D37<>0,AE37=""),"* No olvide ingresar la variable "&AE$9&""&" (Digite CERO si no tiene). ",IF(AE37>$D37,"* La variable Espacios Amigables/ Adolescentes no puede superar el Total. ","")) | CF37: =IF(AND(D37>0,OR(AF37="",AG37="",))," * No olvide digitar la variable TRANS Masculino/Femenino (Digite CERO si no tiene). ",IF(AF37+AG37>$D37,"* La suma de TRANS Masculino + Femenino no puede superar el Total. ","")) | CG37: =IF(AND(D37>0,AI37=""),"* No olvide digitar la variable Niños, niñas, adolescentes y jóvenes SENAME (Digite CERO si no tiene). ",IF(AI37>$D37,"* La suma de Niños, niñas, adolescentes y jóvenes SENAME no puede superar el Total. ","")) | CH37: =IF(AND(D37>0,AI37=""),"* No olvide digitar la variable Niños, niñas, adolescentes y jóvenes Mejor Niñez (Digite CERO si no tiene). ",IF(AI37>$D37,"* La suma de Niños, niñas, adolescentes y jóvenes Mejor Niñez no puede superar el Total. ","")) | CL37: =IF(AND($D37<>0,AB37=""),1,IF(AB37>$D37,1,0)) -> 0 | CM37: =IF(AND($D37<>0,AC37=""),1,IF(AC37>$D37,1,0)) -> 0 | CN37: =IF(AND($D37<>0,AD37=""),1,IF(AD37>$D37,1,0)) -> 0 | CO37: =IF(AND($D37<>0,AE37=""),1,IF(AE37>$D37,1,0)) -> 0 | CP37: =IF(AND(D37>0,OR(AF37="",AG37="",)),1,IF(AF37+AG37>$D37,1,0)) -> 0 | CQ37: =IF(AND(D37>0,AI37=""),1,IF(AI37>$D37,1,0)) -> 0 | CR37: =IF(AND(D37>0,AI37=""),1,IF(AI37>$D37,1,0)) -> 0
B38: Prevención de la transmisión vertical de VIH-Sífilis | D38: =SUM(J38:S38) -> 0 | J38: =SUM(ENERO:DICIEMBRE!J38) -> 0 | K38: =SUM(ENERO:DICIEMBRE!K38) -> 0 | L38: =SUM(ENERO:DICIEMBRE!L38) -> 0 | M38: =SUM(ENERO:DICIEMBRE!M38) -> 0 | N38: =SUM(ENERO:DICIEMBRE!N38) -> 0 | O38: =SUM(ENERO:DICIEMBRE!O38) -> 0 | P38: =SUM(ENERO:DICIEMBRE!P38) -> 0 | Q38: =SUM(ENERO:DICIEMBRE!Q38) -> 0 | ... S38: =SUM(ENERO:DICIEMBRE!S38) -> 0 | Y38: =SUM(ENERO:DICIEMBRE!Y38) -> 0 | Z38: =SUM(ENERO:DICIEMBRE!Z38) -> 0 | AA38: =SUM(ENERO:DICIEMBRE!AA38) -> 0 | AB38: =SUM(ENERO:DICIEMBRE!AB38) -> 0 | AC38: =SUM(ENERO:DICIEMBRE!AC38) -> 0 | AD38: =SUM(ENERO:DICIEMBRE!AD38) -> 0 | AE38: =SUM(ENERO:DICIEMBRE!AE38) -> 0 | AF38: =SUM(ENERO:DICIEMBRE!AF38) -> 0 | ... AI38: =SUM(ENERO:DICIEMBRE!AI38) -> 0 | AJ38: =CB38&CC38&CD38&CE38&CF38&CG38&CH38 | CB38: =IF(AND($D38<>0,AB38=""),"* No olvide ingresar la columna "&AB$9&""&" (Digite CERO si no tiene). ",IF(AB38>$D38,"* El Número de Familias en Riesgo no puede superar el Total. ","")) | CC38: =IF(AND($D38<>0,AC38=""),"* No olvide ingresar la variable "&AC$9&""&" (Digite CERO si no tiene). ",IF(AC38>$D38,"* La variable Pueblos Originarios no puede superar el Total. ","")) | CD38: =IF(AND($D38<>0,AD38=""),"* No olvide ingresar la variable "&AD$9&""&" (Digite CERO si no tiene). ",IF(AD38>$D38,"* La variable Migrantes no puede superar el Total. ","")) | CE38: =IF(AND($D38<>0,AE38=""),"* No olvide ingresar la variable "&AE$9&""&" (Digite CERO si no tiene). ",IF(AE38>$D38,"* La variable Espacios Amigables/ Adolescentes no puede superar el Total. ","")) | CF38: =IF(AND(D38>0,OR(AF38="",AG38="",))," * No olvide digitar la variable TRANS Masculino/Femenino (Digite CERO si no tiene). ",IF(AF38+AG38>$D38,"* La suma de TRANS Masculino + Femenino no puede superar el Total. ","")) | CG38: =IF(AND(D38>0,AI38=""),"* No olvide digitar la variable Niños, niñas, adolescentes y jóvenes SENAME (Digite CERO si no tiene). ",IF(AI38>$D38,"* La suma de Niños, niñas, adolescentes y jóvenes SENAME no puede superar el Total. ","")) | CH38: =IF(AND(D38>0,AI38=""),"* No olvide digitar la variable Niños, niñas, adolescentes y jóvenes Mejor Niñez (Digite CERO si no tiene). ",IF(AI38>$D38,"* La suma de Niños, niñas, adolescentes y jóvenes Mejor Niñez no puede superar el Total. ","")) | CL38: =IF(AND($D38<>0,AB38=""),1,IF(AB38>$D38,1,0)) -> 0 | CM38: =IF(AND($D38<>0,AC38=""),1,IF(AC38>$D38,1,0)) -> 0 | CN38: =IF(AND($D38<>0,AD38=""),1,IF(AD38>$D38,1,0)) -> 0 | CO38: =IF(AND($D38<>0,AE38=""),1,IF(AE38>$D38,1,0)) -> 0 | CP38: =IF(AND(D38>0,OR(AF38="",AG38="",)),1,IF(AF38+AG38>$D38,1,0)) -> 0 | CQ38: =IF(AND(D38>0,AI38=""),1,IF(AI38>$D38,1,0)) -> 0 | CR38: =IF(AND(D38>0,AI38=""),1,IF(AI38>$D38,1,0)) -> 0
B39: Otras áreas temáticas | D39: =SUM(E39:X39) -> 0 | E39: =SUM(ENERO:DICIEMBRE!E39) -> 0 | F39: =SUM(ENERO:DICIEMBRE!F39) -> 0 | G39: =SUM(ENERO:DICIEMBRE!G39) -> 0 | H39: =SUM(ENERO:DICIEMBRE!H39) -> 0 | I39: =SUM(ENERO:DICIEMBRE!I39) -> 0 | J39: =SUM(ENERO:DICIEMBRE!J39) -> 0 | K39: =SUM(ENERO:DICIEMBRE!K39) -> 0 | L39: =SUM(ENERO:DICIEMBRE!L39) -> 0 | ... AI39: =SUM(ENERO:DICIEMBRE!AI39) -> 0 | AJ39: =CB39&CC39&CD39&CE39&CF39&CG39&CH39 | CB39: =IF(AND($D39<>0,AB39=""),"* No olvide ingresar la columna "&AB$9&""&" (Digite CERO si no tiene). ",IF(AB39>$D39,"* El Número de Familias en Riesgo no puede superar el Total. ","")) | CC39: =IF(AND($D39<>0,AC39=""),"* No olvide ingresar la variable "&AC$9&""&" (Digite CERO si no tiene). ",IF(AC39>$D39,"* La variable Pueblos Originarios no puede superar el Total. ","")) | CD39: =IF(AND($D39<>0,AD39=""),"* No olvide ingresar la variable "&AD$9&""&" (Digite CERO si no tiene). ",IF(AD39>$D39,"* La variable Migrantes no puede superar el Total. ","")) | CE39: =IF(AND($D39<>0,AE39=""),"* No olvide ingresar la variable "&AE$9&""&" (Digite CERO si no tiene). ",IF(AE39>$D39,"* La variable Espacios Amigables/ Adolescentes no puede superar el Total. ","")) | CF39: =IF(AND(D39>0,OR(AF39="",AG39="",))," * No olvide digitar la variable TRANS Masculino/Femenino (Digite CERO si no tiene). ",IF(AF39+AG39>$D39,"* La suma de TRANS Masculino + Femenino no puede superar el Total. ","")) | CG39: =IF(AND(D39>0,AI39=""),"* No olvide digitar la variable Niños, niñas, adolescentes y jóvenes SENAME (Digite CERO si no tiene). ",IF(AI39>$D39,"* La suma de Niños, niñas, adolescentes y jóvenes SENAME no puede superar el Total. ","")) | CH39: =IF(AND(D39>0,AI39=""),"* No olvide digitar la variable Niños, niñas, adolescentes y jóvenes Mejor Niñez (Digite CERO si no tiene). ",IF(AI39>$D39,"* La suma de Niños, niñas, adolescentes y jóvenes Mejor Niñez no puede superar el Total. ","")) | CL39: =IF(AND($D39<>0,AB39=""),1,IF(AB39>$D39,1,0)) -> 0 | CM39: =IF(AND($D39<>0,AC39=""),1,IF(AC39>$D39,1,0)) -> 0 | CN39: =IF(AND($D39<>0,AD39=""),1,IF(AD39>$D39,1,0)) -> 0 | CO39: =IF(AND($D39<>0,AE39=""),1,IF(AE39>$D39,1,0)) -> 0 | CP39: =IF(AND(D39>0,OR(AF39="",AG39="",)),1,IF(AF39+AG39>$D39,1,0)) -> 0 | CQ39: =IF(AND(D39>0,AI39=""),1,IF(AI39>$D39,1,0)) -> 0 | CR39: =IF(AND(D39>0,AI39=""),1,IF(AI39>$D39,1,0)) -> 0
B40: Educación especial en adulto mayor | C40: Estimulación de memoria | D40: =SUM(U40:X40) -> 0 | U40: =SUM(ENERO:DICIEMBRE!U40) -> 0 | V40: =SUM(ENERO:DICIEMBRE!V40) -> 0 | W40: =SUM(ENERO:DICIEMBRE!W40) -> 0 | X40: =SUM(ENERO:DICIEMBRE!X40) -> 0 | Y40: =SUM(ENERO:DICIEMBRE!Y40) -> 0 | AB40: =SUM(ENERO:DICIEMBRE!AB40) -> 0 | AC40: =SUM(ENERO:DICIEMBRE!AC40) -> 0 | AD40: =SUM(ENERO:DICIEMBRE!AD40) -> 0 | AE40: =SUM(ENERO:DICIEMBRE!AE40) -> 0 | AF40: =SUM(ENERO:DICIEMBRE!AF40) -> 0 | AG40: =SUM(ENERO:DICIEMBRE!AG40) -> 0 | AH40: =SUM(ENERO:DICIEMBRE!AH40) -> 0 | AI40: =SUM(ENERO:DICIEMBRE!AI40) -> 0 | AJ40: =CB40&CC40&CD40&CE40&CF40&CG40&CH40 | CB40: =IF(AND($D40<>0,AB40=""),"* No olvide ingresar la columna "&AB$9&""&" (Digite CERO si no tiene). ",IF(AB40>$D40,"* El Número de Familias en Riesgo no puede superar el Total. ","")) | CC40: =IF(AND($D40<>0,AC40=""),"* No olvide ingresar la variable "&AC$9&""&" (Digite CERO si no tiene). ",IF(AC40>$D40,"* La variable Pueblos Originarios no puede superar el Total. ","")) | CD40: =IF(AND($D40<>0,AD40=""),"* No olvide ingresar la variable "&AD$9&""&" (Digite CERO si no tiene). ",IF(AD40>$D40,"* La variable Migrantes no puede superar el Total. ","")) | CE40: =IF(AND($D40<>0,AE40=""),"* No olvide ingresar la variable "&AE$9&""&" (Digite CERO si no tiene). ",IF(AE40>$D40,"* La variable Espacios Amigables/ Adolescentes no puede superar el Total. ","")) | CF40: =IF(AND(D40>0,OR(AF40="",AG40="",))," * No olvide digitar la variable TRANS Masculino/Femenino (Digite CERO si no tiene). ",IF(AF40+AG40>$D40,"* La suma de TRANS Masculino + Femenino no puede superar el Total. ","")) | CG40: =IF(AND(D40>0,AI40=""),"* No olvide digitar la variable Niños, niñas, adolescentes y jóvenes SENAME (Digite CERO si no tiene). ",IF(AI40>$D40,"* La suma de Niños, niñas, adolescentes y jóvenes SENAME no puede superar el Total. ","")) | CH40: =IF(AND(D40>0,AI40=""),"* No olvide digitar la variable Niños, niñas, adolescentes y jóvenes Mejor Niñez (Digite CERO si no tiene). ",IF(AI40>$D40,"* La suma de Niños, niñas, adolescentes y jóvenes Mejor Niñez no puede superar el Total. ","")) | CL40: =IF(AND($D40<>0,AB40=""),1,IF(AB40>$D40,1,0)) -> 0 | CM40: =IF(AND($D40<>0,AC40=""),1,IF(AC40>$D40,1,0)) -> 0 | CN40: =IF(AND($D40<>0,AD40=""),1,IF(AD40>$D40,1,0)) -> 0 | CO40: =IF(AND($D40<>0,AE40=""),1,IF(AE40>$D40,1,0)) -> 0 | CP40: =IF(AND(D40>0,OR(AF40="",AG40="",)),1,IF(AF40+AG40>$D40,1,0)) -> 0 | CQ40: =IF(AND(D40>0,AI40=""),1,IF(AI40>$D40,1,0)) -> 0 | CR40: =IF(AND(D40>0,AI40=""),1,IF(AI40>$D40,1,0)) -> 0
C41: Prevención de caídas | D41: =SUM(U41:X41) -> 0 | U41: =SUM(ENERO:DICIEMBRE!U41) -> 0 | V41: =SUM(ENERO:DICIEMBRE!V41) -> 0 | W41: =SUM(ENERO:DICIEMBRE!W41) -> 0 | X41: =SUM(ENERO:DICIEMBRE!X41) -> 0 | Y41: =SUM(ENERO:DICIEMBRE!Y41) -> 0 | AB41: =SUM(ENERO:DICIEMBRE!AB41) -> 0 | AC41: =SUM(ENERO:DICIEMBRE!AC41) -> 0 | AD41: =SUM(ENERO:DICIEMBRE!AD41) -> 0 | AE41: =SUM(ENERO:DICIEMBRE!AE41) -> 0 | AF41: =SUM(ENERO:DICIEMBRE!AF41) -> 0 | AG41: =SUM(ENERO:DICIEMBRE!AG41) -> 0 | AH41: =SUM(ENERO:DICIEMBRE!AH41) -> 0 | AI41: =SUM(ENERO:DICIEMBRE!AI41) -> 0 | AJ41: =CB41&CC41&CD41&CE41&CF41&CG41&CH41 | CB41: =IF(AND($D41<>0,AB41=""),"* No olvide ingresar la columna "&AB$9&""&" (Digite CERO si no tiene). ",IF(AB41>$D41,"* El Número de Familias en Riesgo no puede superar el Total. ","")) | CC41: =IF(AND($D41<>0,AC41=""),"* No olvide ingresar la variable "&AC$9&""&" (Digite CERO si no tiene). ",IF(AC41>$D41,"* La variable Pueblos Originarios no puede superar el Total. ","")) | CD41: =IF(AND($D41<>0,AD41=""),"* No olvide ingresar la variable "&AD$9&""&" (Digite CERO si no tiene). ",IF(AD41>$D41,"* La variable Migrantes no puede superar el Total. ","")) | CE41: =IF(AND($D41<>0,AE41=""),"* No olvide ingresar la variable "&AE$9&""&" (Digite CERO si no tiene). ",IF(AE41>$D41,"* La variable Espacios Amigables/ Adolescentes no puede superar el Total. ","")) | CF41: =IF(AND(D41>0,OR(AF41="",AG41="",))," * No olvide digitar la variable TRANS Masculino/Femenino (Digite CERO si no tiene). ",IF(AF41+AG41>$D41,"* La suma de TRANS Masculino + Femenino no puede superar el Total. ","")) | CG41: =IF(AND(D41>0,AI41=""),"* No olvide digitar la variable Niños, niñas, adolescentes y jóvenes SENAME (Digite CERO si no tiene). ",IF(AI41>$D41,"* La suma de Niños, niñas, adolescentes y jóvenes SENAME no puede superar el Total. ","")) | CH41: =IF(AND(D41>0,AI41=""),"* No olvide digitar la variable Niños, niñas, adolescentes y jóvenes Mejor Niñez (Digite CERO si no tiene). ",IF(AI41>$D41,"* La suma de Niños, niñas, adolescentes y jóvenes Mejor Niñez no puede superar el Total. ","")) | CL41: =IF(AND($D41<>0,AB41=""),1,IF(AB41>$D41,1,0)) -> 0 | CM41: =IF(AND($D41<>0,AC41=""),1,IF(AC41>$D41,1,0)) -> 0 | CN41: =IF(AND($D41<>0,AD41=""),1,IF(AD41>$D41,1,0)) -> 0 | CO41: =IF(AND($D41<>0,AE41=""),1,IF(AE41>$D41,1,0)) -> 0 | CP41: =IF(AND(D41>0,OR(AF41="",AG41="",)),1,IF(AF41+AG41>$D41,1,0)) -> 0 | CQ41: =IF(AND(D41>0,AI41=""),1,IF(AI41>$D41,1,0)) -> 0 | CR41: =IF(AND(D41>0,AI41=""),1,IF(AI41>$D41,1,0)) -> 0
C42: Estimulación de actividad física | D42: =SUM(U42:X42) -> 0 | U42: =SUM(ENERO:DICIEMBRE!U42) -> 0 | V42: =SUM(ENERO:DICIEMBRE!V42) -> 0 | W42: =SUM(ENERO:DICIEMBRE!W42) -> 0 | X42: =SUM(ENERO:DICIEMBRE!X42) -> 0 | Y42: =SUM(ENERO:DICIEMBRE!Y42) -> 0 | AB42: =SUM(ENERO:DICIEMBRE!AB42) -> 0 | AC42: =SUM(ENERO:DICIEMBRE!AC42) -> 0 | AD42: =SUM(ENERO:DICIEMBRE!AD42) -> 0 | AE42: =SUM(ENERO:DICIEMBRE!AE42) -> 0 | AF42: =SUM(ENERO:DICIEMBRE!AF42) -> 0 | AG42: =SUM(ENERO:DICIEMBRE!AG42) -> 0 | AH42: =SUM(ENERO:DICIEMBRE!AH42) -> 0 | AI42: =SUM(ENERO:DICIEMBRE!AI42) -> 0 | AJ42: =CB42&CC42&CD42&CE42&CF42&CG42&CH42 | CB42: =IF(AND($D42<>0,AB42=""),"* No olvide ingresar la columna "&AB$9&""&" (Digite CERO si no tiene). ",IF(AB42>$D42,"* El Número de Familias en Riesgo no puede superar el Total. ","")) | CC42: =IF(AND($D42<>0,AC42=""),"* No olvide ingresar la variable "&AC$9&""&" (Digite CERO si no tiene). ",IF(AC42>$D42,"* La variable Pueblos Originarios no puede superar el Total. ","")) | CD42: =IF(AND($D42<>0,AD42=""),"* No olvide ingresar la variable "&AD$9&""&" (Digite CERO si no tiene). ",IF(AD42>$D42,"* La variable Migrantes no puede superar el Total. ","")) | CE42: =IF(AND($D42<>0,AE42=""),"* No olvide ingresar la variable "&AE$9&""&" (Digite CERO si no tiene). ",IF(AE42>$D42,"* La variable Espacios Amigables/ Adolescentes no puede superar el Total. ","")) | CF42: =IF(AND(D42>0,OR(AF42="",AG42="",))," * No olvide digitar la variable TRANS Masculino/Femenino (Digite CERO si no tiene). ",IF(AF42+AG42>$D42,"* La suma de TRANS Masculino + Femenino no puede superar el Total. ","")) | CG42: =IF(AND(D42>0,AI42=""),"* No olvide digitar la variable Niños, niñas, adolescentes y jóvenes SENAME (Digite CERO si no tiene). ",IF(AI42>$D42,"* La suma de Niños, niñas, adolescentes y jóvenes SENAME no puede superar el Total. ","")) | CH42: =IF(AND(D42>0,AI42=""),"* No olvide digitar la variable Niños, niñas, adolescentes y jóvenes Mejor Niñez (Digite CERO si no tiene). ",IF(AI42>$D42,"* La suma de Niños, niñas, adolescentes y jóvenes Mejor Niñez no puede superar el Total. ","")) | CL42: =IF(AND($D42<>0,AB42=""),1,IF(AB42>$D42,1,0)) -> 0 | CM42: =IF(AND($D42<>0,AC42=""),1,IF(AC42>$D42,1,0)) -> 0 | CN42: =IF(AND($D42<>0,AD42=""),1,IF(AD42>$D42,1,0)) -> 0 | CO42: =IF(AND($D42<>0,AE42=""),1,IF(AE42>$D42,1,0)) -> 0 | CP42: =IF(AND(D42>0,OR(AF42="",AG42="",)),1,IF(AF42+AG42>$D42,1,0)) -> 0 | CQ42: =IF(AND(D42>0,AI42=""),1,IF(AI42>$D42,1,0)) -> 0 | CR42: =IF(AND(D42>0,AI42=""),1,IF(AI42>$D42,1,0)) -> 0
C43: Auto cuidado | D43: =SUM(U43:X43) -> 0 | U43: =SUM(ENERO:DICIEMBRE!U43) -> 0 | V43: =SUM(ENERO:DICIEMBRE!V43) -> 0 | W43: =SUM(ENERO:DICIEMBRE!W43) -> 0 | X43: =SUM(ENERO:DICIEMBRE!X43) -> 0 | Y43: =SUM(ENERO:DICIEMBRE!Y43) -> 0 | AB43: =SUM(ENERO:DICIEMBRE!AB43) -> 0 | AC43: =SUM(ENERO:DICIEMBRE!AC43) -> 0 | AD43: =SUM(ENERO:DICIEMBRE!AD43) -> 0 | AE43: =SUM(ENERO:DICIEMBRE!AE43) -> 0 | AF43: =SUM(ENERO:DICIEMBRE!AF43) -> 0 | AG43: =SUM(ENERO:DICIEMBRE!AG43) -> 0 | AH43: =SUM(ENERO:DICIEMBRE!AH43) -> 0 | AI43: =SUM(ENERO:DICIEMBRE!AI43) -> 0 | AJ43: =CB43&CC43&CD43&CE43&CF43&CG43&CH43 | CB43: =IF(AND($D43<>0,AB43=""),"* No olvide ingresar la columna "&AB$9&""&" (Digite CERO si no tiene). ",IF(AB43>$D43,"* El Número de Familias en Riesgo no puede superar el Total. ","")) | CC43: =IF(AND($D43<>0,AC43=""),"* No olvide ingresar la variable "&AC$9&""&" (Digite CERO si no tiene). ",IF(AC43>$D43,"* La variable Pueblos Originarios no puede superar el Total. ","")) | CD43: =IF(AND($D43<>0,AD43=""),"* No olvide ingresar la variable "&AD$9&""&" (Digite CERO si no tiene). ",IF(AD43>$D43,"* La variable Migrantes no puede superar el Total. ","")) | CE43: =IF(AND($D43<>0,AE43=""),"* No olvide ingresar la variable "&AE$9&""&" (Digite CERO si no tiene). ",IF(AE43>$D43,"* La variable Espacios Amigables/ Adolescentes no puede superar el Total. ","")) | CF43: =IF(AND(D43>0,OR(AF43="",AG43="",))," * No olvide digitar la variable TRANS Masculino/Femenino (Digite CERO si no tiene). ",IF(AF43+AG43>$D43,"* La suma de TRANS Masculino + Femenino no puede superar el Total. ","")) | CG43: =IF(AND(D43>0,AI43=""),"* No olvide digitar la variable Niños, niñas, adolescentes y jóvenes SENAME (Digite CERO si no tiene). ",IF(AI43>$D43,"* La suma de Niños, niñas, adolescentes y jóvenes SENAME no puede superar el Total. ","")) | CH43: =IF(AND(D43>0,AI43=""),"* No olvide digitar la variable Niños, niñas, adolescentes y jóvenes Mejor Niñez (Digite CERO si no tiene). ",IF(AI43>$D43,"* La suma de Niños, niñas, adolescentes y jóvenes Mejor Niñez no puede superar el Total. ","")) | CL43: =IF(AND($D43<>0,AB43=""),1,IF(AB43>$D43,1,0)) -> 0 | CM43: =IF(AND($D43<>0,AC43=""),1,IF(AC43>$D43,1,0)) -> 0 | CN43: =IF(AND($D43<>0,AD43=""),1,IF(AD43>$D43,1,0)) -> 0 | CO43: =IF(AND($D43<>0,AE43=""),1,IF(AE43>$D43,1,0)) -> 0 | CP43: =IF(AND(D43>0,OR(AF43="",AG43="",)),1,IF(AF43+AG43>$D43,1,0)) -> 0 | CQ43: =IF(AND(D43>0,AI43=""),1,IF(AI43>$D43,1,0)) -> 0 | CR43: =IF(AND(D43>0,AI43=""),1,IF(AI43>$D43,1,0)) -> 0
C44: Otras temáticas | D44: =SUM(U44:X44) -> 0 | U44: =SUM(ENERO:DICIEMBRE!U44) -> 0 | V44: =SUM(ENERO:DICIEMBRE!V44) -> 0 | W44: =SUM(ENERO:DICIEMBRE!W44) -> 0 | X44: =SUM(ENERO:DICIEMBRE!X44) -> 0 | Y44: =SUM(ENERO:DICIEMBRE!Y44) -> 0 | AB44: =SUM(ENERO:DICIEMBRE!AB44) -> 0 | AC44: =SUM(ENERO:DICIEMBRE!AC44) -> 0 | AD44: =SUM(ENERO:DICIEMBRE!AD44) -> 0 | AE44: =SUM(ENERO:DICIEMBRE!AE44) -> 0 | AF44: =SUM(ENERO:DICIEMBRE!AF44) -> 0 | AG44: =SUM(ENERO:DICIEMBRE!AG44) -> 0 | AH44: =SUM(ENERO:DICIEMBRE!AH44) -> 0 | AI44: =SUM(ENERO:DICIEMBRE!AI44) -> 0 | AJ44: =CB44&CC44&CD44&CE44&CF44&CG44&CH44 | CB44: =IF(AND($D44<>0,AB44=""),"* No olvide ingresar la columna "&AB$9&""&" (Digite CERO si no tiene). ",IF(AB44>$D44,"* El Número de Familias en Riesgo no puede superar el Total. ","")) | CC44: =IF(AND($D44<>0,AC44=""),"* No olvide ingresar la variable "&AC$9&""&" (Digite CERO si no tiene). ",IF(AC44>$D44,"* La variable Pueblos Originarios no puede superar el Total. ","")) | CD44: =IF(AND($D44<>0,AD44=""),"* No olvide ingresar la variable "&AD$9&""&" (Digite CERO si no tiene). ",IF(AD44>$D44,"* La variable Migrantes no puede superar el Total. ","")) | CE44: =IF(AND($D44<>0,AE44=""),"* No olvide ingresar la variable "&AE$9&""&" (Digite CERO si no tiene). ",IF(AE44>$D44,"* La variable Espacios Amigables/ Adolescentes no puede superar el Total. ","")) | CF44: =IF(AND(D44>0,OR(AF44="",AG44="",))," * No olvide digitar la variable TRANS Masculino/Femenino (Digite CERO si no tiene). ",IF(AF44+AG44>$D44,"* La suma de TRANS Masculino + Femenino no puede superar el Total. ","")) | CG44: =IF(AND(D44>0,AI44=""),"* No olvide digitar la variable Niños, niñas, adolescentes y jóvenes SENAME (Digite CERO si no tiene). ",IF(AI44>$D44,"* La suma de Niños, niñas, adolescentes y jóvenes SENAME no puede superar el Total. ","")) | CH44: =IF(AND(D44>0,AI44=""),"* No olvide digitar la variable Niños, niñas, adolescentes y jóvenes Mejor Niñez (Digite CERO si no tiene). ",IF(AI44>$D44,"* La suma de Niños, niñas, adolescentes y jóvenes Mejor Niñez no puede superar el Total. ","")) | CL44: =IF(AND($D44<>0,AB44=""),1,IF(AB44>$D44,1,0)) -> 0 | CM44: =IF(AND($D44<>0,AC44=""),1,IF(AC44>$D44,1,0)) -> 0 | CN44: =IF(AND($D44<>0,AD44=""),1,IF(AD44>$D44,1,0)) -> 0 | CO44: =IF(AND($D44<>0,AE44=""),1,IF(AE44>$D44,1,0)) -> 0 | CP44: =IF(AND(D44>0,OR(AF44="",AG44="",)),1,IF(AF44+AG44>$D44,1,0)) -> 0 | CQ44: =IF(AND(D44>0,AI44=""),1,IF(AI44>$D44,1,0)) -> 0 | CR44: =IF(AND(D44>0,AI44=""),1,IF(AI44>$D44,1,0)) -> 0
B45: Uso racional de medicamentos | D45: =SUM(E45:X45) -> 0 | E45: =SUM(ENERO:DICIEMBRE!E45) -> 0 | F45: =SUM(ENERO:DICIEMBRE!F45) -> 0 | G45: =SUM(ENERO:DICIEMBRE!G45) -> 0 | H45: =SUM(ENERO:DICIEMBRE!H45) -> 0 | I45: =SUM(ENERO:DICIEMBRE!I45) -> 0 | J45: =SUM(ENERO:DICIEMBRE!J45) -> 0 | K45: =SUM(ENERO:DICIEMBRE!K45) -> 0 | L45: =SUM(ENERO:DICIEMBRE!L45) -> 0 | ... Y45: =SUM(ENERO:DICIEMBRE!Y45) -> 0 | AB45: =SUM(ENERO:DICIEMBRE!AB45) -> 0 | AC45: =SUM(ENERO:DICIEMBRE!AC45) -> 0 | AD45: =SUM(ENERO:DICIEMBRE!AD45) -> 0 | AE45: =SUM(ENERO:DICIEMBRE!AE45) -> 0 | AF45: =SUM(ENERO:DICIEMBRE!AF45) -> 0 | AG45: =SUM(ENERO:DICIEMBRE!AG45) -> 0 | AH45: =SUM(ENERO:DICIEMBRE!AH45) -> 0 | AI45: =SUM(ENERO:DICIEMBRE!AI45) -> 0 | AJ45: =CB45&CC45&CD45&CE45&CF45&CG45&CH45 | CB45: =IF(AND($D45<>0,AB45=""),"* No olvide ingresar la columna "&AB$9&""&" (Digite CERO si no tiene). ",IF(AB45>$D45,"* El Número de Familias en Riesgo no puede superar el Total. ","")) | CC45: =IF(AND($D45<>0,AC45=""),"* No olvide ingresar la variable "&AC$9&""&" (Digite CERO si no tiene). ",IF(AC45>$D45,"* La variable Pueblos Originarios no puede superar el Total. ","")) | CD45: =IF(AND($D45<>0,AD45=""),"* No olvide ingresar la variable "&AD$9&""&" (Digite CERO si no tiene). ",IF(AD45>$D45,"* La variable Migrantes no puede superar el Total. ","")) | CE45: =IF(AND($D45<>0,AE45=""),"* No olvide ingresar la variable "&AE$9&""&" (Digite CERO si no tiene). ",IF(AE45>$D45,"* La variable Espacios Amigables/ Adolescentes no puede superar el Total. ","")) | CF45: =IF(AND(D45>0,OR(AF45="",AG45="",))," * No olvide digitar la variable TRANS Masculino/Femenino (Digite CERO si no tiene). ",IF(AF45+AG45>$D45,"* La suma de TRANS Masculino + Femenino no puede superar el Total. ","")) | CG45: =IF(AND(D45>0,AI45=""),"* No olvide digitar la variable Niños, niñas, adolescentes y jóvenes SENAME (Digite CERO si no tiene). ",IF(AI45>$D45,"* La suma de Niños, niñas, adolescentes y jóvenes SENAME no puede superar el Total. ","")) | CH45: =IF(AND(D45>0,AI45=""),"* No olvide digitar la variable Niños, niñas, adolescentes y jóvenes Mejor Niñez (Digite CERO si no tiene). ",IF(AI45>$D45,"* La suma de Niños, niñas, adolescentes y jóvenes Mejor Niñez no puede superar el Total. ","")) | CL45: =IF(AND($D45<>0,AB45=""),1,IF(AB45>$D45,1,0)) -> 0 | CM45: =IF(AND($D45<>0,AC45=""),1,IF(AC45>$D45,1,0)) -> 0 | CN45: =IF(AND($D45<>0,AD45=""),1,IF(AD45>$D45,1,0)) -> 0 | CO45: =IF(AND($D45<>0,AE45=""),1,IF(AE45>$D45,1,0)) -> 0 | CP45: =IF(AND(D45>0,OR(AF45="",AG45="",)),1,IF(AF45+AG45>$D45,1,0)) -> 0 | CQ45: =IF(AND(D45>0,AI45=""),1,IF(AI45>$D45,1,0)) -> 0 | CR45: =IF(AND(D45>0,AI45=""),1,IF(AI45>$D45,1,0)) -> 0
B46: Resistencia antimicrobianos | D46: =SUM(E46:X46) -> 0 | E46: =SUM(ENERO:DICIEMBRE!E46) -> 0 | F46: =SUM(ENERO:DICIEMBRE!F46) -> 0 | G46: =SUM(ENERO:DICIEMBRE!G46) -> 0 | H46: =SUM(ENERO:DICIEMBRE!H46) -> 0 | I46: =SUM(ENERO:DICIEMBRE!I46) -> 0 | J46: =SUM(ENERO:DICIEMBRE!J46) -> 0 | K46: =SUM(ENERO:DICIEMBRE!K46) -> 0 | L46: =SUM(ENERO:DICIEMBRE!L46) -> 0 | ... Y46: =SUM(ENERO:DICIEMBRE!Y46) -> 0 | AB46: =SUM(ENERO:DICIEMBRE!AB46) -> 0 | AC46: =SUM(ENERO:DICIEMBRE!AC46) -> 0 | AD46: =SUM(ENERO:DICIEMBRE!AD46) -> 0 | AE46: =SUM(ENERO:DICIEMBRE!AE46) -> 0 | AF46: =SUM(ENERO:DICIEMBRE!AF46) -> 0 | AG46: =SUM(ENERO:DICIEMBRE!AG46) -> 0 | AH46: =SUM(ENERO:DICIEMBRE!AH46) -> 0 | AI46: =SUM(ENERO:DICIEMBRE!AI46) -> 0 | AJ46: =CB46&CC46&CD46&CE46&CF46&CG46&CH46 | CB46: =IF(AND($D46<>0,AB46=""),"* No olvide ingresar la columna "&AB$9&""&" (Digite CERO si no tiene). ",IF(AB46>$D46,"* El Número de Familias en Riesgo no puede superar el Total. ","")) | CC46: =IF(AND($D46<>0,AC46=""),"* No olvide ingresar la variable "&AC$9&""&" (Digite CERO si no tiene). ",IF(AC46>$D46,"* La variable Pueblos Originarios no puede superar el Total. ","")) | CD46: =IF(AND($D46<>0,AD46=""),"* No olvide ingresar la variable "&AD$9&""&" (Digite CERO si no tiene). ",IF(AD46>$D46,"* La variable Migrantes no puede superar el Total. ","")) | CE46: =IF(AND($D46<>0,AE46=""),"* No olvide ingresar la variable "&AE$9&""&" (Digite CERO si no tiene). ",IF(AE46>$D46,"* La variable Espacios Amigables/ Adolescentes no puede superar el Total. ","")) | CF46: =IF(AND(D46>0,OR(AF46="",AG46="",))," * No olvide digitar la variable TRANS Masculino/Femenino (Digite CERO si no tiene). ",IF(AF46+AG46>$D46,"* La suma de TRANS Masculino + Femenino no puede superar el Total. ","")) | CG46: =IF(AND(D46>0,AI46=""),"* No olvide digitar la variable Niños, niñas, adolescentes y jóvenes SENAME (Digite CERO si no tiene). ",IF(AI46>$D46,"* La suma de Niños, niñas, adolescentes y jóvenes SENAME no puede superar el Total. ","")) | CH46: =IF(AND(D46>0,AI46=""),"* No olvide digitar la variable Niños, niñas, adolescentes y jóvenes Mejor Niñez (Digite CERO si no tiene). ",IF(AI46>$D46,"* La suma de Niños, niñas, adolescentes y jóvenes Mejor Niñez no puede superar el Total. ","")) | CL46: =IF(AND($D46<>0,AB46=""),1,IF(AB46>$D46,1,0)) -> 0 | CM46: =IF(AND($D46<>0,AC46=""),1,IF(AC46>$D46,1,0)) -> 0 | CN46: =IF(AND($D46<>0,AD46=""),1,IF(AD46>$D46,1,0)) -> 0 | CO46: =IF(AND($D46<>0,AE46=""),1,IF(AE46>$D46,1,0)) -> 0 | CP46: =IF(AND(D46>0,OR(AF46="",AG46="",)),1,IF(AF46+AG46>$D46,1,0)) -> 0 | CQ46: =IF(AND(D46>0,AI46=""),1,IF(AI46>$D46,1,0)) -> 0 | CR46: =IF(AND(D46>0,AI46=""),1,IF(AI46>$D46,1,0)) -> 0
B47: Capacitación a Cuidadores PADDS | C47: Autocuidado del Cuidador/a | D47: =SUM(K47:X47) -> 0 | K47: =SUM(ENERO:DICIEMBRE!K47) -> 0 | L47: =SUM(ENERO:DICIEMBRE!L47) -> 0 | M47: =SUM(ENERO:DICIEMBRE!M47) -> 0 | N47: =SUM(ENERO:DICIEMBRE!N47) -> 0 | O47: =SUM(ENERO:DICIEMBRE!O47) -> 0 | P47: =SUM(ENERO:DICIEMBRE!P47) -> 0 | Q47: =SUM(ENERO:DICIEMBRE!Q47) -> 0 | R47: =SUM(ENERO:DICIEMBRE!R47) -> 0 | ... Y47: =SUM(ENERO:DICIEMBRE!Y47) -> 0 | AB47: =SUM(ENERO:DICIEMBRE!AB47) -> 0 | AC47: =SUM(ENERO:DICIEMBRE!AC47) -> 0 | AD47: =SUM(ENERO:DICIEMBRE!AD47) -> 0 | AE47: =SUM(ENERO:DICIEMBRE!AE47) -> 0 | AF47: =SUM(ENERO:DICIEMBRE!AF47) -> 0 | AG47: =SUM(ENERO:DICIEMBRE!AG47) -> 0 | AH47: =SUM(ENERO:DICIEMBRE!AH47) -> 0 | AI47: =SUM(ENERO:DICIEMBRE!AI47) -> 0 | AJ47: =CB47&CC47&CD47&CE47&CF47&CG47&CH47 | CB47: =IF(AND($D47<>0,AB47=""),"* No olvide ingresar la columna "&AB$9&""&" (Digite CERO si no tiene). ",IF(AB47>$D47,"* El Número de Familias en Riesgo no puede superar el Total. ","")) | CC47: =IF(AND($D47<>0,AC47=""),"* No olvide ingresar la variable "&AC$9&""&" (Digite CERO si no tiene). ",IF(AC47>$D47,"* La variable Pueblos Originarios no puede superar el Total. ","")) | CD47: =IF(AND($D47<>0,AD47=""),"* No olvide ingresar la variable "&AD$9&""&" (Digite CERO si no tiene). ",IF(AD47>$D47,"* La variable Migrantes no puede superar el Total. ","")) | CE47: =IF(AND($D47<>0,AE47=""),"* No olvide ingresar la variable "&AE$9&""&" (Digite CERO si no tiene). ",IF(AE47>$D47,"* La variable Espacios Amigables/ Adolescentes no puede superar el Total. ","")) | CF47: =IF(AND(D47>0,OR(AF47="",AG47="",))," * No olvide digitar la variable TRANS Masculino/Femenino (Digite CERO si no tiene). ",IF(AF47+AG47>$D47,"* La suma de TRANS Masculino + Femenino no puede superar el Total. ","")) | CG47: =IF(AND(D47>0,AI47=""),"* No olvide digitar la variable Niños, niñas, adolescentes y jóvenes SENAME (Digite CERO si no tiene). ",IF(AI47>$D47,"* La suma de Niños, niñas, adolescentes y jóvenes SENAME no puede superar el Total. ","")) | CH47: =IF(AND(D47>0,AI47=""),"* No olvide digitar la variable Niños, niñas, adolescentes y jóvenes Mejor Niñez (Digite CERO si no tiene). ",IF(AI47>$D47,"* La suma de Niños, niñas, adolescentes y jóvenes Mejor Niñez no puede superar el Total. ","")) | CL47: =IF(AND($D47<>0,AB47=""),1,IF(AB47>$D47,1,0)) -> 0 | CM47: =IF(AND($D47<>0,AC47=""),1,IF(AC47>$D47,1,0)) -> 0 | CN47: =IF(AND($D47<>0,AD47=""),1,IF(AD47>$D47,1,0)) -> 0 | CO47: =IF(AND($D47<>0,AE47=""),1,IF(AE47>$D47,1,0)) -> 0 | CP47: =IF(AND(D47>0,OR(AF47="",AG47="",)),1,IF(AF47+AG47>$D47,1,0)) -> 0 | CQ47: =IF(AND(D47>0,AI47=""),1,IF(AI47>$D47,1,0)) -> 0 | CR47: =IF(AND(D47>0,AI47=""),1,IF(AI47>$D47,1,0)) -> 0
C48: Cuidados de la persona con Dependencia | D48: =SUM(K48:X48) -> 0 | K48: =SUM(ENERO:DICIEMBRE!K48) -> 0 | L48: =SUM(ENERO:DICIEMBRE!L48) -> 0 | M48: =SUM(ENERO:DICIEMBRE!M48) -> 0 | N48: =SUM(ENERO:DICIEMBRE!N48) -> 0 | O48: =SUM(ENERO:DICIEMBRE!O48) -> 0 | P48: =SUM(ENERO:DICIEMBRE!P48) -> 0 | Q48: =SUM(ENERO:DICIEMBRE!Q48) -> 0 | R48: =SUM(ENERO:DICIEMBRE!R48) -> 0 | ... Y48: =SUM(ENERO:DICIEMBRE!Y48) -> 0 | AB48: =SUM(ENERO:DICIEMBRE!AB48) -> 0 | AC48: =SUM(ENERO:DICIEMBRE!AC48) -> 0 | AD48: =SUM(ENERO:DICIEMBRE!AD48) -> 0 | AE48: =SUM(ENERO:DICIEMBRE!AE48) -> 0 | AF48: =SUM(ENERO:DICIEMBRE!AF48) -> 0 | AG48: =SUM(ENERO:DICIEMBRE!AG48) -> 0 | AH48: =SUM(ENERO:DICIEMBRE!AH48) -> 0 | AI48: =SUM(ENERO:DICIEMBRE!AI48) -> 0 | AJ48: =CB48&CC48&CD48&CE48&CF48&CG48&CH48 | CB48: =IF(AND($D48<>0,AB48=""),"* No olvide ingresar la columna "&AB$9&""&" (Digite CERO si no tiene). ",IF(AB48>$D48,"* El Número de Familias en Riesgo no puede superar el Total. ","")) | CC48: =IF(AND($D48<>0,AC48=""),"* No olvide ingresar la variable "&AC$9&""&" (Digite CERO si no tiene). ",IF(AC48>$D48,"* La variable Pueblos Originarios no puede superar el Total. ","")) | CD48: =IF(AND($D48<>0,AD48=""),"* No olvide ingresar la variable "&AD$9&""&" (Digite CERO si no tiene). ",IF(AD48>$D48,"* La variable Migrantes no puede superar el Total. ","")) | CE48: =IF(AND($D48<>0,AE48=""),"* No olvide ingresar la variable "&AE$9&""&" (Digite CERO si no tiene). ",IF(AE48>$D48,"* La variable Espacios Amigables/ Adolescentes no puede superar el Total. ","")) | CF48: =IF(AND(D48>0,OR(AF48="",AG48="",))," * No olvide digitar la variable TRANS Masculino/Femenino (Digite CERO si no tiene). ",IF(AF48+AG48>$D48,"* La suma de TRANS Masculino + Femenino no puede superar el Total. ","")) | CG48: =IF(AND(D48>0,AI48=""),"* No olvide digitar la variable Niños, niñas, adolescentes y jóvenes SENAME (Digite CERO si no tiene). ",IF(AI48>$D48,"* La suma de Niños, niñas, adolescentes y jóvenes SENAME no puede superar el Total. ","")) | CH48: =IF(AND(D48>0,AI48=""),"* No olvide digitar la variable Niños, niñas, adolescentes y jóvenes Mejor Niñez (Digite CERO si no tiene). ",IF(AI48>$D48,"* La suma de Niños, niñas, adolescentes y jóvenes Mejor Niñez no puede superar el Total. ","")) | CL48: =IF(AND($D48<>0,AB48=""),1,IF(AB48>$D48,1,0)) -> 0 | CM48: =IF(AND($D48<>0,AC48=""),1,IF(AC48>$D48,1,0)) -> 0 | CN48: =IF(AND($D48<>0,AD48=""),1,IF(AD48>$D48,1,0)) -> 0 | CO48: =IF(AND($D48<>0,AE48=""),1,IF(AE48>$D48,1,0)) -> 0 | CP48: =IF(AND(D48>0,OR(AF48="",AG48="",)),1,IF(AF48+AG48>$D48,1,0)) -> 0 | CQ48: =IF(AND(D48>0,AI48=""),1,IF(AI48>$D48,1,0)) -> 0 | CR48: =IF(AND(D48>0,AI48=""),1,IF(AI48>$D48,1,0)) -> 0
C49: ⁠Redes y sistemas de apoyo a la diada del cuidado | D49: =SUM(K49:X49) -> 0 | K49: =SUM(ENERO:DICIEMBRE!K49) -> 0 | L49: =SUM(ENERO:DICIEMBRE!L49) -> 0 | M49: =SUM(ENERO:DICIEMBRE!M49) -> 0 | N49: =SUM(ENERO:DICIEMBRE!N49) -> 0 | O49: =SUM(ENERO:DICIEMBRE!O49) -> 0 | P49: =SUM(ENERO:DICIEMBRE!P49) -> 0 | Q49: =SUM(ENERO:DICIEMBRE!Q49) -> 0 | R49: =SUM(ENERO:DICIEMBRE!R49) -> 0 | ... Y49: =SUM(ENERO:DICIEMBRE!Y49) -> 0 | AB49: =SUM(ENERO:DICIEMBRE!AB49) -> 0 | AC49: =SUM(ENERO:DICIEMBRE!AC49) -> 0 | AD49: =SUM(ENERO:DICIEMBRE!AD49) -> 0 | AE49: =SUM(ENERO:DICIEMBRE!AE49) -> 0 | AF49: =SUM(ENERO:DICIEMBRE!AF49) -> 0 | AG49: =SUM(ENERO:DICIEMBRE!AG49) -> 0 | AH49: =SUM(ENERO:DICIEMBRE!AH49) -> 0 | AI49: =SUM(ENERO:DICIEMBRE!AI49) -> 0 | AJ49: =CB49&CC49&CD49&CE49&CF49&CG49&CH49 | CB49: =IF(AND($D49<>0,AB49=""),"* No olvide ingresar la columna "&AB$9&""&" (Digite CERO si no tiene). ",IF(AB49>$D49,"* El Número de Familias en Riesgo no puede superar el Total. ","")) | CC49: =IF(AND($D49<>0,AC49=""),"* No olvide ingresar la variable "&AC$9&""&" (Digite CERO si no tiene). ",IF(AC49>$D49,"* La variable Pueblos Originarios no puede superar el Total. ","")) | CD49: =IF(AND($D49<>0,AD49=""),"* No olvide ingresar la variable "&AD$9&""&" (Digite CERO si no tiene). ",IF(AD49>$D49,"* La variable Migrantes no puede superar el Total. ","")) | CE49: =IF(AND($D49<>0,AE49=""),"* No olvide ingresar la variable "&AE$9&""&" (Digite CERO si no tiene). ",IF(AE49>$D49,"* La variable Espacios Amigables/ Adolescentes no puede superar el Total. ","")) | CF49: =IF(AND(D49>0,OR(AF49="",AG49="",))," * No olvide digitar la variable TRANS Masculino/Femenino (Digite CERO si no tiene). ",IF(AF49+AG49>$D49,"* La suma de TRANS Masculino + Femenino no puede superar el Total. ","")) | CG49: =IF(AND(D49>0,AI49=""),"* No olvide digitar la variable Niños, niñas, adolescentes y jóvenes SENAME (Digite CERO si no tiene). ",IF(AI49>$D49,"* La suma de Niños, niñas, adolescentes y jóvenes SENAME no puede superar el Total. ","")) | CH49: =IF(AND(D49>0,AI49=""),"* No olvide digitar la variable Niños, niñas, adolescentes y jóvenes Mejor Niñez (Digite CERO si no tiene). ",IF(AI49>$D49,"* La suma de Niños, niñas, adolescentes y jóvenes Mejor Niñez no puede superar el Total. ","")) | CL49: =IF(AND($D49<>0,AB49=""),1,IF(AB49>$D49,1,0)) -> 0 | CM49: =IF(AND($D49<>0,AC49=""),1,IF(AC49>$D49,1,0)) -> 0 | CN49: =IF(AND($D49<>0,AD49=""),1,IF(AD49>$D49,1,0)) -> 0 | CO49: =IF(AND($D49<>0,AE49=""),1,IF(AE49>$D49,1,0)) -> 0 | CP49: =IF(AND(D49>0,OR(AF49="",AG49="",)),1,IF(AF49+AG49>$D49,1,0)) -> 0 | CQ49: =IF(AND(D49>0,AI49=""),1,IF(AI49>$D49,1,0)) -> 0 | CR49: =IF(AND(D49>0,AI49=""),1,IF(AI49>$D49,1,0)) -> 0
C50: Cuidados de fin de vida y duelo | D50: =SUM(K50:X50) -> 0 | K50: =SUM(ENERO:DICIEMBRE!K50) -> 0 | L50: =SUM(ENERO:DICIEMBRE!L50) -> 0 | M50: =SUM(ENERO:DICIEMBRE!M50) -> 0 | N50: =SUM(ENERO:DICIEMBRE!N50) -> 0 | O50: =SUM(ENERO:DICIEMBRE!O50) -> 0 | P50: =SUM(ENERO:DICIEMBRE!P50) -> 0 | Q50: =SUM(ENERO:DICIEMBRE!Q50) -> 0 | R50: =SUM(ENERO:DICIEMBRE!R50) -> 0 | ... Y50: =SUM(ENERO:DICIEMBRE!Y50) -> 0 | AB50: =SUM(ENERO:DICIEMBRE!AB50) -> 0 | AC50: =SUM(ENERO:DICIEMBRE!AC50) -> 0 | AD50: =SUM(ENERO:DICIEMBRE!AD50) -> 0 | AE50: =SUM(ENERO:DICIEMBRE!AE50) -> 0 | AF50: =SUM(ENERO:DICIEMBRE!AF50) -> 0 | AG50: =SUM(ENERO:DICIEMBRE!AG50) -> 0 | AH50: =SUM(ENERO:DICIEMBRE!AH50) -> 0 | AI50: =SUM(ENERO:DICIEMBRE!AI50) -> 0 | AJ50: =CB50&CC50&CD50&CE50&CF50&CG50&CH50 | CB50: =IF(AND($D50<>0,AB50=""),"* No olvide ingresar la columna "&AB$9&""&" (Digite CERO si no tiene). ",IF(AB50>$D50,"* El Número de Familias en Riesgo no puede superar el Total. ","")) | CC50: =IF(AND($D50<>0,AC50=""),"* No olvide ingresar la variable "&AC$9&""&" (Digite CERO si no tiene). ",IF(AC50>$D50,"* La variable Pueblos Originarios no puede superar el Total. ","")) | CD50: =IF(AND($D50<>0,AD50=""),"* No olvide ingresar la variable "&AD$9&""&" (Digite CERO si no tiene). ",IF(AD50>$D50,"* La variable Migrantes no puede superar el Total. ","")) | CE50: =IF(AND($D50<>0,AE50=""),"* No olvide ingresar la variable "&AE$9&""&" (Digite CERO si no tiene). ",IF(AE50>$D50,"* La variable Espacios Amigables/ Adolescentes no puede superar el Total. ","")) | CF50: =IF(AND(D50>0,OR(AF50="",AG50="",))," * No olvide digitar la variable TRANS Masculino/Femenino (Digite CERO si no tiene). ",IF(AF50+AG50>$D50,"* La suma de TRANS Masculino + Femenino no puede superar el Total. ","")) | CG50: =IF(AND(D50>0,AI50=""),"* No olvide digitar la variable Niños, niñas, adolescentes y jóvenes SENAME (Digite CERO si no tiene). ",IF(AI50>$D50,"* La suma de Niños, niñas, adolescentes y jóvenes SENAME no puede superar el Total. ","")) | CH50: =IF(AND(D50>0,AI50=""),"* No olvide digitar la variable Niños, niñas, adolescentes y jóvenes Mejor Niñez (Digite CERO si no tiene). ",IF(AI50>$D50,"* La suma de Niños, niñas, adolescentes y jóvenes Mejor Niñez no puede superar el Total. ","")) | CL50: =IF(AND($D50<>0,AB50=""),1,IF(AB50>$D50,1,0)) -> 0 | CM50: =IF(AND($D50<>0,AC50=""),1,IF(AC50>$D50,1,0)) -> 0 | CN50: =IF(AND($D50<>0,AD50=""),1,IF(AD50>$D50,1,0)) -> 0 | CO50: =IF(AND($D50<>0,AE50=""),1,IF(AE50>$D50,1,0)) -> 0 | CP50: =IF(AND(D50>0,OR(AF50="",AG50="",)),1,IF(AF50+AG50>$D50,1,0)) -> 0 | CQ50: =IF(AND(D50>0,AI50=""),1,IF(AI50>$D50,1,0)) -> 0 | CR50: =IF(AND(D50>0,AI50=""),1,IF(AI50>$D50,1,0)) -> 0
B51: Educación en seguridad vial | C51: Mujeres | D51: =SUM(E51:X51) -> 0 | E51: =SUM(ENERO:DICIEMBRE!E51) -> 0 | F51: =SUM(ENERO:DICIEMBRE!F51) -> 0 | G51: =SUM(ENERO:DICIEMBRE!G51) -> 0 | H51: =SUM(ENERO:DICIEMBRE!H51) -> 0 | I51: =SUM(ENERO:DICIEMBRE!I51) -> 0 | J51: =SUM(ENERO:DICIEMBRE!J51) -> 0 | K51: =SUM(ENERO:DICIEMBRE!K51) -> 0 | L51: =SUM(ENERO:DICIEMBRE!L51) -> 0 | ... AA51: =SUM(ENERO:DICIEMBRE!AA51) -> 0 | AC51: =SUM(ENERO:DICIEMBRE!AC51) -> 0 | AD51: =SUM(ENERO:DICIEMBRE!AD51) -> 0 | AE51: =SUM(ENERO:DICIEMBRE!AE51) -> 0 | AF51: =SUM(ENERO:DICIEMBRE!AF51) -> 0 | AG51: =SUM(ENERO:DICIEMBRE!AG51) -> 0 | AH51: =SUM(ENERO:DICIEMBRE!AH51) -> 0 | AI51: =SUM(ENERO:DICIEMBRE!AI51) -> 0 | AJ51: =CB51&CC51&CD51&CE51&CF51&CG51&CH51 | CC51: =IF(AND($D51<>0,AC51=""),"* No olvide ingresar la variable "&AC$9&""&" (Digite CERO si no tiene). ",IF(AC51>$D51,"* La variable Pueblos Originarios no puede superar el Total. ","")) | CD51: =IF(AND($D51<>0,AD51=""),"* No olvide ingresar la variable "&AD$9&""&" (Digite CERO si no tiene). ",IF(AD51>$D51,"* La variable Migrantes no puede superar el Total. ","")) | CE51: =IF(AND($D51<>0,AE51=""),"* No olvide ingresar la variable "&AE$9&""&" (Digite CERO si no tiene). ",IF(AE51>$D51,"* La variable Espacios Amigables/ Adolescentes no puede superar el Total. ","")) | CF51: =IF(AND(D51>0,OR(AF51="",AG51="",))," * No olvide digitar la variable TRANS Masculino/Femenino (Digite CERO si no tiene). ",IF(AF51+AG51>$D51,"* La suma de TRANS Masculino + Femenino no puede superar el Total. ","")) | CG51: =IF(AND(D51>0,AI51=""),"* No olvide digitar la variable Niños, niñas, adolescentes y jóvenes SENAME (Digite CERO si no tiene). ",IF(AI51>$D51,"* La suma de Niños, niñas, adolescentes y jóvenes SENAME no puede superar el Total. ","")) | CH51: =IF(AND(D51>0,AI51=""),"* No olvide digitar la variable Niños, niñas, adolescentes y jóvenes Mejor Niñez (Digite CERO si no tiene). ",IF(AI51>$D51,"* La suma de Niños, niñas, adolescentes y jóvenes Mejor Niñez no puede superar el Total. ","")) | CM51: =IF(AND($D51<>0,AC51=""),1,IF(AC51>$D51,1,0)) -> 0 | CN51: =IF(AND($D51<>0,AD51=""),1,IF(AD51>$D51,1,0)) -> 0 | CO51: =IF(AND($D51<>0,AE51=""),1,IF(AE51>$D51,1,0)) -> 0 | CP51: =IF(AND(D51>0,OR(AF51="",AG51="",)),1,IF(AF51+AG51>$D51,1,0)) -> 0 | CQ51: =IF(AND(D51>0,AI51=""),1,IF(AI51>$D51,1,0)) -> 0 | CR51: =IF(AND(D51>0,AI51=""),1,IF(AI51>$D51,1,0)) -> 0
C52: Hombres | D52: =SUM(E52:X52) -> 0 | E52: =SUM(ENERO:DICIEMBRE!E52) -> 0 | F52: =SUM(ENERO:DICIEMBRE!F52) -> 0 | G52: =SUM(ENERO:DICIEMBRE!G52) -> 0 | H52: =SUM(ENERO:DICIEMBRE!H52) -> 0 | I52: =SUM(ENERO:DICIEMBRE!I52) -> 0 | J52: =SUM(ENERO:DICIEMBRE!J52) -> 0 | K52: =SUM(ENERO:DICIEMBRE!K52) -> 0 | L52: =SUM(ENERO:DICIEMBRE!L52) -> 0 | ... AA52: =SUM(ENERO:DICIEMBRE!AA52) -> 0 | AC52: =SUM(ENERO:DICIEMBRE!AC52) -> 0 | AD52: =SUM(ENERO:DICIEMBRE!AD52) -> 0 | AE52: =SUM(ENERO:DICIEMBRE!AE52) -> 0 | AF52: =SUM(ENERO:DICIEMBRE!AF52) -> 0 | AG52: =SUM(ENERO:DICIEMBRE!AG52) -> 0 | AH52: =SUM(ENERO:DICIEMBRE!AH52) -> 0 | AI52: =SUM(ENERO:DICIEMBRE!AI52) -> 0 | AJ52: =CB52&CC52&CD52&CE52&CF52&CG52&CH52 | CC52: =IF(AND($D52<>0,AC52=""),"* No olvide ingresar la variable "&AC$9&""&" (Digite CERO si no tiene). ",IF(AC52>$D52,"* La variable Pueblos Originarios no puede superar el Total. ","")) | CD52: =IF(AND($D52<>0,AD52=""),"* No olvide ingresar la variable "&AD$9&""&" (Digite CERO si no tiene). ",IF(AD52>$D52,"* La variable Migrantes no puede superar el Total. ","")) | CE52: =IF(AND($D52<>0,AE52=""),"* No olvide ingresar la variable "&AE$9&""&" (Digite CERO si no tiene). ",IF(AE52>$D52,"* La variable Espacios Amigables/ Adolescentes no puede superar el Total. ","")) | CF52: =IF(AND(D52>0,OR(AF52="",AG52="",))," * No olvide digitar la variable TRANS Masculino/Femenino (Digite CERO si no tiene). ",IF(AF52+AG52>$D52,"* La suma de TRANS Masculino + Femenino no puede superar el Total. ","")) | CG52: =IF(AND(D52>0,AI52=""),"* No olvide digitar la variable Niños, niñas, adolescentes y jóvenes SENAME (Digite CERO si no tiene). ",IF(AI52>$D52,"* La suma de Niños, niñas, adolescentes y jóvenes SENAME no puede superar el Total. ","")) | CH52: =IF(AND(D52>0,AI52=""),"* No olvide digitar la variable Niños, niñas, adolescentes y jóvenes Mejor Niñez (Digite CERO si no tiene). ",IF(AI52>$D52,"* La suma de Niños, niñas, adolescentes y jóvenes Mejor Niñez no puede superar el Total. ","")) | CM52: =IF(AND($D52<>0,AC52=""),1,IF(AC52>$D52,1,0)) -> 0 | CN52: =IF(AND($D52<>0,AD52=""),1,IF(AD52>$D52,1,0)) -> 0 | CO52: =IF(AND($D52<>0,AE52=""),1,IF(AE52>$D52,1,0)) -> 0 | CP52: =IF(AND(D52>0,OR(AF52="",AG52="",)),1,IF(AF52+AG52>$D52,1,0)) -> 0 | CQ52: =IF(AND(D52>0,AI52=""),1,IF(AI52>$D52,1,0)) -> 0 | CR52: =IF(AND(D52>0,AI52=""),1,IF(AI52>$D52,1,0)) -> 0
B53: TOTAL | D53: =SUM(E53:X53) -> 388 | E53: =SUM(E11:E52) -> 0 | F53: =SUM(F11:F52) -> 0 | G53: =SUM(G11:G52) -> 0 | H53: =SUM(H11:H52) -> 0 | I53: =SUM(I11:I52) -> 0 | J53: =SUM(J11:J52) -> 2 | K53: =SUM(K11:K52) -> 24 | L53: =SUM(L11:L52) -> 76 | ... AI53: =SUM(AI11:AI52) -> 0
A54: SECCIÓN B: ACTIVIDADES DE EDUCACIÓN PARA LA SALUD SEGÚN PERSONAL QUE LAS REALIZA (SESIONES)
A55: ÁREAS TEMÁTICAS DE PREVENCIÓN | D55: TOTAL | E55: Un profesional | F55: Dos o más profesionales | G55: Un profesional y un Técnico en Enfermería | H55: Técnico en Enfermería | I55: Facilitador/a Intercultural Pueblos Originarios
A56: Educación en grupo | B56: Estimulación desarrollo psicomotor | D56: =SUM(E56:H56) -> 0 | E56: =SUM(ENERO:DICIEMBRE!E56) -> 0 | F56: =SUM(ENERO:DICIEMBRE!F56) -> 0 | G56: =SUM(ENERO:DICIEMBRE!G56) -> 0 | H56: =SUM(ENERO:DICIEMBRE!H56) -> 0 | I56: =SUM(ENERO:DICIEMBRE!I56) -> 0 | J56: =CA56 | CA56: =IF(AND($D56<>0,I56=""),"* No olvide ingresar la columna "&I$55&""&" (Digite CERO si no tiene). ",IF(I56>$D56,"* La variable "&I$55&""&" no puede superar el Total. ","")) | CK56: =IF(AND($D56<>0,I56=""),1,IF(I56>$D56,1,0)) -> 0
B57: Nutrición | C57: Riesgo de malnutrición por exceso | D57: =SUM(E57:H57) -> 0 | E57: =SUM(ENERO:DICIEMBRE!E57) -> 0 | F57: =SUM(ENERO:DICIEMBRE!F57) -> 0 | G57: =SUM(ENERO:DICIEMBRE!G57) -> 0 | H57: =SUM(ENERO:DICIEMBRE!H57) -> 0 | I57: =SUM(ENERO:DICIEMBRE!I57) -> 0 | J57: =CA57 | CA57: =IF(AND($D57<>0,I57=""),"* No olvide ingresar la columna "&I$55&""&" (Digite CERO si no tiene). ",IF(I57>$D57,"* La variable "&I$55&""&" no puede superar el Total. ","")) | CK57: =IF(AND($D57<>0,I57=""),1,IF(I57>$D57,1,0)) -> 0
C58: Malnutrición por exceso | D58: =SUM(E58:H58) -> 0 | E58: =SUM(ENERO:DICIEMBRE!E58) -> 0 | F58: =SUM(ENERO:DICIEMBRE!F58) -> 0 | G58: =SUM(ENERO:DICIEMBRE!G58) -> 0 | H58: =SUM(ENERO:DICIEMBRE!H58) -> 0 | I58: =SUM(ENERO:DICIEMBRE!I58) -> 0 | J58: =CA58 | CA58: =IF(AND($D58<>0,I58=""),"* No olvide ingresar la columna "&I$55&""&" (Digite CERO si no tiene). ",IF(I58>$D58,"* La variable "&I$55&""&" no puede superar el Total. ","")) | CK58: =IF(AND($D58<>0,I58=""),1,IF(I58>$D58,1,0)) -> 0
C59: Malnutrición de déficit | D59: =SUM(E59:H59) -> 0 | E59: =SUM(ENERO:DICIEMBRE!E59) -> 0 | F59: =SUM(ENERO:DICIEMBRE!F59) -> 0 | G59: =SUM(ENERO:DICIEMBRE!G59) -> 0 | H59: =SUM(ENERO:DICIEMBRE!H59) -> 0 | I59: =SUM(ENERO:DICIEMBRE!I59) -> 0 | J59: =CA59 | CA59: =IF(AND($D59<>0,I59=""),"* No olvide ingresar la columna "&I$55&""&" (Digite CERO si no tiene). ",IF(I59>$D59,"* La variable "&I$55&""&" no puede superar el Total. ","")) | CK59: =IF(AND($D59<>0,I59=""),1,IF(I59>$D59,1,0)) -> 0
C60: Sin riesgo de malnutrición | D60: =SUM(E60:H60) -> 0 | E60: =SUM(ENERO:DICIEMBRE!E60) -> 0 | F60: =SUM(ENERO:DICIEMBRE!F60) -> 0 | G60: =SUM(ENERO:DICIEMBRE!G60) -> 0 | H60: =SUM(ENERO:DICIEMBRE!H60) -> 0 | I60: =SUM(ENERO:DICIEMBRE!I60) -> 0 | J60: =CA60 | CA60: =IF(AND($D60<>0,I60=""),"* No olvide ingresar la columna "&I$55&""&" (Digite CERO si no tiene). ",IF(I60>$D60,"* La variable "&I$55&""&" no puede superar el Total. ","")) | CK60: =IF(AND($D60<>0,I60=""),1,IF(I60>$D60,1,0)) -> 0
B61: Prevención de IRA - ERA | D61: =SUM(E61:H61) -> 0 | E61: =SUM(ENERO:DICIEMBRE!E61) -> 0 | F61: =SUM(ENERO:DICIEMBRE!F61) -> 0 | G61: =SUM(ENERO:DICIEMBRE!G61) -> 0 | H61: =SUM(ENERO:DICIEMBRE!H61) -> 0 | I61: =SUM(ENERO:DICIEMBRE!I61) -> 0 | J61: =CA61 | CA61: =IF(AND($D61<>0,I61=""),"* No olvide ingresar la columna "&I$55&""&" (Digite CERO si no tiene). ",IF(I61>$D61,"* La variable "&I$55&""&" no puede superar el Total. ","")) | CK61: =IF(AND($D61<>0,I61=""),1,IF(I61>$D61,1,0)) -> 0
B62: Prevención de accidentes | D62: =SUM(E62:H62) -> 0 | E62: =SUM(ENERO:DICIEMBRE!E62) -> 0 | F62: =SUM(ENERO:DICIEMBRE!F62) -> 0 | G62: =SUM(ENERO:DICIEMBRE!G62) -> 0 | H62: =SUM(ENERO:DICIEMBRE!H62) -> 0 | I62: =SUM(ENERO:DICIEMBRE!I62) -> 0 | J62: =CA62 | CA62: =IF(AND($D62<>0,I62=""),"* No olvide ingresar la columna "&I$55&""&" (Digite CERO si no tiene). ",IF(I62>$D62,"* La variable "&I$55&""&" no puede superar el Total. ","")) | CK62: =IF(AND($D62<>0,I62=""),1,IF(I62>$D62,1,0)) -> 0
B63: Salud buco-dental | D63: =SUM(E63:H63) -> 0 | E63: =SUM(ENERO:DICIEMBRE!E63) -> 0 | F63: =SUM(ENERO:DICIEMBRE!F63) -> 0 | G63: =SUM(ENERO:DICIEMBRE!G63) -> 0 | H63: =SUM(ENERO:DICIEMBRE!H63) -> 0 | I63: =SUM(ENERO:DICIEMBRE!I63) -> 0 | J63: =CA63 | CA63: =IF(AND($D63<>0,I63=""),"* No olvide ingresar la columna "&I$55&""&" (Digite CERO si no tiene). ",IF(I63>$D63,"* La variable "&I$55&""&" no puede superar el Total. ","")) | CK63: =IF(AND($D63<>0,I63=""),1,IF(I63>$D63,1,0)) -> 0
B64: Prevención violencia de género | D64: =SUM(E64:H64) -> 0 | E64: =SUM(ENERO:DICIEMBRE!E64) -> 0 | F64: =SUM(ENERO:DICIEMBRE!F64) -> 0 | G64: =SUM(ENERO:DICIEMBRE!G64) -> 0 | H64: =SUM(ENERO:DICIEMBRE!H64) -> 0 | I64: =SUM(ENERO:DICIEMBRE!I64) -> 0 | J64: =CA64 | CA64: =IF(AND($D64<>0,I64=""),"* No olvide ingresar la columna "&I$55&""&" (Digite CERO si no tiene). ",IF(I64>$D64,"* La variable "&I$55&""&" no puede superar el Total. ","")) | CK64: =IF(AND($D64<>0,I64=""),1,IF(I64>$D64,1,0)) -> 0
B65: Salud sexual y reproductiva | C65: Hombres | D65: =SUM(E65:H65) -> 0 | E65: =SUM(ENERO:DICIEMBRE!E65) -> 0 | F65: =SUM(ENERO:DICIEMBRE!F65) -> 0 | G65: =SUM(ENERO:DICIEMBRE!G65) -> 0 | H65: =SUM(ENERO:DICIEMBRE!H65) -> 0 | I65: =SUM(ENERO:DICIEMBRE!I65) -> 0 | J65: =CA65 | CA65: =IF(AND($D65<>0,I65=""),"* No olvide ingresar la columna "&I$55&""&" (Digite CERO si no tiene). ",IF(I65>$D65,"* La variable "&I$55&""&" no puede superar el Total. ","")) | CK65: =IF(AND($D65<>0,I65=""),1,IF(I65>$D65,1,0)) -> 0
C66: Mujeres | D66: =SUM(E66:H66) -> 0 | E66: =SUM(ENERO:DICIEMBRE!E66) -> 0 | F66: =SUM(ENERO:DICIEMBRE!F66) -> 0 | G66: =SUM(ENERO:DICIEMBRE!G66) -> 0 | H66: =SUM(ENERO:DICIEMBRE!H66) -> 0 | I66: =SUM(ENERO:DICIEMBRE!I66) -> 0 | CA66: =IF(AND($D66<>0,I66=""),"* No olvide ingresar la columna "&I$55&""&" (Digite CERO si no tiene). ",IF(I66>$D66,"* La variable "&I$55&""&" no puede superar el Total. ","")) | CK66: =IF(AND($D66<>0,I66=""),1,IF(I66>$D66,1,0)) -> 0
B67: Talleres de climaterio | D67: =SUM(E67:H67) -> 0 | E67: =SUM(ENERO:DICIEMBRE!E67) -> 0 | F67: =SUM(ENERO:DICIEMBRE!F67) -> 0 | G67: =SUM(ENERO:DICIEMBRE!G67) -> 0 | H67: =SUM(ENERO:DICIEMBRE!H67) -> 0 | I67: =SUM(ENERO:DICIEMBRE!I67) -> 0 | J67: =CA67 | CA67: =IF(AND($D67<>0,I67=""),"* No olvide ingresar la columna "&I$55&""&" (Digite CERO si no tiene). ",IF(I67>$D67,"* La variable "&I$55&""&" no puede superar el Total. ","")) | CK67: =IF(AND($D67<>0,I67=""),1,IF(I67>$D67,1,0)) -> 0
B68: Educación prenatal (Nutrición-lactancia-crianza-autocuidado-preparación parto y otros) | D68: =SUM(E68:H68) -> 194 | E68: =SUM(ENERO:DICIEMBRE!E68) -> 194 | F68: =SUM(ENERO:DICIEMBRE!F68) -> 0 | G68: =SUM(ENERO:DICIEMBRE!G68) -> 0 | H68: =SUM(ENERO:DICIEMBRE!H68) -> 0 | I68: =SUM(ENERO:DICIEMBRE!I68) -> 0 | J68: =CA68 | CA68: =IF(AND($D68<>0,I68=""),"* No olvide ingresar la columna "&I$55&""&" (Digite CERO si no tiene). ",IF(I68>$D68,"* La variable "&I$55&""&" no puede superar el Total. ","")) | CK68: =IF(AND($D68<>0,I68=""),1,IF(I68>$D68,1,0)) -> 0
B69: Visita guiada a la maternidad | C69: Primigesta | D69: =SUM(E69:H69) -> 82 | E69: =SUM(ENERO:DICIEMBRE!E69) -> 82 | F69: =SUM(ENERO:DICIEMBRE!F69) -> 0 | G69: =SUM(ENERO:DICIEMBRE!G69) -> 0 | H69: =SUM(ENERO:DICIEMBRE!H69) -> 0 | I69: =SUM(ENERO:DICIEMBRE!I69) -> 0 | J69: =CA69 | CA69: =IF(AND($D69<>0,I69=""),"* No olvide ingresar la columna "&I$55&""&" (Digite CERO si no tiene). ",IF(I69>$D69,"* La variable "&I$55&""&" no puede superar el Total. ","")) | CK69: =IF(AND($D69<>0,I69=""),1,IF(I69>$D69,1,0)) -> 0
C70: Multípara | D70: =SUM(E70:H70) -> 112 | E70: =SUM(ENERO:DICIEMBRE!E70) -> 112 | F70: =SUM(ENERO:DICIEMBRE!F70) -> 0 | G70: =SUM(ENERO:DICIEMBRE!G70) -> 0 | H70: =SUM(ENERO:DICIEMBRE!H70) -> 0 | I70: =SUM(ENERO:DICIEMBRE!I70) -> 0 | J70: =CA70 | CA70: =IF(AND($D70<>0,I70=""),"* No olvide ingresar la columna "&I$55&""&" (Digite CERO si no tiene). ",IF(I70>$D70,"* La variable "&I$55&""&" no puede superar el Total. ","")) | CK70: =IF(AND($D70<>0,I70=""),1,IF(I70>$D70,1,0)) -> 0
B71: Promoción de salud mental | D71: =SUM(E71:H71) -> 0 | E71: =SUM(ENERO:DICIEMBRE!E71) -> 0 | F71: =SUM(ENERO:DICIEMBRE!F71) -> 0 | G71: =SUM(ENERO:DICIEMBRE!G71) -> 0 | H71: =SUM(ENERO:DICIEMBRE!H71) -> 0 | I71: =SUM(ENERO:DICIEMBRE!I71) -> 0 | J71: =CA71 | CA71: =IF(AND($D71<>0,I71=""),"* No olvide ingresar la columna "&I$55&""&" (Digite CERO si no tiene). ",IF(I71>$D71,"* La variable "&I$55&""&" no puede superar el Total. ","")) | CK71: =IF(AND($D71<>0,I71=""),1,IF(I71>$D71,1,0)) -> 0
B72: Promoción del desarrollo infantil temprano | C72: Del lenguaje | D72: =SUM(E72:H72) -> 0 | E72: =SUM(ENERO:DICIEMBRE!E72) -> 0 | F72: =SUM(ENERO:DICIEMBRE!F72) -> 0 | G72: =SUM(ENERO:DICIEMBRE!G72) -> 0 | H72: =SUM(ENERO:DICIEMBRE!H72) -> 0 | I72: =SUM(ENERO:DICIEMBRE!I72) -> 0 | J72: =CA72 | CA72: =IF(AND($D72<>0,I72=""),"* No olvide ingresar la columna "&I$55&""&" (Digite CERO si no tiene). ",IF(I72>$D72,"* La variable "&I$55&""&" no puede superar el Total. ","")) | CK72: =IF(AND($D72<>0,I72=""),1,IF(I72>$D72,1,0)) -> 0
C73: Motor | D73: =SUM(E73:H73) -> 0 | E73: =SUM(ENERO:DICIEMBRE!E73) -> 0 | F73: =SUM(ENERO:DICIEMBRE!F73) -> 0 | G73: =SUM(ENERO:DICIEMBRE!G73) -> 0 | H73: =SUM(ENERO:DICIEMBRE!H73) -> 0 | I73: =SUM(ENERO:DICIEMBRE!I73) -> 0 | J73: =CA73 | CA73: =IF(AND($D73<>0,I73=""),"* No olvide ingresar la columna "&I$55&""&" (Digite CERO si no tiene). ",IF(I73>$D73,"* La variable "&I$55&""&" no puede superar el Total. ","")) | CK73: =IF(AND($D73<>0,I73=""),1,IF(I73>$D73,1,0)) -> 0
C74: Otros | D74: =SUM(E74:H74) -> 0 | E74: =SUM(ENERO:DICIEMBRE!E74) -> 0 | F74: =SUM(ENERO:DICIEMBRE!F74) -> 0 | G74: =SUM(ENERO:DICIEMBRE!G74) -> 0 | H74: =SUM(ENERO:DICIEMBRE!H74) -> 0 | I74: =SUM(ENERO:DICIEMBRE!I74) -> 0 | J74: =CA74 | CA74: =IF(AND($D74<>0,I74=""),"* No olvide ingresar la columna "&I$55&""&" (Digite CERO si no tiene). ",IF(I74>$D74,"* La variable "&I$55&""&" no puede superar el Total. ","")) | CK74: =IF(AND($D74<>0,I74=""),1,IF(I74>$D74,1,0)) -> 0
B75: Habilidades parentales | C75: Nadie es perfecto | D75: =SUM(E75:H75) -> 0 | E75: =SUM(ENERO:DICIEMBRE!E75) -> 0 | F75: =SUM(ENERO:DICIEMBRE!F75) -> 0 | G75: =SUM(ENERO:DICIEMBRE!G75) -> 0 | H75: =SUM(ENERO:DICIEMBRE!H75) -> 0 | I75: =SUM(ENERO:DICIEMBRE!I75) -> 0 | J75: =CA75 | CA75: =IF(AND($D75<>0,I75=""),"* No olvide ingresar la columna "&I$55&""&" (Digite CERO si no tiene). ",IF(I75>$D75,"* La variable "&I$55&""&" no puede superar el Total. ","")) | CK75: =IF(AND($D75<>0,I75=""),1,IF(I75>$D75,1,0)) -> 0
C76: Familias fuertes | D76: =SUM(E76:H76) -> 0 | E76: =SUM(ENERO:DICIEMBRE!E76) -> 0 | F76: =SUM(ENERO:DICIEMBRE!F76) -> 0 | G76: =SUM(ENERO:DICIEMBRE!G76) -> 0 | H76: =SUM(ENERO:DICIEMBRE!H76) -> 0 | I76: =SUM(ENERO:DICIEMBRE!I76) -> 0 | J76: =CA76 | CA76: =IF(AND($D76<>0,I76=""),"* No olvide ingresar la columna "&I$55&""&" (Digite CERO si no tiene). ",IF(I76>$D76,"* La variable "&I$55&""&" no puede superar el Total. ","")) | CK76: =IF(AND($D76<>0,I76=""),1,IF(I76>$D76,1,0)) -> 0
C77: Otros | D77: =SUM(E77:H77) -> 0 | E77: =SUM(ENERO:DICIEMBRE!E77) -> 0 | F77: =SUM(ENERO:DICIEMBRE!F77) -> 0 | G77: =SUM(ENERO:DICIEMBRE!G77) -> 0 | H77: =SUM(ENERO:DICIEMBRE!H77) -> 0 | I77: =SUM(ENERO:DICIEMBRE!I77) -> 0 | J77: =CA77 | CA77: =IF(AND($D77<>0,I77=""),"* No olvide ingresar la columna "&I$55&""&" (Digite CERO si no tiene). ",IF(I77>$D77,"* La variable "&I$55&""&" no puede superar el Total. ","")) | CK77: =IF(AND($D77<>0,I77=""),1,IF(I77>$D77,1,0)) -> 0
B78: Apoyo madre a madre | D78: =SUM(E78:H78) -> 0 | E78: =SUM(ENERO:DICIEMBRE!E78) -> 0 | F78: =SUM(ENERO:DICIEMBRE!F78) -> 0 | G78: =SUM(ENERO:DICIEMBRE!G78) -> 0 | H78: =SUM(ENERO:DICIEMBRE!H78) -> 0 | I78: =SUM(ENERO:DICIEMBRE!I78) -> 0 | J78: =CA78 | CA78: =IF(AND($D78<>0,I78=""),"* No olvide ingresar la columna "&I$55&""&" (Digite CERO si no tiene). ",IF(I78>$D78,"* La variable "&I$55&""&" no puede superar el Total. ","")) | CK78: =IF(AND($D78<>0,I78=""),1,IF(I78>$D78,1,0)) -> 0
B79: Prevención de salud mental | C79: Prevención suicidio | D79: =SUM(E79:H79) -> 0 | E79: =SUM(ENERO:DICIEMBRE!E79) -> 0 | F79: =SUM(ENERO:DICIEMBRE!F79) -> 0 | G79: =SUM(ENERO:DICIEMBRE!G79) -> 0 | H79: =SUM(ENERO:DICIEMBRE!H79) -> 0 | I79: =SUM(ENERO:DICIEMBRE!I79) -> 0 | J79: =CA79 | CA79: =IF(AND($D79<>0,I79=""),"* No olvide ingresar la columna "&I$55&""&" (Digite CERO si no tiene). ",IF(I79>$D79,"* La variable "&I$55&""&" no puede superar el Total. ","")) | CK79: =IF(AND($D79<>0,I79=""),1,IF(I79>$D79,1,0)) -> 0
C80: Prevención trastorno mental | D80: =SUM(E80:H80) -> 0 | E80: =SUM(ENERO:DICIEMBRE!E80) -> 0 | F80: =SUM(ENERO:DICIEMBRE!F80) -> 0 | G80: =SUM(ENERO:DICIEMBRE!G80) -> 0 | H80: =SUM(ENERO:DICIEMBRE!H80) -> 0 | I80: =SUM(ENERO:DICIEMBRE!I80) -> 0 | J80: =CA80 | CA80: =IF(AND($D80<>0,I80=""),"* No olvide ingresar la columna "&I$55&""&" (Digite CERO si no tiene). ",IF(I80>$D80,"* La variable "&I$55&""&" no puede superar el Total. ","")) | CK80: =IF(AND($D80<>0,I80=""),1,IF(I80>$D80,1,0)) -> 0
B81: Prevención alcohol y drogas | D81: =SUM(E81:H81) -> 0 | E81: =SUM(ENERO:DICIEMBRE!E81) -> 0 | F81: =SUM(ENERO:DICIEMBRE!F81) -> 0 | G81: =SUM(ENERO:DICIEMBRE!G81) -> 0 | H81: =SUM(ENERO:DICIEMBRE!H81) -> 0 | I81: =SUM(ENERO:DICIEMBRE!I81) -> 0 | J81: =CA81 | CA81: =IF(AND($D81<>0,I81=""),"* No olvide ingresar la columna "&I$55&""&" (Digite CERO si no tiene). ",IF(I81>$D81,"* La variable "&I$55&""&" no puede superar el Total. ","")) | CK81: =IF(AND($D81<>0,I81=""),1,IF(I81>$D81,1,0)) -> 0
B82: Antitabáquica (excluye REM 23) | D82: =SUM(E82:H82) -> 0 | E82: =SUM(ENERO:DICIEMBRE!E82) -> 0 | F82: =SUM(ENERO:DICIEMBRE!F82) -> 0 | G82: =SUM(ENERO:DICIEMBRE!G82) -> 0 | H82: =SUM(ENERO:DICIEMBRE!H82) -> 0 | I82: =SUM(ENERO:DICIEMBRE!I82) -> 0 | J82: =CA82 | CA82: =IF(AND($D82<>0,I82=""),"* No olvide ingresar la columna "&I$55&""&" (Digite CERO si no tiene). ",IF(I82>$D82,"* La variable "&I$55&""&" no puede superar el Total. ","")) | CK82: =IF(AND($D82<>0,I82=""),1,IF(I82>$D82,1,0)) -> 0
B83: Prevención de la transmisión vertical de VIH-Sífilis | D83: =SUM(E83:H83) -> 0 | E83: =SUM(ENERO:DICIEMBRE!E83) -> 0 | F83: =SUM(ENERO:DICIEMBRE!F83) -> 0 | G83: =SUM(ENERO:DICIEMBRE!G83) -> 0 | H83: =SUM(ENERO:DICIEMBRE!H83) -> 0 | I83: =SUM(ENERO:DICIEMBRE!I83) -> 0 | J83: =CA83 | CA83: =IF(AND($D83<>0,I83=""),"* No olvide ingresar la columna "&I$55&""&" (Digite CERO si no tiene). ",IF(I83>$D83,"* La variable "&I$55&""&" no puede superar el Total. ","")) | CK83: =IF(AND($D83<>0,I83=""),1,IF(I83>$D83,1,0)) -> 0
B84: Otras áreas temáticas | D84: =SUM(E84:H84) -> 0 | E84: =SUM(ENERO:DICIEMBRE!E84) -> 0 | F84: =SUM(ENERO:DICIEMBRE!F84) -> 0 | G84: =SUM(ENERO:DICIEMBRE!G84) -> 0 | H84: =SUM(ENERO:DICIEMBRE!H84) -> 0 | I84: =SUM(ENERO:DICIEMBRE!I84) -> 0 | J84: =CA84 | CA84: =IF(AND($D84<>0,I84=""),"* No olvide ingresar la columna "&I$55&""&" (Digite CERO si no tiene). ",IF(I84>$D84,"* La variable "&I$55&""&" no puede superar el Total. ","")) | CK84: =IF(AND($D84<>0,I84=""),1,IF(I84>$D84,1,0)) -> 0
B85: Educación especial en adulto mayor | C85: Estimulación de memoria | D85: =SUM(E85:H85) -> 0 | E85: =SUM(ENERO:DICIEMBRE!E85) -> 0 | F85: =SUM(ENERO:DICIEMBRE!F85) -> 0 | G85: =SUM(ENERO:DICIEMBRE!G85) -> 0 | H85: =SUM(ENERO:DICIEMBRE!H85) -> 0 | I85: =SUM(ENERO:DICIEMBRE!I85) -> 0 | J85: =CA85 | CA85: =IF(AND($D85<>0,I85=""),"* No olvide ingresar la columna "&I$55&""&" (Digite CERO si no tiene). ",IF(I85>$D85,"* La variable "&I$55&""&" no puede superar el Total. ","")) | CK85: =IF(AND($D85<>0,I85=""),1,IF(I85>$D85,1,0)) -> 0
C86: Prevención de caídas | D86: =SUM(E86:H86) -> 0 | E86: =SUM(ENERO:DICIEMBRE!E86) -> 0 | F86: =SUM(ENERO:DICIEMBRE!F86) -> 0 | G86: =SUM(ENERO:DICIEMBRE!G86) -> 0 | H86: =SUM(ENERO:DICIEMBRE!H86) -> 0 | I86: =SUM(ENERO:DICIEMBRE!I86) -> 0 | J86: =CA86 | CA86: =IF(AND($D86<>0,I86=""),"* No olvide ingresar la columna "&I$55&""&" (Digite CERO si no tiene). ",IF(I86>$D86,"* La variable "&I$55&""&" no puede superar el Total. ","")) | CK86: =IF(AND($D86<>0,I86=""),1,IF(I86>$D86,1,0)) -> 0
C87: Estimulación de actividad física | D87: =SUM(E87:H87) -> 0 | E87: =SUM(ENERO:DICIEMBRE!E87) -> 0 | F87: =SUM(ENERO:DICIEMBRE!F87) -> 0 | G87: =SUM(ENERO:DICIEMBRE!G87) -> 0 | H87: =SUM(ENERO:DICIEMBRE!H87) -> 0 | I87: =SUM(ENERO:DICIEMBRE!I87) -> 0 | J87: =CA87 | CA87: =IF(AND($D87<>0,I87=""),"* No olvide ingresar la columna "&I$55&""&" (Digite CERO si no tiene). ",IF(I87>$D87,"* La variable "&I$55&""&" no puede superar el Total. ","")) | CK87: =IF(AND($D87<>0,I87=""),1,IF(I87>$D87,1,0)) -> 0
C88: Auto cuidado | D88: =SUM(E88:H88) -> 0 | E88: =SUM(ENERO:DICIEMBRE!E88) -> 0 | F88: =SUM(ENERO:DICIEMBRE!F88) -> 0 | G88: =SUM(ENERO:DICIEMBRE!G88) -> 0 | H88: =SUM(ENERO:DICIEMBRE!H88) -> 0 | I88: =SUM(ENERO:DICIEMBRE!I88) -> 0 | J88: =CA88 | CA88: =IF(AND($D88<>0,I88=""),"* No olvide ingresar la columna "&I$55&""&" (Digite CERO si no tiene). ",IF(I88>$D88,"* La variable "&I$55&""&" no puede superar el Total. ","")) | CK88: =IF(AND($D88<>0,I88=""),1,IF(I88>$D88,1,0)) -> 0
C89: Otras temáticas | D89: =SUM(E89:H89) -> 0 | E89: =SUM(ENERO:DICIEMBRE!E89) -> 0 | F89: =SUM(ENERO:DICIEMBRE!F89) -> 0 | G89: =SUM(ENERO:DICIEMBRE!G89) -> 0 | H89: =SUM(ENERO:DICIEMBRE!H89) -> 0 | I89: =SUM(ENERO:DICIEMBRE!I89) -> 0 | J89: =CA89 | CA89: =IF(AND($D89<>0,I89=""),"* No olvide ingresar la columna "&I$55&""&" (Digite CERO si no tiene). ",IF(I89>$D89,"* La variable "&I$55&""&" no puede superar el Total. ","")) | CK89: =IF(AND($D89<>0,I89=""),1,IF(I89>$D89,1,0)) -> 0
B90: Uso racional de medicamentos | D90: =SUM(E90:H90) -> 0 | E90: =SUM(ENERO:DICIEMBRE!E90) -> 0 | F90: =SUM(ENERO:DICIEMBRE!F90) -> 0 | G90: =SUM(ENERO:DICIEMBRE!G90) -> 0 | H90: =SUM(ENERO:DICIEMBRE!H90) -> 0 | I90: =SUM(ENERO:DICIEMBRE!I90) -> 0 | J90: =CA90 | CA90: =IF(AND($D90<>0,I90=""),"* No olvide ingresar la columna "&I$55&""&" (Digite CERO si no tiene). ",IF(I90>$D90,"* La variable "&I$55&""&" no puede superar el Total. ","")) | CK90: =IF(AND($D90<>0,I90=""),1,IF(I90>$D90,1,0)) -> 0
B91: Resistencia antimicrobianos | D91: =SUM(E91:H91) -> 0 | E91: =SUM(ENERO:DICIEMBRE!E91) -> 0 | F91: =SUM(ENERO:DICIEMBRE!F91) -> 0 | G91: =SUM(ENERO:DICIEMBRE!G91) -> 0 | H91: =SUM(ENERO:DICIEMBRE!H91) -> 0 | I91: =SUM(ENERO:DICIEMBRE!I91) -> 0 | J91: =CA91 | CA91: =IF(AND($D91<>0,I91=""),"* No olvide ingresar la columna "&I$55&""&" (Digite CERO si no tiene). ",IF(I91>$D91,"* La variable "&I$55&""&" no puede superar el Total. ","")) | CK91: =IF(AND($D91<>0,I91=""),1,IF(I91>$D91,1,0)) -> 0
B92: Capacitación a Cuidadores PADDS | C92: Autocuidado del Cuidador/a | D92: =SUM(E92:H92) -> 0 | E92: =SUM(ENERO:DICIEMBRE!E92) -> 0 | F92: =SUM(ENERO:DICIEMBRE!F92) -> 0 | G92: =SUM(ENERO:DICIEMBRE!G92) -> 0 | H92: =SUM(ENERO:DICIEMBRE!H92) -> 0 | I92: =SUM(ENERO:DICIEMBRE!I92) -> 0 | J92: =CA92 | CA92: =IF(AND($D92<>0,I92=""),"* No olvide ingresar la columna "&I$55&""&" (Digite CERO si no tiene). ",IF(I92>$D92,"* La variable "&I$55&""&" no puede superar el Total. ","")) | CK92: =IF(AND($D92<>0,I92=""),1,IF(I92>$D92,1,0)) -> 0
C93: Cuidados de la persona con Dependencia | D93: =SUM(E93:H93) -> 0 | E93: =SUM(ENERO:DICIEMBRE!E93) -> 0 | F93: =SUM(ENERO:DICIEMBRE!F93) -> 0 | G93: =SUM(ENERO:DICIEMBRE!G93) -> 0 | H93: =SUM(ENERO:DICIEMBRE!H93) -> 0 | I93: =SUM(ENERO:DICIEMBRE!I93) -> 0 | J93: =CA93 | CA93: =IF(AND($D93<>0,I93=""),"* No olvide ingresar la columna "&I$55&""&" (Digite CERO si no tiene). ",IF(I93>$D93,"* La variable "&I$55&""&" no puede superar el Total. ","")) | CK93: =IF(AND($D93<>0,I93=""),1,IF(I93>$D93,1,0)) -> 0
C94: ⁠Redes y sistemas de apoyo a la diada del cuidado | D94: =SUM(E94:H94) -> 0 | E94: =SUM(ENERO:DICIEMBRE!E94) -> 0 | F94: =SUM(ENERO:DICIEMBRE!F94) -> 0 | G94: =SUM(ENERO:DICIEMBRE!G94) -> 0 | H94: =SUM(ENERO:DICIEMBRE!H94) -> 0 | I94: =SUM(ENERO:DICIEMBRE!I94) -> 0 | J94: =CA94 | CA94: =IF(AND($D94<>0,I94=""),"* No olvide ingresar la columna "&I$55&""&" (Digite CERO si no tiene). ",IF(I94>$D94,"* La variable "&I$55&""&" no puede superar el Total. ","")) | CK94: =IF(AND($D94<>0,I94=""),1,IF(I94>$D94,1,0)) -> 0
C95: Cuidados de fin de vida y duelo | D95: =SUM(E95:H95) -> 0 | E95: =SUM(ENERO:DICIEMBRE!E95) -> 0 | F95: =SUM(ENERO:DICIEMBRE!F95) -> 0 | G95: =SUM(ENERO:DICIEMBRE!G95) -> 0 | H95: =SUM(ENERO:DICIEMBRE!H95) -> 0 | I95: =SUM(ENERO:DICIEMBRE!I95) -> 0 | J95: =CA95 | CA95: =IF(AND($D95<>0,I95=""),"* No olvide ingresar la columna "&I$55&""&" (Digite CERO si no tiene). ",IF(I95>$D95,"* La variable "&I$55&""&" no puede superar el Total. ","")) | CK95: =IF(AND($D95<>0,I95=""),1,IF(I95>$D95,1,0)) -> 0
B96: Educación en seguridad vial | C96: Hombres | D96: =SUM(E96:H96) -> 0 | E96: =SUM(ENERO:DICIEMBRE!E96) -> 0 | F96: =SUM(ENERO:DICIEMBRE!F96) -> 0 | G96: =SUM(ENERO:DICIEMBRE!G96) -> 0 | H96: =SUM(ENERO:DICIEMBRE!H96) -> 0 | I96: =SUM(ENERO:DICIEMBRE!I96) -> 0 | J96: =CA96 | CA96: =IF(AND($D96<>0,I96=""),"* No olvide ingresar la columna "&I$55&""&" (Digite CERO si no tiene). ",IF(I96>$D96,"* La variable "&I$55&""&" no puede superar el Total. ","")) | CK96: =IF(AND($D96<>0,I96=""),1,IF(I96>$D96,1,0)) -> 0
C97: Mujeres | D97: =SUM(E97:H97) -> 0 | E97: =SUM(ENERO:DICIEMBRE!E97) -> 0 | F97: =SUM(ENERO:DICIEMBRE!F97) -> 0 | G97: =SUM(ENERO:DICIEMBRE!G97) -> 0 | H97: =SUM(ENERO:DICIEMBRE!H97) -> 0 | I97: =SUM(ENERO:DICIEMBRE!I97) -> 0 | CA97: =IF(AND($D97<>0,I97=""),"* No olvide ingresar la columna "&I$55&""&" (Digite CERO si no tiene). ",IF(I97>$D97,"* La variable "&I$55&""&" no puede superar el Total. ","")) | CK97: =IF(AND($D97<>0,I97=""),1,IF(I97>$D97,1,0)) -> 0
B98: TOTAL | D98: =SUM(E98:H98) -> 388 | E98: =SUM(E56:E97) -> 388 | F98: =SUM(F56:F97) -> 0 | G98: =SUM(G56:G97) -> 0 | H98: =SUM(H56:H97) -> 0 | I98: =SUM(I56:I97) -> 0
A99: SECCIÓN C: EDUCACIÓN GRUPAL A GESTANTES DE ALTO RIESGO OBSTÉTRICO (Nivel Secundario)
A100: TEMAS | D100: Total de sesiones
A101: Autocuidado según patología
...

Sheet ENERO
A1: SERVICIO DE SALUD
A2: =CONCATENATE("COMUNA: ",[2]NOMBRE!B2, " (",[2]NOMBRE!C2,[2]NOMBRE!D2,[2]NOMBRE!E2,[2]NOMBRE!F2,[2]NOMBRE!G2,")") -> COMUNA: LINARES (07401)
A3: =CONCATENATE("ESTABLECIMIENTO/ESTRATEGIA: ", [2]NOMBRE!B3, " (",[2]NOMBRE!C3,[2]NOMBRE!D3,[2]NOMBRE!E3,[2]NOMBRE!F3,[2]NOMBRE!G3,[2]NOMBRE!H3,")") -> ESTABLECIMIENTO/ESTRATEGIA: HOSPITAL PRESIDENTE CARLOS IBAÑEZ DEL CAMPO (116108)
A4: =CONCATENATE("MES: ",[2]NOMBRE!B6, " (",[2]NOMBRE!C6,[2]NOMBRE!D6,")") -> MES: ENERO (01)
A5: =CONCATENATE("AÑO: ",[2]NOMBRE!B7) -> AÑO: 2025
A6: REM-27. EDUCACIÓN PARA LA SALUD
A8: SECCIÓN A: PERSONAS QUE INGRESAN A EDUCACIÓN GRUPAL SEGÚN ÁREAS TEMÁTICAS Y EDAD
A9: ÁREAS TEMÁTICAS DE PREVENCIÓN | D9: TOTAL | E9: Madre, Padre o Cuidador de: | J9: RANGO ETARIO | Y9: Gestantes | AB9: Familias en Riesgo | AC9: Pueblos Originarios | AD9: Migrantes | AE9: Espacios Amigables/ Adolescentes | AF9: TRANS | AH9: Niños, niñas, adolescentes y jóvenes SENAME
E10: Menos de 1 año | F10: Niños 12 - 23 meses | G10: Niños de 2 - 5 años | H10: Niños de 6 - 9 años | I10: Niños de 10 - 14 años | J10: 10 - 14 años | K10: 15 - 19 años | L10: 20 - 24 años | M10: 25 - 29 años | N10: 30 - 34 años | O10: 35 - 39 años | P10: 40 - 44 años | Q10: 45 - 49 años | R10: 50 - 54 años | S10: 55 - 59 años | T10: 60 - 64 años | U10: 65 - 69 años | V10: 70 - 74 años | W10: 75 - 79 años | X10: 80 y más años | Y10: APS | Z10: Nivel Secundario | AA10: Nivel Terciario | AF10: Masculino | AG10: Femenino
A11: Educación en grupo | B11: Estimulación desarrollo psicomotor | D11: =SUM(E11:G11) -> 0 | AI11: =CA11&CB11&CC11&CD11&CE11&CF11 | CB11: =IF(AND($D11<>0,AC11=""),"* No olvide ingresar la variable "&AC$9&""&" (Digite CERO si no tiene). ",IF(AC11>$D11,"* La variable Pueblos Originarios no puede superar el Total. ","")) | CC11: =IF(AND($D11<>0,AD11=""),"* No olvide ingresar la variable "&AD$9&""&" (Digite CERO si no tiene). ",IF(AD11>$D11,"* La variable Migrantes no puede superar el Total. ","")) | CD11: =IF(AND($D11<>0,AE11=""),"* No olvide ingresar la variable "&AE$9&""&" (Digite CERO si no tiene). ",IF(AE11>$D11,"* La variable Espacios Amigables/ Adolescentes no puede superar el Total. ","")) | CE11: =IF(AND(D11>0,OR(AF11="",AG11="",))," * No olvide digitar la variable TRANS Masculino/Femenino (Digite CERO si no tiene). ",IF(AF11+AG11>$D11,"* La suma de TRANS Masculino + Femenino no puede superar el Total. ","")) | CF11: =IF(AND(D11>0,AH11=""),"* No olvide digitar la variable Niños, niñas, adolescentes y jóvenes SENAME (Digite CERO si no tiene). ",IF(AH11>$D11,"* La suma de Niños, niñas, adolescentes y jóvenes SENAME no puede superar el Total. ","")) | CL11: =IF(AND($D11<>0,AC11=""),1,IF(AC11>$D11,1,0)) -> 0 | CM11: =IF(AND($D11<>0,AD11=""),1,IF(AD11>$D11,1,0)) -> 0 | CN11: =IF(AND($D11<>0,AE11=""),1,IF(AE11>$D11,1,0)) -> 0 | CO11: =IF(AND(D11>0,OR(AF11="",AG11="",)),1,IF(AF11+AG11>$D11,1,0)) -> 0 | CP11: =IF(AND(D11>0,AH11=""),1,IF(AH11>$D11,1,0)) -> 0
B12: Nutrición | C12: Riesgo de malnutrición por exceso | D12: =SUM(E12:X12) -> 0 | AI12: =CA12&CB12&CC12&CD12&CE12&CF12 | CA12: =IF(AND($D12<>0,AB12=""),"* No olvide ingresar la columna "&AB$9&""&" (Digite CERO si no tiene). ",IF(AB12>$D12,"* El Número de Familias en Riesgo no puede superar el Total. ","")) | CB12: =IF(AND($D12<>0,AC12=""),"* No olvide ingresar la variable "&AC$9&""&" (Digite CERO si no tiene). ",IF(AC12>$D12,"* La variable Pueblos Originarios no puede superar el Total. ","")) | CC12: =IF(AND($D12<>0,AD12=""),"* No olvide ingresar la variable "&AD$9&""&" (Digite CERO si no tiene). ",IF(AD12>$D12,"* La variable Migrantes no puede superar el Total. ","")) | CD12: =IF(AND($D12<>0,AE12=""),"* No olvide ingresar la variable "&AE$9&""&" (Digite CERO si no tiene). ",IF(AE12>$D12,"* La variable Espacios Amigables/ Adolescentes no puede superar el Total. ","")) | CE12: =IF(AND(D12>0,OR(AF12="",AG12="",))," * No olvide digitar la variable TRANS Masculino/Femenino (Digite CERO si no tiene). ",IF(AF12+AG12>$D12,"* La suma de TRANS Masculino + Femenino no puede superar el Total. ","")) | CF12: =IF(AND(D12>0,AH12=""),"* No olvide digitar la variable Niños, niñas, adolescentes y jóvenes SENAME (Digite CERO si no tiene). ",IF(AH12>$D12,"* La suma de Niños, niñas, adolescentes y jóvenes SENAME no puede superar el Total. ","")) | CK12: =IF(AND($D12<>0,AB12=""),1,IF(AB12>$D12,1,0)) -> 0 | CL12: =IF(AND($D12<>0,AC12=""),1,IF(AC12>$D12,1,0)) -> 0 | CM12: =IF(AND($D12<>0,AD12=""),1,IF(AD12>$D12,1,0)) -> 0 | CN12: =IF(AND($D12<>0,AE12=""),1,IF(AE12>$D12,1,0)) -> 0 | CO12: =IF(AND(D12>0,OR(AF12="",AG12="",)),1,IF(AF12+AG12>$D12,1,0)) -> 0 | CP12: =IF(AND(D12>0,AH12=""),1,IF(AH12>$D12,1,0)) -> 0
C13: Malnutrición por exceso | D13: =SUM(E13:X13) -> 0 | AI13: =CA13&CB13&CC13&CD13&CE13&CF13 | CA13: =IF(AND($D13<>0,AB13=""),"* No olvide ingresar la columna "&AB$9&""&" (Digite CERO si no tiene). ",IF(AB13>$D13,"* El Número de Familias en Riesgo no puede superar el Total. ","")) | CB13: =IF(AND($D13<>0,AC13=""),"* No olvide ingresar la variable "&AC$9&""&" (Digite CERO si no tiene). ",IF(AC13>$D13,"* La variable Pueblos Originarios no puede superar el Total. ","")) | CC13: =IF(AND($D13<>0,AD13=""),"* No olvide ingresar la variable "&AD$9&""&" (Digite CERO si no tiene). ",IF(AD13>$D13,"* La variable Migrantes no puede superar el Total. ","")) | CD13: =IF(AND($D13<>0,AE13=""),"* No olvide ingresar la variable "&AE$9&""&" (Digite CERO si no tiene). ",IF(AE13>$D13,"* La variable Espacios Amigables/ Adolescentes no puede superar el Total. ","")) | CE13: =IF(AND(D13>0,OR(AF13="",AG13="",))," * No olvide digitar la variable TRANS Masculino/Femenino (Digite CERO si no tiene). ",IF(AF13+AG13>$D13,"* La suma de TRANS Masculino + Femenino no puede superar el Total. ","")) | CF13: =IF(AND(D13>0,AH13=""),"* No olvide digitar la variable Niños, niñas, adolescentes y jóvenes SENAME (Digite CERO si no tiene). ",IF(AH13>$D13,"* La suma de Niños, niñas, adolescentes y jóvenes SENAME no puede superar el Total. ","")) | CK13: =IF(AND($D13<>0,AB13=""),1,IF(AB13>$D13,1,0)) -> 0 | CL13: =IF(AND($D13<>0,AC13=""),1,IF(AC13>$D13,1,0)) -> 0 | CM13: =IF(AND($D13<>0,AD13=""),1,IF(AD13>$D13,1,0)) -> 0 | CN13: =IF(AND($D13<>0,AE13=""),1,IF(AE13>$D13,1,0)) -> 0 | CO13: =IF(AND(D13>0,OR(AF13="",AG13="",)),1,IF(AF13+AG13>$D13,1,0)) -> 0 | CP13: =IF(AND(D13>0,AH13=""),1,IF(AH13>$D13,1,0)) -> 0
C14: Malnutrición de déficit | D14: =SUM(E14:X14) -> 0 | AI14: =CA14&CB14&CC14&CD14&CE14&CF14 | CA14: =IF(AND($D14<>0,AB14=""),"* No olvide ingresar la columna "&AB$9&""&" (Digite CERO si no tiene). ",IF(AB14>$D14,"* El Número de Familias en Riesgo no puede superar el Total. ","")) | CB14: =IF(AND($D14<>0,AC14=""),"* No olvide ingresar la variable "&AC$9&""&" (Digite CERO si no tiene). ",IF(AC14>$D14,"* La variable Pueblos Originarios no puede superar el Total. ","")) | CC14: =IF(AND($D14<>0,AD14=""),"* No olvide ingresar la variable "&AD$9&""&" (Digite CERO si no tiene). ",IF(AD14>$D14,"* La variable Migrantes no puede superar el Total. ","")) | CD14: =IF(AND($D14<>0,AE14=""),"* No olvide ingresar la variable "&AE$9&""&" (Digite CERO si no tiene). ",IF(AE14>$D14,"* La variable Espacios Amigables/ Adolescentes no puede superar el Total. ","")) | CE14: =IF(AND(D14>0,OR(AF14="",AG14="",))," * No olvide digitar la variable TRANS Masculino/Femenino (Digite CERO si no tiene). ",IF(AF14+AG14>$D14,"* La suma de TRANS Masculino + Femenino no puede superar el Total. ","")) | CF14: =IF(AND(D14>0,AH14=""),"* No olvide digitar la variable Niños, niñas, adolescentes y jóvenes SENAME (Digite CERO si no tiene). ",IF(AH14>$D14,"* La suma de Niños, niñas, adolescentes y jóvenes SENAME no puede superar el Total. ","")) | CK14: =IF(AND($D14<>0,AB14=""),1,IF(AB14>$D14,1,0)) -> 0 | CL14: =IF(AND($D14<>0,AC14=""),1,IF(AC14>$D14,1,0)) -> 0 | CM14: =IF(AND($D14<>0,AD14=""),1,IF(AD14>$D14,1,0)) -> 0 | CN14: =IF(AND($D14<>0,AE14=""),1,IF(AE14>$D14,1,0)) -> 0 | CO14: =IF(AND(D14>0,OR(AF14="",AG14="",)),1,IF(AF14+AG14>$D14,1,0)) -> 0 | CP14: =IF(AND(D14>0,AH14=""),1,IF(AH14>$D14,1,0)) -> 0
C15: Sin riesgo de malnutrición | D15: =SUM(E15:X15) -> 0 | AI15: =CA15&CB15&CC15&CD15&CE15&CF15 | CA15: =IF(AND($D15<>0,AB15=""),"* No olvide ingresar la columna "&AB$9&""&" (Digite CERO si no tiene). ",IF(AB15>$D15,"* El Número de Familias en Riesgo no puede superar el Total. ","")) | CB15: =IF(AND($D15<>0,AC15=""),"* No olvide ingresar la variable "&AC$9&""&" (Digite CERO si no tiene). ",IF(AC15>$D15,"* La variable Pueblos Originarios no puede superar el Total. ","")) | CC15: =IF(AND($D15<>0,AD15=""),"* No olvide ingresar la variable "&AD$9&""&" (Digite CERO si no tiene). ",IF(AD15>$D15,"* La variable Migrantes no puede superar el Total. ","")) | CD15: =IF(AND($D15<>0,AE15=""),"* No olvide ingresar la variable "&AE$9&""&" (Digite CERO si no tiene). ",IF(AE15>$D15,"* La variable Espacios Amigables/ Adolescentes no puede superar el Total. ","")) | CE15: =IF(AND(D15>0,OR(AF15="",AG15="",))," * No olvide digitar la variable TRANS Masculino/Femenino (Digite CERO si no tiene). ",IF(AF15+AG15>$D15,"* La suma de TRANS Masculino + Femenino no puede superar el Total. ","")) | CF15: =IF(AND(D15>0,AH15=""),"* No olvide digitar la variable Niños, niñas, adolescentes y jóvenes SENAME (Digite CERO si no tiene). ",IF(AH15>$D15,"* La suma de Niños, niñas, adolescentes y jóvenes SENAME no puede superar el Total. ","")) | CK15: =IF(AND($D15<>0,AB15=""),1,IF(AB15>$D15,1,0)) -> 0 | CL15: =IF(AND($D15<>0,AC15=""),1,IF(AC15>$D15,1,0)) -> 0 | CM15: =IF(AND($D15<>0,AD15=""),1,IF(AD15>$D15,1,0)) -> 0 | CN15: =IF(AND($D15<>0,AE15=""),1,IF(AE15>$D15,1,0)) -> 0 | CO15: =IF(AND(D15>0,OR(AF15="",AG15="",)),1,IF(AF15+AG15>$D15,1,0)) -> 0 | CP15: =IF(AND(D15>0,AH15=""),1,IF(AH15>$D15,1,0)) -> 0
B16: Prevención de IRA - ERA | D16: =SUM(E16:X16) -> 0 | AI16: =CA16&CB16&CC16&CD16&CE16&CF16 | CA16: =IF(AND($D16<>0,AB16=""),"* No olvide ingresar la columna "&AB$9&""&" (Digite CERO si no tiene). ",IF(AB16>$D16,"* El Número de Familias en Riesgo no puede superar el Total. ","")) | CB16: =IF(AND($D16<>0,AC16=""),"* No olvide ingresar la variable "&AC$9&""&" (Digite CERO si no tiene). ",IF(AC16>$D16,"* La variable Pueblos Originarios no puede superar el Total. ","")) | CC16: =IF(AND($D16<>0,AD16=""),"* No olvide ingresar la variable "&AD$9&""&" (Digite CERO si no tiene). ",IF(AD16>$D16,"* La variable Migrantes no puede superar el Total. ","")) | CD16: =IF(AND($D16<>0,AE16=""),"* No olvide ingresar la variable "&AE$9&""&" (Digite CERO si no tiene). ",IF(AE16>$D16,"* La variable Espacios Amigables/ Adolescentes no puede superar el Total. ","")) | CE16: =IF(AND(D16>0,OR(AF16="",AG16="",))," * No olvide digitar la variable TRANS Masculino/Femenino (Digite CERO si no tiene). ",IF(AF16+AG16>$D16,"* La suma de TRANS Masculino + Femenino no puede superar el Total. ","")) | CF16: =IF(AND(D16>0,AH16=""),"* No olvide digitar la variable Niños, niñas, adolescentes y jóvenes SENAME (Digite CERO si no tiene). ",IF(AH16>$D16,"* La suma de Niños, niñas, adolescentes y jóvenes SENAME no puede superar el Total. ","")) | CK16: =IF(AND($D16<>0,AB16=""),1,IF(AB16>$D16,1,0)) -> 0 | CL16: =IF(AND($D16<>0,AC16=""),1,IF(AC16>$D16,1,0)) -> 0 | CM16: =IF(AND($D16<>0,AD16=""),1,IF(AD16>$D16,1,0)) -> 0 | CN16: =IF(AND($D16<>0,AE16=""),1,IF(AE16>$D16,1,0)) -> 0 | CO16: =IF(AND(D16>0,OR(AF16="",AG16="",)),1,IF(AF16+AG16>$D16,1,0)) -> 0 | CP16: =IF(AND(D16>0,AH16=""),1,IF(AH16>$D16,1,0)) -> 0
B17: Prevención de accidentes | D17: =SUM(E17:X17) -> 0 | AI17: =CA17&CB17&CC17&CD17&CE17&CF17 | CA17: =IF(AND($D17<>0,AB17=""),"* No olvide ingresar la columna "&AB$9&""&" (Digite CERO si no tiene). ",IF(AB17>$D17,"* El Número de Familias en Riesgo no puede superar el Total. ","")) | CB17: =IF(AND($D17<>0,AC17=""),"* No olvide ingresar la variable "&AC$9&""&" (Digite CERO si no tiene). ",IF(AC17>$D17,"* La variable Pueblos Originarios no puede superar el Total. ","")) | CC17: =IF(AND($D17<>0,AD17=""),"* No olvide ingresar la variable "&AD$9&""&" (Digite CERO si no tiene). ",IF(AD17>$D17,"* La variable Migrantes no puede superar el Total. ","")) | CD17: =IF(AND($D17<>0,AE17=""),"* No olvide ingresar la variable "&AE$9&""&" (Digite CERO si no tiene). ",IF(AE17>$D17,"* La variable Espacios Amigables/ Adolescentes no puede superar el Total. ","")) | CE17: =IF(AND(D17>0,OR(AF17="",AG17="",))," * No olvide digitar la variable TRANS Masculino/Femenino (Digite CERO si no tiene). ",IF(AF17+AG17>$D17,"* La suma de TRANS Masculino + Femenino no puede superar el Total. ","")) | CF17: =IF(AND(D17>0,AH17=""),"* No olvide digitar la variable Niños, niñas, adolescentes y jóvenes SENAME (Digite CERO si no tiene). ",IF(AH17>$D17,"* La suma de Niños, niñas, adolescentes y jóvenes SENAME no puede superar el Total. ","")) | CK17: =IF(AND($D17<>0,AB17=""),1,IF(AB17>$D17,1,0)) -> 0 | CL17: =IF(AND($D17<>0,AC17=""),1,IF(AC17>$D17,1,0)) -> 0 | CM17: =IF(AND($D17<>0,AD17=""),1,IF(AD17>$D17,1,0)) -> 0 | CN17: =IF(AND($D17<>0,AE17=""),1,IF(AE17>$D17,1,0)) -> 0 | CO17: =IF(AND(D17>0,OR(AF17="",AG17="",)),1,IF(AF17+AG17>$D17,1,0)) -> 0 | CP17: =IF(AND(D17>0,AH17=""),1,IF(AH17>$D17,1,0)) -> 0
B18: Salud buco-dental | D18: =SUM(E18:X18) -> 0 | AI18: =CA18&CB18&CC18&CD18&CE18&CF18 | CA18: =IF(AND($D18<>0,AB18=""),"* No olvide ingresar la columna "&AB$9&""&" (Digite CERO si no tiene). ",IF(AB18>$D18,"* El Número de Familias en Riesgo no puede superar el Total. ","")) | CB18: =IF(AND($D18<>0,AC18=""),"* No olvide ingresar la variable "&AC$9&""&" (Digite CERO si no tiene). ",IF(AC18>$D18,"* La variable Pueblos Originarios no puede superar el Total. ","")) | CC18: =IF(AND($D18<>0,AD18=""),"* No olvide ingresar la variable "&AD$9&""&" (Digite CERO si no tiene). ",IF(AD18>$D18,"* La variable Migrantes no puede superar el Total. ","")) | CD18: =IF(AND($D18<>0,AE18=""),"* No olvide ingresar la variable "&AE$9&""&" (Digite CERO si no tiene). ",IF(AE18>$D18,"* La variable Espacios Amigables/ Adolescentes no puede superar el Total. ","")) | CE18: =IF(AND(D18>0,OR(AF18="",AG18="",))," * No olvide digitar la variable TRANS Masculino/Femenino (Digite CERO si no tiene). ",IF(AF18+AG18>$D18,"* La suma de TRANS Masculino + Femenino no puede superar el Total. ","")) | CF18: =IF(AND(D18>0,AH18=""),"* No olvide digitar la variable Niños, niñas, adolescentes y jóvenes SENAME (Digite CERO si no tiene). ",IF(AH18>$D18,"* La suma de Niños, niñas, adolescentes y jóvenes SENAME no puede superar el Total. ","")) | CK18: =IF(AND($D18<>0,AB18=""),1,IF(AB18>$D18,1,0)) -> 0 | CL18: =IF(AND($D18<>0,AC18=""),1,IF(AC18>$D18,1,0)) -> 0 | CM18: =IF(AND($D18<>0,AD18=""),1,IF(AD18>$D18,1,0)) -> 0 | CN18: =IF(AND($D18<>0,AE18=""),1,IF(AE18>$D18,1,0)) -> 0 | CO18: =IF(AND(D18>0,OR(AF18="",AG18="",)),1,IF(AF18+AG18>$D18,1,0)) -> 0 | CP18: =IF(AND(D18>0,AH18=""),1,IF(AH18>$D18,1,0)) -> 0
B19: Prevención violencia de género | D19: =SUM(E19:X19) -> 0 | AI19: =CA19&CB19&CC19&CD19&CE19&CF19 | CA19: =IF(AND($D19<>0,AB19=""),"* No olvide ingresar la columna "&AB$9&""&" (Digite CERO si no tiene). ",IF(AB19>$D19,"* El Número de Familias en Riesgo no puede superar el Total. ","")) | CB19: =IF(AND($D19<>0,AC19=""),"* No olvide ingresar la variable "&AC$9&""&" (Digite CERO si no tiene). ",IF(AC19>$D19,"* La variable Pueblos Originarios no puede superar el Total. ","")) | CC19: =IF(AND($D19<>0,AD19=""),"* No olvide ingresar la variable "&AD$9&""&" (Digite CERO si no tiene). ",IF(AD19>$D19,"* La variable Migrantes no puede superar el Total. ","")) | CD19: =IF(AND($D19<>0,AE19=""),"* No olvide ingresar la variable "&AE$9&""&" (Digite CERO si no tiene). ",IF(AE19>$D19,"* La variable Espacios Amigables/ Adolescentes no puede superar el Total. ","")) | CE19: =IF(AND(D19>0,OR(AF19="",AG19="",))," * No olvide digitar la variable TRANS Masculino/Femenino (Digite CERO si no tiene). ",IF(AF19+AG19>$D19,"* La suma de TRANS Masculino + Femenino no puede superar el Total. ","")) | CF19: =IF(AND(D19>0,AH19=""),"* No olvide digitar la variable Niños, niñas, adolescentes y jóvenes SENAME (Digite CERO si no tiene). ",IF(AH19>$D19,"* La suma de Niños, niñas, adolescentes y jóvenes SENAME no puede superar el Total. ","")) | CK19: =IF(AND($D19<>0,AB19=""),1,IF(AB19>$D19,1,0)) -> 0 | CL19: =IF(AND($D19<>0,AC19=""),1,IF(AC19>$D19,1,0)) -> 0 | CM19: =IF(AND($D19<>0,AD19=""),1,IF(AD19>$D19,1,0)) -> 0 | CN19: =IF(AND($D19<>0,AE19=""),1,IF(AE19>$D19,1,0)) -> 0 | CO19: =IF(AND(D19>0,OR(AF19="",AG19="",)),1,IF(AF19+AG19>$D19,1,0)) -> 0 | CP19: =IF(AND(D19>0,AH19=""),1,IF(AH19>$D19,1,0)) -> 0
B20: Salud Sexual y reproductiva | C20: Mujeres | D20: =SUM(E20:X20) -> 0 | AI20: =CA20&CB20&CC20&CD20&CE20&CF20 | CA20: =IF(AND($D20<>0,AB20=""),"* No olvide ingresar la columna "&AB$9&""&" (Digite CERO si no tiene). ",IF(AB20>$D20,"* El Número de Familias en Riesgo no puede superar el Total. ","")) | CB20: =IF(AND($D20<>0,AC20=""),"* No olvide ingresar la variable "&AC$9&""&" (Digite CERO si no tiene). ",IF(AC20>$D20,"* La variable Pueblos Originarios no puede superar el Total. ","")) | CC20: =IF(AND($D20<>0,AD20=""),"* No olvide ingresar la variable "&AD$9&""&" (Digite CERO si no tiene). ",IF(AD20>$D20,"* La variable Migrantes no puede superar el Total. ","")) | CD20: =IF(AND($D20<>0,AE20=""),"* No olvide ingresar la variable "&AE$9&""&" (Digite CERO si no tiene). ",IF(AE20>$D20,"* La variable Espacios Amigables/ Adolescentes no puede superar el Total. ","")) | CE20: =IF(AND(D20>0,OR(AF20="",AG20="",))," * No olvide digitar la variable TRANS Masculino/Femenino (Digite CERO si no tiene). ",IF(AF20+AG20>$D20,"* La suma de TRANS Masculino + Femenino no puede superar el Total. ","")) | CF20: =IF(AND(D20>0,AH20=""),"* No olvide digitar la variable Niños, niñas, adolescentes y jóvenes SENAME (Digite CERO si no tiene). ",IF(AH20>$D20,"* La suma de Niños, niñas, adolescentes y jóvenes SENAME no puede superar el Total. ","")) | CK20: =IF(AND($D20<>0,AB20=""),1,IF(AB20>$D20,1,0)) -> 0 | CL20: =IF(AND($D20<>0,AC20=""),1,IF(AC20>$D20,1,0)) -> 0 | CM20: =IF(AND($D20<>0,AD20=""),1,IF(AD20>$D20,1,0)) -> 0 | CN20: =IF(AND($D20<>0,AE20=""),1,IF(AE20>$D20,1,0)) -> 0 | CO20: =IF(AND(D20>0,OR(AF20="",AG20="",)),1,IF(AF20+AG20>$D20,1,0)) -> 0 | CP20: =IF(AND(D20>0,AH20=""),1,IF(AH20>$D20,1,0)) -> 0
C21: Hombres | D21: =SUM(E21:X21) -> 0 | AI21: =CA21&CB21&CC21&CD21&CE21&CF21 | CA21: =IF(AND($D21<>0,AB21=""),"* No olvide ingresar la columna "&AB$9&""&" (Digite CERO si no tiene). ",IF(AB21>$D21,"* El Número de Familias en Riesgo no puede superar el Total. ","")) | CB21: =IF(AND($D21<>0,AC21=""),"* No olvide ingresar la variable "&AC$9&""&" (Digite CERO si no tiene). ",IF(AC21>$D21,"* La variable Pueblos Originarios no puede superar el Total. ","")) | CC21: =IF(AND($D21<>0,AD21=""),"* No olvide ingresar la variable "&AD$9&""&" (Digite CERO si no tiene). ",IF(AD21>$D21,"* La variable Migrantes no puede superar el Total. ","")) | CD21: =IF(AND($D21<>0,AE21=""),"* No olvide ingresar la variable "&AE$9&""&" (Digite CERO si no tiene). ",IF(AE21>$D21,"* La variable Espacios Amigables/ Adolescentes no puede superar el Total. ","")) | CE21: =IF(AND(D21>0,OR(AF21="",AG21="",))," * No olvide digitar la variable TRANS Masculino/Femenino (Digite CERO si no tiene). ",IF(AF21+AG21>$D21,"* La suma de TRANS Masculino + Femenino no puede superar el Total. ","")) | CF21: =IF(AND(D21>0,AH21=""),"* No olvide digitar la variable Niños, niñas, adolescentes y jóvenes SENAME (Digite CERO si no tiene). ",IF(AH21>$D21,"* La suma de Niños, niñas, adolescentes y jóvenes SENAME no puede superar el Total. ","")) | CK21: =IF(AND($D21<>0,AB21=""),1,IF(AB21>$D21,1,0)) -> 0 | CL21: =IF(AND($D21<>0,AC21=""),1,IF(AC21>$D21,1,0)) -> 0 | CM21: =IF(AND($D21<>0,AD21=""),1,IF(AD21>$D21,1,0)) -> 0 | CN21: =IF(AND($D21<>0,AE21=""),1,IF(AE21>$D21,1,0)) -> 0 | CO21: =IF(AND(D21>0,OR(AF21="",AG21="",)),1,IF(AF21+AG21>$D21,1,0)) -> 0 | CP21: =IF(AND(D21>0,AH21=""),1,IF(AH21>$D21,1,0)) -> 0
B22: Talleres de climaterio | D22: =P22+Q22+R22+S22+T22 -> 0 | AI22: =CA22&CB22&CC22&CD22&CE22&CF22 | CA22: =IF(AND($D22<>0,AB22=""),"* No olvide ingresar la columna "&AB$9&""&" (Digite CERO si no tiene). ",IF(AB22>$D22,"* El Número de Familias en Riesgo no puede superar el Total. ","")) | CB22: =IF(AND($D22<>0,AC22=""),"* No olvide ingresar la variable "&AC$9&""&" (Digite CERO si no tiene). ",IF(AC22>$D22,"* La variable Pueblos Originarios no puede superar el Total. ","")) | CC22: =IF(AND($D22<>0,AD22=""),"* No olvide ingresar la variable "&AD$9&""&" (Digite CERO si no tiene). ",IF(AD22>$D22,"* La variable Migrantes no puede superar el Total. ","")) | CD22: =IF(AND($D22<>0,AE22=""),"* No olvide ingresar la variable "&AE$9&""&" (Digite CERO si no tiene). ",IF(AE22>$D22,"* La variable Espacios Amigables/ Adolescentes no puede superar el Total. ","")) | CE22: =IF(AND(D22>0,OR(AF22="",AG22="",))," * No olvide digitar la variable TRANS Masculino/Femenino (Digite CERO si no tiene). ",IF(AF22+AG22>$D22,"* La suma de TRANS Masculino + Femenino no puede superar el Total. ","")) | CF22: =IF(AND(D22>0,AH22=""),"* No olvide digitar la variable Niños, niñas, adolescentes y jóvenes SENAME (Digite CERO si no tiene). ",IF(AH22>$D22,"* La suma de Niños, niñas, adolescentes y jóvenes SENAME no puede superar el Total. ","")) | CK22: =IF(AND($D22<>0,AB22=""),1,IF(AB22>$D22,1,0)) -> 0 | CL22: =IF(AND($D22<>0,AC22=""),1,IF(AC22>$D22,1,0)) -> 0 | CM22: =IF(AND($D22<>0,AD22=""),1,IF(AD22>$D22,1,0)) -> 0 | CN22: =IF(AND($D22<>0,AE22=""),1,IF(AE22>$D22,1,0)) -> 0 | CO22: =IF(AND(D22>0,OR(AF22="",AG22="",)),1,IF(AF22+AG22>$D22,1,0)) -> 0 | CP22: =IF(AND(D22>0,AH22=""),1,IF(AH22>$D22,1,0)) -> 0
B23: Educación prenatal (Nutrición-lactancia-crianza-autocuidado-preparación parto y otros) | D23: =SUM(J23:S23) -> 12 | K23: 2 | L23: 4 | M23: 4 | N23: 2 | Y23: 12 | Z23: 0 | AA23: 0 | AB23: 0 | AC23: 0 | AD23: 0 | AF23: 0 | AG23: 0 | AH23: 0 | AI23: =CA23&CB23&CC23&CD23&CE23&CF23 | CA23: =IF(AND($D23<>0,AB23=""),"* No olvide ingresar la columna "&AB$9&""&" (Digite CERO si no tiene). ",IF(AB23>$D23,"* El Número de Familias en Riesgo no puede superar el Total. ","")) | CB23: =IF(AND($D23<>0,AC23=""),"* No olvide ingresar la variable "&AC$9&""&" (Digite CERO si no tiene). ",IF(AC23>$D23,"* La variable Pueblos Originarios no puede superar el Total. ","")) | CC23: =IF(AND($D23<>0,AD23=""),"* No olvide ingresar la variable "&AD$9&""&" (Digite CERO si no tiene). ",IF(AD23>$D23,"* La variable Migrantes no puede superar el Total. ","")) | CE23: =IF(AND(D23>0,OR(AF23="",AG23="",))," * No olvide digitar la variable TRANS Masculino/Femenino (Digite CERO si no tiene). ",IF(AF23+AG23>$D23,"* La suma de TRANS Masculino + Femenino no puede superar el Total. ","")) | CF23: =IF(AND(D23>0,AH23=""),"* No olvide digitar la variable Niños, niñas, adolescentes y jóvenes SENAME (Digite CERO si no tiene). ",IF(AH23>$D23,"* La suma de Niños, niñas, adolescentes y jóvenes SENAME no puede superar el Total. ","")) | CK23: =IF(AND($D23<>0,AB23=""),1,IF(AB23>$D23,1,0)) -> 0 | CL23: =IF(AND($D23<>0,AC23=""),1,IF(AC23>$D23,1,0)) -> 0 | CM23: =IF(AND($D23<>0,AD23=""),1,IF(AD23>$D23,1,0)) -> 0 | CO23: =IF(AND(D23>0,OR(AF23="",AG23="",)),1,IF(AF23+AG23>$D23,1,0)) -> 0 | CP23: =IF(AND(D23>0,AH23=""),1,IF(AH23>$D23,1,0)) -> 0
B24: Visita guiada a la maternidad | C24: Primigesta | D24: =SUM(J24:S24) -> 5 | K24: 1 | L24: 1 | M24: 2 | N24: 1 | Y24: 5 | Z24: 0 | AA24: 0 | AB24: 0 | AC24: 0 | AD24: 0 | AF24: 0 | AG24: 0 | AH24: 0 | AI24: =CA24&CB24&CC24&CD24&CE24&CF24 | CA24: =IF(AND($D24<>0,AB24=""),"* No olvide ingresar la columna "&AB$9&""&" (Digite CERO si no tiene). ",IF(AB24>$D24,"* El Número de Familias en Riesgo no puede superar el Total. ","")) | CB24: =IF(AND($D24<>0,AC24=""),"* No olvide ingresar la variable "&AC$9&""&" (Digite CERO si no tiene). ",IF(AC24>$D24,"* La variable Pueblos Originarios no puede superar el Total. ","")) | CC24: =IF(AND($D24<>0,AD24=""),"* No olvide ingresar la variable "&AD$9&""&" (Digite CERO si no tiene). ",IF(AD24>$D24,"* La variable Migrantes no puede superar el Total. ","")) | CE24: =IF(AND(D24>0,OR(AF24="",AG24="",))," * No olvide digitar la variable TRANS Masculino/Femenino (Digite CERO si no tiene). ",IF(AF24+AG24>$D24,"* La suma de TRANS Masculino + Femenino no puede superar el Total. ","")) | CF24: =IF(AND(D24>0,AH24=""),"* No olvide digitar la variable Niños, niñas, adolescentes y jóvenes SENAME (Digite CERO si no tiene). ",IF(AH24>$D24,"* La suma de Niños, niñas, adolescentes y jóvenes SENAME no puede superar el Total. ","")) | CK24: =IF(AND($D24<>0,AB24=""),1,IF(AB24>$D24,1,0)) -> 0 | CL24: =IF(AND($D24<>0,AC24=""),1,IF(AC24>$D24,1,0)) -> 0 | CM24: =IF(AND($D24<>0,AD24=""),1,IF(AD24>$D24,1,0)) -> 0 | CO24: =IF(AND(D24>0,OR(AF24="",AG24="",)),1,IF(AF24+AG24>$D24,1,0)) -> 0 | CP24: =IF(AND(D24>0,AH24=""),1,IF(AH24>$D24,1,0)) -> 0
C25: Multípara | D25: =SUM(J25:S25) -> 7 | K25: 1 | L25: 3 | M25: 2 | N25: 1 | Y25: 7 | AA25: 0 | AB25: 0 | AC25: 0 | AD25: 0 | AF25: 0 | AG25: 0 | AH25: 0 | AI25: =CA25&CB25&CC25&CD25&CE25&CF25 | CA25: =IF(AND($D25<>0,AB25=""),"* No olvide ingresar la columna "&AB$9&""&" (Digite CERO si no tiene). ",IF(AB25>$D25,"* El Número de Familias en Riesgo no puede superar el Total. ","")) | CB25: =IF(AND($D25<>0,AC25=""),"* No olvide ingresar la variable "&AC$9&""&" (Digite CERO si no tiene). ",IF(AC25>$D25,"* La variable Pueblos Originarios no puede superar el Total. ","")) | CC25: =IF(AND($D25<>0,AD25=""),"* No olvide ingresar la variable "&AD$9&""&" (Digite CERO si no tiene). ",IF(AD25>$D25,"* La variable Migrantes no puede superar el Total. ","")) | CE25: =IF(AND(D25>0,OR(AF25="",AG25="",))," * No olvide digitar la variable TRANS Masculino/Femenino (Digite CERO si no tiene). ",IF(AF25+AG25>$D25,"* La suma de TRANS Masculino + Femenino no puede superar el Total. ","")) | CF25: =IF(AND(D25>0,AH25=""),"* No olvide digitar la variable Niños, niñas, adolescentes y jóvenes SENAME (Digite CERO si no tiene). ",IF(AH25>$D25,"* La suma de Niños, niñas, adolescentes y jóvenes SENAME no puede superar el Total. ","")) | CK25: =IF(AND($D25<>0,AB25=""),1,IF(AB25>$D25,1,0)) -> 0 | CL25: =IF(AND($D25<>0,AC25=""),1,IF(AC25>$D25,1,0)) -> 0 | CM25: =IF(AND($D25<>0,AD25=""),1,IF(AD25>$D25,1,0)) -> 0 | CO25: =IF(AND(D25>0,OR(AF25="",AG25="",)),1,IF(AF25+AG25>$D25,1,0)) -> 0 | CP25: =IF(AND(D25>0,AH25=""),1,IF(AH25>$D25,1,0)) -> 0
B26: Promoción de salud mental | D26: =SUM(H26:X26) -> 0 | AI26: =CA26&CB26&CC26&CD26&CE26&CF26 | CA26: =IF(AND($D26<>0,AB26=""),"* No olvide ingresar la columna "&AB$9&""&" (Digite CERO si no tiene). ",IF(AB26>$D26,"* El Número de Familias en Riesgo no puede superar el Total. ","")) | CB26: =IF(AND($D26<>0,AC26=""),"* No olvide ingresar la variable "&AC$9&""&" (Digite CERO si no tiene). ",IF(AC26>$D26,"* La variable Pueblos Originarios no puede superar el Total. ","")) | CC26: =IF(AND($D26<>0,AD26=""),"* No olvide ingresar la variable "&AD$9&""&" (Digite CERO si no tiene). ",IF(AD26>$D26,"* La variable Migrantes no puede superar el Total. ","")) | CD26: =IF(AND($D26<>0,AE26=""),"* No olvide ingresar la variable "&AE$9&""&" (Digite CERO si no tiene). ",IF(AE26>$D26,"* La variable Espacios Amigables/ Adolescentes no puede superar el Total. ","")) | CE26: =IF(AND(D26>0,OR(AF26="",AG26="",))," * No olvide digitar la variable TRANS Masculino/Femenino (Digite CERO si no tiene). ",IF(AF26+AG26>$D26,"* La suma de TRANS Masculino + Femenino no puede superar el Total. ","")) | CF26: =IF(AND(D26>0,AH26=""),"* No olvide digitar la variable Niños, niñas, adolescentes y jóvenes SENAME (Digite CERO si no tiene). ",IF(AH26>$D26,"* La suma de Niños, niñas, adolescentes y jóvenes SENAME no puede superar el Total. ","")) | CK26: =IF(AND($D26<>0,AB26=""),1,IF(AB26>$D26,1,0)) -> 0 | CL26: =IF(AND($D26<>0,AC26=""),1,IF(AC26>$D26,1,0)) -> 0 | CM26: =IF(AND($D26<>0,AD26=""),1,IF(AD26>$D26,1,0)) -> 0 | CN26: =IF(AND($D26<>0,AE26=""),1,IF(AE26>$D26,1,0)) -> 0 | CO26: =IF(AND(D26>0,OR(AF26="",AG26="",)),1,IF(AF26+AG26>$D26,1,0)) -> 0 | CP26: =IF(AND(D26>0,AH26=""),1,IF(AH26>$D26,1,0)) -> 0
B27: Promoción del desarrollo infantil temprano | C27: Del lenguaje | D27: =SUM(E27:F27) -> 0 | AI27: =CA27&CB27&CC27&CD27&CE27&CF27 | CA27: =IF(AND($D27<>0,AB27=""),"* No olvide ingresar la columna "&AB$9&""&" (Digite CERO si no tiene). ",IF(AB27>$D27,"* El Número de Familias en Riesgo no puede superar el Total. ","")) | CB27: =IF(AND($D27<>0,AC27=""),"* No olvide ingresar la variable "&AC$9&""&" (Digite CERO si no tiene). ",IF(AC27>$D27,"* La variable Pueblos Originarios no puede superar el Total. ","")) | CC27: =IF(AND($D27<>0,AD27=""),"* No olvide ingresar la variable "&AD$9&""&" (Digite CERO si no tiene). ",IF(AD27>$D27,"* La variable Migrantes no puede superar el Total. ","")) | CE27: =IF(AND(D27>0,OR(AF27="",AG27="",))," * No olvide digitar la variable TRANS Masculino/Femenino (Digite CERO si no tiene). ",IF(AF27+AG27>$D27,"* La suma de TRANS Masculino + Femenino no puede superar el Total. ","")) | CF27: =IF(AND(D27>0,AH27=""),"* No olvide digitar la variable Niños, niñas, adolescentes y jóvenes SENAME (Digite CERO si no tiene). ",IF(AH27>$D27,"* La suma de Niños, niñas, adolescentes y jóvenes SENAME no puede superar el Total. ","")) | CK27: =IF(AND($D27<>0,AB27=""),1,IF(AB27>$D27,1,0)) -> 0 | CL27: =IF(AND($D27<>0,AC27=""),1,IF(AC27>$D27,1,0)) -> 0 | CM27: =IF(AND($D27<>0,AD27=""),1,IF(AD27>$D27,1,0)) -> 0 | CO27: =IF(AND(D27>0,OR(AF27="",AG27="",)),1,IF(AF27+AG27>$D27,1,0)) -> 0 | CP27: =IF(AND(D27>0,AH27=""),1,IF(AH27>$D27,1,0)) -> 0
C28: Motor | D28: =SUM(E28:G28) -> 0 | AI28: =CA28&CB28&CC28&CD28&CE28&CF28 | CA28: =IF(AND($D28<>0,AB28=""),"* No olvide ingresar la columna "&AB$9&""&" (Digite CERO si no tiene). ",IF(AB28>$D28,"* El Número de Familias en Riesgo no puede superar el Total. ","")) | CB28: =IF(AND($D28<>0,AC28=""),"* No olvide ingresar la variable "&AC$9&""&" (Digite CERO si no tiene). ",IF(AC28>$D28,"* La variable Pueblos Originarios no puede superar el Total. ","")) | CC28: =IF(AND($D28<>0,AD28=""),"* No olvide ingresar la variable "&AD$9&""&" (Digite CERO si no tiene). ",IF(AD28>$D28,"* La variable Migrantes no puede superar el Total. ","")) | CD28: =IF(AND($D28<>0,AE28=""),"* No olvide ingresar la variable "&AE$9&""&" (Digite CERO si no tiene). ",IF(AE28>$D28,"* La variable Espacios Amigables/ Adolescentes no puede superar el Total. ","")) | CE28: =IF(AND(D28>0,OR(AF28="",AG28="",))," * No olvide digitar la variable TRANS Masculino/Femenino (Digite CERO si no tiene). ",IF(AF28+AG28>$D28,"* La suma de TRANS Masculino + Femenino no puede superar el Total. ","")) | CF28: =IF(AND(D28>0,AH28=""),"* No olvide digitar la variable Niños, niñas, adolescentes y jóvenes SENAME (Digite CERO si no tiene). ",IF(AH28>$D28,"* La suma de Niños, niñas, adolescentes y jóvenes SENAME no puede superar el Total. ","")) | CK28: =IF(AND($D28<>0,AB28=""),1,IF(AB28>$D28,1,0)) -> 0 | CL28: =IF(AND($D28<>0,AC28=""),1,IF(AC28>$D28,1,0)) -> 0 | CM28: =IF(AND($D28<>0,AD28=""),1,IF(AD28>$D28,1,0)) -> 0 | CN28: =IF(AND($D28<>0,AE28=""),1,IF(AE28>$D28,1,0)) -> 0 | CO28: =IF(AND(D28>0,OR(AF28="",AG28="",)),1,IF(AF28+AG28>$D28,1,0)) -> 0 | CP28: =IF(AND(D28>0,AH28=""),1,IF(AH28>$D28,1,0)) -> 0
C29: Otros | D29: =SUM(E29:G29) -> 0 | AI29: =CA29&CB29&CC29&CD29&CE29&CF29 | CA29: =IF(AND($D29<>0,AB29=""),"* No olvide ingresar la columna "&AB$9&""&" (Digite CERO si no tiene). ",IF(AB29>$D29,"* El Número de Familias en Riesgo no puede superar el Total. ","")) | CB29: =IF(AND($D29<>0,AC29=""),"* No olvide ingresar la variable "&AC$9&""&" (Digite CERO si no tiene). ",IF(AC29>$D29,"* La variable Pueblos Originarios no puede superar el Total. ","")) | CC29: =IF(AND($D29<>0,AD29=""),"* No olvide ingresar la variable "&AD$9&""&" (Digite CERO si no tiene). ",IF(AD29>$D29,"* La variable Migrantes no puede superar el Total. ","")) | CD29: =IF(AND($D29<>0,AE29=""),"* No olvide ingresar la variable "&AE$9&""&" (Digite CERO si no tiene). ",IF(AE29>$D29,"* La variable Espacios Amigables/ Adolescentes no puede superar el Total. ","")) | CE29: =IF(AND(D29>0,OR(AF29="",AG29="",))," * No olvide digitar la variable TRANS Masculino/Femenino (Digite CERO si no tiene). ",IF(AF29+AG29>$D29,"* La suma de TRANS Masculino + Femenino no puede superar el Total. ","")) | CF29: =IF(AND(D29>0,AH29=""),"* No olvide digitar la variable Niños, niñas, adolescentes y jóvenes SENAME (Digite CERO si no tiene). ",IF(AH29>$D29,"* La suma de Niños, niñas, adolescentes y jóvenes SENAME no puede superar el Total. ","")) | CK29: =IF(AND($D29<>0,AB29=""),1,IF(AB29>$D29,1,0)) -> 0 | CL29: =IF(AND($D29<>0,AC29=""),1,IF(AC29>$D29,1,0)) -> 0 | CM29: =IF(AND($D29<>0,AD29=""),1,IF(AD29>$D29,1,0)) -> 0 | CN29: =IF(AND($D29<>0,AE29=""),1,IF(AE29>$D29,1,0)) -> 0 | CO29: =IF(AND(D29>0,OR(AF29="",AG29="",)),1,IF(AF29+AG29>$D29,1,0)) -> 0 | CP29: =IF(AND(D29>0,AH29=""),1,IF(AH29>$D29,1,0)) -> 0
B30: Habilidades parentales | C30: Nadie es perfecto | D30: =SUM(E30:H30) -> 0 | AI30: =CA30&CB30&CC30&CD30&CE30&CF30 | CA30: =IF(AND($D30<>0,AB30=""),"* No olvide ingresar la columna "&AB$9&""&" (Digite CERO si no tiene). ",IF(AB30>$D30,"* El Número de Familias en Riesgo no puede superar el Total. ","")) | CB30: =IF(AND($D30<>0,AC30=""),"* No olvide ingresar la variable "&AC$9&""&" (Digite CERO si no tiene). ",IF(AC30>$D30,"* La variable Pueblos Originarios no puede superar el Total. ","")) | CC30: =IF(AND($D30<>0,AD30=""),"* No olvide ingresar la variable "&AD$9&""&" (Digite CERO si no tiene). ",IF(AD30>$D30,"* La variable Migrantes no puede superar el Total. ","")) | CD30: =IF(AND($D30<>0,AE30=""),"* No olvide ingresar la variable "&AE$9&""&" (Digite CERO si no tiene). ",IF(AE30>$D30,"* La variable Espacios Amigables/ Adolescentes no puede superar el Total. ","")) | CE30: =IF(AND(D30>0,OR(AF30="",AG30="",))," * No olvide digitar la variable TRANS Masculino/Femenino (Digite CERO si no tiene). ",IF(AF30+AG30>$D30,"* La suma de TRANS Masculino + Femenino no puede superar el Total. ","")) | CF30: =IF(AND(D30>0,AH30=""),"* No olvide digitar la variable Niños, niñas, adolescentes y jóvenes SENAME (Digite CERO si no tiene). ",IF(AH30>$D30,"* La suma de Niños, niñas, adolescentes y jóvenes SENAME no puede superar el Total. ","")) | CK30: =IF(AND($D30<>0,AB30=""),1,IF(AB30>$D30,1,0)) -> 0 | CL30: =IF(AND($D30<>0,AC30=""),1,IF(AC30>$D30,1,0)) -> 0 | CM30: =IF(AND($D30<>0,AD30=""),1,IF(AD30>$D30,1,0)) -> 0 | CN30: =IF(AND($D30<>0,AE30=""),1,IF(AE30>$D30,1,0)) -> 0 | CO30: =IF(AND(D30>0,OR(AF30="",AG30="",)),1,IF(AF30+AG30>$D30,1,0)) -> 0 | CP30: =IF(AND(D30>0,AH30=""),1,IF(AH30>$D30,1,0)) -> 0
C31: Familias fuertes | D31: =SUM(I31+J31) -> 0 | AI31: =CA31&CB31&CC31&CD31&CE31&CF31 | CA31: =IF(AND($D31<>0,AB31=""),"* No olvide ingresar la columna "&AB$9&""&" (Digite CERO si no tiene). ",IF(AB31>$D31,"* El Número de Familias en Riesgo no puede superar el Total. ","")) | CB31: =IF(AND($D31<>0,AC31=""),"* No olvide ingresar la variable "&AC$9&""&" (Digite CERO si no tiene). ",IF(AC31>$D31,"* La variable Pueblos Originarios no puede superar el Total. ","")) | CC31: =IF(AND($D31<>0,AD31=""),"* No olvide ingresar la variable "&AD$9&""&" (Digite CERO si no tiene). ",IF(AD31>$D31,"* La variable Migrantes no puede superar el Total. ","")) | CD31: =IF(AND($D31<>0,AE31=""),"* No olvide ingresar la variable "&AE$9&""&" (Digite CERO si no tiene). ",IF(AE31>$D31,"* La variable Espacios Amigables/ Adolescentes no puede superar el Total. ","")) | CE31: =IF(AND(D31>0,OR(AF31="",AG31="",))," * No olvide digitar la variable TRANS Masculino/Femenino (Digite CERO si no tiene). ",IF(AF31+AG31>$D31,"* La suma de TRANS Masculino + Femenino no puede superar el Total. ","")) | CF31: =IF(AND(D31>0,AH31=""),"* No olvide digitar la variable Niños, niñas, adolescentes y jóvenes SENAME (Digite CERO si no tiene). ",IF(AH31>$D31,"* La suma de Niños, niñas, adolescentes y jóvenes SENAME no puede superar el Total. ","")) | CK31: =IF(AND($D31<>0,AB31=""),1,IF(AB31>$D31,1,0)) -> 0 | CL31: =IF(AND($D31<>0,AC31=""),1,IF(AC31>$D31,1,0)) -> 0 | CM31: =IF(AND($D31<>0,AD31=""),1,IF(AD31>$D31,1,0)) -> 0 | CN31: =IF(AND($D31<>0,AE31=""),1,IF(AE31>$D31,1,0)) -> 0 | CO31: =IF(AND(D31>0,OR(AF31="",AG31="",)),1,IF(AF31+AG31>$D31,1,0)) -> 0 | CP31: =IF(AND(D31>0,AH31=""),1,IF(AH31>$D31,1,0)) -> 0
C32: Otros | D32: =SUM(E32:I32) -> 0 | AI32: =CA32&CB32&CC32&CD32&CE32&CF32 | CA32: =IF(AND($D32<>0,AB32=""),"* No olvide ingresar la columna "&AB$9&""&" (Digite CERO si no tiene). ",IF(AB32>$D32,"* El Número de Familias en Riesgo no puede superar el Total. ","")) | CB32: =IF(AND($D32<>0,AC32=""),"* No olvide ingresar la variable "&AC$9&""&" (Digite CERO si no tiene). ",IF(AC32>$D32,"* La variable Pueblos Originarios no puede superar el Total. ","")) | CC32: =IF(AND($D32<>0,AD32=""),"* No olvide ingresar la variable "&AD$9&""&" (Digite CERO si no tiene). ",IF(AD32>$D32,"* La variable Migrantes no puede superar el Total. ","")) | CD32: =IF(AND($D32<>0,AE32=""),"* No olvide ingresar la variable "&AE$9&""&" (Digite CERO si no tiene). ",IF(AE32>$D32,"* La variable Espacios Amigables/ Adolescentes no puede superar el Total. ","")) | CE32: =IF(AND(D32>0,OR(AF32="",AG32="",))," * No olvide digitar la variable TRANS Masculino/Femenino (Digite CERO si no tiene). ",IF(AF32+AG32>$D32,"* La suma de TRANS Masculino + Femenino no puede superar el Total. ","")) | CF32: =IF(AND(D32>0,AH32=""),"* No olvide digitar la variable Niños, niñas, adolescentes y jóvenes SENAME (Digite CERO si no tiene). ",IF(AH32>$D32,"* La suma de Niños, niñas, adolescentes y jóvenes SENAME no puede superar el Total. ","")) | CK32: =IF(AND($D32<>0,AB32=""),1,IF(AB32>$D32,1,0)) -> 0 | CL32: =IF(AND($D32<>0,AC32=""),1,IF(AC32>$D32,1,0)) -> 0 | CM32: =IF(AND($D32<>0,AD32=""),1,IF(AD32>$D32,1,0)) -> 0 | CN32: =IF(AND($D32<>0,AE32=""),1,IF(AE32>$D32,1,0)) -> 0 | CO32: =IF(AND(D32>0,OR(AF32="",AG32="",)),1,IF(AF32+AG32>$D32,1,0)) -> 0 | CP32: =IF(AND(D32>0,AH32=""),1,IF(AH32>$D32,1,0)) -> 0
B33: Apoyo madre a madre | D33: =SUM(E33:X33) -> 0 | AI33: =CA33&CB33&CC33&CD33&CE33&CF33 | CA33: =IF(AND($D33<>0,AB33=""),"* No olvide ingresar la columna "&AB$9&""&" (Digite CERO si no tiene). ",IF(AB33>$D33,"* El Número de Familias en Riesgo no puede superar el Total. ","")) | CB33: =IF(AND($D33<>0,AC33=""),"* No olvide ingresar la variable "&AC$9&""&" (Digite CERO si no tiene). ",IF(AC33>$D33,"* La variable Pueblos Originarios no puede superar el Total. ","")) | CC33: =IF(AND($D33<>0,AD33=""),"* No olvide ingresar la variable "&AD$9&""&" (Digite CERO si no tiene). ",IF(AD33>$D33,"* La variable Migrantes no puede superar el Total. ","")) | CD33: =IF(AND($D33<>0,AE33=""),"* No olvide ingresar la variable "&AE$9&""&" (Digite CERO si no tiene). ",IF(AE33>$D33,"* La variable Espacios Amigables/ Adolescentes no puede superar el Total. ","")) | CE33: =IF(AND(D33>0,OR(AF33="",AG33="",))," * No olvide digitar la variable TRANS Masculino/Femenino (Digite CERO si no tiene). ",IF(AF33+AG33>$D33,"* La suma de TRANS Masculino + Femenino no puede superar el Total. ","")) | CF33: =IF(AND(D33>0,AH33=""),"* No olvide digitar la variable Niños, niñas, adolescentes y jóvenes SENAME (Digite CERO si no tiene). ",IF(AH33>$D33,"* La suma de Niños, niñas, adolescentes y jóvenes SENAME no puede superar el Total. ","")) | CK33: =IF(AND($D33<>0,AB33=""),1,IF(AB33>$D33,1,0)) -> 0 | CL33: =IF(AND($D33<>0,AC33=""),1,IF(AC33>$D33,1,0)) -> 0 | CM33: =IF(AND($D33<>0,AD33=""),1,IF(AD33>$D33,1,0)) -> 0 | CN33: =IF(AND($D33<>0,AE33=""),1,IF(AE33>$D33,1,0)) -> 0 | CO33: =IF(AND(D33>0,OR(AF33="",AG33="",)),1,IF(AF33+AG33>$D33,1,0)) -> 0 | CP33: =IF(AND(D33>0,AH33=""),1,IF(AH33>$D33,1,0)) -> 0
B34: Prevención de salud mental | C34: Prevención suicidio | D34: =SUM(E34:X34) -> 0 | AI34: =CA34&CB34&CC34&CD34&CE34&CF34 | CA34: =IF(AND($D34<>0,AB34=""),"* No olvide ingresar la columna "&AB$9&""&" (Digite CERO si no tiene). ",IF(AB34>$D34,"* El Número de Familias en Riesgo no puede superar el Total. ","")) | CB34: =IF(AND($D34<>0,AC34=""),"* No olvide ingresar la variable "&AC$9&""&" (Digite CERO si no tiene). ",IF(AC34>$D34,"* La variable Pueblos Originarios no puede superar el Total. ","")) | CC34: =IF(AND($D34<>0,AD34=""),"* No olvide ingresar la variable "&AD$9&""&" (Digite CERO si no tiene). ",IF(AD34>$D34,"* La variable Migrantes no puede superar el Total. ","")) | CD34: =IF(AND($D34<>0,AE34=""),"* No olvide ingresar la variable "&AE$9&""&" (Digite CERO si no tiene). ",IF(AE34>$D34,"* La variable Espacios Amigables/ Adolescentes no puede superar el Total. ","")) | CE34: =IF(AND(D34>0,OR(AF34="",AG34="",))," * No olvide digitar la variable TRANS Masculino/Femenino (Digite CERO si no tiene). ",IF(AF34+AG34>$D34,"* La suma de TRANS Masculino + Femenino no puede superar el Total. ","")) | CF34: =IF(AND(D34>0,AH34=""),"* No olvide digitar la variable Niños, niñas, adolescentes y jóvenes SENAME (Digite CERO si no tiene). ",IF(AH34>$D34,"* La suma de Niños, niñas, adolescentes y jóvenes SENAME no puede superar el Total. ","")) | CK34: =IF(AND($D34<>0,AB34=""),1,IF(AB34>$D34,1,0)) -> 0 | CL34: =IF(AND($D34<>0,AC34=""),1,IF(AC34>$D34,1,0)) -> 0 | CM34: =IF(AND($D34<>0,AD34=""),1,IF(AD34>$D34,1,0)) -> 0 | CN34: =IF(AND($D34<>0,AE34=""),1,IF(AE34>$D34,1,0)) -> 0 | CO34: =IF(AND(D34>0,OR(AF34="",AG34="",)),1,IF(AF34+AG34>$D34,1,0)) -> 0 | CP34: =IF(AND(D34>0,AH34=""),1,IF(AH34>$D34,1,0)) -> 0
C35: Prevención trastorno mental | D35: =SUM(E35:X35) -> 0 | AI35: =CA35&CB35&CC35&CD35&CE35&CF35 | CA35: =IF(AND($D35<>0,AB35=""),"* No olvide ingresar la columna "&AB$9&""&" (Digite CERO si no tiene). ",IF(AB35>$D35,"* El Número de Familias en Riesgo no puede superar el Total. ","")) | CB35: =IF(AND($D35<>0,AC35=""),"* No olvide ingresar la variable "&AC$9&""&" (Digite CERO si no tiene). ",IF(AC35>$D35,"* La variable Pueblos Originarios no puede superar el Total. ","")) | CC35: =IF(AND($D35<>0,AD35=""),"* No olvide ingresar la variable "&AD$9&""&" (Digite CERO si no tiene). ",IF(AD35>$D35,"* La variable Migrantes no puede superar el Total. ","")) | CD35: =IF(AND($D35<>0,AE35=""),"* No olvide ingresar la variable "&AE$9&""&" (Digite CERO si no tiene). ",IF(AE35>$D35,"* La variable Espacios Amigables/ Adolescentes no puede superar el Total. ","")) | CE35: =IF(AND(D35>0,OR(AF35="",AG35="",))," * No olvide digitar la variable TRANS Masculino/Femenino (Digite CERO si no tiene). ",IF(AF35+AG35>$D35,"* La suma de TRANS Masculino + Femenino no puede superar el Total. ","")) | CF35: =IF(AND(D35>0,AH35=""),"* No olvide digitar la variable Niños, niñas, adolescentes y jóvenes SENAME (Digite CERO si no tiene). ",IF(AH35>$D35,"* La suma de Niños, niñas, adolescentes y jóvenes SENAME no puede superar el Total. ","")) | CK35: =IF(AND($D35<>0,AB35=""),1,IF(AB35>$D35,1,0)) -> 0 | CL35: =IF(AND($D35<>0,AC35=""),1,IF(AC35>$D35,1,0)) -> 0 | CM35: =IF(AND($D35<>0,AD35=""),1,IF(AD35>$D35,1,0)) -> 0 | CN35: =IF(AND($D35<>0,AE35=""),1,IF(AE35>$D35,1,0)) -> 0 | CO35: =IF(AND(D35>0,OR(AF35="",AG35="",)),1,IF(AF35+AG35>$D35,1,0)) -> 0 | CP35: =IF(AND(D35>0,AH35=""),1,IF(AH35>$D35,1,0)) -> 0
B36: Prevención alcohol y drogas | D36: =SUM(E36:X36) -> 0 | AI36: =CA36&CB36&CC36&CD36&CE36&CF36 | CA36: =IF(AND($D36<>0,AB36=""),"* No olvide ingresar la columna "&AB$9&""&" (Digite CERO si no tiene). ",IF(AB36>$D36,"* El Número de Familias en Riesgo no puede superar el Total. ","")) | CB36: =IF(AND($D36<>0,AC36=""),"* No olvide ingresar la variable "&AC$9&""&" (Digite CERO si no tiene). ",IF(AC36>$D36,"* La variable Pueblos Originarios no puede superar el Total. ","")) | CC36: =IF(AND($D36<>0,AD36=""),"* No olvide ingresar la variable "&AD$9&""&" (Digite CERO si no tiene). ",IF(AD36>$D36,"* La variable Migrantes no puede superar el Total. ","")) | CD36: =IF(AND($D36<>0,AE36=""),"* No olvide ingresar la variable "&AE$9&""&" (Digite CERO si no tiene). ",IF(AE36>$D36,"* La variable Espacios Amigables/ Adolescentes no puede superar el Total. ","")) | CE36: =IF(AND(D36>0,OR(AF36="",AG36="",))," * No olvide digitar la variable TRANS Masculino/Femenino (Digite CERO si no tiene). ",IF(AF36+AG36>$D36,"* La suma de TRANS Masculino + Femenino no puede superar el Total. ","")) | CF36: =IF(AND(D36>0,AH36=""),"* No olvide digitar la variable Niños, niñas, adolescentes y jóvenes SENAME (Digite CERO si no tiene). ",IF(AH36>$D36,"* La suma de Niños, niñas, adolescentes y jóvenes SENAME no puede superar el Total. ","")) | CK36: =IF(AND($D36<>0,AB36=""),1,IF(AB36>$D36,1,0)) -> 0 | CL36: =IF(AND($D36<>0,AC36=""),1,IF(AC36>$D36,1,0)) -> 0 | CM36: =IF(AND($D36<>0,AD36=""),1,IF(AD36>$D36,1,0)) -> 0 | CN36: =IF(AND($D36<>0,AE36=""),1,IF(AE36>$D36,1,0)) -> 0 | CO36: =IF(AND(D36>0,OR(AF36="",AG36="",)),1,IF(AF36+AG36>$D36,1,0)) -> 0 | CP36: =IF(AND(D36>0,AH36=""),1,IF(AH36>$D36,1,0)) -> 0
B37: Antitabáquica (excluye REM 23) | D37: =SUM(E37:X37) -> 0 | AI37: =CA37&CB37&CC37&CD37&CE37&CF37 | CA37: =IF(AND($D37<>0,AB37=""),"* No olvide ingresar la columna "&AB$9&""&" (Digite CERO si no tiene). ",IF(AB37>$D37,"* El Número de Familias en Riesgo no puede superar el Total. ","")) | CB37: =IF(AND($D37<>0,AC37=""),"* No olvide ingresar la variable "&AC$9&""&" (Digite CERO si no tiene). ",IF(AC37>$D37,"* La variable Pueblos Originarios no puede superar el Total. ","")) | CC37: =IF(AND($D37<>0,AD37=""),"* No olvide ingresar la variable "&AD$9&""&" (Digite CERO si no tiene). ",IF(AD37>$D37,"* La variable Migrantes no puede superar el Total. ","")) | CD37: =IF(AND($D37<>0,AE37=""),"* No olvide ingresar la variable "&AE$9&""&" (Digite CERO si no tiene). ",IF(AE37>$D37,"* La variable Espacios Amigables/ Adolescentes no puede superar el Total. ","")) | CE37: =IF(AND(D37>0,OR(AF37="",AG37="",))," * No olvide digitar la variable TRANS Masculino/Femenino (Digite CERO si no tiene). ",IF(AF37+AG37>$D37,"* La suma de TRANS Masculino + Femenino no puede superar el Total. ","")) | CF37: =IF(AND(D37>0,AH37=""),"* No olvide digitar la variable Niños, niñas, adolescentes y jóvenes SENAME (Digite CERO si no tiene). ",IF(AH37>$D37,"* La suma de Niños, niñas, adolescentes y jóvenes SENAME no puede superar el Total. ","")) | CK37: =IF(AND($D37<>0,AB37=""),1,IF(AB37>$D37,1,0)) -> 0 | CL37: =IF(AND($D37<>0,AC37=""),1,IF(AC37>$D37,1,0)) -> 0 | CM37: =IF(AND($D37<>0,AD37=""),1,IF(AD37>$D37,1,0)) -> 0 | CN37: =IF(AND($D37<>0,AE37=""),1,IF(AE37>$D37,1,0)) -> 0 | CO37: =IF(AND(D37>0,OR(AF37="",AG37="",)),1,IF(AF37+AG37>$D37,1,0)) -> 0 | CP37: =IF(AND(D37>0,AH37=""),1,IF(AH37>$D37,1,0)) -> 0
B38: Prevención de la transmisión vertical de VIH-Sífilis | D38: =SUM(J38:S38) -> 0 | AI38: =CA38&CB38&CC38&CD38&CE38&CF38 | CA38: =IF(AND($D38<>0,AB38=""),"* No olvide ingresar la columna "&AB$9&""&" (Digite CERO si no tiene). ",IF(AB38>$D38,"* El Número de Familias en Riesgo no puede superar el Total. ","")) | CB38: =IF(AND($D38<>0,AC38=""),"* No olvide ingresar la variable "&AC$9&""&" (Digite CERO si no tiene). ",IF(AC38>$D38,"* La variable Pueblos Originarios no puede superar el Total. ","")) | CC38: =IF(AND($D38<>0,AD38=""),"* No olvide ingresar la variable "&AD$9&""&" (Digite CERO si no tiene). ",IF(AD38>$D38,"* La variable Migrantes no puede superar el Total. ","")) | CD38: =IF(AND($D38<>0,AE38=""),"* No olvide ingresar la variable "&AE$9&""&" (Digite CERO si no tiene). ",IF(AE38>$D38,"* La variable Espacios Amigables/ Adolescentes no puede superar el Total. ","")) | CE38: =IF(AND(D38>0,OR(AF38="",AG38="",))," * No olvide digitar la variable TRANS Masculino/Femenino (Digite CERO si no tiene). ",IF(AF38+AG38>$D38,"* La suma de TRANS Masculino + Femenino no puede superar el Total. ","")) | CF38: =IF(AND(D38>0,AH38=""),"* No olvide digitar la variable Niños, niñas, adolescentes y jóvenes SENAME (Digite CERO si no tiene). ",IF(AH38>$D38,"* La suma de Niños, niñas, adolescentes y jóvenes SENAME no puede superar el Total. ","")) | CK38: =IF(AND($D38<>0,AB38=""),1,IF(AB38>$D38,1,0)) -> 0 | CL38: =IF(AND($D38<>0,AC38=""),1,IF(AC38>$D38,1,0)) -> 0 | CM38: =IF(AND($D38<>0,AD38=""),1,IF(AD38>$D38,1,0)) -> 0 | CN38: =IF(AND($D38<>0,AE38=""),1,IF(AE38>$D38,1,0)) -> 0 | CO38: =IF(AND(D38>0,OR(AF38="",AG38="",)),1,IF(AF38+AG38>$D38,1,0)) -> 0 | CP38: =IF(AND(D38>0,AH38=""),1,IF(AH38>$D38,1,0)) -> 0
B39: Otras áreas temáticas | D39: =SUM(E39:X39) -> 0 | AI39: =CA39&CB39&CC39&CD39&CE39&CF39 | CA39: =IF(AND($D39<>0,AB39=""),"* No olvide ingresar la columna "&AB$9&""&" (Digite CERO si no tiene). ",IF(AB39>$D39,"* El Número de Familias en Riesgo no puede superar el Total. ","")) | CB39: =IF(AND($D39<>0,AC39=""),"* No olvide ingresar la variable "&AC$9&""&" (Digite CERO si no tiene). ",IF(AC39>$D39,"* La variable Pueblos Originarios no puede superar el Total. ","")) | CC39: =IF(AND($D39<>0,AD39=""),"* No olvide ingresar la variable "&AD$9&""&" (Digite CERO si no tiene). ",IF(AD39>$D39,"* La variable Migrantes no puede superar el Total. ","")) | CD39: =IF(AND($D39<>0,AE39=""),"* No olvide ingresar la variable "&AE$9&""&" (Digite CERO si no tiene). ",IF(AE39>$D39,"* La variable Espacios Amigables/ Adolescentes no puede superar el Total. ","")) | CE39: =IF(AND(D39>0,OR(AF39="",AG39="",))," * No olvide digitar la variable TRANS Masculino/Femenino (Digite CERO si no tiene). ",IF(AF39+AG39>$D39,"* La suma de TRANS Masculino + Femenino no puede superar el Total. ","")) | CF39: =IF(AND(D39>0,AH39=""),"* No olvide digitar la variable Niños, niñas, adolescentes y jóvenes SENAME (Digite CERO si no tiene). ",IF(AH39>$D39,"* La suma de Niños, niñas, adolescentes y jóvenes SENAME no puede superar el Total. ","")) | CK39: =IF(AND($D39<>0,AB39=""),1,IF(AB39>$D39,1,0)) -> 0 | CL39: =IF(AND($D39<>0,AC39=""),1,IF(AC39>$D39,1,0)) -> 0 | CM39: =IF(AND($D39<>0,AD39=""),1,IF(AD39>$D39,1,0)) -> 0 | CN39: =IF(AND($D39<>0,AE39=""),1,IF(AE39>$D39,1,0)) -> 0 | CO39: =IF(AND(D39>0,OR(AF39="",AG39="",)),1,IF(AF39+AG39>$D39,1,0)) -> 0 | CP39: =IF(AND(D39>0,AH39=""),1,IF(AH39>$D39,1,0)) -> 0
B40: Educación especial en adulto mayor | C40: Estimulación de memoria | D40: =SUM(U40:X40) -> 0 | AI40: =CA40&CB40&CC40&CD40&CE40&CF40 | CA40: =IF(AND($D40<>0,AB40=""),"* No olvide ingresar la columna "&AB$9&""&" (Digite CERO si no tiene). ",IF(AB40>$D40,"* El Número de Familias en Riesgo no puede superar el Total. ","")) | CB40: =IF(AND($D40<>0,AC40=""),"* No olvide ingresar la variable "&AC$9&""&" (Digite CERO si no tiene). ",IF(AC40>$D40,"* La variable Pueblos Originarios no puede superar el Total. ","")) | CC40: =IF(AND($D40<>0,AD40=""),"* No olvide ingresar la variable "&AD$9&""&" (Digite CERO si no tiene). ",IF(AD40>$D40,"* La variable Migrantes no puede superar el Total. ","")) | CD40: =IF(AND($D40<>0,AE40=""),"* No olvide ingresar la variable "&AE$9&""&" (Digite CERO si no tiene). ",IF(AE40>$D40,"* La variable Espacios Amigables/ Adolescentes no puede superar el Total. ","")) | CE40: =IF(AND(D40>0,OR(AF40="",AG40="",))," * No olvide digitar la variable TRANS Masculino/Femenino (Digite CERO si no tiene). ",IF(AF40+AG40>$D40,"* La suma de TRANS Masculino + Femenino no puede superar el Total. ","")) | CF40: =IF(AND(D40>0,AH40=""),"* No olvide digitar la variable Niños, niñas, adolescentes y jóvenes SENAME (Digite CERO si no tiene). ",IF(AH40>$D40,"* La suma de Niños, niñas, adolescentes y jóvenes SENAME no puede superar el Total. ","")) | CK40: =IF(AND($D40<>0,AB40=""),1,IF(AB40>$D40,1,0)) -> 0 | CL40: =IF(AND($D40<>0,AC40=""),1,IF(AC40>$D40,1,0)) -> 0 | CM40: =IF(AND($D40<>0,AD40=""),1,IF(AD40>$D40,1,0)) -> 0 | CN40: =IF(AND($D40<>0,AE40=""),1,IF(AE40>$D40,1,0)) -> 0 | CO40: =IF(AND(D40>0,OR(AF40="",AG40="",)),1,IF(AF40+AG40>$D40,1,0)) -> 0 | CP40: =IF(AND(D40>0,AH40=""),1,IF(AH40>$D40,1,0)) -> 0
C41: Prevención de caídas | D41: =SUM(U41:X41) -> 0 | AI41: =CA41&CB41&CC41&CD41&CE41&CF41 | CA41: =IF(AND($D41<>0,AB41=""),"* No olvide ingresar la columna "&AB$9&""&" (Digite CERO si no tiene). ",IF(AB41>$D41,"* El Número de Familias en Riesgo no puede superar el Total. ","")) | CB41: =IF(AND($D41<>0,AC41=""),"* No olvide ingresar la variable "&AC$9&""&" (Digite CERO si no tiene). ",IF(AC41>$D41,"* La variable Pueblos Originarios no puede superar el Total. ","")) | CC41: =IF(AND($D41<>0,AD41=""),"* No olvide ingresar la variable "&AD$9&""&" (Digite CERO si no tiene). ",IF(AD41>$D41,"* La variable Migrantes no puede superar el Total. ","")) | CD41: =IF(AND($D41<>0,AE41=""),"* No olvide ingresar la variable "&AE$9&""&" (Digite CERO si no tiene). ",IF(AE41>$D41,"* La variable Espacios Amigables/ Adolescentes no puede superar el Total. ","")) | CE41: =IF(AND(D41>0,OR(AF41="",AG41="",))," * No olvide digitar la variable TRANS Masculino/Femenino (Digite CERO si no tiene). ",IF(AF41+AG41>$D41,"* La suma de TRANS Masculino + Femenino no puede superar el Total. ","")) | CF41: =IF(AND(D41>0,AH41=""),"* No olvide digitar la variable Niños, niñas, adolescentes y jóvenes SENAME (Digite CERO si no tiene). ",IF(AH41>$D41,"* La suma de Niños, niñas, adolescentes y jóvenes SENAME no puede superar el Total. ","")) | CK41: =IF(AND($D41<>0,AB41=""),1,IF(AB41>$D41,1,0)) -> 0 | CL41: =IF(AND($D41<>0,AC41=""),1,IF(AC41>$D41,1,0)) -> 0 | CM41: =IF(AND($D41<>0,AD41=""),1,IF(AD41>$D41,1,0)) -> 0 | CN41: =IF(AND($D41<>0,AE41=""),1,IF(AE41>$D41,1,0)) -> 0 | CO41: =IF(AND(D41>0,OR(AF41="",AG41="",)),1,IF(AF41+AG41>$D41,1,0)) -> 0 | CP41: =IF(AND(D41>0,AH41=""),1,IF(AH41>$D41,1,0)) -> 0
C42: Estimulación de actividad física | D42: =SUM(U42:X42) -> 0 | AI42: =CA42&CB42&CC42&CD42&CE42&CF42 | CA42: =IF(AND($D42<>0,AB42=""),"* No olvide ingresar la columna "&AB$9&""&" (Digite CERO si no tiene). ",IF(AB42>$D42,"* El Número de Familias en Riesgo no puede superar el Total. ","")) | CB42: =IF(AND($D42<>0,AC42=""),"* No olvide ingresar la variable "&AC$9&""&" (Digite CERO si no tiene). ",IF(AC42>$D42,"* La variable Pueblos Originarios no puede superar el Total. ","")) | CC42: =IF(AND($D42<>0,AD42=""),"* No olvide ingresar la variable "&AD$9&""&" (Digite CERO si no tiene). ",IF(AD42>$D42,"* La variable Migrantes no puede superar el Total. ","")) | CD42: =IF(AND($D42<>0,AE42=""),"* No olvide ingresar la variable "&AE$9&""&" (Digite CERO si no tiene). ",IF(AE42>$D42,"* La variable Espacios Amigables/ Adolescentes no puede superar el Total. ","")) | CE42: =IF(AND(D42>0,OR(AF42="",AG42="",))," * No olvide digitar la variable TRANS Masculino/Femenino (Digite CERO si no tiene). ",IF(AF42+AG42>$D42,"* La suma de TRANS Masculino + Femenino no puede superar el Total. ","")) | CF42: =IF(AND(D42>0,AH42=""),"* No olvide digitar la variable Niños, niñas, adolescentes y jóvenes SENAME (Digite CERO si no tiene). ",IF(AH42>$D42,"* La suma de Niños, niñas, adolescentes y jóvenes SENAME no puede superar el Total. ","")) | CK42: =IF(AND($D42<>0,AB42=""),1,IF(AB42>$D42,1,0)) -> 0 | CL42: =IF(AND($D42<>0,AC42=""),1,IF(AC42>$D42,1,0)) -> 0 | CM42: =IF(AND($D42<>0,AD42=""),1,IF(AD42>$D42,1,0)) -> 0 | CN42: =IF(AND($D42<>0,AE42=""),1,IF(AE42>$D42,1,0)) -> 0 | CO42: =IF(AND(D42>0,OR(AF42="",AG42="",)),1,IF(AF42+AG42>$D42,1,0)) -> 0 | CP42: =IF(AND(D42>0,AH42=""),1,IF(AH42>$D42,1,0)) -> 0
C43: Auto cuidado | D43: =SUM(U43:X43) -> 0 | AI43: =CA43&CB43&CC43&CD43&CE43&CF43 | CA43: =IF(AND($D43<>0,AB43=""),"* No olvide ingresar la columna "&AB$9&""&" (Digite CERO si no tiene). ",IF(AB43>$D43,"* El Número de Familias en Riesgo no puede superar el Total. ","")) | CB43: =IF(AND($D43<>0,AC43=""),"* No olvide ingresar la variable "&AC$9&""&" (Digite CERO si no tiene). ",IF(AC43>$D43,"* La variable Pueblos Originarios no puede superar el Total. ","")) | CC43: =IF(AND($D43<>0,AD43=""),"* No olvide ingresar la variable "&AD$9&""&" (Digite CERO si no tiene). ",IF(AD43>$D43,"* La variable Migrantes no puede superar el Total. ","")) | CD43: =IF(AND($D43<>0,AE43=""),"* No olvide ingresar la variable "&AE$9&""&" (Digite CERO si no tiene). ",IF(AE43>$D43,"* La variable Espacios Amigables/ Adolescentes no puede superar el Total. ","")) | CE43: =IF(AND(D43>0,OR(AF43="",AG43="",))," * No olvide digitar la variable TRANS Masculino/Femenino (Digite CERO si no tiene). ",IF(AF43+AG43>$D43,"* La suma de TRANS Masculino + Femenino no puede superar el Total. ","")) | CF43: =IF(AND(D43>0,AH43=""),"* No olvide digitar la variable Niños, niñas, adolescentes y jóvenes SENAME (Digite CERO si no tiene). ",IF(AH43>$D43,"* La suma de Niños, niñas, adolescentes y jóvenes SENAME no puede superar el Total. ","")) | CK43: =IF(AND($D43<>0,AB43=""),1,IF(AB43>$D43,1,0)) -> 0 | CL43: =IF(AND($D43<>0,AC43=""),1,IF(AC43>$D43,1,0)) -> 0 | CM43: =IF(AND($D43<>0,AD43=""),1,IF(AD43>$D43,1,0)) -> 0 | CN43: =IF(AND($D43<>0,AE43=""),1,IF(AE43>$D43,1,0)) -> 0 | CO43: =IF(AND(D43>0,OR(AF43="",AG43="",)),1,IF(AF43+AG43>$D43,1,0)) -> 0 | CP43: =IF(AND(D43>0,AH43=""),1,IF(AH43>$D43,1,0)) -> 0
C44: Otras temáticas | D44: =SUM(U44:X44) -> 0 | AI44: =CA44&CB44&CC44&CD44&CE44&CF44 | CA44: =IF(AND($D44<>0,AB44=""),"* No olvide ingresar la columna "&AB$9&""&" (Digite CERO si no tiene). ",IF(AB44>$D44,"* El Número de Familias en Riesgo no puede superar el Total. ","")) | CB44: =IF(AND($D44<>0,AC44=""),"* No olvide ingresar la variable "&AC$9&""&" (Digite CERO si no tiene). ",IF(AC44>$D44,"* La variable Pueblos Originarios no puede superar el Total. ","")) | CC44: =IF(AND($D44<>0,AD44=""),"* No olvide ingresar la variable "&AD$9&""&" (Digite CERO si no tiene). ",IF(AD44>$D44,"* La variable Migrantes no puede superar el Total. ","")) | CD44: =IF(AND($D44<>0,AE44=""),"* No olvide ingresar la variable "&AE$9&""&" (Digite CERO si no tiene). ",IF(AE44>$D44,"* La variable Espacios Amigables/ Adolescentes no puede superar el Total. ","")) | CE44: =IF(AND(D44>0,OR(AF44="",AG44="",))," * No olvide digitar la variable TRANS Masculino/Femenino (Digite CERO si no tiene). ",IF(AF44+AG44>$D44,"* La suma de TRANS Masculino + Femenino no puede superar el Total. ","")) | CF44: =IF(AND(D44>0,AH44=""),"* No olvide digitar la variable Niños, niñas, adolescentes y jóvenes SENAME (Digite CERO si no tiene). ",IF(AH44>$D44,"* La suma de Niños, niñas, adolescentes y jóvenes SENAME no puede superar el Total. ","")) | CK44: =IF(AND($D44<>0,AB44=""),1,IF(AB44>$D44,1,0)) -> 0 | CL44: =IF(AND($D44<>0,AC44=""),1,IF(AC44>$D44,1,0)) -> 0 | CM44: =IF(AND($D44<>0,AD44=""),1,IF(AD44>$D44,1,0)) -> 0 | CN44: =IF(AND($D44<>0,AE44=""),1,IF(AE44>$D44,1,0)) -> 0 | CO44: =IF(AND(D44>0,OR(AF44="",AG44="",)),1,IF(AF44+AG44>$D44,1,0)) -> 0 | CP44: =IF(AND(D44>0,AH44=""),1,IF(AH44>$D44,1,0)) -> 0
B45: Uso racional de medicamentos | D45: =SUM(E45:X45) -> 0 | AI45: =CA45&CB45&CC45&CD45&CE45&CF45 | CA45: =IF(AND($D45<>0,AB45=""),"* No olvide ingresar la columna "&AB$9&""&" (Digite CERO si no tiene). ",IF(AB45>$D45,"* El Número de Familias en Riesgo no puede superar el Total. ","")) | CB45: =IF(AND($D45<>0,AC45=""),"* No olvide ingresar la variable "&AC$9&""&" (Digite CERO si no tiene). ",IF(AC45>$D45,"* La variable Pueblos Originarios no puede superar el Total. ","")) | CC45: =IF(AND($D45<>0,AD45=""),"* No olvide ingresar la variable "&AD$9&""&" (Digite CERO si no tiene). ",IF(AD45>$D45,"* La variable Migrantes no puede superar el Total. ","")) | CD45: =IF(AND($D45<>0,AE45=""),"* No olvide ingresar la variable "&AE$9&""&" (Digite CERO si no tiene). ",IF(AE45>$D45,"* La variable Espacios Amigables/ Adolescentes no puede superar el Total. ","")) | CE45: =IF(AND(D45>0,OR(AF45="",AG45="",))," * No olvide digitar la variable TRANS Masculino/Femenino (Digite CERO si no tiene). ",IF(AF45+AG45>$D45,"* La suma de TRANS Masculino + Femenino no puede superar el Total. ","")) | CF45: =IF(AND(D45>0,AH45=""),"* No olvide digitar la variable Niños, niñas, adolescentes y jóvenes SENAME (Digite CERO si no tiene). ",IF(AH45>$D45,"* La suma de Niños, niñas, adolescentes y jóvenes SENAME no puede superar el Total. ","")) | CK45: =IF(AND($D45<>0,AB45=""),1,IF(AB45>$D45,1,0)) -> 0 | CL45: =IF(AND($D45<>0,AC45=""),1,IF(AC45>$D45,1,0)) -> 0 | CM45: =IF(AND($D45<>0,AD45=""),1,IF(AD45>$D45,1,0)) -> 0 | CN45: =IF(AND($D45<>0,AE45=""),1,IF(AE45>$D45,1,0)) -> 0 | CO45: =IF(AND(D45>0,OR(AF45="",AG45="",)),1,IF(AF45+AG45>$D45,1,0)) -> 0 | CP45: =IF(AND(D45>0,AH45=""),1,IF(AH45>$D45,1,0)) -> 0
B46: Resistencia antimicrobianos | D46: =SUM(E46:X46) -> 0 | AI46: =CA46&CB46&CC46&CD46&CE46&CF46 | CA46: =IF(AND($D46<>0,AB46=""),"* No olvide ingresar la columna "&AB$9&""&" (Digite CERO si no tiene). ",IF(AB46>$D46,"* El Número de Familias en Riesgo no puede superar el Total. ","")) | CB46: =IF(AND($D46<>0,AC46=""),"* No olvide ingresar la variable "&AC$9&""&" (Digite CERO si no tiene). ",IF(AC46>$D46,"* La variable Pueblos Originarios no puede superar el Total. ","")) | CC46: =IF(AND($D46<>0,AD46=""),"* No olvide ingresar la variable "&AD$9&""&" (Digite CERO si no tiene). ",IF(AD46>$D46,"* La variable Migrantes no puede superar el Total. ","")) | CD46: =IF(AND($D46<>0,AE46=""),"* No olvide ingresar la variable "&AE$9&""&" (Digite CERO si no tiene). ",IF(AE46>$D46,"* La variable Espacios Amigables/ Adolescentes no puede superar el Total. ","")) | CE46: =IF(AND(D46>0,OR(AF46="",AG46="",))," * No olvide digitar la variable TRANS Masculino/Femenino (Digite CERO si no tiene). ",IF(AF46+AG46>$D46,"* La suma de TRANS Masculino + Femenino no puede superar el Total. ","")) | CF46: =IF(AND(D46>0,AH46=""),"* No olvide digitar la variable Niños, niñas, adolescentes y jóvenes SENAME (Digite CERO si no tiene). ",IF(AH46>$D46,"* La suma de Niños, niñas, adolescentes y jóvenes SENAME no puede superar el Total. ","")) | CK46: =IF(AND($D46<>0,AB46=""),1,IF(AB46>$D46,1,0)) -> 0 | CL46: =IF(AND($D46<>0,AC46=""),1,IF(AC46>$D46,1,0)) -> 0 | CM46: =IF(AND($D46<>0,AD46=""),1,IF(AD46>$D46,1,0)) -> 0 | CN46: =IF(AND($D46<>0,AE46=""),1,IF(AE46>$D46,1,0)) -> 0 | CO46: =IF(AND(D46>0,OR(AF46="",AG46="",)),1,IF(AF46+AG46>$D46,1,0)) -> 0 | CP46: =IF(AND(D46>0,AH46=""),1,IF(AH46>$D46,1,0)) -> 0
B47: Capacitación a Cuidadores PADDS | C47: Autocuidado del Cuidador/a | D47: =SUM(K47:X47) -> 0 | AI47: =CA47&CB47&CC47&CD47&CE47&CF47 | CA47: =IF(AND($D47<>0,AB47=""),"* No olvide ingresar la columna "&AB$9&""&" (Digite CERO si no tiene). ",IF(AB47>$D47,"* El Número de Familias en Riesgo no puede superar el Total. ","")) | CB47: =IF(AND($D47<>0,AC47=""),"* No olvide ingresar la variable "&AC$9&""&" (Digite CERO si no tiene). ",IF(AC47>$D47,"* La variable Pueblos Originarios no puede superar el Total. ","")) | CC47: =IF(AND($D47<>0,AD47=""),"* No olvide ingresar la variable "&AD$9&""&" (Digite CERO si no tiene). ",IF(AD47>$D47,"* La variable Migrantes no puede superar el Total. ","")) | CD47: =IF(AND($D47<>0,AE47=""),"* No olvide ingresar la variable "&AE$9&""&" (Digite CERO si no tiene). ",IF(AE47>$D47,"* La variable Espacios Amigables/ Adolescentes no puede superar el Total. ","")) | CE47: =IF(AND(D47>0,OR(AF47="",AG47="",))," * No olvide digitar la variable TRANS Masculino/Femenino (Digite CERO si no tiene). ",IF(AF47+AG47>$D47,"* La suma de TRANS Masculino + Femenino no puede superar el Total. ","")) | CF47: =IF(AND(D47>0,AH47=""),"* No olvide digitar la variable Niños, niñas, adolescentes y jóvenes SENAME (Digite CERO si no tiene). ",IF(AH47>$D47,"* La suma de Niños, niñas, adolescentes y jóvenes SENAME no puede superar el Total. ","")) | CK47: =IF(AND($D47<>0,AB47=""),1,IF(AB47>$D47,1,0)) -> 0 | CL47: =IF(AND($D47<>0,AC47=""),1,IF(AC47>$D47,1,0)) -> 0 | CM47: =IF(AND($D47<>0,AD47=""),1,IF(AD47>$D47,1,0)) -> 0 | CN47: =IF(AND($D47<>0,AE47=""),1,IF(AE47>$D47,1,0)) -> 0 | CO47: =IF(AND(D47>0,OR(AF47="",AG47="",)),1,IF(AF47+AG47>$D47,1,0)) -> 0 | CP47: =IF(AND(D47>0,AH47=""),1,IF(AH47>$D47,1,0)) -> 0
C48: Cuidados de la persona con Dependencia | D48: =SUM(K48:X48) -> 0 | AI48: =CA48&CB48&CC48&CD48&CE48&CF48 | CA48: =IF(AND($D48<>0,AB48=""),"* No olvide ingresar la columna "&AB$9&""&" (Digite CERO si no tiene). ",IF(AB48>$D48,"* El Número de Familias en Riesgo no puede superar el Total. ","")) | CB48: =IF(AND($D48<>0,AC48=""),"* No olvide ingresar la variable "&AC$9&""&" (Digite CERO si no tiene). ",IF(AC48>$D48,"* La variable Pueblos Originarios no puede superar el Total. ","")) | CC48: =IF(AND($D48<>0,AD48=""),"* No olvide ingresar la variable "&AD$9&""&" (Digite CERO si no tiene). ",IF(AD48>$D48,"* La variable Migrantes no puede superar el Total. ","")) | CD48: =IF(AND($D48<>0,AE48=""),"* No olvide ingresar la variable "&AE$9&""&" (Digite CERO si no tiene). ",IF(AE48>$D48,"* La variable Espacios Amigables/ Adolescentes no puede superar el Total. ","")) | CE48: =IF(AND(D48>0,OR(AF48="",AG48="",))," * No olvide digitar la variable TRANS Masculino/Femenino (Digite CERO si no tiene). ",IF(AF48+AG48>$D48,"* La suma de TRANS Masculino + Femenino no puede superar el Total. ","")) | CF48: =IF(AND(D48>0,AH48=""),"* No olvide digitar la variable Niños, niñas, adolescentes y jóvenes SENAME (Digite CERO si no tiene). ",IF(AH48>$D48,"* La suma de Niños, niñas, adolescentes y jóvenes SENAME no puede superar el Total. ","")) | CK48: =IF(AND($D48<>0,AB48=""),1,IF(AB48>$D48,1,0)) -> 0 | CL48: =IF(AND($D48<>0,AC48=""),1,IF(AC48>$D48,1,0)) -> 0 | CM48: =IF(AND($D48<>0,AD48=""),1,IF(AD48>$D48,1,0)) -> 0 | CN48: =IF(AND($D48<>0,AE48=""),1,IF(AE48>$D48,1,0)) -> 0 | CO48: =IF(AND(D48>0,OR(AF48="",AG48="",)),1,IF(AF48+AG48>$D48,1,0)) -> 0 | CP48: =IF(AND(D48>0,AH48=""),1,IF(AH48>$D48,1,0)) -> 0
C49: ⁠Redes y sistemas de apoyo a la diada del cuidado | D49: =SUM(K49:X49) -> 0 | AI49: =CA49&CB49&CC49&CD49&CE49&CF49 | CA49: =IF(AND($D49<>0,AB49=""),"* No olvide ingresar la columna "&AB$9&""&" (Digite CERO si no tiene). ",IF(AB49>$D49,"* El Número de Familias en Riesgo no puede superar el Total. ","")) | CB49: =IF(AND($D49<>0,AC49=""),"* No olvide ingresar la variable "&AC$9&""&" (Digite CERO si no tiene). ",IF(AC49>$D49,"* La variable Pueblos Originarios no puede superar el Total. ","")) | CC49: =IF(AND($D49<>0,AD49=""),"* No olvide ingresar la variable "&AD$9&""&" (Digite CERO si no tiene). ",IF(AD49>$D49,"* La variable Migrantes no puede superar el Total. ","")) | CD49: =IF(AND($D49<>0,AE49=""),"* No olvide ingresar la variable "&AE$9&""&" (Digite CERO si no tiene). ",IF(AE49>$D49,"* La variable Espacios Amigables/ Adolescentes no puede superar el Total. ","")) | CE49: =IF(AND(D49>0,OR(AF49="",AG49="",))," * No olvide digitar la variable TRANS Masculino/Femenino (Digite CERO si no tiene). ",IF(AF49+AG49>$D49,"* La suma de TRANS Masculino + Femenino no puede superar el Total. ","")) | CF49: =IF(AND(D49>0,AH49=""),"* No olvide digitar la variable Niños, niñas, adolescentes y jóvenes SENAME (Digite CERO si no tiene). ",IF(AH49>$D49,"* La suma de Niños, niñas, adolescentes y jóvenes SENAME no puede superar el Total. ","")) | CK49: =IF(AND($D49<>0,AB49=""),1,IF(AB49>$D49,1,0)) -> 0 | CL49: =IF(AND($D49<>0,AC49=""),1,IF(AC49>$D49,1,0)) -> 0 | CM49: =IF(AND($D49<>0,AD49=""),1,IF(AD49>$D49,1,0)) -> 0 | CN49: =IF(AND($D49<>0,AE49=""),1,IF(AE49>$D49,1,0)) -> 0 | CO49: =IF(AND(D49>0,OR(AF49="",AG49="",)),1,IF(AF49+AG49>$D49,1,0)) -> 0 | CP49: =IF(AND(D49>0,AH49=""),1,IF(AH49>$D49,1,0)) -> 0
C50: Cuidados de fin de vida y duelo | D50: =SUM(K50:X50) -> 0 | AI50: =CA50&CB50&CC50&CD50&CE50&CF50 | CA50: =IF(AND($D50<>0,AB50=""),"* No olvide ingresar la columna "&AB$9&""&" (Digite CERO si no tiene). ",IF(AB50>$D50,"* El Número de Familias en Riesgo no puede superar el Total. ","")) | CB50: =IF(AND($D50<>0,AC50=""),"* No olvide ingresar la variable "&AC$9&""&" (Digite CERO si no tiene). ",IF(AC50>$D50,"* La variable Pueblos Originarios no puede superar el Total. ","")) | CC50: =IF(AND($D50<>0,AD50=""),"* No olvide ingresar la variable "&AD$9&""&" (Digite CERO si no tiene). ",IF(AD50>$D50,"* La variable Migrantes no puede superar el Total. ","")) | CD50: =IF(AND($D50<>0,AE50=""),"* No olvide ingresar la variable "&AE$9&""&" (Digite CERO si no tiene). ",IF(AE50>$D50,"* La variable Espacios Amigables/ Adolescentes no puede superar el Total. ","")) | CE50: =IF(AND(D50>0,OR(AF50="",AG50="",))," * No olvide digitar la variable TRANS Masculino/Femenino (Digite CERO si no tiene). ",IF(AF50+AG50>$D50,"* La suma de TRANS Masculino + Femenino no puede superar el Total. ","")) | CF50: =IF(AND(D50>0,AH50=""),"* No olvide digitar la variable Niños, niñas, adolescentes y jóvenes SENAME (Digite CERO si no tiene). ",IF(AH50>$D50,"* La suma de Niños, niñas, adolescentes y jóvenes SENAME no puede superar el Total. ","")) | CK50: =IF(AND($D50<>0,AB50=""),1,IF(AB50>$D50,1,0)) -> 0 | CL50: =IF(AND($D50<>0,AC50=""),1,IF(AC50>$D50,1,0)) -> 0 | CM50: =IF(AND($D50<>0,AD50=""),1,IF(AD50>$D50,1,0)) -> 0 | CN50: =IF(AND($D50<>0,AE50=""),1,IF(AE50>$D50,1,0)) -> 0 | CO50: =IF(AND(D50>0,OR(AF50="",AG50="",)),1,IF(AF50+AG50>$D50,1,0)) -> 0 | CP50: =IF(AND(D50>0,AH50=""),1,IF(AH50>$D50,1,0)) -> 0
B51: Educación en seguridad vial | C51: Mujeres | D51: =SUM(E51:X51) -> 0 | AI51: =CA51&CB51&CC51&CD51&CE51&CF51 | CB51: =IF(AND($D51<>0,AC51=""),"* No olvide ingresar la variable "&AC$9&""&" (Digite CERO si no tiene). ",IF(AC51>$D51,"* La variable Pueblos Originarios no puede superar el Total. ","")) | CC51: =IF(AND($D51<>0,AD51=""),"* No olvide ingresar la variable "&AD$9&""&" (Digite CERO si no tiene). ",IF(AD51>$D51,"* La variable Migrantes no puede superar el Total. ","")) | CD51: =IF(AND($D51<>0,AE51=""),"* No olvide ingresar la variable "&AE$9&""&" (Digite CERO si no tiene). ",IF(AE51>$D51,"* La variable Espacios Amigables/ Adolescentes no puede superar el Total. ","")) | CE51: =IF(AND(D51>0,OR(AF51="",AG51="",))," * No olvide digitar la variable TRANS Masculino/Femenino (Digite CERO si no tiene). ",IF(AF51+AG51>$D51,"* La suma de TRANS Masculino + Femenino no puede superar el Total. ","")) | CF51: =IF(AND(D51>0,AH51=""),"* No olvide digitar la variable Niños, niñas, adolescentes y jóvenes SENAME (Digite CERO si no tiene). ",IF(AH51>$D51,"* La suma de Niños, niñas, adolescentes y jóvenes SENAME no puede superar el Total. ","")) | CL51: =IF(AND($D51<>0,AC51=""),1,IF(AC51>$D51,1,0)) -> 0 | CM51: =IF(AND($D51<>0,AD51=""),1,IF(AD51>$D51,1,0)) -> 0 | CN51: =IF(AND($D51<>0,AE51=""),1,IF(AE51>$D51,1,0)) -> 0 | CO51: =IF(AND(D51>0,OR(AF51="",AG51="",)),1,IF(AF51+AG51>$D51,1,0)) -> 0 | CP51: =IF(AND(D51>0,AH51=""),1,IF(AH51>$D51,1,0)) -> 0
