Workbook

Sheet CONSOLIDADO
A1: SERVICIO DE SALUD
A2: =CONCATENATE("COMUNA: ",[1]NOMBRE!B2, " (",[1]NOMBRE!C2,[1]NOMBRE!D2,[1]NOMBRE!E2,[1]NOMBRE!F2,[1]NOMBRE!G2,")") -> COMUNA: 0 (00000)
A3: =CONCATENATE("ESTABLECIMIENTO/ESTRATEGIA: ", [1]NOMBRE!B3, " (",[1]NOMBRE!C3,[1]NOMBRE!D3,[1]NOMBRE!E3,[1]NOMBRE!F3,[1]NOMBRE!G3,[1]NOMBRE!H3,")") -> ESTABLECIMIENTO/ESTRATEGIA: 0 (000000)
A4: =CONCATENATE("MES: ",[1]NOMBRE!B6, " (",[1]NOMBRE!C6,[1]NOMBRE!D6,")") -> MES: 0 (00)
A5: =CONCATENATE("AÑO: ",[1]NOMBRE!B7) -> AÑO: 2025
A6: REM-26. ACTIVIDADES EN DOMICILIO Y OTROS ESPACIOS
A8: SECCIÓN A: VISITAS DOMICILIARIAS INTEGRALES A FAMILIAS (ESTABLECIMIENTOS APS)
A9: CONCEPTOS | C9: TOTAL | D9: Un Profesional | E9: Dos o Más Profesionales | F9: Un Profesional y Un Técnico En Enfermería | G9: Técnico En Enfermería | H9: Facilitador/a Intercultural Pueblos Originarios | I9: Agente Comunitario | J9: Primera Visita | K9: Segunda Visita | L9: Tercera o Más Visitas De Seguimiento | M9: Programa de Acompañamiento Psicosocial en APS | N9: Pueblos Originarios | O9: Migrantes | P9: Espacios Amigables/ Adolescente | Q9: Gestante con 3 o más riesgos | R9: Niños, Niñas, Adolescentes y Jóvenes SENAME | S9: Niños, niñas, Adolescentes y Jóvenes Mejor Niñez
A10: Familia con niño prematuro | C10: =SUM(D10:G10) -> 0 | D10: =SUM(ENERO:DICIEMBRE!D10) -> 0 | T10: =BQ10&BS10&BT10&BU10&BW10&BX10 | BQ10: =IF((J10+K10+L10)<>C10," * La suma del N° de Primera visita + Segunda visita + Tercera o más visitas de seguimiento debe ser igual al Total.","") | BS10: =IF(AND(C10>0,N10="")," * No olvide digitar la variable Pueblos Originarios. Digite Cero si no tiene..",IF(N10>C10," * La variable Pueblos Originarios no puede ser mayor al Total.","")) | BT10: =IF(AND(C10>0,O10="")," * No olvide digitar la variable Migrantes. Digite Cero si no tiene.",IF(O10>C10," * La variable Migrantes no puede ser mayor al Total.","")) | BU10: =IF(AND($C10>0,P10="")," * No olvide digitar la variable Espacio Amigable/Adolescente. Digite Cero si no tiene.",IF(P10>$C10," * La variable Espacio Amigable/Adolescente no puede ser mayor al Total.","")) | BW10: =IF(AND($C10>0,R10="")," * No olvide digitar la variable Niños, Niñas, Adolescentes y Jóvenes SENAME. Digite Cero si no tiene.",IF(R10>$C10," * La variable Niños, Niñas, Adolescentes y Jóvenes SENAME no puede ser mayor al Total.","")) | BX10: =IF(AND($C10>0,S10="")," * No olvide digitar la variable Niños, niñas, Adolescentes y Jóvenes Mejor Niñez. Digite Cero si no tiene.",IF(S10>$C10," * La variable Niños, niñas, Adolescentes y Jóvenes Mejor Niñez no puede ser mayor al Total.","")) | BZ10: =IF((J10+K10+L10)<>C10,1,0) -> 0 | CB10: =IF(AND(C10>0,N10=""),1,IF(N10>C10,1,0)) -> 0 | CC10: =IF(AND(C10>0,O10=""),1,IF(O10>C10,1,0)) -> 0 | CD10: =IF(AND($C10>0,P10=""),1,IF(P10>$C10,1,0)) -> 0 | CF10: =IF(AND($C10>0,R10=""),1,IF(R10>$C10,1,0)) -> 0 | CG10: =IF(AND($C10>0,S10=""),1,IF(S10>$C10,1,0)) -> 0
A11: Familia con niño recién nacido | C11: =SUM(D11:G11) -> 0 | T11: =BQ11&BS11&BT11&BU11&BW11&BX11 | BQ11: =IF((J11+K11+L11)<>C11," * La suma del N° de Primera visita + Segunda visita + Tercera o más visitas de seguimiento debe coincidir con el Total.","") | BS11: =IF(AND(C11>0,N11="")," * No olvide digitar la variable Pueblos Originarios. Digite Cero si no tiene..",IF(N11>C11," * La variable Pueblos Originarios no puede ser mayor al Total.","")) | BT11: =IF(AND(C11>0,O11="")," * No olvide digitar la variable Migrantes. Digite Cero si no tiene.",IF(O11>C11," * La variable Migrantes no puede ser mayor al Total.","")) | BU11: =IF(AND($C11>0,P11="")," * No olvide digitar la variable Espacio Amigable/Adolescente. Digite Cero si no tiene.",IF(P11>$C11," * La variable Espacio Amigable/Adolescente no puede ser mayor al Total.","")) | BW11: =IF(AND($C11>0,R11="")," * No olvide digitar la variable Niños, Niñas, Adolescentes y Jóvenes SENAME. Digite Cero si no tiene.",IF(R11>$C11," * La variable Niños, Niñas, Adolescentes y Jóvenes SENAME no puede ser mayor al Total.","")) | BX11: =IF(AND($C11>0,S11="")," * No olvide digitar la variable Niños, niñas, Adolescentes y Jóvenes Mejor Niñez. Digite Cero si no tiene.",IF(S11>$C11," * La variable Niños, niñas, Adolescentes y Jóvenes Mejor Niñez no puede ser mayor al Total.","")) | BZ11: =IF((J11+K11+L11)<>C11,1,0) -> 0 | CB11: =IF(AND(C11>0,N11=""),1,IF(N11>C11,1,0)) -> 0 | CC11: =IF(AND(C11>0,O11=""),1,IF(O11>C11,1,0)) -> 0 | CD11: =IF(AND($C11>0,P11=""),1,IF(P11>$C11,1,0)) -> 0 | CF11: =IF(AND($C11>0,R11=""),1,IF(R11>$C11,1,0)) -> 0 | CG11: =IF(AND($C11>0,S11=""),1,IF(S11>$C11,1,0)) -> 0
A12: Familia con niño con déficit del DSM | C12: =SUM(D12:G12) -> 0 | T12: =BQ12&BS12&BT12&BU12&BW12&BX12 | BQ12: =IF((J12+K12+L12)<>C12," * La suma del N° de Primera visita + Segunda visita + Tercera o más visitas de seguimiento debe coincidir con el Total.","") | BS12: =IF(AND(C12>0,N12="")," * No olvide digitar la variable Pueblos Originarios. Digite Cero si no tiene..",IF(N12>C12," * La variable Pueblos Originarios no puede ser mayor al Total.","")) | BT12: =IF(AND(C12>0,O12="")," * No olvide digitar la variable Migrantes. Digite Cero si no tiene.",IF(O12>C12," * La variable Migrantes no puede ser mayor al Total.","")) | BU12: =IF(AND($C12>0,P12="")," * No olvide digitar la variable Espacio Amigable/Adolescente. Digite Cero si no tiene.",IF(P12>$C12," * La variable Espacio Amigable/Adolescente no puede ser mayor al Total.","")) | BW12: =IF(AND($C12>0,R12="")," * No olvide digitar la variable Niños, Niñas, Adolescentes y Jóvenes SENAME. Digite Cero si no tiene.",IF(R12>$C12," * La variable Niños, Niñas, Adolescentes y Jóvenes SENAME no puede ser mayor al Total.","")) | BX12: =IF(AND($C12>0,S12="")," * No olvide digitar la variable Niños, niñas, Adolescentes y Jóvenes Mejor Niñez. Digite Cero si no tiene.",IF(S12>$C12," * La variable Niños, niñas, Adolescentes y Jóvenes Mejor Niñez no puede ser mayor al Total.","")) | BZ12: =IF((J12+K12+L12)<>C12,1,0) -> 0 | CB12: =IF(AND(C12>0,N12=""),1,IF(N12>C12,1,0)) -> 0 | CC12: =IF(AND(C12>0,O12=""),1,IF(O12>C12,1,0)) -> 0 | CD12: =IF(AND($C12>0,P12=""),1,IF(P12>$C12,1,0)) -> 0 | CF12: =IF(AND($C12>0,R12=""),1,IF(R12>$C12,1,0)) -> 0 | CG12: =IF(AND($C12>0,S12=""),1,IF(S12>$C12,1,0)) -> 0
A13: Familia con niño en riesgo vincular afectivo | C13: =SUM(D13:G13) -> 0 | T13: =BQ13&BS13&BT13&BU13&BW13&BX13 | BQ13: =IF((J13+K13+L13)<>C13," * La suma del N° de Primera visita + Segunda visita + Tercera o más visitas de seguimiento debe coincidir con el Total.","") | BS13: =IF(AND(C13>0,N13="")," * No olvide digitar la variable Pueblos Originarios. Digite Cero si no tiene..",IF(N13>C13," * La variable Pueblos Originarios no puede ser mayor al Total.","")) | BT13: =IF(AND(C13>0,O13="")," * No olvide digitar la variable Migrantes. Digite Cero si no tiene.",IF(O13>C13," * La variable Migrantes no puede ser mayor al Total.","")) | BU13: =IF(AND($C13>0,P13="")," * No olvide digitar la variable Espacio Amigable/Adolescente. Digite Cero si no tiene.",IF(P13>$C13," * La variable Espacio Amigable/Adolescente no puede ser mayor al Total.","")) | BW13: =IF(AND($C13>0,R13="")," * No olvide digitar la variable Niños, Niñas, Adolescentes y Jóvenes SENAME. Digite Cero si no tiene.",IF(R13>$C13," * La variable Niños, Niñas, Adolescentes y Jóvenes SENAME no puede ser mayor al Total.","")) | BX13: =IF(AND($C13>0,S13="")," * No olvide digitar la variable Niños, niñas, Adolescentes y Jóvenes Mejor Niñez. Digite Cero si no tiene.",IF(S13>$C13," * La variable Niños, niñas, Adolescentes y Jóvenes Mejor Niñez no puede ser mayor al Total.","")) | BZ13: =IF((J13+K13+L13)<>C13,1,0) -> 0 | CB13: =IF(AND(C13>0,N13=""),1,IF(N13>C13,1,0)) -> 0 | CC13: =IF(AND(C13>0,O13=""),1,IF(O13>C13,1,0)) -> 0 | CD13: =IF(AND($C13>0,P13=""),1,IF(P13>$C13,1,0)) -> 0 | CF13: =IF(AND($C13>0,R13=""),1,IF(R13>$C13,1,0)) -> 0 | CG13: =IF(AND($C13>0,S13=""),1,IF(S13>$C13,1,0)) -> 0
A14: Familia con niño de 0 a 12 meses con score de riesgo moderado de morir por neumonía | C14: =SUM(D14:G14) -> 0 | T14: =BQ14&BS14&BT14&BU14&BW14&BX14 | BQ14: =IF((J14+K14+L14)<>C14," * La suma del N° de Primera visita + Segunda visita + Tercera o más visitas de seguimiento debe coincidir con el Total.","") | BS14: =IF(AND(C14>0,N14="")," * No olvide digitar la variable Pueblos Originarios. Digite Cero si no tiene..",IF(N14>C14," * La variable Pueblos Originarios no puede ser mayor al Total.","")) | BT14: =IF(AND(C14>0,O14="")," * No olvide digitar la variable Migrantes. Digite Cero si no tiene.",IF(O14>C14," * La variable Migrantes no puede ser mayor al Total.","")) | BU14: =IF(AND($C14>0,P14="")," * No olvide digitar la variable Espacio Amigable/Adolescente. Digite Cero si no tiene.",IF(P14>$C14," * La variable Espacio Amigable/Adolescente no puede ser mayor al Total.","")) | BW14: =IF(AND($C14>0,R14="")," * No olvide digitar la variable Niños, Niñas, Adolescentes y Jóvenes SENAME. Digite Cero si no tiene.",IF(R14>$C14," * La variable Niños, Niñas, Adolescentes y Jóvenes SENAME no puede ser mayor al Total.","")) | BX14: =IF(AND($C14>0,S14="")," * No olvide digitar la variable Niños, niñas, Adolescentes y Jóvenes Mejor Niñez. Digite Cero si no tiene.",IF(S14>$C14," * La variable Niños, niñas, Adolescentes y Jóvenes Mejor Niñez no puede ser mayor al Total.","")) | BZ14: =IF((J14+K14+L14)<>C14,1,0) -> 0 | CB14: =IF(AND(C14>0,N14=""),1,IF(N14>C14,1,0)) -> 0 | CC14: =IF(AND(C14>0,O14=""),1,IF(O14>C14,1,0)) -> 0 | CD14: =IF(AND($C14>0,P14=""),1,IF(P14>$C14,1,0)) -> 0 | CF14: =IF(AND($C14>0,R14=""),1,IF(R14>$C14,1,0)) -> 0 | CG14: =IF(AND($C14>0,S14=""),1,IF(S14>$C14,1,0)) -> 0
A15: Familia con niño de 0 a 12 meses con score de riesgo grave de morir por neumonía | C15: =SUM(D15:G15) -> 0 | T15: =BQ15&BS15&BT15&BU15&BW15&BX15 | BQ15: =IF((J15+K15+L15)<>C15," * La suma del N° de Primera visita + Segunda visita + Tercera o más visitas de seguimiento debe coincidir con el Total.","") | BS15: =IF(AND(C15>0,N15="")," * No olvide digitar la variable Pueblos Originarios. Digite Cero si no tiene..",IF(N15>C15," * La variable Pueblos Originarios no puede ser mayor al Total.","")) | BT15: =IF(AND(C15>0,O15="")," * No olvide digitar la variable Migrantes. Digite Cero si no tiene.",IF(O15>C15," * La variable Migrantes no puede ser mayor al Total.","")) | BU15: =IF(AND($C15>0,P15="")," * No olvide digitar la variable Espacio Amigable/Adolescente. Digite Cero si no tiene.",IF(P15>$C15," * La variable Espacio Amigable/Adolescente no puede ser mayor al Total.","")) | BW15: =IF(AND($C15>0,R15="")," * No olvide digitar la variable Niños, Niñas, Adolescentes y Jóvenes SENAME. Digite Cero si no tiene.",IF(R15>$C15," * La variable Niños, Niñas, Adolescentes y Jóvenes SENAME no puede ser mayor al Total.","")) | BX15: =IF(AND($C15>0,S15="")," * No olvide digitar la variable Niños, niñas, Adolescentes y Jóvenes Mejor Niñez. Digite Cero si no tiene.",IF(S15>$C15," * La variable Niños, niñas, Adolescentes y Jóvenes Mejor Niñez no puede ser mayor al Total.","")) | BZ15: =IF((J15+K15+L15)<>C15,1,0) -> 0 | CB15: =IF(AND(C15>0,N15=""),1,IF(N15>C15,1,0)) -> 0 | CC15: =IF(AND(C15>0,O15=""),1,IF(O15>C15,1,0)) -> 0 | CD15: =IF(AND($C15>0,P15=""),1,IF(P15>$C15,1,0)) -> 0 | CF15: =IF(AND($C15>0,R15=""),1,IF(R15>$C15,1,0)) -> 0 | CG15: =IF(AND($C15>0,S15=""),1,IF(S15>$C15,1,0)) -> 0
A16: Familia con niño con problema respiratorio crónico o no controlado | C16: =SUM(D16:G16) -> 0 | T16: =BQ16&BS16&BT16&BU16&BW16&BX16 | BQ16: =IF((J16+K16+L16)<>C16," * La suma del N° de Primera visita + Segunda visita + Tercera o más visitas de seguimiento debe coincidir con el Total.","") | BS16: =IF(AND(C16>0,N16="")," * No olvide digitar la variable Pueblos Originarios. Digite Cero si no tiene..",IF(N16>C16," * La variable Pueblos Originarios no puede ser mayor al Total.","")) | BT16: =IF(AND(C16>0,O16="")," * No olvide digitar la variable Migrantes. Digite Cero si no tiene.",IF(O16>C16," * La variable Migrantes no puede ser mayor al Total.","")) | BU16: =IF(AND($C16>0,P16="")," * No olvide digitar la variable Espacio Amigable/Adolescente. Digite Cero si no tiene.",IF(P16>$C16," * La variable Espacio Amigable/Adolescente no puede ser mayor al Total.","")) | BW16: =IF(AND($C16>0,R16="")," * No olvide digitar la variable Niños, Niñas, Adolescentes y Jóvenes SENAME. Digite Cero si no tiene.",IF(R16>$C16," * La variable Niños, Niñas, Adolescentes y Jóvenes SENAME no puede ser mayor al Total.","")) | BX16: =IF(AND($C16>0,S16="")," * No olvide digitar la variable Niños, niñas, Adolescentes y Jóvenes Mejor Niñez. Digite Cero si no tiene.",IF(S16>$C16," * La variable Niños, niñas, Adolescentes y Jóvenes Mejor Niñez no puede ser mayor al Total.","")) | BZ16: =IF((J16+K16+L16)<>C16,1,0) -> 0 | CB16: =IF(AND(C16>0,N16=""),1,IF(N16>C16,1,0)) -> 0 | CC16: =IF(AND(C16>0,O16=""),1,IF(O16>C16,1,0)) -> 0 | CD16: =IF(AND($C16>0,P16=""),1,IF(P16>$C16,1,0)) -> 0 | CF16: =IF(AND($C16>0,R16=""),1,IF(R16>$C16,1,0)) -> 0 | CG16: =IF(AND($C16>0,S16=""),1,IF(S16>$C16,1,0)) -> 0
A17: Familia con niño malnutrido | C17: =SUM(D17:G17) -> 0 | T17: =BQ17&BS17&BT17&BU17&BW17&BX17 | BQ17: =IF((J17+K17+L17)<>C17," * La suma del N° de Primera visita + Segunda visita + Tercera o más visitas de seguimiento debe coincidir con el Total.","") | BS17: =IF(AND(C17>0,N17="")," * No olvide digitar la variable Pueblos Originarios. Digite Cero si no tiene..",IF(N17>C17," * La variable Pueblos Originarios no puede ser mayor al Total.","")) | BT17: =IF(AND(C17>0,O17="")," * No olvide digitar la variable Migrantes. Digite Cero si no tiene.",IF(O17>C17," * La variable Migrantes no puede ser mayor al Total.","")) | BU17: =IF(AND($C17>0,P17="")," * No olvide digitar la variable Espacio Amigable/Adolescente. Digite Cero si no tiene.",IF(P17>$C17," * La variable Espacio Amigable/Adolescente no puede ser mayor al Total.","")) | BW17: =IF(AND($C17>0,R17="")," * No olvide digitar la variable Niños, Niñas, Adolescentes y Jóvenes SENAME. Digite Cero si no tiene.",IF(R17>$C17," * La variable Niños, Niñas, Adolescentes y Jóvenes SENAME no puede ser mayor al Total.","")) | BX17: =IF(AND($C17>0,S17="")," * No olvide digitar la variable Niños, niñas, Adolescentes y Jóvenes Mejor Niñez. Digite Cero si no tiene.",IF(S17>$C17," * La variable Niños, niñas, Adolescentes y Jóvenes Mejor Niñez no puede ser mayor al Total.","")) | BZ17: =IF((J17+K17+L17)<>C17,1,0) -> 0 | CB17: =IF(AND(C17>0,N17=""),1,IF(N17>C17,1,0)) -> 0 | CC17: =IF(AND(C17>0,O17=""),1,IF(O17>C17,1,0)) -> 0 | CD17: =IF(AND($C17>0,P17=""),1,IF(P17>$C17,1,0)) -> 0 | CF17: =IF(AND($C17>0,R17=""),1,IF(R17>$C17,1,0)) -> 0 | CG17: =IF(AND($C17>0,S17=""),1,IF(S17>$C17,1,0)) -> 0
A18: Familia con niño con riesgo psicosocial (excluye vincular afectivo) | C18: =SUM(D18:G18) -> 0 | T18: =BQ18&BR18&BS18&BT18&BU18&BW18&BX18 | BQ18: =IF((J18+K18+L18)<>C18," * La suma del N° de Primera visita + Segunda visita + Tercera o más visitas de seguimiento debe coincidir con el Total.","") | BR18: =IF(AND(C18>0,M18="")," * No olvide digitar la variable Programa de Acompañamiento Psicosocial en APS. Si no tiene digite Cero.",IF(M18>C18," * La variable Programa de Acompañamiento Psicosocial en APS no puede ser mayor al Total.","")) | BS18: =IF(AND(C18>0,N18="")," * No olvide digitar la variable Pueblos Originarios. Digite Cero si no tiene..",IF(N18>C18," * La variable Pueblos Originarios no puede ser mayor al Total.","")) | BT18: =IF(AND(C18>0,O18="")," * No olvide digitar la variable Migrantes. Digite Cero si no tiene.",IF(O18>C18," * La variable Migrantes no puede ser mayor al Total.","")) | BU18: =IF(AND($C18>0,P18="")," * No olvide digitar la variable Espacio Amigable/Adolescente. Digite Cero si no tiene.",IF(P18>$C18," * La variable Espacio Amigable/Adolescente no puede ser mayor al Total.","")) | BW18: =IF(AND($C18>0,R18="")," * No olvide digitar la variable Niños, Niñas, Adolescentes y Jóvenes SENAME. Digite Cero si no tiene.",IF(R18>$C18," * La variable Niños, Niñas, Adolescentes y Jóvenes SENAME no puede ser mayor al Total.","")) | BX18: =IF(AND($C18>0,S18="")," * No olvide digitar la variable Niños, niñas, Adolescentes y Jóvenes Mejor Niñez. Digite Cero si no tiene.",IF(S18>$C18," * La variable Niños, niñas, Adolescentes y Jóvenes Mejor Niñez no puede ser mayor al Total.","")) | BZ18: =IF((J18+K18+L18)<>C18,1,0) -> 0 | CA18: =IF(AND(C18>0,M18=""),1,IF(M18>C18,1,0)) -> 0 | CB18: =IF(AND(C18>0,N18=""),1,IF(N18>C18,1,0)) -> 0 | CC18: =IF(AND(C18>0,O18=""),1,IF(O18>C18,1,0)) -> 0 | CD18: =IF(AND($C18>0,P18=""),1,IF(P18>$C18,1,0)) -> 0 | CF18: =IF(AND($C18>0,R18=""),1,IF(R18>$C18,1,0)) -> 0 | CG18: =IF(AND($C18>0,S18=""),1,IF(S18>$C18,1,0)) -> 0
A19: Familia con adolescente en riesgo o problema psicosocial | C19: =SUM(D19:G19) -> 0 | T19: =BQ19&BR19&BS19&BT19&BU19&BW19&BX19 | BQ19: =IF((J19+K19+L19)<>C19," * La suma del N° de Primera visita + Segunda visita + Tercera o más visitas de seguimiento debe coincidir con el Total.","") | BR19: =IF(AND(C19>0,M19="")," * No olvide digitar la variable Programa de Acompañamiento Psicosocial en APS. Si no tiene digite Cero.",IF(M19>C19," * La variable Programa de Acompañamiento Psicosocial en APS no puede ser mayor al Total.","")) | BS19: =IF(AND(C19>0,N19="")," * No olvide digitar la variable Pueblos Originarios. Digite Cero si no tiene..",IF(N19>C19," * La variable Pueblos Originarios no puede ser mayor al Total.","")) | BT19: =IF(AND(C19>0,O19="")," * No olvide digitar la variable Migrantes. Digite Cero si no tiene.",IF(O19>C19," * La variable Migrantes no puede ser mayor al Total.","")) | BU19: =IF(AND($C19>0,P19="")," * No olvide digitar la variable Espacio Amigable/Adolescente. Digite Cero si no tiene.",IF(P19>$C19," * La variable Espacio Amigable/Adolescente no puede ser mayor al Total.","")) | BW19: =IF(AND($C19>0,R19="")," * No olvide digitar la variable Niños, Niñas, Adolescentes y Jóvenes SENAME. Digite Cero si no tiene.",IF(R19>$C19," * La variable Niños, Niñas, Adolescentes y Jóvenes SENAME no puede ser mayor al Total.","")) | BX19: =IF(AND($C19>0,S19="")," * No olvide digitar la variable Niños, niñas, Adolescentes y Jóvenes Mejor Niñez. Digite Cero si no tiene.",IF(S19>$C19," * La variable Niños, niñas, Adolescentes y Jóvenes Mejor Niñez no puede ser mayor al Total.","")) | BZ19: =IF((J19+K19+L19)<>C19,1,0) -> 0 | CA19: =IF(AND(C19>0,M19=""),1,IF(M19>C19,1,0)) -> 0 | CB19: =IF(AND(C19>0,N19=""),1,IF(N19>C19,1,0)) -> 0 | CC19: =IF(AND(C19>0,O19=""),1,IF(O19>C19,1,0)) -> 0 | CD19: =IF(AND($C19>0,P19=""),1,IF(P19>$C19,1,0)) -> 0 | CF19: =IF(AND($C19>0,R19=""),1,IF(R19>$C19,1,0)) -> 0 | CG19: =IF(AND($C19>0,S19=""),1,IF(S19>$C19,1,0)) -> 0
A20: Familia con integrante con patología crónica descompensada | C20: =SUM(D20:G20) -> 0 | T20: =BQ20&BR20&BS20&BT20&BU20&BW20&BX20 | BQ20: =IF((J20+K20+L20)<>C20," * La suma del N° de Primera visita + Segunda visita + Tercera o más visitas de seguimiento debe coincidir con el Total.","") | BR20: =IF(AND(C20>0,M20="")," * No olvide digitar la variable Programa de Acompañamiento Psicosocial en APS. Si no tiene digite Cero.",IF(M20>C20," * La variable Programa de Acompañamiento Psicosocial en APS no puede ser mayor al Total.","")) | BS20: =IF(AND(C20>0,N20="")," * No olvide digitar la variable Pueblos Originarios. Digite Cero si no tiene..",IF(N20>C20," * La variable Pueblos Originarios no puede ser mayor al Total.","")) | BT20: =IF(AND(C20>0,O20="")," * No olvide digitar la variable Migrantes. Digite Cero si no tiene.",IF(O20>C20," * La variable Migrantes no puede ser mayor al Total.","")) | BU20: =IF(AND($C20>0,P20="")," * No olvide digitar la variable Espacio Amigable/Adolescente. Digite Cero si no tiene.",IF(P20>$C20," * La variable Espacio Amigable/Adolescente no puede ser mayor al Total.","")) | BW20: =IF(AND($C20>0,R20="")," * No olvide digitar la variable Niños, Niñas, Adolescentes y Jóvenes SENAME. Digite Cero si no tiene.",IF(R20>$C20," * La variable Niños, Niñas, Adolescentes y Jóvenes SENAME no puede ser mayor al Total.","")) | BX20: =IF(AND($C20>0,S20="")," * No olvide digitar la variable Niños, niñas, Adolescentes y Jóvenes Mejor Niñez. Digite Cero si no tiene.",IF(S20>$C20," * La variable Niños, niñas, Adolescentes y Jóvenes Mejor Niñez no puede ser mayor al Total.","")) | BZ20: =IF((J20+K20+L20)<>C20,1,0) -> 0 | CA20: =IF(AND(C20>0,M20=""),1,IF(M20>C20,1,0)) -> 0 | CB20: =IF(AND(C20>0,N20=""),1,IF(N20>C20,1,0)) -> 0 | CC20: =IF(AND(C20>0,O20=""),1,IF(O20>C20,1,0)) -> 0 | CD20: =IF(AND($C20>0,P20=""),1,IF(P20>$C20,1,0)) -> 0 | CF20: =IF(AND($C20>0,R20=""),1,IF(R20>$C20,1,0)) -> 0 | CG20: =IF(AND($C20>0,S20=""),1,IF(S20>$C20,1,0)) -> 0
A21: Familia con adulto mayor dependediente (excluye dependiente severo) | C21: =SUM(D21:G21) -> 0 | T21: =BQ21&BS21&BT21&BU21&BW21&BX21 | BQ21: =IF((J21+K21+L21)<>C21," * La suma del N° de Primera visita + Segunda visita + Tercera o más visitas de seguimiento debe coincidir con el Total.","") | BS21: =IF(AND(C21>0,N21="")," * No olvide digitar la variable Pueblos Originarios. Digite Cero si no tiene..",IF(N21>C21," * La variable Pueblos Originarios no puede ser mayor al Total.","")) | BT21: =IF(AND(C21>0,O21="")," * No olvide digitar la variable Migrantes. Digite Cero si no tiene.",IF(O21>C21," * La variable Migrantes no puede ser mayor al Total.","")) | BU21: =IF(AND($C21>0,P21="")," * No olvide digitar la variable Espacio Amigable/Adolescente. Digite Cero si no tiene.",IF(P21>$C21," * La variable Espacio Amigable/Adolescente no puede ser mayor al Total.","")) | BW21: =IF(AND($C21>0,R21="")," * No olvide digitar la variable Niños, Niñas, Adolescentes y Jóvenes SENAME. Digite Cero si no tiene.",IF(R21>$C21," * La variable Niños, Niñas, Adolescentes y Jóvenes SENAME no puede ser mayor al Total.","")) | BX21: =IF(AND($C21>0,S21="")," * No olvide digitar la variable Niños, niñas, Adolescentes y Jóvenes Mejor Niñez. Digite Cero si no tiene.",IF(S21>$C21," * La variable Niños, niñas, Adolescentes y Jóvenes Mejor Niñez no puede ser mayor al Total.","")) | BZ21: =IF((J21+K21+L21)<>C21,1,0) -> 0 | CB21: =IF(AND(C21>0,N21=""),1,IF(N21>C21,1,0)) -> 0 | CC21: =IF(AND(C21>0,O21=""),1,IF(O21>C21,1,0)) -> 0 | CD21: =IF(AND($C21>0,P21=""),1,IF(P21>$C21,1,0)) -> 0 | CF21: =IF(AND($C21>0,R21=""),1,IF(R21>$C21,1,0)) -> 0 | CG21: =IF(AND($C21>0,S21=""),1,IF(S21>$C21,1,0)) -> 0
A22: Familia con adulto mayor en riesgo psicosocial | C22: =SUM(D22:G22) -> 0 | T22: =BQ22&BS22&BT22&BU22&BW22&BX22 | BQ22: =IF((J22+K22+L22)<>C22," * La suma del N° de Primera visita + Segunda visita + Tercera o más visitas de seguimiento debe coincidir con el Total.","") | BS22: =IF(AND(C22>0,N22="")," * No olvide digitar la variable Pueblos Originarios. Digite Cero si no tiene..",IF(N22>C22," * La variable Pueblos Originarios no puede ser mayor al Total.","")) | BT22: =IF(AND(C22>0,O22="")," * No olvide digitar la variable Migrantes. Digite Cero si no tiene.",IF(O22>C22," * La variable Migrantes no puede ser mayor al Total.","")) | BU22: =IF(AND($C22>0,P22="")," * No olvide digitar la variable Espacio Amigable/Adolescente. Digite Cero si no tiene.",IF(P22>$C22," * La variable Espacio Amigable/Adolescente no puede ser mayor al Total.","")) | BW22: =IF(AND($C22>0,R22="")," * No olvide digitar la variable Niños, Niñas, Adolescentes y Jóvenes SENAME. Digite Cero si no tiene.",IF(R22>$C22," * La variable Niños, Niñas, Adolescentes y Jóvenes SENAME no puede ser mayor al Total.","")) | BX22: =IF(AND($C22>0,S22="")," * No olvide digitar la variable Niños, niñas, Adolescentes y Jóvenes Mejor Niñez. Digite Cero si no tiene.",IF(S22>$C22," * La variable Niños, niñas, Adolescentes y Jóvenes Mejor Niñez no puede ser mayor al Total.","")) | BZ22: =IF((J22+K22+L22)<>C22,1,0) -> 0 | CB22: =IF(AND(C22>0,N22=""),1,IF(N22>C22,1,0)) -> 0 | CC22: =IF(AND(C22>0,O22=""),1,IF(O22>C22,1,0)) -> 0 | CD22: =IF(AND($C22>0,P22=""),1,IF(P22>$C22,1,0)) -> 0 | CF22: =IF(AND($C22>0,R22=""),1,IF(R22>$C22,1,0)) -> 0 | CG22: =IF(AND($C22>0,S22=""),1,IF(S22>$C22,1,0)) -> 0
A23: Familia con gestante adolescente 10 a 14 años | C23: =SUM(D23:G23) -> 0 | T23: =BQ23&BR23&BS23&BT23&BU23&BV23&BW23&BX23 | BQ23: =IF((J23+K23+L23)<>C23," * La suma del N° de Primera visita + Segunda visita + Tercera o más visitas de seguimiento debe coincidir con el Total.","") | BR23: =IF(AND(C23>0,M23="")," * No olvide digitar la variable Programa de Acompañamiento Psicosocial en APS. Si no tiene digite Cero.",IF(M23>C23," * La variable Programa de Acompañamiento Psicosocial en APS no puede ser mayor al Total.","")) | BS23: =IF(AND(C23>0,N23="")," * No olvide digitar la variable Pueblos Originarios. Digite Cero si no tiene..",IF(N23>C23," * La variable Pueblos Originarios no puede ser mayor al Total.","")) | BT23: =IF(AND(C23>0,O23="")," * No olvide digitar la variable Migrantes. Digite Cero si no tiene.",IF(O23>C23," * La variable Migrantes no puede ser mayor al Total.","")) | BU23: =IF(AND($C23>0,P23="")," * No olvide digitar la variable Espacio Amigable/Adolescente. Digite Cero si no tiene.",IF(P23>$C23," * La variable Espacio Amigable/Adolescente no puede ser mayor al Total.","")) | BV23: =IF(AND($C23>0,Q23="")," * No olvide digitar la variable Gestante con 3 o más riesgos. Digite Cero si no tiene.",IF(Q23>$C23," * La variable Gestante con 3 o más riesgos no puede ser mayor al Total.","")) | BW23: =IF(AND($C23>0,R23="")," * No olvide digitar la variable Niños, Niñas, Adolescentes y Jóvenes SENAME. Digite Cero si no tiene.",IF(R23>$C23," * La variable Niños, Niñas, Adolescentes y Jóvenes SENAME no puede ser mayor al Total.","")) | BX23: =IF(AND($C23>0,S23="")," * No olvide digitar la variable Niños, niñas, Adolescentes y Jóvenes Mejor Niñez. Digite Cero si no tiene.",IF(S23>$C23," * La variable Niños, niñas, Adolescentes y Jóvenes Mejor Niñez no puede ser mayor al Total.","")) | BZ23: =IF((J23+K23+L23)<>C23,1,0) -> 0 | CA23: =IF(AND(C23>0,M23=""),1,IF(M23>C23,1,0)) -> 0 | CB23: =IF(AND(C23>0,N23=""),1,IF(N23>C23,1,0)) -> 0 | CC23: =IF(AND(C23>0,O23=""),1,IF(O23>C23,1,0)) -> 0 | CD23: =IF(AND($C23>0,P23=""),1,IF(P23>$C23,1,0)) -> 0 | CE23: =IF(AND($C23>0,Q23=""),1,IF(Q23>$C23,1,0)) -> 0 | CF23: =IF(AND($C23>0,R23=""),1,IF(R23>$C23,1,0)) -> 0 | CG23: =IF(AND($C23>0,S23=""),1,IF(S23>$C23,1,0)) -> 0
A24: Familia con gestante >20 años en riesgo psicosocial | C24: =SUM(D24:G24) -> 0 | T24: =BQ24&BR24&BS24&BT24&BU24&BV24&BW24&BX24 | BQ24: =IF((J24+K24+L24)<>C24," * La suma del N° de Primera visita + Segunda visita + Tercera o más visitas de seguimiento debe coincidir con el Total.","") | BR24: =IF(AND(C24>0,M24="")," * No olvide digitar la variable Programa de Acompañamiento Psicosocial en APS. Si no tiene digite Cero.",IF(M24>C24," * La variable Programa de Acompañamiento Psicosocial en APS no puede ser mayor al Total.","")) | BS24: =IF(AND(C24>0,N24="")," * No olvide digitar la variable Pueblos Originarios. Digite Cero si no tiene..",IF(N24>C24," * La variable Pueblos Originarios no puede ser mayor al Total.","")) | BT24: =IF(AND(C24>0,O24="")," * No olvide digitar la variable Migrantes. Digite Cero si no tiene.",IF(O24>C24," * La variable Migrantes no puede ser mayor al Total.","")) | BU24: =IF(AND($C24>0,P24="")," * No olvide digitar la variable Espacio Amigable/Adolescente. Digite Cero si no tiene.",IF(P24>$C24," * La variable Espacio Amigable/Adolescente no puede ser mayor al Total.","")) | BV24: =IF(AND($C24>0,Q24="")," * No olvide digitar la variable Gestante con 3 o más riesgos. Digite Cero si no tiene.",IF(Q24>$C24," * La variable Gestante con 3 o más riesgos no puede ser mayor al Total.","")) | BW24: =IF(AND($C24>0,R24="")," * No olvide digitar la variable Niños, Niñas, Adolescentes y Jóvenes SENAME. Digite Cero si no tiene.",IF(R24>$C24," * La variable Niños, Niñas, Adolescentes y Jóvenes SENAME no puede ser mayor al Total.","")) | BX24: =IF(AND($C24>0,S24="")," * No olvide digitar la variable Niños, niñas, Adolescentes y Jóvenes Mejor Niñez. Digite Cero si no tiene.",IF(S24>$C24," * La variable Niños, niñas, Adolescentes y Jóvenes Mejor Niñez no puede ser mayor al Total.","")) | BZ24: =IF((J24+K24+L24)<>C24,1,0) -> 0 | CA24: =IF(AND(C24>0,M24=""),1,IF(M24>C24,1,0)) -> 0 | CB24: =IF(AND(C24>0,N24=""),1,IF(N24>C24,1,0)) -> 0 | CC24: =IF(AND(C24>0,O24=""),1,IF(O24>C24,1,0)) -> 0 | CD24: =IF(AND($C24>0,P24=""),1,IF(P24>$C24,1,0)) -> 0 | CE24: =IF(AND($C24>0,Q24=""),1,IF(Q24>$C24,1,0)) -> 0 | CF24: =IF(AND($C24>0,R24=""),1,IF(R24>$C24,1,0)) -> 0 | CG24: =IF(AND($C24>0,S24=""),1,IF(S24>$C24,1,0)) -> 0
A25: Familia con gestante adolescente en riesgo psicosocial 15 a 19 años | C25: =SUM(D25:G25) -> 0 | T25: =BQ25&BR25&BS25&BT25&BU25&BV25&BW25&BX25 | BQ25: =IF((J25+K25+L25)<>C25," * La suma del N° de Primera visita + Segunda visita + Tercera o más visitas de seguimiento debe coincidir con el Total.","") | BR25: =IF(AND(C25>0,M25="")," * No olvide digitar la variable Programa de Acompañamiento Psicosocial en APS. Si no tiene digite Cero.",IF(M25>C25," * La variable Programa de Acompañamiento Psicosocial en APS no puede ser mayor al Total.","")) | BS25: =IF(AND(C25>0,N25="")," * No olvide digitar la variable Pueblos Originarios. Digite Cero si no tiene..",IF(N25>C25," * La variable Pueblos Originarios no puede ser mayor al Total.","")) | BT25: =IF(AND(C25>0,O25="")," * No olvide digitar la variable Migrantes. Digite Cero si no tiene.",IF(O25>C25," * La variable Migrantes no puede ser mayor al Total.","")) | BU25: =IF(AND($C25>0,P25="")," * No olvide digitar la variable Espacio Amigable/Adolescente. Digite Cero si no tiene.",IF(P25>$C25," * La variable Espacio Amigable/Adolescente no puede ser mayor al Total.","")) | BV25: =IF(AND($C25>0,Q25="")," * No olvide digitar la variable Gestante con 3 o más riesgos. Digite Cero si no tiene.",IF(Q25>$C25," * La variable Gestante con 3 o más riesgos no puede ser mayor al Total.","")) | BW25: =IF(AND($C25>0,R25="")," * No olvide digitar la variable Niños, Niñas, Adolescentes y Jóvenes SENAME. Digite Cero si no tiene.",IF(R25>$C25," * La variable Niños, Niñas, Adolescentes y Jóvenes SENAME no puede ser mayor al Total.","")) | BX25: =IF(AND($C25>0,S25="")," * No olvide digitar la variable Niños, niñas, Adolescentes y Jóvenes Mejor Niñez. Digite Cero si no tiene.",IF(S25>$C25," * La variable Niños, niñas, Adolescentes y Jóvenes Mejor Niñez no puede ser mayor al Total.","")) | BZ25: =IF((J25+K25+L25)<>C25,1,0) -> 0 | CA25: =IF(AND(C25>0,M25=""),1,IF(M25>C25,1,0)) -> 0 | CB25: =IF(AND(C25>0,N25=""),1,IF(N25>C25,1,0)) -> 0 | CC25: =IF(AND(C25>0,O25=""),1,IF(O25>C25,1,0)) -> 0 | CD25: =IF(AND($C25>0,P25=""),1,IF(P25>$C25,1,0)) -> 0 | CE25: =IF(AND($C25>0,Q25=""),1,IF(Q25>$C25,1,0)) -> 0 | CF25: =IF(AND($C25>0,R25=""),1,IF(R25>$C25,1,0)) -> 0 | CG25: =IF(AND($C25>0,S25=""),1,IF(S25>$C25,1,0)) -> 0
A26: Familia con adolescente con problema respiratorio crónico o no controlado | C26: =SUM(D26:G26) -> 0 | T26: =BQ26&BS26&BT26&BU26&BW26&BX26 | BQ26: =IF((J26+K26+L26)<>C26," * La suma del N° de Primera visita + Segunda visita + Tercera o más visitas de seguimiento debe coincidir con el Total.","") | BS26: =IF(AND(C26>0,N26="")," * No olvide digitar la variable Pueblos Originarios. Digite Cero si no tiene..",IF(N26>C26," * La variable Pueblos Originarios no puede ser mayor al Total.","")) | BT26: =IF(AND(C26>0,O26="")," * No olvide digitar la variable Migrantes. Digite Cero si no tiene.",IF(O26>C26," * La variable Migrantes no puede ser mayor al Total.","")) | BU26: =IF(AND($C26>0,P26="")," * No olvide digitar la variable Espacio Amigable/Adolescente. Digite Cero si no tiene.",IF(P26>$C26," * La variable Espacio Amigable/Adolescente no puede ser mayor al Total.","")) | BW26: =IF(AND($C26>0,R26="")," * No olvide digitar la variable Niños, Niñas, Adolescentes y Jóvenes SENAME. Digite Cero si no tiene.",IF(R26>$C26," * La variable Niños, Niñas, Adolescentes y Jóvenes SENAME no puede ser mayor al Total.","")) | BX26: =IF(AND($C26>0,S26="")," * No olvide digitar la variable Niños, niñas, Adolescentes y Jóvenes Mejor Niñez. Digite Cero si no tiene.",IF(S26>$C26," * La variable Niños, niñas, Adolescentes y Jóvenes Mejor Niñez no puede ser mayor al Total.","")) | BZ26: =IF((J26+K26+L26)<>C26,1,0) -> 0 | CB26: =IF(AND(C26>0,N26=""),1,IF(N26>C26,1,0)) -> 0 | CC26: =IF(AND(C26>0,O26=""),1,IF(O26>C26,1,0)) -> 0 | CD26: =IF(AND($C26>0,P26=""),1,IF(P26>$C26,1,0)) -> 0 | CF26: =IF(AND($C26>0,R26=""),1,IF(R26>$C26,1,0)) -> 0 | CG26: =IF(AND($C26>0,S26=""),1,IF(S26>$C26,1,0)) -> 0
A27: Familia con adulto con problema respiratorio crónico o no controlado | C27: =SUM(D27:G27) -> 0 | T27: =BQ27&BS27&BT27&BU27&BW27&BX27 | BQ27: =IF((J27+K27+L27)<>C27," * La suma del N° de Primera visita + Segunda visita + Tercera o más visitas de seguimiento debe coincidir con el Total.","") | BS27: =IF(AND(C27>0,N27="")," * No olvide digitar la variable Pueblos Originarios. Digite Cero si no tiene..",IF(N27>C27," * La variable Pueblos Originarios no puede ser mayor al Total.","")) | BT27: =IF(AND(C27>0,O27="")," * No olvide digitar la variable Migrantes. Digite Cero si no tiene.",IF(O27>C27," * La variable Migrantes no puede ser mayor al Total.","")) | BU27: =IF(AND($C27>0,P27="")," * No olvide digitar la variable Espacio Amigable/Adolescente. Digite Cero si no tiene.",IF(P27>$C27," * La variable Espacio Amigable/Adolescente no puede ser mayor al Total.","")) | BW27: =IF(AND($C27>0,R27="")," * No olvide digitar la variable Niños, Niñas, Adolescentes y Jóvenes SENAME. Digite Cero si no tiene.",IF(R27>$C27," * La variable Niños, Niñas, Adolescentes y Jóvenes SENAME no puede ser mayor al Total.","")) | BX27: =IF(AND($C27>0,S27="")," * No olvide digitar la variable Niños, niñas, Adolescentes y Jóvenes Mejor Niñez. Digite Cero si no tiene.",IF(S27>$C27," * La variable Niños, niñas, Adolescentes y Jóvenes Mejor Niñez no puede ser mayor al Total.","")) | BZ27: =IF((J27+K27+L27)<>C27,1,0) -> 0 | CB27: =IF(AND(C27>0,N27=""),1,IF(N27>C27,1,0)) -> 0 | CC27: =IF(AND(C27>0,O27=""),1,IF(O27>C27,1,0)) -> 0 | CD27: =IF(AND($C27>0,P27=""),1,IF(P27>$C27,1,0)) -> 0 | CF27: =IF(AND($C27>0,R27=""),1,IF(R27>$C27,1,0)) -> 0 | CG27: =IF(AND($C27>0,S27=""),1,IF(S27>$C27,1,0)) -> 0
A28: Familia con gestante en riesgo biomédico | C28: =SUM(D28:G28) -> 0 | T28: =BQ28&BS28&BT28&BU28&BW28&BX28 | BQ28: =IF((J28+K28+L28)<>C28," * La suma del N° de Primera visita + Segunda visita + Tercera o más visitas de seguimiento debe coincidir con el Total.","") | BS28: =IF(AND(C28>0,N28="")," * No olvide digitar la variable Pueblos Originarios. Digite Cero si no tiene..",IF(N28>C28," * La variable Pueblos Originarios no puede ser mayor al Total.","")) | BT28: =IF(AND(C28>0,O28="")," * No olvide digitar la variable Migrantes. Digite Cero si no tiene.",IF(O28>C28," * La variable Migrantes no puede ser mayor al Total.","")) | BU28: =IF(AND($C28>0,P28="")," * No olvide digitar la variable Espacio Amigable/Adolescente. Digite Cero si no tiene.",IF(P28>$C28," * La variable Espacio Amigable/Adolescente no puede ser mayor al Total.","")) | BW28: =IF(AND($C28>0,R28="")," * No olvide digitar la variable Niños, Niñas, Adolescentes y Jóvenes SENAME. Digite Cero si no tiene.",IF(R28>$C28," * La variable Niños, Niñas, Adolescentes y Jóvenes SENAME no puede ser mayor al Total.","")) | BX28: =IF(AND($C28>0,S28="")," * No olvide digitar la variable Niños, niñas, Adolescentes y Jóvenes Mejor Niñez. Digite Cero si no tiene.",IF(S28>$C28," * La variable Niños, niñas, Adolescentes y Jóvenes Mejor Niñez no puede ser mayor al Total.","")) | BZ28: =IF((J28+K28+L28)<>C28,1,0) -> 0 | CB28: =IF(AND(C28>0,N28=""),1,IF(N28>C28,1,0)) -> 0 | CC28: =IF(AND(C28>0,O28=""),1,IF(O28>C28,1,0)) -> 0 | CD28: =IF(AND($C28>0,P28=""),1,IF(P28>$C28,1,0)) -> 0 | CF28: =IF(AND($C28>0,R28=""),1,IF(R28>$C28,1,0)) -> 0 | CG28: =IF(AND($C28>0,S28=""),1,IF(S28>$C28,1,0)) -> 0
A29: Familia con otro riesgo psicosocial | C29: =SUM(D29:G29) -> 0 | T29: =BQ29&BR29&BS29&BT29&BU29&BW29&BX29 | BQ29: =IF((J29+K29+L29)<>C29," * La suma del N° de Primera visita + Segunda visita + Tercera o más visitas de seguimiento debe coincidir con el Total.","") | BR29: =IF(AND(C29>0,M29="")," * No olvide digitar la variable Programa de Acompañamiento Psicosocial en APS. Si no tiene digite Cero.",IF(M29>C29," * La variable Programa de Acompañamiento Psicosocial en APS no puede ser mayor al Total.","")) | BS29: =IF(AND(C29>0,N29="")," * No olvide digitar la variable Pueblos Originarios. Digite Cero si no tiene..",IF(N29>C29," * La variable Pueblos Originarios no puede ser mayor al Total.","")) | BT29: =IF(AND(C29>0,O29="")," * No olvide digitar la variable Migrantes. Digite Cero si no tiene.",IF(O29>C29," * La variable Migrantes no puede ser mayor al Total.","")) | BU29: =IF(AND($C29>0,P29="")," * No olvide digitar la variable Espacio Amigable/Adolescente. Digite Cero si no tiene.",IF(P29>$C29," * La variable Espacio Amigable/Adolescente no puede ser mayor al Total.","")) | BW29: =IF(AND($C29>0,R29="")," * No olvide digitar la variable Niños, Niñas, Adolescentes y Jóvenes SENAME. Digite Cero si no tiene.",IF(R29>$C29," * La variable Niños, Niñas, Adolescentes y Jóvenes SENAME no puede ser mayor al Total.","")) | BX29: =IF(AND($C29>0,S29="")," * No olvide digitar la variable Niños, niñas, Adolescentes y Jóvenes Mejor Niñez. Digite Cero si no tiene.",IF(S29>$C29," * La variable Niños, niñas, Adolescentes y Jóvenes Mejor Niñez no puede ser mayor al Total.","")) | BZ29: =IF((J29+K29+L29)<>C29,1,0) -> 0 | CA29: =IF(AND(C29>0,M29=""),1,IF(M29>C29,1,0)) -> 0 | CB29: =IF(AND(C29>0,N29=""),1,IF(N29>C29,1,0)) -> 0 | CC29: =IF(AND(C29>0,O29=""),1,IF(O29>C29,1,0)) -> 0 | CD29: =IF(AND($C29>0,P29=""),1,IF(P29>$C29,1,0)) -> 0 | CF29: =IF(AND($C29>0,R29=""),1,IF(R29>$C29,1,0)) -> 0 | CG29: =IF(AND($C29>0,S29=""),1,IF(S29>$C29,1,0)) -> 0
A30: Familia con integrante con problema de salud mental | C30: =SUM(D30:G30) -> 0 | T30: =BQ30&BR30&BS30&BT30&BU30&BW30&BX30 | BQ30: =IF((J30+K30+L30)<>C30," * La suma del N° de Primera visita + Segunda visita + Tercera o más visitas de seguimiento debe coincidir con el Total.","") | BR30: =IF(AND(C30>0,M30="")," * No olvide digitar la variable Programa de Acompañamiento Psicosocial en APS. Si no tiene digite Cero.",IF(M30>C30," * La variable Programa de Acompañamiento Psicosocial en APS no puede ser mayor al Total.","")) | BS30: =IF(AND(C30>0,N30="")," * No olvide digitar la variable Pueblos Originarios. Digite Cero si no tiene..",IF(N30>C30," * La variable Pueblos Originarios no puede ser mayor al Total.","")) | BT30: =IF(AND(C30>0,O30="")," * No olvide digitar la variable Migrantes. Digite Cero si no tiene.",IF(O30>C30," * La variable Migrantes no puede ser mayor al Total.","")) | BU30: =IF(AND($C30>0,P30="")," * No olvide digitar la variable Espacio Amigable/Adolescente. Digite Cero si no tiene.",IF(P30>$C30," * La variable Espacio Amigable/Adolescente no puede ser mayor al Total.","")) | BW30: =IF(AND($C30>0,R30="")," * No olvide digitar la variable Niños, Niñas, Adolescentes y Jóvenes SENAME. Digite Cero si no tiene.",IF(R30>$C30," * La variable Niños, Niñas, Adolescentes y Jóvenes SENAME no puede ser mayor al Total.","")) | BX30: =IF(AND($C30>0,S30="")," * No olvide digitar la variable Niños, niñas, Adolescentes y Jóvenes Mejor Niñez. Digite Cero si no tiene.",IF(S30>$C30," * La variable Niños, niñas, Adolescentes y Jóvenes Mejor Niñez no puede ser mayor al Total.","")) | BZ30: =IF((J30+K30+L30)<>C30,1,0) -> 0 | CA30: =IF(AND(C30>0,M30=""),1,IF(M30>C30,1,0)) -> 0 | CB30: =IF(AND(C30>0,N30=""),1,IF(N30>C30,1,0)) -> 0 | CC30: =IF(AND(C30>0,O30=""),1,IF(O30>C30,1,0)) -> 0 | CD30: =IF(AND($C30>0,P30=""),1,IF(P30>$C30,1,0)) -> 0 | CF30: =IF(AND($C30>0,R30=""),1,IF(R30>$C30,1,0)) -> 0 | CG30: =IF(AND($C30>0,S30=""),1,IF(S30>$C30,1,0)) -> 0
A31: Familia con niños/as de 5 a 9 años con problemas y/o trastornos de salud mental | C31: =SUM(D31:G31) -> 0 | T31: =BQ31&BR31&BS31&BT31&BU31&BW31&BX31 | BQ31: =IF((J31+K31+L31)<>C31," * La suma del N° de Primera visita + Segunda visita + Tercera o más visitas de seguimiento debe coincidir con el Total.","") | BR31: =IF(AND(C31>0,M31="")," * No olvide digitar la variable Programa de Acompañamiento Psicosocial en APS. Si no tiene digite Cero.",IF(M31>C31," * La variable Programa de Acompañamiento Psicosocial en APS no puede ser mayor al Total.","")) | BS31: =IF(AND(C31>0,N31="")," * No olvide digitar la variable Pueblos Originarios. Digite Cero si no tiene..",IF(N31>C31," * La variable Pueblos Originarios no puede ser mayor al Total.","")) | BT31: =IF(AND(C31>0,O31="")," * No olvide digitar la variable Migrantes. Digite Cero si no tiene.",IF(O31>C31," * La variable Migrantes no puede ser mayor al Total.","")) | BU31: =IF(AND($C31>0,P31="")," * No olvide digitar la variable Espacio Amigable/Adolescente. Digite Cero si no tiene.",IF(P31>$C31," * La variable Espacio Amigable/Adolescente no puede ser mayor al Total.","")) | BW31: =IF(AND($C31>0,R31="")," * No olvide digitar la variable Niños, Niñas, Adolescentes y Jóvenes SENAME. Digite Cero si no tiene.",IF(R31>$C31," * La variable Niños, Niñas, Adolescentes y Jóvenes SENAME no puede ser mayor al Total.","")) | BX31: =IF(AND($C31>0,S31="")," * No olvide digitar la variable Niños, niñas, Adolescentes y Jóvenes Mejor Niñez. Digite Cero si no tiene.",IF(S31>$C31," * La variable Niños, niñas, Adolescentes y Jóvenes Mejor Niñez no puede ser mayor al Total.","")) | BZ31: =IF((J31+K31+L31)<>C31,1,0) -> 0 | CA31: =IF(AND(C31>0,M31=""),1,IF(M31>C31,1,0)) -> 0 | CB31: =IF(AND(C31>0,N31=""),1,IF(N31>C31,1,0)) -> 0 | CC31: =IF(AND(C31>0,O31=""),1,IF(O31>C31,1,0)) -> 0 | CD31: =IF(AND($C31>0,P31=""),1,IF(P31>$C31,1,0)) -> 0 | CF31: =IF(AND($C31>0,R31=""),1,IF(R31>$C31,1,0)) -> 0 | CG31: =IF(AND($C31>0,S31=""),1,IF(S31>$C31,1,0)) -> 0
A32: Familia con integrante alta hospitalización precoz | C32: =SUM(D32:G32) -> 0 | T32: =BQ32&BR32&BS32&BT32&BU32&BW32&BX32 | BQ32: =IF((J32+K32+L32)<>C32," * La suma del N° de Primera visita + Segunda visita + Tercera o más visitas de seguimiento debe coincidir con el Total.","") | BR32: =IF(AND(C32>0,M32="")," * No olvide digitar la variable Programa de Acompañamiento Psicosocial en APS. Si no tiene digite Cero.",IF(M32>C32," * La variable Programa de Acompañamiento Psicosocial en APS no puede ser mayor al Total.","")) | BS32: =IF(AND(C32>0,N32="")," * No olvide digitar la variable Pueblos Originarios. Digite Cero si no tiene..",IF(N32>C32," * La variable Pueblos Originarios no puede ser mayor al Total.","")) | BT32: =IF(AND(C32>0,O32="")," * No olvide digitar la variable Migrantes. Digite Cero si no tiene.",IF(O32>C32," * La variable Migrantes no puede ser mayor al Total.","")) | BU32: =IF(AND($C32>0,P32="")," * No olvide digitar la variable Espacio Amigable/Adolescente. Digite Cero si no tiene.",IF(P32>$C32," * La variable Espacio Amigable/Adolescente no puede ser mayor al Total.","")) | BW32: =IF(AND($C32>0,R32="")," * No olvide digitar la variable Niños, Niñas, Adolescentes y Jóvenes SENAME. Digite Cero si no tiene.",IF(R32>$C32," * La variable Niños, Niñas, Adolescentes y Jóvenes SENAME no puede ser mayor al Total.","")) | BX32: =IF(AND($C32>0,S32="")," * No olvide digitar la variable Niños, niñas, Adolescentes y Jóvenes Mejor Niñez. Digite Cero si no tiene.",IF(S32>$C32," * La variable Niños, niñas, Adolescentes y Jóvenes Mejor Niñez no puede ser mayor al Total.","")) | BZ32: =IF((J32+K32+L32)<>C32,1,0) -> 0 | CA32: =IF(AND(C32>0,M32=""),1,IF(M32>C32,1,0)) -> 0 | CB32: =IF(AND(C32>0,N32=""),1,IF(N32>C32,1,0)) -> 0 | CC32: =IF(AND(C32>0,O32=""),1,IF(O32>C32,1,0)) -> 0 | CD32: =IF(AND($C32>0,P32=""),1,IF(P32>$C32,1,0)) -> 0 | CF32: =IF(AND($C32>0,R32=""),1,IF(R32>$C32,1,0)) -> 0 | CG32: =IF(AND($C32>0,S32=""),1,IF(S32>$C32,1,0)) -> 0
A33: Familia con integrante con multimorbilidad cronica (excluye dependencia severa) | C33: =SUM(D33:G33) -> 0 | T33: =BQ33&BR33&BS33&BT33&BU33&BW33&BX33 | BQ33: =IF((J33+K33+L33)<>C33," * La suma del N° de Primera visita + Segunda visita + Tercera o más visitas de seguimiento debe coincidir con el Total.","") | BR33: =IF(AND(C33>0,M33="")," * No olvide digitar la variable Programa de Acompañamiento Psicosocial en APS. Si no tiene digite Cero.",IF(M33>C33," * La variable Programa de Acompañamiento Psicosocial en APS no puede ser mayor al Total.","")) | BS33: =IF(AND(C33>0,N33="")," * No olvide digitar la variable Pueblos Originarios. Digite Cero si no tiene..",IF(N33>C33," * La variable Pueblos Originarios no puede ser mayor al Total.","")) | BT33: =IF(AND(C33>0,O33="")," * No olvide digitar la variable Migrantes. Digite Cero si no tiene.",IF(O33>C33," * La variable Migrantes no puede ser mayor al Total.","")) | BU33: =IF(AND($C33>0,P33="")," * No olvide digitar la variable Espacio Amigable/Adolescente. Digite Cero si no tiene.",IF(P33>$C33," * La variable Espacio Amigable/Adolescente no puede ser mayor al Total.","")) | BW33: =IF(AND($C33>0,R33="")," * No olvide digitar la variable Niños, Niñas, Adolescentes y Jóvenes SENAME. Digite Cero si no tiene.",IF(R33>$C33," * La variable Niños, Niñas, Adolescentes y Jóvenes SENAME no puede ser mayor al Total.","")) | BX33: =IF(AND($C33>0,S33="")," * No olvide digitar la variable Niños, niñas, Adolescentes y Jóvenes Mejor Niñez. Digite Cero si no tiene.",IF(S33>$C33," * La variable Niños, niñas, Adolescentes y Jóvenes Mejor Niñez no puede ser mayor al Total.","")) | BZ33: =IF((J33+K33+L33)<>C33,1,0) -> 0 | CA33: =IF(AND(C33>0,M33=""),1,IF(M33>C33,1,0)) -> 0 | CB33: =IF(AND(C33>0,N33=""),1,IF(N33>C33,1,0)) -> 0 | CC33: =IF(AND(C33>0,O33=""),1,IF(O33>C33,1,0)) -> 0 | CD33: =IF(AND($C33>0,P33=""),1,IF(P33>$C33,1,0)) -> 0 | CF33: =IF(AND($C33>0,R33=""),1,IF(R33>$C33,1,0)) -> 0 | CG33: =IF(AND($C33>0,S33=""),1,IF(S33>$C33,1,0)) -> 0
A34: Familia con niños con necesidades especiales (NANEAS) | C34: =SUM(D34:G34) -> 0 | T34: =BQ34&BR34&BS34&BT34&BU34&BW34&BX34 | BQ34: =IF((J34+K34+L34)<>C34," * La suma del N° de Primera visita + Segunda visita + Tercera o más visitas de seguimiento debe coincidir con el Total.","") | BR34: =IF(AND(C34>0,M34="")," * No olvide digitar la variable Programa de Acompañamiento Psicosocial en APS. Si no tiene digite Cero.",IF(M34>C34," * La variable Programa de Acompañamiento Psicosocial en APS no puede ser mayor al Total.","")) | BS34: =IF(AND(C34>0,N34="")," * No olvide digitar la variable Pueblos Originarios. Digite Cero si no tiene..",IF(N34>C34," * La variable Pueblos Originarios no puede ser mayor al Total.","")) | BT34: =IF(AND(C34>0,O34="")," * No olvide digitar la variable Migrantes. Digite Cero si no tiene.",IF(O34>C34," * La variable Migrantes no puede ser mayor al Total.","")) | BU34: =IF(AND($C34>0,P34="")," * No olvide digitar la variable Espacio Amigable/Adolescente. Digite Cero si no tiene.",IF(P34>$C34," * La variable Espacio Amigable/Adolescente no puede ser mayor al Total.","")) | BW34: =IF(AND($C34>0,R34="")," * No olvide digitar la variable Niños, Niñas, Adolescentes y Jóvenes SENAME. Digite Cero si no tiene.",IF(R34>$C34," * La variable Niños, Niñas, Adolescentes y Jóvenes SENAME no puede ser mayor al Total.","")) | BX34: =IF(AND($C34>0,S34="")," * No olvide digitar la variable Niños, niñas, Adolescentes y Jóvenes Mejor Niñez. Digite Cero si no tiene.",IF(S34>$C34," * La variable Niños, niñas, Adolescentes y Jóvenes Mejor Niñez no puede ser mayor al Total.","")) | BZ34: =IF((J34+K34+L34)<>C34,1,0) -> 0 | CA34: =IF(AND(C34>0,M34=""),1,IF(M34>C34,1,0)) -> 0 | CB34: =IF(AND(C34>0,N34=""),1,IF(N34>C34,1,0)) -> 0 | CC34: =IF(AND(C34>0,O34=""),1,IF(O34>C34,1,0)) -> 0 | CD34: =IF(AND($C34>0,P34=""),1,IF(P34>$C34,1,0)) -> 0 | CF34: =IF(AND($C34>0,R34=""),1,IF(R34>$C34,1,0)) -> 0 | CG34: =IF(AND($C34>0,S34=""),1,IF(S34>$C34,1,0)) -> 0
A35: Familia con NNA trans femenino/masculino | C35: =SUM(D35:G35) -> 0 | T35: =BQ35&BR35&BS35&BT35&BU35&BW35&BX35 | BQ35: =IF((J35+K35+L35)<>C35," * La suma del N° de Primera visita + Segunda visita + Tercera o más visitas de seguimiento debe coincidir con el Total.","") | BR35: =IF(AND(C35>0,M35="")," * No olvide digitar la variable Programa de Acompañamiento Psicosocial en APS. Si no tiene digite Cero.",IF(M35>C35," * La variable Programa de Acompañamiento Psicosocial en APS no puede ser mayor al Total.","")) | BS35: =IF(AND(C35>0,N35="")," * No olvide digitar la variable Pueblos Originarios. Digite Cero si no tiene..",IF(N35>C35," * La variable Pueblos Originarios no puede ser mayor al Total.","")) | BT35: =IF(AND(C35>0,O35="")," * No olvide digitar la variable Migrantes. Digite Cero si no tiene.",IF(O35>C35," * La variable Migrantes no puede ser mayor al Total.","")) | BU35: =IF(AND($C35>0,P35="")," * No olvide digitar la variable Espacio Amigable/Adolescente. Digite Cero si no tiene.",IF(P35>$C35," * La variable Espacio Amigable/Adolescente no puede ser mayor al Total.","")) | BW35: =IF(AND($C35>0,R35="")," * No olvide digitar la variable Niños, Niñas, Adolescentes y Jóvenes SENAME. Digite Cero si no tiene.",IF(R35>$C35," * La variable Niños, Niñas, Adolescentes y Jóvenes SENAME no puede ser mayor al Total.","")) | BX35: =IF(AND($C35>0,S35="")," * No olvide digitar la variable Niños, niñas, Adolescentes y Jóvenes Mejor Niñez. Digite Cero si no tiene.",IF(S35>$C35," * La variable Niños, niñas, Adolescentes y Jóvenes Mejor Niñez no puede ser mayor al Total.","")) | BZ35: =IF((J35+K35+L35)<>C35,1,0) -> 0 | CA35: =IF(AND(C35>0,M35=""),1,IF(M35>C35,1,0)) -> 0 | CB35: =IF(AND(C35>0,N35=""),1,IF(N35>C35,1,0)) -> 0 | CC35: =IF(AND(C35>0,O35=""),1,IF(O35>C35,1,0)) -> 0 | CD35: =IF(AND($C35>0,P35=""),1,IF(P35>$C35,1,0)) -> 0 | CF35: =IF(AND($C35>0,R35=""),1,IF(R35>$C35,1,0)) -> 0 | CG35: =IF(AND($C35>0,S35=""),1,IF(S35>$C35,1,0)) -> 0
A36: SECCIÓN A.1: VISITAS DOMICILIARIAS INTEGRALES A PERSONAS CON DEPENDENCIA SEVERA Y SUS CUIDADORES
A37: CONCEPTOS | C37: Visita de Ingreso al PADDS | D37: Primera visita anual | E37: Segunda visita anual | F37: Tercera o más visitas de seguimiento anual | G37: Elaboración Plan Cuidado Integral a persona con dependencia severa | H37: Evaluación y actualización plan de cuidados a personas con dependencia severa | I37: Elaboración plan de cuidados a cuidador | J37: Evaluación y actualización plan de cuidados a cuidador | K37: Migrantes | L37: Pueblos originarios | M37: Población en ECICEP | N37: Población ELEAM o institucionalizada
A38: A personas con dependencia severa en programa, por condiciones asociadas a dependencia severa | B38: Familia con integrante con dependencia severa con diagnóstico de demencia | O38: =BQ38&BR38&BS38&BT38 | BQ38: =IF(AND(SUM($C38:$F38)>0,K38="")," * No olvide digitar la variable Migrantes. Digite Cero si no tiene.",IF(K38>SUM($C38:$F38)," * La variable Migrantes no puede ser mayor a la suma de las variables de Visitas.","")) | BR38: =IF(AND(SUM($C38:$F38)>0,L38="")," * No olvide digitar la variable Pueblos originarios. Digite Cero si no tiene.",IF(L38>SUM($C38:$F38)," * La variable Pueblos originarios no puede ser mayor a la suma de las variables de Visitas.","")) | BS38: =IF(AND(SUM($C38:$F38)>0,M38="")," * No olvide digitar la variable Población en ECICEP. Digite Cero si no tiene.",IF(M38>SUM($C38:$F38)," * La variable Población en ECICEP no puede ser mayor a la suma de las variables de Visitas.","")) | BT38: =IF(AND(SUM($C38:$F38)>0,N38="")," * No olvide digitar la variable Población ELEAM o institucionalizada. Digite Cero si no tiene.",IF(N38>SUM($C38:$F38)," * La variable Población ELEAM o institucionalizada no puede ser mayor a la suma de las variables de Visitas.","")) | BZ38: =IF(AND(SUM($C38:$F38)>0,K38=""),1,IF(K38>SUM($C38:$F38),1,0)) -> 0 | CA38: =IF(AND(SUM($C38:$F38)>0,L38=""),1,IF(L38>SUM($C38:$F38),1,0)) -> 0 | CB38: =IF(AND(SUM($C38:$F38)>0,M38=""),1,IF(M38>SUM($C38:$F38),1,0)) -> 0 | CC38: =IF(AND(SUM($C38:$F38)>0,N38=""),1,IF(N38>SUM($C38:$F38),1,0)) -> 0
B39: Familia con integrante con dependencia severa con etapa terminal (excluye estadíos avanzados de demencia) | O39: =BQ39&BR39&BS39&BT39 | BQ39: =IF(AND(SUM($C39:$F39)>0,K39="")," * No olvide digitar la variable Migrantes. Digite Cero si no tiene.",IF(K39>SUM($C39:$F39)," * La variable Migrantes no puede ser mayor a la suma de las variables de Visitas.","")) | BR39: =IF(AND(SUM($C39:$F39)>0,L39="")," * No olvide digitar la variable Pueblos originarios. Digite Cero si no tiene.",IF(L39>SUM($C39:$F39)," * La variable Pueblos originarios no puede ser mayor a la suma de las variables de Visitas.","")) | BS39: =IF(AND(SUM($C39:$F39)>0,M39="")," * No olvide digitar la variable Población en ECICEP. Digite Cero si no tiene.",IF(M39>SUM($C39:$F39)," * La variable Población en ECICEP no puede ser mayor a la suma de las variables de Visitas.","")) | BT39: =IF(AND(SUM($C39:$F39)>0,N39="")," * No olvide digitar la variable Población ELEAM o institucionalizada. Digite Cero si no tiene.",IF(N39>SUM($C39:$F39)," * La variable Población ELEAM o institucionalizada no puede ser mayor a la suma de las variables de Visitas.","")) | BZ39: =IF(AND(SUM($C39:$F39)>0,K39=""),1,IF(K39>SUM($C39:$F39),1,0)) -> 0 | CA39: =IF(AND(SUM($C39:$F39)>0,L39=""),1,IF(L39>SUM($C39:$F39),1,0)) -> 0 | CB39: =IF(AND(SUM($C39:$F39)>0,M39=""),1,IF(M39>SUM($C39:$F39),1,0)) -> 0 | CC39: =IF(AND(SUM($C39:$F39)>0,N39=""),1,IF(N39>SUM($C39:$F39),1,0)) -> 0
B40: Familia con integrante con dependencia severa sin diagnóstico de demencia y/o que no se encuentra en etapa terminal | O40: =BQ40&BR40&BS40&BT40 | BQ40: =IF(AND(SUM($C40:$F40)>0,K40="")," * No olvide digitar la variable Migrantes. Digite Cero si no tiene.",IF(K40>SUM($C40:$F40)," * La variable Migrantes no puede ser mayor a la suma de las variables de Visitas.","")) | BR40: =IF(AND(SUM($C40:$F40)>0,L40="")," * No olvide digitar la variable Pueblos originarios. Digite Cero si no tiene.",IF(L40>SUM($C40:$F40)," * La variable Pueblos originarios no puede ser mayor a la suma de las variables de Visitas.","")) | BS40: =IF(AND(SUM($C40:$F40)>0,M40="")," * No olvide digitar la variable Población en ECICEP. Digite Cero si no tiene.",IF(M40>SUM($C40:$F40)," * La variable Población en ECICEP no puede ser mayor a la suma de las variables de Visitas.","")) | BT40: =IF(AND(SUM($C40:$F40)>0,N40="")," * No olvide digitar la variable Población ELEAM o institucionalizada. Digite Cero si no tiene.",IF(N40>SUM($C40:$F40)," * La variable Población ELEAM o institucionalizada no puede ser mayor a la suma de las variables de Visitas.","")) | BZ40: =IF(AND(SUM($C40:$F40)>0,K40=""),1,IF(K40>SUM($C40:$F40),1,0)) -> 0 | CA40: =IF(AND(SUM($C40:$F40)>0,L40=""),1,IF(L40>SUM($C40:$F40),1,0)) -> 0 | CB40: =IF(AND(SUM($C40:$F40)>0,M40=""),1,IF(M40>SUM($C40:$F40),1,0)) -> 0 | CC40: =IF(AND(SUM($C40:$F40)>0,N40=""),1,IF(N40>SUM($C40:$F40),1,0)) -> 0
A41: TOTAL | C41: =SUM(C38:C40) -> 0 | D41: =SUM(D38:D40) -> 0 | E41: =SUM(E38:E40) -> 0 | F41: =SUM(F38:F40) -> 0 | G41: =SUM(G38:G40) -> 0 | H41: =SUM(H38:H40) -> 0 | I41: =SUM(I38:I40) -> 0 | J41: =SUM(J38:J40) -> 0 | ... N41: =SUM(N38:N40) -> 0
...

Sheet ENERO
A1: SERVICIO DE SALUD
A2: =CONCATENATE("COMUNA: ",[2]NOMBRE!B2, " (",[2]NOMBRE!C2,[2]NOMBRE!D2,[2]NOMBRE!E2,[2]NOMBRE!F2,[2]NOMBRE!G2,")") -> COMUNA: LINARES (07401)
A3: =CONCATENATE("ESTABLECIMIENTO/ESTRATEGIA: ", [2]NOMBRE!B3, " (",[2]NOMBRE!C3,[2]NOMBRE!D3,[2]NOMBRE!E3,[2]NOMBRE!F3,[2]NOMBRE!G3,[2]NOMBRE!H3,")") -> ESTABLECIMIENTO/ESTRATEGIA: HOSPITAL PRESIDENTE CARLOS IBAÑEZ DEL CAMPO (116108)
A4: =CONCATENATE("MES: ",[2]NOMBRE!B6, " (",[2]NOMBRE!C6,[2]NOMBRE!D6,")") -> MES: ENERO (01)
A5: =CONCATENATE("AÑO: ",[2]NOMBRE!B7) -> AÑO: 2025
A6: REM-26. ACTIVIDADES EN DOMICILIO Y OTROS ESPACIOS
A8: SECCIÓN A: VISITAS DOMICILIARIAS INTEGRALES A FAMILIAS (ESTABLECIMIENTOS APS)
A9: CONCEPTOS | C9: TOTAL | D9: Un Profesional | E9: Dos o Más Profesionales | F9: Un Profesional y Un Técnico En Enfermería | G9: Técnico En Enfermería | H9: Facilitador/a Intercultural Pueblos Originarios | I9: Agente Comunitario | J9: Primera Visita | K9: Segunda Visita | L9: Tercera o Más Visitas De Seguimiento | M9: Programa de Acompañamiento Psicosocial en APS | N9: Pueblos Originarios | O9: Migrantes | P9: Espacios Amigables/ Adolescente | Q9: Gestante con 3 o más riesgos | R9: Niños, Niñas, Adolescentes y Jóvenes SENAME | S9: Niños, niñas, Adolescentes y Jóvenes Mejor Niñez
A10: Familia con niño prematuro | C10: =SUM(D10:G10) -> 0 | T10: =BQ10&BS10&BT10&BU10&BW10&BX10 | BQ10: =IF((J10+K10+L10)<>C10," * La suma del N° de Primera visita + Segunda visita + Tercera o más visitas de seguimiento debe ser igual al Total.","") | BS10: =IF(AND(C10>0,N10="")," * No olvide digitar la variable Pueblos Originarios. Digite Cero si no tiene..",IF(N10>C10," * La variable Pueblos Originarios no puede ser mayor al Total.","")) | BT10: =IF(AND(C10>0,O10="")," * No olvide digitar la variable Migrantes. Digite Cero si no tiene.",IF(O10>C10," * La variable Migrantes no puede ser mayor al Total.","")) | BU10: =IF(AND($C10>0,P10="")," * No olvide digitar la variable Espacio Amigable/Adolescente. Digite Cero si no tiene.",IF(P10>$C10," * La variable Espacio Amigable/Adolescente no puede ser mayor al Total.","")) | BW10: =IF(AND($C10>0,R10="")," * No olvide digitar la variable Niños, Niñas, Adolescentes y Jóvenes SENAME. Digite Cero si no tiene.",IF(R10>$C10," * La variable Niños, Niñas, Adolescentes y Jóvenes SENAME no puede ser mayor al Total.","")) | BX10: =IF(AND($C10>0,S10="")," * No olvide digitar la variable Niños, niñas, Adolescentes y Jóvenes Mejor Niñez. Digite Cero si no tiene.",IF(S10>$C10," * La variable Niños, niñas, Adolescentes y Jóvenes Mejor Niñez no puede ser mayor al Total.","")) | BZ10: =IF((J10+K10+L10)<>C10,1,0) -> 0 | CB10: =IF(AND(C10>0,N10=""),1,IF(N10>C10,1,0)) -> 0 | CC10: =IF(AND(C10>0,O10=""),1,IF(O10>C10,1,0)) -> 0 | CD10: =IF(AND($C10>0,P10=""),1,IF(P10>$C10,1,0)) -> 0 | CF10: =IF(AND($C10>0,R10=""),1,IF(R10>$C10,1,0)) -> 0 | CG10: =IF(AND($C10>0,S10=""),1,IF(S10>$C10,1,0)) -> 0
A11: Familia con niño recién nacido | C11: =SUM(D11:G11) -> 0 | T11: =BQ11&BS11&BT11&BU11&BW11&BX11 | BQ11: =IF((J11+K11+L11)<>C11," * La suma del N° de Primera visita + Segunda visita + Tercera o más visitas de seguimiento debe coincidir con el Total.","") | BS11: =IF(AND(C11>0,N11="")," * No olvide digitar la variable Pueblos Originarios. Digite Cero si no tiene..",IF(N11>C11," * La variable Pueblos Originarios no puede ser mayor al Total.","")) | BT11: =IF(AND(C11>0,O11="")," * No olvide digitar la variable Migrantes. Digite Cero si no tiene.",IF(O11>C11," * La variable Migrantes no puede ser mayor al Total.","")) | BU11: =IF(AND($C11>0,P11="")," * No olvide digitar la variable Espacio Amigable/Adolescente. Digite Cero si no tiene.",IF(P11>$C11," * La variable Espacio Amigable/Adolescente no puede ser mayor al Total.","")) | BW11: =IF(AND($C11>0,R11="")," * No olvide digitar la variable Niños, Niñas, Adolescentes y Jóvenes SENAME. Digite Cero si no tiene.",IF(R11>$C11," * La variable Niños, Niñas, Adolescentes y Jóvenes SENAME no puede ser mayor al Total.","")) | BX11: =IF(AND($C11>0,S11="")," * No olvide digitar la variable Niños, niñas, Adolescentes y Jóvenes Mejor Niñez. Digite Cero si no tiene.",IF(S11>$C11," * La variable Niños, niñas, Adolescentes y Jóvenes Mejor Niñez no puede ser mayor al Total.","")) | BZ11: =IF((J11+K11+L11)<>C11,1,0) -> 0 | CB11: =IF(AND(C11>0,N11=""),1,IF(N11>C11,1,0)) -> 0 | CC11: =IF(AND(C11>0,O11=""),1,IF(O11>C11,1,0)) -> 0 | CD11: =IF(AND($C11>0,P11=""),1,IF(P11>$C11,1,0)) -> 0 | CF11: =IF(AND($C11>0,R11=""),1,IF(R11>$C11,1,0)) -> 0 | CG11: =IF(AND($C11>0,S11=""),1,IF(S11>$C11,1,0)) -> 0
