Workbook

Sheet CONSOLIDADO
A1: SERVICIO DE SALUD
A2: =CONCATENATE("COMUNA: ",[1]NOMBRE!B2, " (",[1]NOMBRE!C2,[1]NOMBRE!D2,[1]NOMBRE!E2,[1]NOMBRE!F2,[1]NOMBRE!G2,")") -> COMUNA: 0 (00000)
A3: =CONCATENATE("ESTABLECIMIENTO/ESTRATEGIA: ", [1]NOMBRE!B3, " (",[1]NOMBRE!C3,[1]NOMBRE!D3,[1]NOMBRE!E3,[1]NOMBRE!F3,[1]NOMBRE!G3,[1]NOMBRE!H3,")") -> ESTABLECIMIENTO/ESTRATEGIA: 0 (000000)
A4: =CONCATENATE("MES: ",[1]NOMBRE!B6, " (",[1]NOMBRE!C6,[1]NOMBRE!D6,")") -> MES: 0 (00)
A5: =CONCATENATE("AÑO: ",[1]NOMBRE!B7) -> AÑO: 2025
A6: REM-26. ACTIVIDADES EN DOMICILIO Y OTROS ESPACIOS
A8: SECCIÓN A: VISITAS DOMICILIARIAS INTEGRALES A FAMILIAS (ESTABLECIMIENTOS APS)
A9: CONCEPTOS | C9: TOTAL | D9: Un Profesional | E9: Dos o Más Profesionales | F9: Un Profesional y Un Técnico En Enfermería | G9: Técnico En Enfermería | H9: Facilitador/a Intercultural Pueblos Originarios | I9: Agente Comunitario | J9: Primera Visita | K9: Segunda Visita | L9: Tercera o Más Visitas De Seguimiento | M9: Programa de Acompañamiento Psicosocial en APS | N9: Pueblos Originarios | O9: Migrantes | P9: Espacios Amigables/ Adolescente | Q9: Gestante con 3 o más riesgos | R9: Niños, Niñas, Adolescentes y Jóvenes SENAME | S9: Niños, niñas, Adolescentes y Jóvenes Mejor Niñez
A10: Familia con niño prematuro | C10: =SUM(D10:G10) -> 0 | D10: =SUM(ENERO:DICIEMBRE!D10) -> 0 | T10: =BQ10&BS10&BT10&BU10&BW10&BX10 | BQ10: =IF((J10+K10+L10)<>C10," * La suma del N° de Primera visita + Segunda visita + Tercera o más visitas de seguimiento debe ser igual al Total.","") | BS10: =IF(AND(C10>0,N10="")," * No olvide digitar la variable Pueblos Originarios. Digite Cero si no tiene..",IF(N10>C10," * La variable Pueblos Originarios no puede ser mayor al Total.","")) | BT10: =IF(AND(C10>0,O10="")," * No olvide digitar la variable Migrantes. Digite Cero si no tiene.",IF(O10>C10," * La variable Migrantes no puede ser mayor al Total.","")) | BU10: =IF(AND($C10>0,P10="")," * No olvide digitar la variable Espacio Amigable/Adolescente. Digite Cero si no tiene.",IF(P10>$C10," * La variable Espacio Amigable/Adolescente no puede ser mayor al Total.","")) | BW10: =IF(AND($C10>0,R10="")," * No olvide digitar la variable Niños, Niñas, Adolescentes y Jóvenes SENAME. Digite Cero si no tiene.",IF(R10>$C10," * La variable Niños, Niñas, Adolescentes y Jóvenes SENAME no puede ser mayor al Total.","")) | BX10: =IF(AND($C10>0,S10="")," * No olvide digitar la variable Niños, niñas, Adolescentes y Jóvenes Mejor Niñez. Digite Cero si no tiene.",IF(S10>$C10," * La variable Niños, niñas, Adolescentes y Jóvenes Mejor Niñez no puede ser mayor al Total.","")) | BZ10: =IF((J10+K10+L10)<>C10,1,0) -> 0 | CB10: =IF(AND(C10>0,N10=""),1,IF(N10>C10,1,0)) -> 0 | CC10: =IF(AND(C10>0,O10=""),1,IF(O10>C10,1,0)) -> 0 | CD10: =IF(AND($C10>0,P10=""),1,IF(P10>$C10,1,0)) -> 0 | CF10: =IF(AND($C10>0,R10=""),1,IF(R10>$C10,1,0)) -> 0 | CG10: =IF(AND($C10>0,S10=""),1,IF(S10>$C10,1,0)) -> 0
A11: Familia con niño recién nacido | C11: =SUM(D11:G11) -> 0 | T11: =BQ11&BS11&BT11&BU11&BW11&BX11 | BQ11: =IF((J11+K11+L11)<>C11," * La suma del N° de Primera visita + Segunda visita + Tercera o más visitas de seguimiento debe coincidir con el Total.","") | BS11: =IF(AND(C11>0,N11="")," * No olvide digitar la variable Pueblos Originarios. Digite Cero si no tiene..",IF(N11>C11," * La variable Pueblos Originarios no puede ser mayor al Total.","")) | BT11: =IF(AND(C11>0,O11="")," * No olvide digitar la variable Migrantes. Digite Cero si no tiene.",IF(O11>C11," * La variable Migrantes no puede ser mayor al Total.","")) | BU11: =IF(AND($C11>0,P11="")," * No olvide digitar la variable Espacio Amigable/Adolescente. Digite Cero si no tiene.",IF(P11>$C11," * La variable Espacio Amigable/Adolescente no puede ser mayor al Total.","")) | BW11: =IF(AND($C11>0,R11="")," * No olvide digitar la variable Niños, Niñas, Adolescentes y Jóvenes SENAME. Digite Cero si no tiene.",IF(R11>$C11," * La variable Niños, Niñas, Adolescentes y Jóvenes SENAME no puede ser mayor al Total.","")) | BX11: =IF(AND($C11>0,S11="")," * No olvide digitar la variable Niños, niñas, Adolescentes y Jóvenes Mejor Niñez. Digite Cero si no tiene.",IF(S11>$C11," * La variable Niños, niñas, Adolescentes y Jóvenes Mejor Niñez no puede ser mayor al Total.","")) | BZ11: =IF((J11+K11+L11)<>C11,1,0) -> 0 | CB11: =IF(AND(C11>0,N11=""),1,IF(N11>C11,1,0)) -> 0 | CC11: =IF(AND(C11>0,O11=""),1,IF(O11>C11,1,0)) -> 0 | CD11: =IF(AND($C11>0,P11=""),1,IF(P11>$C11,1,0)) -> 0 | CF11: =IF(AND($C11>0,R11=""),1,IF(R11>$C11,1,0)) -> 0 | CG11: =IF(AND($C11>0,S11=""),1,IF(S11>$C11,1,0)) -> 0
A12: Familia con niño con déficit del DSM | C12: =SUM(D12:G12) -> 0 | T12: =BQ12&BS12&BT12&BU12&BW12&BX12 | BQ12: =IF((J12+K12+L12)<>C12," * La suma del N° de Primera visita + Segunda visita + Tercera o más visitas de seguimiento debe coincidir con el Total.","") | BS12: =IF(AND(C12>0,N12="")," * No olvide digitar la variable Pueblos Originarios. Digite Cero si no tiene..",IF(N12>C12," * La variable Pueblos Originarios no puede ser mayor al Total.","")) | BT12: =IF(AND(C12>0,O12="")," * No olvide digitar la variable Migrantes. Digite Cero si no tiene.",IF(O12>C12," * La variable Migrantes no puede ser mayor al Total.","")) | BU12: =IF(AND($C12>0,P12="")," * No olvide digitar la variable Espacio Amigable/Adolescente. Digite Cero si no tiene.",IF(P12>$C12," * La variable Espacio Amigable/Adolescente no puede ser mayor al Total.","")) | BW12: =IF(AND($C12>0,R12="")," * No olvide digitar la variable Niños, Niñas, Adolescentes y Jóvenes SENAME. Digite Cero si no tiene.",IF(R12>$C12," * La variable Niños, Niñas, Adolescentes y Jóvenes SENAME no puede ser mayor al Total.","")) | BX12: =IF(AND($C12>0,S12="")," * No olvide digitar la variable Niños, niñas, Adolescentes y Jóvenes Mejor Niñez. Digite Cero si no tiene.",IF(S12>$C12," * La variable Niños, niñas, Adolescentes y Jóvenes Mejor Niñez no puede ser mayor al Total.","")) | BZ12: =IF((J12+K12+L12)<>C12,1,0) -> 0 | CB12: =IF(AND(C12>0,N12=""),1,IF(N12>C12,1,0)) -> 0 | CC12: =IF(AND(C12>0,O12=""),1,IF(O12>C12,1,0)) -> 0 | CD12: =IF(AND($C12>0,P12=""),1,IF(P12>$C12,1,0)) -> 0 | CF12: =IF(AND($C12>0,R12=""),1,IF(R12>$C12,1,0)) -> 0 | CG12: =IF(AND($C12>0,S12=""),1,IF(S12>$C12,1,0)) -> 0
A13: Familia con niño en riesgo vincular afectivo | C13: =SUM(D13:G13) -> 0 | T13: =BQ13&BS13&BT13&BU13&BW13&BX13 | BQ13: =IF((J13+K13+L13)<>C13," * La suma del N° de Primera visita + Segunda visita + Tercera o más visitas de seguimiento debe coincidir con el Total.","") | BS13: =IF(AND(C13>0,N13="")," * No olvide digitar la variable Pueblos Originarios. Digite Cero si no tiene..",IF(N13>C13," * La variable Pueblos Originarios no puede ser mayor al Total.","")) | BT13: =IF(AND(C13>0,O13="")," * No olvide digitar la variable Migrantes. Digite Cero si no tiene.",IF(O13>C13," * La variable Migrantes no puede ser mayor al Total.","")) | BU13: =IF(AND($C13>0,P13="")," * No olvide digitar la variable Espacio Amigable/Adolescente. Digite Cero si no tiene.",IF(P13>$C13," * La variable Espacio Amigable/Adolescente no puede ser mayor al Total.","")) | BW13: =IF(AND($C13>0,R13="")," * No olvide digitar la variable Niños, Niñas, Adolescentes y Jóvenes SENAME. Digite Cero si no tiene.",IF(R13>$C13," * La variable Niños, Niñas, Adolescentes y Jóvenes SENAME no puede ser mayor al Total.","")) | BX13: =IF(AND($C13>0,S13="")," * No olvide digitar la variable Niños, niñas, Adolescentes y Jóvenes Mejor Niñez. Digite Cero si no tiene.",IF(S13>$C13," * La variable Niños, niñas, Adolescentes y Jóvenes Mejor Niñez no puede ser mayor al Total.","")) | BZ13: =IF((J13+K13+L13)<>C13,1,0) -> 0 | CB13: =IF(AND(C13>0,N13=""),1,IF(N13>C13,1,0)) -> 0 | CC13: =IF(AND(C13>0,O13=""),1,IF(O13>C13,1,0)) -> 0 | CD13: =IF(AND($C13>0,P13=""),1,IF(P13>$C13,1,0)) -> 0 | CF13: =IF(AND($C13>0,R13=""),1,IF(R13>$C13,1,0)) -> 0 | CG13: =IF(AND($C13>0,S13=""),1,IF(S13>$C13,1,0)) -> 0
A14: Familia con niño de 0 a 12 meses con score de riesgo moderado de morir por neumonía | C14: =SUM(D14:G14) -> 0 | T14: =BQ14&BS14&BT14&BU14&BW14&BX14 | BQ14: =IF((J14+K14+L14)<>C14," * La suma del N° de Primera visita + Segunda visita + Tercera o más visitas de seguimiento debe coincidir con el Total.","") | BS14: =IF(AND(C14>0,N14="")," * No olvide digitar la variable Pueblos Originarios. Digite Cero si no tiene..",IF(N14>C14," * La variable Pueblos Originarios no puede ser mayor al Total.","")) | BT14: =IF(AND(C14>0,O14="")," * No olvide digitar la variable Migrantes. Digite Cero si no tiene.",IF(O14>C14," * La variable Migrantes no puede ser mayor al Total.","")) | BU14: =IF(AND($C14>0,P14="")," * No olvide digitar la variable Espacio Amigable/Adolescente. Digite Cero si no tiene.",IF(P14>$C14," * La variable Espacio Amigable/Adolescente no puede ser mayor al Total.","")) | BW14: =IF(AND($C14>0,R14="")," * No olvide digitar la variable Niños, Niñas, Adolescentes y Jóvenes SENAME. Digite Cero si no tiene.",IF(R14>$C14," * La variable Niños, Niñas, Adolescentes y Jóvenes SENAME no puede ser mayor al Total.","")) | BX14: =IF(AND($C14>0,S14="")," * No olvide digitar la variable Niños, niñas, Adolescentes y Jóvenes Mejor Niñez. Digite Cero si no tiene.",IF(S14>$C14," * La variable Niños, niñas, Adolescentes y Jóvenes Mejor Niñez no puede ser mayor al Total.","")) | BZ14: =IF((J14+K14+L14)<>C14,1,0) -> 0 | CB14: =IF(AND(C14>0,N14=""),1,IF(N14>C14,1,0)) -> 0 | CC14: =IF(AND(C14>0,O14=""),1,IF(O14>C14,1,0)) -> 0 | CD14: =IF(AND($C14>0,P14=""),1,IF(P14>$C14,1,0)) -> 0 | CF14: =IF(AND($C14>0,R14=""),1,IF(R14>$C14,1,0)) -> 0 | CG14: =IF(AND($C14>0,S14=""),1,IF(S14>$C14,1,0)) -> 0
A15: Familia con niño de 0 a 12 meses con score de riesgo grave de morir por neumonía | C15: =SUM(D15:G15) -> 0 | T15: =BQ15&BS15&BT15&BU15&BW15&BX15 | BQ15: =IF((J15+K15+L15)<>C15," * La suma del N° de Primera visita + Segunda visita + Tercera o más visitas de seguimiento debe coincidir con el Total.","") | BS15: =IF(AND(C15>0,N15="")," * No olvide digitar la variable Pueblos Originarios. Digite Cero si no tiene..",IF(N15>C15," * La variable Pueblos Originarios no puede ser mayor al Total.","")) | BT15: =IF(AND(C15>0,O15="")," * No olvide digitar la variable Migrantes. Digite Cero si no tiene.",IF(O15>C15," * La variable Migrantes no puede ser mayor al Total.","")) | BU15: =IF(AND($C15>0,P15="")," * No olvide digitar la variable Espacio Amigable/Adolescente. Digite Cero si no tiene.",IF(P15>$C15," * La variable Espacio Amigable/Adolescente no puede ser mayor al Total.","")) | BW15: =IF(AND($C15>0,R15="")," * No olvide digitar la variable Niños, Niñas, Adolescentes y Jóvenes SENAME. Digite Cero si no tiene.",IF(R15>$C15," * La variable Niños, Niñas, Adolescentes y Jóvenes SENAME no puede ser mayor al Total.","")) | BX15: =IF(AND($C15>0,S15="")," * No olvide digitar la variable Niños, niñas, Adolescentes y Jóvenes Mejor Niñez. Digite Cero si no tiene.",IF(S15>$C15," * La variable Niños, niñas, Adolescentes y Jóvenes Mejor Niñez no puede ser mayor al Total.","")) | BZ15: =IF((J15+K15+L15)<>C15,1,0) -> 0 | CB15: =IF(AND(C15>0,N15=""),1,IF(N15>C15,1,0)) -> 0 | CC15: =IF(AND(C15>0,O15=""),1,IF(O15>C15,1,0)) -> 0 | CD15: =IF(AND($C15>0,P15=""),1,IF(P15>$C15,1,0)) -> 0 | CF15: =IF(AND($C15>0,R15=""),1,IF(R15>$C15,1,0)) -> 0 | CG15: =IF(AND($C15>0,S15=""),1,IF(S15>$C15,1,0)) -> 0
A16: Familia con niño con problema respiratorio crónico o no controlado | C16: =SUM(D16:G16) -> 0 | T16: =BQ16&BS16&BT16&BU16&BW16&BX16 | BQ16: =IF((J16+K16+L16)<>C16," * La suma del N° de Primera visita + Segunda visita + Tercera o más visitas de seguimiento debe coincidir con el Total.","") | BS16: =IF(AND(C16>0,N16="")," * No olvide digitar la variable Pueblos Originarios. Digite Cero si no tiene..",IF(N16>C16," * La variable Pueblos Originarios no puede ser mayor al Total.","")) | BT16: =IF(AND(C16>0,O16="")," * No olvide digitar la variable Migrantes. Digite Cero si no tiene.",IF(O16>C16," * La variable Migrantes no puede ser mayor al Total.","")) | BU16: =IF(AND($C16>0,P16="")," * No olvide digitar la variable Espacio Amigable/Adolescente. Digite Cero si no tiene.",IF(P16>$C16," * La variable Espacio Amigable/Adolescente no puede ser mayor al Total.","")) | BW16: =IF(AND($C16>0,R16="")," * No olvide digitar la variable Niños, Niñas, Adolescentes y Jóvenes SENAME. Digite Cero si no tiene.",IF(R16>$C16," * La variable Niños, Niñas, Adolescentes y Jóvenes SENAME no puede ser mayor al Total.","")) | BX16: =IF(AND($C16>0,S16="")," * No olvide digitar la variable Niños, niñas, Adolescentes y Jóvenes Mejor Niñez. Digite Cero si no tiene.",IF(S16>$C16," * La variable Niños, niñas, Adolescentes y Jóvenes Mejor Niñez no puede ser mayor al Total.","")) | BZ16: =IF((J16+K16+L16)<>C16,1,0) -> 0 | CB16: =IF(AND(C16>0,N16=""),1,IF(N16>C16,1,0)) -> 0 | CC16: =IF(AND(C16>0,O16=""),1,IF(O16>C16,1,0)) -> 0 | CD16: =IF(AND($C16>0,P16=""),1,IF(P16>$C16,1,0)) -> 0 | CF16: =IF(AND($C16>0,R16=""),1,IF(R16>$C16,1,0)) -> 0 | CG16: =IF(AND($C16>0,S16=""),1,IF(S16>$C16,1,0)) -> 0
A17: Familia con niño malnutrido | C17: =SUM(D17:G17) -> 0 | T17: =BQ17&BS17&BT17&BU17&BW17&BX17 | BQ17: =IF((J17+K17+L17)<>C17," * La suma del N° de Primera visita + Segunda visita + Tercera o más visitas de seguimiento debe coincidir con el Total.","") | BS17: =IF(AND(C17>0,N17="")," * No olvide digitar la variable Pueblos Originarios. Digite Cero si no tiene..",IF(N17>C17," * La variable Pueblos Originarios no puede ser mayor al Total.","")) | BT17: =IF(AND(C17>0,O17="")," * No olvide digitar la variable Migrantes. Digite Cero si no tiene.",IF(O17>C17," * La variable Migrantes no puede ser mayor al Total.","")) | BU17: =IF(AND($C17>0,P17="")," * No olvide digitar la variable Espacio Amigable/Adolescente. Digite Cero si no tiene.",IF(P17>$C17," * La variable Espacio Amigable/Adolescente no puede ser mayor al Total.","")) | BW17: =IF(AND($C17>0,R17="")," * No olvide digitar la variable Niños, Niñas, Adolescentes y Jóvenes SENAME. Digite Cero si no tiene.",IF(R17>$C17," * La variable Niños, Niñas, Adolescentes y Jóvenes SENAME no puede ser mayor al Total.","")) | BX17: =IF(AND($C17>0,S17="")," * No olvide digitar la variable Niños, niñas, Adolescentes y Jóvenes Mejor Niñez. Digite Cero si no tiene.",IF(S17>$C17," * La variable Niños, niñas, Adolescentes y Jóvenes Mejor Niñez no puede ser mayor al Total.","")) | BZ17: =IF((J17+K17+L17)<>C17,1,0) -> 0 | CB17: =IF(AND(C17>0,N17=""),1,IF(N17>C17,1,0)) -> 0 | CC17: =IF(AND(C17>0,O17=""),1,IF(O17>C17,1,0)) -> 0 | CD17: =IF(AND($C17>0,P17=""),1,IF(P17>$C17,1,0)) -> 0 | CF17: =IF(AND($C17>0,R17=""),1,IF(R17>$C17,1,0)) -> 0 | CG17: =IF(AND($C17>0,S17=""),1,IF(S17>$C17,1,0)) -> 0
A18: Familia con niño con riesgo psicosocial (excluye vincular afectivo) | C18: =SUM(D18:G18) -> 0 | T18: =BQ18&BR18&BS18&BT18&BU18&BW18&BX18 | BQ18: =IF((J18+K18+L18)<>C18," * La suma del N° de Primera visita + Segunda visita + Tercera o más visitas de seguimiento debe coincidir con el Total.","") | BR18: =IF(AND(C18>0,M18="")," * No olvide digitar la variable Programa de Acompañamiento Psicosocial en APS. Si no tiene digite Cero.",IF(M18>C18," * La variable Programa de Acompañamiento Psicosocial en APS no puede ser mayor al Total.","")) | BS18: =IF(AND(C18>0,N18="")," * No olvide digitar la variable Pueblos Originarios. Digite Cero si no tiene..",IF(N18>C18," * La variable Pueblos Originarios no puede ser mayor al Total.","")) | BT18: =IF(AND(C18>0,O18="")," * No olvide digitar la variable Migrantes. Digite Cero si no tiene.",IF(O18>C18," * La variable Migrantes no puede ser mayor al Total.","")) | BU18: =IF(AND($C18>0,P18="")," * No olvide digitar la variable Espacio Amigable/Adolescente. Digite Cero si no tiene.",IF(P18>$C18," * La variable Espacio Amigable/Adolescente no puede ser mayor al Total.","")) | BW18: =IF(AND($C18>0,R18="")," * No olvide digitar la variable Niños, Niñas, Adolescentes y Jóvenes SENAME. Digite Cero si no tiene.",IF(R18>$C18," * La variable Niños, Niñas, Adolescentes y Jóvenes SENAME no puede ser mayor al Total.","")) | BX18: =IF(AND($C18>0,S18="")," * No olvide digitar la variable Niños, niñas, Adolescentes y Jóvenes Mejor Niñez. Digite Cero si no tiene.",IF(S18>$C18," * La variable Niños, niñas, Adolescentes y Jóvenes Mejor Niñez no puede ser mayor al Total.","")) | BZ18: =IF((J18+K18+L18)<>C18,1,0) -> 0 | CA18: =IF(AND(C18>0,M18=""),1,IF(M18>C18,1,0)) -> 0 | CB18: =IF(AND(C18>0,N18=""),1,IF(N18>C18,1,0)) -> 0 | CC18: =IF(AND(C18>0,O18=""),1,IF(O18>C18,1,0)) -> 0 | CD18: =IF(AND($C18>0,P18=""),1,IF(P18>$C18,1,0)) -> 0 | CF18: =IF(AND($C18>0,R18=""),1,IF(R18>$C18,1,0)) -> 0 | CG18: =IF(AND($C18>0,S18=""),1,IF(S18>$C18,1,0)) -> 0
A19: Familia con adolescente en riesgo o problema psicosocial | C19: =SUM(D19:G19) -> 0 | T19: =BQ19&BR19&BS19&BT19&BU19&BW19&BX19 | BQ19: =IF((J19+K19+L19)<>C19," * La suma del N° de Primera visita + Segunda visita + Tercera o más visitas de seguimiento debe coincidir con el Total.","") | BR19: =IF(AND(C19>0,M19="")," * No olvide digitar la variable Programa de Acompañamiento Psicosocial en APS. Si no tiene digite Cero.",IF(M19>C19," * La variable Programa de Acompañamiento Psicosocial en APS no puede ser mayor al Total.","")) | BS19: =IF(AND(C19>0,N19="")," * No olvide digitar la variable Pueblos Originarios. Digite Cero si no tiene..",IF(N19>C19," * La variable Pueblos Originarios no puede ser mayor al Total.","")) | BT19: =IF(AND(C19>0,O19="")," * No olvide digitar la variable Migrantes. Digite Cero si no tiene.",IF(O19>C19," * La variable Migrantes no puede ser mayor al Total.","")) | BU19: =IF(AND($C19>0,P19="")," * No olvide digitar la variable Espacio Amigable/Adolescente. Digite Cero si no tiene.",IF(P19>$C19," * La variable Espacio Amigable/Adolescente no puede ser mayor al Total.","")) | BW19: =IF(AND($C19>0,R19="")," * No olvide digitar la variable Niños, Niñas, Adolescentes y Jóvenes SENAME. Digite Cero si no tiene.",IF(R19>$C19," * La variable Niños, Niñas, Adolescentes y Jóvenes SENAME no puede ser mayor al Total.","")) | BX19: =IF(AND($C19>0,S19="")," * No olvide digitar la variable Niños, niñas, Adolescentes y Jóvenes Mejor Niñez. Digite Cero si no tiene.",IF(S19>$C19," * La variable Niños, niñas, Adolescentes y Jóvenes Mejor Niñez no puede ser mayor al Total.","")) | BZ19: =IF((J19+K19+L19)<>C19,1,0) -> 0 | CA19: =IF(AND(C19>0,M19=""),1,IF(M19>C19,1,0)) -> 0 | CB19: =IF(AND(C19>0,N19=""),1,IF(N19>C19,1,0)) -> 0 | CC19: =IF(AND(C19>0,O19=""),1,IF(O19>C19,1,0)) -> 0 | CD19: =IF(AND($C19>0,P19=""),1,IF(P19>$C19,1,0)) -> 0 | CF19: =IF(AND($C19>0,R19=""),1,IF(R19>$C19,1,0)) -> 0 | CG19: =IF(AND($C19>0,S19=""),1,IF(S19>$C19,1,0)) -> 0
A20: Familia con integrante con patología crónica descompensada | C20: =SUM(D20:G20) -> 0 | T20: =BQ20&BR20&BS20&BT20&BU20&BW20&BX20 | BQ20: =IF((J20+K20+L20)<>C20," * La suma del N° de Primera visita + Segunda visita + Tercera o más visitas de seguimiento debe coincidir con el Total.","") | BR20: =IF(AND(C20>0,M20="")," * No olvide digitar la variable Programa de Acompañamiento Psicosocial en APS. Si no tiene digite Cero.",IF(M20>C20," * La variable Programa de Acompañamiento Psicosocial en APS no puede ser mayor al Total.","")) | BS20: =IF(AND(C20>0,N20="")," * No olvide digitar la variable Pueblos Originarios. Digite Cero si no tiene..",IF(N20>C20," * La variable Pueblos Originarios no puede ser mayor al Total.","")) | BT20: =IF(AND(C20>0,O20="")," * No olvide digitar la variable Migrantes. Digite Cero si no tiene.",IF(O20>C20," * La variable Migrantes no puede ser mayor al Total.","")) | BU20: =IF(AND($C20>0,P20="")," * No olvide digitar la variable Espacio Amigable/Adolescente. Digite Cero si no tiene.",IF(P20>$C20," * La variable Espacio Amigable/Adolescente no puede ser mayor al Total.","")) | BW20: =IF(AND($C20>0,R20="")," * No olvide digitar la variable Niños, Niñas, Adolescentes y Jóvenes SENAME. Digite Cero si no tiene.",IF(R20>$C20," * La variable Niños, Niñas, Adolescentes y Jóvenes SENAME no puede ser mayor al Total.","")) | BX20: =IF(AND($C20>0,S20="")," * No olvide digitar la variable Niños, niñas, Adolescentes y Jóvenes Mejor Niñez. Digite Cero si no tiene.",IF(S20>$C20," * La variable Niños, niñas, Adolescentes y Jóvenes Mejor Niñez no puede ser mayor al Total.","")) | BZ20: =IF((J20+K20+L20)<>C20,1,0) -> 0 | CA20: =IF(AND(C20>0,M20=""),1,IF(M20>C20,1,0)) -> 0 | CB20: =IF(AND(C20>0,N20=""),1,IF(N20>C20,1,0)) -> 0 | CC20: =IF(AND(C20>0,O20=""),1,IF(O20>C20,1,0)) -> 0 | CD20: =IF(AND($C20>0,P20=""),1,IF(P20>$C20,1,0)) -> 0 | CF20: =IF(AND($C20>0,R20=""),1,IF(R20>$C20,1,0)) -> 0 | CG20: =IF(AND($C20>0,S20=""),1,IF(S20>$C20,1,0)) -> 0
A21: Familia con adulto mayor dependediente (excluye dependiente severo) | C21: =SUM(D21:G21) -> 0 | T21: =BQ21&BS21&BT21&BU21&BW21&BX21 | BQ21: =IF((J21+K21+L21)<>C21," * La suma del N° de Primera visita + Segunda visita + Tercera o más visitas de seguimiento debe coincidir con el Total.","") | BS21: =IF(AND(C21>0,N21="")," * No olvide digitar la variable Pueblos Originarios. Digite Cero si no tiene..",IF(N21>C21," * La variable Pueblos Originarios no puede ser mayor al Total.","")) | BT21: =IF(AND(C21>0,O21="")," * No olvide digitar la variable Migrantes. Digite Cero si no tiene.",IF(O21>C21," * La variable Migrantes no puede ser mayor al Total.","")) | BU21: =IF(AND($C21>0,P21="")," * No olvide digitar la variable Espacio Amigable/Adolescente. Digite Cero si no tiene.",IF(P21>$C21," * La variable Espacio Amigable/Adolescente no puede ser mayor al Total.","")) | BW21: =IF(AND($C21>0,R21="")," * No olvide digitar la variable Niños, Niñas, Adolescentes y Jóvenes SENAME. Digite Cero si no tiene.",IF(R21>$C21," * La variable Niños, Niñas, Adolescentes y Jóvenes SENAME no puede ser mayor al Total.","")) | BX21: =IF(AND($C21>0,S21="")," * No olvide digitar la variable Niños, niñas, Adolescentes y Jóvenes Mejor Niñez. Digite Cero si no tiene.",IF(S21>$C21," * La variable Niños, niñas, Adolescentes y Jóvenes Mejor Niñez no puede ser mayor al Total.","")) | BZ21: =IF((J21+K21+L21)<>C21,1,0) -> 0 | CB21: =IF(AND(C21>0,N21=""),1,IF(N21>C21,1,0)) -> 0 | CC21: =IF(AND(C21>0,O21=""),1,IF(O21>C21,1,0)) -> 0 | CD21: =IF(AND($C21>0,P21=""),1,IF(P21>$C21,1,0)) -> 0 | CF21: =IF(AND($C21>0,R21=""),1,IF(R21>$C21,1,0)) -> 0 | CG21: =IF(AND($C21>0,S21=""),1,IF(S21>$C21,1,0)) -> 0
A22: Familia con adulto mayor en riesgo psicosocial | C22: =SUM(D22:G22) -> 0 | T22: =BQ22&BS22&BT22&BU22&BW22&BX22 | BQ22: =IF((J22+K22+L22)<>C22," * La suma del N° de Primera visita + Segunda visita + Tercera o más visitas de seguimiento debe coincidir con el Total.","") | BS22: =IF(AND(C22>0,N22="")," * No olvide digitar la variable Pueblos Originarios. Digite Cero si no tiene..",IF(N22>C22," * La variable Pueblos Originarios no puede ser mayor al Total.","")) | BT22: =IF(AND(C22>0,O22="")," * No olvide digitar la variable Migrantes. Digite Cero si no tiene.",IF(O22>C22," * La variable Migrantes no puede ser mayor al Total.","")) | BU22: =IF(AND($C22>0,P22="")," * No olvide digitar la variable Espacio Amigable/Adolescente. Digite Cero si no tiene.",IF(P22>$C22," * La variable Espacio Amigable/Adolescente no puede ser mayor al Total.","")) | BW22: =IF(AND($C22>0,R22="")," * No olvide digitar la variable Niños, Niñas, Adolescentes y Jóvenes SENAME. Digite Cero si no tiene.",IF(R22>$C22," * La variable Niños, Niñas, Adolescentes y Jóvenes SENAME no puede ser mayor al Total.","")) | BX22: =IF(AND($C22>0,S22="")," * No olvide digitar la variable Niños, niñas, Adolescentes y Jóvenes Mejor Niñez. Digite Cero si no tiene.",IF(S22>$C22," * La variable Niños, niñas, Adolescentes y Jóvenes Mejor Niñez no puede ser mayor al Total.","")) | BZ22: =IF((J22+K22+L22)<>C22,1,0) -> 0 | CB22: =IF(AND(C22>0,N22=""),1,IF(N22>C22,1,0)) -> 0 | CC22: =IF(AND(C22>0,O22=""),1,IF(O22>C22,1,0)) -> 0 | CD22: =IF(AND($C22>0,P22=""),1,IF(P22>$C22,1,0)) -> 0 | CF22: =IF(AND($C22>0,R22=""),1,IF(R22>$C22,1,0)) -> 0 | CG22: =IF(AND($C22>0,S22=""),1,IF(S22>$C22,1,0)) -> 0
A23: Familia con gestante adolescente 10 a 14 años | C23: =SUM(D23:G23) -> 0 | T23: =BQ23&BR23&BS23&BT23&BU23&BV23&BW23&BX23 | BQ23: =IF((J23+K23+L23)<>C23," * La suma del N° de Primera visita + Segunda visita + Tercera o más visitas de seguimiento debe coincidir con el Total.","") | BR23: =IF(AND(C23>0,M23="")," * No olvide digitar la variable Programa de Acompañamiento Psicosocial en APS. Si no tiene digite Cero.",IF(M23>C23," * La variable Programa de Acompañamiento Psicosocial en APS no puede ser mayor al Total.","")) | BS23: =IF(AND(C23>0,N23="")," * No olvide digitar la variable Pueblos Originarios. Digite Cero si no tiene..",IF(N23>C23," * La variable Pueblos Originarios no puede ser mayor al Total.","")) | BT23: =IF(AND(C23>0,O23="")," * No olvide digitar la variable Migrantes. Digite Cero si no tiene.",IF(O23>C23," * La variable Migrantes no puede ser mayor al Total.","")) | BU23: =IF(AND($C23>0,P23="")," * No olvide digitar la variable Espacio Amigable/Adolescente. Digite Cero si no tiene.",IF(P23>$C23," * La variable Espacio Amigable/Adolescente no puede ser mayor al Total.","")) | BV23: =IF(AND($C23>0,Q23="")," * No olvide digitar la variable Gestante con 3 o más riesgos. Digite Cero si no tiene.",IF(Q23>$C23," * La variable Gestante con 3 o más riesgos no puede ser mayor al Total.","")) | BW23: =IF(AND($C23>0,R23="")," * No olvide digitar la variable Niños, Niñas, Adolescentes y Jóvenes SENAME. Digite Cero si no tiene.",IF(R23>$C23," * La variable Niños, Niñas, Adolescentes y Jóvenes SENAME no puede ser mayor al Total.","")) | BX23: =IF(AND($C23>0,S23="")," * No olvide digitar la variable Niños, niñas, Adolescentes y Jóvenes Mejor Niñez. Digite Cero si no tiene.",IF(S23>$C23," * La variable Niños, niñas, Adolescentes y Jóvenes Mejor Niñez no puede ser mayor al Total.","")) | BZ23: =IF((J23+K23+L23)<>C23,1,0) -> 0 | CA23: =IF(AND(C23>0,M23=""),1,IF(M23>C23,1,0)) -> 0 | CB23: =IF(AND(C23>0,N23=""),1,IF(N23>C23,1,0)) -> 0 | CC23: =IF(AND(C23>0,O23=""),1,IF(O23>C23,1,0)) -> 0 | CD23: =IF(AND($C23>0,P23=""),1,IF(P23>$C23,1,0)) -> 0 | CE23: =IF(AND($C23>0,Q23=""),1,IF(Q23>$C23,1,0)) -> 0 | CF23: =IF(AND($C23>0,R23=""),1,IF(R23>$C23,1,0)) -> 0 | CG23: =IF(AND($C23>0,S23=""),1,IF(S23>$C23,1,0)) -> 0
A24: Familia con gestante >20 años en riesgo psicosocial | C24: =SUM(D24:G24) -> 0 | T24: =BQ24&BR24&BS24&BT24&BU24&BV24&BW24&BX24 | BQ24: =IF((J24+K24+L24)<>C24," * La suma del N° de Primera visita + Segunda visita + Tercera o más visitas de seguimiento debe coincidir con el Total.","") | BR24: =IF(AND(C24>0,M24="")," * No olvide digitar la variable Programa de Acompañamiento Psicosocial en APS. Si no tiene digite Cero.",IF(M24>C24," * La variable Programa de Acompañamiento Psicosocial en APS no puede ser mayor al Total.","")) | BS24: =IF(AND(C24>0,N24="")," * No olvide digitar la variable Pueblos Originarios. Digite Cero si no tiene..",IF(N24>C24," * La variable Pueblos Originarios no puede ser mayor al Total.","")) | BT24: =IF(AND(C24>0,O24="")," * No olvide digitar la variable Migrantes. Digite Cero si no tiene.",IF(O24>C24," * La variable Migrantes no puede ser mayor al Total.","")) | BU24: =IF(AND($C24>0,P24="")," * No olvide digitar la variable Espacio Amigable/Adolescente. Digite Cero si no tiene.",IF(P24>$C24," * La variable Espacio Amigable/Adolescente no puede ser mayor al Total.","")) | BV24: =IF(AND($C24>0,Q24="")," * No olvide digitar la variable Gestante con 3 o más riesgos. Digite Cero si no tiene.",IF(Q24>$C24," * La variable Gestante con 3 o más riesgos no puede ser mayor al Total.","")) | BW24: =IF(AND($C24>0,R24="")," * No olvide digitar la variable Niños, Niñas, Adolescentes y Jóvenes SENAME. Digite Cero si no tiene.",IF(R24>$C24," * La variable Niños, Niñas, Adolescentes y Jóvenes SENAME no puede ser mayor al Total.","")) | BX24: =IF(AND($C24>0,S24="")," * No olvide digitar la variable Niños, niñas, Adolescentes y Jóvenes Mejor Niñez. Digite Cero si no tiene.",IF(S24>$C24," * La variable Niños, niñas, Adolescentes y Jóvenes Mejor Niñez no puede ser mayor al Total.","")) | BZ24: =IF((J24+K24+L24)<>C24,1,0) -> 0 | CA24: =IF(AND(C24>0,M24=""),1,IF(M24>C24,1,0)) -> 0 | CB24: =IF(AND(C24>0,N24=""),1,IF(N24>C24,1,0)) -> 0 | CC24: =IF(AND(C24>0,O24=""),1,IF(O24>C24,1,0)) -> 0 | CD24: =IF(AND($C24>0,P24=""),1,IF(P24>$C24,1,0)) -> 0 | CE24: =IF(AND($C24>0,Q24=""),1,IF(Q24>$C24,1,0)) -> 0 | CF24: =IF(AND($C24>0,R24=""),1,IF(R24>$C24,1,0)) -> 0 | CG24: =IF(AND($C24>0,S24=""),1,IF(S24>$C24,1,0)) -> 0
A25: Familia con gestante adolescente en riesgo psicosocial 15 a 19 años | C25: =SUM(D25:G25) -> 0 | T25: =BQ25&BR25&BS25&BT25&BU25&BV25&BW25&BX25 | BQ25: =IF((J25+K25+L25)<>C25," * La suma del N° de Primera visita + Segunda visita + Tercera o más visitas de seguimiento debe coincidir con el Total.","") | BR25: =IF(AND(C25>0,M25="")," * No olvide digitar la variable Programa de Acompañamiento Psicosocial en APS. Si no tiene digite Cero.",IF(M25>C25," * La variable Programa de Acompañamiento Psicosocial en APS no puede ser mayor al Total.","")) | BS25: =IF(AND(C25>0,N25="")," * No olvide digitar la variable Pueblos Originarios. Digite Cero si no tiene..",IF(N25>C25," * La variable Pueblos Originarios no puede ser mayor al Total.","")) | BT25: =IF(AND(C25>0,O25="")," * No olvide digitar la variable Migrantes. Digite Cero si no tiene.",IF(O25>C25," * La variable Migrantes no puede ser mayor al Total.","")) | BU25: =IF(AND($C25>0,P25="")," * No olvide digitar la variable Espacio Amigable/Adolescente. Digite Cero si no tiene.",IF(P25>$C25," * La variable Espacio Amigable/Adolescente no puede ser mayor al Total.","")) | BV25: =IF(AND($C25>0,Q25="")," * No olvide digitar la variable Gestante con 3 o más riesgos. Digite Cero si no tiene.",IF(Q25>$C25," * La variable Gestante con 3 o más riesgos no puede ser mayor al Total.","")) | BW25: =IF(AND($C25>0,R25="")," * No olvide digitar la variable Niños, Niñas, Adolescentes y Jóvenes SENAME. Digite Cero si no tiene.",IF(R25>$C25," * La variable Niños, Niñas, Adolescentes y Jóvenes SENAME no puede ser mayor al Total.","")) | BX25: =IF(AND($C25>0,S25="")," * No olvide digitar la variable Niños, niñas, Adolescentes y Jóvenes Mejor Niñez. Digite Cero si no tiene.",IF(S25>$C25," * La variable Niños, niñas, Adolescentes y Jóvenes Mejor Niñez no puede ser mayor al Total.","")) | BZ25: =IF((J25+K25+L25)<>C25,1,0) -> 0 | CA25: =IF(AND(C25>0,M25=""),1,IF(M25>C25,1,0)) -> 0 | CB25: =IF(AND(C25>0,N25=""),1,IF(N25>C25,1,0)) -> 0 | CC25: =IF(AND(C25>0,O25=""),1,IF(O25>C25,1,0)) -> 0 | CD25: =IF(AND($C25>0,P25=""),1,IF(P25>$C25,1,0)) -> 0 | CE25: =IF(AND($C25>0,Q25=""),1,IF(Q25>$C25,1,0)) -> 0 | CF25: =IF(AND($C25>0,R25=""),1,IF(R25>$C25,1,0)) -> 0 | CG25: =IF(AND($C25>0,S25=""),1,IF(S25>$C25,1,0)) -> 0
A26: Familia con adolescente con problema respiratorio crónico o no controlado | C26: =SUM(D26:G26) -> 0 | T26: =BQ26&BS26&BT26&BU26&BW26&BX26 | BQ26: =IF((J26+K26+L26)<>C26," * La suma del N° de Primera visita + Segunda visita + Tercera o más visitas de seguimiento debe coincidir con el Total.","") | BS26: =IF(AND(C26>0,N26="")," * No olvide digitar la variable Pueblos Originarios. Digite Cero si no tiene..",IF(N26>C26," * La variable Pueblos Originarios no puede ser mayor al Total.","")) | BT26: =IF(AND(C26>0,O26="")," * No olvide digitar la variable Migrantes. Digite Cero si no tiene.",IF(O26>C26," * La variable Migrantes no puede ser mayor al Total.","")) | BU26: =IF(AND($C26>0,P26="")," * No olvide digitar la variable Espacio Amigable/Adolescente. Digite Cero si no tiene.",IF(P26>$C26," * La variable Espacio Amigable/Adolescente no puede ser mayor al Total.","")) | BW26: =IF(AND($C26>0,R26="")," * No olvide digitar la variable Niños, Niñas, Adolescentes y Jóvenes SENAME. Digite Cero si no tiene.",IF(R26>$C26," * La variable Niños, Niñas, Adolescentes y Jóvenes SENAME no puede ser mayor al Total.","")) | BX26: =IF(AND($C26>0,S26="")," * No olvide digitar la variable Niños, niñas, Adolescentes y Jóvenes Mejor Niñez. Digite Cero si no tiene.",IF(S26>$C26," * La variable Niños, niñas, Adolescentes y Jóvenes Mejor Niñez no puede ser mayor al Total.","")) | BZ26: =IF((J26+K26+L26)<>C26,1,0) -> 0 | CB26: =IF(AND(C26>0,N26=""),1,IF(N26>C26,1,0)) -> 0 | CC26: =IF(AND(C26>0,O26=""),1,IF(O26>C26,1,0)) -> 0 | CD26: =IF(AND($C26>0,P26=""),1,IF(P26>$C26,1,0)) -> 0 | CF26: =IF(AND($C26>0,R26=""),1,IF(R26>$C26,1,0)) -> 0 | CG26: =IF(AND($C26>0,S26=""),1,IF(S26>$C26,1,0)) -> 0
A27: Familia con adulto con problema respiratorio crónico o no controlado | C27: =SUM(D27:G27) -> 0 | T27: =BQ27&BS27&BT27&BU27&BW27&BX27 | BQ27: =IF((J27+K27+L27)<>C27," * La suma del N° de Primera visita + Segunda visita + Tercera o más visitas de seguimiento debe coincidir con el Total.","") | BS27: =IF(AND(C27>0,N27="")," * No olvide digitar la variable Pueblos Originarios. Digite Cero si no tiene..",IF(N27>C27," * La variable Pueblos Originarios no puede ser mayor al Total.","")) | BT27: =IF(AND(C27>0,O27="")," * No olvide digitar la variable Migrantes. Digite Cero si no tiene.",IF(O27>C27," * La variable Migrantes no puede ser mayor al Total.","")) | BU27: =IF(AND($C27>0,P27="")," * No olvide digitar la variable Espacio Amigable/Adolescente. Digite Cero si no tiene.",IF(P27>$C27," * La variable Espacio Amigable/Adolescente no puede ser mayor al Total.","")) | BW27: =IF(AND($C27>0,R27="")," * No olvide digitar la variable Niños, Niñas, Adolescentes y Jóvenes SENAME. Digite Cero si no tiene.",IF(R27>$C27," * La variable Niños, Niñas, Adolescentes y Jóvenes SENAME no puede ser mayor al Total.","")) | BX27: =IF(AND($C27>0,S27="")," * No olvide digitar la variable Niños, niñas, Adolescentes y Jóvenes Mejor Niñez. Digite Cero si no tiene.",IF(S27>$C27," * La variable Niños, niñas, Adolescentes y Jóvenes Mejor Niñez no puede ser mayor al Total.","")) | BZ27: =IF((J27+K27+L27)<>C27,1,0) -> 0 | CB27: =IF(AND(C27>0,N27=""),1,IF(N27>C27,1,0)) -> 0 | CC27: =IF(AND(C27>0,O27=""),1,IF(O27>C27,1,0)) -> 0 | CD27: =IF(AND($C27>0,P27=""),1,IF(P27>$C27,1,0)) -> 0 | CF27: =IF(AND($C27>0,R27=""),1,IF(R27>$C27,1,0)) -> 0 | CG27: =IF(AND($C27>0,S27=""),1,IF(S27>$C27,1,0)) -> 0
A28: Familia con gestante en riesgo biomédico | C28: =SUM(D28:G28) -> 0 | T28: =BQ28&BS28&BT28&BU28&BW28&BX28 | BQ28: =IF((J28+K28+L28)<>C28," * La suma del N° de Primera visita + Segunda visita + Tercera o más visitas de seguimiento debe coincidir con el Total.","") | BS28: =IF(AND(C28>0,N28="")," * No olvide digitar la variable Pueblos Originarios. Digite Cero si no tiene..",IF(N28>C28," * La variable Pueblos Originarios no puede ser mayor al Total.","")) | BT28: =IF(AND(C28>0,O28="")," * No olvide digitar la variable Migrantes. Digite Cero si no tiene.",IF(O28>C28," * La variable Migrantes no puede ser mayor al Total.","")) | BU28: =IF(AND($C28>0,P28="")," * No olvide digitar la variable Espacio Amigable/Adolescente. Digite Cero si no tiene.",IF(P28>$C28," * La variable Espacio Amigable/Adolescente no puede ser mayor al Total.","")) | BW28: =IF(AND($C28>0,R28="")," * No olvide digitar la variable Niños, Niñas, Adolescentes y Jóvenes SENAME. Digite Cero si no tiene.",IF(R28>$C28," * La variable Niños, Niñas, Adolescentes y Jóvenes SENAME no puede ser mayor al Total.","")) | BX28: =IF(AND($C28>0,S28="")," * No olvide digitar la variable Niños, niñas, Adolescentes y Jóvenes Mejor Niñez. Digite Cero si no tiene.",IF(S28>$C28," * La variable Niños, niñas, Adolescentes y Jóvenes Mejor Niñez no puede ser mayor al Total.","")) | BZ28: =IF((J28+K28+L28)<>C28,1,0) -> 0 | CB28: =IF(AND(C28>0,N28=""),1,IF(N28>C28,1,0)) -> 0 | CC28: =IF(AND(C28>0,O28=""),1,IF(O28>C28,1,0)) -> 0 | CD28: =IF(AND($C28>0,P28=""),1,IF(P28>$C28,1,0)) -> 0 | CF28: =IF(AND($C28>0,R28=""),1,IF(R28>$C28,1,0)) -> 0 | CG28: =IF(AND($C28>0,S28=""),1,IF(S28>$C28,1,0)) -> 0
A29: Familia con otro riesgo psicosocial | C29: =SUM(D29:G29) -> 0 | T29: =BQ29&BR29&BS29&BT29&BU29&BW29&BX29 | BQ29: =IF((J29+K29+L29)<>C29," * La suma del N° de Primera visita + Segunda visita + Tercera o más visitas de seguimiento debe coincidir con el Total.","") | BR29: =IF(AND(C29>0,M29="")," * No olvide digitar la variable Programa de Acompañamiento Psicosocial en APS. Si no tiene digite Cero.",IF(M29>C29," * La variable Programa de Acompañamiento Psicosocial en APS no puede ser mayor al Total.","")) | BS29: =IF(AND(C29>0,N29="")," * No olvide digitar la variable Pueblos Originarios. Digite Cero si no tiene..",IF(N29>C29," * La variable Pueblos Originarios no puede ser mayor al Total.","")) | BT29: =IF(AND(C29>0,O29="")," * No olvide digitar la variable Migrantes. Digite Cero si no tiene.",IF(O29>C29," * La variable Migrantes no puede ser mayor al Total.","")) | BU29: =IF(AND($C29>0,P29="")," * No olvide digitar la variable Espacio Amigable/Adolescente. Digite Cero si no tiene.",IF(P29>$C29," * La variable Espacio Amigable/Adolescente no puede ser mayor al Total.","")) | BW29: =IF(AND($C29>0,R29="")," * No olvide digitar la variable Niños, Niñas, Adolescentes y Jóvenes SENAME. Digite Cero si no tiene.",IF(R29>$C29," * La variable Niños, Niñas, Adolescentes y Jóvenes SENAME no puede ser mayor al Total.","")) | BX29: =IF(AND($C29>0,S29="")," * No olvide digitar la variable Niños, niñas, Adolescentes y Jóvenes Mejor Niñez. Digite Cero si no tiene.",IF(S29>$C29," * La variable Niños, niñas, Adolescentes y Jóvenes Mejor Niñez no puede ser mayor al Total.","")) | BZ29: =IF((J29+K29+L29)<>C29,1,0) -> 0 | CA29: =IF(AND(C29>0,M29=""),1,IF(M29>C29,1,0)) -> 0 | CB29: =IF(AND(C29>0,N29=""),1,IF(N29>C29,1,0)) -> 0 | CC29: =IF(AND(C29>0,O29=""),1,IF(O29>C29,1,0)) -> 0 | CD29: =IF(AND($C29>0,P29=""),1,IF(P29>$C29,1,0)) -> 0 | CF29: =IF(AND($C29>0,R29=""),1,IF(R29>$C29,1,0)) -> 0 | CG29: =IF(AND($C29>0,S29=""),1,IF(S29>$C29,1,0)) -> 0
A30: Familia con integrante con problema de salud mental | C30: =SUM(D30:G30) -> 0 | T30: =BQ30&BR30&BS30&BT30&BU30&BW30&BX30 | BQ30: =IF((J30+K30+L30)<>C30," * La suma del N° de Primera visita + Segunda visita + Tercera o más visitas de seguimiento debe coincidir con el Total.","") | BR30: =IF(AND(C30>0,M30="")," * No olvide digitar la variable Programa de Acompañamiento Psicosocial en APS. Si no tiene digite Cero.",IF(M30>C30," * La variable Programa de Acompañamiento Psicosocial en APS no puede ser mayor al Total.","")) | BS30: =IF(AND(C30>0,N30="")," * No olvide digitar la variable Pueblos Originarios. Digite Cero si no tiene..",IF(N30>C30," * La variable Pueblos Originarios no puede ser mayor al Total.","")) | BT30: =IF(AND(C30>0,O30="")," * No olvide digitar la variable Migrantes. Digite Cero si no tiene.",IF(O30>C30," * La variable Migrantes no puede ser mayor al Total.","")) | BU30: =IF(AND($C30>0,P30="")," * No olvide digitar la variable Espacio Amigable/Adolescente. Digite Cero si no tiene.",IF(P30>$C30," * La variable Espacio Amigable/Adolescente no puede ser mayor al Total.","")) | BW30: =IF(AND($C30>0,R30="")," * No olvide digitar la variable Niños, Niñas, Adolescentes y Jóvenes SENAME. Digite Cero si no tiene.",IF(R30>$C30," * La variable Niños, Niñas, Adolescentes y Jóvenes SENAME no puede ser mayor al Total.","")) | BX30: =IF(AND($C30>0,S30="")," * No olvide digitar la variable Niños, niñas, Adolescentes y Jóvenes Mejor Niñez. Digite Cero si no tiene.",IF(S30>$C30," * La variable Niños, niñas, Adolescentes y Jóvenes Mejor Niñez no puede ser mayor al Total.","")) | BZ30: =IF((J30+K30+L30)<>C30,1,0) -> 0 | CA30: =IF(AND(C30>0,M30=""),1,IF(M30>C30,1,0)) -> 0 | CB30: =IF(AND(C30>0,N30=""),1,IF(N30>C30,1,0)) -> 0 | CC30: =IF(AND(C30>0,O30=""),1,IF(O30>C30,1,0)) -> 0 | CD30: =IF(AND($C30>0,P30=""),1,IF(P30>$C30,1,0)) -> 0 | CF30: =IF(AND($C30>0,R30=""),1,IF(R30>$C30,1,0)) -> 0 | CG30: =IF(AND($C30>0,S30=""),1,IF(S30>$C30,1,0)) -> 0
A31: Familia con niños/as de 5 a 9 años con problemas y/o trastornos de salud mental | C31: =SUM(D31:G31) -> 0 | T31: =BQ31&BR31&BS31&BT31&BU31&BW31&BX31 | BQ31: =IF((J31+K31+L31)<>C31," * La suma del N° de Primera visita + Segunda visita + Tercera o más visitas de seguimiento debe coincidir con el Total.","") | BR31: =IF(AND(C31>0,M31="")," * No olvide digitar la variable Programa de Acompañamiento Psicosocial en APS. Si no tiene digite Cero.",IF(M31>C31," * La variable Programa de Acompañamiento Psicosocial en APS no puede ser mayor al Total.","")) | BS31: =IF(AND(C31>0,N31="")," * No olvide digitar la variable Pueblos Originarios. Digite Cero si no tiene..",IF(N31>C31," * La variable Pueblos Originarios no puede ser mayor al Total.","")) | BT31: =IF(AND(C31>0,O31="")," * No olvide digitar la variable Migrantes. Digite Cero si no tiene.",IF(O31>C31," * La variable Migrantes no puede ser mayor al Total.","")) | BU31: =IF(AND($C31>0,P31="")," * No olvide digitar la variable Espacio Amigable/Adolescente. Digite Cero si no tiene.",IF(P31>$C31," * La variable Espacio Amigable/Adolescente no puede ser mayor al Total.","")) | BW31: =IF(AND($C31>0,R31="")," * No olvide digitar la variable Niños, Niñas, Adolescentes y Jóvenes SENAME. Digite Cero si no tiene.",IF(R31>$C31," * La variable Niños, Niñas, Adolescentes y Jóvenes SENAME no puede ser mayor al Total.","")) | BX31: =IF(AND($C31>0,S31="")," * No olvide digitar la variable Niños, niñas, Adolescentes y Jóvenes Mejor Niñez. Digite Cero si no tiene.",IF(S31>$C31," * La variable Niños, niñas, Adolescentes y Jóvenes Mejor Niñez no puede ser mayor al Total.","")) | BZ31: =IF((J31+K31+L31)<>C31,1,0) -> 0 | CA31: =IF(AND(C31>0,M31=""),1,IF(M31>C31,1,0)) -> 0 | CB31: =IF(AND(C31>0,N31=""),1,IF(N31>C31,1,0)) -> 0 | CC31: =IF(AND(C31>0,O31=""),1,IF(O31>C31,1,0)) -> 0 | CD31: =IF(AND($C31>0,P31=""),1,IF(P31>$C31,1,0)) -> 0 | CF31: =IF(AND($C31>0,R31=""),1,IF(R31>$C31,1,0)) -> 0 | CG31: =IF(AND($C31>0,S31=""),1,IF(S31>$C31,1,0)) -> 0
A32: Familia con integrante alta hospitalización precoz | C32: =SUM(D32:G32) -> 0 | T32: =BQ32&BR32&BS32&BT32&BU32&BW32&BX32 | BQ32: =IF((J32+K32+L32)<>C32," * La suma del N° de Primera visita + Segunda visita + Tercera o más visitas de seguimiento debe coincidir con el Total.","") | BR32: =IF(AND(C32>0,M32="")," * No olvide digitar la variable Programa de Acompañamiento Psicosocial en APS. Si no tiene digite Cero.",IF(M32>C32," * La variable Programa de Acompañamiento Psicosocial en APS no puede ser mayor al Total.","")) | BS32: =IF(AND(C32>0,N32="")," * No olvide digitar la variable Pueblos Originarios. Digite Cero si no tiene..",IF(N32>C32," * La variable Pueblos Originarios no puede ser mayor al Total.","")) | BT32: =IF(AND(C32>0,O32="")," * No olvide digitar la variable Migrantes. Digite Cero si no tiene.",IF(O32>C32," * La variable Migrantes no puede ser mayor al Total.","")) | BU32: =IF(AND($C32>0,P32="")," * No olvide digitar la variable Espacio Amigable/Adolescente. Digite Cero si no tiene.",IF(P32>$C32," * La variable Espacio Amigable/Adolescente no puede ser mayor al Total.","")) | BW32: =IF(AND($C32>0,R32="")," * No olvide digitar la variable Niños, Niñas, Adolescentes y Jóvenes SENAME. Digite Cero si no tiene.",IF(R32>$C32," * La variable Niños, Niñas, Adolescentes y Jóvenes SENAME no puede ser mayor al Total.","")) | BX32: =IF(AND($C32>0,S32="")," * No olvide digitar la variable Niños, niñas, Adolescentes y Jóvenes Mejor Niñez. Digite Cero si no tiene.",IF(S32>$C32," * La variable Niños, niñas, Adolescentes y Jóvenes Mejor Niñez no puede ser mayor al Total.","")) | BZ32: =IF((J32+K32+L32)<>C32,1,0) -> 0 | CA32: =IF(AND(C32>0,M32=""),1,IF(M32>C32,1,0)) -> 0 | CB32: =IF(AND(C32>0,N32=""),1,IF(N32>C32,1,0)) -> 0 | CC32: =IF(AND(C32>0,O32=""),1,IF(O32>C32,1,0)) -> 0 | CD32: =IF(AND($C32>0,P32=""),1,IF(P32>$C32,1,0)) -> 0 | CF32: =IF(AND($C32>0,R32=""),1,IF(R32>$C32,1,0)) -> 0 | CG32: =IF(AND($C32>0,S32=""),1,IF(S32>$C32,1,0)) -> 0
A33: Familia con integrante con multimorbilidad cronica (excluye dependencia severa) | C33: =SUM(D33:G33) -> 0 | T33: =BQ33&BR33&BS33&BT33&BU33&BW33&BX33 | BQ33: =IF((J33+K33+L33)<>C33," * La suma del N° de Primera visita + Segunda visita + Tercera o más visitas de seguimiento debe coincidir con el Total.","") | BR33: =IF(AND(C33>0,M33="")," * No olvide digitar la variable Programa de Acompañamiento Psicosocial en APS. Si no tiene digite Cero.",IF(M33>C33," * La variable Programa de Acompañamiento Psicosocial en APS no puede ser mayor al Total.","")) | BS33: =IF(AND(C33>0,N33="")," * No olvide digitar la variable Pueblos Originarios. Digite Cero si no tiene..",IF(N33>C33," * La variable Pueblos Originarios no puede ser mayor al Total.","")) | BT33: =IF(AND(C33>0,O33="")," * No olvide digitar la variable Migrantes. Digite Cero si no tiene.",IF(O33>C33," * La variable Migrantes no puede ser mayor al Total.","")) | BU33: =IF(AND($C33>0,P33="")," * No olvide digitar la variable Espacio Amigable/Adolescente. Digite Cero si no tiene.",IF(P33>$C33," * La variable Espacio Amigable/Adolescente no puede ser mayor al Total.","")) | BW33: =IF(AND($C33>0,R33="")," * No olvide digitar la variable Niños, Niñas, Adolescentes y Jóvenes SENAME. Digite Cero si no tiene.",IF(R33>$C33," * La variable Niños, Niñas, Adolescentes y Jóvenes SENAME no puede ser mayor al Total.","")) | BX33: =IF(AND($C33>0,S33="")," * No olvide digitar la variable Niños, niñas, Adolescentes y Jóvenes Mejor Niñez. Digite Cero si no tiene.",IF(S33>$C33," * La variable Niños, niñas, Adolescentes y Jóvenes Mejor Niñez no puede ser mayor al Total.","")) | BZ33: =IF((J33+K33+L33)<>C33,1,0) -> 0 | CA33: =IF(AND(C33>0,M33=""),1,IF(M33>C33,1,0)) -> 0 | CB33: =IF(AND(C33>0,N33=""),1,IF(N33>C33,1,0)) -> 0 | CC33: =IF(AND(C33>0,O33=""),1,IF(O33>C33,1,0)) -> 0 | CD33: =IF(AND($C33>0,P33=""),1,IF(P33>$C33,1,0)) -> 0 | CF33: =IF(AND($C33>0,R33=""),1,IF(R33>$C33,1,0)) -> 0 | CG33: =IF(AND($C33>0,S33=""),1,IF(S33>$C33,1,0)) -> 0
A34: Familia con niños con necesidades especiales (NANEAS) | C34: =SUM(D34:G34) -> 0 | T34: =BQ34&BR34&BS34&BT34&BU34&BW34&BX34 | BQ34: =IF((J34+K34+L34)<>C34," * La suma del N° de Primera visita + Segunda visita + Tercera o más visitas de seguimiento debe coincidir con el Total.","") | BR34: =IF(AND(C34>0,M34="")," * No olvide digitar la variable Programa de Acompañamiento Psicosocial en APS. Si no tiene digite Cero.",IF(M34>C34," * La variable Programa de Acompañamiento Psicosocial en APS no puede ser mayor al Total.","")) | BS34: =IF(AND(C34>0,N34="")," * No olvide digitar la variable Pueblos Originarios. Digite Cero si no tiene..",IF(N34>C34," * La variable Pueblos Originarios no puede ser mayor al Total.","")) | BT34: =IF(AND(C34>0,O34="")," * No olvide digitar la variable Migrantes. Digite Cero si no tiene.",IF(O34>C34," * La variable Migrantes no puede ser mayor al Total.","")) | BU34: =IF(AND($C34>0,P34="")," * No olvide digitar la variable Espacio Amigable/Adolescente. Digite Cero si no tiene.",IF(P34>$C34," * La variable Espacio Amigable/Adolescente no puede ser mayor al Total.","")) | BW34: =IF(AND($C34>0,R34="")," * No olvide digitar la variable Niños, Niñas, Adolescentes y Jóvenes SENAME. Digite Cero si no tiene.",IF(R34>$C34," * La variable Niños, Niñas, Adolescentes y Jóvenes SENAME no puede ser mayor al Total.","")) | BX34: =IF(AND($C34>0,S34="")," * No olvide digitar la variable Niños, niñas, Adolescentes y Jóvenes Mejor Niñez. Digite Cero si no tiene.",IF(S34>$C34," * La variable Niños, niñas, Adolescentes y Jóvenes Mejor Niñez no puede ser mayor al Total.","")) | BZ34: =IF((J34+K34+L34)<>C34,1,0) -> 0 | CA34: =IF(AND(C34>0,M34=""),1,IF(M34>C34,1,0)) -> 0 | CB34: =IF(AND(C34>0,N34=""),1,IF(N34>C34,1,0)) -> 0 | CC34: =IF(AND(C34>0,O34=""),1,IF(O34>C34,1,0)) -> 0 | CD34: =IF(AND($C34>0,P34=""),1,IF(P34>$C34,1,0)) -> 0 | CF34: =IF(AND($C34>0,R34=""),1,IF(R34>$C34,1,0)) -> 0 | CG34: =IF(AND($C34>0,S34=""),1,IF(S34>$C34,1,0)) -> 0
A35: Familia con NNA trans femenino/masculino | C35: =SUM(D35:G35) -> 0 | T35: =BQ35&BR35&BS35&BT35&BU35&BW35&BX35 | BQ35: =IF((J35+K35+L35)<>C35," * La suma del N° de Primera visita + Segunda visita + Tercera o más visitas de seguimiento debe coincidir con el Total.","") | BR35: =IF(AND(C35>0,M35="")," * No olvide digitar la variable Programa de Acompañamiento Psicosocial en APS. Si no tiene digite Cero.",IF(M35>C35," * La variable Programa de Acompañamiento Psicosocial en APS no puede ser mayor al Total.","")) | BS35: =IF(AND(C35>0,N35="")," * No olvide digitar la variable Pueblos Originarios. Digite Cero si no tiene..",IF(N35>C35," * La variable Pueblos Originarios no puede ser mayor al Total.","")) | BT35: =IF(AND(C35>0,O35="")," * No olvide digitar la variable Migrantes. Digite Cero si no tiene.",IF(O35>C35," * La variable Migrantes no puede ser mayor al Total.","")) | BU35: =IF(AND($C35>0,P35="")," * No olvide digitar la variable Espacio Amigable/Adolescente. Digite Cero si no tiene.",IF(P35>$C35," * La variable Espacio Amigable/Adolescente no puede ser mayor al Total.","")) | BW35: =IF(AND($C35>0,R35="")," * No olvide digitar la variable Niños, Niñas, Adolescentes y Jóvenes SENAME. Digite Cero si no tiene.",IF(R35>$C35," * La variable Niños, Niñas, Adolescentes y Jóvenes SENAME no puede ser mayor al Total.","")) | BX35: =IF(AND($C35>0,S35="")," * No olvide digitar la variable Niños, niñas, Adolescentes y Jóvenes Mejor Niñez. Digite Cero si no tiene.",IF(S35>$C35," * La variable Niños, niñas, Adolescentes y Jóvenes Mejor Niñez no puede ser mayor al Total.","")) | BZ35: =IF((J35+K35+L35)<>C35,1,0) -> 0 | CA35: =IF(AND(C35>0,M35=""),1,IF(M35>C35,1,0)) -> 0 | CB35: =IF(AND(C35>0,N35=""),1,IF(N35>C35,1,0)) -> 0 | CC35: =IF(AND(C35>0,O35=""),1,IF(O35>C35,1,0)) -> 0 | CD35: =IF(AND($C35>0,P35=""),1,IF(P35>$C35,1,0)) -> 0 | CF35: =IF(AND($C35>0,R35=""),1,IF(R35>$C35,1,0)) -> 0 | CG35: =IF(AND($C35>0,S35=""),1,IF(S35>$C35,1,0)) -> 0
A36: SECCIÓN A.1: VISITAS DOMICILIARIAS INTEGRALES A PERSONAS CON DEPENDENCIA SEVERA Y SUS CUIDADORES
A37: CONCEPTOS | C37: Visita de Ingreso al PADDS | D37: Primera visita anual | E37: Segunda visita anual | F37: Tercera o más visitas de seguimiento anual | G37: Elaboración Plan Cuidado Integral a persona con dependencia severa | H37: Evaluación y actualización plan de cuidados a personas con dependencia severa | I37: Elaboración plan de cuidados a cuidador | J37: Evaluación y actualización plan de cuidados a cuidador | K37: Migrantes | L37: Pueblos originarios | M37: Población en ECICEP | N37: Población ELEAM o institucionalizada
A38: A personas con dependencia severa en programa, por condiciones asociadas a dependencia severa | B38: Familia con integrante con dependencia severa con diagnóstico de demencia | O38: =BQ38&BR38&BS38&BT38 | BQ38: =IF(AND(SUM($C38:$F38)>0,K38="")," * No olvide digitar la variable Migrantes. Digite Cero si no tiene.",IF(K38>SUM($C38:$F38)," * La variable Migrantes no puede ser mayor a la suma de las variables de Visitas.","")) | BR38: =IF(AND(SUM($C38:$F38)>0,L38="")," * No olvide digitar la variable Pueblos originarios. Digite Cero si no tiene.",IF(L38>SUM($C38:$F38)," * La variable Pueblos originarios no puede ser mayor a la suma de las variables de Visitas.","")) | BS38: =IF(AND(SUM($C38:$F38)>0,M38="")," * No olvide digitar la variable Población en ECICEP. Digite Cero si no tiene.",IF(M38>SUM($C38:$F38)," * La variable Población en ECICEP no puede ser mayor a la suma de las variables de Visitas.","")) | BT38: =IF(AND(SUM($C38:$F38)>0,N38="")," * No olvide digitar la variable Población ELEAM o institucionalizada. Digite Cero si no tiene.",IF(N38>SUM($C38:$F38)," * La variable Población ELEAM o institucionalizada no puede ser mayor a la suma de las variables de Visitas.","")) | BZ38: =IF(AND(SUM($C38:$F38)>0,K38=""),1,IF(K38>SUM($C38:$F38),1,0)) -> 0 | CA38: =IF(AND(SUM($C38:$F38)>0,L38=""),1,IF(L38>SUM($C38:$F38),1,0)) -> 0 | CB38: =IF(AND(SUM($C38:$F38)>0,M38=""),1,IF(M38>SUM($C38:$F38),1,0)) -> 0 | CC38: =IF(AND(SUM($C38:$F38)>0,N38=""),1,IF(N38>SUM($C38:$F38),1,0)) -> 0
B39: Familia con integrante con dependencia severa con etapa terminal (excluye estadíos avanzados de demencia) | O39: =BQ39&BR39&BS39&BT39 | BQ39: =IF(AND(SUM($C39:$F39)>0,K39="")," * No olvide digitar la variable Migrantes. Digite Cero si no tiene.",IF(K39>SUM($C39:$F39)," * La variable Migrantes no puede ser mayor a la suma de las variables de Visitas.","")) | BR39: =IF(AND(SUM($C39:$F39)>0,L39="")," * No olvide digitar la variable Pueblos originarios. Digite Cero si no tiene.",IF(L39>SUM($C39:$F39)," * La variable Pueblos originarios no puede ser mayor a la suma de las variables de Visitas.","")) | BS39: =IF(AND(SUM($C39:$F39)>0,M39="")," * No olvide digitar la variable Población en ECICEP. Digite Cero si no tiene.",IF(M39>SUM($C39:$F39)," * La variable Población en ECICEP no puede ser mayor a la suma de las variables de Visitas.","")) | BT39: =IF(AND(SUM($C39:$F39)>0,N39="")," * No olvide digitar la variable Población ELEAM o institucionalizada. Digite Cero si no tiene.",IF(N39>SUM($C39:$F39)," * La variable Población ELEAM o institucionalizada no puede ser mayor a la suma de las variables de Visitas.","")) | BZ39: =IF(AND(SUM($C39:$F39)>0,K39=""),1,IF(K39>SUM($C39:$F39),1,0)) -> 0 | CA39: =IF(AND(SUM($C39:$F39)>0,L39=""),1,IF(L39>SUM($C39:$F39),1,0)) -> 0 | CB39: =IF(AND(SUM($C39:$F39)>0,M39=""),1,IF(M39>SUM($C39:$F39),1,0)) -> 0 | CC39: =IF(AND(SUM($C39:$F39)>0,N39=""),1,IF(N39>SUM($C39:$F39),1,0)) -> 0
B40: Familia con integrante con dependencia severa sin diagnóstico de demencia y/o que no se encuentra en etapa terminal | O40: =BQ40&BR40&BS40&BT40 | BQ40: =IF(AND(SUM($C40:$F40)>0,K40="")," * No olvide digitar la variable Migrantes. Digite Cero si no tiene.",IF(K40>SUM($C40:$F40)," * La variable Migrantes no puede ser mayor a la suma de las variables de Visitas.","")) | BR40: =IF(AND(SUM($C40:$F40)>0,L40="")," * No olvide digitar la variable Pueblos originarios. Digite Cero si no tiene.",IF(L40>SUM($C40:$F40)," * La variable Pueblos originarios no puede ser mayor a la suma de las variables de Visitas.","")) | BS40: =IF(AND(SUM($C40:$F40)>0,M40="")," * No olvide digitar la variable Población en ECICEP. Digite Cero si no tiene.",IF(M40>SUM($C40:$F40)," * La variable Población en ECICEP no puede ser mayor a la suma de las variables de Visitas.","")) | BT40: =IF(AND(SUM($C40:$F40)>0,N40="")," * No olvide digitar la variable Población ELEAM o institucionalizada. Digite Cero si no tiene.",IF(N40>SUM($C40:$F40)," * La variable Población ELEAM o institucionalizada no puede ser mayor a la suma de las variables de Visitas.","")) | BZ40: =IF(AND(SUM($C40:$F40)>0,K40=""),1,IF(K40>SUM($C40:$F40),1,0)) -> 0 | CA40: =IF(AND(SUM($C40:$F40)>0,L40=""),1,IF(L40>SUM($C40:$F40),1,0)) -> 0 | CB40: =IF(AND(SUM($C40:$F40)>0,M40=""),1,IF(M40>SUM($C40:$F40),1,0)) -> 0 | CC40: =IF(AND(SUM($C40:$F40)>0,N40=""),1,IF(N40>SUM($C40:$F40),1,0)) -> 0
A41: TOTAL | C41: =SUM(C38:C40) -> 0 | D41: =SUM(D38:D40) -> 0 | E41: =SUM(E38:E40) -> 0 | F41: =SUM(F38:F40) -> 0 | G41: =SUM(G38:G40) -> 0 | H41: =SUM(H38:H40) -> 0 | I41: =SUM(I38:I40) -> 0 | J41: =SUM(J38:J40) -> 0 | ... N41: =SUM(N38:N40) -> 0
A42: A personas con dependencia severa, por rango etario | B42: 0-9 años | O42: =BQ42&BR42&BS42 | BQ42: =IF(AND(SUM($C42:$F42)>0,K42="")," * No olvide digitar la variable Migrantes. Digite Cero si no tiene.",IF(K42>SUM($C42:$F42)," * La variable Migrantes no puede ser mayor a la suma de las variables de Visitas.","")) | BR42: =IF(AND(SUM($C42:$F42)>0,L42="")," * No olvide digitar la variable Pueblos originarios. Digite Cero si no tiene.",IF(L42>SUM($C42:$F42)," * La variable Pueblos originarios no puede ser mayor a la suma de las variables de Visitas.","")) | BS42: =IF(AND(SUM($C42:$F42)>0,M42="")," * No olvide digitar la variable Población en ECICEP. Digite Cero si no tiene.",IF(M42>SUM($C42:$F42)," * La variable Población en ECICEP no puede ser mayor a la suma de las variables de Visitas.","")) | BZ42: =IF(AND(SUM($C42:$F42)>0,K42=""),1,IF(K42>SUM($C42:$F42),1,0)) -> 0 | CA42: =IF(AND(SUM($C42:$F42)>0,L42=""),1,IF(L42>SUM($C42:$F42),1,0)) -> 0 | CB42: =IF(AND(SUM($C42:$F42)>0,M42=""),1,IF(M42>SUM($C42:$F42),1,0)) -> 0
B43: 10 - 14 años | O43: =BQ43&BR43&BS43 | BQ43: =IF(AND(SUM($C43:$F43)>0,K43="")," * No olvide digitar la variable Migrantes. Digite Cero si no tiene.",IF(K43>SUM($C43:$F43)," * La variable Migrantes no puede ser mayor a la suma de las variables de Visitas.","")) | BR43: =IF(AND(SUM($C43:$F43)>0,L43="")," * No olvide digitar la variable Pueblos originarios. Digite Cero si no tiene.",IF(L43>SUM($C43:$F43)," * La variable Pueblos originarios no puede ser mayor a la suma de las variables de Visitas.","")) | BS43: =IF(AND(SUM($C43:$F43)>0,M43="")," * No olvide digitar la variable Población en ECICEP. Digite Cero si no tiene.",IF(M43>SUM($C43:$F43)," * La variable Población en ECICEP no puede ser mayor a la suma de las variables de Visitas.","")) | BZ43: =IF(AND(SUM($C43:$F43)>0,K43=""),1,IF(K43>SUM($C43:$F43),1,0)) -> 0 | CA43: =IF(AND(SUM($C43:$F43)>0,L43=""),1,IF(L43>SUM($C43:$F43),1,0)) -> 0 | CB43: =IF(AND(SUM($C43:$F43)>0,M43=""),1,IF(M43>SUM($C43:$F43),1,0)) -> 0
B44: 15 - 19 años | O44: =BQ44&BR44&BS44 | BQ44: =IF(AND(SUM($C44:$F44)>0,K44="")," * No olvide digitar la variable Migrantes. Digite Cero si no tiene.",IF(K44>SUM($C44:$F44)," * La variable Migrantes no puede ser mayor a la suma de las variables de Visitas.","")) | BR44: =IF(AND(SUM($C44:$F44)>0,L44="")," * No olvide digitar la variable Pueblos originarios. Digite Cero si no tiene.",IF(L44>SUM($C44:$F44)," * La variable Pueblos originarios no puede ser mayor a la suma de las variables de Visitas.","")) | BS44: =IF(AND(SUM($C44:$F44)>0,M44="")," * No olvide digitar la variable Población en ECICEP. Digite Cero si no tiene.",IF(M44>SUM($C44:$F44)," * La variable Población en ECICEP no puede ser mayor a la suma de las variables de Visitas.","")) | BZ44: =IF(AND(SUM($C44:$F44)>0,K44=""),1,IF(K44>SUM($C44:$F44),1,0)) -> 0 | CA44: =IF(AND(SUM($C44:$F44)>0,L44=""),1,IF(L44>SUM($C44:$F44),1,0)) -> 0 | CB44: =IF(AND(SUM($C44:$F44)>0,M44=""),1,IF(M44>SUM($C44:$F44),1,0)) -> 0
B45: 20 - 64 años | O45: =BQ45&BR45&BS45 | BQ45: =IF(AND(SUM($C45:$F45)>0,K45="")," * No olvide digitar la variable Migrantes. Digite Cero si no tiene.",IF(K45>SUM($C45:$F45)," * La variable Migrantes no puede ser mayor a la suma de las variables de Visitas.","")) | BR45: =IF(AND(SUM($C45:$F45)>0,L45="")," * No olvide digitar la variable Pueblos originarios. Digite Cero si no tiene.",IF(L45>SUM($C45:$F45)," * La variable Pueblos originarios no puede ser mayor a la suma de las variables de Visitas.","")) | BS45: =IF(AND(SUM($C45:$F45)>0,M45="")," * No olvide digitar la variable Población en ECICEP. Digite Cero si no tiene.",IF(M45>SUM($C45:$F45)," * La variable Población en ECICEP no puede ser mayor a la suma de las variables de Visitas.","")) | BZ45: =IF(AND(SUM($C45:$F45)>0,K45=""),1,IF(K45>SUM($C45:$F45),1,0)) -> 0 | CA45: =IF(AND(SUM($C45:$F45)>0,L45=""),1,IF(L45>SUM($C45:$F45),1,0)) -> 0 | CB45: =IF(AND(SUM($C45:$F45)>0,M45=""),1,IF(M45>SUM($C45:$F45),1,0)) -> 0
B46: 65 y más años | O46: =BQ46&BR46&BS46&BT46 | BQ46: =IF(AND(SUM($C46:$F46)>0,K46="")," * No olvide digitar la variable Migrantes. Digite Cero si no tiene.",IF(K46>SUM($C46:$F46)," * La variable Migrantes no puede ser mayor a la suma de las variables de Visitas.","")) | BR46: =IF(AND(SUM($C46:$F46)>0,L46="")," * No olvide digitar la variable Pueblos originarios. Digite Cero si no tiene.",IF(L46>SUM($C46:$F46)," * La variable Pueblos originarios no puede ser mayor a la suma de las variables de Visitas.","")) | BS46: =IF(AND(SUM($C46:$F46)>0,M46="")," * No olvide digitar la variable Población en ECICEP. Digite Cero si no tiene.",IF(M46>SUM($C46:$F46)," * La variable Población en ECICEP no puede ser mayor a la suma de las variables de Visitas.","")) | BT46: =IF(AND(SUM($C46:$F46)>0,N46="")," * No olvide digitar la variable Población ELEAM o institucionalizada. Digite Cero si no tiene.",IF(N46>SUM($C46:$F46)," * La variable Población ELEAM o institucionalizada no puede ser mayor a la suma de las variables de Visitas.","")) | BZ46: =IF(AND(SUM($C46:$F46)>0,K46=""),1,IF(K46>SUM($C46:$F46),1,0)) -> 0 | CA46: =IF(AND(SUM($C46:$F46)>0,L46=""),1,IF(L46>SUM($C46:$F46),1,0)) -> 0 | CB46: =IF(AND(SUM($C46:$F46)>0,M46=""),1,IF(M46>SUM($C46:$F46),1,0)) -> 0 | CC46: =IF(AND(SUM($C46:$F46)>0,N46=""),1,IF(N46>SUM($C46:$F46),1,0)) -> 0
A47: TOTAL | C47: =SUM(C42:C46) -> 0 | D47: =SUM(D42:D46) -> 0 | E47: =SUM(E42:E46) -> 0 | F47: =SUM(F42:F46) -> 0 | G47: =SUM(G42:G46) -> 0 | H47: =SUM(H42:H46) -> 0 | I47: =SUM(I42:I46) -> 0 | J47: =SUM(J42:J46) -> 0 | ... N47: =SUM(N42:N46) -> 0
A48: SECCIÓN B: OTRAS VISITAS INTEGRALES
A49: CONCEPTOS | C49: TOTAL | D49: Un Profesional | E49: Dos o Más Profesionales | F49: Un Profesional y un Técnico En Enfermería | G49: Técnico En Enfermería | H49: Facilitador/a Intercultural Pueblos Originarios | I49: Agente Comunitario | J49: Pueblos Originarios | K49: Migrantes | L49: Niños, Niñas, Adolescentes Y Jóvenes Población SENAME | M49: Niños, Niñas, Adolescentes Y Jóvenes Mejor Niñez
A50: Visita epidemiológica | C50: =SUM(D50:F50) -> 0 | D50: =SUM(ENERO:DICIEMBRE!D50) -> 0 | E50: =SUM(ENERO:DICIEMBRE!E50) -> 0 | F50: =SUM(ENERO:DICIEMBRE!F50) -> 0 | H50: =SUM(ENERO:DICIEMBRE!H50) -> 0 | I50: =SUM(ENERO:DICIEMBRE!I50) -> 0 | J50: =SUM(ENERO:DICIEMBRE!J50) -> 0 | K50: =SUM(ENERO:DICIEMBRE!K50) -> 0 | L50: =SUM(ENERO:DICIEMBRE!L50) -> 0 | M50: =SUM(ENERO:DICIEMBRE!M50) -> 0 | N50: =BQ50&BR50&BS50&BT50&BU50 | BQ50: =IF(AND(C50>0,J50="")," * No olvide digitar la variable Pueblos Originarios. Digite Cero si no tiene.",IF(J50>C50," * La variable Pueblos Originarios No puede ser mayor al Total.","")) | BR50: =IF(AND(C50>0,K50="")," * No olvide digitar la variable Migrantes. Digite Cero si no tiene.",IF(K50>C50," * La variable Migrantes No puede ser mayor al Total.","")) | BS50: =IF(AND(C50>0,L50="")," * No olvide digitar la variable Niños, niñas, adolescentes y jóvenes SENAME. Digite Cero si no tiene.",IF(L50>C50," * La variable Niños, niñas, adolescentes y jóvenes SENAME No puede ser mayor al Total.","")) | BT50: =IF(AND(C50>0,M50="")," * No olvide digitar la variable Niños, niñas, adolescentes y jóvenes Mejor Niñez. Digite Cero si no tiene.",IF(M50>C50," * La variable Niños, niñas, adolescentes y jóvenes Mejor Niñez No puede ser mayor al Total.","")) | BZ50: =IF(AND(C50>0,J50=""),1,IF(J50>C50,1,0)) -> 0 | CA50: =IF(AND(C50>0,K50=""),1,IF(K50>C50,1,0)) -> 0 | CB50: =IF(AND(C50>0,L50=""),1,IF(L50>C50,1,0)) -> 0 | CC50: =IF(AND(C50>0,M50=""),1,IF(M50>C50,1,0)) -> 0
A51: A lugar de trabajo (*) | C51: =SUM(D51:F51) -> 0 | D51: =SUM(ENERO:DICIEMBRE!D51) -> 0 | E51: =SUM(ENERO:DICIEMBRE!E51) -> 0 | F51: =SUM(ENERO:DICIEMBRE!F51) -> 0 | H51: =SUM(ENERO:DICIEMBRE!H51) -> 0 | I51: =SUM(ENERO:DICIEMBRE!I51) -> 0 | J51: =SUM(ENERO:DICIEMBRE!J51) -> 0 | K51: =SUM(ENERO:DICIEMBRE!K51) -> 0 | L51: =SUM(ENERO:DICIEMBRE!L51) -> 0 | M51: =SUM(ENERO:DICIEMBRE!M51) -> 0 | N51: =BQ51&BR51&BS51&BT51&BU51 | BQ51: =IF(AND(C51>0,J51="")," * No olvide digitar la variable Pueblos Originarios. Digite Cero si no tiene.",IF(J51>C51," * La variable Pueblos Originarios No puede ser mayor al Total.","")) | BR51: =IF(AND(C51>0,K51="")," * No olvide digitar la variable Migrantes. Digite Cero si no tiene.",IF(K51>C51," * La variable Migrantes No puede ser mayor al Total.","")) | BS51: =IF(AND(C51>0,L51="")," * No olvide digitar la variable Niños, niñas, adolescentes y jóvenes SENAME. Digite Cero si no tiene.",IF(L51>C51," * La variable Niños, niñas, adolescentes y jóvenes SENAME No puede ser mayor al Total.","")) | BT51: =IF(AND(C51>0,M51="")," * No olvide digitar la variable Niños, niñas, adolescentes y jóvenes Mejor Niñez. Digite Cero si no tiene.",IF(M51>C51," * La variable Niños, niñas, adolescentes y jóvenes Mejor Niñez No puede ser mayor al Total.","")) | BZ51: =IF(AND(C51>0,J51=""),1,IF(J51>C51,1,0)) -> 0 | CA51: =IF(AND(C51>0,K51=""),1,IF(K51>C51,1,0)) -> 0 | CB51: =IF(AND(C51>0,L51=""),1,IF(L51>C51,1,0)) -> 0 | CC51: =IF(AND(C51>0,M51=""),1,IF(M51>C51,1,0)) -> 0
A52: A colegio, salas cuna, jardín infantil (*) | C52: =SUM(D52:F52) -> 0 | D52: =SUM(ENERO:DICIEMBRE!D52) -> 0 | E52: =SUM(ENERO:DICIEMBRE!E52) -> 0 | F52: =SUM(ENERO:DICIEMBRE!F52) -> 0 | H52: =SUM(ENERO:DICIEMBRE!H52) -> 0 | I52: =SUM(ENERO:DICIEMBRE!I52) -> 0 | J52: =SUM(ENERO:DICIEMBRE!J52) -> 0 | K52: =SUM(ENERO:DICIEMBRE!K52) -> 0 | L52: =SUM(ENERO:DICIEMBRE!L52) -> 0 | M52: =SUM(ENERO:DICIEMBRE!M52) -> 0 | N52: =BQ52&BR52&BS52&BT52&BU52 | BQ52: =IF(AND(C52>0,J52="")," * No olvide digitar la variable Pueblos Originarios. Digite Cero si no tiene.",IF(J52>C52," * La variable Pueblos Originarios No puede ser mayor al Total.","")) | BR52: =IF(AND(C52>0,K52="")," * No olvide digitar la variable Migrantes. Digite Cero si no tiene.",IF(K52>C52," * La variable Migrantes No puede ser mayor al Total.","")) | BS52: =IF(AND(C52>0,L52="")," * No olvide digitar la variable Niños, niñas, adolescentes y jóvenes SENAME. Digite Cero si no tiene.",IF(L52>C52," * La variable Niños, niñas, adolescentes y jóvenes SENAME No puede ser mayor al Total.","")) | BT52: =IF(AND(C52>0,M52="")," * No olvide digitar la variable Niños, niñas, adolescentes y jóvenes Mejor Niñez. Digite Cero si no tiene.",IF(M52>C52," * La variable Niños, niñas, adolescentes y jóvenes Mejor Niñez No puede ser mayor al Total.","")) | BZ52: =IF(AND(C52>0,J52=""),1,IF(J52>C52,1,0)) -> 0 | CA52: =IF(AND(C52>0,K52=""),1,IF(K52>C52,1,0)) -> 0 | CB52: =IF(AND(C52>0,L52=""),1,IF(L52>C52,1,0)) -> 0 | CC52: =IF(AND(C52>0,M52=""),1,IF(M52>C52,1,0)) -> 0
A53: A grupo comunitario | C53: =SUM(D53:F53) -> 0 | D53: =SUM(ENERO:DICIEMBRE!D53) -> 0 | E53: =SUM(ENERO:DICIEMBRE!E53) -> 0 | F53: =SUM(ENERO:DICIEMBRE!F53) -> 0 | H53: =SUM(ENERO:DICIEMBRE!H53) -> 0 | I53: =SUM(ENERO:DICIEMBRE!I53) -> 0 | J53: =SUM(ENERO:DICIEMBRE!J53) -> 0 | K53: =SUM(ENERO:DICIEMBRE!K53) -> 0 | L53: =SUM(ENERO:DICIEMBRE!L53) -> 0 | M53: =SUM(ENERO:DICIEMBRE!M53) -> 0 | N53: =BQ53&BR53&BS53&BT53&BU53 | BQ53: =IF(AND(C53>0,J53="")," * No olvide digitar la variable Pueblos Originarios. Digite Cero si no tiene.",IF(J53>C53," * La variable Pueblos Originarios No puede ser mayor al Total.","")) | BR53: =IF(AND(C53>0,K53="")," * No olvide digitar la variable Migrantes. Digite Cero si no tiene.",IF(K53>C53," * La variable Migrantes No puede ser mayor al Total.","")) | BS53: =IF(AND(C53>0,L53="")," * No olvide digitar la variable Niños, niñas, adolescentes y jóvenes SENAME. Digite Cero si no tiene.",IF(L53>C53," * La variable Niños, niñas, adolescentes y jóvenes SENAME No puede ser mayor al Total.","")) | BT53: =IF(AND(C53>0,M53="")," * No olvide digitar la variable Niños, niñas, adolescentes y jóvenes Mejor Niñez. Digite Cero si no tiene.",IF(M53>C53," * La variable Niños, niñas, adolescentes y jóvenes Mejor Niñez No puede ser mayor al Total.","")) | BZ53: =IF(AND(C53>0,J53=""),1,IF(J53>C53,1,0)) -> 0 | CA53: =IF(AND(C53>0,K53=""),1,IF(K53>C53,1,0)) -> 0 | CB53: =IF(AND(C53>0,L53=""),1,IF(L53>C53,1,0)) -> 0 | CC53: =IF(AND(C53>0,M53=""),1,IF(M53>C53,1,0)) -> 0
A54: Visita integral de salud mental | B54: A domicilio (Nivel secundario) | C54: =SUM(D54:F54) -> 758 | D54: =SUM(ENERO:DICIEMBRE!D54) -> 725 | E54: =SUM(ENERO:DICIEMBRE!E54) -> 20 | F54: =SUM(ENERO:DICIEMBRE!F54) -> 13 | H54: =SUM(ENERO:DICIEMBRE!H54) -> 0 | I54: =SUM(ENERO:DICIEMBRE!I54) -> 0 | J54: =SUM(ENERO:DICIEMBRE!J54) -> 0 | K54: =SUM(ENERO:DICIEMBRE!K54) -> 0 | L54: =SUM(ENERO:DICIEMBRE!L54) -> 0 | M54: =SUM(ENERO:DICIEMBRE!M54) -> 0 | N54: =BQ54&BR54&BS54&BT54&BU54 | BQ54: =IF(AND(C54>0,J54="")," * No olvide digitar la variable Pueblos Originarios. Digite Cero si no tiene.",IF(J54>C54," * La variable Pueblos Originarios No puede ser mayor al Total.","")) | BR54: =IF(AND(C54>0,K54="")," * No olvide digitar la variable Migrantes. Digite Cero si no tiene.",IF(K54>C54," * La variable Migrantes No puede ser mayor al Total.","")) | BS54: =IF(AND(C54>0,L54="")," * No olvide digitar la variable Niños, niñas, adolescentes y jóvenes SENAME. Digite Cero si no tiene.",IF(L54>C54," * La variable Niños, niñas, adolescentes y jóvenes SENAME No puede ser mayor al Total.","")) | BT54: =IF(AND(C54>0,M54="")," * No olvide digitar la variable Niños, niñas, adolescentes y jóvenes Mejor Niñez. Digite Cero si no tiene.",IF(M54>C54," * La variable Niños, niñas, adolescentes y jóvenes Mejor Niñez No puede ser mayor al Total.","")) | BZ54: =IF(AND(C54>0,J54=""),1,IF(J54>C54,1,0)) -> 0 | CA54: =IF(AND(C54>0,K54=""),1,IF(K54>C54,1,0)) -> 0 | CB54: =IF(AND(C54>0,L54=""),1,IF(L54>C54,1,0)) -> 0 | CC54: =IF(AND(C54>0,M54=""),1,IF(M54>C54,1,0)) -> 0
B55: A lugar de trabajo | C55: =SUM(D55:F55) -> 0 | D55: =SUM(ENERO:DICIEMBRE!D55) -> 0 | E55: =SUM(ENERO:DICIEMBRE!E55) -> 0 | F55: =SUM(ENERO:DICIEMBRE!F55) -> 0 | H55: =SUM(ENERO:DICIEMBRE!H55) -> 0 | I55: =SUM(ENERO:DICIEMBRE!I55) -> 0 | J55: =SUM(ENERO:DICIEMBRE!J55) -> 0 | K55: =SUM(ENERO:DICIEMBRE!K55) -> 0 | L55: =SUM(ENERO:DICIEMBRE!L55) -> 0 | M55: =SUM(ENERO:DICIEMBRE!M55) -> 0 | N55: =BQ55&BR55&BS55&BT55&BU55 | BQ55: =IF(AND(C55>0,J55="")," * No olvide digitar la variable Pueblos Originarios. Digite Cero si no tiene.",IF(J55>C55," * La variable Pueblos Originarios No puede ser mayor al Total.","")) | BR55: =IF(AND(C55>0,K55="")," * No olvide digitar la variable Migrantes. Digite Cero si no tiene.",IF(K55>C55," * La variable Migrantes No puede ser mayor al Total.","")) | BS55: =IF(AND(C55>0,L55="")," * No olvide digitar la variable Niños, niñas, adolescentes y jóvenes SENAME. Digite Cero si no tiene.",IF(L55>C55," * La variable Niños, niñas, adolescentes y jóvenes SENAME No puede ser mayor al Total.","")) | BT55: =IF(AND(C55>0,M55="")," * No olvide digitar la variable Niños, niñas, adolescentes y jóvenes Mejor Niñez. Digite Cero si no tiene.",IF(M55>C55," * La variable Niños, niñas, adolescentes y jóvenes Mejor Niñez No puede ser mayor al Total.","")) | BZ55: =IF(AND(C55>0,J55=""),1,IF(J55>C55,1,0)) -> 0 | CA55: =IF(AND(C55>0,K55=""),1,IF(K55>C55,1,0)) -> 0 | CB55: =IF(AND(C55>0,L55=""),1,IF(L55>C55,1,0)) -> 0 | CC55: =IF(AND(C55>0,M55=""),1,IF(M55>C55,1,0)) -> 0
B56: A establecimientos educacionales | C56: =SUM(D56:F56) -> 0 | D56: =SUM(ENERO:DICIEMBRE!D56) -> 0 | E56: =SUM(ENERO:DICIEMBRE!E56) -> 0 | F56: =SUM(ENERO:DICIEMBRE!F56) -> 0 | H56: =SUM(ENERO:DICIEMBRE!H56) -> 0 | I56: =SUM(ENERO:DICIEMBRE!I56) -> 0 | J56: =SUM(ENERO:DICIEMBRE!J56) -> 0 | K56: =SUM(ENERO:DICIEMBRE!K56) -> 0 | L56: =SUM(ENERO:DICIEMBRE!L56) -> 0 | M56: =SUM(ENERO:DICIEMBRE!M56) -> 0 | N56: =BQ56&BR56&BS56&BT56&BU56 | BQ56: =IF(AND(C56>0,J56="")," * No olvide digitar la variable Pueblos Originarios. Digite Cero si no tiene.",IF(J56>C56," * La variable Pueblos Originarios No puede ser mayor al Total.","")) | BR56: =IF(AND(C56>0,K56="")," * No olvide digitar la variable Migrantes. Digite Cero si no tiene.",IF(K56>C56," * La variable Migrantes No puede ser mayor al Total.","")) | BS56: =IF(AND(C56>0,L56="")," * No olvide digitar la variable Niños, niñas, adolescentes y jóvenes SENAME. Digite Cero si no tiene.",IF(L56>C56," * La variable Niños, niñas, adolescentes y jóvenes SENAME No puede ser mayor al Total.","")) | BT56: =IF(AND(C56>0,M56="")," * No olvide digitar la variable Niños, niñas, adolescentes y jóvenes Mejor Niñez. Digite Cero si no tiene.",IF(M56>C56," * La variable Niños, niñas, adolescentes y jóvenes Mejor Niñez No puede ser mayor al Total.","")) | BZ56: =IF(AND(C56>0,J56=""),1,IF(J56>C56,1,0)) -> 0 | CA56: =IF(AND(C56>0,K56=""),1,IF(K56>C56,1,0)) -> 0 | CB56: =IF(AND(C56>0,L56=""),1,IF(L56>C56,1,0)) -> 0 | CC56: =IF(AND(C56>0,M56=""),1,IF(M56>C56,1,0)) -> 0
A57: En sector rural | C57: =SUM(D57:G57) -> 0 | D57: =SUM(ENERO:DICIEMBRE!D57) -> 0 | E57: =SUM(ENERO:DICIEMBRE!E57) -> 0 | F57: =SUM(ENERO:DICIEMBRE!F57) -> 0 | G57: =SUM(ENERO:DICIEMBRE!G57) -> 0 | H57: =SUM(ENERO:DICIEMBRE!H57) -> 0 | I57: =SUM(ENERO:DICIEMBRE!I57) -> 0 | J57: =SUM(ENERO:DICIEMBRE!J57) -> 0 | K57: =SUM(ENERO:DICIEMBRE!K57) -> 0 | ... M57: =SUM(ENERO:DICIEMBRE!M57) -> 0 | N57: =BQ57&BR57&BS57&BT57&BU57 | BQ57: =IF(AND(C57>0,J57="")," * No olvide digitar la variable Pueblos Originarios. Digite Cero si no tiene.",IF(J57>C57," * La variable Pueblos Originarios No puede ser mayor al Total.","")) | BR57: =IF(AND(C57>0,K57="")," * No olvide digitar la variable Migrantes. Digite Cero si no tiene.",IF(K57>C57," * La variable Migrantes No puede ser mayor al Total.","")) | BS57: =IF(AND(C57>0,L57="")," * No olvide digitar la variable Niños, niñas, adolescentes y jóvenes SENAME. Digite Cero si no tiene.",IF(L57>C57," * La variable Niños, niñas, adolescentes y jóvenes SENAME No puede ser mayor al Total.","")) | BT57: =IF(AND(C57>0,M57="")," * No olvide digitar la variable Niños, niñas, adolescentes y jóvenes Mejor Niñez. Digite Cero si no tiene.",IF(M57>C57," * La variable Niños, niñas, adolescentes y jóvenes Mejor Niñez No puede ser mayor al Total.","")) | BZ57: =IF(AND(C57>0,J57=""),1,IF(J57>C57,1,0)) -> 0 | CA57: =IF(AND(C57>0,K57=""),1,IF(K57>C57,1,0)) -> 0 | CB57: =IF(AND(C57>0,L57=""),1,IF(L57>C57,1,0)) -> 0 | CC57: =IF(AND(C57>0,M57=""),1,IF(M57>C57,1,0)) -> 0
A58: Otras | C58: =SUM(D58:G58) -> 360 | D58: =SUM(ENERO:DICIEMBRE!D58) -> 166 | E58: =SUM(ENERO:DICIEMBRE!E58) -> 194 | F58: =SUM(ENERO:DICIEMBRE!F58) -> 0 | G58: =SUM(ENERO:DICIEMBRE!G58) -> 0 | H58: =SUM(ENERO:DICIEMBRE!H58) -> 0 | I58: =SUM(ENERO:DICIEMBRE!I58) -> 0 | J58: =SUM(ENERO:DICIEMBRE!J58) -> 0 | K58: =SUM(ENERO:DICIEMBRE!K58) -> 0 | ... M58: =SUM(ENERO:DICIEMBRE!M58) -> 0 | N58: =BQ58&BR58&BS58&BT58&BU58 | BQ58: =IF(AND(C58>0,J58="")," * No olvide digitar la variable Pueblos Originarios. Digite Cero si no tiene.",IF(J58>C58," * La variable Pueblos Originarios No puede ser mayor al Total.","")) | BR58: =IF(AND(C58>0,K58="")," * No olvide digitar la variable Migrantes. Digite Cero si no tiene.",IF(K58>C58," * La variable Migrantes No puede ser mayor al Total.","")) | BS58: =IF(AND(C58>0,L58="")," * No olvide digitar la variable Niños, niñas, adolescentes y jóvenes SENAME. Digite Cero si no tiene.",IF(L58>C58," * La variable Niños, niñas, adolescentes y jóvenes SENAME No puede ser mayor al Total.","")) | BT58: =IF(AND(C58>0,M58="")," * No olvide digitar la variable Niños, niñas, adolescentes y jóvenes Mejor Niñez. Digite Cero si no tiene.",IF(M58>C58," * La variable Niños, niñas, adolescentes y jóvenes Mejor Niñez No puede ser mayor al Total.","")) | BZ58: =IF(AND(C58>0,J58=""),1,IF(J58>C58,1,0)) -> 0 | CA58: =IF(AND(C58>0,K58=""),1,IF(K58>C58,1,0)) -> 0 | CB58: =IF(AND(C58>0,L58=""),1,IF(L58>C58,1,0)) -> 0 | CC58: =IF(AND(C58>0,M58=""),1,IF(M58>C58,1,0)) -> 0
A59: TOTAL | C59: =SUM(C54:C58)+C50 -> 1118 | D59: =SUM(D54:D58)+D50 -> 891 | E59: =SUM(E54:E58)+E50 -> 214 | F59: =SUM(F54:F58)+F50 -> 13 | G59: =SUM(G54:G58)+G50 -> 0 | H59: =SUM(H54:H58)+H50 -> 0 | I59: =SUM(I54:I58)+I50 -> 0 | J59: =SUM(J54:J58)+J50 -> 0 | ... M59: =SUM(M54:M58)+M50 -> 0
A60: (*) Excluye visita integral de salud mental.
A61: SECCIÓN C: VISITAS CON FINES DE TRATAMIENTOS Y/O PROCEDIMIENTOS EN DOMICILIO A PERSONAS CON DEPENDENCIA
A62: TIPO DE DEPENDENCIA | C62: PROFESIONALES QUE PARTICIPAN EN LA VISITA DE TRATAMIENTO | Q62: Pueblos Originarios | R62: Migrantes | S62: Población en ECICEP | T62: Población ELEAM o Institucionalizada | U62: Atención nutricional a personas con NED
C63: N° DE VISITAS REALIZADAS | D63: TOTAL | E63: Médico/a | F63: Odontólogo/a | G63: Químico/a Farmacéutico/a | H63: Enfermero/a | I63: Kinesiólogo/a | J63: Terapeuta Ocupacional | K63: Fonoaudiólogo/a | L63: Psicólogo/a | M63: Nutricionista | N63: Trabajador/a Social | O63: Técnico en Enfermería | P63: Otro
A64: Personas con dependencia leve | C64: =SUM(ENERO:DICIEMBRE!C64) -> 291 | D64: =SUM(E64:P64) -> 291 | E64: =SUM(ENERO:DICIEMBRE!E64) -> 291 | F64: =SUM(ENERO:DICIEMBRE!F64) -> 0 | G64: =SUM(ENERO:DICIEMBRE!G64) -> 0 | H64: =SUM(ENERO:DICIEMBRE!H64) -> 0 | I64: =SUM(ENERO:DICIEMBRE!I64) -> 0 | J64: =SUM(ENERO:DICIEMBRE!J64) -> 0 | K64: =SUM(ENERO:DICIEMBRE!K64) -> 0 | L64: =SUM(ENERO:DICIEMBRE!L64) -> 0 | ... U64: =SUM(ENERO:DICIEMBRE!U64) -> 0 | V64: =BQ64&BR64&BS64&BT64&BU64 | BQ64: =IF(AND($D64>0,Q64="")," * No olvide digitar la variable Pueblos originarios. Digite Cero si no tiene.",IF(Q64>$D64," * La variable Pueblos originarios No puede ser mayor al Total.","")) | BR64: =IF(AND($D64>0,R64="")," * No olvide digitar la variable Migrantes. Digite Cero si no tiene.",IF(R64>$D64," * La variable Migrantes No puede ser mayor al Total.","")) | BS64: =IF(AND($D64>0,S64="")," * No olvide digitar la variable Población en ECICEP. Digite Cero si no tiene.",IF(S64>$D64," * La variable Población en ECICEP No puede ser mayor al Total.","")) | BT64: =IF(AND($D64>0,T64="")," * No olvide digitar la variable Población ELEAM o Institucionalizada. Digite Cero si no tiene.",IF(T64>$D64," * La variable Población ELEAM o Institucionalizada No puede ser mayor al Total.","")) | BU64: =IF(AND($D64>0,U64="")," * No olvide digitar la variable Atención nutricional a personas con NED. Digite Cero si no tiene.",IF(U64>$D64," * La variable Atención nutricional a personas con NED No puede ser mayor al Total.","")) | BZ64: =IF(AND($D64>0,Q64=""),1,IF(Q64>$D64,1,0)) -> 0 | CA64: =IF(AND($D64>0,R64=""),1,IF(R64>$D64,1,0)) -> 0 | CB64: =IF(AND($D64>0,S64=""),1,IF(S64>$D64,1,0)) -> 0 | CC64: =IF(AND($D64>0,T64=""),1,IF(T64>$D64,1,0)) -> 0 | CD64: =IF(AND($D64>0,U64=""),1,IF(U64>$D64,1,0)) -> 0
A65: Personas con dependencia moderada | C65: =SUM(ENERO:DICIEMBRE!C65) -> 281 | D65: =SUM(E65:P65) -> 281 | E65: =SUM(ENERO:DICIEMBRE!E65) -> 281 | F65: =SUM(ENERO:DICIEMBRE!F65) -> 0 | G65: =SUM(ENERO:DICIEMBRE!G65) -> 0 | H65: =SUM(ENERO:DICIEMBRE!H65) -> 0 | I65: =SUM(ENERO:DICIEMBRE!I65) -> 0 | J65: =SUM(ENERO:DICIEMBRE!J65) -> 0 | K65: =SUM(ENERO:DICIEMBRE!K65) -> 0 | L65: =SUM(ENERO:DICIEMBRE!L65) -> 0 | ... U65: =SUM(ENERO:DICIEMBRE!U65) -> 0 | V65: =BQ65&BR65 | BQ65: =IF(AND(D65>0,Q65="")," * No olvide digitar la variable Pueblos originarios. Digite Cero si no tiene.",IF(Q65>D65," * La variable Pueblos originarios No puede ser mayor al Total.","")) | BR65: =IF(AND(D65>0,R65="")," * No olvide digitar la variable Migrantes. Digite Cero si no tiene.",IF(R65>D65," * La variable Migrantes No puede ser mayor al Total.","")) | BS65: =IF(AND($D65>0,S65="")," * No olvide digitar la variable Población en ECICEP. Digite Cero si no tiene.",IF(S65>$D65," * La variable Población en ECICEP No puede ser mayor al Total.","")) | BT65: =IF(AND($D65>0,T65="")," * No olvide digitar la variable Población ELEAM o Institucionalizada. Digite Cero si no tiene.",IF(T65>$D65," * La variable Población ELEAM o Institucionalizada No puede ser mayor al Total.","")) | BU65: =IF(AND($D65>0,U65="")," * No olvide digitar la variable Atención nutricional a personas con NED. Digite Cero si no tiene.",IF(U65>$D65," * La variable Atención nutricional a personas con NED No puede ser mayor al Total.","")) | BZ65: =IF(AND(D65>0,Q65=""),1,IF(Q65>D65,1,0)) -> 0 | CA65: =IF(AND(D65>0,R65=""),1,IF(R65>D65,1,0)) -> 0 | CB65: =IF(AND($D65>0,S65=""),1,IF(S65>$D65,1,0)) -> 0 | CC65: =IF(AND($D65>0,T65=""),1,IF(T65>$D65,1,0)) -> 0 | CD65: =IF(AND($D65>0,U65=""),1,IF(U65>$D65,1,0)) -> 0
A66: Personas con dependencia severa | B66: Oncológicos | C66: =SUM(ENERO:DICIEMBRE!C66) -> 27 | D66: =SUM(E66:P66) -> 27 | E66: =SUM(ENERO:DICIEMBRE!E66) -> 27 | F66: =SUM(ENERO:DICIEMBRE!F66) -> 0 | G66: =SUM(ENERO:DICIEMBRE!G66) -> 0 | H66: =SUM(ENERO:DICIEMBRE!H66) -> 0 | I66: =SUM(ENERO:DICIEMBRE!I66) -> 0 | J66: =SUM(ENERO:DICIEMBRE!J66) -> 0 | K66: =SUM(ENERO:DICIEMBRE!K66) -> 0 | L66: =SUM(ENERO:DICIEMBRE!L66) -> 0 | ... U66: =SUM(ENERO:DICIEMBRE!U66) -> 0 | V66: =BQ66&BR66 | BQ66: =IF(AND(D66>0,Q66="")," * No olvide digitar la variable Pueblos originarios. Digite Cero si no tiene.",IF(Q66>D66," * La variable Pueblos originarios No puede ser mayor al Total.","")) | BR66: =IF(AND(D66>0,R66="")," * No olvide digitar la variable Migrantes. Digite Cero si no tiene.",IF(R66>D66," * La variable Migrantes No puede ser mayor al Total.","")) | BS66: =IF(AND($D66>0,S66="")," * No olvide digitar la variable Población en ECICEP. Digite Cero si no tiene.",IF(S66>$D66," * La variable Población en ECICEP No puede ser mayor al Total.","")) | BT66: =IF(AND($D66>0,T66="")," * No olvide digitar la variable Población ELEAM o Institucionalizada. Digite Cero si no tiene.",IF(T66>$D66," * La variable Población ELEAM o Institucionalizada No puede ser mayor al Total.","")) | BU66: =IF(AND($D66>0,U66="")," * No olvide digitar la variable Atención nutricional a personas con NED. Digite Cero si no tiene.",IF(U66>$D66," * La variable Atención nutricional a personas con NED No puede ser mayor al Total.","")) | BZ66: =IF(AND(D66>0,Q66=""),1,IF(Q66>D66,1,0)) -> 0 | CA66: =IF(AND(D66>0,R66=""),1,IF(R66>D66,1,0)) -> 0 | CB66: =IF(AND($D66>0,S66=""),1,IF(S66>$D66,1,0)) -> 0 | CC66: =IF(AND($D66>0,T66=""),1,IF(T66>$D66,1,0)) -> 0 | CD66: =IF(AND($D66>0,U66=""),1,IF(U66>$D66,1,0)) -> 0
B67: No oncológicos | C67: =SUM(ENERO:DICIEMBRE!C67) -> 381 | D67: =SUM(E67:P67) -> 381 | E67: =SUM(ENERO:DICIEMBRE!E67) -> 381 | F67: =SUM(ENERO:DICIEMBRE!F67) -> 0 | G67: =SUM(ENERO:DICIEMBRE!G67) -> 0 | H67: =SUM(ENERO:DICIEMBRE!H67) -> 0 | I67: =SUM(ENERO:DICIEMBRE!I67) -> 0 | J67: =SUM(ENERO:DICIEMBRE!J67) -> 0 | K67: =SUM(ENERO:DICIEMBRE!K67) -> 0 | L67: =SUM(ENERO:DICIEMBRE!L67) -> 0 | ... U67: =SUM(ENERO:DICIEMBRE!U67) -> 0 | V67: =BQ67&BR67 | BQ67: =IF(AND(D67>0,Q67="")," * No olvide digitar la variable Pueblos originarios. Digite Cero si no tiene.",IF(Q67>D67," * La variable Pueblos originarios No puede ser mayor al Total.","")) | BR67: =IF(AND(D67>0,R67="")," * No olvide digitar la variable Migrantes. Digite Cero si no tiene.",IF(R67>D67," * La variable Migrantes No puede ser mayor al Total.","")) | BS67: =IF(AND($D67>0,S67="")," * No olvide digitar la variable Población en ECICEP. Digite Cero si no tiene.",IF(S67>$D67," * La variable Población en ECICEP No puede ser mayor al Total.","")) | BT67: =IF(AND($D67>0,T67="")," * No olvide digitar la variable Población ELEAM o Institucionalizada. Digite Cero si no tiene.",IF(T67>$D67," * La variable Población ELEAM o Institucionalizada No puede ser mayor al Total.","")) | BU67: =IF(AND($D67>0,U67="")," * No olvide digitar la variable Atención nutricional a personas con NED. Digite Cero si no tiene.",IF(U67>$D67," * La variable Atención nutricional a personas con NED No puede ser mayor al Total.","")) | BZ67: =IF(AND(D67>0,Q67=""),1,IF(Q67>D67,1,0)) -> 0 | CA67: =IF(AND(D67>0,R67=""),1,IF(R67>D67,1,0)) -> 0 | CB67: =IF(AND($D67>0,S67=""),1,IF(S67>$D67,1,0)) -> 0 | CC67: =IF(AND($D67>0,T67=""),1,IF(T67>$D67,1,0)) -> 0 | CD67: =IF(AND($D67>0,U67=""),1,IF(U67>$D67,1,0)) -> 0
B68: Entrega fármacos/alimentos | C68: =SUM(ENERO:DICIEMBRE!C68) -> 0 | D68: =SUM(E68:P68) -> 0 | E68: =SUM(ENERO:DICIEMBRE!E68) -> 0 | F68: =SUM(ENERO:DICIEMBRE!F68) -> 0 | G68: =SUM(ENERO:DICIEMBRE!G68) -> 0 | H68: =SUM(ENERO:DICIEMBRE!H68) -> 0 | I68: =SUM(ENERO:DICIEMBRE!I68) -> 0 | J68: =SUM(ENERO:DICIEMBRE!J68) -> 0 | K68: =SUM(ENERO:DICIEMBRE!K68) -> 0 | L68: =SUM(ENERO:DICIEMBRE!L68) -> 0 | ... U68: =SUM(ENERO:DICIEMBRE!U68) -> 0 | V68: =BQ68&BR68 | BQ68: =IF(AND(D68>0,Q68="")," * No olvide digitar la variable Pueblos originarios. Digite Cero si no tiene.",IF(Q68>D68," * La variable Pueblos originarios No puede ser mayor al Total.","")) | BR68: =IF(AND(D68>0,R68="")," * No olvide digitar la variable Migrantes. Digite Cero si no tiene.",IF(R68>D68," * La variable Migrantes No puede ser mayor al Total.","")) | BS68: =IF(AND($D68>0,S68="")," * No olvide digitar la variable Población en ECICEP. Digite Cero si no tiene.",IF(S68>$D68," * La variable Población en ECICEP No puede ser mayor al Total.","")) | BT68: =IF(AND($D68>0,T68="")," * No olvide digitar la variable Población ELEAM o Institucionalizada. Digite Cero si no tiene.",IF(T68>$D68," * La variable Población ELEAM o Institucionalizada No puede ser mayor al Total.","")) | BU68: =IF(AND($D68>0,U68="")," * No olvide digitar la variable Atención nutricional a personas con NED. Digite Cero si no tiene.",IF(U68>$D68," * La variable Atención nutricional a personas con NED No puede ser mayor al Total.","")) | BZ68: =IF(AND(D68>0,Q68=""),1,IF(Q68>D68,1,0)) -> 0 | CA68: =IF(AND(D68>0,R68=""),1,IF(R68>D68,1,0)) -> 0 | CB68: =IF(AND($D68>0,S68=""),1,IF(S68>$D68,1,0)) -> 0 | CC68: =IF(AND($D68>0,T68=""),1,IF(T68>$D68,1,0)) -> 0 | CD68: =IF(AND($D68>0,U68=""),1,IF(U68>$D68,1,0)) -> 0
B69: Seguimiento remoto | C69: =SUM(ENERO:DICIEMBRE!C69) -> 0 | D69: =SUM(E69:P69) -> 0 | E69: =SUM(ENERO:DICIEMBRE!E69) -> 0 | F69: =SUM(ENERO:DICIEMBRE!F69) -> 0 | G69: =SUM(ENERO:DICIEMBRE!G69) -> 0 | H69: =SUM(ENERO:DICIEMBRE!H69) -> 0 | I69: =SUM(ENERO:DICIEMBRE!I69) -> 0 | J69: =SUM(ENERO:DICIEMBRE!J69) -> 0 | K69: =SUM(ENERO:DICIEMBRE!K69) -> 0 | L69: =SUM(ENERO:DICIEMBRE!L69) -> 0 | ... U69: =SUM(ENERO:DICIEMBRE!U69) -> 0 | V69: =BQ69&BR69 | BQ69: =IF(AND(D69>0,Q69="")," * No olvide digitar la variable Pueblos originarios. Digite Cero si no tiene.",IF(Q69>D69," * La variable Pueblos originarios No puede ser mayor al Total.","")) | BR69: =IF(AND(D69>0,R69="")," * No olvide digitar la variable Migrantes. Digite Cero si no tiene.",IF(R69>D69," * La variable Migrantes No puede ser mayor al Total.","")) | BS69: =IF(AND($D69>0,S69="")," * No olvide digitar la variable Población en ECICEP. Digite Cero si no tiene.",IF(S69>$D69," * La variable Población en ECICEP No puede ser mayor al Total.","")) | BT69: =IF(AND($D69>0,T69="")," * No olvide digitar la variable Población ELEAM o Institucionalizada. Digite Cero si no tiene.",IF(T69>$D69," * La variable Población ELEAM o Institucionalizada No puede ser mayor al Total.","")) | BU69: =IF(AND($D69>0,U69="")," * No olvide digitar la variable Atención nutricional a personas con NED. Digite Cero si no tiene.",IF(U69>$D69," * La variable Atención nutricional a personas con NED No puede ser mayor al Total.","")) | BZ69: =IF(AND(D69>0,Q69=""),1,IF(Q69>D69,1,0)) -> 0 | CA69: =IF(AND(D69>0,R69=""),1,IF(R69>D69,1,0)) -> 0 | CB69: =IF(AND($D69>0,S69=""),1,IF(S69>$D69,1,0)) -> 0 | CC69: =IF(AND($D69>0,T69=""),1,IF(T69>$D69,1,0)) -> 0 | CD69: =IF(AND($D69>0,U69=""),1,IF(U69>$D69,1,0)) -> 0
A70: SECCIÓN D: RESCATE DE PACIENTES INASISTENTES
A71: RANGO ETARIO | C71: RESCATE EN DOMICILIO | H71: RESCATE TELEFÓNICO
C72: TOTAL | D72: Funcionario | G72: Compra de servicio (*)
D73: Técnico en enfermería | E73: Administrativo | F73: Otro | H73: Desde el establecimiento | I73: Compra de servicio (*)
A74: Menos de 1 año | C74: =SUM(D74:F74)+H74 -> 0 | D74: =SUM(ENERO:DICIEMBRE!D74) -> 0 | E74: =SUM(ENERO:DICIEMBRE!E74) -> 0 | F74: =SUM(ENERO:DICIEMBRE!F74) -> 0 | G74: =SUM(ENERO:DICIEMBRE!G74) -> 0 | H74: =SUM(ENERO:DICIEMBRE!H74) -> 0 | I74: =SUM(ENERO:DICIEMBRE!I74) -> 0
A75: 1 - 4 años | C75: =SUM(D75:F75)+H75 -> 0 | D75: =SUM(ENERO:DICIEMBRE!D75) -> 0 | E75: =SUM(ENERO:DICIEMBRE!E75) -> 0 | F75: =SUM(ENERO:DICIEMBRE!F75) -> 0 | G75: =SUM(ENERO:DICIEMBRE!G75) -> 0 | H75: =SUM(ENERO:DICIEMBRE!H75) -> 0 | I75: =SUM(ENERO:DICIEMBRE!I75) -> 0
A76: 5 - 9 años | C76: =SUM(D76:F76)+H76 -> 0 | D76: =SUM(ENERO:DICIEMBRE!D76) -> 0 | E76: =SUM(ENERO:DICIEMBRE!E76) -> 0 | F76: =SUM(ENERO:DICIEMBRE!F76) -> 0 | G76: =SUM(ENERO:DICIEMBRE!G76) -> 0 | H76: =SUM(ENERO:DICIEMBRE!H76) -> 0 | I76: =SUM(ENERO:DICIEMBRE!I76) -> 0
A77: 10 - 14 años | C77: =SUM(D77:F77)+H77 -> 0 | D77: =SUM(ENERO:DICIEMBRE!D77) -> 0 | E77: =SUM(ENERO:DICIEMBRE!E77) -> 0 | F77: =SUM(ENERO:DICIEMBRE!F77) -> 0 | G77: =SUM(ENERO:DICIEMBRE!G77) -> 0 | H77: =SUM(ENERO:DICIEMBRE!H77) -> 0 | I77: =SUM(ENERO:DICIEMBRE!I77) -> 0
A78: 15 - 19 años | C78: =SUM(D78:F78)+H78 -> 0 | D78: =SUM(ENERO:DICIEMBRE!D78) -> 0 | E78: =SUM(ENERO:DICIEMBRE!E78) -> 0 | F78: =SUM(ENERO:DICIEMBRE!F78) -> 0 | G78: =SUM(ENERO:DICIEMBRE!G78) -> 0 | H78: =SUM(ENERO:DICIEMBRE!H78) -> 0 | I78: =SUM(ENERO:DICIEMBRE!I78) -> 0
A79: 20 - 24 años | C79: =SUM(D79:F79)+H79 -> 0 | D79: =SUM(ENERO:DICIEMBRE!D79) -> 0 | E79: =SUM(ENERO:DICIEMBRE!E79) -> 0 | F79: =SUM(ENERO:DICIEMBRE!F79) -> 0 | G79: =SUM(ENERO:DICIEMBRE!G79) -> 0 | H79: =SUM(ENERO:DICIEMBRE!H79) -> 0 | I79: =SUM(ENERO:DICIEMBRE!I79) -> 0
A80: 25 - 64 años | C80: =SUM(D80:F80)+H80 -> 0 | D80: =SUM(ENERO:DICIEMBRE!D80) -> 0 | E80: =SUM(ENERO:DICIEMBRE!E80) -> 0 | F80: =SUM(ENERO:DICIEMBRE!F80) -> 0 | G80: =SUM(ENERO:DICIEMBRE!G80) -> 0 | H80: =SUM(ENERO:DICIEMBRE!H80) -> 0 | I80: =SUM(ENERO:DICIEMBRE!I80) -> 0
A81: 65 y más años | C81: =SUM(D81:F81)+H81 -> 0 | D81: =SUM(ENERO:DICIEMBRE!D81) -> 0 | E81: =SUM(ENERO:DICIEMBRE!E81) -> 0 | F81: =SUM(ENERO:DICIEMBRE!F81) -> 0 | G81: =SUM(ENERO:DICIEMBRE!G81) -> 0 | H81: =SUM(ENERO:DICIEMBRE!H81) -> 0 | I81: =SUM(ENERO:DICIEMBRE!I81) -> 0
A82: (*) No incluidas como producción del establecimiento.
A83: SECCIÓN E: OTRAS VISITAS PROGRAMA DE ACOMPAÑAMIENTO PSICOSOCIAL EN ATENCIÓN PRIMARIA
A84: GRUPOS | B84: TOTAL VISITAS | C84: RANGO ETARIO
C85: 0 - 4 años | D85: 5 - 9 años | E85: 10 - 14 años | F85: 15 - 19 años | G85: 20 - 24 años
A86: Establecimiento educacional | B86: =SUM(C86:G86) -> 0
A87: A lugar de trabajo | B87: =SUM(C87:G87) -> 0
A88: SECCIÓN F: VISITA A ESTABLECIMIENTO EDUCACIONAL PROGRAMA DE APOYO A LA SALUD MENTAL INFANTIL (PASMI) EN ATENCIÓN PRIMARIA
A89: CONCEPTO | B89: Total Visitas 5 a 9 Años | C89: N° de Niños/as Visitados 5 a 9 Años
A90: Establecimiento educacional
A91: SECCIÓN G: CONSULTAS Y CONTROLES DE ESPECIALIDAD RESUELTAS POR VISITAS DOMICILIARIAS
A92: ACTIVIDADES | B92: TOTAL | C92: CONTROLES DE ESPECIALIDAD RESUELTOS POR VISITAS DOMICILIARIAS | T92: SEXO
C93: RANGO ETARIO
C94: 0 - 4 años | D94: 5 - 9 años | E94: 10 - 14 años | F94: 15 - 19 años | G94: 20 - 24 años | H94: 25 - 29 años | I94: 30 - 34 años | J94: 35 - 39 años | K94: 40 - 44 años | L94: 45 - 49 años | M94: 50 - 54 años | N94: 55 - 59 años | O94: 60 - 64 años | P94: 65 - 69 años | Q94: 70 - 74 años | R94: 75 - 79 años | S94: 80 y más años | T94: Hombres | U94: Mujeres
A95: Pediatría (incluye totalidad de producción pediatrica de subespecialidades) | B95: =SUM(C95:S95) -> 0 | V95: =BQ95&BR95 | BQ95: =IF((T95+U95)<>B95," * El total de Consultas por Sexo debe ser igual al Total de Consultas por grupo de Edad","") | BZ95: =IF((T95+U95)<>B95,1,0) -> 0
A96: Medicina Interna | B96: =SUM(C96:S96) -> 0 | V96: =BQ96&BR96 | BQ96: =IF((T96+U96)<>B96," * El total de Consultas por Sexo debe ser igual al Total de Consultas por grupo de Edad","") | BZ96: =IF((T96+U96)<>B96,1,0) -> 0
A97: Cirugía | B97: =SUM(C97:S97) -> 0 | V97: =BQ97&BR97 | BQ97: =IF((T97+U97)<>B97," * El total de Consultas por Sexo debe ser igual al Total de Consultas por grupo de Edad","") | BZ97: =IF((T97+U97)<>B97,1,0) -> 0
A98: Enfermedad respiratoria de adulto (Broncopulmonar) | B98: =SUM(C98:S98) -> 0 | V98: =BQ98&BR98 | BQ98: =IF((T98+U98)<>B98," * El total de Consultas por Sexo debe ser igual al Total de Consultas por grupo de Edad","") | BZ98: =IF((T98+U98)<>B98,1,0) -> 0
A99: Cardiología adulto | B99: =SUM(C99:S99) -> 0 | V99: =BQ99&BR99 | BQ99: =IF((T99+U99)<>B99," * El total de Consultas por Sexo debe ser igual al Total de Consultas por grupo de Edad","") | BZ99: =IF((T99+U99)<>B99,1,0) -> 0
A100: Endocrinología adulto | B100: =SUM(C100:S100) -> 0 | V100: =BQ100&BR100 | BQ100: =IF((T100+U100)<>B100," * El total de Consultas por Sexo debe ser igual al Total de Consultas por grupo de Edad","") | BZ100: =IF((T100+U100)<>B100,1,0) -> 0
A101: Reumatología adulto | B101: =SUM(C101:S101) -> 0 | V101: =BQ101&BR101 | BQ101: =IF((T101+U101)<>B101," * El total de Consultas por Sexo debe ser igual al Total de Consultas por grupo de Edad","") | BZ101: =IF((T101+U101)<>B101,1,0) -> 0
...

Sheet ENERO
A1: SERVICIO DE SALUD
A2: =CONCATENATE("COMUNA: ",[2]NOMBRE!B2, " (",[2]NOMBRE!C2,[2]NOMBRE!D2,[2]NOMBRE!E2,[2]NOMBRE!F2,[2]NOMBRE!G2,")") -> COMUNA: LINARES (07401)
A3: =CONCATENATE("ESTABLECIMIENTO/ESTRATEGIA: ", [2]NOMBRE!B3, " (",[2]NOMBRE!C3,[2]NOMBRE!D3,[2]NOMBRE!E3,[2]NOMBRE!F3,[2]NOMBRE!G3,[2]NOMBRE!H3,")") -> ESTABLECIMIENTO/ESTRATEGIA: HOSPITAL PRESIDENTE CARLOS IBAÑEZ DEL CAMPO (116108)
A4: =CONCATENATE("MES: ",[2]NOMBRE!B6, " (",[2]NOMBRE!C6,[2]NOMBRE!D6,")") -> MES: ENERO (01)
A5: =CONCATENATE("AÑO: ",[2]NOMBRE!B7) -> AÑO: 2025
A6: REM-26. ACTIVIDADES EN DOMICILIO Y OTROS ESPACIOS
A8: SECCIÓN A: VISITAS DOMICILIARIAS INTEGRALES A FAMILIAS (ESTABLECIMIENTOS APS)
A9: CONCEPTOS | C9: TOTAL | D9: Un Profesional | E9: Dos o Más Profesionales | F9: Un Profesional y Un Técnico En Enfermería | G9: Técnico En Enfermería | H9: Facilitador/a Intercultural Pueblos Originarios | I9: Agente Comunitario | J9: Primera Visita | K9: Segunda Visita | L9: Tercera o Más Visitas De Seguimiento | M9: Programa de Acompañamiento Psicosocial en APS | N9: Pueblos Originarios | O9: Migrantes | P9: Espacios Amigables/ Adolescente | Q9: Gestante con 3 o más riesgos | R9: Niños, Niñas, Adolescentes y Jóvenes SENAME | S9: Niños, niñas, Adolescentes y Jóvenes Mejor Niñez
A10: Familia con niño prematuro | C10: =SUM(D10:G10) -> 0 | T10: =BQ10&BS10&BT10&BU10&BW10&BX10 | BQ10: =IF((J10+K10+L10)<>C10," * La suma del N° de Primera visita + Segunda visita + Tercera o más visitas de seguimiento debe ser igual al Total.","") | BS10: =IF(AND(C10>0,N10="")," * No olvide digitar la variable Pueblos Originarios. Digite Cero si no tiene..",IF(N10>C10," * La variable Pueblos Originarios no puede ser mayor al Total.","")) | BT10: =IF(AND(C10>0,O10="")," * No olvide digitar la variable Migrantes. Digite Cero si no tiene.",IF(O10>C10," * La variable Migrantes no puede ser mayor al Total.","")) | BU10: =IF(AND($C10>0,P10="")," * No olvide digitar la variable Espacio Amigable/Adolescente. Digite Cero si no tiene.",IF(P10>$C10," * La variable Espacio Amigable/Adolescente no puede ser mayor al Total.","")) | BW10: =IF(AND($C10>0,R10="")," * No olvide digitar la variable Niños, Niñas, Adolescentes y Jóvenes SENAME. Digite Cero si no tiene.",IF(R10>$C10," * La variable Niños, Niñas, Adolescentes y Jóvenes SENAME no puede ser mayor al Total.","")) | BX10: =IF(AND($C10>0,S10="")," * No olvide digitar la variable Niños, niñas, Adolescentes y Jóvenes Mejor Niñez. Digite Cero si no tiene.",IF(S10>$C10," * La variable Niños, niñas, Adolescentes y Jóvenes Mejor Niñez no puede ser mayor al Total.","")) | BZ10: =IF((J10+K10+L10)<>C10,1,0) -> 0 | CB10: =IF(AND(C10>0,N10=""),1,IF(N10>C10,1,0)) -> 0 | CC10: =IF(AND(C10>0,O10=""),1,IF(O10>C10,1,0)) -> 0 | CD10: =IF(AND($C10>0,P10=""),1,IF(P10>$C10,1,0)) -> 0 | CF10: =IF(AND($C10>0,R10=""),1,IF(R10>$C10,1,0)) -> 0 | CG10: =IF(AND($C10>0,S10=""),1,IF(S10>$C10,1,0)) -> 0
A11: Familia con niño recién nacido | C11: =SUM(D11:G11) -> 0 | T11: =BQ11&BS11&BT11&BU11&BW11&BX11 | BQ11: =IF((J11+K11+L11)<>C11," * La suma del N° de Primera visita + Segunda visita + Tercera o más visitas de seguimiento debe coincidir con el Total.","") | BS11: =IF(AND(C11>0,N11="")," * No olvide digitar la variable Pueblos Originarios. Digite Cero si no tiene..",IF(N11>C11," * La variable Pueblos Originarios no puede ser mayor al Total.","")) | BT11: =IF(AND(C11>0,O11="")," * No olvide digitar la variable Migrantes. Digite Cero si no tiene.",IF(O11>C11," * La variable Migrantes no puede ser mayor al Total.","")) | BU11: =IF(AND($C11>0,P11="")," * No olvide digitar la variable Espacio Amigable/Adolescente. Digite Cero si no tiene.",IF(P11>$C11," * La variable Espacio Amigable/Adolescente no puede ser mayor al Total.","")) | BW11: =IF(AND($C11>0,R11="")," * No olvide digitar la variable Niños, Niñas, Adolescentes y Jóvenes SENAME. Digite Cero si no tiene.",IF(R11>$C11," * La variable Niños, Niñas, Adolescentes y Jóvenes SENAME no puede ser mayor al Total.","")) | BX11: =IF(AND($C11>0,S11="")," * No olvide digitar la variable Niños, niñas, Adolescentes y Jóvenes Mejor Niñez. Digite Cero si no tiene.",IF(S11>$C11," * La variable Niños, niñas, Adolescentes y Jóvenes Mejor Niñez no puede ser mayor al Total.","")) | BZ11: =IF((J11+K11+L11)<>C11,1,0) -> 0 | CB11: =IF(AND(C11>0,N11=""),1,IF(N11>C11,1,0)) -> 0 | CC11: =IF(AND(C11>0,O11=""),1,IF(O11>C11,1,0)) -> 0 | CD11: =IF(AND($C11>0,P11=""),1,IF(P11>$C11,1,0)) -> 0 | CF11: =IF(AND($C11>0,R11=""),1,IF(R11>$C11,1,0)) -> 0 | CG11: =IF(AND($C11>0,S11=""),1,IF(S11>$C11,1,0)) -> 0
A12: Familia con niño con déficit del DSM | C12: =SUM(D12:G12) -> 0 | T12: =BQ12&BS12&BT12&BU12&BW12&BX12 | BQ12: =IF((J12+K12+L12)<>C12," * La suma del N° de Primera visita + Segunda visita + Tercera o más visitas de seguimiento debe coincidir con el Total.","") | BS12: =IF(AND(C12>0,N12="")," * No olvide digitar la variable Pueblos Originarios. Digite Cero si no tiene..",IF(N12>C12," * La variable Pueblos Originarios no puede ser mayor al Total.","")) | BT12: =IF(AND(C12>0,O12="")," * No olvide digitar la variable Migrantes. Digite Cero si no tiene.",IF(O12>C12," * La variable Migrantes no puede ser mayor al Total.","")) | BU12: =IF(AND($C12>0,P12="")," * No olvide digitar la variable Espacio Amigable/Adolescente. Digite Cero si no tiene.",IF(P12>$C12," * La variable Espacio Amigable/Adolescente no puede ser mayor al Total.","")) | BW12: =IF(AND($C12>0,R12="")," * No olvide digitar la variable Niños, Niñas, Adolescentes y Jóvenes SENAME. Digite Cero si no tiene.",IF(R12>$C12," * La variable Niños, Niñas, Adolescentes y Jóvenes SENAME no puede ser mayor al Total.","")) | BX12: =IF(AND($C12>0,S12="")," * No olvide digitar la variable Niños, niñas, Adolescentes y Jóvenes Mejor Niñez. Digite Cero si no tiene.",IF(S12>$C12," * La variable Niños, niñas, Adolescentes y Jóvenes Mejor Niñez no puede ser mayor al Total.","")) | BZ12: =IF((J12+K12+L12)<>C12,1,0) -> 0 | CB12: =IF(AND(C12>0,N12=""),1,IF(N12>C12,1,0)) -> 0 | CC12: =IF(AND(C12>0,O12=""),1,IF(O12>C12,1,0)) -> 0 | CD12: =IF(AND($C12>0,P12=""),1,IF(P12>$C12,1,0)) -> 0 | CF12: =IF(AND($C12>0,R12=""),1,IF(R12>$C12,1,0)) -> 0 | CG12: =IF(AND($C12>0,S12=""),1,IF(S12>$C12,1,0)) -> 0
A13: Familia con niño en riesgo vincular afectivo | C13: =SUM(D13:G13) -> 0 | T13: =BQ13&BS13&BT13&BU13&BW13&BX13 | BQ13: =IF((J13+K13+L13)<>C13," * La suma del N° de Primera visita + Segunda visita + Tercera o más visitas de seguimiento debe coincidir con el Total.","") | BS13: =IF(AND(C13>0,N13="")," * No olvide digitar la variable Pueblos Originarios. Digite Cero si no tiene..",IF(N13>C13," * La variable Pueblos Originarios no puede ser mayor al Total.","")) | BT13: =IF(AND(C13>0,O13="")," * No olvide digitar la variable Migrantes. Digite Cero si no tiene.",IF(O13>C13," * La variable Migrantes no puede ser mayor al Total.","")) | BU13: =IF(AND($C13>0,P13="")," * No olvide digitar la variable Espacio Amigable/Adolescente. Digite Cero si no tiene.",IF(P13>$C13," * La variable Espacio Amigable/Adolescente no puede ser mayor al Total.","")) | BW13: =IF(AND($C13>0,R13="")," * No olvide digitar la variable Niños, Niñas, Adolescentes y Jóvenes SENAME. Digite Cero si no tiene.",IF(R13>$C13," * La variable Niños, Niñas, Adolescentes y Jóvenes SENAME no puede ser mayor al Total.","")) | BX13: =IF(AND($C13>0,S13="")," * No olvide digitar la variable Niños, niñas, Adolescentes y Jóvenes Mejor Niñez. Digite Cero si no tiene.",IF(S13>$C13," * La variable Niños, niñas, Adolescentes y Jóvenes Mejor Niñez no puede ser mayor al Total.","")) | BZ13: =IF((J13+K13+L13)<>C13,1,0) -> 0 | CB13: =IF(AND(C13>0,N13=""),1,IF(N13>C13,1,0)) -> 0 | CC13: =IF(AND(C13>0,O13=""),1,IF(O13>C13,1,0)) -> 0 | CD13: =IF(AND($C13>0,P13=""),1,IF(P13>$C13,1,0)) -> 0 | CF13: =IF(AND($C13>0,R13=""),1,IF(R13>$C13,1,0)) -> 0 | CG13: =IF(AND($C13>0,S13=""),1,IF(S13>$C13,1,0)) -> 0
A14: Familia con niño de 0 a 12 meses con score de riesgo moderado de morir por neumonía | C14: =SUM(D14:G14) -> 0 | T14: =BQ14&BS14&BT14&BU14&BW14&BX14 | BQ14: =IF((J14+K14+L14)<>C14," * La suma del N° de Primera visita + Segunda visita + Tercera o más visitas de seguimiento debe coincidir con el Total.","") | BS14: =IF(AND(C14>0,N14="")," * No olvide digitar la variable Pueblos Originarios. Digite Cero si no tiene..",IF(N14>C14," * La variable Pueblos Originarios no puede ser mayor al Total.","")) | BT14: =IF(AND(C14>0,O14="")," * No olvide digitar la variable Migrantes. Digite Cero si no tiene.",IF(O14>C14," * La variable Migrantes no puede ser mayor al Total.","")) | BU14: =IF(AND($C14>0,P14="")," * No olvide digitar la variable Espacio Amigable/Adolescente. Digite Cero si no tiene.",IF(P14>$C14," * La variable Espacio Amigable/Adolescente no puede ser mayor al Total.","")) | BW14: =IF(AND($C14>0,R14="")," * No olvide digitar la variable Niños, Niñas, Adolescentes y Jóvenes SENAME. Digite Cero si no tiene.",IF(R14>$C14," * La variable Niños, Niñas, Adolescentes y Jóvenes SENAME no puede ser mayor al Total.","")) | BX14: =IF(AND($C14>0,S14="")," * No olvide digitar la variable Niños, niñas, Adolescentes y Jóvenes Mejor Niñez. Digite Cero si no tiene.",IF(S14>$C14," * La variable Niños, niñas, Adolescentes y Jóvenes Mejor Niñez no puede ser mayor al Total.","")) | BZ14: =IF((J14+K14+L14)<>C14,1,0) -> 0 | CB14: =IF(AND(C14>0,N14=""),1,IF(N14>C14,1,0)) -> 0 | CC14: =IF(AND(C14>0,O14=""),1,IF(O14>C14,1,0)) -> 0 | CD14: =IF(AND($C14>0,P14=""),1,IF(P14>$C14,1,0)) -> 0 | CF14: =IF(AND($C14>0,R14=""),1,IF(R14>$C14,1,0)) -> 0 | CG14: =IF(AND($C14>0,S14=""),1,IF(S14>$C14,1,0)) -> 0
A15: Familia con niño de 0 a 12 meses con score de riesgo grave de morir por neumonía | C15: =SUM(D15:G15) -> 0 | T15: =BQ15&BS15&BT15&BU15&BW15&BX15 | BQ15: =IF((J15+K15+L15)<>C15," * La suma del N° de Primera visita + Segunda visita + Tercera o más visitas de seguimiento debe coincidir con el Total.","") | BS15: =IF(AND(C15>0,N15="")," * No olvide digitar la variable Pueblos Originarios. Digite Cero si no tiene..",IF(N15>C15," * La variable Pueblos Originarios no puede ser mayor al Total.","")) | BT15: =IF(AND(C15>0,O15="")," * No olvide digitar la variable Migrantes. Digite Cero si no tiene.",IF(O15>C15," * La variable Migrantes no puede ser mayor al Total.","")) | BU15: =IF(AND($C15>0,P15="")," * No olvide digitar la variable Espacio Amigable/Adolescente. Digite Cero si no tiene.",IF(P15>$C15," * La variable Espacio Amigable/Adolescente no puede ser mayor al Total.","")) | BW15: =IF(AND($C15>0,R15="")," * No olvide digitar la variable Niños, Niñas, Adolescentes y Jóvenes SENAME. Digite Cero si no tiene.",IF(R15>$C15," * La variable Niños, Niñas, Adolescentes y Jóvenes SENAME no puede ser mayor al Total.","")) | BX15: =IF(AND($C15>0,S15="")," * No olvide digitar la variable Niños, niñas, Adolescentes y Jóvenes Mejor Niñez. Digite Cero si no tiene.",IF(S15>$C15," * La variable Niños, niñas, Adolescentes y Jóvenes Mejor Niñez no puede ser mayor al Total.","")) | BZ15: =IF((J15+K15+L15)<>C15,1,0) -> 0 | CB15: =IF(AND(C15>0,N15=""),1,IF(N15>C15,1,0)) -> 0 | CC15: =IF(AND(C15>0,O15=""),1,IF(O15>C15,1,0)) -> 0 | CD15: =IF(AND($C15>0,P15=""),1,IF(P15>$C15,1,0)) -> 0 | CF15: =IF(AND($C15>0,R15=""),1,IF(R15>$C15,1,0)) -> 0 | CG15: =IF(AND($C15>0,S15=""),1,IF(S15>$C15,1,0)) -> 0
A16: Familia con niño con problema respiratorio crónico o no controlado | C16: =SUM(D16:G16) -> 0 | T16: =BQ16&BS16&BT16&BU16&BW16&BX16 | BQ16: =IF((J16+K16+L16)<>C16," * La suma del N° de Primera visita + Segunda visita + Tercera o más visitas de seguimiento debe coincidir con el Total.","") | BS16: =IF(AND(C16>0,N16="")," * No olvide digitar la variable Pueblos Originarios. Digite Cero si no tiene..",IF(N16>C16," * La variable Pueblos Originarios no puede ser mayor al Total.","")) | BT16: =IF(AND(C16>0,O16="")," * No olvide digitar la variable Migrantes. Digite Cero si no tiene.",IF(O16>C16," * La variable Migrantes no puede ser mayor al Total.","")) | BU16: =IF(AND($C16>0,P16="")," * No olvide digitar la variable Espacio Amigable/Adolescente. Digite Cero si no tiene.",IF(P16>$C16," * La variable Espacio Amigable/Adolescente no puede ser mayor al Total.","")) | BW16: =IF(AND($C16>0,R16="")," * No olvide digitar la variable Niños, Niñas, Adolescentes y Jóvenes SENAME. Digite Cero si no tiene.",IF(R16>$C16," * La variable Niños, Niñas, Adolescentes y Jóvenes SENAME no puede ser mayor al Total.","")) | BX16: =IF(AND($C16>0,S16="")," * No olvide digitar la variable Niños, niñas, Adolescentes y Jóvenes Mejor Niñez. Digite Cero si no tiene.",IF(S16>$C16," * La variable Niños, niñas, Adolescentes y Jóvenes Mejor Niñez no puede ser mayor al Total.","")) | BZ16: =IF((J16+K16+L16)<>C16,1,0) -> 0 | CB16: =IF(AND(C16>0,N16=""),1,IF(N16>C16,1,0)) -> 0 | CC16: =IF(AND(C16>0,O16=""),1,IF(O16>C16,1,0)) -> 0 | CD16: =IF(AND($C16>0,P16=""),1,IF(P16>$C16,1,0)) -> 0 | CF16: =IF(AND($C16>0,R16=""),1,IF(R16>$C16,1,0)) -> 0 | CG16: =IF(AND($C16>0,S16=""),1,IF(S16>$C16,1,0)) -> 0
A17: Familia con niño malnutrido | C17: =SUM(D17:G17) -> 0 | T17: =BQ17&BS17&BT17&BU17&BW17&BX17 | BQ17: =IF((J17+K17+L17)<>C17," * La suma del N° de Primera visita + Segunda visita + Tercera o más visitas de seguimiento debe coincidir con el Total.","") | BS17: =IF(AND(C17>0,N17="")," * No olvide digitar la variable Pueblos Originarios. Digite Cero si no tiene..",IF(N17>C17," * La variable Pueblos Originarios no puede ser mayor al Total.","")) | BT17: =IF(AND(C17>0,O17="")," * No olvide digitar la variable Migrantes. Digite Cero si no tiene.",IF(O17>C17," * La variable Migrantes no puede ser mayor al Total.","")) | BU17: =IF(AND($C17>0,P17="")," * No olvide digitar la variable Espacio Amigable/Adolescente. Digite Cero si no tiene.",IF(P17>$C17," * La variable Espacio Amigable/Adolescente no puede ser mayor al Total.","")) | BW17: =IF(AND($C17>0,R17="")," * No olvide digitar la variable Niños, Niñas, Adolescentes y Jóvenes SENAME. Digite Cero si no tiene.",IF(R17>$C17," * La variable Niños, Niñas, Adolescentes y Jóvenes SENAME no puede ser mayor al Total.","")) | BX17: =IF(AND($C17>0,S17="")," * No olvide digitar la variable Niños, niñas, Adolescentes y Jóvenes Mejor Niñez. Digite Cero si no tiene.",IF(S17>$C17," * La variable Niños, niñas, Adolescentes y Jóvenes Mejor Niñez no puede ser mayor al Total.","")) | BZ17: =IF((J17+K17+L17)<>C17,1,0) -> 0 | CB17: =IF(AND(C17>0,N17=""),1,IF(N17>C17,1,0)) -> 0 | CC17: =IF(AND(C17>0,O17=""),1,IF(O17>C17,1,0)) -> 0 | CD17: =IF(AND($C17>0,P17=""),1,IF(P17>$C17,1,0)) -> 0 | CF17: =IF(AND($C17>0,R17=""),1,IF(R17>$C17,1,0)) -> 0 | CG17: =IF(AND($C17>0,S17=""),1,IF(S17>$C17,1,0)) -> 0
A18: Familia con niño con riesgo psicosocial (excluye vincular afectivo) | C18: =SUM(D18:G18) -> 0 | T18: =BQ18&BR18&BS18&BT18&BU18&BW18&BX18 | BQ18: =IF((J18+K18+L18)<>C18," * La suma del N° de Primera visita + Segunda visita + Tercera o más visitas de seguimiento debe coincidir con el Total.","") | BR18: =IF(AND(C18>0,M18="")," * No olvide digitar la variable Programa de Acompañamiento Psicosocial en APS. Si no tiene digite Cero.",IF(M18>C18," * La variable Programa de Acompañamiento Psicosocial en APS no puede ser mayor al Total.","")) | BS18: =IF(AND(C18>0,N18="")," * No olvide digitar la variable Pueblos Originarios. Digite Cero si no tiene..",IF(N18>C18," * La variable Pueblos Originarios no puede ser mayor al Total.","")) | BT18: =IF(AND(C18>0,O18="")," * No olvide digitar la variable Migrantes. Digite Cero si no tiene.",IF(O18>C18," * La variable Migrantes no puede ser mayor al Total.","")) | BU18: =IF(AND($C18>0,P18="")," * No olvide digitar la variable Espacio Amigable/Adolescente. Digite Cero si no tiene.",IF(P18>$C18," * La variable Espacio Amigable/Adolescente no puede ser mayor al Total.","")) | BW18: =IF(AND($C18>0,R18="")," * No olvide digitar la variable Niños, Niñas, Adolescentes y Jóvenes SENAME. Digite Cero si no tiene.",IF(R18>$C18," * La variable Niños, Niñas, Adolescentes y Jóvenes SENAME no puede ser mayor al Total.","")) | BX18: =IF(AND($C18>0,S18="")," * No olvide digitar la variable Niños, niñas, Adolescentes y Jóvenes Mejor Niñez. Digite Cero si no tiene.",IF(S18>$C18," * La variable Niños, niñas, Adolescentes y Jóvenes Mejor Niñez no puede ser mayor al Total.","")) | BZ18: =IF((J18+K18+L18)<>C18,1,0) -> 0 | CA18: =IF(AND(C18>0,M18=""),1,IF(M18>C18,1,0)) -> 0 | CB18: =IF(AND(C18>0,N18=""),1,IF(N18>C18,1,0)) -> 0 | CC18: =IF(AND(C18>0,O18=""),1,IF(O18>C18,1,0)) -> 0 | CD18: =IF(AND($C18>0,P18=""),1,IF(P18>$C18,1,0)) -> 0 | CF18: =IF(AND($C18>0,R18=""),1,IF(R18>$C18,1,0)) -> 0 | CG18: =IF(AND($C18>0,S18=""),1,IF(S18>$C18,1,0)) -> 0
A19: Familia con adolescente en riesgo o problema psicosocial | C19: =SUM(D19:G19) -> 0 | T19: =BQ19&BR19&BS19&BT19&BU19&BW19&BX19 | BQ19: =IF((J19+K19+L19)<>C19," * La suma del N° de Primera visita + Segunda visita + Tercera o más visitas de seguimiento debe coincidir con el Total.","") | BR19: =IF(AND(C19>0,M19="")," * No olvide digitar la variable Programa de Acompañamiento Psicosocial en APS. Si no tiene digite Cero.",IF(M19>C19," * La variable Programa de Acompañamiento Psicosocial en APS no puede ser mayor al Total.","")) | BS19: =IF(AND(C19>0,N19="")," * No olvide digitar la variable Pueblos Originarios. Digite Cero si no tiene..",IF(N19>C19," * La variable Pueblos Originarios no puede ser mayor al Total.","")) | BT19: =IF(AND(C19>0,O19="")," * No olvide digitar la variable Migrantes. Digite Cero si no tiene.",IF(O19>C19," * La variable Migrantes no puede ser mayor al Total.","")) | BU19: =IF(AND($C19>0,P19="")," * No olvide digitar la variable Espacio Amigable/Adolescente. Digite Cero si no tiene.",IF(P19>$C19," * La variable Espacio Amigable/Adolescente no puede ser mayor al Total.","")) | BW19: =IF(AND($C19>0,R19="")," * No olvide digitar la variable Niños, Niñas, Adolescentes y Jóvenes SENAME. Digite Cero si no tiene.",IF(R19>$C19," * La variable Niños, Niñas, Adolescentes y Jóvenes SENAME no puede ser mayor al Total.","")) | BX19: =IF(AND($C19>0,S19="")," * No olvide digitar la variable Niños, niñas, Adolescentes y Jóvenes Mejor Niñez. Digite Cero si no tiene.",IF(S19>$C19," * La variable Niños, niñas, Adolescentes y Jóvenes Mejor Niñez no puede ser mayor al Total.","")) | BZ19: =IF((J19+K19+L19)<>C19,1,0) -> 0 | CA19: =IF(AND(C19>0,M19=""),1,IF(M19>C19,1,0)) -> 0 | CB19: =IF(AND(C19>0,N19=""),1,IF(N19>C19,1,0)) -> 0 | CC19: =IF(AND(C19>0,O19=""),1,IF(O19>C19,1,0)) -> 0 | CD19: =IF(AND($C19>0,P19=""),1,IF(P19>$C19,1,0)) -> 0 | CF19: =IF(AND($C19>0,R19=""),1,IF(R19>$C19,1,0)) -> 0 | CG19: =IF(AND($C19>0,S19=""),1,IF(S19>$C19,1,0)) -> 0
A20: Familia con integrante con patología crónica descompensada | C20: =SUM(D20:G20) -> 0 | T20: =BQ20&BR20&BS20&BT20&BU20&BW20&BX20 | BQ20: =IF((J20+K20+L20)<>C20," * La suma del N° de Primera visita + Segunda visita + Tercera o más visitas de seguimiento debe coincidir con el Total.","") | BR20: =IF(AND(C20>0,M20="")," * No olvide digitar la variable Programa de Acompañamiento Psicosocial en APS. Si no tiene digite Cero.",IF(M20>C20," * La variable Programa de Acompañamiento Psicosocial en APS no puede ser mayor al Total.","")) | BS20: =IF(AND(C20>0,N20="")," * No olvide digitar la variable Pueblos Originarios. Digite Cero si no tiene..",IF(N20>C20," * La variable Pueblos Originarios no puede ser mayor al Total.","")) | BT20: =IF(AND(C20>0,O20="")," * No olvide digitar la variable Migrantes. Digite Cero si no tiene.",IF(O20>C20," * La variable Migrantes no puede ser mayor al Total.","")) | BU20: =IF(AND($C20>0,P20="")," * No olvide digitar la variable Espacio Amigable/Adolescente. Digite Cero si no tiene.",IF(P20>$C20," * La variable Espacio Amigable/Adolescente no puede ser mayor al Total.","")) | BW20: =IF(AND($C20>0,R20="")," * No olvide digitar la variable Niños, Niñas, Adolescentes y Jóvenes SENAME. Digite Cero si no tiene.",IF(R20>$C20," * La variable Niños, Niñas, Adolescentes y Jóvenes SENAME no puede ser mayor al Total.","")) | BX20: =IF(AND($C20>0,S20="")," * No olvide digitar la variable Niños, niñas, Adolescentes y Jóvenes Mejor Niñez. Digite Cero si no tiene.",IF(S20>$C20," * La variable Niños, niñas, Adolescentes y Jóvenes Mejor Niñez no puede ser mayor al Total.","")) | BZ20: =IF((J20+K20+L20)<>C20,1,0) -> 0 | CA20: =IF(AND(C20>0,M20=""),1,IF(M20>C20,1,0)) -> 0 | CB20: =IF(AND(C20>0,N20=""),1,IF(N20>C20,1,0)) -> 0 | CC20: =IF(AND(C20>0,O20=""),1,IF(O20>C20,1,0)) -> 0 | CD20: =IF(AND($C20>0,P20=""),1,IF(P20>$C20,1,0)) -> 0 | CF20: =IF(AND($C20>0,R20=""),1,IF(R20>$C20,1,0)) -> 0 | CG20: =IF(AND($C20>0,S20=""),1,IF(S20>$C20,1,0)) -> 0
A21: Familia con adulto mayor dependediente (excluye dependiente severo) | C21: =SUM(D21:G21) -> 0 | T21: =BQ21&BS21&BT21&BU21&BW21&BX21 | BQ21: =IF((J21+K21+L21)<>C21," * La suma del N° de Primera visita + Segunda visita + Tercera o más visitas de seguimiento debe coincidir con el Total.","") | BS21: =IF(AND(C21>0,N21="")," * No olvide digitar la variable Pueblos Originarios. Digite Cero si no tiene..",IF(N21>C21," * La variable Pueblos Originarios no puede ser mayor al Total.","")) | BT21: =IF(AND(C21>0,O21="")," * No olvide digitar la variable Migrantes. Digite Cero si no tiene.",IF(O21>C21," * La variable Migrantes no puede ser mayor al Total.","")) | BU21: =IF(AND($C21>0,P21="")," * No olvide digitar la variable Espacio Amigable/Adolescente. Digite Cero si no tiene.",IF(P21>$C21," * La variable Espacio Amigable/Adolescente no puede ser mayor al Total.","")) | BW21: =IF(AND($C21>0,R21="")," * No olvide digitar la variable Niños, Niñas, Adolescentes y Jóvenes SENAME. Digite Cero si no tiene.",IF(R21>$C21," * La variable Niños, Niñas, Adolescentes y Jóvenes SENAME no puede ser mayor al Total.","")) | BX21: =IF(AND($C21>0,S21="")," * No olvide digitar la variable Niños, niñas, Adolescentes y Jóvenes Mejor Niñez. Digite Cero si no tiene.",IF(S21>$C21," * La variable Niños, niñas, Adolescentes y Jóvenes Mejor Niñez no puede ser mayor al Total.","")) | BZ21: =IF((J21+K21+L21)<>C21,1,0) -> 0 | CB21: =IF(AND(C21>0,N21=""),1,IF(N21>C21,1,0)) -> 0 | CC21: =IF(AND(C21>0,O21=""),1,IF(O21>C21,1,0)) -> 0 | CD21: =IF(AND($C21>0,P21=""),1,IF(P21>$C21,1,0)) -> 0 | CF21: =IF(AND($C21>0,R21=""),1,IF(R21>$C21,1,0)) -> 0 | CG21: =IF(AND($C21>0,S21=""),1,IF(S21>$C21,1,0)) -> 0
A22: Familia con adulto mayor en riesgo psicosocial | C22: =SUM(D22:G22) -> 0 | T22: =BQ22&BS22&BT22&BU22&BW22&BX22 | BQ22: =IF((J22+K22+L22)<>C22," * La suma del N° de Primera visita + Segunda visita + Tercera o más visitas de seguimiento debe coincidir con el Total.","") | BS22: =IF(AND(C22>0,N22="")," * No olvide digitar la variable Pueblos Originarios. Digite Cero si no tiene..",IF(N22>C22," * La variable Pueblos Originarios no puede ser mayor al Total.","")) | BT22: =IF(AND(C22>0,O22="")," * No olvide digitar la variable Migrantes. Digite Cero si no tiene.",IF(O22>C22," * La variable Migrantes no puede ser mayor al Total.","")) | BU22: =IF(AND($C22>0,P22="")," * No olvide digitar la variable Espacio Amigable/Adolescente. Digite Cero si no tiene.",IF(P22>$C22," * La variable Espacio Amigable/Adolescente no puede ser mayor al Total.","")) | BW22: =IF(AND($C22>0,R22="")," * No olvide digitar la variable Niños, Niñas, Adolescentes y Jóvenes SENAME. Digite Cero si no tiene.",IF(R22>$C22," * La variable Niños, Niñas, Adolescentes y Jóvenes SENAME no puede ser mayor al Total.","")) | BX22: =IF(AND($C22>0,S22="")," * No olvide digitar la variable Niños, niñas, Adolescentes y Jóvenes Mejor Niñez. Digite Cero si no tiene.",IF(S22>$C22," * La variable Niños, niñas, Adolescentes y Jóvenes Mejor Niñez no puede ser mayor al Total.","")) | BZ22: =IF((J22+K22+L22)<>C22,1,0) -> 0 | CB22: =IF(AND(C22>0,N22=""),1,IF(N22>C22,1,0)) -> 0 | CC22: =IF(AND(C22>0,O22=""),1,IF(O22>C22,1,0)) -> 0 | CD22: =IF(AND($C22>0,P22=""),1,IF(P22>$C22,1,0)) -> 0 | CF22: =IF(AND($C22>0,R22=""),1,IF(R22>$C22,1,0)) -> 0 | CG22: =IF(AND($C22>0,S22=""),1,IF(S22>$C22,1,0)) -> 0
A23: Familia con gestante adolescente 10 a 14 años | C23: =SUM(D23:G23) -> 0 | T23: =BQ23&BR23&BS23&BT23&BU23&BV23&BW23&BX23 | BQ23: =IF((J23+K23+L23)<>C23," * La suma del N° de Primera visita + Segunda visita + Tercera o más visitas de seguimiento debe coincidir con el Total.","") | BR23: =IF(AND(C23>0,M23="")," * No olvide digitar la variable Programa de Acompañamiento Psicosocial en APS. Si no tiene digite Cero.",IF(M23>C23," * La variable Programa de Acompañamiento Psicosocial en APS no puede ser mayor al Total.","")) | BS23: =IF(AND(C23>0,N23="")," * No olvide digitar la variable Pueblos Originarios. Digite Cero si no tiene..",IF(N23>C23," * La variable Pueblos Originarios no puede ser mayor al Total.","")) | BT23: =IF(AND(C23>0,O23="")," * No olvide digitar la variable Migrantes. Digite Cero si no tiene.",IF(O23>C23," * La variable Migrantes no puede ser mayor al Total.","")) | BU23: =IF(AND($C23>0,P23="")," * No olvide digitar la variable Espacio Amigable/Adolescente. Digite Cero si no tiene.",IF(P23>$C23," * La variable Espacio Amigable/Adolescente no puede ser mayor al Total.","")) | BV23: =IF(AND($C23>0,Q23="")," * No olvide digitar la variable Gestante con 3 o más riesgos. Digite Cero si no tiene.",IF(Q23>$C23," * La variable Gestante con 3 o más riesgos no puede ser mayor al Total.","")) | BW23: =IF(AND($C23>0,R23="")," * No olvide digitar la variable Niños, Niñas, Adolescentes y Jóvenes SENAME. Digite Cero si no tiene.",IF(R23>$C23," * La variable Niños, Niñas, Adolescentes y Jóvenes SENAME no puede ser mayor al Total.","")) | BX23: =IF(AND($C23>0,S23="")," * No olvide digitar la variable Niños, niñas, Adolescentes y Jóvenes Mejor Niñez. Digite Cero si no tiene.",IF(S23>$C23," * La variable Niños, niñas, Adolescentes y Jóvenes Mejor Niñez no puede ser mayor al Total.","")) | BZ23: =IF((J23+K23+L23)<>C23,1,0) -> 0 | CA23: =IF(AND(C23>0,M23=""),1,IF(M23>C23,1,0)) -> 0 | CB23: =IF(AND(C23>0,N23=""),1,IF(N23>C23,1,0)) -> 0 | CC23: =IF(AND(C23>0,O23=""),1,IF(O23>C23,1,0)) -> 0 | CD23: =IF(AND($C23>0,P23=""),1,IF(P23>$C23,1,0)) -> 0 | CE23: =IF(AND($C23>0,Q23=""),1,IF(Q23>$C23,1,0)) -> 0 | CF23: =IF(AND($C23>0,R23=""),1,IF(R23>$C23,1,0)) -> 0 | CG23: =IF(AND($C23>0,S23=""),1,IF(S23>$C23,1,0)) -> 0
A24: Familia con gestante >20 años en riesgo psicosocial | C24: =SUM(D24:G24) -> 0 | T24: =BQ24&BR24&BS24&BT24&BU24&BV24&BW24&BX24 | BQ24: =IF((J24+K24+L24)<>C24," * La suma del N° de Primera visita + Segunda visita + Tercera o más visitas de seguimiento debe coincidir con el Total.","") | BR24: =IF(AND(C24>0,M24="")," * No olvide digitar la variable Programa de Acompañamiento Psicosocial en APS. Si no tiene digite Cero.",IF(M24>C24," * La variable Programa de Acompañamiento Psicosocial en APS no puede ser mayor al Total.","")) | BS24: =IF(AND(C24>0,N24="")," * No olvide digitar la variable Pueblos Originarios. Digite Cero si no tiene..",IF(N24>C24," * La variable Pueblos Originarios no puede ser mayor al Total.","")) | BT24: =IF(AND(C24>0,O24="")," * No olvide digitar la variable Migrantes. Digite Cero si no tiene.",IF(O24>C24," * La variable Migrantes no puede ser mayor al Total.","")) | BU24: =IF(AND($C24>0,P24="")," * No olvide digitar la variable Espacio Amigable/Adolescente. Digite Cero si no tiene.",IF(P24>$C24," * La variable Espacio Amigable/Adolescente no puede ser mayor al Total.","")) | BV24: =IF(AND($C24>0,Q24="")," * No olvide digitar la variable Gestante con 3 o más riesgos. Digite Cero si no tiene.",IF(Q24>$C24," * La variable Gestante con 3 o más riesgos no puede ser mayor al Total.","")) | BW24: =IF(AND($C24>0,R24="")," * No olvide digitar la variable Niños, Niñas, Adolescentes y Jóvenes SENAME. Digite Cero si no tiene.",IF(R24>$C24," * La variable Niños, Niñas, Adolescentes y Jóvenes SENAME no puede ser mayor al Total.","")) | BX24: =IF(AND($C24>0,S24="")," * No olvide digitar la variable Niños, niñas, Adolescentes y Jóvenes Mejor Niñez. Digite Cero si no tiene.",IF(S24>$C24," * La variable Niños, niñas, Adolescentes y Jóvenes Mejor Niñez no puede ser mayor al Total.","")) | BZ24: =IF((J24+K24+L24)<>C24,1,0) -> 0 | CA24: =IF(AND(C24>0,M24=""),1,IF(M24>C24,1,0)) -> 0 | CB24: =IF(AND(C24>0,N24=""),1,IF(N24>C24,1,0)) -> 0 | CC24: =IF(AND(C24>0,O24=""),1,IF(O24>C24,1,0)) -> 0 | CD24: =IF(AND($C24>0,P24=""),1,IF(P24>$C24,1,0)) -> 0 | CE24: =IF(AND($C24>0,Q24=""),1,IF(Q24>$C24,1,0)) -> 0 | CF24: =IF(AND($C24>0,R24=""),1,IF(R24>$C24,1,0)) -> 0 | CG24: =IF(AND($C24>0,S24=""),1,IF(S24>$C24,1,0)) -> 0
A25: Familia con gestante adolescente en riesgo psicosocial 15 a 19 años | C25: =SUM(D25:G25) -> 0 | T25: =BQ25&BR25&BS25&BT25&BU25&BV25&BW25&BX25 | BQ25: =IF((J25+K25+L25)<>C25," * La suma del N° de Primera visita + Segunda visita + Tercera o más visitas de seguimiento debe coincidir con el Total.","") | BR25: =IF(AND(C25>0,M25="")," * No olvide digitar la variable Programa de Acompañamiento Psicosocial en APS. Si no tiene digite Cero.",IF(M25>C25," * La variable Programa de Acompañamiento Psicosocial en APS no puede ser mayor al Total.","")) | BS25: =IF(AND(C25>0,N25="")," * No olvide digitar la variable Pueblos Originarios. Digite Cero si no tiene..",IF(N25>C25," * La variable Pueblos Originarios no puede ser mayor al Total.","")) | BT25: =IF(AND(C25>0,O25="")," * No olvide digitar la variable Migrantes. Digite Cero si no tiene.",IF(O25>C25," * La variable Migrantes no puede ser mayor al Total.","")) | BU25: =IF(AND($C25>0,P25="")," * No olvide digitar la variable Espacio Amigable/Adolescente. Digite Cero si no tiene.",IF(P25>$C25," * La variable Espacio Amigable/Adolescente no puede ser mayor al Total.","")) | BV25: =IF(AND($C25>0,Q25="")," * No olvide digitar la variable Gestante con 3 o más riesgos. Digite Cero si no tiene.",IF(Q25>$C25," * La variable Gestante con 3 o más riesgos no puede ser mayor al Total.","")) | BW25: =IF(AND($C25>0,R25="")," * No olvide digitar la variable Niños, Niñas, Adolescentes y Jóvenes SENAME. Digite Cero si no tiene.",IF(R25>$C25," * La variable Niños, Niñas, Adolescentes y Jóvenes SENAME no puede ser mayor al Total.","")) | BX25: =IF(AND($C25>0,S25="")," * No olvide digitar la variable Niños, niñas, Adolescentes y Jóvenes Mejor Niñez. Digite Cero si no tiene.",IF(S25>$C25," * La variable Niños, niñas, Adolescentes y Jóvenes Mejor Niñez no puede ser mayor al Total.","")) | BZ25: =IF((J25+K25+L25)<>C25,1,0) -> 0 | CA25: =IF(AND(C25>0,M25=""),1,IF(M25>C25,1,0)) -> 0 | CB25: =IF(AND(C25>0,N25=""),1,IF(N25>C25,1,0)) -> 0 | CC25: =IF(AND(C25>0,O25=""),1,IF(O25>C25,1,0)) -> 0 | CD25: =IF(AND($C25>0,P25=""),1,IF(P25>$C25,1,0)) -> 0 | CE25: =IF(AND($C25>0,Q25=""),1,IF(Q25>$C25,1,0)) -> 0 | CF25: =IF(AND($C25>0,R25=""),1,IF(R25>$C25,1,0)) -> 0 | CG25: =IF(AND($C25>0,S25=""),1,IF(S25>$C25,1,0)) -> 0
A26: Familia con adolescente con problema respiratorio crónico o no controlado | C26: =SUM(D26:G26) -> 0 | T26: =BQ26&BS26&BT26&BU26&BW26&BX26 | BQ26: =IF((J26+K26+L26)<>C26," * La suma del N° de Primera visita + Segunda visita + Tercera o más visitas de seguimiento debe coincidir con el Total.","") | BS26: =IF(AND(C26>0,N26="")," * No olvide digitar la variable Pueblos Originarios. Digite Cero si no tiene..",IF(N26>C26," * La variable Pueblos Originarios no puede ser mayor al Total.","")) | BT26: =IF(AND(C26>0,O26="")," * No olvide digitar la variable Migrantes. Digite Cero si no tiene.",IF(O26>C26," * La variable Migrantes no puede ser mayor al Total.","")) | BU26: =IF(AND($C26>0,P26="")," * No olvide digitar la variable Espacio Amigable/Adolescente. Digite Cero si no tiene.",IF(P26>$C26," * La variable Espacio Amigable/Adolescente no puede ser mayor al Total.","")) | BW26: =IF(AND($C26>0,R26="")," * No olvide digitar la variable Niños, Niñas, Adolescentes y Jóvenes SENAME. Digite Cero si no tiene.",IF(R26>$C26," * La variable Niños, Niñas, Adolescentes y Jóvenes SENAME no puede ser mayor al Total.","")) | BX26: =IF(AND($C26>0,S26="")," * No olvide digitar la variable Niños, niñas, Adolescentes y Jóvenes Mejor Niñez. Digite Cero si no tiene.",IF(S26>$C26," * La variable Niños, niñas, Adolescentes y Jóvenes Mejor Niñez no puede ser mayor al Total.","")) | BZ26: =IF((J26+K26+L26)<>C26,1,0) -> 0 | CB26: =IF(AND(C26>0,N26=""),1,IF(N26>C26,1,0)) -> 0 | CC26: =IF(AND(C26>0,O26=""),1,IF(O26>C26,1,0)) -> 0 | CD26: =IF(AND($C26>0,P26=""),1,IF(P26>$C26,1,0)) -> 0 | CF26: =IF(AND($C26>0,R26=""),1,IF(R26>$C26,1,0)) -> 0 | CG26: =IF(AND($C26>0,S26=""),1,IF(S26>$C26,1,0)) -> 0
A27: Familia con adulto con problema respiratorio crónico o no controlado | C27: =SUM(D27:G27) -> 0 | T27: =BQ27&BS27&BT27&BU27&BW27&BX27 | BQ27: =IF((J27+K27+L27)<>C27," * La suma del N° de Primera visita + Segunda visita + Tercera o más visitas de seguimiento debe coincidir con el Total.","") | BS27: =IF(AND(C27>0,N27="")," * No olvide digitar la variable Pueblos Originarios. Digite Cero si no tiene..",IF(N27>C27," * La variable Pueblos Originarios no puede ser mayor al Total.","")) | BT27: =IF(AND(C27>0,O27="")," * No olvide digitar la variable Migrantes. Digite Cero si no tiene.",IF(O27>C27," * La variable Migrantes no puede ser mayor al Total.","")) | BU27: =IF(AND($C27>0,P27="")," * No olvide digitar la variable Espacio Amigable/Adolescente. Digite Cero si no tiene.",IF(P27>$C27," * La variable Espacio Amigable/Adolescente no puede ser mayor al Total.","")) | BW27: =IF(AND($C27>0,R27="")," * No olvide digitar la variable Niños, Niñas, Adolescentes y Jóvenes SENAME. Digite Cero si no tiene.",IF(R27>$C27," * La variable Niños, Niñas, Adolescentes y Jóvenes SENAME no puede ser mayor al Total.","")) | BX27: =IF(AND($C27>0,S27="")," * No olvide digitar la variable Niños, niñas, Adolescentes y Jóvenes Mejor Niñez. Digite Cero si no tiene.",IF(S27>$C27," * La variable Niños, niñas, Adolescentes y Jóvenes Mejor Niñez no puede ser mayor al Total.","")) | BZ27: =IF((J27+K27+L27)<>C27,1,0) -> 0 | CB27: =IF(AND(C27>0,N27=""),1,IF(N27>C27,1,0)) -> 0 | CC27: =IF(AND(C27>0,O27=""),1,IF(O27>C27,1,0)) -> 0 | CD27: =IF(AND($C27>0,P27=""),1,IF(P27>$C27,1,0)) -> 0 | CF27: =IF(AND($C27>0,R27=""),1,IF(R27>$C27,1,0)) -> 0 | CG27: =IF(AND($C27>0,S27=""),1,IF(S27>$C27,1,0)) -> 0
A28: Familia con gestante en riesgo biomédico | C28: =SUM(D28:G28) -> 0 | T28: =BQ28&BS28&BT28&BU28&BW28&BX28 | BQ28: =IF((J28+K28+L28)<>C28," * La suma del N° de Primera visita + Segunda visita + Tercera o más visitas de seguimiento debe coincidir con el Total.","") | BS28: =IF(AND(C28>0,N28="")," * No olvide digitar la variable Pueblos Originarios. Digite Cero si no tiene..",IF(N28>C28," * La variable Pueblos Originarios no puede ser mayor al Total.","")) | BT28: =IF(AND(C28>0,O28="")," * No olvide digitar la variable Migrantes. Digite Cero si no tiene.",IF(O28>C28," * La variable Migrantes no puede ser mayor al Total.","")) | BU28: =IF(AND($C28>0,P28="")," * No olvide digitar la variable Espacio Amigable/Adolescente. Digite Cero si no tiene.",IF(P28>$C28," * La variable Espacio Amigable/Adolescente no puede ser mayor al Total.","")) | BW28: =IF(AND($C28>0,R28="")," * No olvide digitar la variable Niños, Niñas, Adolescentes y Jóvenes SENAME. Digite Cero si no tiene.",IF(R28>$C28," * La variable Niños, Niñas, Adolescentes y Jóvenes SENAME no puede ser mayor al Total.","")) | BX28: =IF(AND($C28>0,S28="")," * No olvide digitar la variable Niños, niñas, Adolescentes y Jóvenes Mejor Niñez. Digite Cero si no tiene.",IF(S28>$C28," * La variable Niños, niñas, Adolescentes y Jóvenes Mejor Niñez no puede ser mayor al Total.","")) | BZ28: =IF((J28+K28+L28)<>C28,1,0) -> 0 | CB28: =IF(AND(C28>0,N28=""),1,IF(N28>C28,1,0)) -> 0 | CC28: =IF(AND(C28>0,O28=""),1,IF(O28>C28,1,0)) -> 0 | CD28: =IF(AND($C28>0,P28=""),1,IF(P28>$C28,1,0)) -> 0 | CF28: =IF(AND($C28>0,R28=""),1,IF(R28>$C28,1,0)) -> 0 | CG28: =IF(AND($C28>0,S28=""),1,IF(S28>$C28,1,0)) -> 0
A29: Familia con otro riesgo psicosocial | C29: =SUM(D29:G29) -> 0 | T29: =BQ29&BR29&BS29&BT29&BU29&BW29&BX29 | BQ29: =IF((J29+K29+L29)<>C29," * La suma del N° de Primera visita + Segunda visita + Tercera o más visitas de seguimiento debe coincidir con el Total.","") | BR29: =IF(AND(C29>0,M29="")," * No olvide digitar la variable Programa de Acompañamiento Psicosocial en APS. Si no tiene digite Cero.",IF(M29>C29," * La variable Programa de Acompañamiento Psicosocial en APS no puede ser mayor al Total.","")) | BS29: =IF(AND(C29>0,N29="")," * No olvide digitar la variable Pueblos Originarios. Digite Cero si no tiene..",IF(N29>C29," * La variable Pueblos Originarios no puede ser mayor al Total.","")) | BT29: =IF(AND(C29>0,O29="")," * No olvide digitar la variable Migrantes. Digite Cero si no tiene.",IF(O29>C29," * La variable Migrantes no puede ser mayor al Total.","")) | BU29: =IF(AND($C29>0,P29="")," * No olvide digitar la variable Espacio Amigable/Adolescente. Digite Cero si no tiene.",IF(P29>$C29," * La variable Espacio Amigable/Adolescente no puede ser mayor al Total.","")) | BW29: =IF(AND($C29>0,R29="")," * No olvide digitar la variable Niños, Niñas, Adolescentes y Jóvenes SENAME. Digite Cero si no tiene.",IF(R29>$C29," * La variable Niños, Niñas, Adolescentes y Jóvenes SENAME no puede ser mayor al Total.","")) | BX29: =IF(AND($C29>0,S29="")," * No olvide digitar la variable Niños, niñas, Adolescentes y Jóvenes Mejor Niñez. Digite Cero si no tiene.",IF(S29>$C29," * La variable Niños, niñas, Adolescentes y Jóvenes Mejor Niñez no puede ser mayor al Total.","")) | BZ29: =IF((J29+K29+L29)<>C29,1,0) -> 0 | CA29: =IF(AND(C29>0,M29=""),1,IF(M29>C29,1,0)) -> 0 | CB29: =IF(AND(C29>0,N29=""),1,IF(N29>C29,1,0)) -> 0 | CC29: =IF(AND(C29>0,O29=""),1,IF(O29>C29,1,0)) -> 0 | CD29: =IF(AND($C29>0,P29=""),1,IF(P29>$C29,1,0)) -> 0 | CF29: =IF(AND($C29>0,R29=""),1,IF(R29>$C29,1,0)) -> 0 | CG29: =IF(AND($C29>0,S29=""),1,IF(S29>$C29,1,0)) -> 0
A30: Familia con integrante con problema de salud mental | C30: =SUM(D30:G30) -> 0 | T30: =BQ30&BR30&BS30&BT30&BU30&BW30&BX30 | BQ30: =IF((J30+K30+L30)<>C30," * La suma del N° de Primera visita + Segunda visita + Tercera o más visitas de seguimiento debe coincidir con el Total.","") | BR30: =IF(AND(C30>0,M30="")," * No olvide digitar la variable Programa de Acompañamiento Psicosocial en APS. Si no tiene digite Cero.",IF(M30>C30," * La variable Programa de Acompañamiento Psicosocial en APS no puede ser mayor al Total.","")) | BS30: =IF(AND(C30>0,N30="")," * No olvide digitar la variable Pueblos Originarios. Digite Cero si no tiene..",IF(N30>C30," * La variable Pueblos Originarios no puede ser mayor al Total.","")) | BT30: =IF(AND(C30>0,O30="")," * No olvide digitar la variable Migrantes. Digite Cero si no tiene.",IF(O30>C30," * La variable Migrantes no puede ser mayor al Total.","")) | BU30: =IF(AND($C30>0,P30="")," * No olvide digitar la variable Espacio Amigable/Adolescente. Digite Cero si no tiene.",IF(P30>$C30," * La variable Espacio Amigable/Adolescente no puede ser mayor al Total.","")) | BW30: =IF(AND($C30>0,R30="")," * No olvide digitar la variable Niños, Niñas, Adolescentes y Jóvenes SENAME. Digite Cero si no tiene.",IF(R30>$C30," * La variable Niños, Niñas, Adolescentes y Jóvenes SENAME no puede ser mayor al Total.","")) | BX30: =IF(AND($C30>0,S30="")," * No olvide digitar la variable Niños, niñas, Adolescentes y Jóvenes Mejor Niñez. Digite Cero si no tiene.",IF(S30>$C30," * La variable Niños, niñas, Adolescentes y Jóvenes Mejor Niñez no puede ser mayor al Total.","")) | BZ30: =IF((J30+K30+L30)<>C30,1,0) -> 0 | CA30: =IF(AND(C30>0,M30=""),1,IF(M30>C30,1,0)) -> 0 | CB30: =IF(AND(C30>0,N30=""),1,IF(N30>C30,1,0)) -> 0 | CC30: =IF(AND(C30>0,O30=""),1,IF(O30>C30,1,0)) -> 0 | CD30: =IF(AND($C30>0,P30=""),1,IF(P30>$C30,1,0)) -> 0 | CF30: =IF(AND($C30>0,R30=""),1,IF(R30>$C30,1,0)) -> 0 | CG30: =IF(AND($C30>0,S30=""),1,IF(S30>$C30,1,0)) -> 0
A31: Familia con niños/as de 5 a 9 años con problemas y/o trastornos de salud mental | C31: =SUM(D31:G31) -> 0 | T31: =BQ31&BR31&BS31&BT31&BU31&BW31&BX31 | BQ31: =IF((J31+K31+L31)<>C31," * La suma del N° de Primera visita + Segunda visita + Tercera o más visitas de seguimiento debe coincidir con el Total.","") | BR31: =IF(AND(C31>0,M31="")," * No olvide digitar la variable Programa de Acompañamiento Psicosocial en APS. Si no tiene digite Cero.",IF(M31>C31," * La variable Programa de Acompañamiento Psicosocial en APS no puede ser mayor al Total.","")) | BS31: =IF(AND(C31>0,N31="")," * No olvide digitar la variable Pueblos Originarios. Digite Cero si no tiene..",IF(N31>C31," * La variable Pueblos Originarios no puede ser mayor al Total.","")) | BT31: =IF(AND(C31>0,O31="")," * No olvide digitar la variable Migrantes. Digite Cero si no tiene.",IF(O31>C31," * La variable Migrantes no puede ser mayor al Total.","")) | BU31: =IF(AND($C31>0,P31="")," * No olvide digitar la variable Espacio Amigable/Adolescente. Digite Cero si no tiene.",IF(P31>$C31," * La variable Espacio Amigable/Adolescente no puede ser mayor al Total.","")) | BW31: =IF(AND($C31>0,R31="")," * No olvide digitar la variable Niños, Niñas, Adolescentes y Jóvenes SENAME. Digite Cero si no tiene.",IF(R31>$C31," * La variable Niños, Niñas, Adolescentes y Jóvenes SENAME no puede ser mayor al Total.","")) | BX31: =IF(AND($C31>0,S31="")," * No olvide digitar la variable Niños, niñas, Adolescentes y Jóvenes Mejor Niñez. Digite Cero si no tiene.",IF(S31>$C31," * La variable Niños, niñas, Adolescentes y Jóvenes Mejor Niñez no puede ser mayor al Total.","")) | BZ31: =IF((J31+K31+L31)<>C31,1,0) -> 0 | CA31: =IF(AND(C31>0,M31=""),1,IF(M31>C31,1,0)) -> 0 | CB31: =IF(AND(C31>0,N31=""),1,IF(N31>C31,1,0)) -> 0 | CC31: =IF(AND(C31>0,O31=""),1,IF(O31>C31,1,0)) -> 0 | CD31: =IF(AND($C31>0,P31=""),1,IF(P31>$C31,1,0)) -> 0 | CF31: =IF(AND($C31>0,R31=""),1,IF(R31>$C31,1,0)) -> 0 | CG31: =IF(AND($C31>0,S31=""),1,IF(S31>$C31,1,0)) -> 0
A32: Familia con integrante alta hospitalización precoz | C32: =SUM(D32:G32) -> 0 | T32: =BQ32&BR32&BS32&BT32&BU32&BW32&BX32 | BQ32: =IF((J32+K32+L32)<>C32," * La suma del N° de Primera visita + Segunda visita + Tercera o más visitas de seguimiento debe coincidir con el Total.","") | BR32: =IF(AND(C32>0,M32="")," * No olvide digitar la variable Programa de Acompañamiento Psicosocial en APS. Si no tiene digite Cero.",IF(M32>C32," * La variable Programa de Acompañamiento Psicosocial en APS no puede ser mayor al Total.","")) | BS32: =IF(AND(C32>0,N32="")," * No olvide digitar la variable Pueblos Originarios. Digite Cero si no tiene..",IF(N32>C32," * La variable Pueblos Originarios no puede ser mayor al Total.","")) | BT32: =IF(AND(C32>0,O32="")," * No olvide digitar la variable Migrantes. Digite Cero si no tiene.",IF(O32>C32," * La variable Migrantes no puede ser mayor al Total.","")) | BU32: =IF(AND($C32>0,P32="")," * No olvide digitar la variable Espacio Amigable/Adolescente. Digite Cero si no tiene.",IF(P32>$C32," * La variable Espacio Amigable/Adolescente no puede ser mayor al Total.","")) | BW32: =IF(AND($C32>0,R32="")," * No olvide digitar la variable Niños, Niñas, Adolescentes y Jóvenes SENAME. Digite Cero si no tiene.",IF(R32>$C32," * La variable Niños, Niñas, Adolescentes y Jóvenes SENAME no puede ser mayor al Total.","")) | BX32: =IF(AND($C32>0,S32="")," * No olvide digitar la variable Niños, niñas, Adolescentes y Jóvenes Mejor Niñez. Digite Cero si no tiene.",IF(S32>$C32," * La variable Niños, niñas, Adolescentes y Jóvenes Mejor Niñez no puede ser mayor al Total.","")) | BZ32: =IF((J32+K32+L32)<>C32,1,0) -> 0 | CA32: =IF(AND(C32>0,M32=""),1,IF(M32>C32,1,0)) -> 0 | CB32: =IF(AND(C32>0,N32=""),1,IF(N32>C32,1,0)) -> 0 | CC32: =IF(AND(C32>0,O32=""),1,IF(O32>C32,1,0)) -> 0 | CD32: =IF(AND($C32>0,P32=""),1,IF(P32>$C32,1,0)) -> 0 | CF32: =IF(AND($C32>0,R32=""),1,IF(R32>$C32,1,0)) -> 0 | CG32: =IF(AND($C32>0,S32=""),1,IF(S32>$C32,1,0)) -> 0
A33: Familia con integrante con multimorbilidad cronica (excluye dependencia severa) | C33: =SUM(D33:G33) -> 0 | T33: =BQ33&BR33&BS33&BT33&BU33&BW33&BX33 | BQ33: =IF((J33+K33+L33)<>C33," * La suma del N° de Primera visita + Segunda visita + Tercera o más visitas de seguimiento debe coincidir con el Total.","") | BR33: =IF(AND(C33>0,M33="")," * No olvide digitar la variable Programa de Acompañamiento Psicosocial en APS. Si no tiene digite Cero.",IF(M33>C33," * La variable Programa de Acompañamiento Psicosocial en APS no puede ser mayor al Total.","")) | BS33: =IF(AND(C33>0,N33="")," * No olvide digitar la variable Pueblos Originarios. Digite Cero si no tiene..",IF(N33>C33," * La variable Pueblos Originarios no puede ser mayor al Total.","")) | BT33: =IF(AND(C33>0,O33="")," * No olvide digitar la variable Migrantes. Digite Cero si no tiene.",IF(O33>C33," * La variable Migrantes no puede ser mayor al Total.","")) | BU33: =IF(AND($C33>0,P33="")," * No olvide digitar la variable Espacio Amigable/Adolescente. Digite Cero si no tiene.",IF(P33>$C33," * La variable Espacio Amigable/Adolescente no puede ser mayor al Total.","")) | BW33: =IF(AND($C33>0,R33="")," * No olvide digitar la variable Niños, Niñas, Adolescentes y Jóvenes SENAME. Digite Cero si no tiene.",IF(R33>$C33," * La variable Niños, Niñas, Adolescentes y Jóvenes SENAME no puede ser mayor al Total.","")) | BX33: =IF(AND($C33>0,S33="")," * No olvide digitar la variable Niños, niñas, Adolescentes y Jóvenes Mejor Niñez. Digite Cero si no tiene.",IF(S33>$C33," * La variable Niños, niñas, Adolescentes y Jóvenes Mejor Niñez no puede ser mayor al Total.","")) | BZ33: =IF((J33+K33+L33)<>C33,1,0) -> 0 | CA33: =IF(AND(C33>0,M33=""),1,IF(M33>C33,1,0)) -> 0 | CB33: =IF(AND(C33>0,N33=""),1,IF(N33>C33,1,0)) -> 0 | CC33: =IF(AND(C33>0,O33=""),1,IF(O33>C33,1,0)) -> 0 | CD33: =IF(AND($C33>0,P33=""),1,IF(P33>$C33,1,0)) -> 0 | CF33: =IF(AND($C33>0,R33=""),1,IF(R33>$C33,1,0)) -> 0 | CG33: =IF(AND($C33>0,S33=""),1,IF(S33>$C33,1,0)) -> 0
A34: Familia con niños con necesidades especiales (NANEAS) | C34: =SUM(D34:G34) -> 0 | T34: =BQ34&BR34&BS34&BT34&BU34&BW34&BX34 | BQ34: =IF((J34+K34+L34)<>C34," * La suma del N° de Primera visita + Segunda visita + Tercera o más visitas de seguimiento debe coincidir con el Total.","") | BR34: =IF(AND(C34>0,M34="")," * No olvide digitar la variable Programa de Acompañamiento Psicosocial en APS. Si no tiene digite Cero.",IF(M34>C34," * La variable Programa de Acompañamiento Psicosocial en APS no puede ser mayor al Total.","")) | BS34: =IF(AND(C34>0,N34="")," * No olvide digitar la variable Pueblos Originarios. Digite Cero si no tiene..",IF(N34>C34," * La variable Pueblos Originarios no puede ser mayor al Total.","")) | BT34: =IF(AND(C34>0,O34="")," * No olvide digitar la variable Migrantes. Digite Cero si no tiene.",IF(O34>C34," * La variable Migrantes no puede ser mayor al Total.","")) | BU34: =IF(AND($C34>0,P34="")," * No olvide digitar la variable Espacio Amigable/Adolescente. Digite Cero si no tiene.",IF(P34>$C34," * La variable Espacio Amigable/Adolescente no puede ser mayor al Total.","")) | BW34: =IF(AND($C34>0,R34="")," * No olvide digitar la variable Niños, Niñas, Adolescentes y Jóvenes SENAME. Digite Cero si no tiene.",IF(R34>$C34," * La variable Niños, Niñas, Adolescentes y Jóvenes SENAME no puede ser mayor al Total.","")) | BX34: =IF(AND($C34>0,S34="")," * No olvide digitar la variable Niños, niñas, Adolescentes y Jóvenes Mejor Niñez. Digite Cero si no tiene.",IF(S34>$C34," * La variable Niños, niñas, Adolescentes y Jóvenes Mejor Niñez no puede ser mayor al Total.","")) | BZ34: =IF((J34+K34+L34)<>C34,1,0) -> 0 | CA34: =IF(AND(C34>0,M34=""),1,IF(M34>C34,1,0)) -> 0 | CB34: =IF(AND(C34>0,N34=""),1,IF(N34>C34,1,0)) -> 0 | CC34: =IF(AND(C34>0,O34=""),1,IF(O34>C34,1,0)) -> 0 | CD34: =IF(AND($C34>0,P34=""),1,IF(P34>$C34,1,0)) -> 0 | CF34: =IF(AND($C34>0,R34=""),1,IF(R34>$C34,1,0)) -> 0 | CG34: =IF(AND($C34>0,S34=""),1,IF(S34>$C34,1,0)) -> 0
A35: Familia con NNA trans femenino/masculino | C35: =SUM(D35:G35) -> 0 | T35: =BQ35&BR35&BS35&BT35&BU35&BW35&BX35 | BQ35: =IF((J35+K35+L35)<>C35," * La suma del N° de Primera visita + Segunda visita + Tercera o más visitas de seguimiento debe coincidir con el Total.","") | BR35: =IF(AND(C35>0,M35="")," * No olvide digitar la variable Programa de Acompañamiento Psicosocial en APS. Si no tiene digite Cero.",IF(M35>C35," * La variable Programa de Acompañamiento Psicosocial en APS no puede ser mayor al Total.","")) | BS35: =IF(AND(C35>0,N35="")," * No olvide digitar la variable Pueblos Originarios. Digite Cero si no tiene..",IF(N35>C35," * La variable Pueblos Originarios no puede ser mayor al Total.","")) | BT35: =IF(AND(C35>0,O35="")," * No olvide digitar la variable Migrantes. Digite Cero si no tiene.",IF(O35>C35," * La variable Migrantes no puede ser mayor al Total.","")) | BU35: =IF(AND($C35>0,P35="")," * No olvide digitar la variable Espacio Amigable/Adolescente. Digite Cero si no tiene.",IF(P35>$C35," * La variable Espacio Amigable/Adolescente no puede ser mayor al Total.","")) | BW35: =IF(AND($C35>0,R35="")," * No olvide digitar la variable Niños, Niñas, Adolescentes y Jóvenes SENAME. Digite Cero si no tiene.",IF(R35>$C35," * La variable Niños, Niñas, Adolescentes y Jóvenes SENAME no puede ser mayor al Total.","")) | BX35: =IF(AND($C35>0,S35="")," * No olvide digitar la variable Niños, niñas, Adolescentes y Jóvenes Mejor Niñez. Digite Cero si no tiene.",IF(S35>$C35," * La variable Niños, niñas, Adolescentes y Jóvenes Mejor Niñez no puede ser mayor al Total.","")) | BZ35: =IF((J35+K35+L35)<>C35,1,0) -> 0 | CA35: =IF(AND(C35>0,M35=""),1,IF(M35>C35,1,0)) -> 0 | CB35: =IF(AND(C35>0,N35=""),1,IF(N35>C35,1,0)) -> 0 | CC35: =IF(AND(C35>0,O35=""),1,IF(O35>C35,1,0)) -> 0 | CD35: =IF(AND($C35>0,P35=""),1,IF(P35>$C35,1,0)) -> 0 | CF35: =IF(AND($C35>0,R35=""),1,IF(R35>$C35,1,0)) -> 0 | CG35: =IF(AND($C35>0,S35=""),1,IF(S35>$C35,1,0)) -> 0
A36: SECCIÓN A.1: VISITAS DOMICILIARIAS INTEGRALES A PERSONAS CON DEPENDENCIA SEVERA Y SUS CUIDADORES
A37: CONCEPTOS | C37: Visita de Ingreso al PADDS | D37: Primera visita anual | E37: Segunda visita anual | F37: Tercera o más visitas de seguimiento anual | G37: Elaboración Plan Cuidado Integral a persona con dependencia severa | H37: Evaluación y actualización plan de cuidados a personas con dependencia severa | I37: Elaboración plan de cuidados a cuidador | J37: Evaluación y actualización plan de cuidados a cuidador | K37: Migrantes | L37: Pueblos originarios | M37: Población en ECICEP | N37: Población ELEAM o institucionalizada
A38: A personas con dependencia severa en programa, por condiciones asociadas a dependencia severa | B38: Familia con integrante con dependencia severa con diagnóstico de demencia | O38: =BQ38&BR38&BS38&BT38 | BQ38: =IF(AND(SUM($C38:$F38)>0,K38="")," * No olvide digitar la variable Migrantes. Digite Cero si no tiene.",IF(K38>SUM($C38:$F38)," * La variable Migrantes no puede ser mayor a la suma de las variables de Visitas.","")) | BR38: =IF(AND(SUM($C38:$F38)>0,L38="")," * No olvide digitar la variable Pueblos originarios. Digite Cero si no tiene.",IF(L38>SUM($C38:$F38)," * La variable Pueblos originarios no puede ser mayor a la suma de las variables de Visitas.","")) | BS38: =IF(AND(SUM($C38:$F38)>0,M38="")," * No olvide digitar la variable Población en ECICEP. Digite Cero si no tiene.",IF(M38>SUM($C38:$F38)," * La variable Población en ECICEP no puede ser mayor a la suma de las variables de Visitas.","")) | BT38: =IF(AND(SUM($C38:$F38)>0,N38="")," * No olvide digitar la variable Población ELEAM o institucionalizada. Digite Cero si no tiene.",IF(N38>SUM($C38:$F38)," * La variable Población ELEAM o institucionalizada no puede ser mayor a la suma de las variables de Visitas.","")) | BZ38: =IF(AND(SUM($C38:$F38)>0,K38=""),1,IF(K38>SUM($C38:$F38),1,0)) -> 0 | CA38: =IF(AND(SUM($C38:$F38)>0,L38=""),1,IF(L38>SUM($C38:$F38),1,0)) -> 0 | CB38: =IF(AND(SUM($C38:$F38)>0,M38=""),1,IF(M38>SUM($C38:$F38),1,0)) -> 0 | CC38: =IF(AND(SUM($C38:$F38)>0,N38=""),1,IF(N38>SUM($C38:$F38),1,0)) -> 0
B39: Familia con integrante con dependencia severa con etapa terminal (excluye estadíos avanzados de demencia) | O39: =BQ39&BR39&BS39&BT39 | BQ39: =IF(AND(SUM($C39:$F39)>0,K39="")," * No olvide digitar la variable Migrantes. Digite Cero si no tiene.",IF(K39>SUM($C39:$F39)," * La variable Migrantes no puede ser mayor a la suma de las variables de Visitas.","")) | BR39: =IF(AND(SUM($C39:$F39)>0,L39="")," * No olvide digitar la variable Pueblos originarios. Digite Cero si no tiene.",IF(L39>SUM($C39:$F39)," * La variable Pueblos originarios no puede ser mayor a la suma de las variables de Visitas.","")) | BS39: =IF(AND(SUM($C39:$F39)>0,M39="")," * No olvide digitar la variable Población en ECICEP. Digite Cero si no tiene.",IF(M39>SUM($C39:$F39)," * La variable Población en ECICEP no puede ser mayor a la suma de las variables de Visitas.","")) | BT39: =IF(AND(SUM($C39:$F39)>0,N39="")," * No olvide digitar la variable Población ELEAM o institucionalizada. Digite Cero si no tiene.",IF(N39>SUM($C39:$F39)," * La variable Población ELEAM o institucionalizada no puede ser mayor a la suma de las variables de Visitas.","")) | BZ39: =IF(AND(SUM($C39:$F39)>0,K39=""),1,IF(K39>SUM($C39:$F39),1,0)) -> 0 | CA39: =IF(AND(SUM($C39:$F39)>0,L39=""),1,IF(L39>SUM($C39:$F39),1,0)) -> 0 | CB39: =IF(AND(SUM($C39:$F39)>0,M39=""),1,IF(M39>SUM($C39:$F39),1,0)) -> 0 | CC39: =IF(AND(SUM($C39:$F39)>0,N39=""),1,IF(N39>SUM($C39:$F39),1,0)) -> 0
B40: Familia con integrante con dependencia severa sin diagnóstico de demencia y/o que no se encuentra en etapa terminal | O40: =BQ40&BR40&BS40&BT40 | BQ40: =IF(AND(SUM($C40:$F40)>0,K40="")," * No olvide digitar la variable Migrantes. Digite Cero si no tiene.",IF(K40>SUM($C40:$F40)," * La variable Migrantes no puede ser mayor a la suma de las variables de Visitas.","")) | BR40: =IF(AND(SUM($C40:$F40)>0,L40="")," * No olvide digitar la variable Pueblos originarios. Digite Cero si no tiene.",IF(L40>SUM($C40:$F40)," * La variable Pueblos originarios no puede ser mayor a la suma de las variables de Visitas.","")) | BS40: =IF(AND(SUM($C40:$F40)>0,M40="")," * No olvide digitar la variable Población en ECICEP. Digite Cero si no tiene.",IF(M40>SUM($C40:$F40)," * La variable Población en ECICEP no puede ser mayor a la suma de las variables de Visitas.","")) | BT40: =IF(AND(SUM($C40:$F40)>0,N40="")," * No olvide digitar la variable Población ELEAM o institucionalizada. Digite Cero si no tiene.",IF(N40>SUM($C40:$F40)," * La variable Población ELEAM o institucionalizada no puede ser mayor a la suma de las variables de Visitas.","")) | BZ40: =IF(AND(SUM($C40:$F40)>0,K40=""),1,IF(K40>SUM($C40:$F40),1,0)) -> 0 | CA40: =IF(AND(SUM($C40:$F40)>0,L40=""),1,IF(L40>SUM($C40:$F40),1,0)) -> 0 | CB40: =IF(AND(SUM($C40:$F40)>0,M40=""),1,IF(M40>SUM($C40:$F40),1,0)) -> 0 | CC40: =IF(AND(SUM($C40:$F40)>0,N40=""),1,IF(N40>SUM($C40:$F40),1,0)) -> 0
A41: TOTAL | C41: =SUM(C38:C40) -> 0 | D41: =SUM(D38:D40) -> 0 | E41: =SUM(E38:E40) -> 0 | F41: =SUM(F38:F40) -> 0 | G41: =SUM(G38:G40) -> 0 | H41: =SUM(H38:H40) -> 0 | I41: =SUM(I38:I40) -> 0 | J41: =SUM(J38:J40) -> 0 | ... N41: =SUM(N38:N40) -> 0
A42: A personas con dependencia severa, por rango etario | B42: 0-9 años | O42: =BQ42&BR42&BS42 | BQ42: =IF(AND(SUM($C42:$F42)>0,K42="")," * No olvide digitar la variable Migrantes. Digite Cero si no tiene.",IF(K42>SUM($C42:$F42)," * La variable Migrantes no puede ser mayor a la suma de las variables de Visitas.","")) | BR42: =IF(AND(SUM($C42:$F42)>0,L42="")," * No olvide digitar la variable Pueblos originarios. Digite Cero si no tiene.",IF(L42>SUM($C42:$F42)," * La variable Pueblos originarios no puede ser mayor a la suma de las variables de Visitas.","")) | BS42: =IF(AND(SUM($C42:$F42)>0,M42="")," * No olvide digitar la variable Población en ECICEP. Digite Cero si no tiene.",IF(M42>SUM($C42:$F42)," * La variable Población en ECICEP no puede ser mayor a la suma de las variables de Visitas.","")) | BZ42: =IF(AND(SUM($C42:$F42)>0,K42=""),1,IF(K42>SUM($C42:$F42),1,0)) -> 0 | CA42: =IF(AND(SUM($C42:$F42)>0,L42=""),1,IF(L42>SUM($C42:$F42),1,0)) -> 0 | CB42: =IF(AND(SUM($C42:$F42)>0,M42=""),1,IF(M42>SUM($C42:$F42),1,0)) -> 0
B43: 10 - 14 años | O43: =BQ43&BR43&BS43 | BQ43: =IF(AND(SUM($C43:$F43)>0,K43="")," * No olvide digitar la variable Migrantes. Digite Cero si no tiene.",IF(K43>SUM($C43:$F43)," * La variable Migrantes no puede ser mayor a la suma de las variables de Visitas.","")) | BR43: =IF(AND(SUM($C43:$F43)>0,L43="")," * No olvide digitar la variable Pueblos originarios. Digite Cero si no tiene.",IF(L43>SUM($C43:$F43)," * La variable Pueblos originarios no puede ser mayor a la suma de las variables de Visitas.","")) | BS43: =IF(AND(SUM($C43:$F43)>0,M43="")," * No olvide digitar la variable Población en ECICEP. Digite Cero si no tiene.",IF(M43>SUM($C43:$F43)," * La variable Población en ECICEP no puede ser mayor a la suma de las variables de Visitas.","")) | BZ43: =IF(AND(SUM($C43:$F43)>0,K43=""),1,IF(K43>SUM($C43:$F43),1,0)) -> 0 | CA43: =IF(AND(SUM($C43:$F43)>0,L43=""),1,IF(L43>SUM($C43:$F43),1,0)) -> 0 | CB43: =IF(AND(SUM($C43:$F43)>0,M43=""),1,IF(M43>SUM($C43:$F43),1,0)) -> 0
B44: 15 - 19 años | O44: =BQ44&BR44&BS44 | BQ44: =IF(AND(SUM($C44:$F44)>0,K44="")," * No olvide digitar la variable Migrantes. Digite Cero si no tiene.",IF(K44>SUM($C44:$F44)," * La variable Migrantes no puede ser mayor a la suma de las variables de Visitas.","")) | BR44: =IF(AND(SUM($C44:$F44)>0,L44="")," * No olvide digitar la variable Pueblos originarios. Digite Cero si no tiene.",IF(L44>SUM($C44:$F44)," * La variable Pueblos originarios no puede ser mayor a la suma de las variables de Visitas.","")) | BS44: =IF(AND(SUM($C44:$F44)>0,M44="")," * No olvide digitar la variable Población en ECICEP. Digite Cero si no tiene.",IF(M44>SUM($C44:$F44)," * La variable Población en ECICEP no puede ser mayor a la suma de las variables de Visitas.","")) | BZ44: =IF(AND(SUM($C44:$F44)>0,K44=""),1,IF(K44>SUM($C44:$F44),1,0)) -> 0 | CA44: =IF(AND(SUM($C44:$F44)>0,L44=""),1,IF(L44>SUM($C44:$F44),1,0)) -> 0 | CB44: =IF(AND(SUM($C44:$F44)>0,M44=""),1,IF(M44>SUM($C44:$F44),1,0)) -> 0
B45: 20 - 64 años | O45: =BQ45&BR45&BS45 | BQ45: =IF(AND(SUM($C45:$F45)>0,K45="")," * No olvide digitar la variable Migrantes. Digite Cero si no tiene.",IF(K45>SUM($C45:$F45)," * La variable Migrantes no puede ser mayor a la suma de las variables de Visitas.","")) | BR45: =IF(AND(SUM($C45:$F45)>0,L45="")," * No olvide digitar la variable Pueblos originarios. Digite Cero si no tiene.",IF(L45>SUM($C45:$F45)," * La variable Pueblos originarios no puede ser mayor a la suma de las variables de Visitas.","")) | BS45: =IF(AND(SUM($C45:$F45)>0,M45="")," * No olvide digitar la variable Población en ECICEP. Digite Cero si no tiene.",IF(M45>SUM($C45:$F45)," * La variable Población en ECICEP no puede ser mayor a la suma de las variables de Visitas.","")) | BZ45: =IF(AND(SUM($C45:$F45)>0,K45=""),1,IF(K45>SUM($C45:$F45),1,0)) -> 0 | CA45: =IF(AND(SUM($C45:$F45)>0,L45=""),1,IF(L45>SUM($C45:$F45),1,0)) -> 0 | CB45: =IF(AND(SUM($C45:$F45)>0,M45=""),1,IF(M45>SUM($C45:$F45),1,0)) -> 0
B46: 65 y más años | O46: =BQ46&BR46&BS46&BT46 | BQ46: =IF(AND(SUM($C46:$F46)>0,K46="")," * No olvide digitar la variable Migrantes. Digite Cero si no tiene.",IF(K46>SUM($C46:$F46)," * La variable Migrantes no puede ser mayor a la suma de las variables de Visitas.","")) | BR46: =IF(AND(SUM($C46:$F46)>0,L46="")," * No olvide digitar la variable Pueblos originarios. Digite Cero si no tiene.",IF(L46>SUM($C46:$F46)," * La variable Pueblos originarios no puede ser mayor a la suma de las variables de Visitas.","")) | BS46: =IF(AND(SUM($C46:$F46)>0,M46="")," * No olvide digitar la variable Población en ECICEP. Digite Cero si no tiene.",IF(M46>SUM($C46:$F46)," * La variable Población en ECICEP no puede ser mayor a la suma de las variables de Visitas.","")) | BT46: =IF(AND(SUM($C46:$F46)>0,N46="")," * No olvide digitar la variable Población ELEAM o institucionalizada. Digite Cero si no tiene.",IF(N46>SUM($C46:$F46)," * La variable Población ELEAM o institucionalizada no puede ser mayor a la suma de las variables de Visitas.","")) | BZ46: =IF(AND(SUM($C46:$F46)>0,K46=""),1,IF(K46>SUM($C46:$F46),1,0)) -> 0 | CA46: =IF(AND(SUM($C46:$F46)>0,L46=""),1,IF(L46>SUM($C46:$F46),1,0)) -> 0 | CB46: =IF(AND(SUM($C46:$F46)>0,M46=""),1,IF(M46>SUM($C46:$F46),1,0)) -> 0 | CC46: =IF(AND(SUM($C46:$F46)>0,N46=""),1,IF(N46>SUM($C46:$F46),1,0)) -> 0
A47: TOTAL | C47: =SUM(C42:C46) -> 0 | D47: =SUM(D42:D46) -> 0 | E47: =SUM(E42:E46) -> 0 | F47: =SUM(F42:F46) -> 0 | G47: =SUM(G42:G46) -> 0 | H47: =SUM(H42:H46) -> 0 | I47: =SUM(I42:I46) -> 0 | J47: =SUM(J42:J46) -> 0 | ... N47: =SUM(N42:N46) -> 0
A48: SECCIÓN B: OTRAS VISITAS INTEGRALES
A49: CONCEPTOS | C49: TOTAL | D49: Un Profesional | E49: Dos o Más Profesionales | F49: Un Profesional y un Técnico En Enfermería | G49: Técnico En Enfermería | H49: Facilitador/a Intercultural Pueblos Originarios | I49: Agente Comunitario | J49: Pueblos Originarios | K49: Migrantes | L49: Niños, Niñas, Adolescentes Y Jóvenes Población SENAME | M49: Niños, Niñas, Adolescentes Y Jóvenes Mejor Niñez
A50: Visita epidemiológica | C50: =SUM(D50:F50) -> 0 | N50: =BQ50&BR50&BS50&BT50&BU50 | BQ50: =IF(AND(C50>0,J50="")," * No olvide digitar la variable Pueblos Originarios. Digite Cero si no tiene.",IF(J50>C50," * La variable Pueblos Originarios No puede ser mayor al Total.","")) | BR50: =IF(AND(C50>0,K50="")," * No olvide digitar la variable Migrantes. Digite Cero si no tiene.",IF(K50>C50," * La variable Migrantes No puede ser mayor al Total.","")) | BS50: =IF(AND(C50>0,L50="")," * No olvide digitar la variable Niños, niñas, adolescentes y jóvenes SENAME. Digite Cero si no tiene.",IF(L50>C50," * La variable Niños, niñas, adolescentes y jóvenes SENAME No puede ser mayor al Total.","")) | BT50: =IF(AND(C50>0,M50="")," * No olvide digitar la variable Niños, niñas, adolescentes y jóvenes Mejor Niñez. Digite Cero si no tiene.",IF(M50>C50," * La variable Niños, niñas, adolescentes y jóvenes Mejor Niñez No puede ser mayor al Total.","")) | BZ50: =IF(AND(C50>0,J50=""),1,IF(J50>C50,1,0)) -> 0 | CA50: =IF(AND(C50>0,K50=""),1,IF(K50>C50,1,0)) -> 0 | CB50: =IF(AND(C50>0,L50=""),1,IF(L50>C50,1,0)) -> 0 | CC50: =IF(AND(C50>0,M50=""),1,IF(M50>C50,1,0)) -> 0
A51: A lugar de trabajo (*) | C51: =SUM(D51:F51) -> 0 | N51: =BQ51&BR51&BS51&BT51&BU51 | BQ51: =IF(AND(C51>0,J51="")," * No olvide digitar la variable Pueblos Originarios. Digite Cero si no tiene.",IF(J51>C51," * La variable Pueblos Originarios No puede ser mayor al Total.","")) | BR51: =IF(AND(C51>0,K51="")," * No olvide digitar la variable Migrantes. Digite Cero si no tiene.",IF(K51>C51," * La variable Migrantes No puede ser mayor al Total.","")) | BS51: =IF(AND(C51>0,L51="")," * No olvide digitar la variable Niños, niñas, adolescentes y jóvenes SENAME. Digite Cero si no tiene.",IF(L51>C51," * La variable Niños, niñas, adolescentes y jóvenes SENAME No puede ser mayor al Total.","")) | BT51: =IF(AND(C51>0,M51="")," * No olvide digitar la variable Niños, niñas, adolescentes y jóvenes Mejor Niñez. Digite Cero si no tiene.",IF(M51>C51," * La variable Niños, niñas, adolescentes y jóvenes Mejor Niñez No puede ser mayor al Total.","")) | BZ51: =IF(AND(C51>0,J51=""),1,IF(J51>C51,1,0)) -> 0 | CA51: =IF(AND(C51>0,K51=""),1,IF(K51>C51,1,0)) -> 0 | CB51: =IF(AND(C51>0,L51=""),1,IF(L51>C51,1,0)) -> 0 | CC51: =IF(AND(C51>0,M51=""),1,IF(M51>C51,1,0)) -> 0
A52: A colegio, salas cuna, jardín infantil (*) | C52: =SUM(D52:F52) -> 0 | N52: =BQ52&BR52&BS52&BT52&BU52 | BQ52: =IF(AND(C52>0,J52="")," * No olvide digitar la variable Pueblos Originarios. Digite Cero si no tiene.",IF(J52>C52," * La variable Pueblos Originarios No puede ser mayor al Total.","")) | BR52: =IF(AND(C52>0,K52="")," * No olvide digitar la variable Migrantes. Digite Cero si no tiene.",IF(K52>C52," * La variable Migrantes No puede ser mayor al Total.","")) | BS52: =IF(AND(C52>0,L52="")," * No olvide digitar la variable Niños, niñas, adolescentes y jóvenes SENAME. Digite Cero si no tiene.",IF(L52>C52," * La variable Niños, niñas, adolescentes y jóvenes SENAME No puede ser mayor al Total.","")) | BT52: =IF(AND(C52>0,M52="")," * No olvide digitar la variable Niños, niñas, adolescentes y jóvenes Mejor Niñez. Digite Cero si no tiene.",IF(M52>C52," * La variable Niños, niñas, adolescentes y jóvenes Mejor Niñez No puede ser mayor al Total.","")) | BZ52: =IF(AND(C52>0,J52=""),1,IF(J52>C52,1,0)) -> 0 | CA52: =IF(AND(C52>0,K52=""),1,IF(K52>C52,1,0)) -> 0 | CB52: =IF(AND(C52>0,L52=""),1,IF(L52>C52,1,0)) -> 0 | CC52: =IF(AND(C52>0,M52=""),1,IF(M52>C52,1,0)) -> 0
A53: A grupo comunitario | C53: =SUM(D53:F53) -> 0 | N53: =BQ53&BR53&BS53&BT53&BU53 | BQ53: =IF(AND(C53>0,J53="")," * No olvide digitar la variable Pueblos Originarios. Digite Cero si no tiene.",IF(J53>C53," * La variable Pueblos Originarios No puede ser mayor al Total.","")) | BR53: =IF(AND(C53>0,K53="")," * No olvide digitar la variable Migrantes. Digite Cero si no tiene.",IF(K53>C53," * La variable Migrantes No puede ser mayor al Total.","")) | BS53: =IF(AND(C53>0,L53="")," * No olvide digitar la variable Niños, niñas, adolescentes y jóvenes SENAME. Digite Cero si no tiene.",IF(L53>C53," * La variable Niños, niñas, adolescentes y jóvenes SENAME No puede ser mayor al Total.","")) | BT53: =IF(AND(C53>0,M53="")," * No olvide digitar la variable Niños, niñas, adolescentes y jóvenes Mejor Niñez. Digite Cero si no tiene.",IF(M53>C53," * La variable Niños, niñas, adolescentes y jóvenes Mejor Niñez No puede ser mayor al Total.","")) | BZ53: =IF(AND(C53>0,J53=""),1,IF(J53>C53,1,0)) -> 0 | CA53: =IF(AND(C53>0,K53=""),1,IF(K53>C53,1,0)) -> 0 | CB53: =IF(AND(C53>0,L53=""),1,IF(L53>C53,1,0)) -> 0 | CC53: =IF(AND(C53>0,M53=""),1,IF(M53>C53,1,0)) -> 0
A54: Visita integral de salud mental | B54: A domicilio (Nivel secundario) | C54: =SUM(D54:F54) -> 61 | D54: 61 | H54: 0 | I54: 0 | J54: 0 | K54: 0 | L54: 0 | M54: 0 | N54: =BQ54&BR54&BS54&BT54&BU54 | BQ54: =IF(AND(C54>0,J54="")," * No olvide digitar la variable Pueblos Originarios. Digite Cero si no tiene.",IF(J54>C54," * La variable Pueblos Originarios No puede ser mayor al Total.","")) | BR54: =IF(AND(C54>0,K54="")," * No olvide digitar la variable Migrantes. Digite Cero si no tiene.",IF(K54>C54," * La variable Migrantes No puede ser mayor al Total.","")) | BS54: =IF(AND(C54>0,L54="")," * No olvide digitar la variable Niños, niñas, adolescentes y jóvenes SENAME. Digite Cero si no tiene.",IF(L54>C54," * La variable Niños, niñas, adolescentes y jóvenes SENAME No puede ser mayor al Total.","")) | BT54: =IF(AND(C54>0,M54="")," * No olvide digitar la variable Niños, niñas, adolescentes y jóvenes Mejor Niñez. Digite Cero si no tiene.",IF(M54>C54," * La variable Niños, niñas, adolescentes y jóvenes Mejor Niñez No puede ser mayor al Total.","")) | BZ54: =IF(AND(C54>0,J54=""),1,IF(J54>C54,1,0)) -> 0 | CA54: =IF(AND(C54>0,K54=""),1,IF(K54>C54,1,0)) -> 0 | CB54: =IF(AND(C54>0,L54=""),1,IF(L54>C54,1,0)) -> 0 | CC54: =IF(AND(C54>0,M54=""),1,IF(M54>C54,1,0)) -> 0
B55: A lugar de trabajo | C55: =SUM(D55:F55) -> 0 | N55: =BQ55&BR55&BS55&BT55&BU55 | BQ55: =IF(AND(C55>0,J55="")," * No olvide digitar la variable Pueblos Originarios. Digite Cero si no tiene.",IF(J55>C55," * La variable Pueblos Originarios No puede ser mayor al Total.","")) | BR55: =IF(AND(C55>0,K55="")," * No olvide digitar la variable Migrantes. Digite Cero si no tiene.",IF(K55>C55," * La variable Migrantes No puede ser mayor al Total.","")) | BS55: =IF(AND(C55>0,L55="")," * No olvide digitar la variable Niños, niñas, adolescentes y jóvenes SENAME. Digite Cero si no tiene.",IF(L55>C55," * La variable Niños, niñas, adolescentes y jóvenes SENAME No puede ser mayor al Total.","")) | BT55: =IF(AND(C55>0,M55="")," * No olvide digitar la variable Niños, niñas, adolescentes y jóvenes Mejor Niñez. Digite Cero si no tiene.",IF(M55>C55," * La variable Niños, niñas, adolescentes y jóvenes Mejor Niñez No puede ser mayor al Total.","")) | BZ55: =IF(AND(C55>0,J55=""),1,IF(J55>C55,1,0)) -> 0 | CA55: =IF(AND(C55>0,K55=""),1,IF(K55>C55,1,0)) -> 0 | CB55: =IF(AND(C55>0,L55=""),1,IF(L55>C55,1,0)) -> 0 | CC55: =IF(AND(C55>0,M55=""),1,IF(M55>C55,1,0)) -> 0
B56: A establecimientos educacionales | C56: =SUM(D56:F56) -> 0 | N56: =BQ56&BR56&BS56&BT56&BU56 | BQ56: =IF(AND(C56>0,J56="")," * No olvide digitar la variable Pueblos Originarios. Digite Cero si no tiene.",IF(J56>C56," * La variable Pueblos Originarios No puede ser mayor al Total.","")) | BR56: =IF(AND(C56>0,K56="")," * No olvide digitar la variable Migrantes. Digite Cero si no tiene.",IF(K56>C56," * La variable Migrantes No puede ser mayor al Total.","")) | BS56: =IF(AND(C56>0,L56="")," * No olvide digitar la variable Niños, niñas, adolescentes y jóvenes SENAME. Digite Cero si no tiene.",IF(L56>C56," * La variable Niños, niñas, adolescentes y jóvenes SENAME No puede ser mayor al Total.","")) | BT56: =IF(AND(C56>0,M56="")," * No olvide digitar la variable Niños, niñas, adolescentes y jóvenes Mejor Niñez. Digite Cero si no tiene.",IF(M56>C56," * La variable Niños, niñas, adolescentes y jóvenes Mejor Niñez No puede ser mayor al Total.","")) | BZ56: =IF(AND(C56>0,J56=""),1,IF(J56>C56,1,0)) -> 0 | CA56: =IF(AND(C56>0,K56=""),1,IF(K56>C56,1,0)) -> 0 | CB56: =IF(AND(C56>0,L56=""),1,IF(L56>C56,1,0)) -> 0 | CC56: =IF(AND(C56>0,M56=""),1,IF(M56>C56,1,0)) -> 0
A57: En sector rural | C57: =SUM(D57:G57) -> 0 | N57: =BQ57&BR57&BS57&BT57&BU57 | BQ57: =IF(AND(C57>0,J57="")," * No olvide digitar la variable Pueblos Originarios. Digite Cero si no tiene.",IF(J57>C57," * La variable Pueblos Originarios No puede ser mayor al Total.","")) | BR57: =IF(AND(C57>0,K57="")," * No olvide digitar la variable Migrantes. Digite Cero si no tiene.",IF(K57>C57," * La variable Migrantes No puede ser mayor al Total.","")) | BS57: =IF(AND(C57>0,L57="")," * No olvide digitar la variable Niños, niñas, adolescentes y jóvenes SENAME. Digite Cero si no tiene.",IF(L57>C57," * La variable Niños, niñas, adolescentes y jóvenes SENAME No puede ser mayor al Total.","")) | BT57: =IF(AND(C57>0,M57="")," * No olvide digitar la variable Niños, niñas, adolescentes y jóvenes Mejor Niñez. Digite Cero si no tiene.",IF(M57>C57," * La variable Niños, niñas, adolescentes y jóvenes Mejor Niñez No puede ser mayor al Total.","")) | BZ57: =IF(AND(C57>0,J57=""),1,IF(J57>C57,1,0)) -> 0 | CA57: =IF(AND(C57>0,K57=""),1,IF(K57>C57,1,0)) -> 0 | CB57: =IF(AND(C57>0,L57=""),1,IF(L57>C57,1,0)) -> 0 | CC57: =IF(AND(C57>0,M57=""),1,IF(M57>C57,1,0)) -> 0
A58: Otras | C58: =SUM(D58:G58) -> 16 | D58: 16 | E58: 0 | F58: 0 | G58: 0 | H58: 0 | I58: 0 | J58: 0 | K58: 0 | L58: 0 | M58: 0 | N58: =BQ58&BR58&BS58&BT58&BU58 | BQ58: =IF(AND(C58>0,J58="")," * No olvide digitar la variable Pueblos Originarios. Digite Cero si no tiene.",IF(J58>C58," * La variable Pueblos Originarios No puede ser mayor al Total.","")) | BR58: =IF(AND(C58>0,K58="")," * No olvide digitar la variable Migrantes. Digite Cero si no tiene.",IF(K58>C58," * La variable Migrantes No puede ser mayor al Total.","")) | BS58: =IF(AND(C58>0,L58="")," * No olvide digitar la variable Niños, niñas, adolescentes y jóvenes SENAME. Digite Cero si no tiene.",IF(L58>C58," * La variable Niños, niñas, adolescentes y jóvenes SENAME No puede ser mayor al Total.","")) | BT58: =IF(AND(C58>0,M58="")," * No olvide digitar la variable Niños, niñas, adolescentes y jóvenes Mejor Niñez. Digite Cero si no tiene.",IF(M58>C58," * La variable Niños, niñas, adolescentes y jóvenes Mejor Niñez No puede ser mayor al Total.","")) | BZ58: =IF(AND(C58>0,J58=""),1,IF(J58>C58,1,0)) -> 0 | CA58: =IF(AND(C58>0,K58=""),1,IF(K58>C58,1,0)) -> 0 | CB58: =IF(AND(C58>0,L58=""),1,IF(L58>C58,1,0)) -> 0 | CC58: =IF(AND(C58>0,M58=""),1,IF(M58>C58,1,0)) -> 0
A59: TOTAL | C59: =SUM(C54:C58)+C50 -> 77 | D59: =SUM(D54:D58)+D50 -> 77 | E59: =SUM(E54:E58)+E50 -> 0 | F59: =SUM(F54:F58)+F50 -> 0 | G59: =SUM(G54:G58)+G50 -> 0 | H59: =SUM(H54:H58)+H50 -> 0 | I59: =SUM(I54:I58)+I50 -> 0 | J59: =SUM(J54:J58)+J50 -> 0 | ... M59: =SUM(M54:M58)+M50 -> 0
A60: (*) Excluye visita integral de salud mental.
A61: SECCIÓN C: VISITAS CON FINES DE TRATAMIENTOS Y/O PROCEDIMIENTOS EN DOMICILIO A PERSONAS CON DEPENDENCIA
A62: TIPO DE DEPENDENCIA | C62: PROFESIONALES QUE PARTICIPAN EN LA VISITA DE TRATAMIENTO | Q62: Pueblos Originarios | R62: Migrantes | S62: Población en ECICEP | T62: Población ELEAM o Institucionalizada | U62: Atención nutricional a personas con NED
C63: N° DE VISITAS REALIZADAS | D63: TOTAL | E63: Médico/a | F63: Odontólogo/a | G63: Químico/a Farmacéutico/a | H63: Enfermero/a | I63: Kinesiólogo/a | J63: Terapeuta Ocupacional | K63: Fonoaudiólogo/a | L63: Psicólogo/a | M63: Nutricionista | N63: Trabajador/a Social | O63: Técnico en Enfermería | P63: Otro
A64: Personas con dependencia leve | C64: 291 | D64: =SUM(E64:P64) -> 291 | E64: 291 | Q64: 0 | R64: 0 | S64: 0 | T64: 0 | U64: 0 | V64: =BQ64&BR64&BS64&BT64&BU64 | BQ64: =IF(AND($D64>0,Q64="")," * No olvide digitar la variable Pueblos originarios. Digite Cero si no tiene.",IF(Q64>$D64," * La variable Pueblos originarios No puede ser mayor al Total.","")) | BR64: =IF(AND($D64>0,R64="")," * No olvide digitar la variable Migrantes. Digite Cero si no tiene.",IF(R64>$D64," * La variable Migrantes No puede ser mayor al Total.","")) | BS64: =IF(AND($D64>0,S64="")," * No olvide digitar la variable Población en ECICEP. Digite Cero si no tiene.",IF(S64>$D64," * La variable Población en ECICEP No puede ser mayor al Total.","")) | BT64: =IF(AND($D64>0,T64="")," * No olvide digitar la variable Población ELEAM o Institucionalizada. Digite Cero si no tiene.",IF(T64>$D64," * La variable Población ELEAM o Institucionalizada No puede ser mayor al Total.","")) | BU64: =IF(AND($D64>0,U64="")," * No olvide digitar la variable Atención nutricional a personas con NED. Digite Cero si no tiene.",IF(U64>$D64," * La variable Atención nutricional a personas con NED No puede ser mayor al Total.","")) | BZ64: =IF(AND($D64>0,Q64=""),1,IF(Q64>$D64,1,0)) -> 0 | CA64: =IF(AND($D64>0,R64=""),1,IF(R64>$D64,1,0)) -> 0 | CB64: =IF(AND($D64>0,S64=""),1,IF(S64>$D64,1,0)) -> 0 | CC64: =IF(AND($D64>0,T64=""),1,IF(T64>$D64,1,0)) -> 0 | CD64: =IF(AND($D64>0,U64=""),1,IF(U64>$D64,1,0)) -> 0
A65: Personas con dependencia moderada | C65: 281 | D65: =SUM(E65:P65) -> 281 | E65: 281 | Q65: 0 | R65: 0 | S65: 0 | T65: 0 | U65: 0 | V65: =BQ65&BR65 | BQ65: =IF(AND(D65>0,Q65="")," * No olvide digitar la variable Pueblos originarios. Digite Cero si no tiene.",IF(Q65>D65," * La variable Pueblos originarios No puede ser mayor al Total.","")) | BR65: =IF(AND(D65>0,R65="")," * No olvide digitar la variable Migrantes. Digite Cero si no tiene.",IF(R65>D65," * La variable Migrantes No puede ser mayor al Total.","")) | BS65: =IF(AND($D65>0,S65="")," * No olvide digitar la variable Población en ECICEP. Digite Cero si no tiene.",IF(S65>$D65," * La variable Población en ECICEP No puede ser mayor al Total.","")) | BT65: =IF(AND($D65>0,T65="")," * No olvide digitar la variable Población ELEAM o Institucionalizada. Digite Cero si no tiene.",IF(T65>$D65," * La variable Población ELEAM o Institucionalizada No puede ser mayor al Total.","")) | BU65: =IF(AND($D65>0,U65="")," * No olvide digitar la variable Atención nutricional a personas con NED. Digite Cero si no tiene.",IF(U65>$D65," * La variable Atención nutricional a personas con NED No puede ser mayor al Total.","")) | BZ65: =IF(AND(D65>0,Q65=""),1,IF(Q65>D65,1,0)) -> 0 | CA65: =IF(AND(D65>0,R65=""),1,IF(R65>D65,1,0)) -> 0 | CB65: =IF(AND($D65>0,S65=""),1,IF(S65>$D65,1,0)) -> 0 | CC65: =IF(AND($D65>0,T65=""),1,IF(T65>$D65,1,0)) -> 0 | CD65: =IF(AND($D65>0,U65=""),1,IF(U65>$D65,1,0)) -> 0
A66: Personas con dependencia severa | B66: Oncológicos | C66: 27 | D66: =SUM(E66:P66) -> 27 | E66: 27 | Q66: 0 | R66: 0 | S66: 0 | T66: 0 | U66: 0 | V66: =BQ66&BR66 | BQ66: =IF(AND(D66>0,Q66="")," * No olvide digitar la variable Pueblos originarios. Digite Cero si no tiene.",IF(Q66>D66," * La variable Pueblos originarios No puede ser mayor al Total.","")) | BR66: =IF(AND(D66>0,R66="")," * No olvide digitar la variable Migrantes. Digite Cero si no tiene.",IF(R66>D66," * La variable Migrantes No puede ser mayor al Total.","")) | BS66: =IF(AND($D66>0,S66="")," * No olvide digitar la variable Población en ECICEP. Digite Cero si no tiene.",IF(S66>$D66," * La variable Población en ECICEP No puede ser mayor al Total.","")) | BT66: =IF(AND($D66>0,T66="")," * No olvide digitar la variable Población ELEAM o Institucionalizada. Digite Cero si no tiene.",IF(T66>$D66," * La variable Población ELEAM o Institucionalizada No puede ser mayor al Total.","")) | BU66: =IF(AND($D66>0,U66="")," * No olvide digitar la variable Atención nutricional a personas con NED. Digite Cero si no tiene.",IF(U66>$D66," * La variable Atención nutricional a personas con NED No puede ser mayor al Total.","")) | BZ66: =IF(AND(D66>0,Q66=""),1,IF(Q66>D66,1,0)) -> 0 | CA66: =IF(AND(D66>0,R66=""),1,IF(R66>D66,1,0)) -> 0 | CB66: =IF(AND($D66>0,S66=""),1,IF(S66>$D66,1,0)) -> 0 | CC66: =IF(AND($D66>0,T66=""),1,IF(T66>$D66,1,0)) -> 0 | CD66: =IF(AND($D66>0,U66=""),1,IF(U66>$D66,1,0)) -> 0
B67: No oncológicos | C67: 381 | D67: =SUM(E67:P67) -> 381 | E67: 381 | Q67: 0 | R67: 0 | S67: 0 | T67: 0 | U67: 0 | V67: =BQ67&BR67 | BQ67: =IF(AND(D67>0,Q67="")," * No olvide digitar la variable Pueblos originarios. Digite Cero si no tiene.",IF(Q67>D67," * La variable Pueblos originarios No puede ser mayor al Total.","")) | BR67: =IF(AND(D67>0,R67="")," * No olvide digitar la variable Migrantes. Digite Cero si no tiene.",IF(R67>D67," * La variable Migrantes No puede ser mayor al Total.","")) | BS67: =IF(AND($D67>0,S67="")," * No olvide digitar la variable Población en ECICEP. Digite Cero si no tiene.",IF(S67>$D67," * La variable Población en ECICEP No puede ser mayor al Total.","")) | BT67: =IF(AND($D67>0,T67="")," * No olvide digitar la variable Población ELEAM o Institucionalizada. Digite Cero si no tiene.",IF(T67>$D67," * La variable Población ELEAM o Institucionalizada No puede ser mayor al Total.","")) | BU67: =IF(AND($D67>0,U67="")," * No olvide digitar la variable Atención nutricional a personas con NED. Digite Cero si no tiene.",IF(U67>$D67," * La variable Atención nutricional a personas con NED No puede ser mayor al Total.","")) | BZ67: =IF(AND(D67>0,Q67=""),1,IF(Q67>D67,1,0)) -> 0 | CA67: =IF(AND(D67>0,R67=""),1,IF(R67>D67,1,0)) -> 0 | CB67: =IF(AND($D67>0,S67=""),1,IF(S67>$D67,1,0)) -> 0 | CC67: =IF(AND($D67>0,T67=""),1,IF(T67>$D67,1,0)) -> 0 | CD67: =IF(AND($D67>0,U67=""),1,IF(U67>$D67,1,0)) -> 0
B68: Entrega fármacos/alimentos | C68: 0 | D68: =SUM(E68:P68) -> 0 | E68: 0 | V68: =BQ68&BR68 | BQ68: =IF(AND(D68>0,Q68="")," * No olvide digitar la variable Pueblos originarios. Digite Cero si no tiene.",IF(Q68>D68," * La variable Pueblos originarios No puede ser mayor al Total.","")) | BR68: =IF(AND(D68>0,R68="")," * No olvide digitar la variable Migrantes. Digite Cero si no tiene.",IF(R68>D68," * La variable Migrantes No puede ser mayor al Total.","")) | BS68: =IF(AND($D68>0,S68="")," * No olvide digitar la variable Población en ECICEP. Digite Cero si no tiene.",IF(S68>$D68," * La variable Población en ECICEP No puede ser mayor al Total.","")) | BT68: =IF(AND($D68>0,T68="")," * No olvide digitar la variable Población ELEAM o Institucionalizada. Digite Cero si no tiene.",IF(T68>$D68," * La variable Población ELEAM o Institucionalizada No puede ser mayor al Total.","")) | BU68: =IF(AND($D68>0,U68="")," * No olvide digitar la variable Atención nutricional a personas con NED. Digite Cero si no tiene.",IF(U68>$D68," * La variable Atención nutricional a personas con NED No puede ser mayor al Total.","")) | BZ68: =IF(AND(D68>0,Q68=""),1,IF(Q68>D68,1,0)) -> 0 | CA68: =IF(AND(D68>0,R68=""),1,IF(R68>D68,1,0)) -> 0 | CB68: =IF(AND($D68>0,S68=""),1,IF(S68>$D68,1,0)) -> 0 | CC68: =IF(AND($D68>0,T68=""),1,IF(T68>$D68,1,0)) -> 0 | CD68: =IF(AND($D68>0,U68=""),1,IF(U68>$D68,1,0)) -> 0
B69: Seguimiento remoto | C69: 0 | D69: =SUM(E69:P69) -> 0 | E69: 0 | V69: =BQ69&BR69 | BQ69: =IF(AND(D69>0,Q69="")," * No olvide digitar la variable Pueblos originarios. Digite Cero si no tiene.",IF(Q69>D69," * La variable Pueblos originarios No puede ser mayor al Total.","")) | BR69: =IF(AND(D69>0,R69="")," * No olvide digitar la variable Migrantes. Digite Cero si no tiene.",IF(R69>D69," * La variable Migrantes No puede ser mayor al Total.","")) | BS69: =IF(AND($D69>0,S69="")," * No olvide digitar la variable Población en ECICEP. Digite Cero si no tiene.",IF(S69>$D69," * La variable Población en ECICEP No puede ser mayor al Total.","")) | BT69: =IF(AND($D69>0,T69="")," * No olvide digitar la variable Población ELEAM o Institucionalizada. Digite Cero si no tiene.",IF(T69>$D69," * La variable Población ELEAM o Institucionalizada No puede ser mayor al Total.","")) | BU69: =IF(AND($D69>0,U69="")," * No olvide digitar la variable Atención nutricional a personas con NED. Digite Cero si no tiene.",IF(U69>$D69," * La variable Atención nutricional a personas con NED No puede ser mayor al Total.","")) | BZ69: =IF(AND(D69>0,Q69=""),1,IF(Q69>D69,1,0)) -> 0 | CA69: =IF(AND(D69>0,R69=""),1,IF(R69>D69,1,0)) -> 0 | CB69: =IF(AND($D69>0,S69=""),1,IF(S69>$D69,1,0)) -> 0 | CC69: =IF(AND($D69>0,T69=""),1,IF(T69>$D69,1,0)) -> 0 | CD69: =IF(AND($D69>0,U69=""),1,IF(U69>$D69,1,0)) -> 0
A70: SECCIÓN D: RESCATE DE PACIENTES INASISTENTES
A71: RANGO ETARIO | C71: RESCATE EN DOMICILIO | H71: RESCATE TELEFÓNICO
C72: TOTAL | D72: Funcionario | G72: Compra de servicio (*)
D73: Técnico en enfermería | E73: Administrativo | F73: Otro | H73: Desde el establecimiento | I73: Compra de servicio (*)
A74: Menos de 1 año | C74: =SUM(D74:F74)+H74 -> 0
A75: 1 - 4 años | C75: =SUM(D75:F75)+H75 -> 0
A76: 5 - 9 años | C76: =SUM(D76:F76)+H76 -> 0
A77: 10 - 14 años | C77: =SUM(D77:F77)+H77 -> 0
A78: 15 - 19 años | C78: =SUM(D78:F78)+H78 -> 0
A79: 20 - 24 años | C79: =SUM(D79:F79)+H79 -> 0
A80: 25 - 64 años | C80: =SUM(D80:F80)+H80 -> 0
A81: 65 y más años | C81: =SUM(D81:F81)+H81 -> 0
A82: (*) No incluidas como producción del establecimiento.
A83: SECCIÓN E: OTRAS VISITAS PROGRAMA DE ACOMPAÑAMIENTO PSICOSOCIAL EN ATENCIÓN PRIMARIA
A84: GRUPOS | B84: TOTAL VISITAS | C84: RANGO ETARIO
C85: 0 - 4 años | D85: 5 - 9 años | E85: 10 - 14 años | F85: 15 - 19 años | G85: 20 - 24 años
A86: Establecimiento educacional | B86: =SUM(C86:G86) -> 0
A87: A lugar de trabajo | B87: =SUM(C87:G87) -> 0
A88: SECCIÓN F: VISITA A ESTABLECIMIENTO EDUCACIONAL PROGRAMA DE APOYO A LA SALUD MENTAL INFANTIL (PASMI) EN ATENCIÓN PRIMARIA
A89: CONCEPTO | B89: Total Visitas 5 a 9 Años | C89: N° de Niños/as Visitados 5 a 9 Años
A90: Establecimiento educacional
A91: SECCIÓN G: CONSULTAS Y CONTROLES DE ESPECIALIDAD RESUELTAS POR VISITAS DOMICILIARIAS
A92: ACTIVIDADES | B92: TOTAL | C92: CONTROLES DE ESPECIALIDAD RESUELTOS POR VISITAS DOMICILIARIAS | T92: SEXO
C93: RANGO ETARIO
C94: 0 - 4 años | D94: 5 - 9 años | E94: 10 - 14 años | F94: 15 - 19 años | G94: 20 - 24 años | H94: 25 - 29 años | I94: 30 - 34 años | J94: 35 - 39 años | K94: 40 - 44 años | L94: 45 - 49 años | M94: 50 - 54 años | N94: 55 - 59 años | O94: 60 - 64 años | P94: 65 - 69 años | Q94: 70 - 74 años | R94: 75 - 79 años | S94: 80 y más años | T94: Hombres | U94: Mujeres
A95: Pediatría (incluye totalidad de producción pediatrica de subespecialidades) | B95: =SUM(C95:S95) -> 0 | V95: =BQ95&BR95 | BQ95: =IF((T95+U95)<>B95," * El total de Consultas por Sexo debe ser igual al Total de Consultas por grupo de Edad","") | BZ95: =IF((T95+U95)<>B95,1,0) -> 0
A96: Medicina Interna | B96: =SUM(C96:S96) -> 0 | V96: =BQ96&BR96 | BQ96: =IF((T96+U96)<>B96," * El total de Consultas por Sexo debe ser igual al Total de Consultas por grupo de Edad","") | BZ96: =IF((T96+U96)<>B96,1,0) -> 0
A97: Cirugía | B97: =SUM(C97:S97) -> 0 | V97: =BQ97&BR97 | BQ97: =IF((T97+U97)<>B97," * El total de Consultas por Sexo debe ser igual al Total de Consultas por grupo de Edad","") | BZ97: =IF((T97+U97)<>B97,1,0) -> 0
A98: Enfermedad respiratoria de adulto (Broncopulmonar) | B98: =SUM(C98:S98) -> 0 | V98: =BQ98&BR98 | BQ98: =IF((T98+U98)<>B98," * El total de Consultas por Sexo debe ser igual al Total de Consultas por grupo de Edad","") | BZ98: =IF((T98+U98)<>B98,1,0) -> 0
A99: Cardiología adulto | B99: =SUM(C99:S99) -> 0 | V99: =BQ99&BR99 | BQ99: =IF((T99+U99)<>B99," * El total de Consultas por Sexo debe ser igual al Total de Consultas por grupo de Edad","") | BZ99: =IF((T99+U99)<>B99,1,0) -> 0
A100: Endocrinología adulto | B100: =SUM(C100:S100) -> 0 | V100: =BQ100&BR100 | BQ100: =IF((T100+U100)<>B100," * El total de Consultas por Sexo debe ser igual al Total de Consultas por grupo de Edad","") | BZ100: =IF((T100+U100)<>B100,1,0) -> 0
A101: Reumatología adulto | B101: =SUM(C101:S101) -> 0 | V101: =BQ101&BR101 | BQ101: =IF((T101+U101)<>B101," * El total de Consultas por Sexo debe ser igual al Total de Consultas por grupo de Edad","") | BZ101: =IF((T101+U101)<>B101,1,0) -> 0
...

Sheet FEBRERO
A1: SERVICIO DE SALUD
A2: =CONCATENATE("COMUNA: ",[3]NOMBRE!B2, " (",[3]NOMBRE!C2,[3]NOMBRE!D2,[3]NOMBRE!E2,[3]NOMBRE!F2,[3]NOMBRE!G2,")") -> COMUNA: LINARES (07401)
A3: =CONCATENATE("ESTABLECIMIENTO/ESTRATEGIA: ", [3]NOMBRE!B3, " (",[3]NOMBRE!C3,[3]NOMBRE!D3,[3]NOMBRE!E3,[3]NOMBRE!F3,[3]NOMBRE!G3,[3]NOMBRE!H3,")") -> ESTABLECIMIENTO/ESTRATEGIA: HOSPITAL PRESIDENTE CARLOS IBAÑEZ DEL CAMPO (116108)
A4: =CONCATENATE("MES: ",[3]NOMBRE!B6, " (",[3]NOMBRE!C6,[3]NOMBRE!D6,")") -> MES: FEBRERO (02)
A5: =CONCATENATE("AÑO: ",[3]NOMBRE!B7) -> AÑO: 2025
A6: REM-26. ACTIVIDADES EN DOMICILIO Y OTROS ESPACIOS
A8: SECCIÓN A: VISITAS DOMICILIARIAS INTEGRALES A FAMILIAS (ESTABLECIMIENTOS APS)
A9: CONCEPTOS | C9: TOTAL | D9: Un Profesional | E9: Dos o Más Profesionales | F9: Un Profesional y Un Técnico En Enfermería | G9: Técnico En Enfermería | H9: Facilitador/a Intercultural Pueblos Originarios | I9: Agente Comunitario | J9: Primera Visita | K9: Segunda Visita | L9: Tercera o Más Visitas De Seguimiento | M9: Programa de Acompañamiento Psicosocial en APS | N9: Pueblos Originarios | O9: Migrantes | P9: Espacios Amigables/ Adolescente | Q9: Gestante con 3 o más riesgos | R9: Niños, Niñas, Adolescentes y Jóvenes SENAME | S9: Niños, niñas, Adolescentes y Jóvenes Mejor Niñez
A10: Familia con niño prematuro | C10: =SUM(D10:G10) -> 0 | T10: =BQ10&BS10&BT10&BU10&BW10&BX10 | BQ10: =IF((J10+K10+L10)<>C10," * La suma del N° de Primera visita + Segunda visita + Tercera o más visitas de seguimiento debe ser igual al Total.","") | BS10: =IF(AND(C10>0,N10="")," * No olvide digitar la variable Pueblos Originarios. Digite Cero si no tiene..",IF(N10>C10," * La variable Pueblos Originarios no puede ser mayor al Total.","")) | BT10: =IF(AND(C10>0,O10="")," * No olvide digitar la variable Migrantes. Digite Cero si no tiene.",IF(O10>C10," * La variable Migrantes no puede ser mayor al Total.","")) | BU10: =IF(AND($C10>0,P10="")," * No olvide digitar la variable Espacio Amigable/Adolescente. Digite Cero si no tiene.",IF(P10>$C10," * La variable Espacio Amigable/Adolescente no puede ser mayor al Total.","")) | BW10: =IF(AND($C10>0,R10="")," * No olvide digitar la variable Niños, Niñas, Adolescentes y Jóvenes SENAME. Digite Cero si no tiene.",IF(R10>$C10," * La variable Niños, Niñas, Adolescentes y Jóvenes SENAME no puede ser mayor al Total.","")) | BX10: =IF(AND($C10>0,S10="")," * No olvide digitar la variable Niños, niñas, Adolescentes y Jóvenes Mejor Niñez. Digite Cero si no tiene.",IF(S10>$C10," * La variable Niños, niñas, Adolescentes y Jóvenes Mejor Niñez no puede ser mayor al Total.","")) | BZ10: =IF((J10+K10+L10)<>C10,1,0) -> 0 | CB10: =IF(AND(C10>0,N10=""),1,IF(N10>C10,1,0)) -> 0 | CC10: =IF(AND(C10>0,O10=""),1,IF(O10>C10,1,0)) -> 0 | CD10: =IF(AND($C10>0,P10=""),1,IF(P10>$C10,1,0)) -> 0 | CF10: =IF(AND($C10>0,R10=""),1,IF(R10>$C10,1,0)) -> 0 | CG10: =IF(AND($C10>0,S10=""),1,IF(S10>$C10,1,0)) -> 0
A11: Familia con niño recién nacido | C11: =SUM(D11:G11) -> 0 | T11: =BQ11&BS11&BT11&BU11&BW11&BX11 | BQ11: =IF((J11+K11+L11)<>C11," * La suma del N° de Primera visita + Segunda visita + Tercera o más visitas de seguimiento debe coincidir con el Total.","") | BS11: =IF(AND(C11>0,N11="")," * No olvide digitar la variable Pueblos Originarios. Digite Cero si no tiene..",IF(N11>C11," * La variable Pueblos Originarios no puede ser mayor al Total.","")) | BT11: =IF(AND(C11>0,O11="")," * No olvide digitar la variable Migrantes. Digite Cero si no tiene.",IF(O11>C11," * La variable Migrantes no puede ser mayor al Total.","")) | BU11: =IF(AND($C11>0,P11="")," * No olvide digitar la variable Espacio Amigable/Adolescente. Digite Cero si no tiene.",IF(P11>$C11," * La variable Espacio Amigable/Adolescente no puede ser mayor al Total.","")) | BW11: =IF(AND($C11>0,R11="")," * No olvide digitar la variable Niños, Niñas, Adolescentes y Jóvenes SENAME. Digite Cero si no tiene.",IF(R11>$C11," * La variable Niños, Niñas, Adolescentes y Jóvenes SENAME no puede ser mayor al Total.","")) | BX11: =IF(AND($C11>0,S11="")," * No olvide digitar la variable Niños, niñas, Adolescentes y Jóvenes Mejor Niñez. Digite Cero si no tiene.",IF(S11>$C11," * La variable Niños, niñas, Adolescentes y Jóvenes Mejor Niñez no puede ser mayor al Total.","")) | BZ11: =IF((J11+K11+L11)<>C11,1,0) -> 0 | CB11: =IF(AND(C11>0,N11=""),1,IF(N11>C11,1,0)) -> 0 | CC11: =IF(AND(C11>0,O11=""),1,IF(O11>C11,1,0)) -> 0 | CD11: =IF(AND($C11>0,P11=""),1,IF(P11>$C11,1,0)) -> 0 | CF11: =IF(AND($C11>0,R11=""),1,IF(R11>$C11,1,0)) -> 0 | CG11: =IF(AND($C11>0,S11=""),1,IF(S11>$C11,1,0)) -> 0
A12: Familia con niño con déficit del DSM | C12: =SUM(D12:G12) -> 0 | T12: =BQ12&BS12&BT12&BU12&BW12&BX12 | BQ12: =IF((J12+K12+L12)<>C12," * La suma del N° de Primera visita + Segunda visita + Tercera o más visitas de seguimiento debe coincidir con el Total.","") | BS12: =IF(AND(C12>0,N12="")," * No olvide digitar la variable Pueblos Originarios. Digite Cero si no tiene..",IF(N12>C12," * La variable Pueblos Originarios no puede ser mayor al Total.","")) | BT12: =IF(AND(C12>0,O12="")," * No olvide digitar la variable Migrantes. Digite Cero si no tiene.",IF(O12>C12," * La variable Migrantes no puede ser mayor al Total.","")) | BU12: =IF(AND($C12>0,P12="")," * No olvide digitar la variable Espacio Amigable/Adolescente. Digite Cero si no tiene.",IF(P12>$C12," * La variable Espacio Amigable/Adolescente no puede ser mayor al Total.","")) | BW12: =IF(AND($C12>0,R12="")," * No olvide digitar la variable Niños, Niñas, Adolescentes y Jóvenes SENAME. Digite Cero si no tiene.",IF(R12>$C12," * La variable Niños, Niñas, Adolescentes y Jóvenes SENAME no puede ser mayor al Total.","")) | BX12: =IF(AND($C12>0,S12="")," * No olvide digitar la variable Niños, niñas, Adolescentes y Jóvenes Mejor Niñez. Digite Cero si no tiene.",IF(S12>$C12," * La variable Niños, niñas, Adolescentes y Jóvenes Mejor Niñez no puede ser mayor al Total.","")) | BZ12: =IF((J12+K12+L12)<>C12,1,0) -> 0 | CB12: =IF(AND(C12>0,N12=""),1,IF(N12>C12,1,0)) -> 0 | CC12: =IF(AND(C12>0,O12=""),1,IF(O12>C12,1,0)) -> 0 | CD12: =IF(AND($C12>0,P12=""),1,IF(P12>$C12,1,0)) -> 0 | CF12: =IF(AND($C12>0,R12=""),1,IF(R12>$C12,1,0)) -> 0 | CG12: =IF(AND($C12>0,S12=""),1,IF(S12>$C12,1,0)) -> 0
A13: Familia con niño en riesgo vincular afectivo | C13: =SUM(D13:G13) -> 0 | T13: =BQ13&BS13&BT13&BU13&BW13&BX13 | BQ13: =IF((J13+K13+L13)<>C13," * La suma del N° de Primera visita + Segunda visita + Tercera o más visitas de seguimiento debe coincidir con el Total.","") | BS13: =IF(AND(C13>0,N13="")," * No olvide digitar la variable Pueblos Originarios. Digite Cero si no tiene..",IF(N13>C13," * La variable Pueblos Originarios no puede ser mayor al Total.","")) | BT13: =IF(AND(C13>0,O13="")," * No olvide digitar la variable Migrantes. Digite Cero si no tiene.",IF(O13>C13," * La variable Migrantes no puede ser mayor al Total.","")) | BU13: =IF(AND($C13>0,P13="")," * No olvide digitar la variable Espacio Amigable/Adolescente. Digite Cero si no tiene.",IF(P13>$C13," * La variable Espacio Amigable/Adolescente no puede ser mayor al Total.","")) | BW13: =IF(AND($C13>0,R13="")," * No olvide digitar la variable Niños, Niñas, Adolescentes y Jóvenes SENAME. Digite Cero si no tiene.",IF(R13>$C13," * La variable Niños, Niñas, Adolescentes y Jóvenes SENAME no puede ser mayor al Total.","")) | BX13: =IF(AND($C13>0,S13="")," * No olvide digitar la variable Niños, niñas, Adolescentes y Jóvenes Mejor Niñez. Digite Cero si no tiene.",IF(S13>$C13," * La variable Niños, niñas, Adolescentes y Jóvenes Mejor Niñez no puede ser mayor al Total.","")) | BZ13: =IF((J13+K13+L13)<>C13,1,0) -> 0 | CB13: =IF(AND(C13>0,N13=""),1,IF(N13>C13,1,0)) -> 0 | CC13: =IF(AND(C13>0,O13=""),1,IF(O13>C13,1,0)) -> 0 | CD13: =IF(AND($C13>0,P13=""),1,IF(P13>$C13,1,0)) -> 0 | CF13: =IF(AND($C13>0,R13=""),1,IF(R13>$C13,1,0)) -> 0 | CG13: =IF(AND($C13>0,S13=""),1,IF(S13>$C13,1,0)) -> 0
A14: Familia con niño de 0 a 12 meses con score de riesgo moderado de morir por neumonía | C14: =SUM(D14:G14) -> 0 | T14: =BQ14&BS14&BT14&BU14&BW14&BX14 | BQ14: =IF((J14+K14+L14)<>C14," * La suma del N° de Primera visita + Segunda visita + Tercera o más visitas de seguimiento debe coincidir con el Total.","") | BS14: =IF(AND(C14>0,N14="")," * No olvide digitar la variable Pueblos Originarios. Digite Cero si no tiene..",IF(N14>C14," * La variable Pueblos Originarios no puede ser mayor al Total.","")) | BT14: =IF(AND(C14>0,O14="")," * No olvide digitar la variable Migrantes. Digite Cero si no tiene.",IF(O14>C14," * La variable Migrantes no puede ser mayor al Total.","")) | BU14: =IF(AND($C14>0,P14="")," * No olvide digitar la variable Espacio Amigable/Adolescente. Digite Cero si no tiene.",IF(P14>$C14," * La variable Espacio Amigable/Adolescente no puede ser mayor al Total.","")) | BW14: =IF(AND($C14>0,R14="")," * No olvide digitar la variable Niños, Niñas, Adolescentes y Jóvenes SENAME. Digite Cero si no tiene.",IF(R14>$C14," * La variable Niños, Niñas, Adolescentes y Jóvenes SENAME no puede ser mayor al Total.","")) | BX14: =IF(AND($C14>0,S14="")," * No olvide digitar la variable Niños, niñas, Adolescentes y Jóvenes Mejor Niñez. Digite Cero si no tiene.",IF(S14>$C14," * La variable Niños, niñas, Adolescentes y Jóvenes Mejor Niñez no puede ser mayor al Total.","")) | BZ14: =IF((J14+K14+L14)<>C14,1,0) -> 0 | CB14: =IF(AND(C14>0,N14=""),1,IF(N14>C14,1,0)) -> 0 | CC14: =IF(AND(C14>0,O14=""),1,IF(O14>C14,1,0)) -> 0 | CD14: =IF(AND($C14>0,P14=""),1,IF(P14>$C14,1,0)) -> 0 | CF14: =IF(AND($C14>0,R14=""),1,IF(R14>$C14,1,0)) -> 0 | CG14: =IF(AND($C14>0,S14=""),1,IF(S14>$C14,1,0)) -> 0
A15: Familia con niño de 0 a 12 meses con score de riesgo grave de morir por neumonía | C15: =SUM(D15:G15) -> 0 | T15: =BQ15&BS15&BT15&BU15&BW15&BX15 | BQ15: =IF((J15+K15+L15)<>C15," * La suma del N° de Primera visita + Segunda visita + Tercera o más visitas de seguimiento debe coincidir con el Total.","") | BS15: =IF(AND(C15>0,N15="")," * No olvide digitar la variable Pueblos Originarios. Digite Cero si no tiene..",IF(N15>C15," * La variable Pueblos Originarios no puede ser mayor al Total.","")) | BT15: =IF(AND(C15>0,O15="")," * No olvide digitar la variable Migrantes. Digite Cero si no tiene.",IF(O15>C15," * La variable Migrantes no puede ser mayor al Total.","")) | BU15: =IF(AND($C15>0,P15="")," * No olvide digitar la variable Espacio Amigable/Adolescente. Digite Cero si no tiene.",IF(P15>$C15," * La variable Espacio Amigable/Adolescente no puede ser mayor al Total.","")) | BW15: =IF(AND($C15>0,R15="")," * No olvide digitar la variable Niños, Niñas, Adolescentes y Jóvenes SENAME. Digite Cero si no tiene.",IF(R15>$C15," * La variable Niños, Niñas, Adolescentes y Jóvenes SENAME no puede ser mayor al Total.","")) | BX15: =IF(AND($C15>0,S15="")," * No olvide digitar la variable Niños, niñas, Adolescentes y Jóvenes Mejor Niñez. Digite Cero si no tiene.",IF(S15>$C15," * La variable Niños, niñas, Adolescentes y Jóvenes Mejor Niñez no puede ser mayor al Total.","")) | BZ15: =IF((J15+K15+L15)<>C15,1,0) -> 0 | CB15: =IF(AND(C15>0,N15=""),1,IF(N15>C15,1,0)) -> 0 | CC15: =IF(AND(C15>0,O15=""),1,IF(O15>C15,1,0)) -> 0 | CD15: =IF(AND($C15>0,P15=""),1,IF(P15>$C15,1,0)) -> 0 | CF15: =IF(AND($C15>0,R15=""),1,IF(R15>$C15,1,0)) -> 0 | CG15: =IF(AND($C15>0,S15=""),1,IF(S15>$C15,1,0)) -> 0
A16: Familia con niño con problema respiratorio crónico o no controlado | C16: =SUM(D16:G16) -> 0 | T16: =BQ16&BS16&BT16&BU16&BW16&BX16 | BQ16: =IF((J16+K16+L16)<>C16," * La suma del N° de Primera visita + Segunda visita + Tercera o más visitas de seguimiento debe coincidir con el Total.","") | BS16: =IF(AND(C16>0,N16="")," * No olvide digitar la variable Pueblos Originarios. Digite Cero si no tiene..",IF(N16>C16," * La variable Pueblos Originarios no puede ser mayor al Total.","")) | BT16: =IF(AND(C16>0,O16="")," * No olvide digitar la variable Migrantes. Digite Cero si no tiene.",IF(O16>C16," * La variable Migrantes no puede ser mayor al Total.","")) | BU16: =IF(AND($C16>0,P16="")," * No olvide digitar la variable Espacio Amigable/Adolescente. Digite Cero si no tiene.",IF(P16>$C16," * La variable Espacio Amigable/Adolescente no puede ser mayor al Total.","")) | BW16: =IF(AND($C16>0,R16="")," * No olvide digitar la variable Niños, Niñas, Adolescentes y Jóvenes SENAME. Digite Cero si no tiene.",IF(R16>$C16," * La variable Niños, Niñas, Adolescentes y Jóvenes SENAME no puede ser mayor al Total.","")) | BX16: =IF(AND($C16>0,S16="")," * No olvide digitar la variable Niños, niñas, Adolescentes y Jóvenes Mejor Niñez. Digite Cero si no tiene.",IF(S16>$C16," * La variable Niños, niñas, Adolescentes y Jóvenes Mejor Niñez no puede ser mayor al Total.","")) | BZ16: =IF((J16+K16+L16)<>C16,1,0) -> 0 | CB16: =IF(AND(C16>0,N16=""),1,IF(N16>C16,1,0)) -> 0 | CC16: =IF(AND(C16>0,O16=""),1,IF(O16>C16,1,0)) -> 0 | CD16: =IF(AND($C16>0,P16=""),1,IF(P16>$C16,1,0)) -> 0 | CF16: =IF(AND($C16>0,R16=""),1,IF(R16>$C16,1,0)) -> 0 | CG16: =IF(AND($C16>0,S16=""),1,IF(S16>$C16,1,0)) -> 0
A17: Familia con niño malnutrido | C17: =SUM(D17:G17) -> 0 | T17: =BQ17&BS17&BT17&BU17&BW17&BX17 | BQ17: =IF((J17+K17+L17)<>C17," * La suma del N° de Primera visita + Segunda visita + Tercera o más visitas de seguimiento debe coincidir con el Total.","") | BS17: =IF(AND(C17>0,N17="")," * No olvide digitar la variable Pueblos Originarios. Digite Cero si no tiene..",IF(N17>C17," * La variable Pueblos Originarios no puede ser mayor al Total.","")) | BT17: =IF(AND(C17>0,O17="")," * No olvide digitar la variable Migrantes. Digite Cero si no tiene.",IF(O17>C17," * La variable Migrantes no puede ser mayor al Total.","")) | BU17: =IF(AND($C17>0,P17="")," * No olvide digitar la variable Espacio Amigable/Adolescente. Digite Cero si no tiene.",IF(P17>$C17," * La variable Espacio Amigable/Adolescente no puede ser mayor al Total.","")) | BW17: =IF(AND($C17>0,R17="")," * No olvide digitar la variable Niños, Niñas, Adolescentes y Jóvenes SENAME. Digite Cero si no tiene.",IF(R17>$C17," * La variable Niños, Niñas, Adolescentes y Jóvenes SENAME no puede ser mayor al Total.","")) | BX17: =IF(AND($C17>0,S17="")," * No olvide digitar la variable Niños, niñas, Adolescentes y Jóvenes Mejor Niñez. Digite Cero si no tiene.",IF(S17>$C17," * La variable Niños, niñas, Adolescentes y Jóvenes Mejor Niñez no puede ser mayor al Total.","")) | BZ17: =IF((J17+K17+L17)<>C17,1,0) -> 0 | CB17: =IF(AND(C17>0,N17=""),1,IF(N17>C17,1,0)) -> 0 | CC17: =IF(AND(C17>0,O17=""),1,IF(O17>C17,1,0)) -> 0 | CD17: =IF(AND($C17>0,P17=""),1,IF(P17>$C17,1,0)) -> 0 | CF17: =IF(AND($C17>0,R17=""),1,IF(R17>$C17,1,0)) -> 0 | CG17: =IF(AND($C17>0,S17=""),1,IF(S17>$C17,1,0)) -> 0
A18: Familia con niño con riesgo psicosocial (excluye vincular afectivo) | C18: =SUM(D18:G18) -> 0 | T18: =BQ18&BR18&BS18&BT18&BU18&BW18&BX18 | BQ18: =IF((J18+K18+L18)<>C18," * La suma del N° de Primera visita + Segunda visita + Tercera o más visitas de seguimiento debe coincidir con el Total.","") | BR18: =IF(AND(C18>0,M18="")," * No olvide digitar la variable Programa de Acompañamiento Psicosocial en APS. Si no tiene digite Cero.",IF(M18>C18," * La variable Programa de Acompañamiento Psicosocial en APS no puede ser mayor al Total.","")) | BS18: =IF(AND(C18>0,N18="")," * No olvide digitar la variable Pueblos Originarios. Digite Cero si no tiene..",IF(N18>C18," * La variable Pueblos Originarios no puede ser mayor al Total.","")) | BT18: =IF(AND(C18>0,O18="")," * No olvide digitar la variable Migrantes. Digite Cero si no tiene.",IF(O18>C18," * La variable Migrantes no puede ser mayor al Total.","")) | BU18: =IF(AND($C18>0,P18="")," * No olvide digitar la variable Espacio Amigable/Adolescente. Digite Cero si no tiene.",IF(P18>$C18," * La variable Espacio Amigable/Adolescente no puede ser mayor al Total.","")) | BW18: =IF(AND($C18>0,R18="")," * No olvide digitar la variable Niños, Niñas, Adolescentes y Jóvenes SENAME. Digite Cero si no tiene.",IF(R18>$C18," * La variable Niños, Niñas, Adolescentes y Jóvenes SENAME no puede ser mayor al Total.","")) | BX18: =IF(AND($C18>0,S18="")," * No olvide digitar la variable Niños, niñas, Adolescentes y Jóvenes Mejor Niñez. Digite Cero si no tiene.",IF(S18>$C18," * La variable Niños, niñas, Adolescentes y Jóvenes Mejor Niñez no puede ser mayor al Total.","")) | BZ18: =IF((J18+K18+L18)<>C18,1,0) -> 0 | CA18: =IF(AND(C18>0,M18=""),1,IF(M18>C18,1,0)) -> 0 | CB18: =IF(AND(C18>0,N18=""),1,IF(N18>C18,1,0)) -> 0 | CC18: =IF(AND(C18>0,O18=""),1,IF(O18>C18,1,0)) -> 0 | CD18: =IF(AND($C18>0,P18=""),1,IF(P18>$C18,1,0)) -> 0 | CF18: =IF(AND($C18>0,R18=""),1,IF(R18>$C18,1,0)) -> 0 | CG18: =IF(AND($C18>0,S18=""),1,IF(S18>$C18,1,0)) -> 0
A19: Familia con adolescente en riesgo o problema psicosocial | C19: =SUM(D19:G19) -> 0 | T19: =BQ19&BR19&BS19&BT19&BU19&BW19&BX19 | BQ19: =IF((J19+K19+L19)<>C19," * La suma del N° de Primera visita + Segunda visita + Tercera o más visitas de seguimiento debe coincidir con el Total.","") | BR19: =IF(AND(C19>0,M19="")," * No olvide digitar la variable Programa de Acompañamiento Psicosocial en APS. Si no tiene digite Cero.",IF(M19>C19," * La variable Programa de Acompañamiento Psicosocial en APS no puede ser mayor al Total.","")) | BS19: =IF(AND(C19>0,N19="")," * No olvide digitar la variable Pueblos Originarios. Digite Cero si no tiene..",IF(N19>C19," * La variable Pueblos Originarios no puede ser mayor al Total.","")) | BT19: =IF(AND(C19>0,O19="")," * No olvide digitar la variable Migrantes. Digite Cero si no tiene.",IF(O19>C19," * La variable Migrantes no puede ser mayor al Total.","")) | BU19: =IF(AND($C19>0,P19="")," * No olvide digitar la variable Espacio Amigable/Adolescente. Digite Cero si no tiene.",IF(P19>$C19," * La variable Espacio Amigable/Adolescente no puede ser mayor al Total.","")) | BW19: =IF(AND($C19>0,R19="")," * No olvide digitar la variable Niños, Niñas, Adolescentes y Jóvenes SENAME. Digite Cero si no tiene.",IF(R19>$C19," * La variable Niños, Niñas, Adolescentes y Jóvenes SENAME no puede ser mayor al Total.","")) | BX19: =IF(AND($C19>0,S19="")," * No olvide digitar la variable Niños, niñas, Adolescentes y Jóvenes Mejor Niñez. Digite Cero si no tiene.",IF(S19>$C19," * La variable Niños, niñas, Adolescentes y Jóvenes Mejor Niñez no puede ser mayor al Total.","")) | BZ19: =IF((J19+K19+L19)<>C19,1,0) -> 0 | CA19: =IF(AND(C19>0,M19=""),1,IF(M19>C19,1,0)) -> 0 | CB19: =IF(AND(C19>0,N19=""),1,IF(N19>C19,1,0)) -> 0 | CC19: =IF(AND(C19>0,O19=""),1,IF(O19>C19,1,0)) -> 0 | CD19: =IF(AND($C19>0,P19=""),1,IF(P19>$C19,1,0)) -> 0 | CF19: =IF(AND($C19>0,R19=""),1,IF(R19>$C19,1,0)) -> 0 | CG19: =IF(AND($C19>0,S19=""),1,IF(S19>$C19,1,0)) -> 0
A20: Familia con integrante con patología crónica descompensada | C20: =SUM(D20:G20) -> 0 | T20: =BQ20&BR20&BS20&BT20&BU20&BW20&BX20 | BQ20: =IF((J20+K20+L20)<>C20," * La suma del N° de Primera visita + Segunda visita + Tercera o más visitas de seguimiento debe coincidir con el Total.","") | BR20: =IF(AND(C20>0,M20="")," * No olvide digitar la variable Programa de Acompañamiento Psicosocial en APS. Si no tiene digite Cero.",IF(M20>C20," * La variable Programa de Acompañamiento Psicosocial en APS no puede ser mayor al Total.","")) | BS20: =IF(AND(C20>0,N20="")," * No olvide digitar la variable Pueblos Originarios. Digite Cero si no tiene..",IF(N20>C20," * La variable Pueblos Originarios no puede ser mayor al Total.","")) | BT20: =IF(AND(C20>0,O20="")," * No olvide digitar la variable Migrantes. Digite Cero si no tiene.",IF(O20>C20," * La variable Migrantes no puede ser mayor al Total.","")) | BU20: =IF(AND($C20>0,P20="")," * No olvide digitar la variable Espacio Amigable/Adolescente. Digite Cero si no tiene.",IF(P20>$C20," * La variable Espacio Amigable/Adolescente no puede ser mayor al Total.","")) | BW20: =IF(AND($C20>0,R20="")," * No olvide digitar la variable Niños, Niñas, Adolescentes y Jóvenes SENAME. Digite Cero si no tiene.",IF(R20>$C20," * La variable Niños, Niñas, Adolescentes y Jóvenes SENAME no puede ser mayor al Total.","")) | BX20: =IF(AND($C20>0,S20="")," * No olvide digitar la variable Niños, niñas, Adolescentes y Jóvenes Mejor Niñez. Digite Cero si no tiene.",IF(S20>$C20," * La variable Niños, niñas, Adolescentes y Jóvenes Mejor Niñez no puede ser mayor al Total.","")) | BZ20: =IF((J20+K20+L20)<>C20,1,0) -> 0 | CA20: =IF(AND(C20>0,M20=""),1,IF(M20>C20,1,0)) -> 0 | CB20: =IF(AND(C20>0,N20=""),1,IF(N20>C20,1,0)) -> 0 | CC20: =IF(AND(C20>0,O20=""),1,IF(O20>C20,1,0)) -> 0 | CD20: =IF(AND($C20>0,P20=""),1,IF(P20>$C20,1,0)) -> 0 | CF20: =IF(AND($C20>0,R20=""),1,IF(R20>$C20,1,0)) -> 0 | CG20: =IF(AND($C20>0,S20=""),1,IF(S20>$C20,1,0)) -> 0
A21: Familia con adulto mayor dependediente (excluye dependiente severo) | C21: =SUM(D21:G21) -> 0 | T21: =BQ21&BS21&BT21&BU21&BW21&BX21 | BQ21: =IF((J21+K21+L21)<>C21," * La suma del N° de Primera visita + Segunda visita + Tercera o más visitas de seguimiento debe coincidir con el Total.","") | BS21: =IF(AND(C21>0,N21="")," * No olvide digitar la variable Pueblos Originarios. Digite Cero si no tiene..",IF(N21>C21," * La variable Pueblos Originarios no puede ser mayor al Total.","")) | BT21: =IF(AND(C21>0,O21="")," * No olvide digitar la variable Migrantes. Digite Cero si no tiene.",IF(O21>C21," * La variable Migrantes no puede ser mayor al Total.","")) | BU21: =IF(AND($C21>0,P21="")," * No olvide digitar la variable Espacio Amigable/Adolescente. Digite Cero si no tiene.",IF(P21>$C21," * La variable Espacio Amigable/Adolescente no puede ser mayor al Total.","")) | BW21: =IF(AND($C21>0,R21="")," * No olvide digitar la variable Niños, Niñas, Adolescentes y Jóvenes SENAME. Digite Cero si no tiene.",IF(R21>$C21," * La variable Niños, Niñas, Adolescentes y Jóvenes SENAME no puede ser mayor al Total.","")) | BX21: =IF(AND($C21>0,S21="")," * No olvide digitar la variable Niños, niñas, Adolescentes y Jóvenes Mejor Niñez. Digite Cero si no tiene.",IF(S21>$C21," * La variable Niños, niñas, Adolescentes y Jóvenes Mejor Niñez no puede ser mayor al Total.","")) | BZ21: =IF((J21+K21+L21)<>C21,1,0) -> 0 | CB21: =IF(AND(C21>0,N21=""),1,IF(N21>C21,1,0)) -> 0 | CC21: =IF(AND(C21>0,O21=""),1,IF(O21>C21,1,0)) -> 0 | CD21: =IF(AND($C21>0,P21=""),1,IF(P21>$C21,1,0)) -> 0 | CF21: =IF(AND($C21>0,R21=""),1,IF(R21>$C21,1,0)) -> 0 | CG21: =IF(AND($C21>0,S21=""),1,IF(S21>$C21,1,0)) -> 0
