Workbook

Sheet CONSOLIDADO
A1: SERVICIO DE SALUD
A2: =CONCATENATE("COMUNA: ",[1]NOMBRE!B2, " (",[1]NOMBRE!C2,[1]NOMBRE!D2,[1]NOMBRE!E2,[1]NOMBRE!F2,[1]NOMBRE!G2,")") -> COMUNA: 0 (00000)
A3: =CONCATENATE("ESTABLECIMIENTO/ESTRATEGIA: ", [1]NOMBRE!B3, " (",[1]NOMBRE!C3,[1]NOMBRE!D3,[1]NOMBRE!E3,[1]NOMBRE!F3,[1]NOMBRE!G3,[1]NOMBRE!H3,")") -> ESTABLECIMIENTO/ESTRATEGIA: 0 (000000)
A4: =CONCATENATE("MES: ",[1]NOMBRE!B6, " (",[1]NOMBRE!C6,[1]NOMBRE!D6,")") -> MES: 0 (00)
A5: =CONCATENATE("AÑO: ",[1]NOMBRE!B7) -> AÑO: 2025
A6: REM-25. SERVICIOS DE SANGRE
A8: SECCIÓN A.1: POBLACIÓN DONANTE (CS-UMT-BS)
A9: DONANTES | B9: DESCRIPCIÓN | D9: TOTAL | G9: RANGO ETARIO Y SEXO
G10: 18-19 años | I10: 20-24 años | K10: 25-29 años | M10: 30-34 años | O10: 35-39 años | Q10: 40-44 años | S10: 45-49 años | U10: 50-54 años | W10: 55-59 años | Y10: 60-64 años | AA10: 65 y más años
D11: Ambos Sexos | E11: Hombres | F11: Mujeres | G11: Hombres | H11: Mujeres | I11: Hombres | J11: Mujeres | K11: Hombres | L11: Mujeres | M11: Hombres | N11: Mujeres | O11: Hombres | P11: Mujeres | Q11: Hombres | R11: Mujeres | S11: Hombres | T11: Mujeres | U11: Hombres | V11: Mujeres | W11: Hombres | X11: Mujeres | Y11: Hombres | Z11: Mujeres | AA11: Hombres | AB11: Mujeres
A12: Altruistas | B12: Nuevos | C12: Aceptados | D12: =SUM(E12+F12) -> 512 | E12: =SUM(G12+I12+K12+M12+O12+Q12+S12+U12+W12+Y12+AA12) -> 219 | F12: =SUM(H12+J12+L12+N12+P12+R12+T12+V12+X12+Z12+AB12) -> 293 | G12: =SUM(ENERO:DICIEMBRE!G12) -> 8 | H12: =SUM(ENERO:DICIEMBRE!H12) -> 29 | I12: =SUM(ENERO:DICIEMBRE!I12) -> 30 | J12: =SUM(ENERO:DICIEMBRE!J12) -> 39 | K12: =SUM(ENERO:DICIEMBRE!K12) -> 31 | L12: =SUM(ENERO:DICIEMBRE!L12) -> 47 | M12: =SUM(ENERO:DICIEMBRE!M12) -> 22 | N12: =SUM(ENERO:DICIEMBRE!N12) -> 39 | ... AB12: =SUM(ENERO:DICIEMBRE!AB12) -> 1
B13: Repetidos | C13: Aceptados | D13: =SUM(E13+F13) -> 867 | E13: =SUM(G13+I13+K13+M13+O13+Q13+S13+U13+W13+Y13+AA13) -> 431 | F13: =SUM(H13+J13+L13+N13+P13+R13+T13+V13+X13+Z13+AB13) -> 436 | G13: =SUM(ENERO:DICIEMBRE!G13) -> 11 | H13: =SUM(ENERO:DICIEMBRE!H13) -> 8 | I13: =SUM(ENERO:DICIEMBRE!I13) -> 33 | J13: =SUM(ENERO:DICIEMBRE!J13) -> 44 | K13: =SUM(ENERO:DICIEMBRE!K13) -> 57 | L13: =SUM(ENERO:DICIEMBRE!L13) -> 78 | M13: =SUM(ENERO:DICIEMBRE!M13) -> 48 | N13: =SUM(ENERO:DICIEMBRE!N13) -> 63 | ... AB13: =SUM(ENERO:DICIEMBRE!AB13) -> 3
A14: Reposición | C14: Aceptados | D14: =SUM(E14+F14) -> 2765 | E14: =SUM(G14+I14+K14+M14+O14+Q14+S14+U14+W14+Y14+AA14) -> 1410 | F14: =SUM(H14+J14+L14+N14+P14+R14+T14+V14+X14+Z14+AB14) -> 1355 | G14: =SUM(ENERO:DICIEMBRE!G14) -> 42 | H14: =SUM(ENERO:DICIEMBRE!H14) -> 40 | I14: =SUM(ENERO:DICIEMBRE!I14) -> 138 | J14: =SUM(ENERO:DICIEMBRE!J14) -> 137 | K14: =SUM(ENERO:DICIEMBRE!K14) -> 128 | L14: =SUM(ENERO:DICIEMBRE!L14) -> 192 | M14: =SUM(ENERO:DICIEMBRE!M14) -> 225 | N14: =SUM(ENERO:DICIEMBRE!N14) -> 197 | ... AB14: =SUM(ENERO:DICIEMBRE!AB14) -> 0
A15: TOTAL | D15: =SUM(E15+F15) -> 4144 | E15: =SUM(G15+I15+K15+M15+O15+Q15+S15+U15+W15+Y15+AA15) -> 2060 | F15: =SUM(H15+J15+L15+N15+P15+R15+T15+V15+X15+Z15+AB15) -> 2084 | G15: =SUM(G12:G14) -> 61 | H15: =SUM(H12:H14) -> 77 | I15: =SUM(I12:I14) -> 201 | J15: =SUM(J12:J14) -> 220 | K15: =SUM(K12:K14) -> 216 | L15: =SUM(L12:L14) -> 317 | M15: =SUM(M12:M14) -> 295 | N15: =SUM(N12:N14) -> 299 | ... AB15: =SUM(AB12:AB14) -> 4
A16: Total días atención otorgados | D16: =SUM(ENERO:DICIEMBRE!D16) -> 261
A17: Total colectas móviles realizadas | D17: =SUM(ENERO:DICIEMBRE!D17) -> 0
A18: SECCIÓN A.2: TIPO DE DONANTES CON CONTRAINDICACIÓN
A19: DONANTES | B19: DESCRIPCIÓN | D19: TOTAL | G19: RANGO ETARIO Y SEXO
G20: 17 años | I20: 18-19 años | K20: 20-24 años | M20: 25-29 años | O20: 30-34 años | Q20: 35-39 años | S20: 40-44 años | U20: 45-49 años | W20: 50-54 años | Y20: 55-59 años | AA20: 60-64 años | AC20: 65 y más años
D21: Ambos Sexos | E21: Hombres | F21: Mujeres | G21: Hombres | H21: Mujeres | I21: Hombres | J21: Mujeres | K21: Hombres | L21: Mujeres | M21: Hombres | N21: Mujeres | O21: Hombres | P21: Mujeres | Q21: Hombres | R21: Mujeres | S21: Hombres | T21: Mujeres | U21: Hombres | V21: Mujeres | W21: Hombres | X21: Mujeres | Y21: Hombres | Z21: Mujeres | AA21: Hombres | AB21: Mujeres | AC21: Hombres | AD21: Mujeres
A22: Altruistas | B22: Nuevos | C22: Contraindicación Transitoria | D22: =SUM(E22+F22) -> 45 | E22: =SUM(G22+I22+K22+M22+O22+Q22+S22+U22+W22+Y22+AA22+AC22) -> 15 | F22: =SUM(H22+J22+L22+N22+P22+R22+T22+V22+X22+Z22+AB22+AD22) -> 30 | G22: =SUM(ENERO:DICIEMBRE!G22) -> 0 | H22: =SUM(ENERO:DICIEMBRE!H22) -> 0 | I22: =SUM(ENERO:DICIEMBRE!I22) -> 3 | J22: =SUM(ENERO:DICIEMBRE!J22) -> 4 | K22: =SUM(ENERO:DICIEMBRE!K22) -> 5 | L22: =SUM(ENERO:DICIEMBRE!L22) -> 9 | M22: =SUM(ENERO:DICIEMBRE!M22) -> 1 | N22: =SUM(ENERO:DICIEMBRE!N22) -> 2 | ... AD22: =SUM(ENERO:DICIEMBRE!AD22) -> 0
C23: Contraindicación Permanente | D23: =SUM(E23+F23) -> 5 | E23: =SUM(G23+I23+K23+M23+O23+Q23+S23+U23+W23+Y23+AA23+AC23) -> 5 | F23: =SUM(H23+J23+L23+N23+P23+R23+T23+V23+X23+Z23+AB23+AD23) -> 0 | G23: =SUM(ENERO:DICIEMBRE!G23) -> 0 | H23: =SUM(ENERO:DICIEMBRE!H23) -> 0 | I23: =SUM(ENERO:DICIEMBRE!I23) -> 0 | J23: =SUM(ENERO:DICIEMBRE!J23) -> 0 | K23: =SUM(ENERO:DICIEMBRE!K23) -> 0 | L23: =SUM(ENERO:DICIEMBRE!L23) -> 0 | M23: =SUM(ENERO:DICIEMBRE!M23) -> 2 | N23: =SUM(ENERO:DICIEMBRE!N23) -> 0 | ... AD23: =SUM(ENERO:DICIEMBRE!AD23) -> 0
B24: Repetidos | C24: Contraindicación Transitoria | D24: =SUM(E24+F24) -> 72 | E24: =SUM(G24+I24+K24+M24+O24+Q24+S24+U24+W24+Y24+AA24+AC24) -> 20 | F24: =SUM(H24+J24+L24+N24+P24+R24+T24+V24+X24+Z24+AB24+AD24) -> 52 | G24: =SUM(ENERO:DICIEMBRE!G24) -> 0 | H24: =SUM(ENERO:DICIEMBRE!H24) -> 0 | I24: =SUM(ENERO:DICIEMBRE!I24) -> 3 | J24: =SUM(ENERO:DICIEMBRE!J24) -> 2 | K24: =SUM(ENERO:DICIEMBRE!K24) -> 1 | L24: =SUM(ENERO:DICIEMBRE!L24) -> 9 | M24: =SUM(ENERO:DICIEMBRE!M24) -> 3 | N24: =SUM(ENERO:DICIEMBRE!N24) -> 5 | ... AD24: =SUM(ENERO:DICIEMBRE!AD24) -> 1
C25: Contraindicación Permanente | D25: =SUM(E25+F25) -> 3 | E25: =SUM(G25+I25+K25+M25+O25+Q25+S25+U25+W25+Y25+AA25+AC25) -> 3 | F25: =SUM(H25+J25+L25+N25+P25+R25+T25+V25+X25+Z25+AB25+AD25) -> 0 | G25: =SUM(ENERO:DICIEMBRE!G25) -> 0 | H25: =SUM(ENERO:DICIEMBRE!H25) -> 0 | I25: =SUM(ENERO:DICIEMBRE!I25) -> 0 | J25: =SUM(ENERO:DICIEMBRE!J25) -> 0 | K25: =SUM(ENERO:DICIEMBRE!K25) -> 0 | L25: =SUM(ENERO:DICIEMBRE!L25) -> 0 | M25: =SUM(ENERO:DICIEMBRE!M25) -> 0 | N25: =SUM(ENERO:DICIEMBRE!N25) -> 0 | ... AD25: =SUM(ENERO:DICIEMBRE!AD25) -> 0
A26: Reposición | C26: Contraindicación Transitoria | D26: =SUM(E26+F26) -> 510 | E26: =SUM(G26+I26+K26+M26+O26+Q26+S26+U26+W26+Y26+AA26+AC26) -> 186 | F26: =SUM(H26+J26+L26+N26+P26+R26+T26+V26+X26+Z26+AB26+AD26) -> 324 | G26: =SUM(ENERO:DICIEMBRE!G26) -> 0 | H26: =SUM(ENERO:DICIEMBRE!H26) -> 1 | I26: =SUM(ENERO:DICIEMBRE!I26) -> 10 | J26: =SUM(ENERO:DICIEMBRE!J26) -> 13 | K26: =SUM(ENERO:DICIEMBRE!K26) -> 18 | L26: =SUM(ENERO:DICIEMBRE!L26) -> 43 | M26: =SUM(ENERO:DICIEMBRE!M26) -> 26 | N26: =SUM(ENERO:DICIEMBRE!N26) -> 44 | ... AD26: =SUM(ENERO:DICIEMBRE!AD26) -> 2
C27: Contraindicación Permanente | D27: =SUM(E27+F27) -> 23 | E27: =SUM(G27+I27+K27+M27+O27+Q27+S27+U27+W27+Y27+AA27+AC27) -> 10 | F27: =SUM(H27+J27+L27+N27+P27+R27+T27+V27+X27+Z27+AB27+AD27) -> 13 | G27: =SUM(ENERO:DICIEMBRE!G27) -> 0 | H27: =SUM(ENERO:DICIEMBRE!H27) -> 0 | I27: =SUM(ENERO:DICIEMBRE!I27) -> 0 | J27: =SUM(ENERO:DICIEMBRE!J27) -> 0 | K27: =SUM(ENERO:DICIEMBRE!K27) -> 0 | L27: =SUM(ENERO:DICIEMBRE!L27) -> 0 | M27: =SUM(ENERO:DICIEMBRE!M27) -> 0 | N27: =SUM(ENERO:DICIEMBRE!N27) -> 3 | ... AD27: =SUM(ENERO:DICIEMBRE!AD27) -> 2
A28: TOTAL | D28: =SUM(D22:D27) -> 658 | E28: =SUM(E22:E27) -> 239 | F28: =SUM(F22:F27) -> 419 | G28: =SUM(G22:G27) -> 0 | H28: =SUM(H22:H27) -> 1 | I28: =SUM(I22:I27) -> 16 | J28: =SUM(J22:J27) -> 19 | K28: =SUM(K22:K27) -> 24 | ... AD28: =SUM(AD22:AD27) -> 5
A29: SECCIÓN A.3: REACCIONES ADVERSAS A LA DONACIÓN (CS - UMT - BS)
A30: CLASIFICACIÓN | B30: TIPO | C30: SUBTIPO | E30: TOTAL | F30: Altruista | G30: Reposición
A31: Complicaciones con síntomas locales | B31: Sangre fuera de los vasos sanguíneos | C31: Hematoma | E31: =SUM(F31:G31) -> 7 | F31: =SUM(ENERO:DICIEMBRE!F31) -> 2 | G31: =SUM(ENERO:DICIEMBRE!G31) -> 5
C32: Punción arterial | E32: =SUM(F32:G32) -> 0 | F32: =SUM(ENERO:DICIEMBRE!F32) -> 0 | G32: =SUM(ENERO:DICIEMBRE!G32) -> 0
C33: Sangramiento posterior | E33: =SUM(F33:G33) -> 0 | F33: =SUM(ENERO:DICIEMBRE!F33) -> 0 | G33: =SUM(ENERO:DICIEMBRE!G33) -> 0
B34: Dolor | C34: Irritación o injuria en un nervio | E34: =SUM(F34:G34) -> 1 | F34: =SUM(ENERO:DICIEMBRE!F34) -> 0 | G34: =SUM(ENERO:DICIEMBRE!G34) -> 1
C35: Brazo doloroso | E35: =SUM(F35:G35) -> 2 | F35: =SUM(ENERO:DICIEMBRE!F35) -> 1 | G35: =SUM(ENERO:DICIEMBRE!G35) -> 1
B36: Inflamación o infección localizada | C36: Tromboflebitis | E36: =SUM(F36:G36) -> 0 | F36: =SUM(ENERO:DICIEMBRE!F36) -> 0 | G36: =SUM(ENERO:DICIEMBRE!G36) -> 0
C37: Celulitis | E37: =SUM(F37:G37) -> 0 | F37: =SUM(ENERO:DICIEMBRE!F37) -> 0 | G37: =SUM(ENERO:DICIEMBRE!G37) -> 0
B38: Otras injurias mayores en los vasos sanguíneos | C38: Trombosis venosa profunda | E38: =SUM(F38:G38) -> 0 | F38: =SUM(ENERO:DICIEMBRE!F38) -> 0 | G38: =SUM(ENERO:DICIEMBRE!G38) -> 0
C39: Fístula arteriovenosa | E39: =SUM(F39:G39) -> 0 | F39: =SUM(ENERO:DICIEMBRE!F39) -> 0 | G39: =SUM(ENERO:DICIEMBRE!G39) -> 0
C40: Síndrome compartimental | E40: =SUM(F40:G40) -> 0 | F40: =SUM(ENERO:DICIEMBRE!F40) -> 0 | G40: =SUM(ENERO:DICIEMBRE!G40) -> 0
C41: Pseudoaneurisma de la arteria braquial | E41: =SUM(F41:G41) -> 0 | F41: =SUM(ENERO:DICIEMBRE!F41) -> 0 | G41: =SUM(ENERO:DICIEMBRE!G41) -> 0
A42: Complicaciones con síntomas generalizados | B42: Reacción vasovagal (RVV) | C42: Sin pérdida de conciencia | E42: =SUM(F42:G42) -> 60 | F42: =SUM(ENERO:DICIEMBRE!F42) -> 14 | G42: =SUM(ENERO:DICIEMBRE!G42) -> 46
C43: Con pérdida de conciencia | D43: <60 segundos, sin complicaciones | E43: =SUM(F43:G43) -> 6 | F43: =SUM(ENERO:DICIEMBRE!F43) -> 3 | G43: =SUM(ENERO:DICIEMBRE!G43) -> 3
D44: ≥ 60 segundos y/ o convulsiones o incontinencia | E44: =SUM(F44:G44) -> 1 | F44: =SUM(ENERO:DICIEMBRE!F44) -> 1 | G44: =SUM(ENERO:DICIEMBRE!G44) -> 0
C45: Con lesión | E45: =SUM(F45:G45) -> 6 | F45: =SUM(ENERO:DICIEMBRE!F45) -> 2 | G45: =SUM(ENERO:DICIEMBRE!G45) -> 4
C46: Sin lesión | E46: =SUM(F46:G46) -> 58 | F46: =SUM(ENERO:DICIEMBRE!F46) -> 14 | G46: =SUM(ENERO:DICIEMBRE!G46) -> 44
C47: En el sitio de recolección | E47: =SUM(F47:G47) -> 52 | F47: =SUM(ENERO:DICIEMBRE!F47) -> 15 | G47: =SUM(ENERO:DICIEMBRE!G47) -> 37
C48: Fuera del sitio de recolección | E48: =SUM(F48:G48) -> 7 | F48: =SUM(ENERO:DICIEMBRE!F48) -> 2 | G48: =SUM(ENERO:DICIEMBRE!G48) -> 5
A49: Complicaciones relacionadas a la aféresis | B49: Reacción al citrato | E49: =SUM(F49:G49) -> 0 | F49: =SUM(ENERO:DICIEMBRE!F49) -> 0 | G49: =SUM(ENERO:DICIEMBRE!G49) -> 0
B50: Hemólisis | E50: =SUM(F50:G50) -> 0 | F50: =SUM(ENERO:DICIEMBRE!F50) -> 0 | G50: =SUM(ENERO:DICIEMBRE!G50) -> 0
B51: Embolismo aéreo | E51: =SUM(F51:G51) -> 0 | F51: =SUM(ENERO:DICIEMBRE!F51) -> 0 | G51: =SUM(ENERO:DICIEMBRE!G51) -> 0
B52: Infiltración | E52: =SUM(F52:G52) -> 0 | F52: =SUM(ENERO:DICIEMBRE!F52) -> 0 | G52: =SUM(ENERO:DICIEMBRE!G52) -> 0
A53: Reacción alérgica | B53: Alergia local | E53: =SUM(F53:G53) -> 0 | F53: =SUM(ENERO:DICIEMBRE!F53) -> 0 | G53: =SUM(ENERO:DICIEMBRE!G53) -> 0
B54: Reacción alérgica generalizada (anafilaxia) | E54: =SUM(F54:G54) -> 0 | F54: =SUM(ENERO:DICIEMBRE!F54) -> 0 | G54: =SUM(ENERO:DICIEMBRE!G54) -> 0
A55: Otras complicaciones serias a la donación de sangre | B55: Síntomas agudos cardíacos | E55: =SUM(F55:G55) -> 0 | F55: =SUM(ENERO:DICIEMBRE!F55) -> 0 | G55: =SUM(ENERO:DICIEMBRE!G55) -> 0
B56: Infarto al miorcardio | E56: =SUM(F56:G56) -> 0 | F56: =SUM(ENERO:DICIEMBRE!F56) -> 0 | G56: =SUM(ENERO:DICIEMBRE!G56) -> 0
B57: Paro cardiaco | E57: =SUM(F57:G57) -> 0 | F57: =SUM(ENERO:DICIEMBRE!F57) -> 0 | G57: =SUM(ENERO:DICIEMBRE!G57) -> 0
B58: Ataque isquémico transitorio | E58: =SUM(F58:G58) -> 0 | F58: =SUM(ENERO:DICIEMBRE!F58) -> 0 | G58: =SUM(ENERO:DICIEMBRE!G58) -> 0
B59: Accidente cerebrovascular | E59: =SUM(F59:G59) -> 0 | F59: =SUM(ENERO:DICIEMBRE!F59) -> 0 | G59: =SUM(ENERO:DICIEMBRE!G59) -> 0
B60: Muerte | E60: =SUM(F60:G60) -> 0 | F60: =SUM(ENERO:DICIEMBRE!F60) -> 0 | G60: =SUM(ENERO:DICIEMBRE!G60) -> 0
A61: Otras complicaciones | B61: Otras no mencionadas | E61: =SUM(F61:G61) -> 0 | F61: =SUM(ENERO:DICIEMBRE!F61) -> 0 | G61: =SUM(ENERO:DICIEMBRE!G61) -> 0
A62: SECCIÓN B: INGRESO UNIDADES DE SANGRE A PRODUCCIÓN (CS-BS)
A63: UNIDADES DE SANGRE | B63: TOTAL
A64: Aptas | B64: =SUM(ENERO:DICIEMBRE!B64) -> 0
A65: No aptas | B65: =SUM(ENERO:DICIEMBRE!B65) -> 0
A66: TOTAL | B66: =SUM(B64+B65) -> 0
A67: SECCIÓN C: PRODUCCIÓN DE COMPONENTES SANGUÍNEOS (CS-BS)
A68: PRODUCCIÓN | B68: DESCRIPCIÓN | C68: TOTAL
A69: Glóbulos rojos | B69: Desplamatizados | C69: =SUM(ENERO:DICIEMBRE!C69) -> 0
B70: Leucoreducidos | C70: =SUM(ENERO:DICIEMBRE!C70) -> 0
B71: Bolsa con filtro | C71: =SUM(ENERO:DICIEMBRE!C71) -> 0
B72: Aféresis | C72: =SUM(ENERO:DICIEMBRE!C72) -> 0
A73: Plaquetas | B73: Estándar | C73: =SUM(ENERO:DICIEMBRE!C73) -> 0
B74: Leucorreducida pool | C74: =SUM(ENERO:DICIEMBRE!C74) -> 0
B75: Leucodepletada pool | C75: =SUM(ENERO:DICIEMBRE!C75) -> 0
B76: Aféresis | C76: =SUM(ENERO:DICIEMBRE!C76) -> 0
B77: Bolsa con filtro | C77: =SUM(ENERO:DICIEMBRE!C77) -> 0
A78: Plasmas | B78: Plasma fresco congelado terapéutico | C78: =SUM(ENERO:DICIEMBRE!C78) -> 0
B79: Plasma uso no terapéutico | C79: =SUM(ENERO:DICIEMBRE!C79) -> 0
B80: Aféresis | C80: =SUM(ENERO:DICIEMBRE!C80) -> 0
A81: Crioprecipitados | C81: =SUM(ENERO:DICIEMBRE!C81) -> 0
A82: SECCIÓN C.1: COMPONENTES SANGUÍNEOS ELIMINADOS (CS-BS )
A83: CAUSA | C83: Globulos Rojos* | D83: Plasmas* | E83: Plaquetas | H83: Crioprecipitados
E84: Estándar | F84: Pool* | G84: Aféresis
A85: Calificación microbiológica reactiva | C85: =SUM(ENERO:DICIEMBRE!C85) -> 0 | D85: =SUM(ENERO:DICIEMBRE!D85) -> 0 | E85: =SUM(ENERO:DICIEMBRE!E85) -> 0 | F85: =SUM(ENERO:DICIEMBRE!F85) -> 0 | G85: =SUM(ENERO:DICIEMBRE!G85) -> 0 | H85: =SUM(ENERO:DICIEMBRE!H85) -> 0
A86: Obsolescencia | C86: =SUM(ENERO:DICIEMBRE!C86) -> 0 | D86: =SUM(ENERO:DICIEMBRE!D86) -> 0 | E86: =SUM(ENERO:DICIEMBRE!E86) -> 0 | F86: =SUM(ENERO:DICIEMBRE!F86) -> 0 | G86: =SUM(ENERO:DICIEMBRE!G86) -> 0 | H86: =SUM(ENERO:DICIEMBRE!H86) -> 0
A87: Falla por cadena de frío en almacenamiento | C87: =SUM(ENERO:DICIEMBRE!C87) -> 0 | D87: =SUM(ENERO:DICIEMBRE!D87) -> 0 | E87: =SUM(ENERO:DICIEMBRE!E87) -> 0 | F87: =SUM(ENERO:DICIEMBRE!F87) -> 0 | G87: =SUM(ENERO:DICIEMBRE!G87) -> 0 | H87: =SUM(ENERO:DICIEMBRE!H87) -> 0
A88: Falla por cadena de frío en transporte | C88: =SUM(ENERO:DICIEMBRE!C88) -> 0 | D88: =SUM(ENERO:DICIEMBRE!D88) -> 0 | E88: =SUM(ENERO:DICIEMBRE!E88) -> 0 | F88: =SUM(ENERO:DICIEMBRE!F88) -> 0 | G88: =SUM(ENERO:DICIEMBRE!G88) -> 0 | H88: =SUM(ENERO:DICIEMBRE!H88) -> 0
A89: Otros | C89: =SUM(ENERO:DICIEMBRE!C89) -> 0 | D89: =SUM(ENERO:DICIEMBRE!D89) -> 0 | E89: =SUM(ENERO:DICIEMBRE!E89) -> 0 | F89: =SUM(ENERO:DICIEMBRE!F89) -> 0 | G89: =SUM(ENERO:DICIEMBRE!G89) -> 0 | H89: =SUM(ENERO:DICIEMBRE!H89) -> 0
A90: TOTAL | C90: =SUM(C85:C89) -> 0 | D90: =SUM(D85:D89) -> 0 | E90: =SUM(E85:E89) -> 0 | F90: =SUM(F85:F89) -> 0 | G90: =SUM(G85:G89) -> 0 | H90: =SUM(H85:H89) -> 0
A91: * Cualquier tipo
A92: SECCIÓN C.2 .: COMPONENTES SANGUÍNEOS ELIMINADOS (UMT)
A93: CAUSA | C93: Globulos Rojos* | D93: Plasmas* | E93: Plaquetas | H93: Crioprecipitados
E94: Estándar | F94: Pool* | G94: Aféresis
A95: Obsolescencia | C95: =SUM(ENERO:DICIEMBRE!C95) -> 124 | D95: =SUM(ENERO:DICIEMBRE!D95) -> 44 | E95: =SUM(ENERO:DICIEMBRE!E95) -> 1648 | F95: =SUM(ENERO:DICIEMBRE!F95) -> 0 | G95: =SUM(ENERO:DICIEMBRE!G95) -> 0 | H95: =SUM(ENERO:DICIEMBRE!H95) -> 8
A96: Falla por cadena de frío | C96: =SUM(ENERO:DICIEMBRE!C96) -> 12 | D96: =SUM(ENERO:DICIEMBRE!D96) -> 1 | E96: =SUM(ENERO:DICIEMBRE!E96) -> 0 | F96: =SUM(ENERO:DICIEMBRE!F96) -> 0 | G96: =SUM(ENERO:DICIEMBRE!G96) -> 0 | H96: =SUM(ENERO:DICIEMBRE!H96) -> 0
A97: Devoluciones por producto por no cumplir estándar | C97: =SUM(ENERO:DICIEMBRE!C97) -> 0 | D97: =SUM(ENERO:DICIEMBRE!D97) -> 0 | E97: =SUM(ENERO:DICIEMBRE!E97) -> 0 | F97: =SUM(ENERO:DICIEMBRE!F97) -> 0 | G97: =SUM(ENERO:DICIEMBRE!G97) -> 0 | H97: =SUM(ENERO:DICIEMBRE!H97) -> 0
A98: Descongelamiento sin uso | C98: =SUM(ENERO:DICIEMBRE!C98) -> 0 | D98: =SUM(ENERO:DICIEMBRE!D98) -> 42 | E98: =SUM(ENERO:DICIEMBRE!E98) -> 0 | F98: =SUM(ENERO:DICIEMBRE!F98) -> 0 | G98: =SUM(ENERO:DICIEMBRE!G98) -> 0 | H98: =SUM(ENERO:DICIEMBRE!H98) -> 2
A99: Otros | C99: =SUM(ENERO:DICIEMBRE!C99) -> 32 | D99: =SUM(ENERO:DICIEMBRE!D99) -> 18 | E99: =SUM(ENERO:DICIEMBRE!E99) -> 68 | F99: =SUM(ENERO:DICIEMBRE!F99) -> 0 | G99: =SUM(ENERO:DICIEMBRE!G99) -> 0 | H99: =SUM(ENERO:DICIEMBRE!H99) -> 0
A100: TOTAL | C100: =SUM(C95:C99) -> 168 | D100: =SUM(D95:D99) -> 105 | E100: =SUM(E95:E99) -> 1716 | F100: =SUM(F95:F99) -> 0 | G100: =SUM(G95:G99) -> 0 | H100: =SUM(H95:H99) -> 10
A101: * Cualquier tipo
...

Sheet ENERO
A1: SERVICIO DE SALUD
A2: =CONCATENATE("COMUNA: ",[2]NOMBRE!B2, " (",[2]NOMBRE!C2,[2]NOMBRE!D2,[2]NOMBRE!E2,[2]NOMBRE!F2,[2]NOMBRE!G2,")") -> COMUNA: LINARES (07401)
A3: =CONCATENATE("ESTABLECIMIENTO/ESTRATEGIA: ", [2]NOMBRE!B3, " (",[2]NOMBRE!C3,[2]NOMBRE!D3,[2]NOMBRE!E3,[2]NOMBRE!F3,[2]NOMBRE!G3,[2]NOMBRE!H3,")") -> ESTABLECIMIENTO/ESTRATEGIA: HOSPITAL PRESIDENTE CARLOS IBAÑEZ DEL CAMPO (116108)
A4: =CONCATENATE("MES: ",[2]NOMBRE!B6, " (",[2]NOMBRE!C6,[2]NOMBRE!D6,")") -> MES: ENERO (01)
A5: =CONCATENATE("AÑO: ",[2]NOMBRE!B7) -> AÑO: 2025
A6: REM-25. SERVICIOS DE SANGRE
A8: SECCIÓN A.1: POBLACIÓN DONANTE (CS-UMT-BS)
A9: DONANTES | B9: DESCRIPCIÓN | D9: TOTAL | G9: RANGO ETARIO Y SEXO
G10: 18-19 años | I10: 20-24 años | K10: 25-29 años | M10: 30-34 años | O10: 35-39 años | Q10: 40-44 años | S10: 45-49 años | U10: 50-54 años | W10: 55-59 años | Y10: 60-64 años | AA10: 65 y más años
D11: Ambos Sexos | E11: Hombres | F11: Mujeres | G11: Hombres | H11: Mujeres | I11: Hombres | J11: Mujeres | K11: Hombres | L11: Mujeres | M11: Hombres | N11: Mujeres | O11: Hombres | P11: Mujeres | Q11: Hombres | R11: Mujeres | S11: Hombres | T11: Mujeres | U11: Hombres | V11: Mujeres | W11: Hombres | X11: Mujeres | Y11: Hombres | Z11: Mujeres | AA11: Hombres | AB11: Mujeres
A12: Altruistas | B12: Nuevos | C12: Aceptados | D12: =SUM(E12+F12) -> 18 | E12: =SUM(G12+I12+K12+M12+O12+Q12+S12+U12+W12+Y12+AA12) -> 7 | F12: =SUM(H12+J12+L12+N12+P12+R12+T12+V12+X12+Z12+AB12) -> 11 | G12: 1 | H12: 2 | I12: 2 | J12: 2 | K12: 2 | L12: 4 | M12: 1 | N12: 1 | O12: 0 | P12: 0 | Q12: 0 | R12: 2 | S12: 1 | T12: 0 | U12: 0 | V12: 0 | W12: 0 | X12: 0 | Y12: 0 | Z12: 0 | AA12: 0 | AB12: 0
B13: Repetidos | C13: Aceptados | D13: =SUM(E13+F13) -> 81 | E13: =SUM(G13+I13+K13+M13+O13+Q13+S13+U13+W13+Y13+AA13) -> 39 | F13: =SUM(H13+J13+L13+N13+P13+R13+T13+V13+X13+Z13+AB13) -> 42 | G13: 0 | H13: 0 | I13: 4 | J13: 3 | K13: 7 | L13: 3 | M13: 3 | N13: 5 | O13: 4 | P13: 3 | Q13: 10 | R13: 8 | S13: 3 | T13: 2 | U13: 4 | V13: 10 | W13: 2 | X13: 2 | Y13: 2 | Z13: 6 | AA13: 0 | AB13: 0
A14: Reposición | C14: Aceptados | D14: =SUM(E14+F14) -> 281 | E14: =SUM(G14+I14+K14+M14+O14+Q14+S14+U14+W14+Y14+AA14) -> 146 | F14: =SUM(H14+J14+L14+N14+P14+R14+T14+V14+X14+Z14+AB14) -> 135 | G14: 6 | H14: 1 | I14: 17 | J14: 11 | K14: 15 | L14: 16 | M14: 23 | N14: 20 | O14: 22 | P14: 21 | Q14: 23 | R14: 20 | S14: 17 | T14: 13 | U14: 7 | V14: 19 | W14: 11 | X14: 10 | Y14: 4 | Z14: 4 | AA14: 1 | AB14: 0
A15: TOTAL | D15: =SUM(E15+F15) -> 380 | E15: =SUM(G15+I15+K15+M15+O15+Q15+S15+U15+W15+Y15+AA15) -> 192 | F15: =SUM(H15+J15+L15+N15+P15+R15+T15+V15+X15+Z15+AB15) -> 188 | G15: =SUM(G12:G14) -> 7 | H15: =SUM(H12:H14) -> 3 | I15: =SUM(I12:I14) -> 23 | J15: =SUM(J12:J14) -> 16 | K15: =SUM(K12:K14) -> 24 | L15: =SUM(L12:L14) -> 23 | M15: =SUM(M12:M14) -> 27 | N15: =SUM(N12:N14) -> 26 | ... AB15: =SUM(AB12:AB14) -> 0
A16: Total días atención otorgados | D16: 23
A17: Total colectas móviles realizadas
A18: SECCIÓN A.2: TIPO DE DONANTES CON CONTRAINDICACIÓN
A19: DONANTES | B19: DESCRIPCIÓN | D19: TOTAL | G19: RANGO ETARIO Y SEXO
G20: 17 años | I20: 18-19 años | K20: 20-24 años | M20: 25-29 años | O20: 30-34 años | Q20: 35-39 años | S20: 40-44 años | U20: 45-49 años | W20: 50-54 años | Y20: 55-59 años | AA20: 60-64 años | AC20: 65 y más años
D21: Ambos Sexos | E21: Hombres | F21: Mujeres | G21: Hombres | H21: Mujeres | I21: Hombres | J21: Mujeres | K21: Hombres | L21: Mujeres | M21: Hombres | N21: Mujeres | O21: Hombres | P21: Mujeres | Q21: Hombres | R21: Mujeres | S21: Hombres | T21: Mujeres | U21: Hombres | V21: Mujeres | W21: Hombres | X21: Mujeres | Y21: Hombres | Z21: Mujeres | AA21: Hombres | AB21: Mujeres | AC21: Hombres | AD21: Mujeres
A22: Altruistas | B22: Nuevos | C22: Contraindicación Transitoria | D22: =SUM(E22+F22) -> 1 | E22: =SUM(G22+I22+K22+M22+O22+Q22+S22+U22+W22+Y22+AA22+AC22) -> 0 | F22: =SUM(H22+J22+L22+N22+P22+R22+T22+V22+X22+Z22+AB22+AD22) -> 1 | G22: 0 | H22: 0 | I22: 0 | J22: 0 | K22: 0 | L22: 1 | M22: 0 | N22: 0 | O22: 0 | P22: 0 | Q22: 0 | R22: 0 | S22: 0 | T22: 0 | U22: 0 | V22: 0 | W22: 0 | X22: 0 | Y22: 0 | Z22: 0 | AA22: 0 | AB22: 0 | AC22: 0 | AD22: 0
C23: Contraindicación Permanente | D23: =SUM(E23+F23) -> 0 | E23: =SUM(G23+I23+K23+M23+O23+Q23+S23+U23+W23+Y23+AA23+AC23) -> 0 | F23: =SUM(H23+J23+L23+N23+P23+R23+T23+V23+X23+Z23+AB23+AD23) -> 0 | G23: 0 | H23: 0 | I23: 0 | J23: 0 | K23: 0 | L23: 0 | M23: 0 | N23: 0 | O23: 0 | P23: 0 | Q23: 0 | R23: 0 | S23: 0 | T23: 0 | U23: 0 | V23: 0 | W23: 0 | X23: 0 | Y23: 0 | Z23: 0 | AA23: 0 | AB23: 0 | AC23: 0 | AD23: 0
B24: Repetidos | C24: Contraindicación Transitoria | D24: =SUM(E24+F24) -> 10 | E24: =SUM(G24+I24+K24+M24+O24+Q24+S24+U24+W24+Y24+AA24+AC24) -> 2 | F24: =SUM(H24+J24+L24+N24+P24+R24+T24+V24+X24+Z24+AB24+AD24) -> 8 | G24: 0 | H24: 0 | I24: 0 | J24: 0 | K24: 1 | L24: 2 | M24: 1 | N24: 1 | O24: 0 | P24: 1 | Q24: 0 | R24: 2 | S24: 0 | T24: 0 | U24: 0 | V24: 0 | W24: 0 | X24: 0 | Y24: 0 | Z24: 2 | AA24: 0 | AB24: 0 | AC24: 0 | AD24: 0
C25: Contraindicación Permanente | D25: =SUM(E25+F25) -> 0 | E25: =SUM(G25+I25+K25+M25+O25+Q25+S25+U25+W25+Y25+AA25+AC25) -> 0 | F25: =SUM(H25+J25+L25+N25+P25+R25+T25+V25+X25+Z25+AB25+AD25) -> 0 | G25: 0 | H25: 0 | I25: 0 | J25: 0 | K25: 0 | L25: 0 | M25: 0 | N25: 0 | O25: 0 | P25: 0 | Q25: 0 | R25: 0 | S25: 0 | T25: 0 | U25: 0 | V25: 0 | W25: 0 | X25: 0 | Y25: 0 | Z25: 0 | AA25: 0 | AB25: 0 | AC25: 0 | AD25: 0
A26: Reposición | C26: Contraindicación Transitoria | D26: =SUM(E26+F26) -> 65 | E26: =SUM(G26+I26+K26+M26+O26+Q26+S26+U26+W26+Y26+AA26+AC26) -> 18 | F26: =SUM(H26+J26+L26+N26+P26+R26+T26+V26+X26+Z26+AB26+AD26) -> 47 | G26: 0 | H26: 0 | I26: 0 | J26: 3 | K26: 2 | L26: 10 | M26: 3 | N26: 5 | O26: 4 | P26: 11 | Q26: 1 | R26: 6 | S26: 2 | T26: 3 | U26: 1 | V26: 3 | W26: 4 | X26: 6 | Y26: 1 | Z26: 0 | AA26: 0 | AB26: 0 | AC26: 0 | AD26: 0
C27: Contraindicación Permanente | D27: =SUM(E27+F27) -> 3 | E27: =SUM(G27+I27+K27+M27+O27+Q27+S27+U27+W27+Y27+AA27+AC27) -> 2 | F27: =SUM(H27+J27+L27+N27+P27+R27+T27+V27+X27+Z27+AB27+AD27) -> 1 | G27: 0 | H27: 0 | I27: 0 | J27: 0 | K27: 0 | L27: 0 | M27: 0 | N27: 0 | O27: 1 | P27: 0 | Q27: 0 | R27: 0 | S27: 0 | T27: 0 | U27: 1 | V27: 0 | W27: 0 | X27: 0 | Y27: 0 | Z27: 0 | AA27: 0 | AB27: 0 | AC27: 0 | AD27: 1
A28: TOTAL | D28: =SUM(D22:D27) -> 79 | E28: =SUM(E22:E27) -> 22 | F28: =SUM(F22:F27) -> 57 | G28: =SUM(G22:G27) -> 0 | H28: =SUM(H22:H27) -> 0 | I28: =SUM(I22:I27) -> 0 | J28: =SUM(J22:J27) -> 3 | K28: =SUM(K22:K27) -> 3 | ... AD28: =SUM(AD22:AD27) -> 1
A29: SECCIÓN A.3: REACCIONES ADVERSAS A LA DONACIÓN (CS - UMT - BS)
A30: CLASIFICACIÓN | B30: TIPO | C30: SUBTIPO | E30: TOTAL | F30: Altruista | G30: Reposición
A31: Complicaciones con síntomas locales | B31: Sangre fuera de los vasos sanguíneos | C31: Hematoma | E31: =SUM(F31:G31) -> 1 | F31: 0 | G31: 1
C32: Punción arterial | E32: =SUM(F32:G32) -> 0
C33: Sangramiento posterior | E33: =SUM(F33:G33) -> 0
B34: Dolor | C34: Irritación o injuria en un nervio | E34: =SUM(F34:G34) -> 1 | F34: 0 | G34: 1
C35: Brazo doloroso | E35: =SUM(F35:G35) -> 0
B36: Inflamación o infección localizada | C36: Tromboflebitis | E36: =SUM(F36:G36) -> 0
C37: Celulitis | E37: =SUM(F37:G37) -> 0
B38: Otras injurias mayores en los vasos sanguíneos | C38: Trombosis venosa profunda | E38: =SUM(F38:G38) -> 0
C39: Fístula arteriovenosa | E39: =SUM(F39:G39) -> 0
C40: Síndrome compartimental | E40: =SUM(F40:G40) -> 0
C41: Pseudoaneurisma de la arteria braquial | E41: =SUM(F41:G41) -> 0
A42: Complicaciones con síntomas generalizados | B42: Reacción vasovagal (RVV) | C42: Sin pérdida de conciencia | E42: =SUM(F42:G42) -> 6 | F42: 2 | G42: 4
C43: Con pérdida de conciencia | D43: <60 segundos, sin complicaciones | E43: =SUM(F43:G43) -> 0
D44: ≥ 60 segundos y/ o convulsiones o incontinencia | E44: =SUM(F44:G44) -> 0
C45: Con lesión | E45: =SUM(F45:G45) -> 1 | F45: 0 | G45: 1
C46: Sin lesión | E46: =SUM(F46:G46) -> 4 | F46: 2 | G46: 2
C47: En el sitio de recolección | E47: =SUM(F47:G47) -> 6 | F47: 2 | G47: 4
C48: Fuera del sitio de recolección | E48: =SUM(F48:G48) -> 0
A49: Complicaciones relacionadas a la aféresis | B49: Reacción al citrato | E49: =SUM(F49:G49) -> 0
B50: Hemólisis | E50: =SUM(F50:G50) -> 0
B51: Embolismo aéreo | E51: =SUM(F51:G51) -> 0
B52: Infiltración | E52: =SUM(F52:G52) -> 0
A53: Reacción alérgica | B53: Alergia local | E53: =SUM(F53:G53) -> 0
B54: Reacción alérgica generalizada (anafilaxia) | E54: =SUM(F54:G54) -> 0
A55: Otras complicaciones serias a la donación de sangre | B55: Síntomas agudos cardíacos | E55: =SUM(F55:G55) -> 0
B56: Infarto al miorcardio | E56: =SUM(F56:G56) -> 0
B57: Paro cardiaco | E57: =SUM(F57:G57) -> 0
B58: Ataque isquémico transitorio | E58: =SUM(F58:G58) -> 0
B59: Accidente cerebrovascular | E59: =SUM(F59:G59) -> 0
B60: Muerte | E60: =SUM(F60:G60) -> 0
A61: Otras complicaciones | B61: Otras no mencionadas | E61: =SUM(F61:G61) -> 0
A62: SECCIÓN B: INGRESO UNIDADES DE SANGRE A PRODUCCIÓN (CS-BS)
A63: UNIDADES DE SANGRE | B63: TOTAL
A64: Aptas
A65: No aptas
A66: TOTAL | B66: =SUM(B64+B65) -> 0
A67: SECCIÓN C: PRODUCCIÓN DE COMPONENTES SANGUÍNEOS (CS-BS)
A68: PRODUCCIÓN | B68: DESCRIPCIÓN | C68: TOTAL
A69: Glóbulos rojos | B69: Desplamatizados
B70: Leucoreducidos
B71: Bolsa con filtro
B72: Aféresis
A73: Plaquetas | B73: Estándar
B74: Leucorreducida pool
B75: Leucodepletada pool
B76: Aféresis
B77: Bolsa con filtro
A78: Plasmas | B78: Plasma fresco congelado terapéutico
B79: Plasma uso no terapéutico
B80: Aféresis
A81: Crioprecipitados
A82: SECCIÓN C.1: COMPONENTES SANGUÍNEOS ELIMINADOS (CS-BS )
A83: CAUSA | C83: Globulos Rojos* | D83: Plasmas* | E83: Plaquetas | H83: Crioprecipitados
E84: Estándar | F84: Pool* | G84: Aféresis
A85: Calificación microbiológica reactiva
A86: Obsolescencia
A87: Falla por cadena de frío en almacenamiento
A88: Falla por cadena de frío en transporte
A89: Otros
A90: TOTAL | C90: =SUM(C85:C89) -> 0 | D90: =SUM(D85:D89) -> 0 | E90: =SUM(E85:E89) -> 0 | F90: =SUM(F85:F89) -> 0 | G90: =SUM(G85:G89) -> 0 | H90: =SUM(H85:H89) -> 0
A91: * Cualquier tipo
A92: SECCIÓN C.2 .: COMPONENTES SANGUÍNEOS ELIMINADOS (UMT)
A93: CAUSA | C93: Globulos Rojos* | D93: Plasmas* | E93: Plaquetas | H93: Crioprecipitados
E94: Estándar | F94: Pool* | G94: Aféresis
A95: Obsolescencia | C95: 25 | D95: 4 | E95: 163
A96: Falla por cadena de frío | D96: 1
A97: Devoluciones por producto por no cumplir estándar
A98: Descongelamiento sin uso | D98: 2
A99: Otros | C99: 1 | D99: 2 | E99: 6
A100: TOTAL | C100: =SUM(C95:C99) -> 26 | D100: =SUM(D95:D99) -> 9 | E100: =SUM(E95:E99) -> 169 | F100: =SUM(F95:F99) -> 0 | G100: =SUM(G95:G99) -> 0 | H100: =SUM(H95:H99) -> 0
A101: * Cualquier tipo
...

Sheet FEBRERO
A1: SERVICIO DE SALUD
A2: =CONCATENATE("COMUNA: ",[3]NOMBRE!B2, " (",[3]NOMBRE!C2,[3]NOMBRE!D2,[3]NOMBRE!E2,[3]NOMBRE!F2,[3]NOMBRE!G2,")") -> COMUNA: LINARES (07401)
A3: =CONCATENATE("ESTABLECIMIENTO/ESTRATEGIA: ", [3]NOMBRE!B3, " (",[3]NOMBRE!C3,[3]NOMBRE!D3,[3]NOMBRE!E3,[3]NOMBRE!F3,[3]NOMBRE!G3,[3]NOMBRE!H3,")") -> ESTABLECIMIENTO/ESTRATEGIA: HOSPITAL PRESIDENTE CARLOS IBAÑEZ DEL CAMPO (116108)
A4: =CONCATENATE("MES: ",[3]NOMBRE!B6, " (",[3]NOMBRE!C6,[3]NOMBRE!D6,")") -> MES: FEBRERO (02)
A5: =CONCATENATE("AÑO: ",[3]NOMBRE!B7) -> AÑO: 2025
A6: REM-25. SERVICIOS DE SANGRE
A8: SECCIÓN A.1: POBLACIÓN DONANTE (CS-UMT-BS)
A9: DONANTES | B9: DESCRIPCIÓN | D9: TOTAL | G9: RANGO ETARIO Y SEXO
G10: 18-19 años | I10: 20-24 años | K10: 25-29 años | M10: 30-34 años | O10: 35-39 años | Q10: 40-44 años | S10: 45-49 años | U10: 50-54 años | W10: 55-59 años | Y10: 60-64 años | AA10: 65 y más años
D11: Ambos Sexos | E11: Hombres | F11: Mujeres | G11: Hombres | H11: Mujeres | I11: Hombres | J11: Mujeres | K11: Hombres | L11: Mujeres | M11: Hombres | N11: Mujeres | O11: Hombres | P11: Mujeres | Q11: Hombres | R11: Mujeres | S11: Hombres | T11: Mujeres | U11: Hombres | V11: Mujeres | W11: Hombres | X11: Mujeres | Y11: Hombres | Z11: Mujeres | AA11: Hombres | AB11: Mujeres
A12: Altruistas | B12: Nuevos | C12: Aceptados | D12: =SUM(E12+F12) -> 8 | E12: =SUM(G12+I12+K12+M12+O12+Q12+S12+U12+W12+Y12+AA12) -> 4 | F12: =SUM(H12+J12+L12+N12+P12+R12+T12+V12+X12+Z12+AB12) -> 4 | G12: 0 | H12: 1 | I12: 1 | J12: 1 | K12: 0 | L12: 0 | M12: 0 | N12: 0 | O12: 1 | P12: 0 | Q12: 0 | R12: 1 | S12: 0 | T12: 1 | U12: 1 | V12: 0 | W12: 0 | X12: 0 | Y12: 1 | Z12: 0 | AA12: 0 | AB12: 0
B13: Repetidos | C13: Aceptados | D13: =SUM(E13+F13) -> 87 | E13: =SUM(G13+I13+K13+M13+O13+Q13+S13+U13+W13+Y13+AA13) -> 42 | F13: =SUM(H13+J13+L13+N13+P13+R13+T13+V13+X13+Z13+AB13) -> 45 | G13: 1 | H13: 2 | I13: 5 | J13: 6 | K13: 1 | L13: 8 | M13: 5 | N13: 6 | O13: 7 | P13: 12 | Q13: 4 | R13: 4 | S13: 5 | T13: 4 | U13: 9 | V13: 2 | W13: 3 | X13: 1 | Y13: 2 | Z13: 0 | AA13: 0 | AB13: 0
A14: Reposición | C14: Aceptados | D14: =SUM(E14+F14) -> 190 | E14: =SUM(G14+I14+K14+M14+O14+Q14+S14+U14+W14+Y14+AA14) -> 83 | F14: =SUM(H14+J14+L14+N14+P14+R14+T14+V14+X14+Z14+AB14) -> 107 | G14: 3 | H14: 2 | I14: 5 | J14: 13 | K14: 8 | L14: 18 | M14: 10 | N14: 15 | O14: 19 | P14: 25 | Q14: 16 | R14: 9 | S14: 7 | T14: 11 | U14: 6 | V14: 8 | W14: 6 | X14: 6 | Y14: 3 | Z14: 0 | AA14: 0 | AB14: 0
A15: TOTAL | D15: =SUM(E15+F15) -> 285 | E15: =SUM(G15+I15+K15+M15+O15+Q15+S15+U15+W15+Y15+AA15) -> 129 | F15: =SUM(H15+J15+L15+N15+P15+R15+T15+V15+X15+Z15+AB15) -> 156 | G15: =SUM(G12:G14) -> 4 | H15: =SUM(H12:H14) -> 5 | I15: =SUM(I12:I14) -> 11 | J15: =SUM(J12:J14) -> 20 | K15: =SUM(K12:K14) -> 9 | L15: =SUM(L12:L14) -> 26 | M15: =SUM(M12:M14) -> 15 | N15: =SUM(N12:N14) -> 21 | ... AB15: =SUM(AB12:AB14) -> 0
A16: Total días atención otorgados | D16: 21
A17: Total colectas móviles realizadas
A18: SECCIÓN A.2: TIPO DE DONANTES CON CONTRAINDICACIÓN
A19: DONANTES | B19: DESCRIPCIÓN | D19: TOTAL | G19: RANGO ETARIO Y SEXO
G20: 17 años | I20: 18-19 años | K20: 20-24 años | M20: 25-29 años | O20: 30-34 años | Q20: 35-39 años | S20: 40-44 años | U20: 45-49 años | W20: 50-54 años | Y20: 55-59 años | AA20: 60-64 años | AC20: 65 y más años
D21: Ambos Sexos | E21: Hombres | F21: Mujeres | G21: Hombres | H21: Mujeres | I21: Hombres | J21: Mujeres | K21: Hombres | L21: Mujeres | M21: Hombres | N21: Mujeres | O21: Hombres | P21: Mujeres | Q21: Hombres | R21: Mujeres | S21: Hombres | T21: Mujeres | U21: Hombres | V21: Mujeres | W21: Hombres | X21: Mujeres | Y21: Hombres | Z21: Mujeres | AA21: Hombres | AB21: Mujeres | AC21: Hombres | AD21: Mujeres
A22: Altruistas | B22: Nuevos | C22: Contraindicación Transitoria | D22: =SUM(E22+F22) -> 1 | E22: =SUM(G22+I22+K22+M22+O22+Q22+S22+U22+W22+Y22+AA22+AC22) -> 1 | F22: =SUM(H22+J22+L22+N22+P22+R22+T22+V22+X22+Z22+AB22+AD22) -> 0 | G22: 0 | H22: 0 | I22: 1 | J22: 0 | K22: 0 | L22: 0 | M22: 0 | N22: 0 | O22: 0 | P22: 0 | Q22: 0 | R22: 0 | S22: 0 | T22: 0 | U22: 0 | V22: 0 | W22: 0 | X22: 0 | Y22: 0 | Z22: 0 | AA22: 0 | AB22: 0 | AC22: 0 | AD22: 0
C23: Contraindicación Permanente | D23: =SUM(E23+F23) -> 2 | E23: =SUM(G23+I23+K23+M23+O23+Q23+S23+U23+W23+Y23+AA23+AC23) -> 2 | F23: =SUM(H23+J23+L23+N23+P23+R23+T23+V23+X23+Z23+AB23+AD23) -> 0 | G23: 0 | H23: 0 | I23: 0 | J23: 0 | K23: 0 | L23: 0 | M23: 0 | N23: 0 | O23: 0 | P23: 0 | Q23: 0 | R23: 0 | S23: 1 | T23: 0 | U23: 0 | V23: 0 | W23: 1 | X23: 0 | Y23: 0 | Z23: 0 | AA23: 0 | AB23: 0 | AC23: 0 | AD23: 0
B24: Repetidos | C24: Contraindicación Transitoria | D24: =SUM(E24+F24) -> 5 | E24: =SUM(G24+I24+K24+M24+O24+Q24+S24+U24+W24+Y24+AA24+AC24) -> 2 | F24: =SUM(H24+J24+L24+N24+P24+R24+T24+V24+X24+Z24+AB24+AD24) -> 3 | G24: 0 | H24: 0 | I24: 1 | J24: 0 | K24: 0 | L24: 0 | M24: 0 | N24: 2 | O24: 0 | P24: 0 | Q24: 0 | R24: 0 | S24: 0 | T24: 0 | U24: 1 | V24: 1 | W24: 0 | X24: 0 | Y24: 0 | Z24: 0 | AA24: 0 | AB24: 0 | AC24: 0 | AD24: 0
C25: Contraindicación Permanente | D25: =SUM(E25+F25) -> 2 | E25: =SUM(G25+I25+K25+M25+O25+Q25+S25+U25+W25+Y25+AA25+AC25) -> 2 | F25: =SUM(H25+J25+L25+N25+P25+R25+T25+V25+X25+Z25+AB25+AD25) -> 0 | G25: 0 | H25: 0 | I25: 0 | J25: 0 | K25: 0 | L25: 0 | M25: 0 | N25: 0 | O25: 0 | P25: 0 | Q25: 0 | R25: 0 | S25: 1 | T25: 0 | U25: 0 | V25: 0 | W25: 1 | X25: 0 | Y25: 0 | Z25: 0 | AA25: 0 | AB25: 0 | AC25: 0 | AD25: 0
A26: Reposición | C26: Contraindicación Transitoria | D26: =SUM(E26+F26) -> 29 | E26: =SUM(G26+I26+K26+M26+O26+Q26+S26+U26+W26+Y26+AA26+AC26) -> 9 | F26: =SUM(H26+J26+L26+N26+P26+R26+T26+V26+X26+Z26+AB26+AD26) -> 20 | G26: 0 | H26: 0 | I26: 0 | J26: 0 | K26: 1 | L26: 3 | M26: 2 | N26: 1 | O26: 0 | P26: 7 | Q26: 1 | R26: 4 | S26: 0 | T26: 0 | U26: 3 | V26: 2 | W26: 0 | X26: 1 | Y26: 2 | Z26: 1 | AA26: 0 | AB26: 0 | AC26: 0 | AD26: 1
C27: Contraindicación Permanente | D27: =SUM(E27+F27) -> 5 | E27: =SUM(G27+I27+K27+M27+O27+Q27+S27+U27+W27+Y27+AA27+AC27) -> 0 | F27: =SUM(H27+J27+L27+N27+P27+R27+T27+V27+X27+Z27+AB27+AD27) -> 5 | G27: 0 | H27: 0 | I27: 0 | J27: 0 | K27: 0 | L27: 0 | M27: 0 | N27: 1 | O27: 0 | P27: 0 | Q27: 0 | R27: 1 | S27: 0 | T27: 0 | U27: 0 | V27: 0 | W27: 0 | X27: 0 | Y27: 0 | Z27: 1 | AA27: 0 | AB27: 1 | AC27: 0 | AD27: 1
A28: TOTAL | D28: =SUM(D22:D27) -> 44 | E28: =SUM(E22:E27) -> 16 | F28: =SUM(F22:F27) -> 28 | G28: =SUM(G22:G27) -> 0 | H28: =SUM(H22:H27) -> 0 | I28: =SUM(I22:I27) -> 2 | J28: =SUM(J22:J27) -> 0 | K28: =SUM(K22:K27) -> 1 | ... AD28: =SUM(AD22:AD27) -> 2
A29: SECCIÓN A.3: REACCIONES ADVERSAS A LA DONACIÓN (CS - UMT - BS)
A30: CLASIFICACIÓN | B30: TIPO | C30: SUBTIPO | E30: TOTAL | F30: Altruista | G30: Reposición
A31: Complicaciones con síntomas locales | B31: Sangre fuera de los vasos sanguíneos | C31: Hematoma | E31: =SUM(F31:G31) -> 0
C32: Punción arterial | E32: =SUM(F32:G32) -> 0
C33: Sangramiento posterior | E33: =SUM(F33:G33) -> 0
B34: Dolor | C34: Irritación o injuria en un nervio | E34: =SUM(F34:G34) -> 0
C35: Brazo doloroso | E35: =SUM(F35:G35) -> 0
B36: Inflamación o infección localizada | C36: Tromboflebitis | E36: =SUM(F36:G36) -> 0
C37: Celulitis | E37: =SUM(F37:G37) -> 0
B38: Otras injurias mayores en los vasos sanguíneos | C38: Trombosis venosa profunda | E38: =SUM(F38:G38) -> 0
C39: Fístula arteriovenosa | E39: =SUM(F39:G39) -> 0
C40: Síndrome compartimental | E40: =SUM(F40:G40) -> 0
C41: Pseudoaneurisma de la arteria braquial | E41: =SUM(F41:G41) -> 0
A42: Complicaciones con síntomas generalizados | B42: Reacción vasovagal (RVV) | C42: Sin pérdida de conciencia | E42: =SUM(F42:G42) -> 2 | G42: 2
C43: Con pérdida de conciencia | D43: <60 segundos, sin complicaciones | E43: =SUM(F43:G43) -> 0
D44: ≥ 60 segundos y/ o convulsiones o incontinencia | E44: =SUM(F44:G44) -> 0
C45: Con lesión | E45: =SUM(F45:G45) -> 0
C46: Sin lesión | E46: =SUM(F46:G46) -> 2 | G46: 2
C47: En el sitio de recolección | E47: =SUM(F47:G47) -> 2 | G47: 2
C48: Fuera del sitio de recolección | E48: =SUM(F48:G48) -> 0
A49: Complicaciones relacionadas a la aféresis | B49: Reacción al citrato | E49: =SUM(F49:G49) -> 0
B50: Hemólisis | E50: =SUM(F50:G50) -> 0
B51: Embolismo aéreo | E51: =SUM(F51:G51) -> 0
B52: Infiltración | E52: =SUM(F52:G52) -> 0
A53: Reacción alérgica | B53: Alergia local | E53: =SUM(F53:G53) -> 0
B54: Reacción alérgica generalizada (anafilaxia) | E54: =SUM(F54:G54) -> 0
A55: Otras complicaciones serias a la donación de sangre | B55: Síntomas agudos cardíacos | E55: =SUM(F55:G55) -> 0
B56: Infarto al miorcardio | E56: =SUM(F56:G56) -> 0
B57: Paro cardiaco | E57: =SUM(F57:G57) -> 0
B58: Ataque isquémico transitorio | E58: =SUM(F58:G58) -> 0
B59: Accidente cerebrovascular | E59: =SUM(F59:G59) -> 0
B60: Muerte | E60: =SUM(F60:G60) -> 0
A61: Otras complicaciones | B61: Otras no mencionadas | E61: =SUM(F61:G61) -> 0
A62: SECCIÓN B: INGRESO UNIDADES DE SANGRE A PRODUCCIÓN (CS-BS)
A63: UNIDADES DE SANGRE | B63: TOTAL
A64: Aptas
A65: No aptas
A66: TOTAL | B66: =SUM(B64+B65) -> 0
A67: SECCIÓN C: PRODUCCIÓN DE COMPONENTES SANGUÍNEOS (CS-BS)
A68: PRODUCCIÓN | B68: DESCRIPCIÓN | C68: TOTAL
A69: Glóbulos rojos | B69: Desplamatizados
B70: Leucoreducidos
B71: Bolsa con filtro
B72: Aféresis
A73: Plaquetas | B73: Estándar
B74: Leucorreducida pool
B75: Leucodepletada pool
B76: Aféresis
B77: Bolsa con filtro
A78: Plasmas | B78: Plasma fresco congelado terapéutico
B79: Plasma uso no terapéutico
B80: Aféresis
A81: Crioprecipitados
A82: SECCIÓN C.1: COMPONENTES SANGUÍNEOS ELIMINADOS (CS-BS )
A83: CAUSA | C83: Globulos Rojos* | D83: Plasmas* | E83: Plaquetas | H83: Crioprecipitados
E84: Estándar | F84: Pool* | G84: Aféresis
A85: Calificación microbiológica reactiva
A86: Obsolescencia
A87: Falla por cadena de frío en almacenamiento
A88: Falla por cadena de frío en transporte
A89: Otros
A90: TOTAL | C90: =SUM(C85:C89) -> 0 | D90: =SUM(D85:D89) -> 0 | E90: =SUM(E85:E89) -> 0 | F90: =SUM(F85:F89) -> 0 | G90: =SUM(G85:G89) -> 0 | H90: =SUM(H85:H89) -> 0
A91: * Cualquier tipo
A92: SECCIÓN C.2 .: COMPONENTES SANGUÍNEOS ELIMINADOS (UMT)
A93: CAUSA | C93: Globulos Rojos* | D93: Plasmas* | E93: Plaquetas | H93: Crioprecipitados
E94: Estándar | F94: Pool* | G94: Aféresis
A95: Obsolescencia | C95: 1 | D95: 2 | E95: 147 | F95: 0 | G95: 0 | H95: 0
A96: Falla por cadena de frío | C96: 0 | D96: 0 | E96: 0 | F96: 0 | G96: 0 | H96: 0
A97: Devoluciones por producto por no cumplir estándar | C97: 0 | D97: 0 | E97: 0 | F97: 0 | G97: 0 | H97: 0
A98: Descongelamiento sin uso | C98: 0 | D98: 0 | E98: 0 | F98: 0 | G98: 0 | H98: 2
A99: Otros | C99: 0 | D99: 1 | E99: 4 | F99: 0 | G99: 0 | H99: 0
A100: TOTAL | C100: =SUM(C95:C99) -> 1 | D100: =SUM(D95:D99) -> 3 | E100: =SUM(E95:E99) -> 151 | F100: =SUM(F95:F99) -> 0 | G100: =SUM(G95:G99) -> 0 | H100: =SUM(H95:H99) -> 2
A101: * Cualquier tipo
...

Sheet MARZO
A1: SERVICIO DE SALUD
A2: =CONCATENATE("COMUNA: ",[4]NOMBRE!B2, " (",[4]NOMBRE!C2,[4]NOMBRE!D2,[4]NOMBRE!E2,[4]NOMBRE!F2,[4]NOMBRE!G2,")") -> COMUNA: LINARES (07401)
A3: =CONCATENATE("ESTABLECIMIENTO/ESTRATEGIA: ", [4]NOMBRE!B3, " (",[4]NOMBRE!C3,[4]NOMBRE!D3,[4]NOMBRE!E3,[4]NOMBRE!F3,[4]NOMBRE!G3,[4]NOMBRE!H3,")") -> ESTABLECIMIENTO/ESTRATEGIA: HOSPITAL PRESIDENTE CARLOS IBAÑEZ DEL CAMPO (116108)
A4: =CONCATENATE("MES: ",[4]NOMBRE!B6, " (",[4]NOMBRE!C6,[4]NOMBRE!D6,")") -> MES: MARZO (03)
A5: =CONCATENATE("AÑO: ",[4]NOMBRE!B7) -> AÑO: 2025
A6: REM-25. SERVICIOS DE SANGRE
A8: SECCIÓN A.1: POBLACIÓN DONANTE (CS-UMT-BS)
A9: DONANTES | B9: DESCRIPCIÓN | D9: TOTAL | G9: RANGO ETARIO Y SEXO
G10: 18-19 años | I10: 20-24 años | K10: 25-29 años | M10: 30-34 años | O10: 35-39 años | Q10: 40-44 años | S10: 45-49 años | U10: 50-54 años | W10: 55-59 años | Y10: 60-64 años | AA10: 65 y más años
D11: Ambos Sexos | E11: Hombres | F11: Mujeres | G11: Hombres | H11: Mujeres | I11: Hombres | J11: Mujeres | K11: Hombres | L11: Mujeres | M11: Hombres | N11: Mujeres | O11: Hombres | P11: Mujeres | Q11: Hombres | R11: Mujeres | S11: Hombres | T11: Mujeres | U11: Hombres | V11: Mujeres | W11: Hombres | X11: Mujeres | Y11: Hombres | Z11: Mujeres | AA11: Hombres | AB11: Mujeres
A12: Altruistas | B12: Nuevos | C12: Aceptados | D12: =SUM(E12+F12) -> 18 | E12: =SUM(G12+I12+K12+M12+O12+Q12+S12+U12+W12+Y12+AA12) -> 7 | F12: =SUM(H12+J12+L12+N12+P12+R12+T12+V12+X12+Z12+AB12) -> 11 | G12: 0 | H12: 3 | I12: 1 | J12: 0 | K12: 0 | L12: 2 | M12: 1 | N12: 2 | O12: 1 | P12: 2 | Q12: 0 | R12: 0 | S12: 1 | T12: 0 | U12: 1 | V12: 2 | W12: 2 | X12: 0 | Y12: 0 | Z12: 0 | AA12: 0 | AB12: 0
B13: Repetidos | C13: Aceptados | D13: =SUM(E13+F13) -> 102 | E13: =SUM(G13+I13+K13+M13+O13+Q13+S13+U13+W13+Y13+AA13) -> 49 | F13: =SUM(H13+J13+L13+N13+P13+R13+T13+V13+X13+Z13+AB13) -> 53 | G13: 1 | H13: 0 | I13: 3 | J13: 4 | K13: 5 | L13: 5 | M13: 8 | N13: 9 | O13: 8 | P13: 10 | Q13: 8 | R13: 12 | S13: 7 | T13: 4 | U13: 4 | V13: 5 | W13: 1 | X13: 3 | Y13: 3 | Z13: 1 | AA13: 1 | AB13: 0
A14: Reposición | C14: Aceptados | D14: =SUM(E14+F14) -> 260 | E14: =SUM(G14+I14+K14+M14+O14+Q14+S14+U14+W14+Y14+AA14) -> 121 | F14: =SUM(H14+J14+L14+N14+P14+R14+T14+V14+X14+Z14+AB14) -> 139 | G14: 3 | H14: 2 | I14: 12 | J14: 12 | K14: 15 | L14: 23 | M14: 19 | N14: 18 | O14: 16 | P14: 17 | Q14: 15 | R14: 21 | S14: 16 | T14: 15 | U14: 5 | V14: 15 | W14: 19 | X14: 12 | Y14: 1 | Z14: 4 | AA14: 0 | AB14: 0
A15: TOTAL | D15: =SUM(E15+F15) -> 380 | E15: =SUM(G15+I15+K15+M15+O15+Q15+S15+U15+W15+Y15+AA15) -> 177 | F15: =SUM(H15+J15+L15+N15+P15+R15+T15+V15+X15+Z15+AB15) -> 203 | G15: =SUM(G12:G14) -> 4 | H15: =SUM(H12:H14) -> 5 | I15: =SUM(I12:I14) -> 16 | J15: =SUM(J12:J14) -> 16 | K15: =SUM(K12:K14) -> 20 | L15: =SUM(L12:L14) -> 30 | M15: =SUM(M12:M14) -> 28 | N15: =SUM(N12:N14) -> 29 | ... AB15: =SUM(AB12:AB14) -> 0
A16: Total días atención otorgados | D16: 22
A17: Total colectas móviles realizadas
A18: SECCIÓN A.2: TIPO DE DONANTES CON CONTRAINDICACIÓN
A19: DONANTES | B19: DESCRIPCIÓN | D19: TOTAL | G19: RANGO ETARIO Y SEXO
G20: 17 años | I20: 18-19 años | K20: 20-24 años | M20: 25-29 años | O20: 30-34 años | Q20: 35-39 años | S20: 40-44 años | U20: 45-49 años | W20: 50-54 años | Y20: 55-59 años | AA20: 60-64 años | AC20: 65 y más años
D21: Ambos Sexos | E21: Hombres | F21: Mujeres | G21: Hombres | H21: Mujeres | I21: Hombres | J21: Mujeres | K21: Hombres | L21: Mujeres | M21: Hombres | N21: Mujeres | O21: Hombres | P21: Mujeres | Q21: Hombres | R21: Mujeres | S21: Hombres | T21: Mujeres | U21: Hombres | V21: Mujeres | W21: Hombres | X21: Mujeres | Y21: Hombres | Z21: Mujeres | AA21: Hombres | AB21: Mujeres | AC21: Hombres | AD21: Mujeres
A22: Altruistas | B22: Nuevos | C22: Contraindicación Transitoria | D22: =SUM(E22+F22) -> 2 | E22: =SUM(G22+I22+K22+M22+O22+Q22+S22+U22+W22+Y22+AA22+AC22) -> 1 | F22: =SUM(H22+J22+L22+N22+P22+R22+T22+V22+X22+Z22+AB22+AD22) -> 1 | G22: 0 | H22: 0 | I22: 0 | J22: 0 | K22: 1 | L22: 1 | M22: 0 | N22: 0 | O22: 0 | P22: 0 | Q22: 0 | R22: 0 | S22: 0 | T22: 0 | U22: 0 | V22: 0 | W22: 0 | X22: 0 | Y22: 0 | Z22: 0 | AA22: 0 | AB22: 0 | AC22: 0 | AD22: 0
C23: Contraindicación Permanente | D23: =SUM(E23+F23) -> 1 | E23: =SUM(G23+I23+K23+M23+O23+Q23+S23+U23+W23+Y23+AA23+AC23) -> 1 | F23: =SUM(H23+J23+L23+N23+P23+R23+T23+V23+X23+Z23+AB23+AD23) -> 0 | G23: 0 | H23: 0 | I23: 0 | J23: 0 | K23: 0 | L23: 0 | M23: 1 | N23: 0 | O23: 0 | P23: 0 | Q23: 0 | R23: 0 | S23: 0 | T23: 0 | U23: 0 | V23: 0 | W23: 0 | X23: 0 | Y23: 0 | Z23: 0 | AA23: 0 | AB23: 0 | AC23: 0 | AD23: 0
B24: Repetidos | C24: Contraindicación Transitoria | D24: =SUM(E24+F24) -> 12 | E24: =SUM(G24+I24+K24+M24+O24+Q24+S24+U24+W24+Y24+AA24+AC24) -> 1 | F24: =SUM(H24+J24+L24+N24+P24+R24+T24+V24+X24+Z24+AB24+AD24) -> 11 | G24: 0 | H24: 0 | I24: 0 | J24: 0 | K24: 0 | L24: 3 | M24: 1 | N24: 1 | O24: 0 | P24: 0 | Q24: 0 | R24: 1 | S24: 0 | T24: 2 | U24: 0 | V24: 2 | W24: 0 | X24: 1 | Y24: 0 | Z24: 0 | AA24: 0 | AB24: 0 | AC24: 0 | AD24: 1
C25: Contraindicación Permanente | D25: =SUM(E25+F25) -> 0 | E25: =SUM(G25+I25+K25+M25+O25+Q25+S25+U25+W25+Y25+AA25+AC25) -> 0 | F25: =SUM(H25+J25+L25+N25+P25+R25+T25+V25+X25+Z25+AB25+AD25) -> 0 | G25: 0 | H25: 0 | I25: 0 | J25: 0 | K25: 0 | L25: 0 | M25: 0 | N25: 0 | O25: 0 | P25: 0 | Q25: 0 | R25: 0 | S25: 0 | T25: 0 | U25: 0 | V25: 0 | W25: 0 | X25: 0 | Y25: 0 | Z25: 0 | AA25: 0 | AB25: 0 | AC25: 0 | AD25: 0
A26: Reposición | C26: Contraindicación Transitoria | D26: =SUM(E26+F26) -> 49 | E26: =SUM(G26+I26+K26+M26+O26+Q26+S26+U26+W26+Y26+AA26+AC26) -> 14 | F26: =SUM(H26+J26+L26+N26+P26+R26+T26+V26+X26+Z26+AB26+AD26) -> 35 | G26: 0 | H26: 0 | I26: 1 | J26: 1 | K26: 1 | L26: 3 | M26: 3 | N26: 3 | O26: 0 | P26: 5 | Q26: 3 | R26: 3 | S26: 1 | T26: 4 | U26: 1 | V26: 6 | W26: 3 | X26: 4 | Y26: 0 | Z26: 6 | AA26: 1 | AB26: 0 | AC26: 0 | AD26: 0
C27: Contraindicación Permanente | D27: =SUM(E27+F27) -> 3 | E27: =SUM(G27+I27+K27+M27+O27+Q27+S27+U27+W27+Y27+AA27+AC27) -> 1 | F27: =SUM(H27+J27+L27+N27+P27+R27+T27+V27+X27+Z27+AB27+AD27) -> 2 | G27: 0 | H27: 0 | I27: 0 | J27: 0 | K27: 0 | L27: 0 | M27: 0 | N27: 0 | O27: 0 | P27: 0 | Q27: 0 | R27: 0 | S27: 0 | T27: 0 | U27: 0 | V27: 2 | W27: 0 | X27: 0 | Y27: 0 | Z27: 0 | AA27: 1 | AB27: 0 | AC27: 0 | AD27: 0
A28: TOTAL | D28: =SUM(D22:D27) -> 67 | E28: =SUM(E22:E27) -> 18 | F28: =SUM(F22:F27) -> 49 | G28: =SUM(G22:G27) -> 0 | H28: =SUM(H22:H27) -> 0 | I28: =SUM(I22:I27) -> 1 | J28: =SUM(J22:J27) -> 1 | K28: =SUM(K22:K27) -> 2 | ... AD28: =SUM(AD22:AD27) -> 1
A29: SECCIÓN A.3: REACCIONES ADVERSAS A LA DONACIÓN (CS - UMT - BS)
A30: CLASIFICACIÓN | B30: TIPO | C30: SUBTIPO | E30: TOTAL | F30: Altruista | G30: Reposición
A31: Complicaciones con síntomas locales | B31: Sangre fuera de los vasos sanguíneos | C31: Hematoma | E31: =SUM(F31:G31) -> 0
C32: Punción arterial | E32: =SUM(F32:G32) -> 0
C33: Sangramiento posterior | E33: =SUM(F33:G33) -> 0
B34: Dolor | C34: Irritación o injuria en un nervio | E34: =SUM(F34:G34) -> 0
C35: Brazo doloroso | E35: =SUM(F35:G35) -> 1 | F35: 1 | G35: 0
B36: Inflamación o infección localizada | C36: Tromboflebitis | E36: =SUM(F36:G36) -> 0
C37: Celulitis | E37: =SUM(F37:G37) -> 0
B38: Otras injurias mayores en los vasos sanguíneos | C38: Trombosis venosa profunda | E38: =SUM(F38:G38) -> 0
C39: Fístula arteriovenosa | E39: =SUM(F39:G39) -> 0
C40: Síndrome compartimental | E40: =SUM(F40:G40) -> 0
C41: Pseudoaneurisma de la arteria braquial | E41: =SUM(F41:G41) -> 0
A42: Complicaciones con síntomas generalizados | B42: Reacción vasovagal (RVV) | C42: Sin pérdida de conciencia | E42: =SUM(F42:G42) -> 3 | F42: 0 | G42: 3
C43: Con pérdida de conciencia | D43: <60 segundos, sin complicaciones | E43: =SUM(F43:G43) -> 0
D44: ≥ 60 segundos y/ o convulsiones o incontinencia | E44: =SUM(F44:G44) -> 0
C45: Con lesión | E45: =SUM(F45:G45) -> 0
C46: Sin lesión | E46: =SUM(F46:G46) -> 3 | F46: 0 | G46: 3
C47: En el sitio de recolección | E47: =SUM(F47:G47) -> 0
C48: Fuera del sitio de recolección | E48: =SUM(F48:G48) -> 0
A49: Complicaciones relacionadas a la aféresis | B49: Reacción al citrato | E49: =SUM(F49:G49) -> 0
B50: Hemólisis | E50: =SUM(F50:G50) -> 0
B51: Embolismo aéreo | E51: =SUM(F51:G51) -> 0
B52: Infiltración | E52: =SUM(F52:G52) -> 0
A53: Reacción alérgica | B53: Alergia local | E53: =SUM(F53:G53) -> 0
B54: Reacción alérgica generalizada (anafilaxia) | E54: =SUM(F54:G54) -> 0
A55: Otras complicaciones serias a la donación de sangre | B55: Síntomas agudos cardíacos | E55: =SUM(F55:G55) -> 0
B56: Infarto al miorcardio | E56: =SUM(F56:G56) -> 0
B57: Paro cardiaco | E57: =SUM(F57:G57) -> 0
B58: Ataque isquémico transitorio | E58: =SUM(F58:G58) -> 0
B59: Accidente cerebrovascular | E59: =SUM(F59:G59) -> 0
B60: Muerte | E60: =SUM(F60:G60) -> 0
A61: Otras complicaciones | B61: Otras no mencionadas | E61: =SUM(F61:G61) -> 0
A62: SECCIÓN B: INGRESO UNIDADES DE SANGRE A PRODUCCIÓN (CS-BS)
A63: UNIDADES DE SANGRE | B63: TOTAL
A64: Aptas
A65: No aptas
A66: TOTAL | B66: =SUM(B64+B65) -> 0
A67: SECCIÓN C: PRODUCCIÓN DE COMPONENTES SANGUÍNEOS (CS-BS)
A68: PRODUCCIÓN | B68: DESCRIPCIÓN | C68: TOTAL
A69: Glóbulos rojos | B69: Desplamatizados
B70: Leucoreducidos
B71: Bolsa con filtro
B72: Aféresis
A73: Plaquetas | B73: Estándar
B74: Leucorreducida pool
B75: Leucodepletada pool
B76: Aféresis
B77: Bolsa con filtro
A78: Plasmas | B78: Plasma fresco congelado terapéutico
B79: Plasma uso no terapéutico
B80: Aféresis
A81: Crioprecipitados
A82: SECCIÓN C.1: COMPONENTES SANGUÍNEOS ELIMINADOS (CS-BS )
A83: CAUSA | C83: Globulos Rojos* | D83: Plasmas* | E83: Plaquetas | H83: Crioprecipitados
E84: Estándar | F84: Pool* | G84: Aféresis
A85: Calificación microbiológica reactiva
A86: Obsolescencia
A87: Falla por cadena de frío en almacenamiento
A88: Falla por cadena de frío en transporte
A89: Otros
A90: TOTAL | C90: =SUM(C85:C89) -> 0 | D90: =SUM(D85:D89) -> 0 | E90: =SUM(E85:E89) -> 0 | F90: =SUM(F85:F89) -> 0 | G90: =SUM(G85:G89) -> 0 | H90: =SUM(H85:H89) -> 0
A91: * Cualquier tipo
A92: SECCIÓN C.2 .: COMPONENTES SANGUÍNEOS ELIMINADOS (UMT)
A93: CAUSA | C93: Globulos Rojos* | D93: Plasmas* | E93: Plaquetas | H93: Crioprecipitados
E94: Estándar | F94: Pool* | G94: Aféresis
A95: Obsolescencia | C95: 10 | D95: 2 | E95: 126 | H95: 0
A96: Falla por cadena de frío
A97: Devoluciones por producto por no cumplir estándar
A98: Descongelamiento sin uso | D98: 2
A99: Otros | E99: 1
A100: TOTAL | C100: =SUM(C95:C99) -> 10 | D100: =SUM(D95:D99) -> 4 | E100: =SUM(E95:E99) -> 127 | F100: =SUM(F95:F99) -> 0 | G100: =SUM(G95:G99) -> 0 | H100: =SUM(H95:H99) -> 0
A101: * Cualquier tipo
...

Sheet ABRIL
A1: SERVICIO DE SALUD
A2: =CONCATENATE("COMUNA: ",[5]NOMBRE!B2, " (",[5]NOMBRE!C2,[5]NOMBRE!D2,[5]NOMBRE!E2,[5]NOMBRE!F2,[5]NOMBRE!G2,")") -> COMUNA: LINARES (07401)
A3: =CONCATENATE("ESTABLECIMIENTO/ESTRATEGIA: ", [5]NOMBRE!B3, " (",[5]NOMBRE!C3,[5]NOMBRE!D3,[5]NOMBRE!E3,[5]NOMBRE!F3,[5]NOMBRE!G3,[5]NOMBRE!H3,")") -> ESTABLECIMIENTO/ESTRATEGIA: HOSPITAL PRESIDENTE CARLOS IBAÑEZ DEL CAMPO (116108)
A4: =CONCATENATE("MES: ",[5]NOMBRE!B6, " (",[5]NOMBRE!C6,[5]NOMBRE!D6,")") -> MES: ABRIL (04)
A5: =CONCATENATE("AÑO: ",[5]NOMBRE!B7) -> AÑO: 2025
A6: REM-25. SERVICIOS DE SANGRE
A8: SECCIÓN A.1: POBLACIÓN DONANTE (CS-UMT-BS)
A9: DONANTES | B9: DESCRIPCIÓN | D9: TOTAL | G9: RANGO ETARIO Y SEXO
G10: 18-19 años | I10: 20-24 años | K10: 25-29 años | M10: 30-34 años | O10: 35-39 años | Q10: 40-44 años | S10: 45-49 años | U10: 50-54 años | W10: 55-59 años | Y10: 60-64 años | AA10: 65 y más años
D11: Ambos Sexos | E11: Hombres | F11: Mujeres | G11: Hombres | H11: Mujeres | I11: Hombres | J11: Mujeres | K11: Hombres | L11: Mujeres | M11: Hombres | N11: Mujeres | O11: Hombres | P11: Mujeres | Q11: Hombres | R11: Mujeres | S11: Hombres | T11: Mujeres | U11: Hombres | V11: Mujeres | W11: Hombres | X11: Mujeres | Y11: Hombres | Z11: Mujeres | AA11: Hombres | AB11: Mujeres
A12: Altruistas | B12: Nuevos | C12: Aceptados | D12: =SUM(E12+F12) -> 9 | E12: =SUM(G12+I12+K12+M12+O12+Q12+S12+U12+W12+Y12+AA12) -> 4 | F12: =SUM(H12+J12+L12+N12+P12+R12+T12+V12+X12+Z12+AB12) -> 5 | G12: 0 | H12: 0 | I12: 0 | J12: 0 | K12: 0 | L12: 2 | M12: 1 | N12: 2 | O12: 2 | P12: 0 | Q12: 1 | R12: 0 | S12: 0 | T12: 0 | U12: 0 | V12: 0 | W12: 0 | X12: 1 | Y12: 0 | Z12: 0 | AA12: 0 | AB12: 0
B13: Repetidos | C13: Aceptados | D13: =SUM(E13+F13) -> 84 | E13: =SUM(G13+I13+K13+M13+O13+Q13+S13+U13+W13+Y13+AA13) -> 44 | F13: =SUM(H13+J13+L13+N13+P13+R13+T13+V13+X13+Z13+AB13) -> 40 | G13: 0 | H13: 0 | I13: 2 | J13: 4 | K13: 8 | L13: 11 | M13: 4 | N13: 7 | O13: 5 | P13: 3 | Q13: 4 | R13: 3 | S13: 8 | T13: 6 | U13: 6 | V13: 3 | W13: 2 | X13: 1 | Y13: 5 | Z13: 1 | AA13: 0 | AB13: 1
A14: Reposición | C14: Aceptados | D14: =SUM(E14+F14) -> 262 | E14: =SUM(G14+I14+K14+M14+O14+Q14+S14+U14+W14+Y14+AA14) -> 149 | F14: =SUM(H14+J14+L14+N14+P14+R14+T14+V14+X14+Z14+AB14) -> 113 | G14: 2 | H14: 4 | I14: 12 | J14: 9 | K14: 19 | L14: 25 | M14: 25 | N14: 17 | O14: 23 | P14: 19 | Q14: 17 | R14: 7 | S14: 14 | T14: 14 | U14: 19 | V14: 8 | W14: 11 | X14: 7 | Y14: 7 | Z14: 3 | AA14: 0 | AB14: 0
A15: TOTAL | D15: =SUM(E15+F15) -> 355 | E15: =SUM(G15+I15+K15+M15+O15+Q15+S15+U15+W15+Y15+AA15) -> 197 | F15: =SUM(H15+J15+L15+N15+P15+R15+T15+V15+X15+Z15+AB15) -> 158 | G15: =SUM(G12:G14) -> 2 | H15: =SUM(H12:H14) -> 4 | I15: =SUM(I12:I14) -> 14 | J15: =SUM(J12:J14) -> 13 | K15: =SUM(K12:K14) -> 27 | L15: =SUM(L12:L14) -> 38 | M15: =SUM(M12:M14) -> 30 | N15: =SUM(N12:N14) -> 26 | ... AB15: =SUM(AB12:AB14) -> 1
A16: Total días atención otorgados | D16: 21
A17: Total colectas móviles realizadas
A18: SECCIÓN A.2: TIPO DE DONANTES CON CONTRAINDICACIÓN
A19: DONANTES | B19: DESCRIPCIÓN | D19: TOTAL | G19: RANGO ETARIO Y SEXO
G20: 17 años | I20: 18-19 años | K20: 20-24 años | M20: 25-29 años | O20: 30-34 años | Q20: 35-39 años | S20: 40-44 años | U20: 45-49 años | W20: 50-54 años | Y20: 55-59 años | AA20: 60-64 años | AC20: 65 y más años
D21: Ambos Sexos | E21: Hombres | F21: Mujeres | G21: Hombres | H21: Mujeres | I21: Hombres | J21: Mujeres | K21: Hombres | L21: Mujeres | M21: Hombres | N21: Mujeres | O21: Hombres | P21: Mujeres | Q21: Hombres | R21: Mujeres | S21: Hombres | T21: Mujeres | U21: Hombres | V21: Mujeres | W21: Hombres | X21: Mujeres | Y21: Hombres | Z21: Mujeres | AA21: Hombres | AB21: Mujeres | AC21: Hombres | AD21: Mujeres
A22: Altruistas | B22: Nuevos | C22: Contraindicación Transitoria | D22: =SUM(E22+F22) -> 3 | E22: =SUM(G22+I22+K22+M22+O22+Q22+S22+U22+W22+Y22+AA22+AC22) -> 0 | F22: =SUM(H22+J22+L22+N22+P22+R22+T22+V22+X22+Z22+AB22+AD22) -> 3 | G22: 0 | H22: 0 | I22: 0 | J22: 0 | K22: 0 | L22: 0 | M22: 0 | N22: 0 | O22: 0 | P22: 0 | Q22: 0 | R22: 1 | S22: 0 | T22: 1 | U22: 0 | V22: 0 | W22: 0 | X22: 0 | Y22: 0 | Z22: 0 | AA22: 0 | AB22: 1 | AC22: 0 | AD22: 0
C23: Contraindicación Permanente | D23: =SUM(E23+F23) -> 0 | E23: =SUM(G23+I23+K23+M23+O23+Q23+S23+U23+W23+Y23+AA23+AC23) -> 0 | F23: =SUM(H23+J23+L23+N23+P23+R23+T23+V23+X23+Z23+AB23+AD23) -> 0 | G23: 0 | H23: 0 | I23: 0 | J23: 0 | K23: 0 | L23: 0 | M23: 0 | N23: 0 | O23: 0 | P23: 0 | Q23: 0 | R23: 0 | S23: 0 | T23: 0 | U23: 0 | V23: 0 | W23: 0 | X23: 0 | Y23: 0 | Z23: 0 | AA23: 0 | AB23: 0 | AC23: 0 | AD23: 0
B24: Repetidos | C24: Contraindicación Transitoria | D24: =SUM(E24+F24) -> 8 | E24: =SUM(G24+I24+K24+M24+O24+Q24+S24+U24+W24+Y24+AA24+AC24) -> 2 | F24: =SUM(H24+J24+L24+N24+P24+R24+T24+V24+X24+Z24+AB24+AD24) -> 6 | G24: 0 | H24: 0 | I24: 1 | J24: 0 | K24: 0 | L24: 0 | M24: 0 | N24: 0 | O24: 0 | P24: 1 | Q24: 0 | R24: 1 | S24: 1 | T24: 0 | U24: 0 | V24: 0 | W24: 0 | X24: 1 | Y24: 0 | Z24: 3 | AA24: 0 | AB24: 0 | AC24: 0 | AD24: 0
C25: Contraindicación Permanente | D25: =SUM(E25+F25) -> 1 | E25: =SUM(G25+I25+K25+M25+O25+Q25+S25+U25+W25+Y25+AA25+AC25) -> 1 | F25: =SUM(H25+J25+L25+N25+P25+R25+T25+V25+X25+Z25+AB25+AD25) -> 0 | G25: 0 | H25: 0 | I25: 0 | J25: 0 | K25: 0 | L25: 0 | M25: 0 | N25: 0 | O25: 0 | P25: 0 | Q25: 0 | R25: 0 | S25: 0 | T25: 0 | U25: 0 | V25: 0 | W25: 0 | X25: 0 | Y25: 0 | Z25: 0 | AA25: 0 | AB25: 0 | AC25: 1 | AD25: 0
A26: Reposición | C26: Contraindicación Transitoria | D26: =SUM(E26+F26) -> 46 | E26: =SUM(G26+I26+K26+M26+O26+Q26+S26+U26+W26+Y26+AA26+AC26) -> 20 | F26: =SUM(H26+J26+L26+N26+P26+R26+T26+V26+X26+Z26+AB26+AD26) -> 26 | G26: 0 | H26: 0 | I26: 0 | J26: 0 | K26: 3 | L26: 5 | M26: 5 | N26: 4 | O26: 1 | P26: 4 | Q26: 2 | R26: 3 | S26: 0 | T26: 2 | U26: 3 | V26: 5 | W26: 4 | X26: 1 | Y26: 1 | Z26: 0 | AA26: 1 | AB26: 2 | AC26: 0 | AD26: 0
C27: Contraindicación Permanente | D27: =SUM(E27+F27) -> 3 | E27: =SUM(G27+I27+K27+M27+O27+Q27+S27+U27+W27+Y27+AA27+AC27) -> 3 | F27: =SUM(H27+J27+L27+N27+P27+R27+T27+V27+X27+Z27+AB27+AD27) -> 0 | G27: 0 | H27: 0 | I27: 0 | J27: 0 | K27: 0 | L27: 0 | M27: 0 | N27: 0 | O27: 1 | P27: 0 | Q27: 0 | R27: 0 | S27: 1 | T27: 0 | U27: 0 | V27: 0 | W27: 1 | X27: 0 | Y27: 0 | Z27: 0 | AA27: 0 | AB27: 0 | AC27: 0 | AD27: 0
A28: TOTAL | D28: =SUM(D22:D27) -> 61 | E28: =SUM(E22:E27) -> 26 | F28: =SUM(F22:F27) -> 35 | G28: =SUM(G22:G27) -> 0 | H28: =SUM(H22:H27) -> 0 | I28: =SUM(I22:I27) -> 1 | J28: =SUM(J22:J27) -> 0 | K28: =SUM(K22:K27) -> 3 | ... AD28: =SUM(AD22:AD27) -> 0
A29: SECCIÓN A.3: REACCIONES ADVERSAS A LA DONACIÓN (CS - UMT - BS)
A30: CLASIFICACIÓN | B30: TIPO | C30: SUBTIPO | E30: TOTAL | F30: Altruista | G30: Reposición
A31: Complicaciones con síntomas locales | B31: Sangre fuera de los vasos sanguíneos | C31: Hematoma | E31: =SUM(F31:G31) -> 1 | G31: 1
C32: Punción arterial | E32: =SUM(F32:G32) -> 0
C33: Sangramiento posterior | E33: =SUM(F33:G33) -> 0
B34: Dolor | C34: Irritación o injuria en un nervio | E34: =SUM(F34:G34) -> 0
C35: Brazo doloroso | E35: =SUM(F35:G35) -> 0
B36: Inflamación o infección localizada | C36: Tromboflebitis | E36: =SUM(F36:G36) -> 0
C37: Celulitis | E37: =SUM(F37:G37) -> 0
B38: Otras injurias mayores en los vasos sanguíneos | C38: Trombosis venosa profunda | E38: =SUM(F38:G38) -> 0
C39: Fístula arteriovenosa | E39: =SUM(F39:G39) -> 0
C40: Síndrome compartimental | E40: =SUM(F40:G40) -> 0
C41: Pseudoaneurisma de la arteria braquial | E41: =SUM(F41:G41) -> 0
A42: Complicaciones con síntomas generalizados | B42: Reacción vasovagal (RVV) | C42: Sin pérdida de conciencia | E42: =SUM(F42:G42) -> 10 | G42: 10
C43: Con pérdida de conciencia | D43: <60 segundos, sin complicaciones | E43: =SUM(F43:G43) -> 1 | G43: 1
D44: ≥ 60 segundos y/ o convulsiones o incontinencia | E44: =SUM(F44:G44) -> 0
C45: Con lesión | E45: =SUM(F45:G45) -> 0
C46: Sin lesión | E46: =SUM(F46:G46) -> 10 | G46: 10
C47: En el sitio de recolección | E47: =SUM(F47:G47) -> 6 | G47: 6
C48: Fuera del sitio de recolección | E48: =SUM(F48:G48) -> 0
A49: Complicaciones relacionadas a la aféresis | B49: Reacción al citrato | E49: =SUM(F49:G49) -> 0
B50: Hemólisis | E50: =SUM(F50:G50) -> 0
B51: Embolismo aéreo | E51: =SUM(F51:G51) -> 0
B52: Infiltración | E52: =SUM(F52:G52) -> 0
A53: Reacción alérgica | B53: Alergia local | E53: =SUM(F53:G53) -> 0
B54: Reacción alérgica generalizada (anafilaxia) | E54: =SUM(F54:G54) -> 0
A55: Otras complicaciones serias a la donación de sangre | B55: Síntomas agudos cardíacos | E55: =SUM(F55:G55) -> 0
B56: Infarto al miorcardio | E56: =SUM(F56:G56) -> 0
B57: Paro cardiaco | E57: =SUM(F57:G57) -> 0
B58: Ataque isquémico transitorio | E58: =SUM(F58:G58) -> 0
B59: Accidente cerebrovascular | E59: =SUM(F59:G59) -> 0
B60: Muerte | E60: =SUM(F60:G60) -> 0
A61: Otras complicaciones | B61: Otras no mencionadas | E61: =SUM(F61:G61) -> 0
A62: SECCIÓN B: INGRESO UNIDADES DE SANGRE A PRODUCCIÓN (CS-BS)
A63: UNIDADES DE SANGRE | B63: TOTAL
A64: Aptas
A65: No aptas
A66: TOTAL | B66: =SUM(B64+B65) -> 0
A67: SECCIÓN C: PRODUCCIÓN DE COMPONENTES SANGUÍNEOS (CS-BS)
A68: PRODUCCIÓN | B68: DESCRIPCIÓN | C68: TOTAL
A69: Glóbulos rojos | B69: Desplamatizados
B70: Leucoreducidos
B71: Bolsa con filtro
B72: Aféresis
A73: Plaquetas | B73: Estándar
B74: Leucorreducida pool
B75: Leucodepletada pool
B76: Aféresis
B77: Bolsa con filtro
A78: Plasmas | B78: Plasma fresco congelado terapéutico
B79: Plasma uso no terapéutico
B80: Aféresis
A81: Crioprecipitados
A82: SECCIÓN C.1: COMPONENTES SANGUÍNEOS ELIMINADOS (CS-BS )
A83: CAUSA | C83: Globulos Rojos* | D83: Plasmas* | E83: Plaquetas | H83: Crioprecipitados
E84: Estándar | F84: Pool* | G84: Aféresis
A85: Calificación microbiológica reactiva
A86: Obsolescencia
A87: Falla por cadena de frío en almacenamiento
A88: Falla por cadena de frío en transporte
A89: Otros
A90: TOTAL | C90: =SUM(C85:C89) -> 0 | D90: =SUM(D85:D89) -> 0 | E90: =SUM(E85:E89) -> 0 | F90: =SUM(F85:F89) -> 0 | G90: =SUM(G85:G89) -> 0 | H90: =SUM(H85:H89) -> 0
A91: * Cualquier tipo
A92: SECCIÓN C.2 .: COMPONENTES SANGUÍNEOS ELIMINADOS (UMT)
A93: CAUSA | C93: Globulos Rojos* | D93: Plasmas* | E93: Plaquetas | H93: Crioprecipitados
E94: Estándar | F94: Pool* | G94: Aféresis
A95: Obsolescencia | C95: 10 | D95: 5 | E95: 87 | H95: 0
A96: Falla por cadena de frío
A97: Devoluciones por producto por no cumplir estándar
A98: Descongelamiento sin uso | D98: 10
A99: Otros | C99: 5 | D99: 2 | E99: 2
A100: TOTAL | C100: =SUM(C95:C99) -> 15 | D100: =SUM(D95:D99) -> 17 | E100: =SUM(E95:E99) -> 89 | F100: =SUM(F95:F99) -> 0 | G100: =SUM(G95:G99) -> 0 | H100: =SUM(H95:H99) -> 0
A101: * Cualquier tipo
...

Sheet MAYO
A1: SERVICIO DE SALUD
A2: =CONCATENATE("COMUNA: ",[6]NOMBRE!B2, " (",[6]NOMBRE!C2,[6]NOMBRE!D2,[6]NOMBRE!E2,[6]NOMBRE!F2,[6]NOMBRE!G2,")") -> COMUNA: LINARES (07401)
A3: =CONCATENATE("ESTABLECIMIENTO/ESTRATEGIA: ", [6]NOMBRE!B3, " (",[6]NOMBRE!C3,[6]NOMBRE!D3,[6]NOMBRE!E3,[6]NOMBRE!F3,[6]NOMBRE!G3,[6]NOMBRE!H3,")") -> ESTABLECIMIENTO/ESTRATEGIA: HOSPITAL PRESIDENTE CARLOS IBAÑEZ DEL CAMPO (116108)
A4: =CONCATENATE("MES: ",[6]NOMBRE!B6, " (",[6]NOMBRE!C6,[6]NOMBRE!D6,")") -> MES: MAYO (05)
A5: =CONCATENATE("AÑO: ",[6]NOMBRE!B7) -> AÑO: 2025
A6: REM-25. SERVICIOS DE SANGRE
A8: SECCIÓN A.1: POBLACIÓN DONANTE (CS-UMT-BS)
A9: DONANTES | B9: DESCRIPCIÓN | D9: TOTAL | G9: RANGO ETARIO Y SEXO
G10: 18-19 años | I10: 20-24 años | K10: 25-29 años | M10: 30-34 años | O10: 35-39 años | Q10: 40-44 años | S10: 45-49 años | U10: 50-54 años | W10: 55-59 años | Y10: 60-64 años | AA10: 65 y más años
D11: Ambos Sexos | E11: Hombres | F11: Mujeres | G11: Hombres | H11: Mujeres | I11: Hombres | J11: Mujeres | K11: Hombres | L11: Mujeres | M11: Hombres | N11: Mujeres | O11: Hombres | P11: Mujeres | Q11: Hombres | R11: Mujeres | S11: Hombres | T11: Mujeres | U11: Hombres | V11: Mujeres | W11: Hombres | X11: Mujeres | Y11: Hombres | Z11: Mujeres | AA11: Hombres | AB11: Mujeres
A12: Altruistas | B12: Nuevos | C12: Aceptados | D12: =SUM(E12+F12) -> 51 | E12: =SUM(G12+I12+K12+M12+O12+Q12+S12+U12+W12+Y12+AA12) -> 21 | F12: =SUM(H12+J12+L12+N12+P12+R12+T12+V12+X12+Z12+AB12) -> 30 | G12: 1 | H12: 1 | I12: 4 | J12: 6 | K12: 1 | L12: 5 | M12: 1 | N12: 1 | O12: 0 | P12: 5 | Q12: 8 | R12: 3 | S12: 2 | T12: 0 | U12: 3 | V12: 4 | W12: 0 | X12: 4 | Y12: 1 | Z12: 0 | AA12: 0 | AB12: 1
B13: Repetidos | C13: Aceptados | D13: =SUM(E13+F13) -> 29 | E13: =SUM(G13+I13+K13+M13+O13+Q13+S13+U13+W13+Y13+AA13) -> 13 | F13: =SUM(H13+J13+L13+N13+P13+R13+T13+V13+X13+Z13+AB13) -> 16 | G13: 0 | H13: 0 | I13: 1 | J13: 2 | K13: 4 | L13: 3 | M13: 0 | N13: 3 | O13: 2 | P13: 4 | Q13: 1 | R13: 0 | S13: 2 | T13: 4 | U13: 2 | V13: 0 | W13: 0 | X13: 0 | Y13: 1 | Z13: 0 | AA13: 0 | AB13: 0
A14: Reposición | C14: Aceptados | D14: =SUM(E14+F14) -> 228 | E14: =SUM(G14+I14+K14+M14+O14+Q14+S14+U14+W14+Y14+AA14) -> 124 | F14: =SUM(H14+J14+L14+N14+P14+R14+T14+V14+X14+Z14+AB14) -> 104 | G14: 1 | H14: 4 | I14: 9 | J14: 8 | K14: 9 | L14: 18 | M14: 19 | N14: 15 | O14: 21 | P14: 13 | Q14: 16 | R14: 12 | S14: 19 | T14: 12 | U14: 15 | V14: 11 | W14: 9 | X14: 9 | Y14: 6 | Z14: 2 | AA14: 0 | AB14: 0
A15: TOTAL | D15: =SUM(E15+F15) -> 308 | E15: =SUM(G15+I15+K15+M15+O15+Q15+S15+U15+W15+Y15+AA15) -> 158 | F15: =SUM(H15+J15+L15+N15+P15+R15+T15+V15+X15+Z15+AB15) -> 150 | G15: =SUM(G12:G14) -> 2 | H15: =SUM(H12:H14) -> 5 | I15: =SUM(I12:I14) -> 14 | J15: =SUM(J12:J14) -> 16 | K15: =SUM(K12:K14) -> 14 | L15: =SUM(L12:L14) -> 26 | M15: =SUM(M12:M14) -> 20 | N15: =SUM(N12:N14) -> 19 | ... AB15: =SUM(AB12:AB14) -> 1
A16: Total días atención otorgados | D16: 20
A17: Total colectas móviles realizadas
A18: SECCIÓN A.2: TIPO DE DONANTES CON CONTRAINDICACIÓN
A19: DONANTES | B19: DESCRIPCIÓN | D19: TOTAL | G19: RANGO ETARIO Y SEXO
G20: 17 años | I20: 18-19 años | K20: 20-24 años | M20: 25-29 años | O20: 30-34 años | Q20: 35-39 años | S20: 40-44 años | U20: 45-49 años | W20: 50-54 años | Y20: 55-59 años | AA20: 60-64 años | AC20: 65 y más años
D21: Ambos Sexos | E21: Hombres | F21: Mujeres | G21: Hombres | H21: Mujeres | I21: Hombres | J21: Mujeres | K21: Hombres | L21: Mujeres | M21: Hombres | N21: Mujeres | O21: Hombres | P21: Mujeres | Q21: Hombres | R21: Mujeres | S21: Hombres | T21: Mujeres | U21: Hombres | V21: Mujeres | W21: Hombres | X21: Mujeres | Y21: Hombres | Z21: Mujeres | AA21: Hombres | AB21: Mujeres | AC21: Hombres | AD21: Mujeres
A22: Altruistas | B22: Nuevos | C22: Contraindicación Transitoria | D22: =SUM(E22+F22) -> 3 | E22: =SUM(G22+I22+K22+M22+O22+Q22+S22+U22+W22+Y22+AA22+AC22) -> 1 | F22: =SUM(H22+J22+L22+N22+P22+R22+T22+V22+X22+Z22+AB22+AD22) -> 2 | G22: 0 | H22: 0 | I22: 1 | J22: 1 | K22: 0 | L22: 1 | M22: 0 | N22: 0 | O22: 0 | P22: 0 | Q22: 0 | R22: 0 | S22: 0 | T22: 0 | U22: 0 | V22: 0 | W22: 0 | X22: 0 | Y22: 0 | Z22: 0 | AA22: 0 | AB22: 0 | AC22: 0 | AD22: 0
C23: Contraindicación Permanente | D23: =SUM(E23+F23) -> 0 | E23: =SUM(G23+I23+K23+M23+O23+Q23+S23+U23+W23+Y23+AA23+AC23) -> 0 | F23: =SUM(H23+J23+L23+N23+P23+R23+T23+V23+X23+Z23+AB23+AD23) -> 0 | G23: 0 | H23: 0 | I23: 0 | J23: 0 | K23: 0 | L23: 0 | M23: 0 | N23: 0 | O23: 0 | P23: 0 | Q23: 0 | R23: 0 | S23: 0 | T23: 0 | U23: 0 | V23: 0 | W23: 0 | X23: 0 | Y23: 0 | Z23: 0 | AA23: 0 | AB23: 0 | AC23: 0 | AD23: 0
B24: Repetidos | C24: Contraindicación Transitoria | D24: =SUM(E24+F24) -> 3 | E24: =SUM(G24+I24+K24+M24+O24+Q24+S24+U24+W24+Y24+AA24+AC24) -> 0 | F24: =SUM(H24+J24+L24+N24+P24+R24+T24+V24+X24+Z24+AB24+AD24) -> 3 | G24: 0 | H24: 0 | I24: 0 | J24: 0 | K24: 0 | L24: 0 | M24: 0 | N24: 0 | O24: 0 | P24: 0 | Q24: 0 | R24: 1 | S24: 0 | T24: 0 | U24: 0 | V24: 1 | W24: 0 | X24: 0 | Y24: 0 | Z24: 1 | AA24: 0 | AB24: 0 | AC24: 0 | AD24: 0
C25: Contraindicación Permanente | D25: =SUM(E25+F25) -> 0 | E25: =SUM(G25+I25+K25+M25+O25+Q25+S25+U25+W25+Y25+AA25+AC25) -> 0 | F25: =SUM(H25+J25+L25+N25+P25+R25+T25+V25+X25+Z25+AB25+AD25) -> 0 | G25: 0 | H25: 0 | I25: 0 | J25: 0 | K25: 0 | L25: 0 | M25: 0 | N25: 0 | O25: 0 | P25: 0 | Q25: 0 | R25: 0 | S25: 0 | T25: 0 | U25: 0 | V25: 0 | W25: 0 | X25: 0 | Y25: 0 | Z25: 0 | AA25: 0 | AB25: 0 | AC25: 0 | AD25: 0
A26: Reposición | C26: Contraindicación Transitoria | D26: =SUM(E26+F26) -> 37 | E26: =SUM(G26+I26+K26+M26+O26+Q26+S26+U26+W26+Y26+AA26+AC26) -> 11 | F26: =SUM(H26+J26+L26+N26+P26+R26+T26+V26+X26+Z26+AB26+AD26) -> 26 | G26: 0 | H26: 0 | I26: 1 | J26: 3 | K26: 0 | L26: 1 | M26: 0 | N26: 5 | O26: 2 | P26: 6 | Q26: 0 | R26: 3 | S26: 3 | T26: 5 | U26: 0 | V26: 1 | W26: 2 | X26: 0 | Y26: 2 | Z26: 2 | AA26: 1 | AB26: 0 | AC26: 0 | AD26: 0
C27: Contraindicación Permanente | D27: =SUM(E27+F27) -> 0 | E27: =SUM(G27+I27+K27+M27+O27+Q27+S27+U27+W27+Y27+AA27+AC27) -> 0 | F27: =SUM(H27+J27+L27+N27+P27+R27+T27+V27+X27+Z27+AB27+AD27) -> 0 | G27: 0 | H27: 0 | I27: 0 | J27: 0 | K27: 0 | L27: 0 | M27: 0 | N27: 0 | O27: 0 | P27: 0 | Q27: 0 | R27: 0 | S27: 0 | T27: 0 | U27: 0 | V27: 0 | W27: 0 | X27: 0 | Y27: 0 | Z27: 0 | AA27: 0 | AB27: 0 | AC27: 0 | AD27: 0
A28: TOTAL | D28: =SUM(D22:D27) -> 43 | E28: =SUM(E22:E27) -> 12 | F28: =SUM(F22:F27) -> 31 | G28: =SUM(G22:G27) -> 0 | H28: =SUM(H22:H27) -> 0 | I28: =SUM(I22:I27) -> 2 | J28: =SUM(J22:J27) -> 4 | K28: =SUM(K22:K27) -> 0 | ... AD28: =SUM(AD22:AD27) -> 0
A29: SECCIÓN A.3: REACCIONES ADVERSAS A LA DONACIÓN (CS - UMT - BS)
A30: CLASIFICACIÓN | B30: TIPO | C30: SUBTIPO | E30: TOTAL | F30: Altruista | G30: Reposición
A31: Complicaciones con síntomas locales | B31: Sangre fuera de los vasos sanguíneos | C31: Hematoma | E31: =SUM(F31:G31) -> 0
C32: Punción arterial | E32: =SUM(F32:G32) -> 0
C33: Sangramiento posterior | E33: =SUM(F33:G33) -> 0
B34: Dolor | C34: Irritación o injuria en un nervio | E34: =SUM(F34:G34) -> 0
C35: Brazo doloroso | E35: =SUM(F35:G35) -> 0
B36: Inflamación o infección localizada | C36: Tromboflebitis | E36: =SUM(F36:G36) -> 0
C37: Celulitis | E37: =SUM(F37:G37) -> 0
B38: Otras injurias mayores en los vasos sanguíneos | C38: Trombosis venosa profunda | E38: =SUM(F38:G38) -> 0
C39: Fístula arteriovenosa | E39: =SUM(F39:G39) -> 0
C40: Síndrome compartimental | E40: =SUM(F40:G40) -> 0
C41: Pseudoaneurisma de la arteria braquial | E41: =SUM(F41:G41) -> 0
A42: Complicaciones con síntomas generalizados | B42: Reacción vasovagal (RVV) | C42: Sin pérdida de conciencia | E42: =SUM(F42:G42) -> 4 | F42: 1 | G42: 3
C43: Con pérdida de conciencia | D43: <60 segundos, sin complicaciones | E43: =SUM(F43:G43) -> 1 | F43: 0 | G43: 1
D44: ≥ 60 segundos y/ o convulsiones o incontinencia | E44: =SUM(F44:G44) -> 0
C45: Con lesión | E45: =SUM(F45:G45) -> 0
C46: Sin lesión | E46: =SUM(F46:G46) -> 5 | F46: 1 | G46: 4
C47: En el sitio de recolección | E47: =SUM(F47:G47) -> 5 | F47: 1 | G47: 4
C48: Fuera del sitio de recolección | E48: =SUM(F48:G48) -> 0
A49: Complicaciones relacionadas a la aféresis | B49: Reacción al citrato | E49: =SUM(F49:G49) -> 0
B50: Hemólisis | E50: =SUM(F50:G50) -> 0
B51: Embolismo aéreo | E51: =SUM(F51:G51) -> 0
B52: Infiltración | E52: =SUM(F52:G52) -> 0
A53: Reacción alérgica | B53: Alergia local | E53: =SUM(F53:G53) -> 0
B54: Reacción alérgica generalizada (anafilaxia) | E54: =SUM(F54:G54) -> 0
A55: Otras complicaciones serias a la donación de sangre | B55: Síntomas agudos cardíacos | E55: =SUM(F55:G55) -> 0
B56: Infarto al miorcardio | E56: =SUM(F56:G56) -> 0
B57: Paro cardiaco | E57: =SUM(F57:G57) -> 0
B58: Ataque isquémico transitorio | E58: =SUM(F58:G58) -> 0
B59: Accidente cerebrovascular | E59: =SUM(F59:G59) -> 0
B60: Muerte | E60: =SUM(F60:G60) -> 0
A61: Otras complicaciones | B61: Otras no mencionadas | E61: =SUM(F61:G61) -> 0
A62: SECCIÓN B: INGRESO UNIDADES DE SANGRE A PRODUCCIÓN (CS-BS)
A63: UNIDADES DE SANGRE | B63: TOTAL
A64: Aptas
A65: No aptas
A66: TOTAL | B66: =SUM(B64+B65) -> 0
A67: SECCIÓN C: PRODUCCIÓN DE COMPONENTES SANGUÍNEOS (CS-BS)
A68: PRODUCCIÓN | B68: DESCRIPCIÓN | C68: TOTAL
A69: Glóbulos rojos | B69: Desplamatizados
B70: Leucoreducidos
B71: Bolsa con filtro
B72: Aféresis
A73: Plaquetas | B73: Estándar
B74: Leucorreducida pool
B75: Leucodepletada pool
B76: Aféresis
B77: Bolsa con filtro
A78: Plasmas | B78: Plasma fresco congelado terapéutico
B79: Plasma uso no terapéutico
B80: Aféresis
A81: Crioprecipitados
A82: SECCIÓN C.1: COMPONENTES SANGUÍNEOS ELIMINADOS (CS-BS )
A83: CAUSA | C83: Globulos Rojos* | D83: Plasmas* | E83: Plaquetas | H83: Crioprecipitados
E84: Estándar | F84: Pool* | G84: Aféresis
A85: Calificación microbiológica reactiva
A86: Obsolescencia
A87: Falla por cadena de frío en almacenamiento
A88: Falla por cadena de frío en transporte
A89: Otros
A90: TOTAL | C90: =SUM(C85:C89) -> 0 | D90: =SUM(D85:D89) -> 0 | E90: =SUM(E85:E89) -> 0 | F90: =SUM(F85:F89) -> 0 | G90: =SUM(G85:G89) -> 0 | H90: =SUM(H85:H89) -> 0
A91: * Cualquier tipo
A92: SECCIÓN C.2 .: COMPONENTES SANGUÍNEOS ELIMINADOS (UMT)
A93: CAUSA | C93: Globulos Rojos* | D93: Plasmas* | E93: Plaquetas | H93: Crioprecipitados
E94: Estándar | F94: Pool* | G94: Aféresis
A95: Obsolescencia | C95: 10 | E95: 134
A96: Falla por cadena de frío
A97: Devoluciones por producto por no cumplir estándar
A98: Descongelamiento sin uso | D98: 2
A99: Otros | C99: 6 | D99: 5 | E99: 5
A100: TOTAL | C100: =SUM(C95:C99) -> 16 | D100: =SUM(D95:D99) -> 7 | E100: =SUM(E95:E99) -> 139 | F100: =SUM(F95:F99) -> 0 | G100: =SUM(G95:G99) -> 0 | H100: =SUM(H95:H99) -> 0
A101: * Cualquier tipo
...

Sheet JUNIO
A1: SERVICIO DE SALUD
A2: =CONCATENATE("COMUNA: ",[7]NOMBRE!B2, " (",[7]NOMBRE!C2,[7]NOMBRE!D2,[7]NOMBRE!E2,[7]NOMBRE!F2,[7]NOMBRE!G2,")") -> COMUNA: LINARES (07401)
A3: =CONCATENATE("ESTABLECIMIENTO/ESTRATEGIA: ", [7]NOMBRE!B3, " (",[7]NOMBRE!C3,[7]NOMBRE!D3,[7]NOMBRE!E3,[7]NOMBRE!F3,[7]NOMBRE!G3,[7]NOMBRE!H3,")") -> ESTABLECIMIENTO/ESTRATEGIA: HOSPITAL PRESIDENTE CARLOS IBAÑEZ DEL CAMPO (116108)
A4: =CONCATENATE("MES: ",[7]NOMBRE!B6, " (",[7]NOMBRE!C6,[7]NOMBRE!D6,")") -> MES: JUNIO (06)
A5: =CONCATENATE("AÑO: ",[7]NOMBRE!B7) -> AÑO: 2025
A6: REM-25. SERVICIOS DE SANGRE
A8: SECCIÓN A.1: POBLACIÓN DONANTE (CS-UMT-BS)
A9: DONANTES | B9: DESCRIPCIÓN | D9: TOTAL | G9: RANGO ETARIO Y SEXO
G10: 18-19 años | I10: 20-24 años | K10: 25-29 años | M10: 30-34 años | O10: 35-39 años | Q10: 40-44 años | S10: 45-49 años | U10: 50-54 años | W10: 55-59 años | Y10: 60-64 años | AA10: 65 y más años
D11: Ambos Sexos | E11: Hombres | F11: Mujeres | G11: Hombres | H11: Mujeres | I11: Hombres | J11: Mujeres | K11: Hombres | L11: Mujeres | M11: Hombres | N11: Mujeres | O11: Hombres | P11: Mujeres | Q11: Hombres | R11: Mujeres | S11: Hombres | T11: Mujeres | U11: Hombres | V11: Mujeres | W11: Hombres | X11: Mujeres | Y11: Hombres | Z11: Mujeres | AA11: Hombres | AB11: Mujeres
A12: Altruistas | B12: Nuevos | C12: Aceptados | D12: =SUM(E12+F12) -> 62 | E12: =SUM(G12+I12+K12+M12+O12+Q12+S12+U12+W12+Y12+AA12) -> 25 | F12: =SUM(H12+J12+L12+N12+P12+R12+T12+V12+X12+Z12+AB12) -> 37 | G12: 0 | H12: 6 | I12: 2 | J12: 6 | K12: 3 | L12: 7 | M12: 1 | N12: 4 | O12: 6 | P12: 4 | Q12: 0 | R12: 0 | S12: 3 | T12: 4 | U12: 5 | V12: 3 | W12: 3 | X12: 2 | Y12: 2 | Z12: 1 | AA12: 0 | AB12: 0
B13: Repetidos | C13: Aceptados | D13: =SUM(E13+F13) -> 71 | E13: =SUM(G13+I13+K13+M13+O13+Q13+S13+U13+W13+Y13+AA13) -> 37 | F13: =SUM(H13+J13+L13+N13+P13+R13+T13+V13+X13+Z13+AB13) -> 34 | G13: 1 | H13: 1 | I13: 2 | J13: 2 | K13: 5 | L13: 5 | M13: 3 | N13: 3 | O13: 3 | P13: 5 | Q13: 7 | R13: 6 | S13: 7 | T13: 4 | U13: 4 | V13: 3 | W13: 1 | X13: 3 | Y13: 4 | Z13: 2 | AA13: 0 | AB13: 0
A14: Reposición | C14: Aceptados | D14: =SUM(E14+F14) -> 190 | E14: =SUM(G14+I14+K14+M14+O14+Q14+S14+U14+W14+Y14+AA14) -> 97 | F14: =SUM(H14+J14+L14+N14+P14+R14+T14+V14+X14+Z14+AB14) -> 93 | G14: 4 | H14: 6 | I14: 11 | J14: 7 | K14: 4 | L14: 11 | M14: 14 | N14: 10 | O14: 14 | P14: 12 | Q14: 10 | R14: 13 | S14: 8 | T14: 17 | U14: 9 | V14: 11 | W14: 20 | X14: 4 | Y14: 3 | Z14: 2 | AA14: 0 | AB14: 0
A15: TOTAL | D15: =SUM(E15+F15) -> 323 | E15: =SUM(G15+I15+K15+M15+O15+Q15+S15+U15+W15+Y15+AA15) -> 159 | F15: =SUM(H15+J15+L15+N15+P15+R15+T15+V15+X15+Z15+AB15) -> 164 | G15: =SUM(G12:G14) -> 5 | H15: =SUM(H12:H14) -> 13 | I15: =SUM(I12:I14) -> 15 | J15: =SUM(J12:J14) -> 15 | K15: =SUM(K12:K14) -> 12 | L15: =SUM(L12:L14) -> 23 | M15: =SUM(M12:M14) -> 18 | N15: =SUM(N12:N14) -> 17 | ... AB15: =SUM(AB12:AB14) -> 0
A16: Total días atención otorgados | D16: 21
A17: Total colectas móviles realizadas
A18: SECCIÓN A.2: TIPO DE DONANTES CON CONTRAINDICACIÓN
A19: DONANTES | B19: DESCRIPCIÓN | D19: TOTAL | G19: RANGO ETARIO Y SEXO
G20: 17 años | I20: 18-19 años | K20: 20-24 años | M20: 25-29 años | O20: 30-34 años | Q20: 35-39 años | S20: 40-44 años | U20: 45-49 años | W20: 50-54 años | Y20: 55-59 años | AA20: 60-64 años | AC20: 65 y más años
D21: Ambos Sexos | E21: Hombres | F21: Mujeres | G21: Hombres | H21: Mujeres | I21: Hombres | J21: Mujeres | K21: Hombres | L21: Mujeres | M21: Hombres | N21: Mujeres | O21: Hombres | P21: Mujeres | Q21: Hombres | R21: Mujeres | S21: Hombres | T21: Mujeres | U21: Hombres | V21: Mujeres | W21: Hombres | X21: Mujeres | Y21: Hombres | Z21: Mujeres | AA21: Hombres | AB21: Mujeres | AC21: Hombres | AD21: Mujeres
A22: Altruistas | B22: Nuevos | C22: Contraindicación Transitoria | D22: =SUM(E22+F22) -> 5 | E22: =SUM(G22+I22+K22+M22+O22+Q22+S22+U22+W22+Y22+AA22+AC22) -> 1 | F22: =SUM(H22+J22+L22+N22+P22+R22+T22+V22+X22+Z22+AB22+AD22) -> 4 | G22: 0 | H22: 0 | I22: 0 | J22: 2 | K22: 0 | L22: 2 | M22: 0 | N22: 0 | O22: 0 | P22: 0 | Q22: 0 | R22: 0 | S22: 1 | T22: 0 | U22: 0 | V22: 0 | W22: 0 | X22: 0 | Y22: 0 | Z22: 0 | AA22: 0 | AB22: 0 | AC22: 0 | AD22: 0
C23: Contraindicación Permanente | D23: =SUM(E23+F23) -> 0 | E23: =SUM(G23+I23+K23+M23+O23+Q23+S23+U23+W23+Y23+AA23+AC23) -> 0 | F23: =SUM(H23+J23+L23+N23+P23+R23+T23+V23+X23+Z23+AB23+AD23) -> 0 | G23: 0 | H23: 0 | I23: 0 | J23: 0 | K23: 0 | L23: 0 | M23: 0 | N23: 0 | O23: 0 | P23: 0 | Q23: 0 | R23: 0 | S23: 0 | T23: 0 | U23: 0 | V23: 0 | W23: 0 | X23: 0 | Y23: 0 | Z23: 0 | AA23: 0 | AB23: 0 | AC23: 0 | AD23: 0
B24: Repetidos | C24: Contraindicación Transitoria | D24: =SUM(E24+F24) -> 8 | E24: =SUM(G24+I24+K24+M24+O24+Q24+S24+U24+W24+Y24+AA24+AC24) -> 3 | F24: =SUM(H24+J24+L24+N24+P24+R24+T24+V24+X24+Z24+AB24+AD24) -> 5 | G24: 0 | H24: 0 | I24: 1 | J24: 0 | K24: 0 | L24: 1 | M24: 0 | N24: 0 | O24: 0 | P24: 0 | Q24: 0 | R24: 1 | S24: 0 | T24: 1 | U24: 1 | V24: 0 | W24: 0 | X24: 1 | Y24: 0 | Z24: 0 | AA24: 1 | AB24: 1 | AC24: 0 | AD24: 0
C25: Contraindicación Permanente | D25: =SUM(E25+F25) -> 0 | E25: =SUM(G25+I25+K25+M25+O25+Q25+S25+U25+W25+Y25+AA25+AC25) -> 0 | F25: =SUM(H25+J25+L25+N25+P25+R25+T25+V25+X25+Z25+AB25+AD25) -> 0 | G25: 0 | H25: 0 | I25: 0 | J25: 0 | K25: 0 | L25: 0 | M25: 0 | N25: 0 | O25: 0 | P25: 0 | Q25: 0 | R25: 0 | S25: 0 | T25: 0 | U25: 0 | V25: 0 | W25: 0 | X25: 0 | Y25: 0 | Z25: 0 | AA25: 0 | AB25: 0 | AC25: 0 | AD25: 0
A26: Reposición | C26: Contraindicación Transitoria | D26: =SUM(E26+F26) -> 27 | E26: =SUM(G26+I26+K26+M26+O26+Q26+S26+U26+W26+Y26+AA26+AC26) -> 12 | F26: =SUM(H26+J26+L26+N26+P26+R26+T26+V26+X26+Z26+AB26+AD26) -> 15 | G26: 0 | H26: 0 | I26: 0 | J26: 1 | K26: 1 | L26: 2 | M26: 1 | N26: 3 | O26: 2 | P26: 1 | Q26: 2 | R26: 1 | S26: 1 | T26: 2 | U26: 1 | V26: 1 | W26: 2 | X26: 1 | Y26: 1 | Z26: 1 | AA26: 1 | AB26: 2 | AC26: 0 | AD26: 0
C27: Contraindicación Permanente | D27: =SUM(E27+F27) -> 0 | E27: =SUM(G27+I27+K27+M27+O27+Q27+S27+U27+W27+Y27+AA27+AC27) -> 0 | F27: =SUM(H27+J27+L27+N27+P27+R27+T27+V27+X27+Z27+AB27+AD27) -> 0 | G27: 0 | H27: 0 | I27: 0 | J27: 0 | K27: 0 | L27: 0 | M27: 0 | N27: 0 | O27: 0 | P27: 0 | Q27: 0 | R27: 0 | S27: 0 | T27: 0 | U27: 0 | V27: 0 | W27: 0 | X27: 0 | Y27: 0 | Z27: 0 | AA27: 0 | AB27: 0 | AC27: 0 | AD27: 0
A28: TOTAL | D28: =SUM(D22:D27) -> 40 | E28: =SUM(E22:E27) -> 16 | F28: =SUM(F22:F27) -> 24 | G28: =SUM(G22:G27) -> 0 | H28: =SUM(H22:H27) -> 0 | I28: =SUM(I22:I27) -> 1 | J28: =SUM(J22:J27) -> 3 | K28: =SUM(K22:K27) -> 1 | ... AD28: =SUM(AD22:AD27) -> 0
A29: SECCIÓN A.3: REACCIONES ADVERSAS A LA DONACIÓN (CS - UMT - BS)
A30: CLASIFICACIÓN | B30: TIPO | C30: SUBTIPO | E30: TOTAL | F30: Altruista | G30: Reposición
A31: Complicaciones con síntomas locales | B31: Sangre fuera de los vasos sanguíneos | C31: Hematoma | E31: =SUM(F31:G31) -> 1 | F31: 0 | G31: 1
C32: Punción arterial | E32: =SUM(F32:G32) -> 0
C33: Sangramiento posterior | E33: =SUM(F33:G33) -> 0
B34: Dolor | C34: Irritación o injuria en un nervio | E34: =SUM(F34:G34) -> 0
C35: Brazo doloroso | E35: =SUM(F35:G35) -> 0
B36: Inflamación o infección localizada | C36: Tromboflebitis | E36: =SUM(F36:G36) -> 0
C37: Celulitis | E37: =SUM(F37:G37) -> 0
B38: Otras injurias mayores en los vasos sanguíneos | C38: Trombosis venosa profunda | E38: =SUM(F38:G38) -> 0
C39: Fístula arteriovenosa | E39: =SUM(F39:G39) -> 0
C40: Síndrome compartimental | E40: =SUM(F40:G40) -> 0
C41: Pseudoaneurisma de la arteria braquial | E41: =SUM(F41:G41) -> 0
A42: Complicaciones con síntomas generalizados | B42: Reacción vasovagal (RVV) | C42: Sin pérdida de conciencia | E42: =SUM(F42:G42) -> 4 | F42: 0 | G42: 4
C43: Con pérdida de conciencia | D43: <60 segundos, sin complicaciones | E43: =SUM(F43:G43) -> 0
D44: ≥ 60 segundos y/ o convulsiones o incontinencia | E44: =SUM(F44:G44) -> 0
C45: Con lesión | E45: =SUM(F45:G45) -> 0
C46: Sin lesión | E46: =SUM(F46:G46) -> 4 | F46: 0 | G46: 4
C47: En el sitio de recolección | E47: =SUM(F47:G47) -> 4 | F47: 0 | G47: 4
C48: Fuera del sitio de recolección | E48: =SUM(F48:G48) -> 0
A49: Complicaciones relacionadas a la aféresis | B49: Reacción al citrato | E49: =SUM(F49:G49) -> 0
B50: Hemólisis | E50: =SUM(F50:G50) -> 0
B51: Embolismo aéreo | E51: =SUM(F51:G51) -> 0
B52: Infiltración | E52: =SUM(F52:G52) -> 0
A53: Reacción alérgica | B53: Alergia local | E53: =SUM(F53:G53) -> 0
B54: Reacción alérgica generalizada (anafilaxia) | E54: =SUM(F54:G54) -> 0
A55: Otras complicaciones serias a la donación de sangre | B55: Síntomas agudos cardíacos | E55: =SUM(F55:G55) -> 0
B56: Infarto al miorcardio | E56: =SUM(F56:G56) -> 0
B57: Paro cardiaco | E57: =SUM(F57:G57) -> 0
B58: Ataque isquémico transitorio | E58: =SUM(F58:G58) -> 0
B59: Accidente cerebrovascular | E59: =SUM(F59:G59) -> 0
B60: Muerte | E60: =SUM(F60:G60) -> 0
A61: Otras complicaciones | B61: Otras no mencionadas | E61: =SUM(F61:G61) -> 0
A62: SECCIÓN B: INGRESO UNIDADES DE SANGRE A PRODUCCIÓN (CS-BS)
A63: UNIDADES DE SANGRE | B63: TOTAL
A64: Aptas
A65: No aptas
A66: TOTAL | B66: =SUM(B64+B65) -> 0
A67: SECCIÓN C: PRODUCCIÓN DE COMPONENTES SANGUÍNEOS (CS-BS)
A68: PRODUCCIÓN | B68: DESCRIPCIÓN | C68: TOTAL
A69: Glóbulos rojos | B69: Desplamatizados
B70: Leucoreducidos
B71: Bolsa con filtro
B72: Aféresis
A73: Plaquetas | B73: Estándar
B74: Leucorreducida pool
B75: Leucodepletada pool
B76: Aféresis
B77: Bolsa con filtro
A78: Plasmas | B78: Plasma fresco congelado terapéutico
B79: Plasma uso no terapéutico
B80: Aféresis
A81: Crioprecipitados
A82: SECCIÓN C.1: COMPONENTES SANGUÍNEOS ELIMINADOS (CS-BS )
A83: CAUSA | C83: Globulos Rojos* | D83: Plasmas* | E83: Plaquetas | H83: Crioprecipitados
E84: Estándar | F84: Pool* | G84: Aféresis
A85: Calificación microbiológica reactiva
A86: Obsolescencia
A87: Falla por cadena de frío en almacenamiento
A88: Falla por cadena de frío en transporte
A89: Otros
A90: TOTAL | C90: =SUM(C85:C89) -> 0 | D90: =SUM(D85:D89) -> 0 | E90: =SUM(E85:E89) -> 0 | F90: =SUM(F85:F89) -> 0 | G90: =SUM(G85:G89) -> 0 | H90: =SUM(H85:H89) -> 0
A91: * Cualquier tipo
A92: SECCIÓN C.2 .: COMPONENTES SANGUÍNEOS ELIMINADOS (UMT)
A93: CAUSA | C93: Globulos Rojos* | D93: Plasmas* | E93: Plaquetas | H93: Crioprecipitados
E94: Estándar | F94: Pool* | G94: Aféresis
A95: Obsolescencia | C95: 8 | D95: 7 | E95: 144
A96: Falla por cadena de frío | C96: 12
A97: Devoluciones por producto por no cumplir estándar
A98: Descongelamiento sin uso | D98: 6
A99: Otros | C99: 8
A100: TOTAL | C100: =SUM(C95:C99) -> 28 | D100: =SUM(D95:D99) -> 13 | E100: =SUM(E95:E99) -> 144 | F100: =SUM(F95:F99) -> 0 | G100: =SUM(G95:G99) -> 0 | H100: =SUM(H95:H99) -> 0
A101: * Cualquier tipo
...

Sheet JULIO
A1: SERVICIO DE SALUD
A2: =CONCATENATE("COMUNA: ",[8]NOMBRE!B2, " (",[8]NOMBRE!C2,[8]NOMBRE!D2,[8]NOMBRE!E2,[8]NOMBRE!F2,[8]NOMBRE!G2,")") -> COMUNA: LINARES (07401)
A3: =CONCATENATE("ESTABLECIMIENTO/ESTRATEGIA: ", [8]NOMBRE!B3, " (",[8]NOMBRE!C3,[8]NOMBRE!D3,[8]NOMBRE!E3,[8]NOMBRE!F3,[8]NOMBRE!G3,[8]NOMBRE!H3,")") -> ESTABLECIMIENTO/ESTRATEGIA: HOSPITAL PRESIDENTE CARLOS IBAÑEZ DEL CAMPO (116108)
A4: =CONCATENATE("MES: ",[8]NOMBRE!B6, " (",[8]NOMBRE!C6,[8]NOMBRE!D6,")") -> MES: JULIO (07)
A5: =CONCATENATE("AÑO: ",[8]NOMBRE!B7) -> AÑO: 2025
A6: REM-25. SERVICIOS DE SANGRE
A8: SECCIÓN A.1: POBLACIÓN DONANTE (CS-UMT-BS)
A9: DONANTES | B9: DESCRIPCIÓN | D9: TOTAL | G9: RANGO ETARIO Y SEXO
G10: 18-19 años | I10: 20-24 años | K10: 25-29 años | M10: 30-34 años | O10: 35-39 años | Q10: 40-44 años | S10: 45-49 años | U10: 50-54 años | W10: 55-59 años | Y10: 60-64 años | AA10: 65 y más años
D11: Ambos Sexos | E11: Hombres | F11: Mujeres | G11: Hombres | H11: Mujeres | I11: Hombres | J11: Mujeres | K11: Hombres | L11: Mujeres | M11: Hombres | N11: Mujeres | O11: Hombres | P11: Mujeres | Q11: Hombres | R11: Mujeres | S11: Hombres | T11: Mujeres | U11: Hombres | V11: Mujeres | W11: Hombres | X11: Mujeres | Y11: Hombres | Z11: Mujeres | AA11: Hombres | AB11: Mujeres
A12: Altruistas | B12: Nuevos | C12: Aceptados | D12: =SUM(E12+F12) -> 38 | E12: =SUM(G12+I12+K12+M12+O12+Q12+S12+U12+W12+Y12+AA12) -> 18 | F12: =SUM(H12+J12+L12+N12+P12+R12+T12+V12+X12+Z12+AB12) -> 20 | G12: 2 | H12: 5 | I12: 4 | J12: 4 | K12: 1 | L12: 2 | M12: 2 | N12: 5 | O12: 2 | P12: 3 | Q12: 3 | R12: 1 | S12: 0 | T12: 0 | U12: 3 | V12: 0 | W12: 0 | X12: 0 | Y12: 1 | Z12: 0 | AA12: 0 | AB12: 0
B13: Repetidos | C13: Aceptados | D13: =SUM(E13+F13) -> 50 | E13: =SUM(G13+I13+K13+M13+O13+Q13+S13+U13+W13+Y13+AA13) -> 30 | F13: =SUM(H13+J13+L13+N13+P13+R13+T13+V13+X13+Z13+AB13) -> 20 | G13: 1 | H13: 0 | I13: 2 | J13: 3 | K13: 3 | L13: 2 | M13: 7 | N13: 4 | O13: 6 | P13: 2 | Q13: 6 | R13: 0 | S13: 2 | T13: 0 | U13: 0 | V13: 6 | W13: 1 | X13: 0 | Y13: 2 | Z13: 3 | AA13: 0
A14: Reposición | C14: Aceptados | D14: =SUM(E14+F14) -> 304 | E14: =SUM(G14+I14+K14+M14+O14+Q14+S14+U14+W14+Y14+AA14) -> 142 | F14: =SUM(H14+J14+L14+N14+P14+R14+T14+V14+X14+Z14+AB14) -> 162 | G14: 5 | H14: 6 | I14: 16 | J14: 15 | K14: 11 | L14: 16 | M14: 24 | N14: 32 | O14: 11 | P14: 26 | Q14: 22 | R14: 21 | S14: 18 | T14: 13 | U14: 19 | V14: 13 | W14: 11 | X14: 11 | Y14: 5 | Z14: 9 | AA14: 0 | AB14: 0
A15: TOTAL | D15: =SUM(E15+F15) -> 392 | E15: =SUM(G15+I15+K15+M15+O15+Q15+S15+U15+W15+Y15+AA15) -> 190 | F15: =SUM(H15+J15+L15+N15+P15+R15+T15+V15+X15+Z15+AB15) -> 202 | G15: =SUM(G12:G14) -> 8 | H15: =SUM(H12:H14) -> 11 | I15: =SUM(I12:I14) -> 22 | J15: =SUM(J12:J14) -> 22 | K15: =SUM(K12:K14) -> 15 | L15: =SUM(L12:L14) -> 20 | M15: =SUM(M12:M14) -> 33 | N15: =SUM(N12:N14) -> 41 | ... AB15: =SUM(AB12:AB14) -> 0
A16: Total días atención otorgados | D16: 23
A17: Total colectas móviles realizadas
A18: SECCIÓN A.2: TIPO DE DONANTES CON CONTRAINDICACIÓN
A19: DONANTES | B19: DESCRIPCIÓN | D19: TOTAL | G19: RANGO ETARIO Y SEXO
G20: 17 años | I20: 18-19 años | K20: 20-24 años | M20: 25-29 años | O20: 30-34 años | Q20: 35-39 años | S20: 40-44 años | U20: 45-49 años | W20: 50-54 años | Y20: 55-59 años | AA20: 60-64 años | AC20: 65 y más años
D21: Ambos Sexos | E21: Hombres | F21: Mujeres | G21: Hombres | H21: Mujeres | I21: Hombres | J21: Mujeres | K21: Hombres | L21: Mujeres | M21: Hombres | N21: Mujeres | O21: Hombres | P21: Mujeres | Q21: Hombres | R21: Mujeres | S21: Hombres | T21: Mujeres | U21: Hombres | V21: Mujeres | W21: Hombres | X21: Mujeres | Y21: Hombres | Z21: Mujeres | AA21: Hombres | AB21: Mujeres | AC21: Hombres | AD21: Mujeres
A22: Altruistas | B22: Nuevos | C22: Contraindicación Transitoria | D22: =SUM(E22+F22) -> 8 | E22: =SUM(G22+I22+K22+M22+O22+Q22+S22+U22+W22+Y22+AA22+AC22) -> 4 | F22: =SUM(H22+J22+L22+N22+P22+R22+T22+V22+X22+Z22+AB22+AD22) -> 4 | G22: 0 | H22: 0 | I22: 0 | J22: 0 | K22: 1 | L22: 1 | M22: 0 | N22: 0 | O22: 0 | P22: 0 | Q22: 0 | R22: 2 | S22: 1 | T22: 1 | U22: 0 | V22: 0 | W22: 1 | X22: 0 | Y22: 1 | Z22: 0 | AA22: 0 | AB22: 0 | AC22: 0 | AD22: 0
C23: Contraindicación Permanente | D23: =SUM(E23+F23) -> 0 | E23: =SUM(G23+I23+K23+M23+O23+Q23+S23+U23+W23+Y23+AA23+AC23) -> 0 | F23: =SUM(H23+J23+L23+N23+P23+R23+T23+V23+X23+Z23+AB23+AD23) -> 0 | G23: 0 | H23: 0 | I23: 0 | J23: 0 | K23: 0 | L23: 0 | M23: 0 | N23: 0 | O23: 0 | P23: 0 | Q23: 0 | R23: 0 | S23: 0 | T23: 0 | U23: 0 | V23: 0 | W23: 0 | X23: 0 | Y23: 0 | Z23: 0 | AA23: 0 | AB23: 0 | AC23: 0 | AD23: 0
B24: Repetidos | C24: Contraindicación Transitoria | D24: =SUM(E24+F24) -> 0 | E24: =SUM(G24+I24+K24+M24+O24+Q24+S24+U24+W24+Y24+AA24+AC24) -> 0 | F24: =SUM(H24+J24+L24+N24+P24+R24+T24+V24+X24+Z24+AB24+AD24) -> 0 | G24: 0 | H24: 0 | I24: 0 | J24: 0 | K24: 0 | L24: 0 | M24: 0 | N24: 0 | O24: 0 | P24: 0 | Q24: 0 | R24: 0 | S24: 0 | T24: 0 | U24: 0 | V24: 0 | W24: 0 | X24: 0 | Y24: 0 | Z24: 0 | AA24: 0 | AB24: 0 | AC24: 0 | AD24: 0
C25: Contraindicación Permanente | D25: =SUM(E25+F25) -> 0 | E25: =SUM(G25+I25+K25+M25+O25+Q25+S25+U25+W25+Y25+AA25+AC25) -> 0 | F25: =SUM(H25+J25+L25+N25+P25+R25+T25+V25+X25+Z25+AB25+AD25) -> 0 | G25: 0 | H25: 0 | I25: 0 | J25: 0 | K25: 0 | L25: 0 | M25: 0 | N25: 0 | O25: 0 | P25: 0 | Q25: 0 | S25: 0 | T25: 0 | U25: 0 | V25: 0 | W25: 0 | X25: 0 | Y25: 0 | Z25: 0 | AA25: 0 | AB25: 0 | AC25: 0 | AD25: 0
A26: Reposición | C26: Contraindicación Transitoria | D26: =SUM(E26+F26) -> 59 | E26: =SUM(G26+I26+K26+M26+O26+Q26+S26+U26+W26+Y26+AA26+AC26) -> 25 | F26: =SUM(H26+J26+L26+N26+P26+R26+T26+V26+X26+Z26+AB26+AD26) -> 34 | G26: 0 | H26: 0 | I26: 2 | J26: 2 | K26: 2 | L26: 2 | M26: 2 | N26: 5 | O26: 9 | P26: 5 | Q26: 2 | R26: 6 | S26: 2 | T26: 3 | U26: 1 | V26: 4 | W26: 3 | X26: 3 | Y26: 1 | Z26: 2 | AA26: 1 | AB26: 1 | AC26: 0 | AD26: 1
C27: Contraindicación Permanente | D27: =SUM(E27+F27) -> 2 | E27: =SUM(G27+I27+K27+M27+O27+Q27+S27+U27+W27+Y27+AA27+AC27) -> 1 | F27: =SUM(H27+J27+L27+N27+P27+R27+T27+V27+X27+Z27+AB27+AD27) -> 1 | G27: 0 | H27: 0 | I27: 0 | J27: 0 | K27: 0 | L27: 0 | M27: 0 | N27: 0 | O27: 0 | P27: 0 | Q27: 0 | R27: 0 | S27: 1 | T27: 0 | U27: 0 | V27: 0 | W27: 0 | X27: 1 | Y27: 0 | Z27: 0 | AA27: 0 | AB27: 0 | AC27: 0 | AD27: 0
A28: TOTAL | D28: =SUM(D22:D27) -> 69 | E28: =SUM(E22:E27) -> 30 | F28: =SUM(F22:F27) -> 39 | G28: =SUM(G22:G27) -> 0 | H28: =SUM(H22:H27) -> 0 | I28: =SUM(I22:I27) -> 2 | J28: =SUM(J22:J27) -> 2 | K28: =SUM(K22:K27) -> 3 | ... AD28: =SUM(AD22:AD27) -> 1
A29: SECCIÓN A.3: REACCIONES ADVERSAS A LA DONACIÓN (CS - UMT - BS)
A30: CLASIFICACIÓN | B30: TIPO | C30: SUBTIPO | E30: TOTAL | F30: Altruista | G30: Reposición
A31: Complicaciones con síntomas locales | B31: Sangre fuera de los vasos sanguíneos | C31: Hematoma | E31: =SUM(F31:G31) -> 1 | F31: 1 | G31: 0
C32: Punción arterial | E32: =SUM(F32:G32) -> 0 | F32: 0 | G32: 0
C33: Sangramiento posterior | E33: =SUM(F33:G33) -> 0 | F33: 0 | G33: 0
B34: Dolor | C34: Irritación o injuria en un nervio | E34: =SUM(F34:G34) -> 0 | F34: 0 | G34: 0
C35: Brazo doloroso | E35: =SUM(F35:G35) -> 0 | F35: 0 | G35: 0
B36: Inflamación o infección localizada | C36: Tromboflebitis | E36: =SUM(F36:G36) -> 0 | F36: 0 | G36: 0
C37: Celulitis | E37: =SUM(F37:G37) -> 0 | F37: 0 | G37: 0
B38: Otras injurias mayores en los vasos sanguíneos | C38: Trombosis venosa profunda | E38: =SUM(F38:G38) -> 0 | F38: 0 | G38: 0
C39: Fístula arteriovenosa | E39: =SUM(F39:G39) -> 0 | F39: 0 | G39: 0
C40: Síndrome compartimental | E40: =SUM(F40:G40) -> 0 | F40: 0 | G40: 0
C41: Pseudoaneurisma de la arteria braquial | E41: =SUM(F41:G41) -> 0 | F41: 0 | G41: 0
A42: Complicaciones con síntomas generalizados | B42: Reacción vasovagal (RVV) | C42: Sin pérdida de conciencia | E42: =SUM(F42:G42) -> 6 | F42: 2 | G42: 4
C43: Con pérdida de conciencia | D43: <60 segundos, sin complicaciones | E43: =SUM(F43:G43) -> 1 | F43: 1
D44: ≥ 60 segundos y/ o convulsiones o incontinencia | E44: =SUM(F44:G44) -> 1 | F44: 1
C45: Con lesión | E45: =SUM(F45:G45) -> 1 | F45: 1 | G45: 0
C46: Sin lesión | E46: =SUM(F46:G46) -> 6 | F46: 1 | G46: 5
C47: En el sitio de recolección | E47: =SUM(F47:G47) -> 3 | F47: 1 | G47: 2
C48: Fuera del sitio de recolección | E48: =SUM(F48:G48) -> 5 | F48: 2 | G48: 3
A49: Complicaciones relacionadas a la aféresis | B49: Reacción al citrato | E49: =SUM(F49:G49) -> 0
B50: Hemólisis | E50: =SUM(F50:G50) -> 0
B51: Embolismo aéreo | E51: =SUM(F51:G51) -> 0
B52: Infiltración | E52: =SUM(F52:G52) -> 0
A53: Reacción alérgica | B53: Alergia local | E53: =SUM(F53:G53) -> 0
B54: Reacción alérgica generalizada (anafilaxia) | E54: =SUM(F54:G54) -> 0
A55: Otras complicaciones serias a la donación de sangre | B55: Síntomas agudos cardíacos | E55: =SUM(F55:G55) -> 0
B56: Infarto al miorcardio | E56: =SUM(F56:G56) -> 0
B57: Paro cardiaco | E57: =SUM(F57:G57) -> 0
B58: Ataque isquémico transitorio | E58: =SUM(F58:G58) -> 0
B59: Accidente cerebrovascular | E59: =SUM(F59:G59) -> 0
B60: Muerte | E60: =SUM(F60:G60) -> 0
A61: Otras complicaciones | B61: Otras no mencionadas | E61: =SUM(F61:G61) -> 0
A62: SECCIÓN B: INGRESO UNIDADES DE SANGRE A PRODUCCIÓN (CS-BS)
A63: UNIDADES DE SANGRE | B63: TOTAL
A64: Aptas
A65: No aptas
A66: TOTAL | B66: =SUM(B64+B65) -> 0
A67: SECCIÓN C: PRODUCCIÓN DE COMPONENTES SANGUÍNEOS (CS-BS)
A68: PRODUCCIÓN | B68: DESCRIPCIÓN | C68: TOTAL
A69: Glóbulos rojos | B69: Desplamatizados
B70: Leucoreducidos
B71: Bolsa con filtro
B72: Aféresis
A73: Plaquetas | B73: Estándar
B74: Leucorreducida pool
B75: Leucodepletada pool
B76: Aféresis
B77: Bolsa con filtro
A78: Plasmas | B78: Plasma fresco congelado terapéutico
B79: Plasma uso no terapéutico
B80: Aféresis
A81: Crioprecipitados
A82: SECCIÓN C.1: COMPONENTES SANGUÍNEOS ELIMINADOS (CS-BS )
A83: CAUSA | C83: Globulos Rojos* | D83: Plasmas* | E83: Plaquetas | H83: Crioprecipitados
E84: Estándar | F84: Pool* | G84: Aféresis
A85: Calificación microbiológica reactiva
A86: Obsolescencia
A87: Falla por cadena de frío en almacenamiento
A88: Falla por cadena de frío en transporte
A89: Otros
A90: TOTAL | C90: =SUM(C85:C89) -> 0 | D90: =SUM(D85:D89) -> 0 | E90: =SUM(E85:E89) -> 0 | F90: =SUM(F85:F89) -> 0 | G90: =SUM(G85:G89) -> 0 | H90: =SUM(H85:H89) -> 0
A91: * Cualquier tipo
A92: SECCIÓN C.2 .: COMPONENTES SANGUÍNEOS ELIMINADOS (UMT)
A93: CAUSA | C93: Globulos Rojos* | D93: Plasmas* | E93: Plaquetas | H93: Crioprecipitados
E94: Estándar | F94: Pool* | G94: Aféresis
A95: Obsolescencia | C95: 12 | D95: 2 | E95: 131 | F95: 0 | G95: 0 | H95: 0
A96: Falla por cadena de frío | C96: 0 | D96: 0 | E96: 0 | F96: 0 | G96: 0 | H96: 0
A97: Devoluciones por producto por no cumplir estándar | C97: 0 | D97: 0 | E97: 0 | F97: 0 | G97: 0 | H97: 0
A98: Descongelamiento sin uso | C98: 0 | D98: 1 | E98: 0 | F98: 0 | G98: 0 | H98: 0
A99: Otros | C99: 3 | D99: 3 | E99: 4 | F99: 0 | G99: 0 | H99: 0
A100: TOTAL | C100: =SUM(C95:C99) -> 15 | D100: =SUM(D95:D99) -> 6 | E100: =SUM(E95:E99) -> 135 | F100: =SUM(F95:F99) -> 0 | G100: =SUM(G95:G99) -> 0 | H100: =SUM(H95:H99) -> 0
A101: * Cualquier tipo
...

Sheet AGOSTO
A1: SERVICIO DE SALUD
A2: =CONCATENATE("COMUNA: ",[9]NOMBRE!B2, " (",[9]NOMBRE!C2,[9]NOMBRE!D2,[9]NOMBRE!E2,[9]NOMBRE!F2,[9]NOMBRE!G2,")") -> COMUNA: LINARES (07401)
A3: =CONCATENATE("ESTABLECIMIENTO/ESTRATEGIA: ", [9]NOMBRE!B3, " (",[9]NOMBRE!C3,[9]NOMBRE!D3,[9]NOMBRE!E3,[9]NOMBRE!F3,[9]NOMBRE!G3,[9]NOMBRE!H3,")") -> ESTABLECIMIENTO/ESTRATEGIA: HOSPITAL PRESIDENTE CARLOS IBAÑEZ DEL CAMPO (116108)
A4: =CONCATENATE("MES: ",[9]NOMBRE!B6, " (",[9]NOMBRE!C6,[9]NOMBRE!D6,")") -> MES: AGOSTO (08)
A5: =CONCATENATE("AÑO: ",[9]NOMBRE!B7) -> AÑO: 2025
A6: REM-25. SERVICIOS DE SANGRE
A8: SECCIÓN A.1: POBLACIÓN DONANTE (CS-UMT-BS)
A9: DONANTES | B9: DESCRIPCIÓN | D9: TOTAL | G9: RANGO ETARIO Y SEXO
G10: 18-19 años | I10: 20-24 años | K10: 25-29 años | M10: 30-34 años | O10: 35-39 años | Q10: 40-44 años | S10: 45-49 años | U10: 50-54 años | W10: 55-59 años | Y10: 60-64 años | AA10: 65 y más años
D11: Ambos Sexos | E11: Hombres | F11: Mujeres | G11: Hombres | H11: Mujeres | I11: Hombres | J11: Mujeres | K11: Hombres | L11: Mujeres | M11: Hombres | N11: Mujeres | O11: Hombres | P11: Mujeres | Q11: Hombres | R11: Mujeres | S11: Hombres | T11: Mujeres | U11: Hombres | V11: Mujeres | W11: Hombres | X11: Mujeres | Y11: Hombres | Z11: Mujeres | AA11: Hombres | AB11: Mujeres
A12: Altruistas | B12: Nuevos | C12: Aceptados | D12: =SUM(E12+F12) -> 48 | E12: =SUM(G12+I12+K12+M12+O12+Q12+S12+U12+W12+Y12+AA12) -> 24 | F12: =SUM(H12+J12+L12+N12+P12+R12+T12+V12+X12+Z12+AB12) -> 24 | G12: 0 | H12: 0 | I12: 2 | J12: 3 | K12: 4 | L12: 3 | M12: 2 | N12: 4 | O12: 5 | P12: 4 | Q12: 6 | R12: 2 | S12: 1 | T12: 3 | U12: 1 | V12: 2 | W12: 2 | X12: 3 | Y12: 1 | Z12: 0 | AA12: 0 | AB12: 0
B13: Repetidos | C13: Aceptados | D13: =SUM(E13+F13) -> 65 | E13: =SUM(G13+I13+K13+M13+O13+Q13+S13+U13+W13+Y13+AA13) -> 29 | F13: =SUM(H13+J13+L13+N13+P13+R13+T13+V13+X13+Z13+AB13) -> 36 | G13: 0 | H13: 0 | I13: 2 | J13: 4 | K13: 0 | L13: 8 | M13: 4 | N13: 4 | O13: 3 | P13: 7 | Q13: 3 | R13: 6 | S13: 5 | T13: 3 | U13: 6 | V13: 1 | W13: 3 | X13: 2 | Y13: 3 | Z13: 1 | AA13: 0 | AB13: 0
A14: Reposición | C14: Aceptados | D14: =SUM(E14+F14) -> 185 | E14: =SUM(G14+I14+K14+M14+O14+Q14+S14+U14+W14+Y14+AA14) -> 98 | F14: =SUM(H14+J14+L14+N14+P14+R14+T14+V14+X14+Z14+AB14) -> 87 | G14: 4 | H14: 4 | I14: 16 | J14: 8 | K14: 7 | L14: 14 | M14: 20 | N14: 13 | O14: 14 | P14: 13 | Q14: 13 | R14: 12 | S14: 11 | T14: 10 | U14: 5 | V14: 8 | W14: 7 | X14: 4 | Y14: 1 | Z14: 1 | AA14: 0 | AB14: 0
A15: TOTAL | D15: =SUM(E15+F15) -> 298 | E15: =SUM(G15+I15+K15+M15+O15+Q15+S15+U15+W15+Y15+AA15) -> 151 | F15: =SUM(H15+J15+L15+N15+P15+R15+T15+V15+X15+Z15+AB15) -> 147 | G15: =SUM(G12:G14) -> 4 | H15: =SUM(H12:H14) -> 4 | I15: =SUM(I12:I14) -> 20 | J15: =SUM(J12:J14) -> 15 | K15: =SUM(K12:K14) -> 11 | L15: =SUM(L12:L14) -> 25 | M15: =SUM(M12:M14) -> 26 | N15: =SUM(N12:N14) -> 21 | ... AB15: =SUM(AB12:AB14) -> 0
A16: Total días atención otorgados | D16: 23
A17: Total colectas móviles realizadas
A18: SECCIÓN A.2: TIPO DE DONANTES CON CONTRAINDICACIÓN
A19: DONANTES | B19: DESCRIPCIÓN | D19: TOTAL | G19: RANGO ETARIO Y SEXO
G20: 17 años | I20: 18-19 años | K20: 20-24 años | M20: 25-29 años | O20: 30-34 años | Q20: 35-39 años | S20: 40-44 años | U20: 45-49 años | W20: 50-54 años | Y20: 55-59 años | AA20: 60-64 años | AC20: 65 y más años
D21: Ambos Sexos | E21: Hombres | F21: Mujeres | G21: Hombres | H21: Mujeres | I21: Hombres | J21: Mujeres | K21: Hombres | L21: Mujeres | M21: Hombres | N21: Mujeres | O21: Hombres | P21: Mujeres | Q21: Hombres | R21: Mujeres | S21: Hombres | T21: Mujeres | U21: Hombres | V21: Mujeres | W21: Hombres | X21: Mujeres | Y21: Hombres | Z21: Mujeres | AA21: Hombres | AB21: Mujeres | AC21: Hombres | AD21: Mujeres
A22: Altruistas | B22: Nuevos | C22: Contraindicación Transitoria | D22: =SUM(E22+F22) -> 5 | E22: =SUM(G22+I22+K22+M22+O22+Q22+S22+U22+W22+Y22+AA22+AC22) -> 2 | F22: =SUM(H22+J22+L22+N22+P22+R22+T22+V22+X22+Z22+AB22+AD22) -> 3 | G22: 0 | H22: 0 | I22: 0 | J22: 0 | K22: 1 | L22: 1 | M22: 0 | N22: 0 | O22: 0 | P22: 1 | Q22: 0 | R22: 1 | S22: 0 | T22: 0 | U22: 0 | V22: 0 | W22: 1 | X22: 0 | Y22: 0 | Z22: 0 | AA22: 0 | AB22: 0 | AC22: 0 | AD22: 0
C23: Contraindicación Permanente | D23: =SUM(E23+F23) -> 0 | E23: =SUM(G23+I23+K23+M23+O23+Q23+S23+U23+W23+Y23+AA23+AC23) -> 0 | F23: =SUM(H23+J23+L23+N23+P23+R23+T23+V23+X23+Z23+AB23+AD23) -> 0 | G23: 0 | H23: 0 | I23: 0 | J23: 0 | K23: 0 | L23: 0 | M23: 0 | N23: 0 | O23: 0 | P23: 0 | Q23: 0 | R23: 0 | S23: 0 | T23: 0 | V23: 0 | W23: 0 | X23: 0 | Y23: 0 | Z23: 0 | AA23: 0 | AB23: 0 | AC23: 0 | AD23: 0
B24: Repetidos | C24: Contraindicación Transitoria | D24: =SUM(E24+F24) -> 3 | E24: =SUM(G24+I24+K24+M24+O24+Q24+S24+U24+W24+Y24+AA24+AC24) -> 2 | F24: =SUM(H24+J24+L24+N24+P24+R24+T24+V24+X24+Z24+AB24+AD24) -> 1 | G24: 0 | H24: 0 | I24: 0 | J24: 0 | K24: 0 | L24: 0 | M24: 0 | N24: 0 | O24: 0 | P24: 0 | Q24: 0 | R24: 1 | S24: 1 | T24: 0 | U24: 0 | V24: 0 | W24: 1 | X24: 0 | Y24: 0 | Z24: 0 | AA24: 0 | AB24: 0 | AC24: 0 | AD24: 0
C25: Contraindicación Permanente | D25: =SUM(E25+F25) -> 0 | E25: =SUM(G25+I25+K25+M25+O25+Q25+S25+U25+W25+Y25+AA25+AC25) -> 0 | F25: =SUM(H25+J25+L25+N25+P25+R25+T25+V25+X25+Z25+AB25+AD25) -> 0 | G25: 0 | H25: 0 | I25: 0 | J25: 0 | K25: 0 | L25: 0 | M25: 0 | N25: 0 | O25: 0 | P25: 0 | Q25: 0 | R25: 0 | S25: 0 | T25: 0 | U25: 0 | V25: 0 | W25: 0 | X25: 0 | Y25: 0 | Z25: 0 | AA25: 0 | AB25: 0 | AC25: 0 | AD25: 0
A26: Reposición | C26: Contraindicación Transitoria | D26: =SUM(E26+F26) -> 29 | E26: =SUM(G26+I26+K26+M26+O26+Q26+S26+U26+W26+Y26+AA26+AC26) -> 10 | F26: =SUM(H26+J26+L26+N26+P26+R26+T26+V26+X26+Z26+AB26+AD26) -> 19 | G26: 0 | H26: 0 | I26: 1 | J26: 1 | K26: 2 | L26: 1 | M26: 1 | N26: 4 | O26: 2 | P26: 5 | Q26: 0 | R26: 3 | S26: 0 | T26: 1 | U26: 0 | V26: 2 | W26: 2 | X26: 2 | Y26: 1 | Z26: 0 | AA26: 0 | AB26: 0 | AC26: 1 | AD26: 0
C27: Contraindicación Permanente | D27: =SUM(E27+F27) -> 2 | E27: =SUM(G27+I27+K27+M27+O27+Q27+S27+U27+W27+Y27+AA27+AC27) -> 1 | F27: =SUM(H27+J27+L27+N27+P27+R27+T27+V27+X27+Z27+AB27+AD27) -> 1 | G27: 0 | H27: 0 | I27: 0 | J27: 0 | K27: 0 | L27: 0 | M27: 0 | N27: 0 | O27: 0 | P27: 0 | Q27: 1 | R27: 1 | S27: 0 | T27: 0 | U27: 0 | V27: 0 | W27: 0 | X27: 0 | Y27: 0 | Z27: 0 | AA27: 0 | AB27: 0 | AC27: 0 | AD27: 0
A28: TOTAL | D28: =SUM(D22:D27) -> 39 | E28: =SUM(E22:E27) -> 15 | F28: =SUM(F22:F27) -> 24 | G28: =SUM(G22:G27) -> 0 | H28: =SUM(H22:H27) -> 0 | I28: =SUM(I22:I27) -> 1 | J28: =SUM(J22:J27) -> 1 | K28: =SUM(K22:K27) -> 3 | ... AD28: =SUM(AD22:AD27) -> 0
A29: SECCIÓN A.3: REACCIONES ADVERSAS A LA DONACIÓN (CS - UMT - BS)
A30: CLASIFICACIÓN | B30: TIPO | C30: SUBTIPO | E30: TOTAL | F30: Altruista | G30: Reposición
A31: Complicaciones con síntomas locales | B31: Sangre fuera de los vasos sanguíneos | C31: Hematoma | E31: =SUM(F31:G31) -> 2 | F31: 1 | G31: 1
C32: Punción arterial | E32: =SUM(F32:G32) -> 0
C33: Sangramiento posterior | E33: =SUM(F33:G33) -> 0
B34: Dolor | C34: Irritación o injuria en un nervio | E34: =SUM(F34:G34) -> 0
C35: Brazo doloroso | E35: =SUM(F35:G35) -> 0
B36: Inflamación o infección localizada | C36: Tromboflebitis | E36: =SUM(F36:G36) -> 0
C37: Celulitis | E37: =SUM(F37:G37) -> 0
B38: Otras injurias mayores en los vasos sanguíneos | C38: Trombosis venosa profunda | E38: =SUM(F38:G38) -> 0
C39: Fístula arteriovenosa | E39: =SUM(F39:G39) -> 0
C40: Síndrome compartimental | E40: =SUM(F40:G40) -> 0
C41: Pseudoaneurisma de la arteria braquial | E41: =SUM(F41:G41) -> 0
A42: Complicaciones con síntomas generalizados | B42: Reacción vasovagal (RVV) | C42: Sin pérdida de conciencia | E42: =SUM(F42:G42) -> 4 | F42: 2 | G42: 2
C43: Con pérdida de conciencia | D43: <60 segundos, sin complicaciones | E43: =SUM(F43:G43) -> 0
D44: ≥ 60 segundos y/ o convulsiones o incontinencia | E44: =SUM(F44:G44) -> 0
C45: Con lesión | E45: =SUM(F45:G45) -> 2 | F45: 1 | G45: 1
C46: Sin lesión | E46: =SUM(F46:G46) -> 2 | F46: 1 | G46: 1
C47: En el sitio de recolección | E47: =SUM(F47:G47) -> 4 | F47: 2 | G47: 2
C48: Fuera del sitio de recolección | E48: =SUM(F48:G48) -> 0
A49: Complicaciones relacionadas a la aféresis | B49: Reacción al citrato | E49: =SUM(F49:G49) -> 0
B50: Hemólisis | E50: =SUM(F50:G50) -> 0
B51: Embolismo aéreo | E51: =SUM(F51:G51) -> 0
B52: Infiltración | E52: =SUM(F52:G52) -> 0
A53: Reacción alérgica | B53: Alergia local | E53: =SUM(F53:G53) -> 0
B54: Reacción alérgica generalizada (anafilaxia) | E54: =SUM(F54:G54) -> 0
A55: Otras complicaciones serias a la donación de sangre | B55: Síntomas agudos cardíacos | E55: =SUM(F55:G55) -> 0
B56: Infarto al miorcardio | E56: =SUM(F56:G56) -> 0
B57: Paro cardiaco | E57: =SUM(F57:G57) -> 0
B58: Ataque isquémico transitorio | E58: =SUM(F58:G58) -> 0
B59: Accidente cerebrovascular | E59: =SUM(F59:G59) -> 0
B60: Muerte | E60: =SUM(F60:G60) -> 0
A61: Otras complicaciones | B61: Otras no mencionadas | E61: =SUM(F61:G61) -> 0
A62: SECCIÓN B: INGRESO UNIDADES DE SANGRE A PRODUCCIÓN (CS-BS)
A63: UNIDADES DE SANGRE | B63: TOTAL
A64: Aptas
A65: No aptas
A66: TOTAL | B66: =SUM(B64+B65) -> 0
A67: SECCIÓN C: PRODUCCIÓN DE COMPONENTES SANGUÍNEOS (CS-BS)
A68: PRODUCCIÓN | B68: DESCRIPCIÓN | C68: TOTAL
A69: Glóbulos rojos | B69: Desplamatizados
B70: Leucoreducidos
B71: Bolsa con filtro
B72: Aféresis
A73: Plaquetas | B73: Estándar
B74: Leucorreducida pool
B75: Leucodepletada pool
B76: Aféresis
B77: Bolsa con filtro
A78: Plasmas | B78: Plasma fresco congelado terapéutico
B79: Plasma uso no terapéutico
B80: Aféresis
A81: Crioprecipitados
A82: SECCIÓN C.1: COMPONENTES SANGUÍNEOS ELIMINADOS (CS-BS )
A83: CAUSA | C83: Globulos Rojos* | D83: Plasmas* | E83: Plaquetas | H83: Crioprecipitados
E84: Estándar | F84: Pool* | G84: Aféresis
A85: Calificación microbiológica reactiva
A86: Obsolescencia
A87: Falla por cadena de frío en almacenamiento
A88: Falla por cadena de frío en transporte
A89: Otros
A90: TOTAL | C90: =SUM(C85:C89) -> 0 | D90: =SUM(D85:D89) -> 0 | E90: =SUM(E85:E89) -> 0 | F90: =SUM(F85:F89) -> 0 | G90: =SUM(G85:G89) -> 0 | H90: =SUM(H85:H89) -> 0
A91: * Cualquier tipo
A92: SECCIÓN C.2 .: COMPONENTES SANGUÍNEOS ELIMINADOS (UMT)
A93: CAUSA | C93: Globulos Rojos* | D93: Plasmas* | E93: Plaquetas | H93: Crioprecipitados
E94: Estándar | F94: Pool* | G94: Aféresis
A95: Obsolescencia | C95: 11 | D95: 1 | E95: 189
A96: Falla por cadena de frío
A97: Devoluciones por producto por no cumplir estándar
A98: Descongelamiento sin uso
A99: Otros | C99: 1 | D99: 1 | E99: 6
A100: TOTAL | C100: =SUM(C95:C99) -> 12 | D100: =SUM(D95:D99) -> 2 | E100: =SUM(E95:E99) -> 195 | F100: =SUM(F95:F99) -> 0 | G100: =SUM(G95:G99) -> 0 | H100: =SUM(H95:H99) -> 0
A101: * Cualquier tipo
...

Sheet SEPTIEMBRE
A1: SERVICIO DE SALUD
A2: =CONCATENATE("COMUNA: ",[10]NOMBRE!B2, " (",[10]NOMBRE!C2,[10]NOMBRE!D2,[10]NOMBRE!E2,[10]NOMBRE!F2,[10]NOMBRE!G2,")") -> COMUNA: LINARES (07401)
A3: =CONCATENATE("ESTABLECIMIENTO/ESTRATEGIA: ", [10]NOMBRE!B3, " (",[10]NOMBRE!C3,[10]NOMBRE!D3,[10]NOMBRE!E3,[10]NOMBRE!F3,[10]NOMBRE!G3,[10]NOMBRE!H3,")") -> ESTABLECIMIENTO/ESTRATEGIA: HOSPITAL PRESIDENTE CARLOS IBAÑEZ DEL CAMPO (116108)
A4: =CONCATENATE("MES: ",[10]NOMBRE!B6, " (",[10]NOMBRE!C6,[10]NOMBRE!D6,")") -> MES: SEPTIEMBRE (09)
A5: =CONCATENATE("AÑO: ",[10]NOMBRE!B7) -> AÑO: 2025
A6: REM-25. SERVICIOS DE SANGRE
A8: SECCIÓN A.1: POBLACIÓN DONANTE (CS-UMT-BS)
A9: DONANTES | B9: DESCRIPCIÓN | D9: TOTAL | G9: RANGO ETARIO Y SEXO
G10: 18-19 años | I10: 20-24 años | K10: 25-29 años | M10: 30-34 años | O10: 35-39 años | Q10: 40-44 años | S10: 45-49 años | U10: 50-54 años | W10: 55-59 años | Y10: 60-64 años | AA10: 65 y más años
D11: Ambos Sexos | E11: Hombres | F11: Mujeres | G11: Hombres | H11: Mujeres | I11: Hombres | J11: Mujeres | K11: Hombres | L11: Mujeres | M11: Hombres | N11: Mujeres | O11: Hombres | P11: Mujeres | Q11: Hombres | R11: Mujeres | S11: Hombres | T11: Mujeres | U11: Hombres | V11: Mujeres | W11: Hombres | X11: Mujeres | Y11: Hombres | Z11: Mujeres | AA11: Hombres | AB11: Mujeres
A12: Altruistas | B12: Nuevos | C12: Aceptados | D12: =SUM(E12+F12) -> 53 | E12: =SUM(G12+I12+K12+M12+O12+Q12+S12+U12+W12+Y12+AA12) -> 16 | F12: =SUM(H12+J12+L12+N12+P12+R12+T12+V12+X12+Z12+AB12) -> 37 | G12: 0 | H12: 2 | I12: 2 | J12: 3 | K12: 2 | L12: 7 | M12: 2 | N12: 4 | O12: 3 | P12: 5 | Q12: 2 | R12: 7 | S12: 1 | T12: 3 | U12: 4 | V12: 2 | W12: 0 | X12: 4 | Y12: 0 | Z12: 0 | AA12: 0 | AB12: 0
B13: Repetidos | C13: Aceptados | D13: =SUM(E13+F13) -> 83 | E13: =SUM(G13+I13+K13+M13+O13+Q13+S13+U13+W13+Y13+AA13) -> 38 | F13: =SUM(H13+J13+L13+N13+P13+R13+T13+V13+X13+Z13+AB13) -> 45 | G13: 2 | H13: 0 | I13: 5 | J13: 5 | K13: 7 | L13: 12 | M13: 3 | N13: 8 | O13: 3 | P13: 4 | Q13: 5 | R13: 9 | S13: 6 | T13: 3 | U13: 3 | V13: 2 | W13: 2 | X13: 1 | Y13: 2 | Z13: 0 | AA13: 0 | AB13: 1
A14: Reposición | C14: Aceptados | D14: =SUM(E14+F14) -> 206 | E14: =SUM(G14+I14+K14+M14+O14+Q14+S14+U14+W14+Y14+AA14) -> 106 | F14: =SUM(H14+J14+L14+N14+P14+R14+T14+V14+X14+Z14+AB14) -> 100 | G14: 3 | H14: 2 | I14: 8 | J14: 14 | K14: 6 | L14: 13 | M14: 15 | N14: 12 | O14: 14 | P14: 18 | Q14: 19 | R14: 9 | S14: 19 | T14: 12 | U14: 7 | V14: 9 | W14: 13 | X14: 8 | Y14: 2 | Z14: 3 | AA14: 0 | AB14: 0
A15: TOTAL | D15: =SUM(E15+F15) -> 342 | E15: =SUM(G15+I15+K15+M15+O15+Q15+S15+U15+W15+Y15+AA15) -> 160 | F15: =SUM(H15+J15+L15+N15+P15+R15+T15+V15+X15+Z15+AB15) -> 182 | G15: =SUM(G12:G14) -> 5 | H15: =SUM(H12:H14) -> 4 | I15: =SUM(I12:I14) -> 15 | J15: =SUM(J12:J14) -> 22 | K15: =SUM(K12:K14) -> 15 | L15: =SUM(L12:L14) -> 32 | M15: =SUM(M12:M14) -> 20 | N15: =SUM(N12:N14) -> 24 | ... AB15: =SUM(AB12:AB14) -> 1
A16: Total días atención otorgados | D16: 21
A17: Total colectas móviles realizadas
A18: SECCIÓN A.2: TIPO DE DONANTES CON CONTRAINDICACIÓN
A19: DONANTES | B19: DESCRIPCIÓN | D19: TOTAL | G19: RANGO ETARIO Y SEXO
G20: 17 años | I20: 18-19 años | K20: 20-24 años | M20: 25-29 años | O20: 30-34 años | Q20: 35-39 años | S20: 40-44 años | U20: 45-49 años | W20: 50-54 años | Y20: 55-59 años | AA20: 60-64 años | AC20: 65 y más años
D21: Ambos Sexos | E21: Hombres | F21: Mujeres | G21: Hombres | H21: Mujeres | I21: Hombres | J21: Mujeres | K21: Hombres | L21: Mujeres | M21: Hombres | N21: Mujeres | O21: Hombres | P21: Mujeres | Q21: Hombres | R21: Mujeres | S21: Hombres | T21: Mujeres | U21: Hombres | V21: Mujeres | W21: Hombres | X21: Mujeres | Y21: Hombres | Z21: Mujeres | AA21: Hombres | AB21: Mujeres | AC21: Hombres | AD21: Mujeres
A22: Altruistas | B22: Nuevos | C22: Contraindicación Transitoria | D22: =SUM(E22+F22) -> 3 | E22: =SUM(G22+I22+K22+M22+O22+Q22+S22+U22+W22+Y22+AA22+AC22) -> 2 | F22: =SUM(H22+J22+L22+N22+P22+R22+T22+V22+X22+Z22+AB22+AD22) -> 1 | G22: 0 | H22: 0 | I22: 0 | J22: 1 | K22: 1 | L22: 0 | M22: 0 | N22: 0 | O22: 0 | P22: 0 | Q22: 1 | R22: 0 | S22: 0 | T22: 0 | U22: 0 | V22: 0 | W22: 0 | X22: 0 | Y22: 0 | Z22: 0 | AA22: 0 | AB22: 0 | AC22: 0 | AD22: 0
C23: Contraindicación Permanente | D23: =SUM(E23+F23) -> 1 | E23: =SUM(G23+I23+K23+M23+O23+Q23+S23+U23+W23+Y23+AA23+AC23) -> 1 | F23: =SUM(H23+J23+L23+N23+P23+R23+T23+V23+X23+Z23+AB23+AD23) -> 0 | G23: 0 | H23: 0 | I23: 0 | J23: 0 | K23: 0 | L23: 0 | M23: 1 | N23: 0 | O23: 0 | P23: 0 | Q23: 0 | R23: 0 | S23: 0 | T23: 0 | U23: 0 | V23: 0 | W23: 0 | X23: 0 | Y23: 0 | Z23: 0 | AA23: 0 | AB23: 0 | AC23: 0 | AD23: 0
B24: Repetidos | C24: Contraindicación Transitoria | D24: =SUM(E24+F24) -> 5 | E24: =SUM(G24+I24+K24+M24+O24+Q24+S24+U24+W24+Y24+AA24+AC24) -> 0 | F24: =SUM(H24+J24+L24+N24+P24+R24+T24+V24+X24+Z24+AB24+AD24) -> 5 | G24: 0 | H24: 0 | I24: 0 | J24: 1 | K24: 0 | L24: 1 | M24: 0 | N24: 1 | O24: 0 | P24: 0 | Q24: 0 | R24: 1 | S24: 0 | T24: 0 | U24: 0 | V24: 0 | W24: 0 | X24: 1 | Y24: 0 | Z24: 0 | AA24: 0 | AB24: 0 | AC24: 0 | AD24: 0
C25: Contraindicación Permanente | D25: =SUM(E25+F25) -> 0 | E25: =SUM(G25+I25+K25+M25+O25+Q25+S25+U25+W25+Y25+AA25+AC25) -> 0 | F25: =SUM(H25+J25+L25+N25+P25+R25+T25+V25+X25+Z25+AB25+AD25) -> 0 | G25: 0 | H25: 0 | I25: 0 | J25: 0 | K25: 0 | L25: 0 | M25: 0 | N25: 0 | O25: 0 | P25: 0 | Q25: 0 | R25: 0 | S25: 0 | T25: 0 | U25: 0 | V25: 0 | W25: 0 | X25: 0 | Y25: 0 | Z25: 0 | AA25: 0 | AB25: 0 | AC25: 0 | AD25: 0
A26: Reposición | C26: Contraindicación Transitoria | D26: =SUM(E26+F26) -> 42 | E26: =SUM(G26+I26+K26+M26+O26+Q26+S26+U26+W26+Y26+AA26+AC26) -> 18 | F26: =SUM(H26+J26+L26+N26+P26+R26+T26+V26+X26+Z26+AB26+AD26) -> 24 | G26: 0 | H26: 0 | I26: 1 | J26: 0 | K26: 4 | L26: 4 | M26: 1 | N26: 4 | O26: 3 | P26: 3 | Q26: 0 | R26: 4 | S26: 3 | T26: 3 | U26: 2 | V26: 2 | W26: 0 | X26: 3 | Y26: 3 | Z26: 1 | AA26: 1 | AB26: 0 | AC26: 0 | AD26: 0
C27: Contraindicación Permanente | D27: =SUM(E27+F27) -> 1 | E27: =SUM(G27+I27+K27+M27+O27+Q27+S27+U27+W27+Y27+AA27+AC27) -> 1 | F27: =SUM(H27+J27+L27+N27+P27+R27+T27+V27+X27+Z27+AB27+AD27) -> 0 | G27: 0 | H27: 0 | I27: 0 | J27: 0 | K27: 0 | L27: 0 | M27: 0 | N27: 0 | O27: 0 | P27: 0 | Q27: 0 | R27: 0 | S27: 0 | T27: 0 | U27: 0 | V27: 0 | W27: 0 | X27: 0 | Y27: 0 | Z27: 0 | AA27: 0 | AB27: 0 | AC27: 1 | AD27: 0
A28: TOTAL | D28: =SUM(D22:D27) -> 52 | E28: =SUM(E22:E27) -> 22 | F28: =SUM(F22:F27) -> 30 | G28: =SUM(G22:G27) -> 0 | H28: =SUM(H22:H27) -> 0 | I28: =SUM(I22:I27) -> 1 | J28: =SUM(J22:J27) -> 2 | K28: =SUM(K22:K27) -> 5 | ... AD28: =SUM(AD22:AD27) -> 0
A29: SECCIÓN A.3: REACCIONES ADVERSAS A LA DONACIÓN (CS - UMT - BS)
A30: CLASIFICACIÓN | B30: TIPO | C30: SUBTIPO | E30: TOTAL | F30: Altruista | G30: Reposición
A31: Complicaciones con síntomas locales | B31: Sangre fuera de los vasos sanguíneos | C31: Hematoma | E31: =SUM(F31:G31) -> 0
C32: Punción arterial | E32: =SUM(F32:G32) -> 0
C33: Sangramiento posterior | E33: =SUM(F33:G33) -> 0
B34: Dolor | C34: Irritación o injuria en un nervio | E34: =SUM(F34:G34) -> 0
C35: Brazo doloroso | E35: =SUM(F35:G35) -> 0
B36: Inflamación o infección localizada | C36: Tromboflebitis | E36: =SUM(F36:G36) -> 0
C37: Celulitis | E37: =SUM(F37:G37) -> 0
B38: Otras injurias mayores en los vasos sanguíneos | C38: Trombosis venosa profunda | E38: =SUM(F38:G38) -> 0
C39: Fístula arteriovenosa | E39: =SUM(F39:G39) -> 0
C40: Síndrome compartimental | E40: =SUM(F40:G40) -> 0
C41: Pseudoaneurisma de la arteria braquial | E41: =SUM(F41:G41) -> 0
A42: Complicaciones con síntomas generalizados | B42: Reacción vasovagal (RVV) | C42: Sin pérdida de conciencia | E42: =SUM(F42:G42) -> 4 | F42: 2 | G42: 2
C43: Con pérdida de conciencia | D43: <60 segundos, sin complicaciones | E43: =SUM(F43:G43) -> 0
D44: ≥ 60 segundos y/ o convulsiones o incontinencia | E44: =SUM(F44:G44) -> 0
C45: Con lesión | E45: =SUM(F45:G45) -> 0
C46: Sin lesión | E46: =SUM(F46:G46) -> 4 | F46: 2 | G46: 2
C47: En el sitio de recolección | E47: =SUM(F47:G47) -> 3 | F47: 2 | G47: 1
C48: Fuera del sitio de recolección | E48: =SUM(F48:G48) -> 1 | F48: 0 | G48: 1
A49: Complicaciones relacionadas a la aféresis | B49: Reacción al citrato | E49: =SUM(F49:G49) -> 0
B50: Hemólisis | E50: =SUM(F50:G50) -> 0
B51: Embolismo aéreo | E51: =SUM(F51:G51) -> 0
B52: Infiltración | E52: =SUM(F52:G52) -> 0
A53: Reacción alérgica | B53: Alergia local | E53: =SUM(F53:G53) -> 0
B54: Reacción alérgica generalizada (anafilaxia) | E54: =SUM(F54:G54) -> 0
A55: Otras complicaciones serias a la donación de sangre | B55: Síntomas agudos cardíacos | E55: =SUM(F55:G55) -> 0
B56: Infarto al miorcardio | E56: =SUM(F56:G56) -> 0
B57: Paro cardiaco | E57: =SUM(F57:G57) -> 0
B58: Ataque isquémico transitorio | E58: =SUM(F58:G58) -> 0
B59: Accidente cerebrovascular | E59: =SUM(F59:G59) -> 0
B60: Muerte | E60: =SUM(F60:G60) -> 0
A61: Otras complicaciones | B61: Otras no mencionadas | E61: =SUM(F61:G61) -> 0
A62: SECCIÓN B: INGRESO UNIDADES DE SANGRE A PRODUCCIÓN (CS-BS)
A63: UNIDADES DE SANGRE | B63: TOTAL
A64: Aptas
A65: No aptas
A66: TOTAL | B66: =SUM(B64+B65) -> 0
A67: SECCIÓN C: PRODUCCIÓN DE COMPONENTES SANGUÍNEOS (CS-BS)
A68: PRODUCCIÓN | B68: DESCRIPCIÓN | C68: TOTAL
A69: Glóbulos rojos | B69: Desplamatizados
B70: Leucoreducidos
B71: Bolsa con filtro
B72: Aféresis
A73: Plaquetas | B73: Estándar
B74: Leucorreducida pool
B75: Leucodepletada pool
B76: Aféresis
B77: Bolsa con filtro
A78: Plasmas | B78: Plasma fresco congelado terapéutico
B79: Plasma uso no terapéutico
B80: Aféresis
A81: Crioprecipitados
A82: SECCIÓN C.1: COMPONENTES SANGUÍNEOS ELIMINADOS (CS-BS )
A83: CAUSA | C83: Globulos Rojos* | D83: Plasmas* | E83: Plaquetas | H83: Crioprecipitados
E84: Estándar | F84: Pool* | G84: Aféresis
A85: Calificación microbiológica reactiva
A86: Obsolescencia
A87: Falla por cadena de frío en almacenamiento
A88: Falla por cadena de frío en transporte
A89: Otros
A90: TOTAL | C90: =SUM(C85:C89) -> 0 | D90: =SUM(D85:D89) -> 0 | E90: =SUM(E85:E89) -> 0 | F90: =SUM(F85:F89) -> 0 | G90: =SUM(G85:G89) -> 0 | H90: =SUM(H85:H89) -> 0
A91: * Cualquier tipo
A92: SECCIÓN C.2 .: COMPONENTES SANGUÍNEOS ELIMINADOS (UMT)
A93: CAUSA | C93: Globulos Rojos* | D93: Plasmas* | E93: Plaquetas | H93: Crioprecipitados
E94: Estándar | F94: Pool* | G94: Aféresis
A95: Obsolescencia | C95: 7 | D95: 8 | E95: 196
A96: Falla por cadena de frío
A97: Devoluciones por producto por no cumplir estándar
A98: Descongelamiento sin uso | D98: 4
A99: Otros | C99: 2 | D99: 1 | E99: 3
A100: TOTAL | C100: =SUM(C95:C99) -> 9 | D100: =SUM(D95:D99) -> 13 | E100: =SUM(E95:E99) -> 199 | F100: =SUM(F95:F99) -> 0 | G100: =SUM(G95:G99) -> 0 | H100: =SUM(H95:H99) -> 0
A101: * Cualquier tipo
...

Sheet OCTUBRE
A1: SERVICIO DE SALUD
A2: =CONCATENATE("COMUNA: ",[11]NOMBRE!B2, " (",[11]NOMBRE!C2,[11]NOMBRE!D2,[11]NOMBRE!E2,[11]NOMBRE!F2,[11]NOMBRE!G2,")") -> COMUNA: LINARES (07401)
A3: =CONCATENATE("ESTABLECIMIENTO/ESTRATEGIA: ", [11]NOMBRE!B3, " (",[11]NOMBRE!C3,[11]NOMBRE!D3,[11]NOMBRE!E3,[11]NOMBRE!F3,[11]NOMBRE!G3,[11]NOMBRE!H3,")") -> ESTABLECIMIENTO/ESTRATEGIA: HOSPITAL PRESIDENTE CARLOS IBAÑEZ DEL CAMPO (116108)
A4: =CONCATENATE("MES: ",[11]NOMBRE!B6, " (",[11]NOMBRE!C6,[11]NOMBRE!D6,")") -> MES: OCTUBRE (10)
A5: =CONCATENATE("AÑO: ",[11]NOMBRE!B7) -> AÑO: 2025
A6: REM-25. SERVICIOS DE SANGRE
A8: SECCIÓN A.1: POBLACIÓN DONANTE (CS-UMT-BS)
A9: DONANTES | B9: DESCRIPCIÓN | D9: TOTAL | G9: RANGO ETARIO Y SEXO
G10: 18-19 años | I10: 20-24 años | K10: 25-29 años | M10: 30-34 años | O10: 35-39 años | Q10: 40-44 años | S10: 45-49 años | U10: 50-54 años | W10: 55-59 años | Y10: 60-64 años | AA10: 65 y más años
D11: Ambos Sexos | E11: Hombres | F11: Mujeres | G11: Hombres | H11: Mujeres | I11: Hombres | J11: Mujeres | K11: Hombres | L11: Mujeres | M11: Hombres | N11: Mujeres | O11: Hombres | P11: Mujeres | Q11: Hombres | R11: Mujeres | S11: Hombres | T11: Mujeres | U11: Hombres | V11: Mujeres | W11: Hombres | X11: Mujeres | Y11: Hombres | Z11: Mujeres | AA11: Hombres | AB11: Mujeres
A12: Altruistas | B12: Nuevos | C12: Aceptados | D12: =SUM(E12+F12) -> 69 | E12: =SUM(G12+I12+K12+M12+O12+Q12+S12+U12+W12+Y12+AA12) -> 25 | F12: =SUM(H12+J12+L12+N12+P12+R12+T12+V12+X12+Z12+AB12) -> 44 | G12: 1 | H12: 3 | I12: 3 | J12: 3 | K12: 3 | L12: 6 | M12: 6 | N12: 8 | O12: 4 | P12: 8 | Q12: 2 | R12: 2 | S12: 1 | T12: 5 | U12: 2 | V12: 5 | W12: 1 | X12: 2 | Y12: 2 | Z12: 2 | AA12: 0 | AB12: 0
B13: Repetidos | C13: Aceptados | D13: =SUM(E13+F13) -> 62 | E13: =SUM(G13+I13+K13+M13+O13+Q13+S13+U13+W13+Y13+AA13) -> 29 | F13: =SUM(H13+J13+L13+N13+P13+R13+T13+V13+X13+Z13+AB13) -> 33 | G13: 2 | H13: 2 | I13: 1 | J13: 4 | K13: 4 | L13: 6 | M13: 2 | N13: 5 | O13: 4 | P13: 3 | Q13: 6 | R13: 2 | S13: 3 | T13: 3 | U13: 2 | V13: 2 | W13: 1 | X13: 5 | Y13: 3 | Z13: 0 | AA13: 1 | AB13: 1
A14: Reposición | C14: Aceptados | D14: =SUM(E14+F14) -> 219 | E14: =SUM(G14+I14+K14+M14+O14+Q14+S14+U14+W14+Y14+AA14) -> 108 | F14: =SUM(H14+J14+L14+N14+P14+R14+T14+V14+X14+Z14+AB14) -> 111 | G14: 4 | H14: 3 | I14: 8 | J14: 9 | K14: 12 | L14: 10 | M14: 17 | N14: 22 | O14: 20 | P14: 17 | Q14: 11 | R14: 20 | S14: 13 | T14: 7 | U14: 9 | V14: 13 | W14: 12 | X14: 5 | Y14: 2 | Z14: 5 | AA14: 0 | AB14: 0
A15: TOTAL | D15: =SUM(E15+F15) -> 350 | E15: =SUM(G15+I15+K15+M15+O15+Q15+S15+U15+W15+Y15+AA15) -> 162 | F15: =SUM(H15+J15+L15+N15+P15+R15+T15+V15+X15+Z15+AB15) -> 188 | G15: =SUM(G12:G14) -> 7 | H15: =SUM(H12:H14) -> 8 | I15: =SUM(I12:I14) -> 12 | J15: =SUM(J12:J14) -> 16 | K15: =SUM(K12:K14) -> 19 | L15: =SUM(L12:L14) -> 22 | M15: =SUM(M12:M14) -> 25 | N15: =SUM(N12:N14) -> 35 | ... AB15: =SUM(AB12:AB14) -> 1
A16: Total días atención otorgados | D16: 23
A17: Total colectas móviles realizadas
A18: SECCIÓN A.2: TIPO DE DONANTES CON CONTRAINDICACIÓN
A19: DONANTES | B19: DESCRIPCIÓN | D19: TOTAL | G19: RANGO ETARIO Y SEXO
G20: 17 años | I20: 18-19 años | K20: 20-24 años | M20: 25-29 años | O20: 30-34 años | Q20: 35-39 años | S20: 40-44 años | U20: 45-49 años | W20: 50-54 años | Y20: 55-59 años | AA20: 60-64 años | AC20: 65 y más años
D21: Ambos Sexos | E21: Hombres | F21: Mujeres | G21: Hombres | H21: Mujeres | I21: Hombres | J21: Mujeres | K21: Hombres | L21: Mujeres | M21: Hombres | N21: Mujeres | O21: Hombres | P21: Mujeres | Q21: Hombres | R21: Mujeres | S21: Hombres | T21: Mujeres | U21: Hombres | V21: Mujeres | W21: Hombres | X21: Mujeres | Y21: Hombres | Z21: Mujeres | AA21: Hombres | AB21: Mujeres | AC21: Hombres | AD21: Mujeres
A22: Altruistas | B22: Nuevos | C22: Contraindicación Transitoria | D22: =SUM(E22+F22) -> 4 | E22: =SUM(G22+I22+K22+M22+O22+Q22+S22+U22+W22+Y22+AA22+AC22) -> 2 | F22: =SUM(H22+J22+L22+N22+P22+R22+T22+V22+X22+Z22+AB22+AD22) -> 2 | G22: 0 | H22: 0 | I22: 1 | J22: 0 | K22: 1 | L22: 0 | M22: 0 | N22: 0 | O22: 0 | P22: 0 | Q22: 0 | R22: 1 | S22: 0 | T22: 1 | U22: 0 | V22: 0 | W22: 0 | X22: 0 | Y22: 0 | Z22: 0 | AA22: 0 | AB22: 0 | AC22: 0 | AD22: 0
C23: Contraindicación Permanente | D23: =SUM(E23+F23) -> 1 | E23: =SUM(G23+I23+K23+M23+O23+Q23+S23+U23+W23+Y23+AA23+AC23) -> 1 | F23: =SUM(H23+J23+L23+N23+P23+R23+T23+V23+X23+Z23+AB23+AD23) -> 0 | G23: 0 | H23: 0 | I23: 0 | J23: 0 | K23: 0 | L23: 0 | M23: 0 | N23: 0 | O23: 0 | P23: 0 | Q23: 0 | R23: 0 | S23: 0 | T23: 0 | U23: 1 | V23: 0 | W23: 0 | X23: 0 | Y23: 0 | Z23: 0 | AA23: 0 | AB23: 0 | AC23: 0 | AD23: 0
B24: Repetidos | C24: Contraindicación Transitoria | D24: =SUM(E24+F24) -> 5 | E24: =SUM(G24+I24+K24+M24+O24+Q24+S24+U24+W24+Y24+AA24+AC24) -> 2 | F24: =SUM(H24+J24+L24+N24+P24+R24+T24+V24+X24+Z24+AB24+AD24) -> 3 | G24: 0 | H24: 0 | I24: 0 | J24: 0 | K24: 0 | L24: 0 | M24: 0 | N24: 0 | O24: 2 | P24: 1 | Q24: 0 | R24: 1 | S24: 0 | T24: 1 | U24: 0 | V24: 0 | W24: 0 | X24: 0 | Y24: 0 | Z24: 0 | AA24: 0 | AB24: 0 | AC24: 0 | AD24: 0
C25: Contraindicación Permanente | D25: =SUM(E25+F25) -> 0 | E25: =SUM(G25+I25+K25+M25+O25+Q25+S25+U25+W25+Y25+AA25+AC25) -> 0 | F25: =SUM(H25+J25+L25+N25+P25+R25+T25+V25+X25+Z25+AB25+AD25) -> 0 | G25: 0 | H25: 0 | I25: 0 | J25: 0 | K25: 0 | L25: 0 | M25: 0 | N25: 0 | O25: 0 | P25: 0 | Q25: 0 | R25: 0 | S25: 0 | T25: 0 | U25: 0 | V25: 0 | W25: 0 | X25: 0 | Y25: 0 | Z25: 0 | AA25: 0 | AB25: 0 | AC25: 0 | AD25: 0
A26: Reposición | C26: Contraindicación Transitoria | D26: =SUM(E26+F26) -> 43 | E26: =SUM(G26+I26+K26+M26+O26+Q26+S26+U26+W26+Y26+AA26+AC26) -> 18 | F26: =SUM(H26+J26+L26+N26+P26+R26+T26+V26+X26+Z26+AB26+AD26) -> 25 | G26: 0 | H26: 1 | I26: 1 | J26: 1 | K26: 1 | L26: 2 | M26: 4 | N26: 5 | O26: 0 | P26: 4 | Q26: 1 | R26: 5 | S26: 2 | T26: 2 | U26: 3 | V26: 2 | W26: 2 | X26: 1 | Y26: 1 | Z26: 1 | AA26: 1 | AB26: 1 | AC26: 2 | AD26: 0
C27: Contraindicación Permanente | D27: =SUM(E27+F27) -> 0 | E27: =SUM(G27+I27+K27+M27+O27+Q27+S27+U27+W27+Y27+AA27+AC27) -> 0 | F27: =SUM(H27+J27+L27+N27+P27+R27+T27+V27+X27+Z27+AB27+AD27) -> 0 | G27: 0 | H27: 0 | I27: 0 | J27: 0 | K27: 0 | L27: 0 | M27: 0 | N27: 0 | O27: 0 | P27: 0 | Q27: 0 | R27: 0 | S27: 0 | T27: 0 | U27: 0 | V27: 0 | W27: 0 | X27: 0 | Y27: 0 | Z27: 0 | AA27: 0 | AB27: 0 | AC27: 0 | AD27: 0
A28: TOTAL | D28: =SUM(D22:D27) -> 53 | E28: =SUM(E22:E27) -> 23 | F28: =SUM(F22:F27) -> 30 | G28: =SUM(G22:G27) -> 0 | H28: =SUM(H22:H27) -> 1 | I28: =SUM(I22:I27) -> 2 | J28: =SUM(J22:J27) -> 1 | K28: =SUM(K22:K27) -> 2 | ... AD28: =SUM(AD22:AD27) -> 0
A29: SECCIÓN A.3: REACCIONES ADVERSAS A LA DONACIÓN (CS - UMT - BS)
A30: CLASIFICACIÓN | B30: TIPO | C30: SUBTIPO | E30: TOTAL | F30: Altruista | G30: Reposición
A31: Complicaciones con síntomas locales | B31: Sangre fuera de los vasos sanguíneos | C31: Hematoma | E31: =SUM(F31:G31) -> 1 | F31: 0 | G31: 1
C32: Punción arterial | E32: =SUM(F32:G32) -> 0
C33: Sangramiento posterior | E33: =SUM(F33:G33) -> 0
B34: Dolor | C34: Irritación o injuria en un nervio | E34: =SUM(F34:G34) -> 0
C35: Brazo doloroso | E35: =SUM(F35:G35) -> 1 | F35: 0 | G35: 1
B36: Inflamación o infección localizada | C36: Tromboflebitis | E36: =SUM(F36:G36) -> 0
C37: Celulitis | E37: =SUM(F37:G37) -> 0
B38: Otras injurias mayores en los vasos sanguíneos | C38: Trombosis venosa profunda | E38: =SUM(F38:G38) -> 0
C39: Fístula arteriovenosa | E39: =SUM(F39:G39) -> 0
C40: Síndrome compartimental | E40: =SUM(F40:G40) -> 0
C41: Pseudoaneurisma de la arteria braquial | E41: =SUM(F41:G41) -> 0
A42: Complicaciones con síntomas generalizados | B42: Reacción vasovagal (RVV) | C42: Sin pérdida de conciencia | E42: =SUM(F42:G42) -> 4 | F42: 0 | G42: 4
C43: Con pérdida de conciencia | D43: <60 segundos, sin complicaciones | E43: =SUM(F43:G43) -> 3 | F43: 2 | G43: 1
D44: ≥ 60 segundos y/ o convulsiones o incontinencia | E44: =SUM(F44:G44) -> 0 | F44: 0 | G44: 0
C45: Con lesión | E45: =SUM(F45:G45) -> 2 | F45: 0 | G45: 2
C46: Sin lesión | E46: =SUM(F46:G46) -> 5 | F46: 2 | G46: 3
C47: En el sitio de recolección | E47: =SUM(F47:G47) -> 7 | F47: 2 | G47: 5
C48: Fuera del sitio de recolección | E48: =SUM(F48:G48) -> 0 | F48: 0 | G48: 0
A49: Complicaciones relacionadas a la aféresis | B49: Reacción al citrato | E49: =SUM(F49:G49) -> 0
B50: Hemólisis | E50: =SUM(F50:G50) -> 0
B51: Embolismo aéreo | E51: =SUM(F51:G51) -> 0
B52: Infiltración | E52: =SUM(F52:G52) -> 0
A53: Reacción alérgica | B53: Alergia local | E53: =SUM(F53:G53) -> 0
B54: Reacción alérgica generalizada (anafilaxia) | E54: =SUM(F54:G54) -> 0
A55: Otras complicaciones serias a la donación de sangre | B55: Síntomas agudos cardíacos | E55: =SUM(F55:G55) -> 0
B56: Infarto al miorcardio | E56: =SUM(F56:G56) -> 0
B57: Paro cardiaco | E57: =SUM(F57:G57) -> 0
B58: Ataque isquémico transitorio | E58: =SUM(F58:G58) -> 0
B59: Accidente cerebrovascular | E59: =SUM(F59:G59) -> 0
B60: Muerte | E60: =SUM(F60:G60) -> 0
A61: Otras complicaciones | B61: Otras no mencionadas | E61: =SUM(F61:G61) -> 0
A62: SECCIÓN B: INGRESO UNIDADES DE SANGRE A PRODUCCIÓN (CS-BS)
A63: UNIDADES DE SANGRE | B63: TOTAL
A64: Aptas
A65: No aptas
A66: TOTAL | B66: =SUM(B64+B65) -> 0
A67: SECCIÓN C: PRODUCCIÓN DE COMPONENTES SANGUÍNEOS (CS-BS)
A68: PRODUCCIÓN | B68: DESCRIPCIÓN | C68: TOTAL
A69: Glóbulos rojos | B69: Desplamatizados
B70: Leucoreducidos
B71: Bolsa con filtro
B72: Aféresis
A73: Plaquetas | B73: Estándar
B74: Leucorreducida pool
B75: Leucodepletada pool
B76: Aféresis
B77: Bolsa con filtro
A78: Plasmas | B78: Plasma fresco congelado terapéutico
B79: Plasma uso no terapéutico
B80: Aféresis
A81: Crioprecipitados
A82: SECCIÓN C.1: COMPONENTES SANGUÍNEOS ELIMINADOS (CS-BS )
A83: CAUSA | C83: Globulos Rojos* | D83: Plasmas* | E83: Plaquetas | H83: Crioprecipitados
E84: Estándar | F84: Pool* | G84: Aféresis
A85: Calificación microbiológica reactiva
A86: Obsolescencia
A87: Falla por cadena de frío en almacenamiento
A88: Falla por cadena de frío en transporte
A89: Otros
A90: TOTAL | C90: =SUM(C85:C89) -> 0 | D90: =SUM(D85:D89) -> 0 | E90: =SUM(E85:E89) -> 0 | F90: =SUM(F85:F89) -> 0 | G90: =SUM(G85:G89) -> 0 | H90: =SUM(H85:H89) -> 0
A91: * Cualquier tipo
A92: SECCIÓN C.2 .: COMPONENTES SANGUÍNEOS ELIMINADOS (UMT)
A93: CAUSA | C93: Globulos Rojos* | D93: Plasmas* | E93: Plaquetas | H93: Crioprecipitados
E94: Estándar | F94: Pool* | G94: Aféresis
A95: Obsolescencia | C95: 5 | D95: 11 | E95: 134 | H95: 3
A96: Falla por cadena de frío
A97: Devoluciones por producto por no cumplir estándar
A98: Descongelamiento sin uso | D98: 5
A99: Otros | D99: 2 | E99: 15
A100: TOTAL | C100: =SUM(C95:C99) -> 5 | D100: =SUM(D95:D99) -> 18 | E100: =SUM(E95:E99) -> 149 | F100: =SUM(F95:F99) -> 0 | G100: =SUM(G95:G99) -> 0 | H100: =SUM(H95:H99) -> 3
A101: * Cualquier tipo
...

Sheet NOVIEMBRE
A1: SERVICIO DE SALUD
A2: =CONCATENATE("COMUNA: ",[12]NOMBRE!B2, " (",[12]NOMBRE!C2,[12]NOMBRE!D2,[12]NOMBRE!E2,[12]NOMBRE!F2,[12]NOMBRE!G2,")") -> COMUNA: LINARES (07401)
A3: =CONCATENATE("ESTABLECIMIENTO/ESTRATEGIA: ", [12]NOMBRE!B3, " (",[12]NOMBRE!C3,[12]NOMBRE!D3,[12]NOMBRE!E3,[12]NOMBRE!F3,[12]NOMBRE!G3,[12]NOMBRE!H3,")") -> ESTABLECIMIENTO/ESTRATEGIA: HOSPITAL PRESIDENTE CARLOS IBAÑEZ DEL CAMPO (116108)
A4: =CONCATENATE("MES: ",[12]NOMBRE!B6, " (",[12]NOMBRE!C6,[12]NOMBRE!D6,")") -> MES: NOVIEMBRE (11)
A5: =CONCATENATE("AÑO: ",[12]NOMBRE!B7) -> AÑO: 2025
A6: REM-25. SERVICIOS DE SANGRE
A8: SECCIÓN A.1: POBLACIÓN DONANTE (CS-UMT-BS)
A9: DONANTES | B9: DESCRIPCIÓN | D9: TOTAL | G9: RANGO ETARIO Y SEXO
G10: 18-19 años | I10: 20-24 años | K10: 25-29 años | M10: 30-34 años | O10: 35-39 años | Q10: 40-44 años | S10: 45-49 años | U10: 50-54 años | W10: 55-59 años | Y10: 60-64 años | AA10: 65 y más años
D11: Ambos Sexos | E11: Hombres | F11: Mujeres | G11: Hombres | H11: Mujeres | I11: Hombres | J11: Mujeres | K11: Hombres | L11: Mujeres | M11: Hombres | N11: Mujeres | O11: Hombres | P11: Mujeres | Q11: Hombres | R11: Mujeres | S11: Hombres | T11: Mujeres | U11: Hombres | V11: Mujeres | W11: Hombres | X11: Mujeres | Y11: Hombres | Z11: Mujeres | AA11: Hombres | AB11: Mujeres
A12: Altruistas | B12: Nuevos | C12: Aceptados | D12: =SUM(E12+F12) -> 69 | E12: =SUM(G12+I12+K12+M12+O12+Q12+S12+U12+W12+Y12+AA12) -> 36 | F12: =SUM(H12+J12+L12+N12+P12+R12+T12+V12+X12+Z12+AB12) -> 33 | G12: 1 | H12: 2 | I12: 5 | J12: 4 | K12: 8 | L12: 3 | M12: 3 | N12: 4 | O12: 7 | P12: 4 | Q12: 0 | R12: 4 | S12: 5 | T12: 2 | U12: 2 | V12: 5 | W12: 2 | X12: 4 | Y12: 3 | Z12: 1 | AA12: 0 | AB12: 0
B13: Repetidos | C13: Aceptados | D13: =SUM(E13+F13) -> 77 | E13: =SUM(G13+I13+K13+M13+O13+Q13+S13+U13+W13+Y13+AA13) -> 34 | F13: =SUM(H13+J13+L13+N13+P13+R13+T13+V13+X13+Z13+AB13) -> 43 | G13: 1 | H13: 1 | I13: 2 | J13: 3 | K13: 4 | L13: 10 | M13: 3 | N13: 6 | O13: 2 | P13: 4 | Q13: 3 | R13: 4 | S13: 9 | T13: 7 | U13: 6 | V13: 3 | W13: 1 | X13: 3 | Y13: 3 | Z13: 2 | AA13: 0 | AB13: 0
A14: Reposición | C14: Aceptados | D14: =SUM(E14+F14) -> 223 | E14: =SUM(G14+I14+K14+M14+O14+Q14+S14+U14+W14+Y14+AA14) -> 115 | F14: =SUM(H14+J14+L14+N14+P14+R14+T14+V14+X14+Z14+AB14) -> 108 | G14: 5 | H14: 3 | I14: 12 | J14: 18 | K14: 12 | L14: 18 | M14: 20 | N14: 8 | O14: 18 | P14: 15 | Q14: 22 | R14: 17 | S14: 10 | T14: 8 | U14: 5 | V14: 10 | W14: 9 | X14: 7 | Y14: 2 | Z14: 4 | AA14: 0 | AB14: 0
A15: TOTAL | D15: =SUM(E15+F15) -> 369 | E15: =SUM(G15+I15+K15+M15+O15+Q15+S15+U15+W15+Y15+AA15) -> 185 | F15: =SUM(H15+J15+L15+N15+P15+R15+T15+V15+X15+Z15+AB15) -> 184 | G15: =SUM(G12:G14) -> 7 | H15: =SUM(H12:H14) -> 6 | I15: =SUM(I12:I14) -> 19 | J15: =SUM(J12:J14) -> 25 | K15: =SUM(K12:K14) -> 24 | L15: =SUM(L12:L14) -> 31 | M15: =SUM(M12:M14) -> 26 | N15: =SUM(N12:N14) -> 18 | ... AB15: =SUM(AB12:AB14) -> 0
A16: Total días atención otorgados | D16: 21
A17: Total colectas móviles realizadas
A18: SECCIÓN A.2: TIPO DE DONANTES CON CONTRAINDICACIÓN
A19: DONANTES | B19: DESCRIPCIÓN | D19: TOTAL | G19: RANGO ETARIO Y SEXO
G20: 17 años | I20: 18-19 años | K20: 20-24 años | M20: 25-29 años | O20: 30-34 años | Q20: 35-39 años | S20: 40-44 años | U20: 45-49 años | W20: 50-54 años | Y20: 55-59 años | AA20: 60-64 años | AC20: 65 y más años
D21: Ambos Sexos | E21: Hombres | F21: Mujeres | G21: Hombres | H21: Mujeres | I21: Hombres | J21: Mujeres | K21: Hombres | L21: Mujeres | M21: Hombres | N21: Mujeres | O21: Hombres | P21: Mujeres | Q21: Hombres | R21: Mujeres | S21: Hombres | T21: Mujeres | U21: Hombres | V21: Mujeres | W21: Hombres | X21: Mujeres | Y21: Hombres | Z21: Mujeres | AA21: Hombres | AB21: Mujeres | AC21: Hombres | AD21: Mujeres
A22: Altruistas | B22: Nuevos | C22: Contraindicación Transitoria | D22: =SUM(E22+F22) -> 6 | E22: =SUM(G22+I22+K22+M22+O22+Q22+S22+U22+W22+Y22+AA22+AC22) -> 1 | F22: =SUM(H22+J22+L22+N22+P22+R22+T22+V22+X22+Z22+AB22+AD22) -> 5 | G22: 0 | H22: 0 | I22: 0 | J22: 0 | K22: 0 | L22: 0 | M22: 1 | N22: 1 | O22: 0 | P22: 2 | Q22: 0 | R22: 0 | S22: 0 | T22: 1 | U22: 0 | V22: 1 | W22: 0 | X22: 0 | Y22: 0 | Z22: 0 | AA22: 0 | AB22: 0 | AC22: 0 | AD22: 0
C23: Contraindicación Permanente | D23: =SUM(E23+F23) -> 0 | E23: =SUM(G23+I23+K23+M23+O23+Q23+S23+U23+W23+Y23+AA23+AC23) -> 0 | F23: =SUM(H23+J23+L23+N23+P23+R23+T23+V23+X23+Z23+AB23+AD23) -> 0 | G23: 0 | H23: 0 | I23: 0 | J23: 0 | K23: 0 | L23: 0 | M23: 0 | N23: 0 | O23: 0 | P23: 0 | Q23: 0 | R23: 0 | S23: 0 | T23: 0 | U23: 0 | V23: 0 | W23: 0 | X23: 0 | Y23: 0 | Z23: 0 | AA23: 0 | AB23: 0 | AC23: 0 | AD23: 0
B24: Repetidos | C24: Contraindicación Transitoria | D24: =SUM(E24+F24) -> 7 | E24: =SUM(G24+I24+K24+M24+O24+Q24+S24+U24+W24+Y24+AA24+AC24) -> 4 | F24: =SUM(H24+J24+L24+N24+P24+R24+T24+V24+X24+Z24+AB24+AD24) -> 3 | G24: 0 | H24: 0 | I24: 0 | J24: 0 | K24: 0 | L24: 0 | M24: 0 | N24: 0 | O24: 0 | P24: 1 | Q24: 2 | R24: 2 | S24: 2 | T24: 0 | U24: 0 | V24: 0 | W24: 0 | X24: 0 | Y24: 0 | Z24: 0 | AA24: 0 | AB24: 0 | AC24: 0 | AD24: 0
C25: Contraindicación Permanente | D25: =SUM(E25+F25) -> 0 | E25: =SUM(G25+I25+K25+M25+O25+Q25+S25+U25+W25+Y25+AA25+AC25) -> 0 | F25: =SUM(H25+J25+L25+N25+P25+R25+T25+V25+X25+Z25+AB25+AD25) -> 0 | G25: 0 | H25: 0 | I25: 0 | J25: 0 | K25: 0 | L25: 0 | M25: 0 | N25: 0 | O25: 0 | P25: 0 | Q25: 0 | R25: 0 | S25: 0 | T25: 0 | U25: 0 | V25: 0 | W25: 0 | X25: 0 | Y25: 0 | Z25: 0 | AA25: 0 | AB25: 0 | AC25: 0 | AD25: 0
A26: Reposición | C26: Contraindicación Transitoria | D26: =SUM(E26+F26) -> 31 | E26: =SUM(G26+I26+K26+M26+O26+Q26+S26+U26+W26+Y26+AA26+AC26) -> 11 | F26: =SUM(H26+J26+L26+N26+P26+R26+T26+V26+X26+Z26+AB26+AD26) -> 20 | G26: 0 | H26: 0 | I26: 1 | J26: 0 | K26: 0 | L26: 2 | M26: 3 | N26: 4 | O26: 1 | P26: 3 | Q26: 1 | R26: 5 | S26: 1 | T26: 2 | U26: 2 | V26: 1 | W26: 0 | X26: 2 | Y26: 2 | Z26: 0 | AA26: 0 | AB26: 1 | AC26: 0 | AD26: 0
C27: Contraindicación Permanente | D27: =SUM(E27+F27) -> 3 | E27: =SUM(G27+I27+K27+M27+O27+Q27+S27+U27+W27+Y27+AA27+AC27) -> 1 | F27: =SUM(H27+J27+L27+N27+P27+R27+T27+V27+X27+Z27+AB27+AD27) -> 2 | G27: 0 | H27: 0 | I27: 0 | J27: 0 | K27: 0 | L27: 0 | M27: 0 | N27: 1 | O27: 0 | P27: 0 | Q27: 0 | R27: 0 | S27: 0 | T27: 0 | U27: 1 | V27: 0 | W27: 0 | X27: 0 | Y27: 0 | Z27: 1 | AA27: 0 | AB27: 0 | AC27: 0 | AD27: 0
A28: TOTAL | D28: =SUM(D22:D27) -> 47 | E28: =SUM(E22:E27) -> 17 | F28: =SUM(F22:F27) -> 30 | G28: =SUM(G22:G27) -> 0 | H28: =SUM(H22:H27) -> 0 | I28: =SUM(I22:I27) -> 1 | J28: =SUM(J22:J27) -> 0 | K28: =SUM(K22:K27) -> 0 | ... AD28: =SUM(AD22:AD27) -> 0
A29: SECCIÓN A.3: REACCIONES ADVERSAS A LA DONACIÓN (CS - UMT - BS)
A30: CLASIFICACIÓN | B30: TIPO | C30: SUBTIPO | E30: TOTAL | F30: Altruista | G30: Reposición
A31: Complicaciones con síntomas locales | B31: Sangre fuera de los vasos sanguíneos | C31: Hematoma | E31: =SUM(F31:G31) -> 0
C32: Punción arterial | E32: =SUM(F32:G32) -> 0
C33: Sangramiento posterior | E33: =SUM(F33:G33) -> 0
B34: Dolor | C34: Irritación o injuria en un nervio | E34: =SUM(F34:G34) -> 0
C35: Brazo doloroso | E35: =SUM(F35:G35) -> 0
B36: Inflamación o infección localizada | C36: Tromboflebitis | E36: =SUM(F36:G36) -> 0
C37: Celulitis | E37: =SUM(F37:G37) -> 0
B38: Otras injurias mayores en los vasos sanguíneos | C38: Trombosis venosa profunda | E38: =SUM(F38:G38) -> 0
C39: Fístula arteriovenosa | E39: =SUM(F39:G39) -> 0
C40: Síndrome compartimental | E40: =SUM(F40:G40) -> 0
C41: Pseudoaneurisma de la arteria braquial | E41: =SUM(F41:G41) -> 0
A42: Complicaciones con síntomas generalizados | B42: Reacción vasovagal (RVV) | C42: Sin pérdida de conciencia | E42: =SUM(F42:G42) -> 5 | F42: 1 | G42: 4
C43: Con pérdida de conciencia | D43: <60 segundos, sin complicaciones | E43: =SUM(F43:G43) -> 0
D44: ≥ 60 segundos y/ o convulsiones o incontinencia | E44: =SUM(F44:G44) -> 0
C45: Con lesión | E45: =SUM(F45:G45) -> 0
C46: Sin lesión | E46: =SUM(F46:G46) -> 5 | F46: 1 | G46: 4
C47: En el sitio de recolección | E47: =SUM(F47:G47) -> 5 | F47: 1 | G47: 4
C48: Fuera del sitio de recolección | E48: =SUM(F48:G48) -> 0
A49: Complicaciones relacionadas a la aféresis | B49: Reacción al citrato | E49: =SUM(F49:G49) -> 0
B50: Hemólisis | E50: =SUM(F50:G50) -> 0
B51: Embolismo aéreo | E51: =SUM(F51:G51) -> 0
B52: Infiltración | E52: =SUM(F52:G52) -> 0
A53: Reacción alérgica | B53: Alergia local | E53: =SUM(F53:G53) -> 0
B54: Reacción alérgica generalizada (anafilaxia) | E54: =SUM(F54:G54) -> 0
A55: Otras complicaciones serias a la donación de sangre | B55: Síntomas agudos cardíacos | E55: =SUM(F55:G55) -> 0
B56: Infarto al miorcardio | E56: =SUM(F56:G56) -> 0
B57: Paro cardiaco | E57: =SUM(F57:G57) -> 0
B58: Ataque isquémico transitorio | E58: =SUM(F58:G58) -> 0
B59: Accidente cerebrovascular | E59: =SUM(F59:G59) -> 0
B60: Muerte | E60: =SUM(F60:G60) -> 0
A61: Otras complicaciones | B61: Otras no mencionadas | E61: =SUM(F61:G61) -> 0
A62: SECCIÓN B: INGRESO UNIDADES DE SANGRE A PRODUCCIÓN (CS-BS)
A63: UNIDADES DE SANGRE | B63: TOTAL
A64: Aptas
A65: No aptas
A66: TOTAL | B66: =SUM(B64+B65) -> 0
A67: SECCIÓN C: PRODUCCIÓN DE COMPONENTES SANGUÍNEOS (CS-BS)
A68: PRODUCCIÓN | B68: DESCRIPCIÓN | C68: TOTAL
A69: Glóbulos rojos | B69: Desplamatizados
B70: Leucoreducidos
B71: Bolsa con filtro
B72: Aféresis
A73: Plaquetas | B73: Estándar
B74: Leucorreducida pool
B75: Leucodepletada pool
B76: Aféresis
B77: Bolsa con filtro
A78: Plasmas | B78: Plasma fresco congelado terapéutico
B79: Plasma uso no terapéutico
B80: Aféresis
A81: Crioprecipitados
A82: SECCIÓN C.1: COMPONENTES SANGUÍNEOS ELIMINADOS (CS-BS )
A83: CAUSA | C83: Globulos Rojos* | D83: Plasmas* | E83: Plaquetas | H83: Crioprecipitados
E84: Estándar | F84: Pool* | G84: Aféresis
A85: Calificación microbiológica reactiva
A86: Obsolescencia
A87: Falla por cadena de frío en almacenamiento
A88: Falla por cadena de frío en transporte
A89: Otros
A90: TOTAL | C90: =SUM(C85:C89) -> 0 | D90: =SUM(D85:D89) -> 0 | E90: =SUM(E85:E89) -> 0 | F90: =SUM(F85:F89) -> 0 | G90: =SUM(G85:G89) -> 0 | H90: =SUM(H85:H89) -> 0
A91: * Cualquier tipo
A92: SECCIÓN C.2 .: COMPONENTES SANGUÍNEOS ELIMINADOS (UMT)
A93: CAUSA | C93: Globulos Rojos* | D93: Plasmas* | E93: Plaquetas | H93: Crioprecipitados
E94: Estándar | F94: Pool* | G94: Aféresis
A95: Obsolescencia | C95: 3 | D95: 1 | E95: 109 | F95: 0 | G95: 0 | H95: 5
A96: Falla por cadena de frío | C96: 0 | D96: 0 | E96: 0 | F96: 0 | G96: 0 | H96: 0
A97: Devoluciones por producto por no cumplir estándar | C97: 0 | D97: 0 | E97: 0 | F97: 0 | G97: 0 | H97: 0
A98: Descongelamiento sin uso | C98: 0 | D98: 8 | F98: 0 | G98: 0 | H98: 0
A99: Otros | C99: 1 | D99: 1 | E99: 12 | F99: 0 | G99: 0 | H99: 0
A100: TOTAL | C100: =SUM(C95:C99) -> 4 | D100: =SUM(D95:D99) -> 10 | E100: =SUM(E95:E99) -> 121 | F100: =SUM(F95:F99) -> 0 | G100: =SUM(G95:G99) -> 0 | H100: =SUM(H95:H99) -> 5
A101: * Cualquier tipo
...

Sheet DICIEMBRE
A1: SERVICIO DE SALUD
A2: =CONCATENATE("COMUNA: ",[13]NOMBRE!B2, " (",[13]NOMBRE!C2,[13]NOMBRE!D2,[13]NOMBRE!E2,[13]NOMBRE!F2,[13]NOMBRE!G2,")") -> COMUNA: LINARES (07401)
A3: =CONCATENATE("ESTABLECIMIENTO/ESTRATEGIA: ", [13]NOMBRE!B3, " (",[13]NOMBRE!C3,[13]NOMBRE!D3,[13]NOMBRE!E3,[13]NOMBRE!F3,[13]NOMBRE!G3,[13]NOMBRE!H3,")") -> ESTABLECIMIENTO/ESTRATEGIA: HOSPITAL PRESIDENTE CARLOS IBAÑEZ DEL CAMPO (116108)
A4: =CONCATENATE("MES: ",[13]NOMBRE!B6, " (",[13]NOMBRE!C6,[13]NOMBRE!D6,")") -> MES: DICIEMBRE (12)
A5: =CONCATENATE("AÑO: ",[13]NOMBRE!B7) -> AÑO: 2025
A6: REM-25. SERVICIOS DE SANGRE
A8: SECCIÓN A.1: POBLACIÓN DONANTE (CS-UMT-BS)
A9: DONANTES | B9: DESCRIPCIÓN | D9: TOTAL | G9: RANGO ETARIO Y SEXO
G10: 18-19 años | I10: 20-24 años | K10: 25-29 años | M10: 30-34 años | O10: 35-39 años | Q10: 40-44 años | S10: 45-49 años | U10: 50-54 años | W10: 55-59 años | Y10: 60-64 años | AA10: 65 y más años
D11: Ambos Sexos | E11: Hombres | F11: Mujeres | G11: Hombres | H11: Mujeres | I11: Hombres | J11: Mujeres | K11: Hombres | L11: Mujeres | M11: Hombres | N11: Mujeres | O11: Hombres | P11: Mujeres | Q11: Hombres | R11: Mujeres | S11: Hombres | T11: Mujeres | U11: Hombres | V11: Mujeres | W11: Hombres | X11: Mujeres | Y11: Hombres | Z11: Mujeres | AA11: Hombres | AB11: Mujeres
A12: Altruistas | B12: Nuevos | C12: Aceptados | D12: =SUM(E12+F12) -> 69 | E12: =SUM(G12+I12+K12+M12+O12+Q12+S12+U12+W12+Y12+AA12) -> 32 | F12: =SUM(H12+J12+L12+N12+P12+R12+T12+V12+X12+Z12+AB12) -> 37 | G12: 2 | H12: 4 | I12: 4 | J12: 7 | K12: 7 | L12: 6 | M12: 2 | N12: 4 | O12: 3 | P12: 5 | Q12: 5 | R12: 2 | S12: 6 | T12: 3 | U12: 0 | V12: 4 | W12: 1 | X12: 2 | Y12: 2 | Z12: 0 | AA12: 0 | AB12: 0
B13: Repetidos | C13: Aceptados | D13: =SUM(E13+F13) -> 76 | E13: =SUM(G13+I13+K13+M13+O13+Q13+S13+U13+W13+Y13+AA13) -> 47 | F13: =SUM(H13+J13+L13+N13+P13+R13+T13+V13+X13+Z13+AB13) -> 29 | G13: 2 | H13: 2 | I13: 4 | J13: 4 | K13: 9 | L13: 5 | M13: 6 | N13: 3 | O13: 5 | P13: 3 | Q13: 3 | R13: 4 | S13: 8 | T13: 3 | U13: 5 | V13: 3 | W13: 3 | X13: 0 | Y13: 2 | Z13: 2 | AA13: 0 | AB13: 0
A14: Reposición | C14: Aceptados | D14: =SUM(E14+F14) -> 217 | E14: =SUM(G14+I14+K14+M14+O14+Q14+S14+U14+W14+Y14+AA14) -> 121 | F14: =SUM(H14+J14+L14+N14+P14+R14+T14+V14+X14+Z14+AB14) -> 96 | G14: 2 | H14: 3 | I14: 12 | J14: 13 | K14: 10 | L14: 10 | M14: 19 | N14: 15 | O14: 16 | P14: 15 | Q14: 18 | R14: 13 | S14: 13 | T14: 8 | U14: 22 | V14: 14 | W14: 6 | X14: 4 | Y14: 3 | Z14: 1 | AA14: 0 | AB14: 0
A15: TOTAL | D15: =SUM(E15+F15) -> 362 | E15: =SUM(G15+I15+K15+M15+O15+Q15+S15+U15+W15+Y15+AA15) -> 200 | F15: =SUM(H15+J15+L15+N15+P15+R15+T15+V15+X15+Z15+AB15) -> 162 | G15: =SUM(G12:G14) -> 6 | H15: =SUM(H12:H14) -> 9 | I15: =SUM(I12:I14) -> 20 | J15: =SUM(J12:J14) -> 24 | K15: =SUM(K12:K14) -> 26 | L15: =SUM(L12:L14) -> 21 | M15: =SUM(M12:M14) -> 27 | N15: =SUM(N12:N14) -> 22 | ... AB15: =SUM(AB12:AB14) -> 0
A16: Total días atención otorgados | D16: 22
A17: Total colectas móviles realizadas
A18: SECCIÓN A.2: TIPO DE DONANTES CON CONTRAINDICACIÓN
A19: DONANTES | B19: DESCRIPCIÓN | D19: TOTAL | G19: RANGO ETARIO Y SEXO
G20: 17 años | I20: 18-19 años | K20: 20-24 años | M20: 25-29 años | O20: 30-34 años | Q20: 35-39 años | S20: 40-44 años | U20: 45-49 años | W20: 50-54 años | Y20: 55-59 años | AA20: 60-64 años | AC20: 65 y más años
D21: Ambos Sexos | E21: Hombres | F21: Mujeres | G21: Hombres | H21: Mujeres | I21: Hombres | J21: Mujeres | K21: Hombres | L21: Mujeres | M21: Hombres | N21: Mujeres | O21: Hombres | P21: Mujeres | Q21: Hombres | R21: Mujeres | S21: Hombres | T21: Mujeres | U21: Hombres | V21: Mujeres | W21: Hombres | X21: Mujeres | Y21: Hombres | Z21: Mujeres | AA21: Hombres | AB21: Mujeres | AC21: Hombres | AD21: Mujeres
A22: Altruistas | B22: Nuevos | C22: Contraindicación Transitoria | D22: =SUM(E22+F22) -> 4 | E22: =SUM(G22+I22+K22+M22+O22+Q22+S22+U22+W22+Y22+AA22+AC22) -> 0 | F22: =SUM(H22+J22+L22+N22+P22+R22+T22+V22+X22+Z22+AB22+AD22) -> 4 | G22: 0 | H22: 0 | I22: 0 | J22: 0 | K22: 0 | L22: 2 | M22: 0 | N22: 1 | O22: 0 | P22: 0 | Q22: 0 | R22: 1 | S22: 0 | T22: 0 | U22: 0 | V22: 0 | W22: 0 | X22: 0 | Y22: 0 | Z22: 0 | AA22: 0 | AB22: 0 | AC22: 0 | AD22: 0
C23: Contraindicación Permanente | D23: =SUM(E23+F23) -> 0 | E23: =SUM(G23+I23+K23+M23+O23+Q23+S23+U23+W23+Y23+AA23+AC23) -> 0 | F23: =SUM(H23+J23+L23+N23+P23+R23+T23+V23+X23+Z23+AB23+AD23) -> 0 | G23: 0 | H23: 0 | I23: 0 | J23: 0 | K23: 0 | L23: 0 | M23: 0 | N23: 0 | O23: 0 | P23: 0 | Q23: 0 | R23: 0 | S23: 0 | T23: 0 | U23: 0 | V23: 0 | W23: 0 | X23: 0 | Y23: 0 | Z23: 0 | AA23: 0 | AB23: 0 | AC23: 0 | AD23: 0
B24: Repetidos | C24: Contraindicación Transitoria | D24: =SUM(E24+F24) -> 6 | E24: =SUM(G24+I24+K24+M24+O24+Q24+S24+U24+W24+Y24+AA24+AC24) -> 2 | F24: =SUM(H24+J24+L24+N24+P24+R24+T24+V24+X24+Z24+AB24+AD24) -> 4 | G24: 0 | H24: 0 | I24: 0 | J24: 1 | K24: 0 | L24: 2 | M24: 1 | N24: 0 | O24: 0 | P24: 0 | Q24: 0 | R24: 1 | S24: 0 | T24: 0 | U24: 0 | V24: 0 | W24: 1 | X24: 0 | Y24: 0 | Z24: 0 | AA24: 0 | AB24: 0 | AC24: 0 | AD24: 0
C25: Contraindicación Permanente | D25: =SUM(E25+F25) -> 0 | E25: =SUM(G25+I25+K25+M25+O25+Q25+S25+U25+W25+Y25+AA25+AC25) -> 0 | F25: =SUM(H25+J25+L25+N25+P25+R25+T25+V25+X25+Z25+AB25+AD25) -> 0 | G25: 0 | H25: 0 | I25: 0 | J25: 0 | K25: 0 | L25: 0 | M25: 0 | N25: 0 | O25: 0 | P25: 0 | Q25: 0 | R25: 0 | S25: 0 | T25: 0 | U25: 0 | V25: 0 | W25: 0 | X25: 0 | Y25: 0 | Z25: 0 | AA25: 0 | AB25: 0 | AC25: 0 | AD25: 0
A26: Reposición | C26: Contraindicación Transitoria | D26: =SUM(E26+F26) -> 53 | E26: =SUM(G26+I26+K26+M26+O26+Q26+S26+U26+W26+Y26+AA26+AC26) -> 20 | F26: =SUM(H26+J26+L26+N26+P26+R26+T26+V26+X26+Z26+AB26+AD26) -> 33 | G26: 0 | H26: 0 | I26: 2 | J26: 1 | K26: 1 | L26: 8 | M26: 1 | N26: 1 | O26: 6 | P26: 0 | Q26: 1 | R26: 10 | S26: 3 | T26: 6 | U26: 2 | V26: 5 | W26: 1 | X26: 0 | Y26: 1 | Z26: 2 | AA26: 2 | AB26: 0 | AC26: 0 | AD26: 0
C27: Contraindicación Permanente | D27: =SUM(E27+F27) -> 1 | E27: =SUM(G27+I27+K27+M27+O27+Q27+S27+U27+W27+Y27+AA27+AC27) -> 0 | F27: =SUM(H27+J27+L27+N27+P27+R27+T27+V27+X27+Z27+AB27+AD27) -> 1 | G27: 0 | H27: 0 | I27: 0 | J27: 0 | K27: 0 | L27: 0 | M27: 0 | N27: 1 | O27: 0 | P27: 0 | Q27: 0 | R27: 0 | S27: 0 | T27: 0 | U27: 0 | V27: 0 | W27: 0 | X27: 0 | Y27: 0 | Z27: 0 | AA27: 0 | AB27: 0 | AC27: 0 | AD27: 0
A28: TOTAL | D28: =SUM(D22:D27) -> 64 | E28: =SUM(E22:E27) -> 22 | F28: =SUM(F22:F27) -> 42 | G28: =SUM(G22:G27) -> 0 | H28: =SUM(H22:H27) -> 0 | I28: =SUM(I22:I27) -> 2 | J28: =SUM(J22:J27) -> 2 | K28: =SUM(K22:K27) -> 1 | ... AD28: =SUM(AD22:AD27) -> 0
A29: SECCIÓN A.3: REACCIONES ADVERSAS A LA DONACIÓN (CS - UMT - BS)
A30: CLASIFICACIÓN | B30: TIPO | C30: SUBTIPO | E30: TOTAL | F30: Altruista | G30: Reposición
A31: Complicaciones con síntomas locales | B31: Sangre fuera de los vasos sanguíneos | C31: Hematoma | E31: =SUM(F31:G31) -> 0
C32: Punción arterial | E32: =SUM(F32:G32) -> 0
C33: Sangramiento posterior | E33: =SUM(F33:G33) -> 0
B34: Dolor | C34: Irritación o injuria en un nervio | E34: =SUM(F34:G34) -> 0
C35: Brazo doloroso | E35: =SUM(F35:G35) -> 0
B36: Inflamación o infección localizada | C36: Tromboflebitis | E36: =SUM(F36:G36) -> 0
C37: Celulitis | E37: =SUM(F37:G37) -> 0
B38: Otras injurias mayores en los vasos sanguíneos | C38: Trombosis venosa profunda | E38: =SUM(F38:G38) -> 0
C39: Fístula arteriovenosa | E39: =SUM(F39:G39) -> 0
C40: Síndrome compartimental | E40: =SUM(F40:G40) -> 0
C41: Pseudoaneurisma de la arteria braquial | E41: =SUM(F41:G41) -> 0
A42: Complicaciones con síntomas generalizados | B42: Reacción vasovagal (RVV) | C42: Sin pérdida de conciencia | E42: =SUM(F42:G42) -> 8 | F42: 4 | G42: 4
C43: Con pérdida de conciencia | D43: <60 segundos, sin complicaciones | E43: =SUM(F43:G43) -> 0
D44: ≥ 60 segundos y/ o convulsiones o incontinencia | E44: =SUM(F44:G44) -> 0
C45: Con lesión | E45: =SUM(F45:G45) -> 0
C46: Sin lesión | E46: =SUM(F46:G46) -> 8 | F46: 4 | G46: 4
C47: En el sitio de recolección | E47: =SUM(F47:G47) -> 7 | F47: 4 | G47: 3
C48: Fuera del sitio de recolección | E48: =SUM(F48:G48) -> 1 | G48: 1
A49: Complicaciones relacionadas a la aféresis | B49: Reacción al citrato | E49: =SUM(F49:G49) -> 0
B50: Hemólisis | E50: =SUM(F50:G50) -> 0
B51: Embolismo aéreo | E51: =SUM(F51:G51) -> 0
B52: Infiltración | E52: =SUM(F52:G52) -> 0
A53: Reacción alérgica | B53: Alergia local | E53: =SUM(F53:G53) -> 0
B54: Reacción alérgica generalizada (anafilaxia) | E54: =SUM(F54:G54) -> 0
A55: Otras complicaciones serias a la donación de sangre | B55: Síntomas agudos cardíacos | E55: =SUM(F55:G55) -> 0
B56: Infarto al miorcardio | E56: =SUM(F56:G56) -> 0
B57: Paro cardiaco | E57: =SUM(F57:G57) -> 0
B58: Ataque isquémico transitorio | E58: =SUM(F58:G58) -> 0
B59: Accidente cerebrovascular | E59: =SUM(F59:G59) -> 0
B60: Muerte | E60: =SUM(F60:G60) -> 0
A61: Otras complicaciones | B61: Otras no mencionadas | E61: =SUM(F61:G61) -> 0
A62: SECCIÓN B: INGRESO UNIDADES DE SANGRE A PRODUCCIÓN (CS-BS)
A63: UNIDADES DE SANGRE | B63: TOTAL
A64: Aptas
A65: No aptas
A66: TOTAL | B66: =SUM(B64+B65) -> 0
A67: SECCIÓN C: PRODUCCIÓN DE COMPONENTES SANGUÍNEOS (CS-BS)
A68: PRODUCCIÓN | B68: DESCRIPCIÓN | C68: TOTAL
A69: Glóbulos rojos | B69: Desplamatizados
B70: Leucoreducidos
B71: Bolsa con filtro
B72: Aféresis
A73: Plaquetas | B73: Estándar
B74: Leucorreducida pool
B75: Leucodepletada pool
B76: Aféresis
B77: Bolsa con filtro
A78: Plasmas | B78: Plasma fresco congelado terapéutico
B79: Plasma uso no terapéutico
B80: Aféresis
A81: Crioprecipitados
A82: SECCIÓN C.1: COMPONENTES SANGUÍNEOS ELIMINADOS (CS-BS )
A83: CAUSA | C83: Globulos Rojos* | D83: Plasmas* | E83: Plaquetas | H83: Crioprecipitados
E84: Estándar | F84: Pool* | G84: Aféresis
A85: Calificación microbiológica reactiva
A86: Obsolescencia
A87: Falla por cadena de frío en almacenamiento
A88: Falla por cadena de frío en transporte
A89: Otros
A90: TOTAL | C90: =SUM(C85:C89) -> 0 | D90: =SUM(D85:D89) -> 0 | E90: =SUM(E85:E89) -> 0 | F90: =SUM(F85:F89) -> 0 | G90: =SUM(G85:G89) -> 0 | H90: =SUM(H85:H89) -> 0
A91: * Cualquier tipo
A92: SECCIÓN C.2 .: COMPONENTES SANGUÍNEOS ELIMINADOS (UMT)
A93: CAUSA | C93: Globulos Rojos* | D93: Plasmas* | E93: Plaquetas | H93: Crioprecipitados
E94: Estándar | F94: Pool* | G94: Aféresis
A95: Obsolescencia | C95: 22 | D95: 1 | E95: 88 | F95: 0 | G95: 0 | H95: 0
A96: Falla por cadena de frío | C96: 0 | D96: 0 | E96: 0 | F96: 0 | G96: 0 | H96: 0
A97: Devoluciones por producto por no cumplir estándar | C97: 0 | D97: 0 | E97: 0 | F97: 0 | G97: 0 | H97: 0
A98: Descongelamiento sin uso | C98: 0 | D98: 2 | E98: 0 | F98: 0 | G98: 0 | H98: 0
A99: Otros | C99: 5 | D99: 0 | E99: 10 | F99: 0 | G99: 0 | H99: 0
A100: TOTAL | C100: =SUM(C95:C99) -> 27 | D100: =SUM(D95:D99) -> 3 | E100: =SUM(E95:E99) -> 98 | F100: =SUM(F95:F99) -> 0 | G100: =SUM(G95:G99) -> 0 | H100: =SUM(H95:H99) -> 0
A101: * Cualquier tipo
...
