Workbook

Sheet CONSOLIDADO
A1: SERVICIO DE SALUD
A2: =CONCATENATE("COMUNA: ",[1]NOMBRE!B2, " (",[1]NOMBRE!C2,[1]NOMBRE!D2,[1]NOMBRE!E2,[1]NOMBRE!F2,[1]NOMBRE!G2,")") -> COMUNA: 0 (00000)
A3: =CONCATENATE("ESTABLECIMIENTO/ESTRATEGIA: ", [1]NOMBRE!B3, " (",[1]NOMBRE!C3,[1]NOMBRE!D3,[1]NOMBRE!E3,[1]NOMBRE!F3,[1]NOMBRE!G3,[1]NOMBRE!H3,")") -> ESTABLECIMIENTO/ESTRATEGIA: 0 (000000)
A4: =CONCATENATE("MES: ",[1]NOMBRE!B6, " (",[1]NOMBRE!C6,[1]NOMBRE!D6,")") -> MES: 0 (00)
A5: =CONCATENATE("AÑO: ",[1]NOMBRE!B7) -> AÑO: 2025
A6: REM-A24. ATENCIÓN OBSTÉTRICA Y DEL RECIÉN NACIDO
A8: SECCIÓN A: INFORMACIÓN GENERAL DE PARTOS
A9: CARACTERISTICAS DEL PARTO | C9: TOTAL | D9: PARTOS SEGÚN EDAD DE LA MADRE | H9: PARTOS PREMATUROS (CONSIDERAR SOBRE 22 SEMANAS) | L9: Uso de oxitocina profiláctica | M9: ANESTESIA Y/O ANALGESIA DEL PARTO (MEDIDAS FARMACOLÓGICAS Y NO FARMACOLÓGICAS) | S9: Ligadura tardía del cordón (> a 60 segundos) | T9: CONTACTO INMEDIATO PIEL A PIEL >30 MINUTOS | X9: Lactancia materna en los primeros 60 minutos de vida (RN con peso de 2.500 grs. o más) | Y9: Alojamiento conjunto en puerperio inmediato | Z9: Atención con pertinencia cultural | AA9: Pueblos Originarios | AB9: Migrantes | AC9: Discapacidad | AD9: Privada de Libertad | AE9: Identidad de Género
D10: < 15 años | E10: 15 - 19 años | F10: 20 - 34 años | G10: ≥35 años | H10: Partos prematuros menos de 24 semanas | I10: Partos prematuros de 24 a 28 semanas | J10: Partos prematuros de 29 a 32 semanas | K10: Partos prematuros de 33 a 36 semanas | M10: Anestesia Neuroaxial | N10: Óxido nitroso | O10: Analgesia endovenosa | P10: General | Q10: Local | R10: Medidas no farmacológicas | T10: Con la Madre | V10: Con el padre o acompañante significativo
T11: RN peso menor o igual a 2.499 grs. | U11: RN con peso de 2.500 grs. o más | V11: RN peso menor o igual a 2.499 grs. | W11: RN con peso de 2.500 grs. o más | AE11: Trans masculino | AF11: No binarie
A12: TOTAL PARTOS | C12: =SUM(C13:C16) -> 1430 | D12: =SUM(D13:D16) -> 4 | E12: =SUM(E13:E16) -> 62 | F12: =SUM(F13:F16) -> 1050 | G12: =SUM(G13:G16) -> 315 | H12: =SUM(H13:H16) -> 1 | I12: =SUM(I13:I16) -> 5 | J12: =SUM(J13:J16) -> 3 | ... AF12: =SUM(AF13:AF16) -> 0
A13: Vaginal | C13: =SUM(ENERO:DICIEMBRE!C13) -> 524 | D13: =SUM(ENERO:DICIEMBRE!D13) -> 2 | E13: =SUM(ENERO:DICIEMBRE!E13) -> 43 | F13: =SUM(ENERO:DICIEMBRE!F13) -> 403 | G13: =SUM(ENERO:DICIEMBRE!G13) -> 76 | H13: =SUM(ENERO:DICIEMBRE!H13) -> 1 | I13: =SUM(ENERO:DICIEMBRE!I13) -> 4 | J13: =SUM(ENERO:DICIEMBRE!J13) -> 2 | ... AF13: =SUM(ENERO:DICIEMBRE!AF13) -> 0 | AG13: =$CA13&CB13&CC13&CD13&CE13 | CA13: =IF(AND(C13>0,AA13="")," * No olvide digitar la variable Pueblos originarios. Digite Cero si no tiene.",IF(AA13>C13," * La variable Pueblos originarios no puede ser mayor al Total.","")) | CB13: =IF(AND(C13>0,AB13="")," * No olvide digitar la variable Migrantes. Digite Cero si no tiene.",IF(AB13>C13," * La variable Migrantes no puede ser mayor al Total.","")) | CC13: =IF(AND($C13>0,OR(AC13=""))," * No olvide digitar la variable "&$AC$9&""&". Digite Cero si no tiene.",IF(OR(AC13>$C13)," * La variable Discapacidad no puede ser mayor al Total.","")) | CD13: =IF(AND($C13>0,OR(AD13=""))," * No olvide digitar la variable "&$AD$9&""&". Digite Cero si no tiene.",IF(OR(AD13>$C13)," * La variable "&$AD$9&""&" no puede ser mayor al Total.","")) | CE13: =IF(AND($C13>0,OR(AE13="",AF13=""))," * No olvide digitar la variable "&$AE$9&""&". Digite Cero si no tiene.",IF(OR(AE13+AF13>$C13)," * La variable "&$AE$9&""&" no puede ser mayor al Total.","")) | CI13: =IF(AND($C13>0,AA13=""),1,IF(AA13>$C13,1,0)) -> 0 | CJ13: =IF(AND($C13>0,AB13=""),1,IF(AB13>$C13,1,0)) -> 0 | CK13: =IF(AND($C13>0,AC13=""),1,IF(AC13>$C13,1,0)) -> 0 | CL13: =IF(AND($C13>0,AD13=""),1,IF(AD13>$C13,1,0)) -> 0 | CM13: =IF(AND($C13>0,AE13="",AF13=""),1,IF(AE13+AF13>$C13,1,0)) -> 0
A14: Instrumental | C14: =SUM(ENERO:DICIEMBRE!C14) -> 10 | D14: =SUM(ENERO:DICIEMBRE!D14) -> 0 | E14: =SUM(ENERO:DICIEMBRE!E14) -> 2 | F14: =SUM(ENERO:DICIEMBRE!F14) -> 7 | G14: =SUM(ENERO:DICIEMBRE!G14) -> 2 | H14: =SUM(ENERO:DICIEMBRE!H14) -> 0 | I14: =SUM(ENERO:DICIEMBRE!I14) -> 0 | J14: =SUM(ENERO:DICIEMBRE!J14) -> 0 | ... AF14: =SUM(ENERO:DICIEMBRE!AF14) -> 0 | AG14: =$CA14&CB14&CC14&CD14&CE14 | CA14: =IF(AND(C14>0,AA14="")," * No olvide digitar la variable Pueblos originarios. Digite Cero si no tiene.",IF(AA14>C14," * La variable Pueblos originarios no puede ser mayor al Total.","")) | CB14: =IF(AND(C14>0,AB14="")," * No olvide digitar la variable Migrantes. Digite Cero si no tiene.",IF(AB14>C14," * La variable Migrantes no puede ser mayor al Total.","")) | CC14: =IF(AND($C14>0,OR(AC14=""))," * No olvide digitar la variable "&$AC$9&""&". Digite Cero si no tiene.",IF(OR(AC14>$C14)," * La variable Discapacidad no puede ser mayor al Total.","")) | CD14: =IF(AND($C14>0,OR(AD14=""))," * No olvide digitar la variable "&$AD$9&""&". Digite Cero si no tiene.",IF(OR(AD14>$C14)," * La variable "&$AD$9&""&" no puede ser mayor al Total.","")) | CE14: =IF(AND($C14>0,OR(AE14="",AF14=""))," * No olvide digitar la variable "&$AE$9&""&". Digite Cero si no tiene.",IF(OR(AE14+AF14>$C14)," * La variable "&$AE$9&""&" no puede ser mayor al Total.","")) | CI14: =IF(AND($C14>0,AA14=""),1,IF(AA14>$C14,1,0)) -> 0 | CJ14: =IF(AND($C14>0,AB14=""),1,IF(AB14>$C14,1,0)) -> 0 | CK14: =IF(AND($C14>0,AC14=""),1,IF(AC14>$C14,1,0)) -> 0 | CL14: =IF(AND($C14>0,AD14=""),1,IF(AD14>$C14,1,0)) -> 0 | CM14: =IF(AND($C14>0,AE14="",AF14=""),1,IF(AE14+AF14>$C14,1,0)) -> 0
A15: Cesárea Electiva | C15: =SUM(ENERO:DICIEMBRE!C15) -> 605 | D15: =SUM(ENERO:DICIEMBRE!D15) -> 0 | E15: =SUM(ENERO:DICIEMBRE!E15) -> 6 | F15: =SUM(ENERO:DICIEMBRE!F15) -> 418 | G15: =SUM(ENERO:DICIEMBRE!G15) -> 181 | H15: =SUM(ENERO:DICIEMBRE!H15) -> 0 | I15: =SUM(ENERO:DICIEMBRE!I15) -> 1 | J15: =SUM(ENERO:DICIEMBRE!J15) -> 0 | ... AF15: =SUM(ENERO:DICIEMBRE!AF15) -> 0 | AG15: =$CA15&CB15&CC15&CD15&CE15 | CA15: =IF(AND(C15>0,AA15="")," * No olvide digitar la variable Pueblos originarios. Digite Cero si no tiene.",IF(AA15>C15," * La variable Pueblos originarios no puede ser mayor al Total.","")) | CB15: =IF(AND(C15>0,AB15="")," * No olvide digitar la variable Migrantes. Digite Cero si no tiene.",IF(AB15>C15," * La variable Migrantes no puede ser mayor al Total.","")) | CC15: =IF(AND($C15>0,OR(AC15=""))," * No olvide digitar la variable "&$AC$9&""&". Digite Cero si no tiene.",IF(OR(AC15>$C15)," * La variable Discapacidad no puede ser mayor al Total.","")) | CD15: =IF(AND($C15>0,OR(AD15=""))," * No olvide digitar la variable "&$AD$9&""&". Digite Cero si no tiene.",IF(OR(AD15>$C15)," * La variable "&$AD$9&""&" no puede ser mayor al Total.","")) | CE15: =IF(AND($C15>0,OR(AE15="",AF15=""))," * No olvide digitar la variable "&$AE$9&""&". Digite Cero si no tiene.",IF(OR(AE15+AF15>$C15)," * La variable "&$AE$9&""&" no puede ser mayor al Total.","")) | CI15: =IF(AND($C15>0,AA15=""),1,IF(AA15>$C15,1,0)) -> 0 | CJ15: =IF(AND($C15>0,AB15=""),1,IF(AB15>$C15,1,0)) -> 0 | CK15: =IF(AND($C15>0,AC15=""),1,IF(AC15>$C15,1,0)) -> 0 | CL15: =IF(AND($C15>0,AD15=""),1,IF(AD15>$C15,1,0)) -> 0 | CM15: =IF(AND($C15>0,AE15="",AF15=""),1,IF(AE15+AF15>$C15,1,0)) -> 0
A16: Cesárea Urgencia | C16: =SUM(ENERO:DICIEMBRE!C16) -> 291 | D16: =SUM(ENERO:DICIEMBRE!D16) -> 2 | E16: =SUM(ENERO:DICIEMBRE!E16) -> 11 | F16: =SUM(ENERO:DICIEMBRE!F16) -> 222 | G16: =SUM(ENERO:DICIEMBRE!G16) -> 56 | H16: =SUM(ENERO:DICIEMBRE!H16) -> 0 | I16: =SUM(ENERO:DICIEMBRE!I16) -> 0 | J16: =SUM(ENERO:DICIEMBRE!J16) -> 1 | ... AF16: =SUM(ENERO:DICIEMBRE!AF16) -> 0 | AG16: =$CA16&CB16&CC16&CD16&CE16 | CA16: =IF(AND(C16>0,AA16="")," * No olvide digitar la variable Pueblos originarios. Digite Cero si no tiene.",IF(AA16>C16," * La variable Pueblos originarios no puede ser mayor al Total.","")) | CB16: =IF(AND(C16>0,AB16="")," * No olvide digitar la variable Migrantes. Digite Cero si no tiene.",IF(AB16>C16," * La variable Migrantes no puede ser mayor al Total.","")) | CC16: =IF(AND($C16>0,OR(AC16=""))," * No olvide digitar la variable "&$AC$9&""&". Digite Cero si no tiene.",IF(OR(AC16>$C16)," * La variable Discapacidad no puede ser mayor al Total.","")) | CD16: =IF(AND($C16>0,OR(AD16=""))," * No olvide digitar la variable "&$AD$9&""&". Digite Cero si no tiene.",IF(OR(AD16>$C16)," * La variable "&$AD$9&""&" no puede ser mayor al Total.","")) | CE16: =IF(AND($C16>0,OR(AE16="",AF16=""))," * No olvide digitar la variable "&$AE$9&""&". Digite Cero si no tiene.",IF(OR(AE16+AF16>$C16)," * La variable "&$AE$9&""&" no puede ser mayor al Total.","")) | CI16: =IF(AND($C16>0,AA16=""),1,IF(AA16>$C16,1,0)) -> 0 | CJ16: =IF(AND($C16>0,AB16=""),1,IF(AB16>$C16,1,0)) -> 0 | CK16: =IF(AND($C16>0,AC16=""),1,IF(AC16>$C16,1,0)) -> 0 | CL16: =IF(AND($C16>0,AD16=""),1,IF(AD16>$C16,1,0)) -> 0 | CM16: =IF(AND($C16>0,AE16="",AF16=""),1,IF(AE16+AF16>$C16,1,0)) -> 0
A17: Parto prehospitalario (en establecimientos salud o ambulancias) | C17: =SUM(ENERO:DICIEMBRE!C17) -> 0 | D17: =SUM(ENERO:DICIEMBRE!D17) -> 0 | E17: =SUM(ENERO:DICIEMBRE!E17) -> 0 | F17: =SUM(ENERO:DICIEMBRE!F17) -> 0 | G17: =SUM(ENERO:DICIEMBRE!G17) -> 0 | H17: =SUM(ENERO:DICIEMBRE!H17) -> 0 | I17: =SUM(ENERO:DICIEMBRE!I17) -> 0 | J17: =SUM(ENERO:DICIEMBRE!J17) -> 0 | ... AF17: =SUM(ENERO:DICIEMBRE!AF17) -> 0 | AG17: =$CA17&CB17&CC17&CD17&CE17 | CA17: =IF(AND(C17>0,AA17="")," * No olvide digitar la variable Pueblos originarios. Digite Cero si no tiene.",IF(AA17>C17," * La variable Pueblos originarios no puede ser mayor al Total.","")) | CB17: =IF(AND(C17>0,AB17="")," * No olvide digitar la variable Migrantes. Digite Cero si no tiene.",IF(AB17>C17," * La variable Migrantes no puede ser mayor al Total.","")) | CC17: =IF(AND($C17>0,OR(AC17=""))," * No olvide digitar la variable "&$AC$9&""&". Digite Cero si no tiene.",IF(OR(AC17>$C17)," * La variable Discapacidad no puede ser mayor al Total.","")) | CD17: =IF(AND($C17>0,OR(AD17=""))," * No olvide digitar la variable "&$AD$9&""&". Digite Cero si no tiene.",IF(OR(AD17>$C17)," * La variable "&$AD$9&""&" no puede ser mayor al Total.","")) | CE17: =IF(AND($C17>0,OR(AE17="",AF17=""))," * No olvide digitar la variable "&$AE$9&""&". Digite Cero si no tiene.",IF(OR(AE17+AF17>$C17)," * La variable "&$AE$9&""&" no puede ser mayor al Total.","")) | CI17: =IF(AND($C17>0,AA17=""),1,IF(AA17>$C17,1,0)) -> 0 | CJ17: =IF(AND($C17>0,AB17=""),1,IF(AB17>$C17,1,0)) -> 0 | CK17: =IF(AND($C17>0,AC17=""),1,IF(AC17>$C17,1,0)) -> 0 | CL17: =IF(AND($C17>0,AD17=""),1,IF(AD17>$C17,1,0)) -> 0 | CM17: =IF(AND($C17>0,AE17="",AF17=""),1,IF(AE17+AF17>$C17,1,0)) -> 0
A18: Partos fuera de la red de salud | C18: =SUM(ENERO:DICIEMBRE!C18) -> 3 | D18: =SUM(ENERO:DICIEMBRE!D18) -> 0 | E18: =SUM(ENERO:DICIEMBRE!E18) -> 0 | F18: =SUM(ENERO:DICIEMBRE!F18) -> 3 | G18: =SUM(ENERO:DICIEMBRE!G18) -> 0 | H18: =SUM(ENERO:DICIEMBRE!H18) -> 0 | I18: =SUM(ENERO:DICIEMBRE!I18) -> 0 | J18: =SUM(ENERO:DICIEMBRE!J18) -> 0 | ... AF18: =SUM(ENERO:DICIEMBRE!AF18) -> 0 | AG18: =$CA18&CB18&CC18&CD18&CE18 | CA18: =IF(AND(C18>0,AA18="")," * No olvide digitar la variable Pueblos originarios. Digite Cero si no tiene.",IF(AA18>C18," * La variable Pueblos originarios no puede ser mayor al Total.","")) | CB18: =IF(AND(C18>0,AB18="")," * No olvide digitar la variable Migrantes. Digite Cero si no tiene.",IF(AB18>C18," * La variable Migrantes no puede ser mayor al Total.","")) | CC18: =IF(AND($C18>0,OR(AC18=""))," * No olvide digitar la variable "&$AC$9&""&". Digite Cero si no tiene.",IF(OR(AC18>$C18)," * La variable Discapacidad no puede ser mayor al Total.","")) | CD18: =IF(AND($C18>0,OR(AD18=""))," * No olvide digitar la variable "&$AD$9&""&". Digite Cero si no tiene.",IF(OR(AD18>$C18)," * La variable "&$AD$9&""&" no puede ser mayor al Total.","")) | CE18: =IF(AND($C18>0,OR(AE18="",AF18=""))," * No olvide digitar la variable "&$AE$9&""&". Digite Cero si no tiene.",IF(OR(AE18+AF18>$C18)," * La variable "&$AE$9&""&" no puede ser mayor al Total.","")) | CI18: =IF(AND($C18>0,AA18=""),1,IF(AA18>$C18,1,0)) -> 0 | CJ18: =IF(AND($C18>0,AB18=""),1,IF(AB18>$C18,1,0)) -> 0 | CK18: =IF(AND($C18>0,AC18=""),1,IF(AC18>$C18,1,0)) -> 0 | CL18: =IF(AND($C18>0,AD18=""),1,IF(AD18>$C18,1,0)) -> 0 | CM18: =IF(AND($C18>0,AE18="",AF18=""),1,IF(AE18+AF18>$C18,1,0)) -> 0
A19: Plan de parto | C19: =SUM(ENERO:DICIEMBRE!C19) -> 239 | D19: =SUM(ENERO:DICIEMBRE!D19) -> 1 | E19: =SUM(ENERO:DICIEMBRE!E19) -> 6 | F19: =SUM(ENERO:DICIEMBRE!F19) -> 132 | G19: =SUM(ENERO:DICIEMBRE!G19) -> 51 | H19: =SUM(ENERO:DICIEMBRE!H19) -> 0 | I19: =SUM(ENERO:DICIEMBRE!I19) -> 0 | J19: =SUM(ENERO:DICIEMBRE!J19) -> 0 | ... AF19: =SUM(ENERO:DICIEMBRE!AF19) -> 0 | AG19: =$CA19&CB19&CC19&CD19&CE19 | CA19: =IF(AND(C19>0,AA19="")," * No olvide digitar la variable Pueblos originarios. Digite Cero si no tiene.",IF(AA19>C19," * La variable Pueblos originarios no puede ser mayor al Total.","")) | CB19: =IF(AND(C19>0,AB19="")," * No olvide digitar la variable Migrantes. Digite Cero si no tiene.",IF(AB19>C19," * La variable Migrantes no puede ser mayor al Total.","")) | CC19: =IF(AND($C19>0,OR(AC19=""))," * No olvide digitar la variable "&$AC$9&""&". Digite Cero si no tiene.",IF(OR(AC19>$C19)," * La variable Discapacidad no puede ser mayor al Total.","")) | CD19: =IF(AND($C19>0,OR(AD19=""))," * No olvide digitar la variable "&$AD$9&""&". Digite Cero si no tiene.",IF(OR(AD19>$C19)," * La variable "&$AD$9&""&" no puede ser mayor al Total.","")) | CE19: =IF(AND($C19>0,OR(AE19="",AF19=""))," * No olvide digitar la variable "&$AE$9&""&". Digite Cero si no tiene.",IF(OR(AE19+AF19>$C19)," * La variable "&$AE$9&""&" no puede ser mayor al Total.","")) | CI19: =IF(AND($C19>0,AA19=""),1,IF(AA19>$C19,1,0)) -> 0 | CJ19: =IF(AND($C19>0,AB19=""),1,IF(AB19>$C19,1,0)) -> 0 | CK19: =IF(AND($C19>0,AC19=""),1,IF(AC19>$C19,1,0)) -> 0 | CL19: =IF(AND($C19>0,AD19=""),1,IF(AD19>$C19,1,0)) -> 0 | CM19: =IF(AND($C19>0,AE19="",AF19=""),1,IF(AE19+AF19>$C19,1,0)) -> 0
A20: Entrega de placenta a solicitud | C20: =SUM(ENERO:DICIEMBRE!C20) -> 2 | D20: =SUM(ENERO:DICIEMBRE!D20) -> 0 | E20: =SUM(ENERO:DICIEMBRE!E20) -> 0 | F20: =SUM(ENERO:DICIEMBRE!F20) -> 2 | G20: =SUM(ENERO:DICIEMBRE!G20) -> 0 | H20: =SUM(ENERO:DICIEMBRE!H20) -> 0 | I20: =SUM(ENERO:DICIEMBRE!I20) -> 0 | J20: =SUM(ENERO:DICIEMBRE!J20) -> 0 | ... AF20: =SUM(ENERO:DICIEMBRE!AF20) -> 0 | AG20: =$CA20&CB20&CC20&CD20&CE20 | CA20: =IF(AND(C20>0,AA20="")," * No olvide digitar la variable Pueblos originarios. Digite Cero si no tiene.",IF(AA20>C20," * La variable Pueblos originarios no puede ser mayor al Total.","")) | CB20: =IF(AND(C20>0,AB20="")," * No olvide digitar la variable Migrantes. Digite Cero si no tiene.",IF(AB20>C20," * La variable Migrantes no puede ser mayor al Total.","")) | CC20: =IF(AND($C20>0,OR(AC20=""))," * No olvide digitar la variable "&$AC$9&""&". Digite Cero si no tiene.",IF(OR(AC20>$C20)," * La variable Discapacidad no puede ser mayor al Total.","")) | CD20: =IF(AND($C20>0,OR(AD20=""))," * No olvide digitar la variable "&$AD$9&""&". Digite Cero si no tiene.",IF(OR(AD20>$C20)," * La variable "&$AD$9&""&" no puede ser mayor al Total.","")) | CE20: =IF(AND($C20>0,OR(AE20="",AF20=""))," * No olvide digitar la variable "&$AE$9&""&". Digite Cero si no tiene.",IF(OR(AE20+AF20>$C20)," * La variable "&$AE$9&""&" no puede ser mayor al Total.","")) | CI20: =IF(AND($C20>0,AA20=""),1,IF(AA20>$C20,1,0)) -> 0 | CJ20: =IF(AND($C20>0,AB20=""),1,IF(AB20>$C20,1,0)) -> 0 | CK20: =IF(AND($C20>0,AC20=""),1,IF(AC20>$C20,1,0)) -> 0 | CL20: =IF(AND($C20>0,AD20=""),1,IF(AD20>$C20,1,0)) -> 0 | CM20: =IF(AND($C20>0,AE20="",AF20=""),1,IF(AE20+AF20>$C20,1,0)) -> 0
A21: Embarazo no controlado | C21: =SUM(ENERO:DICIEMBRE!C21) -> 3 | D21: =SUM(ENERO:DICIEMBRE!D21) -> 0 | E21: =SUM(ENERO:DICIEMBRE!E21) -> 0 | F21: =SUM(ENERO:DICIEMBRE!F21) -> 4 | G21: =SUM(ENERO:DICIEMBRE!G21) -> 0 | H21: =SUM(ENERO:DICIEMBRE!H21) -> 0 | I21: =SUM(ENERO:DICIEMBRE!I21) -> 0 | J21: =SUM(ENERO:DICIEMBRE!J21) -> 0 | ... AF21: =SUM(ENERO:DICIEMBRE!AF21) -> 0 | AG21: =$CA21&CB21&CC21&CD21&CE21 | CA21: =IF(AND(C21>0,AA21="")," * No olvide digitar la variable Pueblos originarios. Digite Cero si no tiene.",IF(AA21>C21," * La variable Pueblos originarios no puede ser mayor al Total.","")) | CB21: =IF(AND(C21>0,AB21="")," * No olvide digitar la variable Migrantes. Digite Cero si no tiene.",IF(AB21>C21," * La variable Migrantes no puede ser mayor al Total.","")) | CC21: =IF(AND($C21>0,OR(AC21=""))," * No olvide digitar la variable "&$AC$9&""&". Digite Cero si no tiene.",IF(OR(AC21>$C21)," * La variable Discapacidad no puede ser mayor al Total.","")) | CD21: =IF(AND($C21>0,OR(AD21=""))," * No olvide digitar la variable "&$AD$9&""&". Digite Cero si no tiene.",IF(OR(AD21>$C21)," * La variable "&$AD$9&""&" no puede ser mayor al Total.","")) | CE21: =IF(AND($C21>0,OR(AE21="",AF21=""))," * No olvide digitar la variable "&$AE$9&""&". Digite Cero si no tiene.",IF(OR(AE21+AF21>$C21)," * La variable "&$AE$9&""&" no puede ser mayor al Total.","")) | CI21: =IF(AND($C21>0,AA21=""),1,IF(AA21>$C21,1,0)) -> 0 | CJ21: =IF(AND($C21>0,AB21=""),1,IF(AB21>$C21,1,0)) -> 0 | CK21: =IF(AND($C21>0,AC21=""),1,IF(AC21>$C21,1,0)) -> 0 | CL21: =IF(AND($C21>0,AD21=""),1,IF(AD21>$C21,1,0)) -> 0 | CM21: =IF(AND($C21>0,AE21="",AF21=""),1,IF(AE21+AF21>$C21,1,0)) -> 0
A22: Parto en domicilio | B22: Con atención profesional | C22: =SUM(ENERO:DICIEMBRE!C22) -> 0 | D22: =SUM(ENERO:DICIEMBRE!D22) -> 0 | E22: =SUM(ENERO:DICIEMBRE!E22) -> 0 | F22: =SUM(ENERO:DICIEMBRE!F22) -> 0 | G22: =SUM(ENERO:DICIEMBRE!G22) -> 0 | H22: =SUM(ENERO:DICIEMBRE!H22) -> 0 | I22: =SUM(ENERO:DICIEMBRE!I22) -> 0 | J22: =SUM(ENERO:DICIEMBRE!J22) -> 0 | ... AF22: =SUM(ENERO:DICIEMBRE!AF22) -> 0 | AG22: =$CA22&CB22&CC22&CD22&CE22 | CA22: =IF(AND(C22>0,AA22="")," * No olvide digitar la variable Pueblos originarios. Digite Cero si no tiene.",IF(AA22>C22," * La variable Pueblos originarios no puede ser mayor al Total.","")) | CB22: =IF(AND(C22>0,AB22="")," * No olvide digitar la variable Migrantes. Digite Cero si no tiene.",IF(AB22>C22," * La variable Migrantes no puede ser mayor al Total.","")) | CC22: =IF(AND($C22>0,OR(AC22=""))," * No olvide digitar la variable "&$AC$9&""&". Digite Cero si no tiene.",IF(OR(AC22>$C22)," * La variable Discapacidad no puede ser mayor al Total.","")) | CD22: =IF(AND($C22>0,OR(AD22=""))," * No olvide digitar la variable "&$AD$9&""&". Digite Cero si no tiene.",IF(OR(AD22>$C22)," * La variable "&$AD$9&""&" no puede ser mayor al Total.","")) | CE22: =IF(AND($C22>0,OR(AE22="",AF22=""))," * No olvide digitar la variable "&$AE$9&""&". Digite Cero si no tiene.",IF(OR(AE22+AF22>$C22)," * La variable "&$AE$9&""&" no puede ser mayor al Total.","")) | CI22: =IF(AND($C22>0,AA22=""),1,IF(AA22>$C22,1,0)) -> 0 | CJ22: =IF(AND($C22>0,AB22=""),1,IF(AB22>$C22,1,0)) -> 0 | CK22: =IF(AND($C22>0,AC22=""),1,IF(AC22>$C22,1,0)) -> 0 | CL22: =IF(AND($C22>0,AD22=""),1,IF(AD22>$C22,1,0)) -> 0 | CM22: =IF(AND($C22>0,AE22="",AF22=""),1,IF(AE22+AF22>$C22,1,0)) -> 0
B23: Sin atención profesional | C23: =SUM(ENERO:DICIEMBRE!C23) -> 4 | D23: =SUM(ENERO:DICIEMBRE!D23) -> 0 | E23: =SUM(ENERO:DICIEMBRE!E23) -> 0 | F23: =SUM(ENERO:DICIEMBRE!F23) -> 1 | G23: =SUM(ENERO:DICIEMBRE!G23) -> 1 | H23: =SUM(ENERO:DICIEMBRE!H23) -> 0 | I23: =SUM(ENERO:DICIEMBRE!I23) -> 0 | J23: =SUM(ENERO:DICIEMBRE!J23) -> 0 | ... AF23: =SUM(ENERO:DICIEMBRE!AF23) -> 0 | AG23: =$CA23&CB23&CC23&CD23&CE23 | CA23: =IF(AND(C23>0,AA23="")," * No olvide digitar la variable Pueblos originarios. Digite Cero si no tiene.",IF(AA23>C23," * La variable Pueblos originarios no puede ser mayor al Total.","")) | CB23: =IF(AND(C23>0,AB23="")," * No olvide digitar la variable Migrantes. Digite Cero si no tiene.",IF(AB23>C23," * La variable Migrantes no puede ser mayor al Total.","")) | CC23: =IF(AND($C23>0,OR(AC23=""))," * No olvide digitar la variable "&$AC$9&""&". Digite Cero si no tiene.",IF(OR(AC23>$C23)," * La variable Discapacidad no puede ser mayor al Total.","")) | CD23: =IF(AND($C23>0,OR(AD23=""))," * No olvide digitar la variable "&$AD$9&""&". Digite Cero si no tiene.",IF(OR(AD23>$C23)," * La variable "&$AD$9&""&" no puede ser mayor al Total.","")) | CE23: =IF(AND($C23>0,OR(AE23="",AF23=""))," * No olvide digitar la variable "&$AE$9&""&". Digite Cero si no tiene.",IF(OR(AE23+AF23>$C23)," * La variable "&$AE$9&""&" no puede ser mayor al Total.","")) | CI23: =IF(AND($C23>0,AA23=""),1,IF(AA23>$C23,1,0)) -> 0 | CJ23: =IF(AND($C23>0,AB23=""),1,IF(AB23>$C23,1,0)) -> 0 | CK23: =IF(AND($C23>0,AC23=""),1,IF(AC23>$C23,1,0)) -> 0 | CL23: =IF(AND($C23>0,AD23=""),1,IF(AD23>$C23,1,0)) -> 0 | CM23: =IF(AND($C23>0,AE23="",AF23=""),1,IF(AE23+AF23>$C23,1,0)) -> 0
A24: SECCION A.1: PARTOS VAGINALES *
A25: CARACTERÍSTICAS DEL MODELO DE ATENCIÓN | C25: TOTAL | D25: <28 semanas | E25: 28 - 37 semanas | F25: 38 semanas y más
A26: Espontáneo | C26: =SUM(D26:F26) -> 202 | D26: =SUM(ENERO:DICIEMBRE!D26) -> 2 | E26: =SUM(ENERO:DICIEMBRE!E26) -> 46 | F26: =SUM(ENERO:DICIEMBRE!F26) -> 154
A27: Inducidos | B27: Mecánica | C27: =SUM(D27:F27) -> 12 | D27: =SUM(ENERO:DICIEMBRE!D27) -> 0 | E27: =SUM(ENERO:DICIEMBRE!E27) -> 1 | F27: =SUM(ENERO:DICIEMBRE!F27) -> 11
B28: Farmacológica | C28: =SUM(D28:F28) -> 140 | D28: =SUM(ENERO:DICIEMBRE!D28) -> 4 | E28: =SUM(ENERO:DICIEMBRE!E28) -> 32 | F28: =SUM(ENERO:DICIEMBRE!F28) -> 104
A29: Conducción oxitócica | C29: =SUM(D29:F29) -> 180 | D29: =SUM(ENERO:DICIEMBRE!D29) -> 0 | E29: =SUM(ENERO:DICIEMBRE!E29) -> 25 | F29: =SUM(ENERO:DICIEMBRE!F29) -> 155
A30: Libertad de movimiento | C30: =SUM(D30:F30) -> 534 | D30: =SUM(ENERO:DICIEMBRE!D30) -> 5 | E30: =SUM(ENERO:DICIEMBRE!E30) -> 107 | F30: =SUM(ENERO:DICIEMBRE!F30) -> 422
A31: Régimen hídrico amplio | C31: =SUM(D31:F31) -> 534 | D31: =SUM(ENERO:DICIEMBRE!D31) -> 5 | E31: =SUM(ENERO:DICIEMBRE!E31) -> 107 | F31: =SUM(ENERO:DICIEMBRE!F31) -> 422
A32: Manejo del dolor | B32: No farmacológico | C32: =SUM(D32:F32) -> 371 | D32: =SUM(ENERO:DICIEMBRE!D32) -> 2 | E32: =SUM(ENERO:DICIEMBRE!E32) -> 73 | F32: =SUM(ENERO:DICIEMBRE!F32) -> 296
B33: Farmacológico | C33: =SUM(D33:F33) -> 343 | D33: =SUM(ENERO:DICIEMBRE!D33) -> 3 | E33: =SUM(ENERO:DICIEMBRE!E33) -> 67 | F33: =SUM(ENERO:DICIEMBRE!F33) -> 273
A34: Posición al momento del expulsivo | B34: Litotomía | C34: =SUM(D34:F34) -> 454 | D34: =SUM(ENERO:DICIEMBRE!D34) -> 4 | E34: =SUM(ENERO:DICIEMBRE!E34) -> 94 | F34: =SUM(ENERO:DICIEMBRE!F34) -> 356
B35: Otras posiciones | C35: =SUM(D35:F35) -> 79 | D35: =SUM(ENERO:DICIEMBRE!D35) -> 0 | E35: =SUM(ENERO:DICIEMBRE!E35) -> 14 | F35: =SUM(ENERO:DICIEMBRE!F35) -> 65
A36: Episiotomía | C36: =SUM(D36:F36) -> 49 | D36: =SUM(ENERO:DICIEMBRE!D36) -> 0 | E36: =SUM(ENERO:DICIEMBRE!E36) -> 6 | F36: =SUM(ENERO:DICIEMBRE!F36) -> 43
A37: Acompañamiento | B37: Durante el trabajo de parto | C37: =SUM(D37:F37) -> 465 | D37: =SUM(ENERO:DICIEMBRE!D37) -> 5 | E37: =SUM(ENERO:DICIEMBRE!E37) -> 76 | F37: =SUM(ENERO:DICIEMBRE!F37) -> 384
B38: Sólo en el expulsivo | C38: =SUM(D38:F38) -> 41 | D38: =SUM(ENERO:DICIEMBRE!D38) -> 0 | E38: =SUM(ENERO:DICIEMBRE!E38) -> 10 | F38: =SUM(ENERO:DICIEMBRE!F38) -> 31
A39: (*) Partos de Término y Pre-Término
A40: SECCION A.2: CESÁREAS (RESPONSABILIDAD DEL MÉDICO JEFE DEL SERVICIO DE OBSTETRICIA)
A41: CLASIFICACIÓN SEGÚN MODELO DE ROBSON | C41: Programada | D41: Urgencia
...

Sheet ENERO
A1: SERVICIO DE SALUD
A2: =CONCATENATE("COMUNA: ",[2]NOMBRE!B2, " (",[2]NOMBRE!C2,[2]NOMBRE!D2,[2]NOMBRE!E2,[2]NOMBRE!F2,[2]NOMBRE!G2,")") -> COMUNA: LINARES (07401)
A3: =CONCATENATE("ESTABLECIMIENTO/ESTRATEGIA: ", [2]NOMBRE!B3, " (",[2]NOMBRE!C3,[2]NOMBRE!D3,[2]NOMBRE!E3,[2]NOMBRE!F3,[2]NOMBRE!G3,[2]NOMBRE!H3,")") -> ESTABLECIMIENTO/ESTRATEGIA: HOSPITAL PRESIDENTE CARLOS IBAÑEZ DEL CAMPO (116108)
A4: =CONCATENATE("MES: ",[2]NOMBRE!B6, " (",[2]NOMBRE!C6,[2]NOMBRE!D6,")") -> MES: ENERO (01)
A5: =CONCATENATE("AÑO: ",[2]NOMBRE!B7) -> AÑO: 2025
A6: REM-A24. ATENCIÓN OBSTÉTRICA Y DEL RECIÉN NACIDO
A8: SECCIÓN A: INFORMACIÓN GENERAL DE PARTOS
A9: CARACTERISTICAS DEL PARTO | C9: TOTAL | D9: PARTOS SEGÚN EDAD DE LA MADRE | H9: PARTOS PREMATUROS (CONSIDERAR SOBRE 22 SEMANAS) | L9: Uso de oxitocina profiláctica | M9: ANESTESIA Y/O ANALGESIA DEL PARTO (MEDIDAS FARMACOLÓGICAS Y NO FARMACOLÓGICAS) | S9: Ligadura tardía del cordón (> a 60 segundos) | T9: CONTACTO INMEDIATO PIEL A PIEL >30 MINUTOS | X9: Lactancia materna en los primeros 60 minutos de vida (RN con peso de 2.500 grs. o más) | Y9: Alojamiento conjunto en puerperio inmediato | Z9: Atención con pertinencia cultural | AA9: Pueblos Originarios | AB9: Migrantes | AC9: Discapacidad | AD9: Privada de Libertad | AE9: Identidad de Género
D10: < 15 años | E10: 15 - 19 años | F10: 20 - 34 años | G10: ≥35 años | H10: Partos prematuros menos de 24 semanas | I10: Partos prematuros de 24 a 28 semanas | J10: Partos prematuros de 29 a 32 semanas | K10: Partos prematuros de 33 a 36 semanas | M10: Anestesia Neuroaxial | N10: Óxido nitroso | O10: Analgesia endovenosa | P10: General | Q10: Local | R10: Medidas no farmacológicas | T10: Con la Madre | V10: Con el padre o acompañante significativo
T11: RN peso menor o igual a 2.499 grs. | U11: RN con peso de 2.500 grs. o más | V11: RN peso menor o igual a 2.499 grs. | W11: RN con peso de 2.500 grs. o más | AE11: Trans masculino | AF11: No binarie
A12: TOTAL PARTOS | C12: =SUM(C13:C16) -> 139 | D12: =SUM(D13:D16) -> 0 | E12: =SUM(E13:E16) -> 4 | F12: =SUM(F13:F16) -> 111 | G12: =SUM(G13:G16) -> 24 | H12: =SUM(H13:H16) -> 0 | I12: =SUM(I13:I16) -> 1 | J12: =SUM(J13:J16) -> 0 | ... AF12: =SUM(AF13:AF16) -> 0
A13: Vaginal | C13: 51 | D13: 0 | E13: 4 | F13: 41 | G13: 6 | I13: 1 | K13: 6 | L13: 51 | M13: 42 | N13: 0 | O13: 0 | P13: 0 | Q13: 25 | R13: 51 | S13: 0 | T13: 1 | U13: 48 | V13: 3 | W13: 6 | X13: 43 | Y13: 45 | Z13: 0 | AA13: 0 | AB13: 3 | AC13: 0 | AD13: 0 | AE13: 0 | AF13: 0 | AG13: =$CA13&CB13&CC13&CD13&CE13 | CA13: =IF(AND(C13>0,AA13="")," * No olvide digitar la variable Pueblos originarios. Digite Cero si no tiene.",IF(AA13>C13," * La variable Pueblos originarios no puede ser mayor al Total.","")) | CB13: =IF(AND(C13>0,AB13="")," * No olvide digitar la variable Migrantes. Digite Cero si no tiene.",IF(AB13>C13," * La variable Migrantes no puede ser mayor al Total.","")) | CC13: =IF(AND($C13>0,OR(AC13=""))," * No olvide digitar la variable "&$AC$9&""&". Digite Cero si no tiene.",IF(OR(AC13>$C13)," * La variable Discapacidad no puede ser mayor al Total.","")) | CD13: =IF(AND($C13>0,OR(AD13=""))," * No olvide digitar la variable "&$AD$9&""&". Digite Cero si no tiene.",IF(OR(AD13>$C13)," * La variable "&$AD$9&""&" no puede ser mayor al Total.","")) | CE13: =IF(AND($C13>0,OR(AE13="",AF13=""))," * No olvide digitar la variable "&$AE$9&""&". Digite Cero si no tiene.",IF(OR(AE13+AF13>$C13)," * La variable "&$AE$9&""&" no puede ser mayor al Total.","")) | CI13: =IF(AND($C13>0,AA13=""),1,IF(AA13>$C13,1,0)) -> 0 | CJ13: =IF(AND($C13>0,AB13=""),1,IF(AB13>$C13,1,0)) -> 0 | CK13: =IF(AND($C13>0,AC13=""),1,IF(AC13>$C13,1,0)) -> 0 | CL13: =IF(AND($C13>0,AD13=""),1,IF(AD13>$C13,1,0)) -> 0 | CM13: =IF(AND($C13>0,AE13="",AF13=""),1,IF(AE13+AF13>$C13,1,0)) -> 0
A14: Instrumental | C14: 1 | D14: 0 | E14: 0 | F14: 1 | G14: 0 | L14: 1 | M14: 1 | N14: 0 | O14: 0 | P14: 0 | Q14: 1 | R14: 1 | S14: 0 | T14: 0 | U14: 0 | V14: 0 | W14: 0 | X14: 0 | Y14: 1 | Z14: 0 | AA14: 0 | AB14: 0 | AC14: 0 | AD14: 0 | AE14: 0 | AF14: 0 | AG14: =$CA14&CB14&CC14&CD14&CE14 | CA14: =IF(AND(C14>0,AA14="")," * No olvide digitar la variable Pueblos originarios. Digite Cero si no tiene.",IF(AA14>C14," * La variable Pueblos originarios no puede ser mayor al Total.","")) | CB14: =IF(AND(C14>0,AB14="")," * No olvide digitar la variable Migrantes. Digite Cero si no tiene.",IF(AB14>C14," * La variable Migrantes no puede ser mayor al Total.","")) | CC14: =IF(AND($C14>0,OR(AC14=""))," * No olvide digitar la variable "&$AC$9&""&". Digite Cero si no tiene.",IF(OR(AC14>$C14)," * La variable Discapacidad no puede ser mayor al Total.","")) | CD14: =IF(AND($C14>0,OR(AD14=""))," * No olvide digitar la variable "&$AD$9&""&". Digite Cero si no tiene.",IF(OR(AD14>$C14)," * La variable "&$AD$9&""&" no puede ser mayor al Total.","")) | CE14: =IF(AND($C14>0,OR(AE14="",AF14=""))," * No olvide digitar la variable "&$AE$9&""&". Digite Cero si no tiene.",IF(OR(AE14+AF14>$C14)," * La variable "&$AE$9&""&" no puede ser mayor al Total.","")) | CI14: =IF(AND($C14>0,AA14=""),1,IF(AA14>$C14,1,0)) -> 0 | CJ14: =IF(AND($C14>0,AB14=""),1,IF(AB14>$C14,1,0)) -> 0 | CK14: =IF(AND($C14>0,AC14=""),1,IF(AC14>$C14,1,0)) -> 0 | CL14: =IF(AND($C14>0,AD14=""),1,IF(AD14>$C14,1,0)) -> 0 | CM14: =IF(AND($C14>0,AE14="",AF14=""),1,IF(AE14+AF14>$C14,1,0)) -> 0
A15: Cesárea Electiva | C15: 57 | D15: 0 | E15: 0 | F15: 43 | G15: 14 | L15: 57 | M15: 58 | N15: 0 | O15: 0 | P15: 0 | Q15: 0 | R15: 0 | S15: 0 | T15: 0 | U15: 55 | V15: 0 | W15: 56 | X15: 0 | Y15: 57 | Z15: 0 | AA15: 0 | AB15: 2 | AC15: 0 | AD15: 0 | AE15: 0 | AF15: 0 | AG15: =$CA15&CB15&CC15&CD15&CE15 | CA15: =IF(AND(C15>0,AA15="")," * No olvide digitar la variable Pueblos originarios. Digite Cero si no tiene.",IF(AA15>C15," * La variable Pueblos originarios no puede ser mayor al Total.","")) | CB15: =IF(AND(C15>0,AB15="")," * No olvide digitar la variable Migrantes. Digite Cero si no tiene.",IF(AB15>C15," * La variable Migrantes no puede ser mayor al Total.","")) | CC15: =IF(AND($C15>0,OR(AC15=""))," * No olvide digitar la variable "&$AC$9&""&". Digite Cero si no tiene.",IF(OR(AC15>$C15)," * La variable Discapacidad no puede ser mayor al Total.","")) | CD15: =IF(AND($C15>0,OR(AD15=""))," * No olvide digitar la variable "&$AD$9&""&". Digite Cero si no tiene.",IF(OR(AD15>$C15)," * La variable "&$AD$9&""&" no puede ser mayor al Total.","")) | CE15: =IF(AND($C15>0,OR(AE15="",AF15=""))," * No olvide digitar la variable "&$AE$9&""&". Digite Cero si no tiene.",IF(OR(AE15+AF15>$C15)," * La variable "&$AE$9&""&" no puede ser mayor al Total.","")) | CI15: =IF(AND($C15>0,AA15=""),1,IF(AA15>$C15,1,0)) -> 0 | CJ15: =IF(AND($C15>0,AB15=""),1,IF(AB15>$C15,1,0)) -> 0 | CK15: =IF(AND($C15>0,AC15=""),1,IF(AC15>$C15,1,0)) -> 0 | CL15: =IF(AND($C15>0,AD15=""),1,IF(AD15>$C15,1,0)) -> 0 | CM15: =IF(AND($C15>0,AE15="",AF15=""),1,IF(AE15+AF15>$C15,1,0)) -> 0
A16: Cesárea Urgencia | C16: 30 | D16: 0 | E16: 0 | F16: 26 | G16: 4 | K16: 5 | L16: 30 | M16: 29 | N16: 0 | O16: 0 | P16: 2 | Q16: 0 | R16: 0 | S16: 0 | T16: 1 | U16: 24 | V16: 3 | W16: 25 | X16: 0 | Y16: 26 | Z16: 0 | AA16: 0 | AB16: 2 | AC16: 0 | AD16: 0 | AE16: 0 | AF16: 0 | AG16: =$CA16&CB16&CC16&CD16&CE16 | CA16: =IF(AND(C16>0,AA16="")," * No olvide digitar la variable Pueblos originarios. Digite Cero si no tiene.",IF(AA16>C16," * La variable Pueblos originarios no puede ser mayor al Total.","")) | CB16: =IF(AND(C16>0,AB16="")," * No olvide digitar la variable Migrantes. Digite Cero si no tiene.",IF(AB16>C16," * La variable Migrantes no puede ser mayor al Total.","")) | CC16: =IF(AND($C16>0,OR(AC16=""))," * No olvide digitar la variable "&$AC$9&""&". Digite Cero si no tiene.",IF(OR(AC16>$C16)," * La variable Discapacidad no puede ser mayor al Total.","")) | CD16: =IF(AND($C16>0,OR(AD16=""))," * No olvide digitar la variable "&$AD$9&""&". Digite Cero si no tiene.",IF(OR(AD16>$C16)," * La variable "&$AD$9&""&" no puede ser mayor al Total.","")) | CE16: =IF(AND($C16>0,OR(AE16="",AF16=""))," * No olvide digitar la variable "&$AE$9&""&". Digite Cero si no tiene.",IF(OR(AE16+AF16>$C16)," * La variable "&$AE$9&""&" no puede ser mayor al Total.","")) | CI16: =IF(AND($C16>0,AA16=""),1,IF(AA16>$C16,1,0)) -> 0 | CJ16: =IF(AND($C16>0,AB16=""),1,IF(AB16>$C16,1,0)) -> 0 | CK16: =IF(AND($C16>0,AC16=""),1,IF(AC16>$C16,1,0)) -> 0 | CL16: =IF(AND($C16>0,AD16=""),1,IF(AD16>$C16,1,0)) -> 0 | CM16: =IF(AND($C16>0,AE16="",AF16=""),1,IF(AE16+AF16>$C16,1,0)) -> 0
A17: Parto prehospitalario (en establecimientos salud o ambulancias) | C17: 0 | D17: 0 | E17: 0 | F17: 0 | G17: 0 | L17: 0 | M17: 0 | N17: 0 | O17: 0 | P17: 0 | Q17: 0 | R17: 0 | S17: 0 | AG17: =$CA17&CB17&CC17&CD17&CE17 | CA17: =IF(AND(C17>0,AA17="")," * No olvide digitar la variable Pueblos originarios. Digite Cero si no tiene.",IF(AA17>C17," * La variable Pueblos originarios no puede ser mayor al Total.","")) | CB17: =IF(AND(C17>0,AB17="")," * No olvide digitar la variable Migrantes. Digite Cero si no tiene.",IF(AB17>C17," * La variable Migrantes no puede ser mayor al Total.","")) | CC17: =IF(AND($C17>0,OR(AC17=""))," * No olvide digitar la variable "&$AC$9&""&". Digite Cero si no tiene.",IF(OR(AC17>$C17)," * La variable Discapacidad no puede ser mayor al Total.","")) | CD17: =IF(AND($C17>0,OR(AD17=""))," * No olvide digitar la variable "&$AD$9&""&". Digite Cero si no tiene.",IF(OR(AD17>$C17)," * La variable "&$AD$9&""&" no puede ser mayor al Total.","")) | CE17: =IF(AND($C17>0,OR(AE17="",AF17=""))," * No olvide digitar la variable "&$AE$9&""&". Digite Cero si no tiene.",IF(OR(AE17+AF17>$C17)," * La variable "&$AE$9&""&" no puede ser mayor al Total.","")) | CI17: =IF(AND($C17>0,AA17=""),1,IF(AA17>$C17,1,0)) -> 0 | CJ17: =IF(AND($C17>0,AB17=""),1,IF(AB17>$C17,1,0)) -> 0 | CK17: =IF(AND($C17>0,AC17=""),1,IF(AC17>$C17,1,0)) -> 0 | CL17: =IF(AND($C17>0,AD17=""),1,IF(AD17>$C17,1,0)) -> 0 | CM17: =IF(AND($C17>0,AE17="",AF17=""),1,IF(AE17+AF17>$C17,1,0)) -> 0
A18: Partos fuera de la red de salud | C18: 0 | D18: 0 | E18: 0 | F18: 0 | G18: 0 | L18: 0 | M18: 0 | N18: 0 | O18: 0 | P18: 0 | Q18: 0 | R18: 0 | S18: 0 | AG18: =$CA18&CB18&CC18&CD18&CE18 | CA18: =IF(AND(C18>0,AA18="")," * No olvide digitar la variable Pueblos originarios. Digite Cero si no tiene.",IF(AA18>C18," * La variable Pueblos originarios no puede ser mayor al Total.","")) | CB18: =IF(AND(C18>0,AB18="")," * No olvide digitar la variable Migrantes. Digite Cero si no tiene.",IF(AB18>C18," * La variable Migrantes no puede ser mayor al Total.","")) | CC18: =IF(AND($C18>0,OR(AC18=""))," * No olvide digitar la variable "&$AC$9&""&". Digite Cero si no tiene.",IF(OR(AC18>$C18)," * La variable Discapacidad no puede ser mayor al Total.","")) | CD18: =IF(AND($C18>0,OR(AD18=""))," * No olvide digitar la variable "&$AD$9&""&". Digite Cero si no tiene.",IF(OR(AD18>$C18)," * La variable "&$AD$9&""&" no puede ser mayor al Total.","")) | CE18: =IF(AND($C18>0,OR(AE18="",AF18=""))," * No olvide digitar la variable "&$AE$9&""&". Digite Cero si no tiene.",IF(OR(AE18+AF18>$C18)," * La variable "&$AE$9&""&" no puede ser mayor al Total.","")) | CI18: =IF(AND($C18>0,AA18=""),1,IF(AA18>$C18,1,0)) -> 0 | CJ18: =IF(AND($C18>0,AB18=""),1,IF(AB18>$C18,1,0)) -> 0 | CK18: =IF(AND($C18>0,AC18=""),1,IF(AC18>$C18,1,0)) -> 0 | CL18: =IF(AND($C18>0,AD18=""),1,IF(AD18>$C18,1,0)) -> 0 | CM18: =IF(AND($C18>0,AE18="",AF18=""),1,IF(AE18+AF18>$C18,1,0)) -> 0
A19: Plan de parto | C19: 29 | D19: 0 | E19: 0 | F19: 25 | G19: 4 | L19: 0 | M19: 0 | N19: 0 | O19: 0 | P19: 0 | Q19: 0 | R19: 0 | S19: 0 | AA19: 0 | AB19: 0 | AC19: 0 | AD19: 0 | AE19: 0 | AF19: 0 | AG19: =$CA19&CB19&CC19&CD19&CE19 | CA19: =IF(AND(C19>0,AA19="")," * No olvide digitar la variable Pueblos originarios. Digite Cero si no tiene.",IF(AA19>C19," * La variable Pueblos originarios no puede ser mayor al Total.","")) | CB19: =IF(AND(C19>0,AB19="")," * No olvide digitar la variable Migrantes. Digite Cero si no tiene.",IF(AB19>C19," * La variable Migrantes no puede ser mayor al Total.","")) | CC19: =IF(AND($C19>0,OR(AC19=""))," * No olvide digitar la variable "&$AC$9&""&". Digite Cero si no tiene.",IF(OR(AC19>$C19)," * La variable Discapacidad no puede ser mayor al Total.","")) | CD19: =IF(AND($C19>0,OR(AD19=""))," * No olvide digitar la variable "&$AD$9&""&". Digite Cero si no tiene.",IF(OR(AD19>$C19)," * La variable "&$AD$9&""&" no puede ser mayor al Total.","")) | CE19: =IF(AND($C19>0,OR(AE19="",AF19=""))," * No olvide digitar la variable "&$AE$9&""&". Digite Cero si no tiene.",IF(OR(AE19+AF19>$C19)," * La variable "&$AE$9&""&" no puede ser mayor al Total.","")) | CI19: =IF(AND($C19>0,AA19=""),1,IF(AA19>$C19,1,0)) -> 0 | CJ19: =IF(AND($C19>0,AB19=""),1,IF(AB19>$C19,1,0)) -> 0 | CK19: =IF(AND($C19>0,AC19=""),1,IF(AC19>$C19,1,0)) -> 0 | CL19: =IF(AND($C19>0,AD19=""),1,IF(AD19>$C19,1,0)) -> 0 | CM19: =IF(AND($C19>0,AE19="",AF19=""),1,IF(AE19+AF19>$C19,1,0)) -> 0
A20: Entrega de placenta a solicitud | C20: 0 | D20: 0 | E20: 0 | F20: 0 | G20: 0 | L20: 0 | M20: 0 | N20: 0 | O20: 0 | P20: 0 | Q20: 0 | R20: 0 | S20: 0 | AG20: =$CA20&CB20&CC20&CD20&CE20 | CA20: =IF(AND(C20>0,AA20="")," * No olvide digitar la variable Pueblos originarios. Digite Cero si no tiene.",IF(AA20>C20," * La variable Pueblos originarios no puede ser mayor al Total.","")) | CB20: =IF(AND(C20>0,AB20="")," * No olvide digitar la variable Migrantes. Digite Cero si no tiene.",IF(AB20>C20," * La variable Migrantes no puede ser mayor al Total.","")) | CC20: =IF(AND($C20>0,OR(AC20=""))," * No olvide digitar la variable "&$AC$9&""&". Digite Cero si no tiene.",IF(OR(AC20>$C20)," * La variable Discapacidad no puede ser mayor al Total.","")) | CD20: =IF(AND($C20>0,OR(AD20=""))," * No olvide digitar la variable "&$AD$9&""&". Digite Cero si no tiene.",IF(OR(AD20>$C20)," * La variable "&$AD$9&""&" no puede ser mayor al Total.","")) | CE20: =IF(AND($C20>0,OR(AE20="",AF20=""))," * No olvide digitar la variable "&$AE$9&""&". Digite Cero si no tiene.",IF(OR(AE20+AF20>$C20)," * La variable "&$AE$9&""&" no puede ser mayor al Total.","")) | CI20: =IF(AND($C20>0,AA20=""),1,IF(AA20>$C20,1,0)) -> 0 | CJ20: =IF(AND($C20>0,AB20=""),1,IF(AB20>$C20,1,0)) -> 0 | CK20: =IF(AND($C20>0,AC20=""),1,IF(AC20>$C20,1,0)) -> 0 | CL20: =IF(AND($C20>0,AD20=""),1,IF(AD20>$C20,1,0)) -> 0 | CM20: =IF(AND($C20>0,AE20="",AF20=""),1,IF(AE20+AF20>$C20,1,0)) -> 0
A21: Embarazo no controlado | C21: 1 | D21: 0 | E21: 0 | F21: 1 | G21: 0 | L21: 0 | M21: 0 | N21: 0 | O21: 0 | P21: 0 | Q21: 0 | R21: 0 | S21: 0 | AA21: 0 | AB21: 0 | AC21: 0 | AD21: 0 | AE21: 0 | AF21: 0 | AG21: =$CA21&CB21&CC21&CD21&CE21 | CA21: =IF(AND(C21>0,AA21="")," * No olvide digitar la variable Pueblos originarios. Digite Cero si no tiene.",IF(AA21>C21," * La variable Pueblos originarios no puede ser mayor al Total.","")) | CB21: =IF(AND(C21>0,AB21="")," * No olvide digitar la variable Migrantes. Digite Cero si no tiene.",IF(AB21>C21," * La variable Migrantes no puede ser mayor al Total.","")) | CC21: =IF(AND($C21>0,OR(AC21=""))," * No olvide digitar la variable "&$AC$9&""&". Digite Cero si no tiene.",IF(OR(AC21>$C21)," * La variable Discapacidad no puede ser mayor al Total.","")) | CD21: =IF(AND($C21>0,OR(AD21=""))," * No olvide digitar la variable "&$AD$9&""&". Digite Cero si no tiene.",IF(OR(AD21>$C21)," * La variable "&$AD$9&""&" no puede ser mayor al Total.","")) | CE21: =IF(AND($C21>0,OR(AE21="",AF21=""))," * No olvide digitar la variable "&$AE$9&""&". Digite Cero si no tiene.",IF(OR(AE21+AF21>$C21)," * La variable "&$AE$9&""&" no puede ser mayor al Total.","")) | CI21: =IF(AND($C21>0,AA21=""),1,IF(AA21>$C21,1,0)) -> 0 | CJ21: =IF(AND($C21>0,AB21=""),1,IF(AB21>$C21,1,0)) -> 0 | CK21: =IF(AND($C21>0,AC21=""),1,IF(AC21>$C21,1,0)) -> 0 | CL21: =IF(AND($C21>0,AD21=""),1,IF(AD21>$C21,1,0)) -> 0 | CM21: =IF(AND($C21>0,AE21="",AF21=""),1,IF(AE21+AF21>$C21,1,0)) -> 0
A22: Parto en domicilio | B22: Con atención profesional | C22: 0 | D22: 0 | E22: 0 | F22: 0 | G22: 0 | L22: 0 | M22: 0 | N22: 0 | O22: 0 | P22: 0 | Q22: 0 | R22: 0 | S22: 0 | AG22: =$CA22&CB22&CC22&CD22&CE22 | CA22: =IF(AND(C22>0,AA22="")," * No olvide digitar la variable Pueblos originarios. Digite Cero si no tiene.",IF(AA22>C22," * La variable Pueblos originarios no puede ser mayor al Total.","")) | CB22: =IF(AND(C22>0,AB22="")," * No olvide digitar la variable Migrantes. Digite Cero si no tiene.",IF(AB22>C22," * La variable Migrantes no puede ser mayor al Total.","")) | CC22: =IF(AND($C22>0,OR(AC22=""))," * No olvide digitar la variable "&$AC$9&""&". Digite Cero si no tiene.",IF(OR(AC22>$C22)," * La variable Discapacidad no puede ser mayor al Total.","")) | CD22: =IF(AND($C22>0,OR(AD22=""))," * No olvide digitar la variable "&$AD$9&""&". Digite Cero si no tiene.",IF(OR(AD22>$C22)," * La variable "&$AD$9&""&" no puede ser mayor al Total.","")) | CE22: =IF(AND($C22>0,OR(AE22="",AF22=""))," * No olvide digitar la variable "&$AE$9&""&". Digite Cero si no tiene.",IF(OR(AE22+AF22>$C22)," * La variable "&$AE$9&""&" no puede ser mayor al Total.","")) | CI22: =IF(AND($C22>0,AA22=""),1,IF(AA22>$C22,1,0)) -> 0 | CJ22: =IF(AND($C22>0,AB22=""),1,IF(AB22>$C22,1,0)) -> 0 | CK22: =IF(AND($C22>0,AC22=""),1,IF(AC22>$C22,1,0)) -> 0 | CL22: =IF(AND($C22>0,AD22=""),1,IF(AD22>$C22,1,0)) -> 0 | CM22: =IF(AND($C22>0,AE22="",AF22=""),1,IF(AE22+AF22>$C22,1,0)) -> 0
B23: Sin atención profesional | C23: 0 | D23: 0 | E23: 0 | F23: 0 | G23: 0 | M23: 0 | N23: 0 | O23: 0 | P23: 0 | Q23: 0 | R23: 0 | S23: 0 | AG23: =$CA23&CB23&CC23&CD23&CE23 | CA23: =IF(AND(C23>0,AA23="")," * No olvide digitar la variable Pueblos originarios. Digite Cero si no tiene.",IF(AA23>C23," * La variable Pueblos originarios no puede ser mayor al Total.","")) | CB23: =IF(AND(C23>0,AB23="")," * No olvide digitar la variable Migrantes. Digite Cero si no tiene.",IF(AB23>C23," * La variable Migrantes no puede ser mayor al Total.","")) | CC23: =IF(AND($C23>0,OR(AC23=""))," * No olvide digitar la variable "&$AC$9&""&". Digite Cero si no tiene.",IF(OR(AC23>$C23)," * La variable Discapacidad no puede ser mayor al Total.","")) | CD23: =IF(AND($C23>0,OR(AD23=""))," * No olvide digitar la variable "&$AD$9&""&". Digite Cero si no tiene.",IF(OR(AD23>$C23)," * La variable "&$AD$9&""&" no puede ser mayor al Total.","")) | CE23: =IF(AND($C23>0,OR(AE23="",AF23=""))," * No olvide digitar la variable "&$AE$9&""&". Digite Cero si no tiene.",IF(OR(AE23+AF23>$C23)," * La variable "&$AE$9&""&" no puede ser mayor al Total.","")) | CI23: =IF(AND($C23>0,AA23=""),1,IF(AA23>$C23,1,0)) -> 0 | CJ23: =IF(AND($C23>0,AB23=""),1,IF(AB23>$C23,1,0)) -> 0 | CK23: =IF(AND($C23>0,AC23=""),1,IF(AC23>$C23,1,0)) -> 0 | CL23: =IF(AND($C23>0,AD23=""),1,IF(AD23>$C23,1,0)) -> 0 | CM23: =IF(AND($C23>0,AE23="",AF23=""),1,IF(AE23+AF23>$C23,1,0)) -> 0
A24: SECCION A.1: PARTOS VAGINALES *
A25: CARACTERÍSTICAS DEL MODELO DE ATENCIÓN | C25: TOTAL | D25: <28 semanas | E25: 28 - 37 semanas | F25: 38 semanas y más
A26: Espontáneo | C26: =SUM(D26:F26) -> 20 | D26: 0 | E26: 6 | F26: 14
A27: Inducidos | B27: Mecánica | C27: =SUM(D27:F27) -> 2 | D27: 0 | E27: 0 | F27: 2
B28: Farmacológica | C28: =SUM(D28:F28) -> 15 | D28: 1 | E28: 4 | F28: 10
A29: Conducción oxitócica | C29: =SUM(D29:F29) -> 15 | D29: 0 | E29: 3 | F29: 12
A30: Libertad de movimiento | C30: =SUM(D30:F30) -> 52 | D30: 1 | E30: 13 | F30: 38
A31: Régimen hídrico amplio | C31: =SUM(D31:F31) -> 52 | D31: 1 | E31: 13 | F31: 38
A32: Manejo del dolor | B32: No farmacológico | C32: =SUM(D32:F32) -> 7 | D32: 0 | E32: 2 | F32: 5
B33: Farmacológico | C33: =SUM(D33:F33) -> 44 | D33: 0 | E33: 15 | F33: 29
A34: Posición al momento del expulsivo | B34: Litotomía | C34: =SUM(D34:F34) -> 52 | D34: 1 | E34: 13 | F34: 38
B35: Otras posiciones | C35: =SUM(D35:F35) -> 0 | D35: 0 | E35: 0 | F35: 0
A36: Episiotomía | C36: =SUM(D36:F36) -> 6 | D36: 0 | E36: 2 | F36: 4
A37: Acompañamiento | B37: Durante el trabajo de parto | C37: =SUM(D37:F37) -> 47 | D37: 0 | E37: 12 | F37: 35
B38: Sólo en el expulsivo | C38: =SUM(D38:F38) -> 3 | D38: 0 | E38: 0 | F38: 3
A39: (*) Partos de Término y Pre-Término
A40: SECCION A.2: CESÁREAS (RESPONSABILIDAD DEL MÉDICO JEFE DEL SERVICIO DE OBSTETRICIA)
A41: CLASIFICACIÓN SEGÚN MODELO DE ROBSON | C41: Programada | D41: Urgencia
...

Sheet FEBRERO
A1: SERVICIO DE SALUD
A2: =CONCATENATE("COMUNA: ",[3]NOMBRE!B2, " (",[3]NOMBRE!C2,[3]NOMBRE!D2,[3]NOMBRE!E2,[3]NOMBRE!F2,[3]NOMBRE!G2,")") -> COMUNA: LINARES (07401)
A3: =CONCATENATE("ESTABLECIMIENTO/ESTRATEGIA: ", [3]NOMBRE!B3, " (",[3]NOMBRE!C3,[3]NOMBRE!D3,[3]NOMBRE!E3,[3]NOMBRE!F3,[3]NOMBRE!G3,[3]NOMBRE!H3,")") -> ESTABLECIMIENTO/ESTRATEGIA: HOSPITAL PRESIDENTE CARLOS IBAÑEZ DEL CAMPO (116108)
A4: =CONCATENATE("MES: ",[3]NOMBRE!B6, " (",[3]NOMBRE!C6,[3]NOMBRE!D6,")") -> MES: FEBRERO (02)
A5: =CONCATENATE("AÑO: ",[3]NOMBRE!B7) -> AÑO: 2025
A6: REM-A24. ATENCIÓN OBSTÉTRICA Y DEL RECIÉN NACIDO
A8: SECCIÓN A: INFORMACIÓN GENERAL DE PARTOS
A9: CARACTERISTICAS DEL PARTO | C9: TOTAL | D9: PARTOS SEGÚN EDAD DE LA MADRE | H9: PARTOS PREMATUROS (CONSIDERAR SOBRE 22 SEMANAS) | L9: Uso de oxitocina profiláctica | M9: ANESTESIA Y/O ANALGESIA DEL PARTO (MEDIDAS FARMACOLÓGICAS Y NO FARMACOLÓGICAS) | S9: Ligadura tardía del cordón (> a 60 segundos) | T9: CONTACTO INMEDIATO PIEL A PIEL >30 MINUTOS | X9: Lactancia materna en los primeros 60 minutos de vida (RN con peso de 2.500 grs. o más) | Y9: Alojamiento conjunto en puerperio inmediato | Z9: Atención con pertinencia cultural | AA9: Pueblos Originarios | AB9: Migrantes | AC9: Discapacidad | AD9: Privada de Libertad | AE9: Identidad de Género
D10: < 15 años | E10: 15 - 19 años | F10: 20 - 34 años | G10: ≥35 años | H10: Partos prematuros menos de 24 semanas | I10: Partos prematuros de 24 a 28 semanas | J10: Partos prematuros de 29 a 32 semanas | K10: Partos prematuros de 33 a 36 semanas | M10: Anestesia Neuroaxial | N10: Óxido nitroso | O10: Analgesia endovenosa | P10: General | Q10: Local | R10: Medidas no farmacológicas | T10: Con la Madre | V10: Con el padre o acompañante significativo
T11: RN peso menor o igual a 2.499 grs. | U11: RN con peso de 2.500 grs. o más | V11: RN peso menor o igual a 2.499 grs. | W11: RN con peso de 2.500 grs. o más | AE11: Trans masculino | AF11: No binarie
A12: TOTAL PARTOS | C12: =SUM(C13:C16) -> 113 | D12: =SUM(D13:D16) -> 0 | E12: =SUM(E13:E16) -> 4 | F12: =SUM(F13:F16) -> 85 | G12: =SUM(G13:G16) -> 24 | H12: =SUM(H13:H16) -> 0 | I12: =SUM(I13:I16) -> 0 | J12: =SUM(J13:J16) -> 0 | ... AF12: =SUM(AF13:AF16) -> 0
A13: Vaginal | C13: 38 | D13: 0 | E13: 2 | F13: 31 | G13: 5 | H13: 0 | I13: 0 | J13: 0 | K13: 2 | L13: 38 | M13: 24 | N13: 0 | O13: 0 | P13: 0 | Q13: 9 | R13: 38 | S13: 36 | T13: 2 | U13: 34 | V13: 2 | W13: 33 | X13: 32 | Y13: 35 | AA13: 0 | AB13: 5 | AC13: 0 | AD13: 0 | AE13: 0 | AF13: 0 | AG13: =$CA13&CB13&CC13&CD13&CE13 | CA13: =IF(AND(C13>0,AA13="")," * No olvide digitar la variable Pueblos originarios. Digite Cero si no tiene.",IF(AA13>C13," * La variable Pueblos originarios no puede ser mayor al Total.","")) | CB13: =IF(AND(C13>0,AB13="")," * No olvide digitar la variable Migrantes. Digite Cero si no tiene.",IF(AB13>C13," * La variable Migrantes no puede ser mayor al Total.","")) | CC13: =IF(AND($C13>0,OR(AC13=""))," * No olvide digitar la variable "&$AC$9&""&". Digite Cero si no tiene.",IF(OR(AC13>$C13)," * La variable Discapacidad no puede ser mayor al Total.","")) | CD13: =IF(AND($C13>0,OR(AD13=""))," * No olvide digitar la variable "&$AD$9&""&". Digite Cero si no tiene.",IF(OR(AD13>$C13)," * La variable "&$AD$9&""&" no puede ser mayor al Total.","")) | CE13: =IF(AND($C13>0,OR(AE13="",AF13=""))," * No olvide digitar la variable "&$AE$9&""&". Digite Cero si no tiene.",IF(OR(AE13+AF13>$C13)," * La variable "&$AE$9&""&" no puede ser mayor al Total.","")) | CI13: =IF(AND($C13>0,AA13=""),1,IF(AA13>$C13,1,0)) -> 0 | CJ13: =IF(AND($C13>0,AB13=""),1,IF(AB13>$C13,1,0)) -> 0 | CK13: =IF(AND($C13>0,AC13=""),1,IF(AC13>$C13,1,0)) -> 0 | CL13: =IF(AND($C13>0,AD13=""),1,IF(AD13>$C13,1,0)) -> 0 | CM13: =IF(AND($C13>0,AE13="",AF13=""),1,IF(AE13+AF13>$C13,1,0)) -> 0
A14: Instrumental | C14: 0 | D14: 0 | E14: 0 | F14: 0 | G14: 0 | H14: 0 | I14: 0 | J14: 0 | K14: 0 | L14: 0 | M14: 0 | N14: 0 | O14: 0 | P14: 0 | Q14: 0 | R14: 0 | S14: 0 | Y14: 0 | AA14: 0 | AB14: 0 | AC14: 0 | AD14: 0 | AE14: 0 | AF14: 0 | AG14: =$CA14&CB14&CC14&CD14&CE14 | CA14: =IF(AND(C14>0,AA14="")," * No olvide digitar la variable Pueblos originarios. Digite Cero si no tiene.",IF(AA14>C14," * La variable Pueblos originarios no puede ser mayor al Total.","")) | CB14: =IF(AND(C14>0,AB14="")," * No olvide digitar la variable Migrantes. Digite Cero si no tiene.",IF(AB14>C14," * La variable Migrantes no puede ser mayor al Total.","")) | CC14: =IF(AND($C14>0,OR(AC14=""))," * No olvide digitar la variable "&$AC$9&""&". Digite Cero si no tiene.",IF(OR(AC14>$C14)," * La variable Discapacidad no puede ser mayor al Total.","")) | CD14: =IF(AND($C14>0,OR(AD14=""))," * No olvide digitar la variable "&$AD$9&""&". Digite Cero si no tiene.",IF(OR(AD14>$C14)," * La variable "&$AD$9&""&" no puede ser mayor al Total.","")) | CE14: =IF(AND($C14>0,OR(AE14="",AF14=""))," * No olvide digitar la variable "&$AE$9&""&". Digite Cero si no tiene.",IF(OR(AE14+AF14>$C14)," * La variable "&$AE$9&""&" no puede ser mayor al Total.","")) | CI14: =IF(AND($C14>0,AA14=""),1,IF(AA14>$C14,1,0)) -> 0 | CJ14: =IF(AND($C14>0,AB14=""),1,IF(AB14>$C14,1,0)) -> 0 | CK14: =IF(AND($C14>0,AC14=""),1,IF(AC14>$C14,1,0)) -> 0 | CL14: =IF(AND($C14>0,AD14=""),1,IF(AD14>$C14,1,0)) -> 0 | CM14: =IF(AND($C14>0,AE14="",AF14=""),1,IF(AE14+AF14>$C14,1,0)) -> 0
A15: Cesárea Electiva | C15: 50 | D15: 0 | E15: 0 | F15: 35 | G15: 15 | H15: 0 | I15: 0 | J15: 0 | K15: 1 | L15: 50 | M15: 0 | N15: 0 | O15: 0 | P15: 0 | Q15: 0 | R15: 0 | S15: 48 | T15: 0 | U15: 49 | V15: 0 | W15: 48 | X15: 0 | Y15: 48 | AA15: 0 | AB15: 1 | AC15: 0 | AD15: 0 | AE15: 0 | AF15: 0 | AG15: =$CA15&CB15&CC15&CD15&CE15 | CA15: =IF(AND(C15>0,AA15="")," * No olvide digitar la variable Pueblos originarios. Digite Cero si no tiene.",IF(AA15>C15," * La variable Pueblos originarios no puede ser mayor al Total.","")) | CB15: =IF(AND(C15>0,AB15="")," * No olvide digitar la variable Migrantes. Digite Cero si no tiene.",IF(AB15>C15," * La variable Migrantes no puede ser mayor al Total.","")) | CC15: =IF(AND($C15>0,OR(AC15=""))," * No olvide digitar la variable "&$AC$9&""&". Digite Cero si no tiene.",IF(OR(AC15>$C15)," * La variable Discapacidad no puede ser mayor al Total.","")) | CD15: =IF(AND($C15>0,OR(AD15=""))," * No olvide digitar la variable "&$AD$9&""&". Digite Cero si no tiene.",IF(OR(AD15>$C15)," * La variable "&$AD$9&""&" no puede ser mayor al Total.","")) | CE15: =IF(AND($C15>0,OR(AE15="",AF15=""))," * No olvide digitar la variable "&$AE$9&""&". Digite Cero si no tiene.",IF(OR(AE15+AF15>$C15)," * La variable "&$AE$9&""&" no puede ser mayor al Total.","")) | CI15: =IF(AND($C15>0,AA15=""),1,IF(AA15>$C15,1,0)) -> 0 | CJ15: =IF(AND($C15>0,AB15=""),1,IF(AB15>$C15,1,0)) -> 0 | CK15: =IF(AND($C15>0,AC15=""),1,IF(AC15>$C15,1,0)) -> 0 | CL15: =IF(AND($C15>0,AD15=""),1,IF(AD15>$C15,1,0)) -> 0 | CM15: =IF(AND($C15>0,AE15="",AF15=""),1,IF(AE15+AF15>$C15,1,0)) -> 0
A16: Cesárea Urgencia | C16: 25 | D16: 0 | E16: 2 | F16: 19 | G16: 4 | H16: 0 | I16: 0 | J16: 0 | K16: 2 | L16: 25 | M16: 0 | N16: 0 | O16: 0 | P16: 1 | Q16: 0 | R16: 0 | S16: 24 | T16: 1 | U16: 22 | V16: 1 | W16: 20 | X16: 0 | Y16: 21 | AA16: 0 | AB16: 2 | AC16: 0 | AD16: 0 | AE16: 0 | AF16: 0 | AG16: =$CA16&CB16&CC16&CD16&CE16 | CA16: =IF(AND(C16>0,AA16="")," * No olvide digitar la variable Pueblos originarios. Digite Cero si no tiene.",IF(AA16>C16," * La variable Pueblos originarios no puede ser mayor al Total.","")) | CB16: =IF(AND(C16>0,AB16="")," * No olvide digitar la variable Migrantes. Digite Cero si no tiene.",IF(AB16>C16," * La variable Migrantes no puede ser mayor al Total.","")) | CC16: =IF(AND($C16>0,OR(AC16=""))," * No olvide digitar la variable "&$AC$9&""&". Digite Cero si no tiene.",IF(OR(AC16>$C16)," * La variable Discapacidad no puede ser mayor al Total.","")) | CD16: =IF(AND($C16>0,OR(AD16=""))," * No olvide digitar la variable "&$AD$9&""&". Digite Cero si no tiene.",IF(OR(AD16>$C16)," * La variable "&$AD$9&""&" no puede ser mayor al Total.","")) | CE16: =IF(AND($C16>0,OR(AE16="",AF16=""))," * No olvide digitar la variable "&$AE$9&""&". Digite Cero si no tiene.",IF(OR(AE16+AF16>$C16)," * La variable "&$AE$9&""&" no puede ser mayor al Total.","")) | CI16: =IF(AND($C16>0,AA16=""),1,IF(AA16>$C16,1,0)) -> 0 | CJ16: =IF(AND($C16>0,AB16=""),1,IF(AB16>$C16,1,0)) -> 0 | CK16: =IF(AND($C16>0,AC16=""),1,IF(AC16>$C16,1,0)) -> 0 | CL16: =IF(AND($C16>0,AD16=""),1,IF(AD16>$C16,1,0)) -> 0 | CM16: =IF(AND($C16>0,AE16="",AF16=""),1,IF(AE16+AF16>$C16,1,0)) -> 0
A17: Parto prehospitalario (en establecimientos salud o ambulancias) | C17: 0 | D17: 0 | E17: 0 | F17: 0 | G17: 0 | H17: 0 | I17: 0 | J17: 0 | K17: 0 | L17: 0 | M17: 0 | N17: 0 | O17: 0 | P17: 0 | Q17: 0 | R17: 0 | AG17: =$CA17&CB17&CC17&CD17&CE17 | CA17: =IF(AND(C17>0,AA17="")," * No olvide digitar la variable Pueblos originarios. Digite Cero si no tiene.",IF(AA17>C17," * La variable Pueblos originarios no puede ser mayor al Total.","")) | CB17: =IF(AND(C17>0,AB17="")," * No olvide digitar la variable Migrantes. Digite Cero si no tiene.",IF(AB17>C17," * La variable Migrantes no puede ser mayor al Total.","")) | CC17: =IF(AND($C17>0,OR(AC17=""))," * No olvide digitar la variable "&$AC$9&""&". Digite Cero si no tiene.",IF(OR(AC17>$C17)," * La variable Discapacidad no puede ser mayor al Total.","")) | CD17: =IF(AND($C17>0,OR(AD17=""))," * No olvide digitar la variable "&$AD$9&""&". Digite Cero si no tiene.",IF(OR(AD17>$C17)," * La variable "&$AD$9&""&" no puede ser mayor al Total.","")) | CE17: =IF(AND($C17>0,OR(AE17="",AF17=""))," * No olvide digitar la variable "&$AE$9&""&". Digite Cero si no tiene.",IF(OR(AE17+AF17>$C17)," * La variable "&$AE$9&""&" no puede ser mayor al Total.","")) | CI17: =IF(AND($C17>0,AA17=""),1,IF(AA17>$C17,1,0)) -> 0 | CJ17: =IF(AND($C17>0,AB17=""),1,IF(AB17>$C17,1,0)) -> 0 | CK17: =IF(AND($C17>0,AC17=""),1,IF(AC17>$C17,1,0)) -> 0 | CL17: =IF(AND($C17>0,AD17=""),1,IF(AD17>$C17,1,0)) -> 0 | CM17: =IF(AND($C17>0,AE17="",AF17=""),1,IF(AE17+AF17>$C17,1,0)) -> 0
A18: Partos fuera de la red de salud | C18: 0 | D18: 0 | E18: 0 | F18: 0 | G18: 0 | H18: 0 | I18: 0 | J18: 0 | K18: 0 | L18: 0 | M18: 0 | N18: 0 | O18: 0 | P18: 0 | Q18: 0 | R18: 0 | AA18: 0 | AB18: 0 | AC18: 0 | AD18: 0 | AG18: =$CA18&CB18&CC18&CD18&CE18 | CA18: =IF(AND(C18>0,AA18="")," * No olvide digitar la variable Pueblos originarios. Digite Cero si no tiene.",IF(AA18>C18," * La variable Pueblos originarios no puede ser mayor al Total.","")) | CB18: =IF(AND(C18>0,AB18="")," * No olvide digitar la variable Migrantes. Digite Cero si no tiene.",IF(AB18>C18," * La variable Migrantes no puede ser mayor al Total.","")) | CC18: =IF(AND($C18>0,OR(AC18=""))," * No olvide digitar la variable "&$AC$9&""&". Digite Cero si no tiene.",IF(OR(AC18>$C18)," * La variable Discapacidad no puede ser mayor al Total.","")) | CD18: =IF(AND($C18>0,OR(AD18=""))," * No olvide digitar la variable "&$AD$9&""&". Digite Cero si no tiene.",IF(OR(AD18>$C18)," * La variable "&$AD$9&""&" no puede ser mayor al Total.","")) | CE18: =IF(AND($C18>0,OR(AE18="",AF18=""))," * No olvide digitar la variable "&$AE$9&""&". Digite Cero si no tiene.",IF(OR(AE18+AF18>$C18)," * La variable "&$AE$9&""&" no puede ser mayor al Total.","")) | CI18: =IF(AND($C18>0,AA18=""),1,IF(AA18>$C18,1,0)) -> 0 | CJ18: =IF(AND($C18>0,AB18=""),1,IF(AB18>$C18,1,0)) -> 0 | CK18: =IF(AND($C18>0,AC18=""),1,IF(AC18>$C18,1,0)) -> 0 | CL18: =IF(AND($C18>0,AD18=""),1,IF(AD18>$C18,1,0)) -> 0 | CM18: =IF(AND($C18>0,AE18="",AF18=""),1,IF(AE18+AF18>$C18,1,0)) -> 0
A19: Plan de parto | C19: 15 | D19: 0 | E19: 0 | F19: 9 | G19: 6 | H19: 0 | I19: 0 | J19: 0 | K19: 0 | L19: 0 | M19: 0 | N19: 0 | O19: 0 | P19: 0 | Q19: 0 | R19: 0 | AA19: 0 | AB19: 0 | AC19: 0 | AD19: 0 | AE19: 0 | AF19: 0 | AG19: =$CA19&CB19&CC19&CD19&CE19 | CA19: =IF(AND(C19>0,AA19="")," * No olvide digitar la variable Pueblos originarios. Digite Cero si no tiene.",IF(AA19>C19," * La variable Pueblos originarios no puede ser mayor al Total.","")) | CB19: =IF(AND(C19>0,AB19="")," * No olvide digitar la variable Migrantes. Digite Cero si no tiene.",IF(AB19>C19," * La variable Migrantes no puede ser mayor al Total.","")) | CC19: =IF(AND($C19>0,OR(AC19=""))," * No olvide digitar la variable "&$AC$9&""&". Digite Cero si no tiene.",IF(OR(AC19>$C19)," * La variable Discapacidad no puede ser mayor al Total.","")) | CD19: =IF(AND($C19>0,OR(AD19=""))," * No olvide digitar la variable "&$AD$9&""&". Digite Cero si no tiene.",IF(OR(AD19>$C19)," * La variable "&$AD$9&""&" no puede ser mayor al Total.","")) | CE19: =IF(AND($C19>0,OR(AE19="",AF19=""))," * No olvide digitar la variable "&$AE$9&""&". Digite Cero si no tiene.",IF(OR(AE19+AF19>$C19)," * La variable "&$AE$9&""&" no puede ser mayor al Total.","")) | CI19: =IF(AND($C19>0,AA19=""),1,IF(AA19>$C19,1,0)) -> 0 | CJ19: =IF(AND($C19>0,AB19=""),1,IF(AB19>$C19,1,0)) -> 0 | CK19: =IF(AND($C19>0,AC19=""),1,IF(AC19>$C19,1,0)) -> 0 | CL19: =IF(AND($C19>0,AD19=""),1,IF(AD19>$C19,1,0)) -> 0 | CM19: =IF(AND($C19>0,AE19="",AF19=""),1,IF(AE19+AF19>$C19,1,0)) -> 0
A20: Entrega de placenta a solicitud | C20: 0 | D20: 0 | E20: 0 | F20: 0 | G20: 0 | H20: 0 | I20: 0 | J20: 0 | K20: 0 | L20: 0 | M20: 0 | N20: 0 | O20: 0 | P20: 0 | Q20: 0 | R20: 0 | AG20: =$CA20&CB20&CC20&CD20&CE20 | CA20: =IF(AND(C20>0,AA20="")," * No olvide digitar la variable Pueblos originarios. Digite Cero si no tiene.",IF(AA20>C20," * La variable Pueblos originarios no puede ser mayor al Total.","")) | CB20: =IF(AND(C20>0,AB20="")," * No olvide digitar la variable Migrantes. Digite Cero si no tiene.",IF(AB20>C20," * La variable Migrantes no puede ser mayor al Total.","")) | CC20: =IF(AND($C20>0,OR(AC20=""))," * No olvide digitar la variable "&$AC$9&""&". Digite Cero si no tiene.",IF(OR(AC20>$C20)," * La variable Discapacidad no puede ser mayor al Total.","")) | CD20: =IF(AND($C20>0,OR(AD20=""))," * No olvide digitar la variable "&$AD$9&""&". Digite Cero si no tiene.",IF(OR(AD20>$C20)," * La variable "&$AD$9&""&" no puede ser mayor al Total.","")) | CE20: =IF(AND($C20>0,OR(AE20="",AF20=""))," * No olvide digitar la variable "&$AE$9&""&". Digite Cero si no tiene.",IF(OR(AE20+AF20>$C20)," * La variable "&$AE$9&""&" no puede ser mayor al Total.","")) | CI20: =IF(AND($C20>0,AA20=""),1,IF(AA20>$C20,1,0)) -> 0 | CJ20: =IF(AND($C20>0,AB20=""),1,IF(AB20>$C20,1,0)) -> 0 | CK20: =IF(AND($C20>0,AC20=""),1,IF(AC20>$C20,1,0)) -> 0 | CL20: =IF(AND($C20>0,AD20=""),1,IF(AD20>$C20,1,0)) -> 0 | CM20: =IF(AND($C20>0,AE20="",AF20=""),1,IF(AE20+AF20>$C20,1,0)) -> 0
A21: Embarazo no controlado | C21: 0 | D21: 0 | E21: 0 | F21: 0 | G21: 0 | H21: 0 | I21: 0 | J21: 0 | K21: 0 | L21: 0 | M21: 0 | N21: 0 | O21: 0 | P21: 0 | Q21: 0 | R21: 0 | AG21: =$CA21&CB21&CC21&CD21&CE21 | CA21: =IF(AND(C21>0,AA21="")," * No olvide digitar la variable Pueblos originarios. Digite Cero si no tiene.",IF(AA21>C21," * La variable Pueblos originarios no puede ser mayor al Total.","")) | CB21: =IF(AND(C21>0,AB21="")," * No olvide digitar la variable Migrantes. Digite Cero si no tiene.",IF(AB21>C21," * La variable Migrantes no puede ser mayor al Total.","")) | CC21: =IF(AND($C21>0,OR(AC21=""))," * No olvide digitar la variable "&$AC$9&""&". Digite Cero si no tiene.",IF(OR(AC21>$C21)," * La variable Discapacidad no puede ser mayor al Total.","")) | CD21: =IF(AND($C21>0,OR(AD21=""))," * No olvide digitar la variable "&$AD$9&""&". Digite Cero si no tiene.",IF(OR(AD21>$C21)," * La variable "&$AD$9&""&" no puede ser mayor al Total.","")) | CE21: =IF(AND($C21>0,OR(AE21="",AF21=""))," * No olvide digitar la variable "&$AE$9&""&". Digite Cero si no tiene.",IF(OR(AE21+AF21>$C21)," * La variable "&$AE$9&""&" no puede ser mayor al Total.","")) | CI21: =IF(AND($C21>0,AA21=""),1,IF(AA21>$C21,1,0)) -> 0 | CJ21: =IF(AND($C21>0,AB21=""),1,IF(AB21>$C21,1,0)) -> 0 | CK21: =IF(AND($C21>0,AC21=""),1,IF(AC21>$C21,1,0)) -> 0 | CL21: =IF(AND($C21>0,AD21=""),1,IF(AD21>$C21,1,0)) -> 0 | CM21: =IF(AND($C21>0,AE21="",AF21=""),1,IF(AE21+AF21>$C21,1,0)) -> 0
