Workbook

Sheet CONSOLIDADO
A1: SERVICIO DE SALUD
A2: =CONCATENATE("COMUNA: ",[1]NOMBRE!B2, " (",[1]NOMBRE!C2,[1]NOMBRE!D2,[1]NOMBRE!E2,[1]NOMBRE!F2,[1]NOMBRE!G2,")") -> COMUNA: 0 (00000)
A3: =CONCATENATE("ESTABLECIMIENTO/ESTRATEGIA: ", [1]NOMBRE!B3, " (",[1]NOMBRE!C3,[1]NOMBRE!D3,[1]NOMBRE!E3,[1]NOMBRE!F3,[1]NOMBRE!G3,[1]NOMBRE!H3,")") -> ESTABLECIMIENTO/ESTRATEGIA: 0 (000000)
A4: =CONCATENATE("MES: ",[1]NOMBRE!B6, " (",[1]NOMBRE!C6,[1]NOMBRE!D6,")") -> MES: 0 (00)
A5: =CONCATENATE("AÑO: ",[1]NOMBRE!B7) -> AÑO: 2025
A6: REM-A24. ATENCIÓN OBSTÉTRICA Y DEL RECIÉN NACIDO
A8: SECCIÓN A: INFORMACIÓN GENERAL DE PARTOS
A9: CARACTERISTICAS DEL PARTO | C9: TOTAL | D9: PARTOS SEGÚN EDAD DE LA MADRE | H9: PARTOS PREMATUROS (CONSIDERAR SOBRE 22 SEMANAS) | L9: Uso de oxitocina profiláctica | M9: ANESTESIA Y/O ANALGESIA DEL PARTO (MEDIDAS FARMACOLÓGICAS Y NO FARMACOLÓGICAS) | S9: Ligadura tardía del cordón (> a 60 segundos) | T9: CONTACTO INMEDIATO PIEL A PIEL >30 MINUTOS | X9: Lactancia materna en los primeros 60 minutos de vida (RN con peso de 2.500 grs. o más) | Y9: Alojamiento conjunto en puerperio inmediato | Z9: Atención con pertinencia cultural | AA9: Pueblos Originarios | AB9: Migrantes | AC9: Discapacidad | AD9: Privada de Libertad | AE9: Identidad de Género
D10: < 15 años | E10: 15 - 19 años | F10: 20 - 34 años | G10: ≥35 años | H10: Partos prematuros menos de 24 semanas | I10: Partos prematuros de 24 a 28 semanas | J10: Partos prematuros de 29 a 32 semanas | K10: Partos prematuros de 33 a 36 semanas | M10: Anestesia Neuroaxial | N10: Óxido nitroso | O10: Analgesia endovenosa | P10: General | Q10: Local | R10: Medidas no farmacológicas | T10: Con la Madre | V10: Con el padre o acompañante significativo
T11: RN peso menor o igual a 2.499 grs. | U11: RN con peso de 2.500 grs. o más | V11: RN peso menor o igual a 2.499 grs. | W11: RN con peso de 2.500 grs. o más | AE11: Trans masculino | AF11: No binarie
A12: TOTAL PARTOS | C12: =SUM(C13:C16) -> 1430 | D12: =SUM(D13:D16) -> 4 | E12: =SUM(E13:E16) -> 62 | F12: =SUM(F13:F16) -> 1050 | G12: =SUM(G13:G16) -> 315 | H12: =SUM(H13:H16) -> 1 | I12: =SUM(I13:I16) -> 5 | J12: =SUM(J13:J16) -> 3 | ... AF12: =SUM(AF13:AF16) -> 0
A13: Vaginal | C13: =SUM(ENERO:DICIEMBRE!C13) -> 524 | D13: =SUM(ENERO:DICIEMBRE!D13) -> 2 | E13: =SUM(ENERO:DICIEMBRE!E13) -> 43 | F13: =SUM(ENERO:DICIEMBRE!F13) -> 403 | G13: =SUM(ENERO:DICIEMBRE!G13) -> 76 | H13: =SUM(ENERO:DICIEMBRE!H13) -> 1 | I13: =SUM(ENERO:DICIEMBRE!I13) -> 4 | J13: =SUM(ENERO:DICIEMBRE!J13) -> 2 | ... AF13: =SUM(ENERO:DICIEMBRE!AF13) -> 0 | AG13: =$CA13&CB13&CC13&CD13&CE13 | CA13: =IF(AND(C13>0,AA13="")," * No olvide digitar la variable Pueblos originarios. Digite Cero si no tiene.",IF(AA13>C13," * La variable Pueblos originarios no puede ser mayor al Total.","")) | CB13: =IF(AND(C13>0,AB13="")," * No olvide digitar la variable Migrantes. Digite Cero si no tiene.",IF(AB13>C13," * La variable Migrantes no puede ser mayor al Total.","")) | CC13: =IF(AND($C13>0,OR(AC13=""))," * No olvide digitar la variable "&$AC$9&""&". Digite Cero si no tiene.",IF(OR(AC13>$C13)," * La variable Discapacidad no puede ser mayor al Total.","")) | CD13: =IF(AND($C13>0,OR(AD13=""))," * No olvide digitar la variable "&$AD$9&""&". Digite Cero si no tiene.",IF(OR(AD13>$C13)," * La variable "&$AD$9&""&" no puede ser mayor al Total.","")) | CE13: =IF(AND($C13>0,OR(AE13="",AF13=""))," * No olvide digitar la variable "&$AE$9&""&". Digite Cero si no tiene.",IF(OR(AE13+AF13>$C13)," * La variable "&$AE$9&""&" no puede ser mayor al Total.","")) | CI13: =IF(AND($C13>0,AA13=""),1,IF(AA13>$C13,1,0)) -> 0 | CJ13: =IF(AND($C13>0,AB13=""),1,IF(AB13>$C13,1,0)) -> 0 | CK13: =IF(AND($C13>0,AC13=""),1,IF(AC13>$C13,1,0)) -> 0 | CL13: =IF(AND($C13>0,AD13=""),1,IF(AD13>$C13,1,0)) -> 0 | CM13: =IF(AND($C13>0,AE13="",AF13=""),1,IF(AE13+AF13>$C13,1,0)) -> 0
A14: Instrumental | C14: =SUM(ENERO:DICIEMBRE!C14) -> 10 | D14: =SUM(ENERO:DICIEMBRE!D14) -> 0 | E14: =SUM(ENERO:DICIEMBRE!E14) -> 2 | F14: =SUM(ENERO:DICIEMBRE!F14) -> 7 | G14: =SUM(ENERO:DICIEMBRE!G14) -> 2 | H14: =SUM(ENERO:DICIEMBRE!H14) -> 0 | I14: =SUM(ENERO:DICIEMBRE!I14) -> 0 | J14: =SUM(ENERO:DICIEMBRE!J14) -> 0 | ... AF14: =SUM(ENERO:DICIEMBRE!AF14) -> 0 | AG14: =$CA14&CB14&CC14&CD14&CE14 | CA14: =IF(AND(C14>0,AA14="")," * No olvide digitar la variable Pueblos originarios. Digite Cero si no tiene.",IF(AA14>C14," * La variable Pueblos originarios no puede ser mayor al Total.","")) | CB14: =IF(AND(C14>0,AB14="")," * No olvide digitar la variable Migrantes. Digite Cero si no tiene.",IF(AB14>C14," * La variable Migrantes no puede ser mayor al Total.","")) | CC14: =IF(AND($C14>0,OR(AC14=""))," * No olvide digitar la variable "&$AC$9&""&". Digite Cero si no tiene.",IF(OR(AC14>$C14)," * La variable Discapacidad no puede ser mayor al Total.","")) | CD14: =IF(AND($C14>0,OR(AD14=""))," * No olvide digitar la variable "&$AD$9&""&". Digite Cero si no tiene.",IF(OR(AD14>$C14)," * La variable "&$AD$9&""&" no puede ser mayor al Total.","")) | CE14: =IF(AND($C14>0,OR(AE14="",AF14=""))," * No olvide digitar la variable "&$AE$9&""&". Digite Cero si no tiene.",IF(OR(AE14+AF14>$C14)," * La variable "&$AE$9&""&" no puede ser mayor al Total.","")) | CI14: =IF(AND($C14>0,AA14=""),1,IF(AA14>$C14,1,0)) -> 0 | CJ14: =IF(AND($C14>0,AB14=""),1,IF(AB14>$C14,1,0)) -> 0 | CK14: =IF(AND($C14>0,AC14=""),1,IF(AC14>$C14,1,0)) -> 0 | CL14: =IF(AND($C14>0,AD14=""),1,IF(AD14>$C14,1,0)) -> 0 | CM14: =IF(AND($C14>0,AE14="",AF14=""),1,IF(AE14+AF14>$C14,1,0)) -> 0
A15: Cesárea Electiva | C15: =SUM(ENERO:DICIEMBRE!C15) -> 605 | D15: =SUM(ENERO:DICIEMBRE!D15) -> 0 | E15: =SUM(ENERO:DICIEMBRE!E15) -> 6 | F15: =SUM(ENERO:DICIEMBRE!F15) -> 418 | G15: =SUM(ENERO:DICIEMBRE!G15) -> 181 | H15: =SUM(ENERO:DICIEMBRE!H15) -> 0 | I15: =SUM(ENERO:DICIEMBRE!I15) -> 1 | J15: =SUM(ENERO:DICIEMBRE!J15) -> 0 | ... AF15: =SUM(ENERO:DICIEMBRE!AF15) -> 0 | AG15: =$CA15&CB15&CC15&CD15&CE15 | CA15: =IF(AND(C15>0,AA15="")," * No olvide digitar la variable Pueblos originarios. Digite Cero si no tiene.",IF(AA15>C15," * La variable Pueblos originarios no puede ser mayor al Total.","")) | CB15: =IF(AND(C15>0,AB15="")," * No olvide digitar la variable Migrantes. Digite Cero si no tiene.",IF(AB15>C15," * La variable Migrantes no puede ser mayor al Total.","")) | CC15: =IF(AND($C15>0,OR(AC15=""))," * No olvide digitar la variable "&$AC$9&""&". Digite Cero si no tiene.",IF(OR(AC15>$C15)," * La variable Discapacidad no puede ser mayor al Total.","")) | CD15: =IF(AND($C15>0,OR(AD15=""))," * No olvide digitar la variable "&$AD$9&""&". Digite Cero si no tiene.",IF(OR(AD15>$C15)," * La variable "&$AD$9&""&" no puede ser mayor al Total.","")) | CE15: =IF(AND($C15>0,OR(AE15="",AF15=""))," * No olvide digitar la variable "&$AE$9&""&". Digite Cero si no tiene.",IF(OR(AE15+AF15>$C15)," * La variable "&$AE$9&""&" no puede ser mayor al Total.","")) | CI15: =IF(AND($C15>0,AA15=""),1,IF(AA15>$C15,1,0)) -> 0 | CJ15: =IF(AND($C15>0,AB15=""),1,IF(AB15>$C15,1,0)) -> 0 | CK15: =IF(AND($C15>0,AC15=""),1,IF(AC15>$C15,1,0)) -> 0 | CL15: =IF(AND($C15>0,AD15=""),1,IF(AD15>$C15,1,0)) -> 0 | CM15: =IF(AND($C15>0,AE15="",AF15=""),1,IF(AE15+AF15>$C15,1,0)) -> 0
A16: Cesárea Urgencia | C16: =SUM(ENERO:DICIEMBRE!C16) -> 291 | D16: =SUM(ENERO:DICIEMBRE!D16) -> 2 | E16: =SUM(ENERO:DICIEMBRE!E16) -> 11 | F16: =SUM(ENERO:DICIEMBRE!F16) -> 222 | G16: =SUM(ENERO:DICIEMBRE!G16) -> 56 | H16: =SUM(ENERO:DICIEMBRE!H16) -> 0 | I16: =SUM(ENERO:DICIEMBRE!I16) -> 0 | J16: =SUM(ENERO:DICIEMBRE!J16) -> 1 | ... AF16: =SUM(ENERO:DICIEMBRE!AF16) -> 0 | AG16: =$CA16&CB16&CC16&CD16&CE16 | CA16: =IF(AND(C16>0,AA16="")," * No olvide digitar la variable Pueblos originarios. Digite Cero si no tiene.",IF(AA16>C16," * La variable Pueblos originarios no puede ser mayor al Total.","")) | CB16: =IF(AND(C16>0,AB16="")," * No olvide digitar la variable Migrantes. Digite Cero si no tiene.",IF(AB16>C16," * La variable Migrantes no puede ser mayor al Total.","")) | CC16: =IF(AND($C16>0,OR(AC16=""))," * No olvide digitar la variable "&$AC$9&""&". Digite Cero si no tiene.",IF(OR(AC16>$C16)," * La variable Discapacidad no puede ser mayor al Total.","")) | CD16: =IF(AND($C16>0,OR(AD16=""))," * No olvide digitar la variable "&$AD$9&""&". Digite Cero si no tiene.",IF(OR(AD16>$C16)," * La variable "&$AD$9&""&" no puede ser mayor al Total.","")) | CE16: =IF(AND($C16>0,OR(AE16="",AF16=""))," * No olvide digitar la variable "&$AE$9&""&". Digite Cero si no tiene.",IF(OR(AE16+AF16>$C16)," * La variable "&$AE$9&""&" no puede ser mayor al Total.","")) | CI16: =IF(AND($C16>0,AA16=""),1,IF(AA16>$C16,1,0)) -> 0 | CJ16: =IF(AND($C16>0,AB16=""),1,IF(AB16>$C16,1,0)) -> 0 | CK16: =IF(AND($C16>0,AC16=""),1,IF(AC16>$C16,1,0)) -> 0 | CL16: =IF(AND($C16>0,AD16=""),1,IF(AD16>$C16,1,0)) -> 0 | CM16: =IF(AND($C16>0,AE16="",AF16=""),1,IF(AE16+AF16>$C16,1,0)) -> 0
A17: Parto prehospitalario (en establecimientos salud o ambulancias) | C17: =SUM(ENERO:DICIEMBRE!C17) -> 0 | D17: =SUM(ENERO:DICIEMBRE!D17) -> 0 | E17: =SUM(ENERO:DICIEMBRE!E17) -> 0 | F17: =SUM(ENERO:DICIEMBRE!F17) -> 0 | G17: =SUM(ENERO:DICIEMBRE!G17) -> 0 | H17: =SUM(ENERO:DICIEMBRE!H17) -> 0 | I17: =SUM(ENERO:DICIEMBRE!I17) -> 0 | J17: =SUM(ENERO:DICIEMBRE!J17) -> 0 | ... AF17: =SUM(ENERO:DICIEMBRE!AF17) -> 0 | AG17: =$CA17&CB17&CC17&CD17&CE17 | CA17: =IF(AND(C17>0,AA17="")," * No olvide digitar la variable Pueblos originarios. Digite Cero si no tiene.",IF(AA17>C17," * La variable Pueblos originarios no puede ser mayor al Total.","")) | CB17: =IF(AND(C17>0,AB17="")," * No olvide digitar la variable Migrantes. Digite Cero si no tiene.",IF(AB17>C17," * La variable Migrantes no puede ser mayor al Total.","")) | CC17: =IF(AND($C17>0,OR(AC17=""))," * No olvide digitar la variable "&$AC$9&""&". Digite Cero si no tiene.",IF(OR(AC17>$C17)," * La variable Discapacidad no puede ser mayor al Total.","")) | CD17: =IF(AND($C17>0,OR(AD17=""))," * No olvide digitar la variable "&$AD$9&""&". Digite Cero si no tiene.",IF(OR(AD17>$C17)," * La variable "&$AD$9&""&" no puede ser mayor al Total.","")) | CE17: =IF(AND($C17>0,OR(AE17="",AF17=""))," * No olvide digitar la variable "&$AE$9&""&". Digite Cero si no tiene.",IF(OR(AE17+AF17>$C17)," * La variable "&$AE$9&""&" no puede ser mayor al Total.","")) | CI17: =IF(AND($C17>0,AA17=""),1,IF(AA17>$C17,1,0)) -> 0 | CJ17: =IF(AND($C17>0,AB17=""),1,IF(AB17>$C17,1,0)) -> 0 | CK17: =IF(AND($C17>0,AC17=""),1,IF(AC17>$C17,1,0)) -> 0 | CL17: =IF(AND($C17>0,AD17=""),1,IF(AD17>$C17,1,0)) -> 0 | CM17: =IF(AND($C17>0,AE17="",AF17=""),1,IF(AE17+AF17>$C17,1,0)) -> 0
A18: Partos fuera de la red de salud | C18: =SUM(ENERO:DICIEMBRE!C18) -> 3 | D18: =SUM(ENERO:DICIEMBRE!D18) -> 0 | E18: =SUM(ENERO:DICIEMBRE!E18) -> 0 | F18: =SUM(ENERO:DICIEMBRE!F18) -> 3 | G18: =SUM(ENERO:DICIEMBRE!G18) -> 0 | H18: =SUM(ENERO:DICIEMBRE!H18) -> 0 | I18: =SUM(ENERO:DICIEMBRE!I18) -> 0 | J18: =SUM(ENERO:DICIEMBRE!J18) -> 0 | ... AF18: =SUM(ENERO:DICIEMBRE!AF18) -> 0 | AG18: =$CA18&CB18&CC18&CD18&CE18 | CA18: =IF(AND(C18>0,AA18="")," * No olvide digitar la variable Pueblos originarios. Digite Cero si no tiene.",IF(AA18>C18," * La variable Pueblos originarios no puede ser mayor al Total.","")) | CB18: =IF(AND(C18>0,AB18="")," * No olvide digitar la variable Migrantes. Digite Cero si no tiene.",IF(AB18>C18," * La variable Migrantes no puede ser mayor al Total.","")) | CC18: =IF(AND($C18>0,OR(AC18=""))," * No olvide digitar la variable "&$AC$9&""&". Digite Cero si no tiene.",IF(OR(AC18>$C18)," * La variable Discapacidad no puede ser mayor al Total.","")) | CD18: =IF(AND($C18>0,OR(AD18=""))," * No olvide digitar la variable "&$AD$9&""&". Digite Cero si no tiene.",IF(OR(AD18>$C18)," * La variable "&$AD$9&""&" no puede ser mayor al Total.","")) | CE18: =IF(AND($C18>0,OR(AE18="",AF18=""))," * No olvide digitar la variable "&$AE$9&""&". Digite Cero si no tiene.",IF(OR(AE18+AF18>$C18)," * La variable "&$AE$9&""&" no puede ser mayor al Total.","")) | CI18: =IF(AND($C18>0,AA18=""),1,IF(AA18>$C18,1,0)) -> 0 | CJ18: =IF(AND($C18>0,AB18=""),1,IF(AB18>$C18,1,0)) -> 0 | CK18: =IF(AND($C18>0,AC18=""),1,IF(AC18>$C18,1,0)) -> 0 | CL18: =IF(AND($C18>0,AD18=""),1,IF(AD18>$C18,1,0)) -> 0 | CM18: =IF(AND($C18>0,AE18="",AF18=""),1,IF(AE18+AF18>$C18,1,0)) -> 0
A19: Plan de parto | C19: =SUM(ENERO:DICIEMBRE!C19) -> 239 | D19: =SUM(ENERO:DICIEMBRE!D19) -> 1 | E19: =SUM(ENERO:DICIEMBRE!E19) -> 6 | F19: =SUM(ENERO:DICIEMBRE!F19) -> 132 | G19: =SUM(ENERO:DICIEMBRE!G19) -> 51 | H19: =SUM(ENERO:DICIEMBRE!H19) -> 0 | I19: =SUM(ENERO:DICIEMBRE!I19) -> 0 | J19: =SUM(ENERO:DICIEMBRE!J19) -> 0 | ... AF19: =SUM(ENERO:DICIEMBRE!AF19) -> 0 | AG19: =$CA19&CB19&CC19&CD19&CE19 | CA19: =IF(AND(C19>0,AA19="")," * No olvide digitar la variable Pueblos originarios. Digite Cero si no tiene.",IF(AA19>C19," * La variable Pueblos originarios no puede ser mayor al Total.","")) | CB19: =IF(AND(C19>0,AB19="")," * No olvide digitar la variable Migrantes. Digite Cero si no tiene.",IF(AB19>C19," * La variable Migrantes no puede ser mayor al Total.","")) | CC19: =IF(AND($C19>0,OR(AC19=""))," * No olvide digitar la variable "&$AC$9&""&". Digite Cero si no tiene.",IF(OR(AC19>$C19)," * La variable Discapacidad no puede ser mayor al Total.","")) | CD19: =IF(AND($C19>0,OR(AD19=""))," * No olvide digitar la variable "&$AD$9&""&". Digite Cero si no tiene.",IF(OR(AD19>$C19)," * La variable "&$AD$9&""&" no puede ser mayor al Total.","")) | CE19: =IF(AND($C19>0,OR(AE19="",AF19=""))," * No olvide digitar la variable "&$AE$9&""&". Digite Cero si no tiene.",IF(OR(AE19+AF19>$C19)," * La variable "&$AE$9&""&" no puede ser mayor al Total.","")) | CI19: =IF(AND($C19>0,AA19=""),1,IF(AA19>$C19,1,0)) -> 0 | CJ19: =IF(AND($C19>0,AB19=""),1,IF(AB19>$C19,1,0)) -> 0 | CK19: =IF(AND($C19>0,AC19=""),1,IF(AC19>$C19,1,0)) -> 0 | CL19: =IF(AND($C19>0,AD19=""),1,IF(AD19>$C19,1,0)) -> 0 | CM19: =IF(AND($C19>0,AE19="",AF19=""),1,IF(AE19+AF19>$C19,1,0)) -> 0
A20: Entrega de placenta a solicitud | C20: =SUM(ENERO:DICIEMBRE!C20) -> 2 | D20: =SUM(ENERO:DICIEMBRE!D20) -> 0 | E20: =SUM(ENERO:DICIEMBRE!E20) -> 0 | F20: =SUM(ENERO:DICIEMBRE!F20) -> 2 | G20: =SUM(ENERO:DICIEMBRE!G20) -> 0 | H20: =SUM(ENERO:DICIEMBRE!H20) -> 0 | I20: =SUM(ENERO:DICIEMBRE!I20) -> 0 | J20: =SUM(ENERO:DICIEMBRE!J20) -> 0 | ... AF20: =SUM(ENERO:DICIEMBRE!AF20) -> 0 | AG20: =$CA20&CB20&CC20&CD20&CE20 | CA20: =IF(AND(C20>0,AA20="")," * No olvide digitar la variable Pueblos originarios. Digite Cero si no tiene.",IF(AA20>C20," * La variable Pueblos originarios no puede ser mayor al Total.","")) | CB20: =IF(AND(C20>0,AB20="")," * No olvide digitar la variable Migrantes. Digite Cero si no tiene.",IF(AB20>C20," * La variable Migrantes no puede ser mayor al Total.","")) | CC20: =IF(AND($C20>0,OR(AC20=""))," * No olvide digitar la variable "&$AC$9&""&". Digite Cero si no tiene.",IF(OR(AC20>$C20)," * La variable Discapacidad no puede ser mayor al Total.","")) | CD20: =IF(AND($C20>0,OR(AD20=""))," * No olvide digitar la variable "&$AD$9&""&". Digite Cero si no tiene.",IF(OR(AD20>$C20)," * La variable "&$AD$9&""&" no puede ser mayor al Total.","")) | CE20: =IF(AND($C20>0,OR(AE20="",AF20=""))," * No olvide digitar la variable "&$AE$9&""&". Digite Cero si no tiene.",IF(OR(AE20+AF20>$C20)," * La variable "&$AE$9&""&" no puede ser mayor al Total.","")) | CI20: =IF(AND($C20>0,AA20=""),1,IF(AA20>$C20,1,0)) -> 0 | CJ20: =IF(AND($C20>0,AB20=""),1,IF(AB20>$C20,1,0)) -> 0 | CK20: =IF(AND($C20>0,AC20=""),1,IF(AC20>$C20,1,0)) -> 0 | CL20: =IF(AND($C20>0,AD20=""),1,IF(AD20>$C20,1,0)) -> 0 | CM20: =IF(AND($C20>0,AE20="",AF20=""),1,IF(AE20+AF20>$C20,1,0)) -> 0
A21: Embarazo no controlado | C21: =SUM(ENERO:DICIEMBRE!C21) -> 3 | D21: =SUM(ENERO:DICIEMBRE!D21) -> 0 | E21: =SUM(ENERO:DICIEMBRE!E21) -> 0 | F21: =SUM(ENERO:DICIEMBRE!F21) -> 4 | G21: =SUM(ENERO:DICIEMBRE!G21) -> 0 | H21: =SUM(ENERO:DICIEMBRE!H21) -> 0 | I21: =SUM(ENERO:DICIEMBRE!I21) -> 0 | J21: =SUM(ENERO:DICIEMBRE!J21) -> 0 | ... AF21: =SUM(ENERO:DICIEMBRE!AF21) -> 0 | AG21: =$CA21&CB21&CC21&CD21&CE21 | CA21: =IF(AND(C21>0,AA21="")," * No olvide digitar la variable Pueblos originarios. Digite Cero si no tiene.",IF(AA21>C21," * La variable Pueblos originarios no puede ser mayor al Total.","")) | CB21: =IF(AND(C21>0,AB21="")," * No olvide digitar la variable Migrantes. Digite Cero si no tiene.",IF(AB21>C21," * La variable Migrantes no puede ser mayor al Total.","")) | CC21: =IF(AND($C21>0,OR(AC21=""))," * No olvide digitar la variable "&$AC$9&""&". Digite Cero si no tiene.",IF(OR(AC21>$C21)," * La variable Discapacidad no puede ser mayor al Total.","")) | CD21: =IF(AND($C21>0,OR(AD21=""))," * No olvide digitar la variable "&$AD$9&""&". Digite Cero si no tiene.",IF(OR(AD21>$C21)," * La variable "&$AD$9&""&" no puede ser mayor al Total.","")) | CE21: =IF(AND($C21>0,OR(AE21="",AF21=""))," * No olvide digitar la variable "&$AE$9&""&". Digite Cero si no tiene.",IF(OR(AE21+AF21>$C21)," * La variable "&$AE$9&""&" no puede ser mayor al Total.","")) | CI21: =IF(AND($C21>0,AA21=""),1,IF(AA21>$C21,1,0)) -> 0 | CJ21: =IF(AND($C21>0,AB21=""),1,IF(AB21>$C21,1,0)) -> 0 | CK21: =IF(AND($C21>0,AC21=""),1,IF(AC21>$C21,1,0)) -> 0 | CL21: =IF(AND($C21>0,AD21=""),1,IF(AD21>$C21,1,0)) -> 0 | CM21: =IF(AND($C21>0,AE21="",AF21=""),1,IF(AE21+AF21>$C21,1,0)) -> 0
A22: Parto en domicilio | B22: Con atención profesional | C22: =SUM(ENERO:DICIEMBRE!C22) -> 0 | D22: =SUM(ENERO:DICIEMBRE!D22) -> 0 | E22: =SUM(ENERO:DICIEMBRE!E22) -> 0 | F22: =SUM(ENERO:DICIEMBRE!F22) -> 0 | G22: =SUM(ENERO:DICIEMBRE!G22) -> 0 | H22: =SUM(ENERO:DICIEMBRE!H22) -> 0 | I22: =SUM(ENERO:DICIEMBRE!I22) -> 0 | J22: =SUM(ENERO:DICIEMBRE!J22) -> 0 | ... AF22: =SUM(ENERO:DICIEMBRE!AF22) -> 0 | AG22: =$CA22&CB22&CC22&CD22&CE22 | CA22: =IF(AND(C22>0,AA22="")," * No olvide digitar la variable Pueblos originarios. Digite Cero si no tiene.",IF(AA22>C22," * La variable Pueblos originarios no puede ser mayor al Total.","")) | CB22: =IF(AND(C22>0,AB22="")," * No olvide digitar la variable Migrantes. Digite Cero si no tiene.",IF(AB22>C22," * La variable Migrantes no puede ser mayor al Total.","")) | CC22: =IF(AND($C22>0,OR(AC22=""))," * No olvide digitar la variable "&$AC$9&""&". Digite Cero si no tiene.",IF(OR(AC22>$C22)," * La variable Discapacidad no puede ser mayor al Total.","")) | CD22: =IF(AND($C22>0,OR(AD22=""))," * No olvide digitar la variable "&$AD$9&""&". Digite Cero si no tiene.",IF(OR(AD22>$C22)," * La variable "&$AD$9&""&" no puede ser mayor al Total.","")) | CE22: =IF(AND($C22>0,OR(AE22="",AF22=""))," * No olvide digitar la variable "&$AE$9&""&". Digite Cero si no tiene.",IF(OR(AE22+AF22>$C22)," * La variable "&$AE$9&""&" no puede ser mayor al Total.","")) | CI22: =IF(AND($C22>0,AA22=""),1,IF(AA22>$C22,1,0)) -> 0 | CJ22: =IF(AND($C22>0,AB22=""),1,IF(AB22>$C22,1,0)) -> 0 | CK22: =IF(AND($C22>0,AC22=""),1,IF(AC22>$C22,1,0)) -> 0 | CL22: =IF(AND($C22>0,AD22=""),1,IF(AD22>$C22,1,0)) -> 0 | CM22: =IF(AND($C22>0,AE22="",AF22=""),1,IF(AE22+AF22>$C22,1,0)) -> 0
B23: Sin atención profesional | C23: =SUM(ENERO:DICIEMBRE!C23) -> 4 | D23: =SUM(ENERO:DICIEMBRE!D23) -> 0 | E23: =SUM(ENERO:DICIEMBRE!E23) -> 0 | F23: =SUM(ENERO:DICIEMBRE!F23) -> 1 | G23: =SUM(ENERO:DICIEMBRE!G23) -> 1 | H23: =SUM(ENERO:DICIEMBRE!H23) -> 0 | I23: =SUM(ENERO:DICIEMBRE!I23) -> 0 | J23: =SUM(ENERO:DICIEMBRE!J23) -> 0 | ... AF23: =SUM(ENERO:DICIEMBRE!AF23) -> 0 | AG23: =$CA23&CB23&CC23&CD23&CE23 | CA23: =IF(AND(C23>0,AA23="")," * No olvide digitar la variable Pueblos originarios. Digite Cero si no tiene.",IF(AA23>C23," * La variable Pueblos originarios no puede ser mayor al Total.","")) | CB23: =IF(AND(C23>0,AB23="")," * No olvide digitar la variable Migrantes. Digite Cero si no tiene.",IF(AB23>C23," * La variable Migrantes no puede ser mayor al Total.","")) | CC23: =IF(AND($C23>0,OR(AC23=""))," * No olvide digitar la variable "&$AC$9&""&". Digite Cero si no tiene.",IF(OR(AC23>$C23)," * La variable Discapacidad no puede ser mayor al Total.","")) | CD23: =IF(AND($C23>0,OR(AD23=""))," * No olvide digitar la variable "&$AD$9&""&". Digite Cero si no tiene.",IF(OR(AD23>$C23)," * La variable "&$AD$9&""&" no puede ser mayor al Total.","")) | CE23: =IF(AND($C23>0,OR(AE23="",AF23=""))," * No olvide digitar la variable "&$AE$9&""&". Digite Cero si no tiene.",IF(OR(AE23+AF23>$C23)," * La variable "&$AE$9&""&" no puede ser mayor al Total.","")) | CI23: =IF(AND($C23>0,AA23=""),1,IF(AA23>$C23,1,0)) -> 0 | CJ23: =IF(AND($C23>0,AB23=""),1,IF(AB23>$C23,1,0)) -> 0 | CK23: =IF(AND($C23>0,AC23=""),1,IF(AC23>$C23,1,0)) -> 0 | CL23: =IF(AND($C23>0,AD23=""),1,IF(AD23>$C23,1,0)) -> 0 | CM23: =IF(AND($C23>0,AE23="",AF23=""),1,IF(AE23+AF23>$C23,1,0)) -> 0
A24: SECCION A.1: PARTOS VAGINALES *
A25: CARACTERÍSTICAS DEL MODELO DE ATENCIÓN | C25: TOTAL | D25: <28 semanas | E25: 28 - 37 semanas | F25: 38 semanas y más
A26: Espontáneo | C26: =SUM(D26:F26) -> 202 | D26: =SUM(ENERO:DICIEMBRE!D26) -> 2 | E26: =SUM(ENERO:DICIEMBRE!E26) -> 46 | F26: =SUM(ENERO:DICIEMBRE!F26) -> 154
A27: Inducidos | B27: Mecánica | C27: =SUM(D27:F27) -> 12 | D27: =SUM(ENERO:DICIEMBRE!D27) -> 0 | E27: =SUM(ENERO:DICIEMBRE!E27) -> 1 | F27: =SUM(ENERO:DICIEMBRE!F27) -> 11
B28: Farmacológica | C28: =SUM(D28:F28) -> 140 | D28: =SUM(ENERO:DICIEMBRE!D28) -> 4 | E28: =SUM(ENERO:DICIEMBRE!E28) -> 32 | F28: =SUM(ENERO:DICIEMBRE!F28) -> 104
A29: Conducción oxitócica | C29: =SUM(D29:F29) -> 180 | D29: =SUM(ENERO:DICIEMBRE!D29) -> 0 | E29: =SUM(ENERO:DICIEMBRE!E29) -> 25 | F29: =SUM(ENERO:DICIEMBRE!F29) -> 155
A30: Libertad de movimiento | C30: =SUM(D30:F30) -> 534 | D30: =SUM(ENERO:DICIEMBRE!D30) -> 5 | E30: =SUM(ENERO:DICIEMBRE!E30) -> 107 | F30: =SUM(ENERO:DICIEMBRE!F30) -> 422
A31: Régimen hídrico amplio | C31: =SUM(D31:F31) -> 534 | D31: =SUM(ENERO:DICIEMBRE!D31) -> 5 | E31: =SUM(ENERO:DICIEMBRE!E31) -> 107 | F31: =SUM(ENERO:DICIEMBRE!F31) -> 422
A32: Manejo del dolor | B32: No farmacológico | C32: =SUM(D32:F32) -> 371 | D32: =SUM(ENERO:DICIEMBRE!D32) -> 2 | E32: =SUM(ENERO:DICIEMBRE!E32) -> 73 | F32: =SUM(ENERO:DICIEMBRE!F32) -> 296
B33: Farmacológico | C33: =SUM(D33:F33) -> 343 | D33: =SUM(ENERO:DICIEMBRE!D33) -> 3 | E33: =SUM(ENERO:DICIEMBRE!E33) -> 67 | F33: =SUM(ENERO:DICIEMBRE!F33) -> 273
A34: Posición al momento del expulsivo | B34: Litotomía | C34: =SUM(D34:F34) -> 454 | D34: =SUM(ENERO:DICIEMBRE!D34) -> 4 | E34: =SUM(ENERO:DICIEMBRE!E34) -> 94 | F34: =SUM(ENERO:DICIEMBRE!F34) -> 356
B35: Otras posiciones | C35: =SUM(D35:F35) -> 79 | D35: =SUM(ENERO:DICIEMBRE!D35) -> 0 | E35: =SUM(ENERO:DICIEMBRE!E35) -> 14 | F35: =SUM(ENERO:DICIEMBRE!F35) -> 65
A36: Episiotomía | C36: =SUM(D36:F36) -> 49 | D36: =SUM(ENERO:DICIEMBRE!D36) -> 0 | E36: =SUM(ENERO:DICIEMBRE!E36) -> 6 | F36: =SUM(ENERO:DICIEMBRE!F36) -> 43
A37: Acompañamiento | B37: Durante el trabajo de parto | C37: =SUM(D37:F37) -> 465 | D37: =SUM(ENERO:DICIEMBRE!D37) -> 5 | E37: =SUM(ENERO:DICIEMBRE!E37) -> 76 | F37: =SUM(ENERO:DICIEMBRE!F37) -> 384
B38: Sólo en el expulsivo | C38: =SUM(D38:F38) -> 41 | D38: =SUM(ENERO:DICIEMBRE!D38) -> 0 | E38: =SUM(ENERO:DICIEMBRE!E38) -> 10 | F38: =SUM(ENERO:DICIEMBRE!F38) -> 31
A39: (*) Partos de Término y Pre-Término
A40: SECCION A.2: CESÁREAS (RESPONSABILIDAD DEL MÉDICO JEFE DEL SERVICIO DE OBSTETRICIA)
A41: CLASIFICACIÓN SEGÚN MODELO DE ROBSON | C41: Programada | D41: Urgencia
A42: Grupo 1: Nulíparas, embarazo único, cefálica, ≥37 semanas en trabajo de parto espontáneo | C42: =SUM(ENERO:DICIEMBRE!C42) -> 149 | D42: =SUM(ENERO:DICIEMBRE!D42) -> 76
A43: Grupo 2: Nulíparas, embarazo único, cefálica, ≥37 semanas, cesárea programada o con inducción de trabajo de parto | B43: Césarea por inducción fracasada | C43: =SUM(ENERO:DICIEMBRE!C43) -> 5 | D43: =SUM(ENERO:DICIEMBRE!D43) -> 47
B44: Césarea programada | C44: =SUM(ENERO:DICIEMBRE!C44) -> 121 | D44: =SUM(ENERO:DICIEMBRE!D44) -> 6
A45: Grupo 3: Multípara, sin cesárea previa, embarazo único, cefálica, ≥37 semanas en trabajo de parto espontáneo | C45: =SUM(ENERO:DICIEMBRE!C45) -> 18 | D45: =SUM(ENERO:DICIEMBRE!D45) -> 27
A46: Grupo 4: Multípara, sin cesárea previa, embarazo único, cefálica, ≥37 semanas, cesárea programada o con inducción de trabajo de parto | B46: Césarea por inducción fracasada | C46: =SUM(ENERO:DICIEMBRE!C46) -> 1 | D46: =SUM(ENERO:DICIEMBRE!D46) -> 21
B47: Césarea programada | C47: =SUM(ENERO:DICIEMBRE!C47) -> 38 | D47: =SUM(ENERO:DICIEMBRE!D47) -> 6
A48: Grupo 5: multíparas con al menos 1 cesárea previa, embarazo unico, cefálica, ≥37 semanas | B48: 5.1: con 1 cesárea previa | C48: =SUM(ENERO:DICIEMBRE!C48) -> 147 | D48: =SUM(ENERO:DICIEMBRE!D48) -> 44
B49: 5.2: 2 o más cesareas previas | C49: =SUM(ENERO:DICIEMBRE!C49) -> 63 | D49: =SUM(ENERO:DICIEMBRE!D49) -> 11
A50: Grupo 6: Nulíparas, embarazo único, podálica | C50: =SUM(ENERO:DICIEMBRE!C50) -> 16 | D50: =SUM(ENERO:DICIEMBRE!D50) -> 4
A51: Grupo 7: Multíparas, embarazo único, podálica, con 1 o más cesáreas previas | C51: =SUM(ENERO:DICIEMBRE!C51) -> 11 | D51: =SUM(ENERO:DICIEMBRE!D51) -> 7
A52: Grupo 8: Todas las mujeres con embarazo múltiple, incluidas las que tienen 1 o más cesáreas previas | C52: =SUM(ENERO:DICIEMBRE!C52) -> 11 | D52: =SUM(ENERO:DICIEMBRE!D52) -> 3
A53: Grupo 9: Embarazo único, transverso y oblicuo, incluidas las que tienen una o mas cesáreas previas | C53: =SUM(ENERO:DICIEMBRE!C53) -> 4 | D53: =SUM(ENERO:DICIEMBRE!D53) -> 2
A54: Grupo 10: Todas las mujeres con embarazo único, cefálica, <37 semanas, incluidas las que tienen 1 o más cesáreas | C54: =SUM(ENERO:DICIEMBRE!C54) -> 8 | D54: =SUM(ENERO:DICIEMBRE!D54) -> 34
A55: Total cesáreas por requerimiento materno | B55: Nulípara | C55: =SUM(ENERO:DICIEMBRE!C55) -> 113 | D55: =SUM(ENERO:DICIEMBRE!D55) -> 22
B56: Multípara | C56: =SUM(ENERO:DICIEMBRE!C56) -> 154 | D56: =SUM(ENERO:DICIEMBRE!D56) -> 22
A57: Acompañamiento durante la cesárea | C57: =SUM(ENERO:DICIEMBRE!C57) -> 605 | D57: =SUM(ENERO:DICIEMBRE!D57) -> 83
A58: SECCION A.3: COMPLICACIONES
A59: TIPO DE COMPLICACIÓN | C59: Atención Institucional | F59: Parto en domicilio
C60: Parto Espontáneo | D60: Parto Inducido | E60: Césarea
A61: Hemorragia post parto | B61: Inercia | C61: =SUM(ENERO:DICIEMBRE!C61) -> 0 | D61: =SUM(ENERO:DICIEMBRE!D61) -> 0 | E61: =SUM(ENERO:DICIEMBRE!E61) -> 2 | F61: =SUM(ENERO:DICIEMBRE!F61) -> 0
B62: Restos | C62: =SUM(ENERO:DICIEMBRE!C62) -> 7 | D62: =SUM(ENERO:DICIEMBRE!D62) -> 7 | E62: =SUM(ENERO:DICIEMBRE!E62) -> 0 | F62: =SUM(ENERO:DICIEMBRE!F62) -> 6
B63: Trauma | C63: =SUM(ENERO:DICIEMBRE!C63) -> 0 | D63: =SUM(ENERO:DICIEMBRE!D63) -> 0 | E63: =SUM(ENERO:DICIEMBRE!E63) -> 0 | F63: =SUM(ENERO:DICIEMBRE!F63) -> 0
B64: Desgarros III y IV | C64: =SUM(ENERO:DICIEMBRE!C64) -> 1 | D64: =SUM(ENERO:DICIEMBRE!D64) -> 0 | E64: =SUM(ENERO:DICIEMBRE!E64) -> 0 | F64: =SUM(ENERO:DICIEMBRE!F64) -> 0
B65: Alteraciones de la coagulación | C65: =SUM(ENERO:DICIEMBRE!C65) -> 0 | D65: =SUM(ENERO:DICIEMBRE!D65) -> 0 | E65: =SUM(ENERO:DICIEMBRE!E65) -> 1 | F65: =SUM(ENERO:DICIEMBRE!F65) -> 0
A66: Preeclampsia severa | C66: =SUM(ENERO:DICIEMBRE!C66) -> 0 | D66: =SUM(ENERO:DICIEMBRE!D66) -> 1 | E66: =SUM(ENERO:DICIEMBRE!E66) -> 19 | F66: =SUM(ENERO:DICIEMBRE!F66) -> 0
A67: Eclampsia | C67: =SUM(ENERO:DICIEMBRE!C67) -> 0 | D67: =SUM(ENERO:DICIEMBRE!D67) -> 0 | E67: =SUM(ENERO:DICIEMBRE!E67) -> 1 | F67: =SUM(ENERO:DICIEMBRE!F67) -> 0
A68: Sepsis o infección sistémica grave | C68: =SUM(ENERO:DICIEMBRE!C68) -> 0 | D68: =SUM(ENERO:DICIEMBRE!D68) -> 0 | E68: =SUM(ENERO:DICIEMBRE!E68) -> 0 | F68: =SUM(ENERO:DICIEMBRE!F68) -> 0
A69: Manejo quirúrgico de la inercia uterina | C69: =SUM(ENERO:DICIEMBRE!C69) -> 0 | D69: =SUM(ENERO:DICIEMBRE!D69) -> 0 | E69: =SUM(ENERO:DICIEMBRE!E69) -> 1 | F69: =SUM(ENERO:DICIEMBRE!F69) -> 0
A70: Histerectomía obstétrica | C70: =SUM(ENERO:DICIEMBRE!C70) -> 0 | D70: =SUM(ENERO:DICIEMBRE!D70) -> 0 | E70: =SUM(ENERO:DICIEMBRE!E70) -> 2 | F70: =SUM(ENERO:DICIEMBRE!F70) -> 0
A71: Anemia severa postmetrorragia que requiere transfusión | C71: =SUM(ENERO:DICIEMBRE!C71) -> 3 | D71: =SUM(ENERO:DICIEMBRE!D71) -> 0 | E71: =SUM(ENERO:DICIEMBRE!E71) -> 0 | F71: =SUM(ENERO:DICIEMBRE!F71) -> 0
A72: SECCIÓN B: INTERRUPCIÓN VOLUNTARIA DEL EMBARAZO
A73: CAUSALES | B73: CONTINUA EMBARAZO | E73: INTERRUMPE EMBARAZO | H73: Beneficiarias | I73: Pueblos Originarios | J73: Migrantes | K73: Trans masculino | L73: Discapacidad
B74: Rango Etario | E74: Rango Etario
B75: Menor de 14 años | C75: 14 - 17 años | D75: 18 y más años | E75: Menor de 14 años | F75: 14 - 17 años | G75: 18 y más años
A76: TOTAL | B76: =SUM(B77:B79) -> 1 | C76: =SUM(C77:C79) -> 0 | D76: =SUM(D77:D79) -> 0 | E76: =SUM(E77:E79) -> 1 | F76: =SUM(F77:F79) -> 1 | G76: =SUM(G77:G79) -> 4 | H76: =SUM(H77:H79) -> 5 | I76: =SUM(I77:I79) -> 1 | ... L76: =SUM(L77:L79) -> 0
A77: Causal N° 1: Mujer embarazada con riesgo vital | B77: =SUM(ENERO:DICIEMBRE!B77) -> 0 | C77: =SUM(ENERO:DICIEMBRE!C77) -> 0 | D77: =SUM(ENERO:DICIEMBRE!D77) -> 0 | E77: =SUM(ENERO:DICIEMBRE!E77) -> 0 | F77: =SUM(ENERO:DICIEMBRE!F77) -> 0 | G77: =SUM(ENERO:DICIEMBRE!G77) -> 0 | H77: =SUM(ENERO:DICIEMBRE!H77) -> 0 | I77: =SUM(ENERO:DICIEMBRE!I77) -> 0 | ... L77: =SUM(ENERO:DICIEMBRE!L77) -> 0 | M77: =$CA77&CB77&CC77&CD77&CE77 | CA77: =IF(AND(SUM(E77:G77)>0,H77="")," * No olvide digitar la variable "&$H$73&""&". Digite cero si tiene.",IF(H77>SUM(E77:G77)," * La variable "&$H$73&""&" no puede ser mayor a la Suma de la variable "&$E$73&""&".","")) | CB77: =IF(AND(SUM(E77:G77)>0,I77="")," * No olvide digitar la variable Pueblos originarios. Digite cero si tiene.",IF(I77>SUM(E77:G77)," * La variable Pueblos originarios no puede ser mayor a la suma de la variable "&$E$73&""&".","")) | CC77: =IF(AND(SUM(E77:G77)>0,J77="")," * No olvide digitar la variable Migrantes. Digite cero si tiene.",IF(J77>SUM(E77:G77)," * La variable Migrantes no puede ser mayor a la suma de la variable "&$E$73&""&".","")) | CD77: =IF(AND(SUM($E77:$G77)>0,OR(K77=""))," * No olvide digitar la variable Trans Masculino. Digite Cero si no tiene.",IF(K77>SUM($E77:$G77)," * La variable Trans Masculino no puede ser mayor a la suma de la variable "&$E$73&""&".","")) | CE77: =IF(AND(SUM($E77:$G77)>0,OR(L77=""))," * No olvide digitar la variable "&$L$73&""&". Digite Cero si no tiene.",IF(L77>SUM($E77:$G77)," * La variable Discapacidad no puede ser mayor a la Suma de la variable "&$E$73&""&".","")) | CI77: =IF(AND(SUM($E77:$G77)>0,H77=""),1,IF(H77>SUM(E77:G77),1,0)) -> 0 | CJ77: =IF(AND(SUM(E77:G77)>0,I77=""),1,IF(I77>SUM(E77:G77),1,0)) -> 0 | CK77: =IF(AND(SUM(E77:G77)>0,J77=""),1,IF(J77>SUM(E77:G77),1,0)) -> 0 | CL77: =IF(AND(SUM($E77:$G77)>0,OR(K77="")),1,IF(K77>SUM($E77:$G77),1,0)) -> 0 | CM77: =IF(AND(SUM($E77:$G77)>0,OR(L77="")),1,IF(L77>SUM($E77:$G77),1,0)) -> 0
A78: Causal N° 2: Inviabilidad fetal de carácter letal | B78: =SUM(ENERO:DICIEMBRE!B78) -> 0 | C78: =SUM(ENERO:DICIEMBRE!C78) -> 0 | D78: =SUM(ENERO:DICIEMBRE!D78) -> 0 | E78: =SUM(ENERO:DICIEMBRE!E78) -> 0 | F78: =SUM(ENERO:DICIEMBRE!F78) -> 0 | G78: =SUM(ENERO:DICIEMBRE!G78) -> 3 | H78: =SUM(ENERO:DICIEMBRE!H78) -> 3 | I78: =SUM(ENERO:DICIEMBRE!I78) -> 0 | ... L78: =SUM(ENERO:DICIEMBRE!L78) -> 0 | M78: =$CA78&CB78&CC78&CD78&CE78 | CA78: =IF(AND(SUM(E78:G78)>0,H78="")," * No olvide digitar la variable "&$H$73&""&". Digite cero si tiene.",IF(H78>SUM(E78:G78)," * La variable "&$H$73&""&" no puede ser mayor a la Suma de la variable "&$E$73&""&".","")) | CB78: =IF(AND(SUM(E78:G78)>0,I78="")," * No olvide digitar la variable Pueblos originarios. Digite cero si tiene.",IF(I78>SUM(E78:G78)," * La variable Pueblos originarios no puede ser mayor a la suma de la variable "&$E$73&""&".","")) | CC78: =IF(AND(SUM(E78:G78)>0,J78="")," * No olvide digitar la variable Migrantes. Digite cero si tiene.",IF(J78>SUM(E78:G78)," * La variable Migrantes no puede ser mayor a la suma de la variable "&$E$73&""&".","")) | CD78: =IF(AND(SUM($E78:$G78)>0,OR(K78=""))," * No olvide digitar la variable Trans Masculino. Digite Cero si no tiene.",IF(K78>SUM($E78:$G78)," * La variable Trans Masculino no puede ser mayor a la suma de la variable "&$E$73&""&".","")) | CE78: =IF(AND(SUM($E78:$G78)>0,OR(L78=""))," * No olvide digitar la variable "&$L$73&""&". Digite Cero si no tiene.",IF(L78>SUM($E78:$G78)," * La variable Discapacidad no puede ser mayor a la Suma de la variable "&$E$73&""&".","")) | CI78: =IF(AND(SUM($E78:$G78)>0,H78=""),1,IF(H78>SUM(E78:G78),1,0)) -> 0 | CJ78: =IF(AND(SUM(E78:G78)>0,I78=""),1,IF(I78>SUM(E78:G78),1,0)) -> 0 | CK78: =IF(AND(SUM(E78:G78)>0,J78=""),1,IF(J78>SUM(E78:G78),1,0)) -> 0 | CL78: =IF(AND(SUM($E78:$G78)>0,OR(K78="")),1,IF(K78>SUM($E78:$G78),1,0)) -> 0 | CM78: =IF(AND(SUM($E78:$G78)>0,OR(L78="")),1,IF(L78>SUM($E78:$G78),1,0)) -> 0
A79: Causal N° 3: Por violación | B79: =SUM(ENERO:DICIEMBRE!B79) -> 1 | C79: =SUM(ENERO:DICIEMBRE!C79) -> 0 | D79: =SUM(ENERO:DICIEMBRE!D79) -> 0 | E79: =SUM(ENERO:DICIEMBRE!E79) -> 1 | F79: =SUM(ENERO:DICIEMBRE!F79) -> 1 | G79: =SUM(ENERO:DICIEMBRE!G79) -> 1 | H79: =SUM(ENERO:DICIEMBRE!H79) -> 2 | I79: =SUM(ENERO:DICIEMBRE!I79) -> 1 | ... L79: =SUM(ENERO:DICIEMBRE!L79) -> 0 | M79: =$CA79&CB79&CC79&CD79&CE79 | CA79: =IF(AND(SUM(E79:G79)>0,H79="")," * No olvide digitar la variable "&$H$73&""&". Digite cero si tiene.",IF(H79>SUM(E79:G79)," * La variable "&$H$73&""&" no puede ser mayor a la Suma de la variable "&$E$73&""&""&".","")) | CB79: =IF(AND(SUM(E79:G79)>0,I79="")," * No olvide digitar la variable Pueblos originarios. Digite cero si tiene.",IF(I79>SUM(E79:G79)," * La variable Pueblos originarios no puede ser mayor a la suma de la variable "&$E$73&""&".","")) | CC79: =IF(AND(SUM(E79:G79)>0,J79="")," * No olvide digitar la variable Migrantes. Digite cero si tiene.",IF(J79>SUM(E79:G79)," * La variable Migrantes no puede ser mayor a la suma de la variable "&$E$73&""&".","")) | CD79: =IF(AND(SUM($E79:$G79)>0,OR(K79=""))," * No olvide digitar la variable Trans Masculino. Digite Cero si no tiene.",IF(K79>SUM($E79:$G79)," * La variable Trans Masculino no puede ser mayor a la suma de la variable"&$E$73&""&".","")) | CE79: =IF(AND(SUM($E79:$G79)>0,OR(L79=""))," * No olvide digitar la variable "&$L$73&""&". Digite Cero si no tiene.",IF(L79>SUM($E79:$G79)," * La variable Discapacidad no puede ser mayor a la Suma de la variable "&$E$73&""&".","")) | CI79: =IF(AND(SUM($E79:$G79)>0,H79=""),1,IF(H79>SUM(E79:G79),1,0)) -> 0 | CJ79: =IF(AND(SUM(E79:G79)>0,I79=""),1,IF(I79>SUM(E79:G79),1,0)) -> 0 | CK79: =IF(AND(SUM(E79:G79)>0,J79=""),1,IF(J79>SUM(E79:G79),1,0)) -> 0 | CL79: =IF(AND(SUM($E79:$G79)>0,OR(K79="")),1,IF(K79>SUM($E79:$G79),1,0)) -> 0 | CM79: =IF(AND(SUM($E79:$G79)>0,OR(L79="")),1,IF(L79>SUM($E79:$G79),1,0)) -> 0
A80: SECCIÓN B.1 PROGAMA DE ACOMPAÑAMIENTO IVE
A81: ATENCIONES DE ACOMPAÑAMIENTO | B81: RANGO ETARIO | E81: CAUSAL IVE GESTANTE ATENDIDA
B82: Menor de 14 años | C82: 14 - 17 años | D82: 18 y más años | E82: Causal 1 | F82: Causal 2 | G82: Causal 3
A83: TOTAL | B83: =B84+B85+B86+B87+B88 -> 5 | C83: =C84+C85+C86+C87+C88 -> 1 | D83: =D84+D85+D86+D87+D88 -> 36 | E83: =E84+E85+E86+E87+E88 -> 0 | F83: =F84+F85+F86+F87+F88 -> 31 | G83: =G84+G85+G86+G87+G88 -> 10
A84: Atención por psiquiatra | B84: =SUM(ENERO:DICIEMBRE!B84) -> 0 | C84: =SUM(ENERO:DICIEMBRE!C84) -> 0 | D84: =SUM(ENERO:DICIEMBRE!D84) -> 2 | E84: =SUM(ENERO:DICIEMBRE!E84) -> 0 | F84: =SUM(ENERO:DICIEMBRE!F84) -> 2 | G84: =SUM(ENERO:DICIEMBRE!G84) -> 0
A85: Atención por psicólogo(a) | B85: =SUM(ENERO:DICIEMBRE!B85) -> 0 | C85: =SUM(ENERO:DICIEMBRE!C85) -> 0 | D85: =SUM(ENERO:DICIEMBRE!D85) -> 12 | E85: =SUM(ENERO:DICIEMBRE!E85) -> 0 | F85: =SUM(ENERO:DICIEMBRE!F85) -> 11 | G85: =SUM(ENERO:DICIEMBRE!G85) -> 1
A86: Atención por trabajador(a) social | B86: =SUM(ENERO:DICIEMBRE!B86) -> 0 | C86: =SUM(ENERO:DICIEMBRE!C86) -> 0 | D86: =SUM(ENERO:DICIEMBRE!D86) -> 5 | E86: =SUM(ENERO:DICIEMBRE!E86) -> 0 | F86: =SUM(ENERO:DICIEMBRE!F86) -> 5 | G86: =SUM(ENERO:DICIEMBRE!G86) -> 0
A87: Atención por Dupla (psicólogo(a) + trabajador(a) social) | B87: =SUM(ENERO:DICIEMBRE!B87) -> 3 | C87: =SUM(ENERO:DICIEMBRE!C87) -> 0 | D87: =SUM(ENERO:DICIEMBRE!D87) -> 11 | E87: =SUM(ENERO:DICIEMBRE!E87) -> 0 | F87: =SUM(ENERO:DICIEMBRE!F87) -> 7 | G87: =SUM(ENERO:DICIEMBRE!G87) -> 7
A88: Visita Domiciliaria | B88: =SUM(ENERO:DICIEMBRE!B88) -> 2 | C88: =SUM(ENERO:DICIEMBRE!C88) -> 1 | D88: =SUM(ENERO:DICIEMBRE!D88) -> 6 | E88: =SUM(ENERO:DICIEMBRE!E88) -> 0 | F88: =SUM(ENERO:DICIEMBRE!F88) -> 6 | G88: =SUM(ENERO:DICIEMBRE!G88) -> 2
A89: SECCIÓN C: MÉTODO ANTICONCEPTIVO AL ALTA
A90: MÉTODO ANTICONCEPTIVO | C90: Post Aborto | D90: Intracesárea | E90: Post Parto | F90: Post IVE | G90: RANGO ETARIO
G91: < 15 años | H91: 15-19 años | I91: 20 y más años
A92: DIU con Cobre | C92: =SUM(ENERO:DICIEMBRE!C92) -> 0 | E92: =SUM(ENERO:DICIEMBRE!E92) -> 0 | F92: =SUM(ENERO:DICIEMBRE!F92) -> 0 | G92: =SUM(ENERO:DICIEMBRE!G92) -> 0 | H92: =SUM(ENERO:DICIEMBRE!H92) -> 0 | I92: =SUM(ENERO:DICIEMBRE!I92) -> 0
A93: DIU con Levonorgestrel | C93: =SUM(ENERO:DICIEMBRE!C93) -> 0 | E93: =SUM(ENERO:DICIEMBRE!E93) -> 0 | F93: =SUM(ENERO:DICIEMBRE!F93) -> 0 | G93: =SUM(ENERO:DICIEMBRE!G93) -> 0 | H93: =SUM(ENERO:DICIEMBRE!H93) -> 0 | I93: =SUM(ENERO:DICIEMBRE!I93) -> 0
A94: Hormonal | B94: Oral Combinado | C94: =SUM(ENERO:DICIEMBRE!C94) -> 0 | E94: =SUM(ENERO:DICIEMBRE!E94) -> 0 | F94: =SUM(ENERO:DICIEMBRE!F94) -> 0 | G94: =SUM(ENERO:DICIEMBRE!G94) -> 0 | H94: =SUM(ENERO:DICIEMBRE!H94) -> 0 | I94: =SUM(ENERO:DICIEMBRE!I94) -> 0
B95: Oral Progestágeno | C95: =SUM(ENERO:DICIEMBRE!C95) -> 0 | E95: =SUM(ENERO:DICIEMBRE!E95) -> 0 | F95: =SUM(ENERO:DICIEMBRE!F95) -> 0 | G95: =SUM(ENERO:DICIEMBRE!G95) -> 0 | H95: =SUM(ENERO:DICIEMBRE!H95) -> 0 | I95: =SUM(ENERO:DICIEMBRE!I95) -> 0
B96: Inyectable Combinado | C96: =SUM(ENERO:DICIEMBRE!C96) -> 0 | E96: =SUM(ENERO:DICIEMBRE!E96) -> 0 | F96: =SUM(ENERO:DICIEMBRE!F96) -> 0 | G96: =SUM(ENERO:DICIEMBRE!G96) -> 0 | H96: =SUM(ENERO:DICIEMBRE!H96) -> 0 | I96: =SUM(ENERO:DICIEMBRE!I96) -> 0
B97: Inyectable Progestágeno | C97: =SUM(ENERO:DICIEMBRE!C97) -> 0 | E97: =SUM(ENERO:DICIEMBRE!E97) -> 0 | F97: =SUM(ENERO:DICIEMBRE!F97) -> 0 | G97: =SUM(ENERO:DICIEMBRE!G97) -> 0 | H97: =SUM(ENERO:DICIEMBRE!H97) -> 0 | I97: =SUM(ENERO:DICIEMBRE!I97) -> 0
B98: Implante Etonogestrel (3 años) | C98: =SUM(ENERO:DICIEMBRE!C98) -> 0 | E98: =SUM(ENERO:DICIEMBRE!E98) -> 11 | F98: =SUM(ENERO:DICIEMBRE!F98) -> 0 | G98: =SUM(ENERO:DICIEMBRE!G98) -> 0 | H98: =SUM(ENERO:DICIEMBRE!H98) -> 9 | I98: =SUM(ENERO:DICIEMBRE!I98) -> 2
B99: Implante Levonorgestrel (5 años) | C99: =SUM(ENERO:DICIEMBRE!C99) -> 0 | E99: =SUM(ENERO:DICIEMBRE!E99) -> 0 | F99: =SUM(ENERO:DICIEMBRE!F99) -> 0 | G99: =SUM(ENERO:DICIEMBRE!G99) -> 0 | H99: =SUM(ENERO:DICIEMBRE!H99) -> 0 | I99: =SUM(ENERO:DICIEMBRE!I99) -> 0
B100: Anillo de Progestágeno | C100: =SUM(ENERO:DICIEMBRE!C100) -> 0 | E100: =SUM(ENERO:DICIEMBRE!E100) -> 0 | F100: =SUM(ENERO:DICIEMBRE!F100) -> 0 | G100: =SUM(ENERO:DICIEMBRE!G100) -> 0 | H100: =SUM(ENERO:DICIEMBRE!H100) -> 0 | I100: =SUM(ENERO:DICIEMBRE!I100) -> 0
A101: Métodos de barrera | C101: =SUM(ENERO:DICIEMBRE!C101) -> 0 | E101: =SUM(ENERO:DICIEMBRE!E101) -> 0 | F101: =SUM(ENERO:DICIEMBRE!F101) -> 0 | G101: =SUM(ENERO:DICIEMBRE!G101) -> 0 | H101: =SUM(ENERO:DICIEMBRE!H101) -> 0 | I101: =SUM(ENERO:DICIEMBRE!I101) -> 0
...

Sheet ENERO
A1: SERVICIO DE SALUD
A2: =CONCATENATE("COMUNA: ",[2]NOMBRE!B2, " (",[2]NOMBRE!C2,[2]NOMBRE!D2,[2]NOMBRE!E2,[2]NOMBRE!F2,[2]NOMBRE!G2,")") -> COMUNA: LINARES (07401)
A3: =CONCATENATE("ESTABLECIMIENTO/ESTRATEGIA: ", [2]NOMBRE!B3, " (",[2]NOMBRE!C3,[2]NOMBRE!D3,[2]NOMBRE!E3,[2]NOMBRE!F3,[2]NOMBRE!G3,[2]NOMBRE!H3,")") -> ESTABLECIMIENTO/ESTRATEGIA: HOSPITAL PRESIDENTE CARLOS IBAÑEZ DEL CAMPO (116108)
A4: =CONCATENATE("MES: ",[2]NOMBRE!B6, " (",[2]NOMBRE!C6,[2]NOMBRE!D6,")") -> MES: ENERO (01)
A5: =CONCATENATE("AÑO: ",[2]NOMBRE!B7) -> AÑO: 2025
A6: REM-A24. ATENCIÓN OBSTÉTRICA Y DEL RECIÉN NACIDO
A8: SECCIÓN A: INFORMACIÓN GENERAL DE PARTOS
A9: CARACTERISTICAS DEL PARTO | C9: TOTAL | D9: PARTOS SEGÚN EDAD DE LA MADRE | H9: PARTOS PREMATUROS (CONSIDERAR SOBRE 22 SEMANAS) | L9: Uso de oxitocina profiláctica | M9: ANESTESIA Y/O ANALGESIA DEL PARTO (MEDIDAS FARMACOLÓGICAS Y NO FARMACOLÓGICAS) | S9: Ligadura tardía del cordón (> a 60 segundos) | T9: CONTACTO INMEDIATO PIEL A PIEL >30 MINUTOS | X9: Lactancia materna en los primeros 60 minutos de vida (RN con peso de 2.500 grs. o más) | Y9: Alojamiento conjunto en puerperio inmediato | Z9: Atención con pertinencia cultural | AA9: Pueblos Originarios | AB9: Migrantes | AC9: Discapacidad | AD9: Privada de Libertad | AE9: Identidad de Género
D10: < 15 años | E10: 15 - 19 años | F10: 20 - 34 años | G10: ≥35 años | H10: Partos prematuros menos de 24 semanas | I10: Partos prematuros de 24 a 28 semanas | J10: Partos prematuros de 29 a 32 semanas | K10: Partos prematuros de 33 a 36 semanas | M10: Anestesia Neuroaxial | N10: Óxido nitroso | O10: Analgesia endovenosa | P10: General | Q10: Local | R10: Medidas no farmacológicas | T10: Con la Madre | V10: Con el padre o acompañante significativo
T11: RN peso menor o igual a 2.499 grs. | U11: RN con peso de 2.500 grs. o más | V11: RN peso menor o igual a 2.499 grs. | W11: RN con peso de 2.500 grs. o más | AE11: Trans masculino | AF11: No binarie
A12: TOTAL PARTOS | C12: =SUM(C13:C16) -> 139 | D12: =SUM(D13:D16) -> 0 | E12: =SUM(E13:E16) -> 4 | F12: =SUM(F13:F16) -> 111 | G12: =SUM(G13:G16) -> 24 | H12: =SUM(H13:H16) -> 0 | I12: =SUM(I13:I16) -> 1 | J12: =SUM(J13:J16) -> 0 | ... AF12: =SUM(AF13:AF16) -> 0
A13: Vaginal | C13: 51 | D13: 0 | E13: 4 | F13: 41 | G13: 6 | I13: 1 | K13: 6 | L13: 51 | M13: 42 | N13: 0 | O13: 0 | P13: 0 | Q13: 25 | R13: 51 | S13: 0 | T13: 1 | U13: 48 | V13: 3 | W13: 6 | X13: 43 | Y13: 45 | Z13: 0 | AA13: 0 | AB13: 3 | AC13: 0 | AD13: 0 | AE13: 0 | AF13: 0 | AG13: =$CA13&CB13&CC13&CD13&CE13 | CA13: =IF(AND(C13>0,AA13="")," * No olvide digitar la variable Pueblos originarios. Digite Cero si no tiene.",IF(AA13>C13," * La variable Pueblos originarios no puede ser mayor al Total.","")) | CB13: =IF(AND(C13>0,AB13="")," * No olvide digitar la variable Migrantes. Digite Cero si no tiene.",IF(AB13>C13," * La variable Migrantes no puede ser mayor al Total.","")) | CC13: =IF(AND($C13>0,OR(AC13=""))," * No olvide digitar la variable "&$AC$9&""&". Digite Cero si no tiene.",IF(OR(AC13>$C13)," * La variable Discapacidad no puede ser mayor al Total.","")) | CD13: =IF(AND($C13>0,OR(AD13=""))," * No olvide digitar la variable "&$AD$9&""&". Digite Cero si no tiene.",IF(OR(AD13>$C13)," * La variable "&$AD$9&""&" no puede ser mayor al Total.","")) | CE13: =IF(AND($C13>0,OR(AE13="",AF13=""))," * No olvide digitar la variable "&$AE$9&""&". Digite Cero si no tiene.",IF(OR(AE13+AF13>$C13)," * La variable "&$AE$9&""&" no puede ser mayor al Total.","")) | CI13: =IF(AND($C13>0,AA13=""),1,IF(AA13>$C13,1,0)) -> 0 | CJ13: =IF(AND($C13>0,AB13=""),1,IF(AB13>$C13,1,0)) -> 0 | CK13: =IF(AND($C13>0,AC13=""),1,IF(AC13>$C13,1,0)) -> 0 | CL13: =IF(AND($C13>0,AD13=""),1,IF(AD13>$C13,1,0)) -> 0 | CM13: =IF(AND($C13>0,AE13="",AF13=""),1,IF(AE13+AF13>$C13,1,0)) -> 0
A14: Instrumental | C14: 1 | D14: 0 | E14: 0 | F14: 1 | G14: 0 | L14: 1 | M14: 1 | N14: 0 | O14: 0 | P14: 0 | Q14: 1 | R14: 1 | S14: 0 | T14: 0 | U14: 0 | V14: 0 | W14: 0 | X14: 0 | Y14: 1 | Z14: 0 | AA14: 0 | AB14: 0 | AC14: 0 | AD14: 0 | AE14: 0 | AF14: 0 | AG14: =$CA14&CB14&CC14&CD14&CE14 | CA14: =IF(AND(C14>0,AA14="")," * No olvide digitar la variable Pueblos originarios. Digite Cero si no tiene.",IF(AA14>C14," * La variable Pueblos originarios no puede ser mayor al Total.","")) | CB14: =IF(AND(C14>0,AB14="")," * No olvide digitar la variable Migrantes. Digite Cero si no tiene.",IF(AB14>C14," * La variable Migrantes no puede ser mayor al Total.","")) | CC14: =IF(AND($C14>0,OR(AC14=""))," * No olvide digitar la variable "&$AC$9&""&". Digite Cero si no tiene.",IF(OR(AC14>$C14)," * La variable Discapacidad no puede ser mayor al Total.","")) | CD14: =IF(AND($C14>0,OR(AD14=""))," * No olvide digitar la variable "&$AD$9&""&". Digite Cero si no tiene.",IF(OR(AD14>$C14)," * La variable "&$AD$9&""&" no puede ser mayor al Total.","")) | CE14: =IF(AND($C14>0,OR(AE14="",AF14=""))," * No olvide digitar la variable "&$AE$9&""&". Digite Cero si no tiene.",IF(OR(AE14+AF14>$C14)," * La variable "&$AE$9&""&" no puede ser mayor al Total.","")) | CI14: =IF(AND($C14>0,AA14=""),1,IF(AA14>$C14,1,0)) -> 0 | CJ14: =IF(AND($C14>0,AB14=""),1,IF(AB14>$C14,1,0)) -> 0 | CK14: =IF(AND($C14>0,AC14=""),1,IF(AC14>$C14,1,0)) -> 0 | CL14: =IF(AND($C14>0,AD14=""),1,IF(AD14>$C14,1,0)) -> 0 | CM14: =IF(AND($C14>0,AE14="",AF14=""),1,IF(AE14+AF14>$C14,1,0)) -> 0
A15: Cesárea Electiva | C15: 57 | D15: 0 | E15: 0 | F15: 43 | G15: 14 | L15: 57 | M15: 58 | N15: 0 | O15: 0 | P15: 0 | Q15: 0 | R15: 0 | S15: 0 | T15: 0 | U15: 55 | V15: 0 | W15: 56 | X15: 0 | Y15: 57 | Z15: 0 | AA15: 0 | AB15: 2 | AC15: 0 | AD15: 0 | AE15: 0 | AF15: 0 | AG15: =$CA15&CB15&CC15&CD15&CE15 | CA15: =IF(AND(C15>0,AA15="")," * No olvide digitar la variable Pueblos originarios. Digite Cero si no tiene.",IF(AA15>C15," * La variable Pueblos originarios no puede ser mayor al Total.","")) | CB15: =IF(AND(C15>0,AB15="")," * No olvide digitar la variable Migrantes. Digite Cero si no tiene.",IF(AB15>C15," * La variable Migrantes no puede ser mayor al Total.","")) | CC15: =IF(AND($C15>0,OR(AC15=""))," * No olvide digitar la variable "&$AC$9&""&". Digite Cero si no tiene.",IF(OR(AC15>$C15)," * La variable Discapacidad no puede ser mayor al Total.","")) | CD15: =IF(AND($C15>0,OR(AD15=""))," * No olvide digitar la variable "&$AD$9&""&". Digite Cero si no tiene.",IF(OR(AD15>$C15)," * La variable "&$AD$9&""&" no puede ser mayor al Total.","")) | CE15: =IF(AND($C15>0,OR(AE15="",AF15=""))," * No olvide digitar la variable "&$AE$9&""&". Digite Cero si no tiene.",IF(OR(AE15+AF15>$C15)," * La variable "&$AE$9&""&" no puede ser mayor al Total.","")) | CI15: =IF(AND($C15>0,AA15=""),1,IF(AA15>$C15,1,0)) -> 0 | CJ15: =IF(AND($C15>0,AB15=""),1,IF(AB15>$C15,1,0)) -> 0 | CK15: =IF(AND($C15>0,AC15=""),1,IF(AC15>$C15,1,0)) -> 0 | CL15: =IF(AND($C15>0,AD15=""),1,IF(AD15>$C15,1,0)) -> 0 | CM15: =IF(AND($C15>0,AE15="",AF15=""),1,IF(AE15+AF15>$C15,1,0)) -> 0
A16: Cesárea Urgencia | C16: 30 | D16: 0 | E16: 0 | F16: 26 | G16: 4 | K16: 5 | L16: 30 | M16: 29 | N16: 0 | O16: 0 | P16: 2 | Q16: 0 | R16: 0 | S16: 0 | T16: 1 | U16: 24 | V16: 3 | W16: 25 | X16: 0 | Y16: 26 | Z16: 0 | AA16: 0 | AB16: 2 | AC16: 0 | AD16: 0 | AE16: 0 | AF16: 0 | AG16: =$CA16&CB16&CC16&CD16&CE16 | CA16: =IF(AND(C16>0,AA16="")," * No olvide digitar la variable Pueblos originarios. Digite Cero si no tiene.",IF(AA16>C16," * La variable Pueblos originarios no puede ser mayor al Total.","")) | CB16: =IF(AND(C16>0,AB16="")," * No olvide digitar la variable Migrantes. Digite Cero si no tiene.",IF(AB16>C16," * La variable Migrantes no puede ser mayor al Total.","")) | CC16: =IF(AND($C16>0,OR(AC16=""))," * No olvide digitar la variable "&$AC$9&""&". Digite Cero si no tiene.",IF(OR(AC16>$C16)," * La variable Discapacidad no puede ser mayor al Total.","")) | CD16: =IF(AND($C16>0,OR(AD16=""))," * No olvide digitar la variable "&$AD$9&""&". Digite Cero si no tiene.",IF(OR(AD16>$C16)," * La variable "&$AD$9&""&" no puede ser mayor al Total.","")) | CE16: =IF(AND($C16>0,OR(AE16="",AF16=""))," * No olvide digitar la variable "&$AE$9&""&". Digite Cero si no tiene.",IF(OR(AE16+AF16>$C16)," * La variable "&$AE$9&""&" no puede ser mayor al Total.","")) | CI16: =IF(AND($C16>0,AA16=""),1,IF(AA16>$C16,1,0)) -> 0 | CJ16: =IF(AND($C16>0,AB16=""),1,IF(AB16>$C16,1,0)) -> 0 | CK16: =IF(AND($C16>0,AC16=""),1,IF(AC16>$C16,1,0)) -> 0 | CL16: =IF(AND($C16>0,AD16=""),1,IF(AD16>$C16,1,0)) -> 0 | CM16: =IF(AND($C16>0,AE16="",AF16=""),1,IF(AE16+AF16>$C16,1,0)) -> 0
A17: Parto prehospitalario (en establecimientos salud o ambulancias) | C17: 0 | D17: 0 | E17: 0 | F17: 0 | G17: 0 | L17: 0 | M17: 0 | N17: 0 | O17: 0 | P17: 0 | Q17: 0 | R17: 0 | S17: 0 | AG17: =$CA17&CB17&CC17&CD17&CE17 | CA17: =IF(AND(C17>0,AA17="")," * No olvide digitar la variable Pueblos originarios. Digite Cero si no tiene.",IF(AA17>C17," * La variable Pueblos originarios no puede ser mayor al Total.","")) | CB17: =IF(AND(C17>0,AB17="")," * No olvide digitar la variable Migrantes. Digite Cero si no tiene.",IF(AB17>C17," * La variable Migrantes no puede ser mayor al Total.","")) | CC17: =IF(AND($C17>0,OR(AC17=""))," * No olvide digitar la variable "&$AC$9&""&". Digite Cero si no tiene.",IF(OR(AC17>$C17)," * La variable Discapacidad no puede ser mayor al Total.","")) | CD17: =IF(AND($C17>0,OR(AD17=""))," * No olvide digitar la variable "&$AD$9&""&". Digite Cero si no tiene.",IF(OR(AD17>$C17)," * La variable "&$AD$9&""&" no puede ser mayor al Total.","")) | CE17: =IF(AND($C17>0,OR(AE17="",AF17=""))," * No olvide digitar la variable "&$AE$9&""&". Digite Cero si no tiene.",IF(OR(AE17+AF17>$C17)," * La variable "&$AE$9&""&" no puede ser mayor al Total.","")) | CI17: =IF(AND($C17>0,AA17=""),1,IF(AA17>$C17,1,0)) -> 0 | CJ17: =IF(AND($C17>0,AB17=""),1,IF(AB17>$C17,1,0)) -> 0 | CK17: =IF(AND($C17>0,AC17=""),1,IF(AC17>$C17,1,0)) -> 0 | CL17: =IF(AND($C17>0,AD17=""),1,IF(AD17>$C17,1,0)) -> 0 | CM17: =IF(AND($C17>0,AE17="",AF17=""),1,IF(AE17+AF17>$C17,1,0)) -> 0
A18: Partos fuera de la red de salud | C18: 0 | D18: 0 | E18: 0 | F18: 0 | G18: 0 | L18: 0 | M18: 0 | N18: 0 | O18: 0 | P18: 0 | Q18: 0 | R18: 0 | S18: 0 | AG18: =$CA18&CB18&CC18&CD18&CE18 | CA18: =IF(AND(C18>0,AA18="")," * No olvide digitar la variable Pueblos originarios. Digite Cero si no tiene.",IF(AA18>C18," * La variable Pueblos originarios no puede ser mayor al Total.","")) | CB18: =IF(AND(C18>0,AB18="")," * No olvide digitar la variable Migrantes. Digite Cero si no tiene.",IF(AB18>C18," * La variable Migrantes no puede ser mayor al Total.","")) | CC18: =IF(AND($C18>0,OR(AC18=""))," * No olvide digitar la variable "&$AC$9&""&". Digite Cero si no tiene.",IF(OR(AC18>$C18)," * La variable Discapacidad no puede ser mayor al Total.","")) | CD18: =IF(AND($C18>0,OR(AD18=""))," * No olvide digitar la variable "&$AD$9&""&". Digite Cero si no tiene.",IF(OR(AD18>$C18)," * La variable "&$AD$9&""&" no puede ser mayor al Total.","")) | CE18: =IF(AND($C18>0,OR(AE18="",AF18=""))," * No olvide digitar la variable "&$AE$9&""&". Digite Cero si no tiene.",IF(OR(AE18+AF18>$C18)," * La variable "&$AE$9&""&" no puede ser mayor al Total.","")) | CI18: =IF(AND($C18>0,AA18=""),1,IF(AA18>$C18,1,0)) -> 0 | CJ18: =IF(AND($C18>0,AB18=""),1,IF(AB18>$C18,1,0)) -> 0 | CK18: =IF(AND($C18>0,AC18=""),1,IF(AC18>$C18,1,0)) -> 0 | CL18: =IF(AND($C18>0,AD18=""),1,IF(AD18>$C18,1,0)) -> 0 | CM18: =IF(AND($C18>0,AE18="",AF18=""),1,IF(AE18+AF18>$C18,1,0)) -> 0
A19: Plan de parto | C19: 29 | D19: 0 | E19: 0 | F19: 25 | G19: 4 | L19: 0 | M19: 0 | N19: 0 | O19: 0 | P19: 0 | Q19: 0 | R19: 0 | S19: 0 | AA19: 0 | AB19: 0 | AC19: 0 | AD19: 0 | AE19: 0 | AF19: 0 | AG19: =$CA19&CB19&CC19&CD19&CE19 | CA19: =IF(AND(C19>0,AA19="")," * No olvide digitar la variable Pueblos originarios. Digite Cero si no tiene.",IF(AA19>C19," * La variable Pueblos originarios no puede ser mayor al Total.","")) | CB19: =IF(AND(C19>0,AB19="")," * No olvide digitar la variable Migrantes. Digite Cero si no tiene.",IF(AB19>C19," * La variable Migrantes no puede ser mayor al Total.","")) | CC19: =IF(AND($C19>0,OR(AC19=""))," * No olvide digitar la variable "&$AC$9&""&". Digite Cero si no tiene.",IF(OR(AC19>$C19)," * La variable Discapacidad no puede ser mayor al Total.","")) | CD19: =IF(AND($C19>0,OR(AD19=""))," * No olvide digitar la variable "&$AD$9&""&". Digite Cero si no tiene.",IF(OR(AD19>$C19)," * La variable "&$AD$9&""&" no puede ser mayor al Total.","")) | CE19: =IF(AND($C19>0,OR(AE19="",AF19=""))," * No olvide digitar la variable "&$AE$9&""&". Digite Cero si no tiene.",IF(OR(AE19+AF19>$C19)," * La variable "&$AE$9&""&" no puede ser mayor al Total.","")) | CI19: =IF(AND($C19>0,AA19=""),1,IF(AA19>$C19,1,0)) -> 0 | CJ19: =IF(AND($C19>0,AB19=""),1,IF(AB19>$C19,1,0)) -> 0 | CK19: =IF(AND($C19>0,AC19=""),1,IF(AC19>$C19,1,0)) -> 0 | CL19: =IF(AND($C19>0,AD19=""),1,IF(AD19>$C19,1,0)) -> 0 | CM19: =IF(AND($C19>0,AE19="",AF19=""),1,IF(AE19+AF19>$C19,1,0)) -> 0
A20: Entrega de placenta a solicitud | C20: 0 | D20: 0 | E20: 0 | F20: 0 | G20: 0 | L20: 0 | M20: 0 | N20: 0 | O20: 0 | P20: 0 | Q20: 0 | R20: 0 | S20: 0 | AG20: =$CA20&CB20&CC20&CD20&CE20 | CA20: =IF(AND(C20>0,AA20="")," * No olvide digitar la variable Pueblos originarios. Digite Cero si no tiene.",IF(AA20>C20," * La variable Pueblos originarios no puede ser mayor al Total.","")) | CB20: =IF(AND(C20>0,AB20="")," * No olvide digitar la variable Migrantes. Digite Cero si no tiene.",IF(AB20>C20," * La variable Migrantes no puede ser mayor al Total.","")) | CC20: =IF(AND($C20>0,OR(AC20=""))," * No olvide digitar la variable "&$AC$9&""&". Digite Cero si no tiene.",IF(OR(AC20>$C20)," * La variable Discapacidad no puede ser mayor al Total.","")) | CD20: =IF(AND($C20>0,OR(AD20=""))," * No olvide digitar la variable "&$AD$9&""&". Digite Cero si no tiene.",IF(OR(AD20>$C20)," * La variable "&$AD$9&""&" no puede ser mayor al Total.","")) | CE20: =IF(AND($C20>0,OR(AE20="",AF20=""))," * No olvide digitar la variable "&$AE$9&""&". Digite Cero si no tiene.",IF(OR(AE20+AF20>$C20)," * La variable "&$AE$9&""&" no puede ser mayor al Total.","")) | CI20: =IF(AND($C20>0,AA20=""),1,IF(AA20>$C20,1,0)) -> 0 | CJ20: =IF(AND($C20>0,AB20=""),1,IF(AB20>$C20,1,0)) -> 0 | CK20: =IF(AND($C20>0,AC20=""),1,IF(AC20>$C20,1,0)) -> 0 | CL20: =IF(AND($C20>0,AD20=""),1,IF(AD20>$C20,1,0)) -> 0 | CM20: =IF(AND($C20>0,AE20="",AF20=""),1,IF(AE20+AF20>$C20,1,0)) -> 0
A21: Embarazo no controlado | C21: 1 | D21: 0 | E21: 0 | F21: 1 | G21: 0 | L21: 0 | M21: 0 | N21: 0 | O21: 0 | P21: 0 | Q21: 0 | R21: 0 | S21: 0 | AA21: 0 | AB21: 0 | AC21: 0 | AD21: 0 | AE21: 0 | AF21: 0 | AG21: =$CA21&CB21&CC21&CD21&CE21 | CA21: =IF(AND(C21>0,AA21="")," * No olvide digitar la variable Pueblos originarios. Digite Cero si no tiene.",IF(AA21>C21," * La variable Pueblos originarios no puede ser mayor al Total.","")) | CB21: =IF(AND(C21>0,AB21="")," * No olvide digitar la variable Migrantes. Digite Cero si no tiene.",IF(AB21>C21," * La variable Migrantes no puede ser mayor al Total.","")) | CC21: =IF(AND($C21>0,OR(AC21=""))," * No olvide digitar la variable "&$AC$9&""&". Digite Cero si no tiene.",IF(OR(AC21>$C21)," * La variable Discapacidad no puede ser mayor al Total.","")) | CD21: =IF(AND($C21>0,OR(AD21=""))," * No olvide digitar la variable "&$AD$9&""&". Digite Cero si no tiene.",IF(OR(AD21>$C21)," * La variable "&$AD$9&""&" no puede ser mayor al Total.","")) | CE21: =IF(AND($C21>0,OR(AE21="",AF21=""))," * No olvide digitar la variable "&$AE$9&""&". Digite Cero si no tiene.",IF(OR(AE21+AF21>$C21)," * La variable "&$AE$9&""&" no puede ser mayor al Total.","")) | CI21: =IF(AND($C21>0,AA21=""),1,IF(AA21>$C21,1,0)) -> 0 | CJ21: =IF(AND($C21>0,AB21=""),1,IF(AB21>$C21,1,0)) -> 0 | CK21: =IF(AND($C21>0,AC21=""),1,IF(AC21>$C21,1,0)) -> 0 | CL21: =IF(AND($C21>0,AD21=""),1,IF(AD21>$C21,1,0)) -> 0 | CM21: =IF(AND($C21>0,AE21="",AF21=""),1,IF(AE21+AF21>$C21,1,0)) -> 0
A22: Parto en domicilio | B22: Con atención profesional | C22: 0 | D22: 0 | E22: 0 | F22: 0 | G22: 0 | L22: 0 | M22: 0 | N22: 0 | O22: 0 | P22: 0 | Q22: 0 | R22: 0 | S22: 0 | AG22: =$CA22&CB22&CC22&CD22&CE22 | CA22: =IF(AND(C22>0,AA22="")," * No olvide digitar la variable Pueblos originarios. Digite Cero si no tiene.",IF(AA22>C22," * La variable Pueblos originarios no puede ser mayor al Total.","")) | CB22: =IF(AND(C22>0,AB22="")," * No olvide digitar la variable Migrantes. Digite Cero si no tiene.",IF(AB22>C22," * La variable Migrantes no puede ser mayor al Total.","")) | CC22: =IF(AND($C22>0,OR(AC22=""))," * No olvide digitar la variable "&$AC$9&""&". Digite Cero si no tiene.",IF(OR(AC22>$C22)," * La variable Discapacidad no puede ser mayor al Total.","")) | CD22: =IF(AND($C22>0,OR(AD22=""))," * No olvide digitar la variable "&$AD$9&""&". Digite Cero si no tiene.",IF(OR(AD22>$C22)," * La variable "&$AD$9&""&" no puede ser mayor al Total.","")) | CE22: =IF(AND($C22>0,OR(AE22="",AF22=""))," * No olvide digitar la variable "&$AE$9&""&". Digite Cero si no tiene.",IF(OR(AE22+AF22>$C22)," * La variable "&$AE$9&""&" no puede ser mayor al Total.","")) | CI22: =IF(AND($C22>0,AA22=""),1,IF(AA22>$C22,1,0)) -> 0 | CJ22: =IF(AND($C22>0,AB22=""),1,IF(AB22>$C22,1,0)) -> 0 | CK22: =IF(AND($C22>0,AC22=""),1,IF(AC22>$C22,1,0)) -> 0 | CL22: =IF(AND($C22>0,AD22=""),1,IF(AD22>$C22,1,0)) -> 0 | CM22: =IF(AND($C22>0,AE22="",AF22=""),1,IF(AE22+AF22>$C22,1,0)) -> 0
B23: Sin atención profesional | C23: 0 | D23: 0 | E23: 0 | F23: 0 | G23: 0 | M23: 0 | N23: 0 | O23: 0 | P23: 0 | Q23: 0 | R23: 0 | S23: 0 | AG23: =$CA23&CB23&CC23&CD23&CE23 | CA23: =IF(AND(C23>0,AA23="")," * No olvide digitar la variable Pueblos originarios. Digite Cero si no tiene.",IF(AA23>C23," * La variable Pueblos originarios no puede ser mayor al Total.","")) | CB23: =IF(AND(C23>0,AB23="")," * No olvide digitar la variable Migrantes. Digite Cero si no tiene.",IF(AB23>C23," * La variable Migrantes no puede ser mayor al Total.","")) | CC23: =IF(AND($C23>0,OR(AC23=""))," * No olvide digitar la variable "&$AC$9&""&". Digite Cero si no tiene.",IF(OR(AC23>$C23)," * La variable Discapacidad no puede ser mayor al Total.","")) | CD23: =IF(AND($C23>0,OR(AD23=""))," * No olvide digitar la variable "&$AD$9&""&". Digite Cero si no tiene.",IF(OR(AD23>$C23)," * La variable "&$AD$9&""&" no puede ser mayor al Total.","")) | CE23: =IF(AND($C23>0,OR(AE23="",AF23=""))," * No olvide digitar la variable "&$AE$9&""&". Digite Cero si no tiene.",IF(OR(AE23+AF23>$C23)," * La variable "&$AE$9&""&" no puede ser mayor al Total.","")) | CI23: =IF(AND($C23>0,AA23=""),1,IF(AA23>$C23,1,0)) -> 0 | CJ23: =IF(AND($C23>0,AB23=""),1,IF(AB23>$C23,1,0)) -> 0 | CK23: =IF(AND($C23>0,AC23=""),1,IF(AC23>$C23,1,0)) -> 0 | CL23: =IF(AND($C23>0,AD23=""),1,IF(AD23>$C23,1,0)) -> 0 | CM23: =IF(AND($C23>0,AE23="",AF23=""),1,IF(AE23+AF23>$C23,1,0)) -> 0
A24: SECCION A.1: PARTOS VAGINALES *
A25: CARACTERÍSTICAS DEL MODELO DE ATENCIÓN | C25: TOTAL | D25: <28 semanas | E25: 28 - 37 semanas | F25: 38 semanas y más
A26: Espontáneo | C26: =SUM(D26:F26) -> 20 | D26: 0 | E26: 6 | F26: 14
A27: Inducidos | B27: Mecánica | C27: =SUM(D27:F27) -> 2 | D27: 0 | E27: 0 | F27: 2
B28: Farmacológica | C28: =SUM(D28:F28) -> 15 | D28: 1 | E28: 4 | F28: 10
A29: Conducción oxitócica | C29: =SUM(D29:F29) -> 15 | D29: 0 | E29: 3 | F29: 12
A30: Libertad de movimiento | C30: =SUM(D30:F30) -> 52 | D30: 1 | E30: 13 | F30: 38
A31: Régimen hídrico amplio | C31: =SUM(D31:F31) -> 52 | D31: 1 | E31: 13 | F31: 38
A32: Manejo del dolor | B32: No farmacológico | C32: =SUM(D32:F32) -> 7 | D32: 0 | E32: 2 | F32: 5
B33: Farmacológico | C33: =SUM(D33:F33) -> 44 | D33: 0 | E33: 15 | F33: 29
A34: Posición al momento del expulsivo | B34: Litotomía | C34: =SUM(D34:F34) -> 52 | D34: 1 | E34: 13 | F34: 38
B35: Otras posiciones | C35: =SUM(D35:F35) -> 0 | D35: 0 | E35: 0 | F35: 0
A36: Episiotomía | C36: =SUM(D36:F36) -> 6 | D36: 0 | E36: 2 | F36: 4
A37: Acompañamiento | B37: Durante el trabajo de parto | C37: =SUM(D37:F37) -> 47 | D37: 0 | E37: 12 | F37: 35
B38: Sólo en el expulsivo | C38: =SUM(D38:F38) -> 3 | D38: 0 | E38: 0 | F38: 3
A39: (*) Partos de Término y Pre-Término
A40: SECCION A.2: CESÁREAS (RESPONSABILIDAD DEL MÉDICO JEFE DEL SERVICIO DE OBSTETRICIA)
A41: CLASIFICACIÓN SEGÚN MODELO DE ROBSON | C41: Programada | D41: Urgencia
A42: Grupo 1: Nulíparas, embarazo único, cefálica, ≥37 semanas en trabajo de parto espontáneo | C42: 8 | D42: 4
A43: Grupo 2: Nulíparas, embarazo único, cefálica, ≥37 semanas, cesárea programada o con inducción de trabajo de parto | B43: Césarea por inducción fracasada | C43: 0 | D43: 5
B44: Césarea programada | C44: 9 | D44: 0
A45: Grupo 3: Multípara, sin cesárea previa, embarazo único, cefálica, ≥37 semanas en trabajo de parto espontáneo | C45: 0 | D45: 2
A46: Grupo 4: Multípara, sin cesárea previa, embarazo único, cefálica, ≥37 semanas, cesárea programada o con inducción de trabajo de parto | B46: Césarea por inducción fracasada | C46: 0 | D46: 3
B47: Césarea programada | C47: 4 | D47: 1
A48: Grupo 5: multíparas con al menos 1 cesárea previa, embarazo unico, cefálica, ≥37 semanas | B48: 5.1: con 1 cesárea previa | C48: 10 | D48: 7
B49: 5.2: 2 o más cesareas previas | C49: 8 | D49: 0
A50: Grupo 6: Nulíparas, embarazo único, podálica | C50: 0 | D50: 0
A51: Grupo 7: Multíparas, embarazo único, podálica, con 1 o más cesáreas previas | C51: 4 | D51: 0
A52: Grupo 8: Todas las mujeres con embarazo múltiple, incluidas las que tienen 1 o más cesáreas previas | C52: 1 | D52: 1
A53: Grupo 9: Embarazo único, transverso y oblicuo, incluidas las que tienen una o mas cesáreas previas | C53: 0 | D53: 0
A54: Grupo 10: Todas las mujeres con embarazo único, cefálica, <37 semanas, incluidas las que tienen 1 o más cesáreas | C54: 0 | D54: 4
A55: Total cesáreas por requerimiento materno | B55: Nulípara | C55: 7 | D55: 1
B56: Multípara | C56: 6 | D56: 2
A57: Acompañamiento durante la cesárea | C57: 55 | D57: 8
A58: SECCION A.3: COMPLICACIONES
A59: TIPO DE COMPLICACIÓN | C59: Atención Institucional | F59: Parto en domicilio
C60: Parto Espontáneo | D60: Parto Inducido | E60: Césarea
A61: Hemorragia post parto | B61: Inercia | C61: 0 | D61: 0 | E61: 0 | F61: 0
B62: Restos | C62: 0 | D62: 2 | E62: 0 | F62: 0
B63: Trauma | C63: 0 | D63: 0 | E63: 0 | F63: 0
B64: Desgarros III y IV | C64: 0 | D64: 0 | E64: 0 | F64: 0
B65: Alteraciones de la coagulación | C65: 0 | D65: 0 | E65: 0 | F65: 0
A66: Preeclampsia severa | C66: 0 | D66: 0 | E66: 0 | F66: 0
A67: Eclampsia | C67: 0 | D67: 0 | E67: 0 | F67: 0
A68: Sepsis o infección sistémica grave | C68: 0 | D68: 0 | E68: 0 | F68: 0
A69: Manejo quirúrgico de la inercia uterina | C69: 0 | D69: 0 | E69: 0 | F69: 0
A70: Histerectomía obstétrica | C70: 0 | D70: 0 | E70: 0 | F70: 0
A71: Anemia severa postmetrorragia que requiere transfusión | C71: 0 | D71: 0 | E71: 0 | F71: 0
A72: SECCIÓN B: INTERRUPCIÓN VOLUNTARIA DEL EMBARAZO
A73: CAUSALES | B73: CONTINUA EMBARAZO | E73: INTERRUMPE EMBARAZO | H73: Beneficiarias | I73: Pueblos Originarios | J73: Migrantes | K73: Trans masculino | L73: Discapacidad
B74: Rango Etario | E74: Rango Etario
B75: Menor de 14 años | C75: 14 - 17 años | D75: 18 y más años | E75: Menor de 14 años | F75: 14 - 17 años | G75: 18 y más años
A76: TOTAL | B76: =SUM(B77:B79) -> 1 | C76: =SUM(C77:C79) -> 0 | D76: =SUM(D77:D79) -> 0 | E76: =SUM(E77:E79) -> 1 | F76: =SUM(F77:F79) -> 0 | G76: =SUM(G77:G79) -> 0 | H76: =SUM(H77:H79) -> 1 | I76: =SUM(I77:I79) -> 1 | ... L76: =SUM(L77:L79) -> 0
A77: Causal N° 1: Mujer embarazada con riesgo vital | M77: =$CA77&CB77&CC77&CD77&CE77 | CA77: =IF(AND(SUM(E77:G77)>0,H77="")," * No olvide digitar la variable "&$H$73&""&". Digite cero si tiene.",IF(H77>SUM(E77:G77)," * La variable "&$H$73&""&" no puede ser mayor a la Suma de la variable "&$E$73&""&".","")) | CB77: =IF(AND(SUM(E77:G77)>0,I77="")," * No olvide digitar la variable Pueblos originarios. Digite cero si tiene.",IF(I77>SUM(E77:G77)," * La variable Pueblos originarios no puede ser mayor a la suma de la variable "&$E$73&""&".","")) | CC77: =IF(AND(SUM(E77:G77)>0,J77="")," * No olvide digitar la variable Migrantes. Digite cero si tiene.",IF(J77>SUM(E77:G77)," * La variable Migrantes no puede ser mayor a la suma de la variable "&$E$73&""&".","")) | CD77: =IF(AND(SUM($E77:$G77)>0,OR(K77=""))," * No olvide digitar la variable Trans Masculino. Digite Cero si no tiene.",IF(K77>SUM($E77:$G77)," * La variable Trans Masculino no puede ser mayor a la suma de la variable "&$E$73&""&".","")) | CE77: =IF(AND(SUM($E77:$G77)>0,OR(L77=""))," * No olvide digitar la variable "&$L$73&""&". Digite Cero si no tiene.",IF(L77>SUM($E77:$G77)," * La variable Discapacidad no puede ser mayor a la Suma de la variable "&$E$73&""&".","")) | CI77: =IF(AND(SUM($E77:$G77)>0,H77=""),1,IF(H77>SUM(E77:G77),1,0)) -> 0 | CJ77: =IF(AND(SUM(E77:G77)>0,I77=""),1,IF(I77>SUM(E77:G77),1,0)) -> 0 | CK77: =IF(AND(SUM(E77:G77)>0,J77=""),1,IF(J77>SUM(E77:G77),1,0)) -> 0 | CL77: =IF(AND(SUM($E77:$G77)>0,OR(K77="")),1,IF(K77>SUM($E77:$G77),1,0)) -> 0 | CM77: =IF(AND(SUM($E77:$G77)>0,OR(L77="")),1,IF(L77>SUM($E77:$G77),1,0)) -> 0
A78: Causal N° 2: Inviabilidad fetal de carácter letal | M78: =$CA78&CB78&CC78&CD78&CE78 | CA78: =IF(AND(SUM(E78:G78)>0,H78="")," * No olvide digitar la variable "&$H$73&""&". Digite cero si tiene.",IF(H78>SUM(E78:G78)," * La variable "&$H$73&""&" no puede ser mayor a la Suma de la variable "&$E$73&""&".","")) | CB78: =IF(AND(SUM(E78:G78)>0,I78="")," * No olvide digitar la variable Pueblos originarios. Digite cero si tiene.",IF(I78>SUM(E78:G78)," * La variable Pueblos originarios no puede ser mayor a la suma de la variable "&$E$73&""&".","")) | CC78: =IF(AND(SUM(E78:G78)>0,J78="")," * No olvide digitar la variable Migrantes. Digite cero si tiene.",IF(J78>SUM(E78:G78)," * La variable Migrantes no puede ser mayor a la suma de la variable "&$E$73&""&".","")) | CD78: =IF(AND(SUM($E78:$G78)>0,OR(K78=""))," * No olvide digitar la variable Trans Masculino. Digite Cero si no tiene.",IF(K78>SUM($E78:$G78)," * La variable Trans Masculino no puede ser mayor a la suma de la variable "&$E$73&""&".","")) | CE78: =IF(AND(SUM($E78:$G78)>0,OR(L78=""))," * No olvide digitar la variable "&$L$73&""&". Digite Cero si no tiene.",IF(L78>SUM($E78:$G78)," * La variable Discapacidad no puede ser mayor a la Suma de la variable "&$E$73&""&".","")) | CI78: =IF(AND(SUM($E78:$G78)>0,H78=""),1,IF(H78>SUM(E78:G78),1,0)) -> 0 | CJ78: =IF(AND(SUM(E78:G78)>0,I78=""),1,IF(I78>SUM(E78:G78),1,0)) -> 0 | CK78: =IF(AND(SUM(E78:G78)>0,J78=""),1,IF(J78>SUM(E78:G78),1,0)) -> 0 | CL78: =IF(AND(SUM($E78:$G78)>0,OR(K78="")),1,IF(K78>SUM($E78:$G78),1,0)) -> 0 | CM78: =IF(AND(SUM($E78:$G78)>0,OR(L78="")),1,IF(L78>SUM($E78:$G78),1,0)) -> 0
A79: Causal N° 3: Por violación | B79: 1 | E79: 1 | H79: 1 | I79: 1 | J79: 0 | K79: 0 | L79: 0 | M79: =$CA79&CB79&CC79&CD79&CE79 | CA79: =IF(AND(SUM(E79:G79)>0,H79="")," * No olvide digitar la variable "&$H$73&""&". Digite cero si tiene.",IF(H79>SUM(E79:G79)," * La variable "&$H$73&""&" no puede ser mayor a la Suma de la variable "&$E$73&""&""&".","")) | CB79: =IF(AND(SUM(E79:G79)>0,I79="")," * No olvide digitar la variable Pueblos originarios. Digite cero si tiene.",IF(I79>SUM(E79:G79)," * La variable Pueblos originarios no puede ser mayor a la suma de la variable "&$E$73&""&".","")) | CC79: =IF(AND(SUM(E79:G79)>0,J79="")," * No olvide digitar la variable Migrantes. Digite cero si tiene.",IF(J79>SUM(E79:G79)," * La variable Migrantes no puede ser mayor a la suma de la variable "&$E$73&""&".","")) | CD79: =IF(AND(SUM($E79:$G79)>0,OR(K79=""))," * No olvide digitar la variable Trans Masculino. Digite Cero si no tiene.",IF(K79>SUM($E79:$G79)," * La variable Trans Masculino no puede ser mayor a la suma de la variable"&$E$73&""&".","")) | CE79: =IF(AND(SUM($E79:$G79)>0,OR(L79=""))," * No olvide digitar la variable "&$L$73&""&". Digite Cero si no tiene.",IF(L79>SUM($E79:$G79)," * La variable Discapacidad no puede ser mayor a la Suma de la variable "&$E$73&""&".","")) | CI79: =IF(AND(SUM($E79:$G79)>0,H79=""),1,IF(H79>SUM(E79:G79),1,0)) -> 0 | CJ79: =IF(AND(SUM(E79:G79)>0,I79=""),1,IF(I79>SUM(E79:G79),1,0)) -> 0 | CK79: =IF(AND(SUM(E79:G79)>0,J79=""),1,IF(J79>SUM(E79:G79),1,0)) -> 0 | CL79: =IF(AND(SUM($E79:$G79)>0,OR(K79="")),1,IF(K79>SUM($E79:$G79),1,0)) -> 0 | CM79: =IF(AND(SUM($E79:$G79)>0,OR(L79="")),1,IF(L79>SUM($E79:$G79),1,0)) -> 0
A80: SECCIÓN B.1 PROGAMA DE ACOMPAÑAMIENTO IVE
A81: ATENCIONES DE ACOMPAÑAMIENTO | B81: RANGO ETARIO | E81: CAUSAL IVE GESTANTE ATENDIDA
B82: Menor de 14 años | C82: 14 - 17 años | D82: 18 y más años | E82: Causal 1 | F82: Causal 2 | G82: Causal 3
A83: TOTAL | B83: =B84+B85+B86+B87+B88 -> 4 | C83: =C84+C85+C86+C87+C88 -> 0 | D83: =D84+D85+D86+D87+D88 -> 0 | E83: =E84+E85+E86+E87+E88 -> 0 | F83: =F84+F85+F86+F87+F88 -> 0 | G83: =G84+G85+G86+G87+G88 -> 4
A84: Atención por psiquiatra
A85: Atención por psicólogo(a)
A86: Atención por trabajador(a) social
A87: Atención por Dupla (psicólogo(a) + trabajador(a) social) | B87: 3 | G87: 3
A88: Visita Domiciliaria | B88: 1 | G88: 1
A89: SECCIÓN C: MÉTODO ANTICONCEPTIVO AL ALTA
A90: MÉTODO ANTICONCEPTIVO | C90: Post Aborto | D90: Intracesárea | E90: Post Parto | F90: Post IVE | G90: RANGO ETARIO
G91: < 15 años | H91: 15-19 años | I91: 20 y más años
A92: DIU con Cobre
A93: DIU con Levonorgestrel
A94: Hormonal | B94: Oral Combinado
B95: Oral Progestágeno
B96: Inyectable Combinado
B97: Inyectable Progestágeno
B98: Implante Etonogestrel (3 años) | E98: 1 | H98: 1
B99: Implante Levonorgestrel (5 años)
B100: Anillo de Progestágeno
A101: Métodos de barrera
...

Sheet FEBRERO
A1: SERVICIO DE SALUD
A2: =CONCATENATE("COMUNA: ",[3]NOMBRE!B2, " (",[3]NOMBRE!C2,[3]NOMBRE!D2,[3]NOMBRE!E2,[3]NOMBRE!F2,[3]NOMBRE!G2,")") -> COMUNA: LINARES (07401)
A3: =CONCATENATE("ESTABLECIMIENTO/ESTRATEGIA: ", [3]NOMBRE!B3, " (",[3]NOMBRE!C3,[3]NOMBRE!D3,[3]NOMBRE!E3,[3]NOMBRE!F3,[3]NOMBRE!G3,[3]NOMBRE!H3,")") -> ESTABLECIMIENTO/ESTRATEGIA: HOSPITAL PRESIDENTE CARLOS IBAÑEZ DEL CAMPO (116108)
A4: =CONCATENATE("MES: ",[3]NOMBRE!B6, " (",[3]NOMBRE!C6,[3]NOMBRE!D6,")") -> MES: FEBRERO (02)
A5: =CONCATENATE("AÑO: ",[3]NOMBRE!B7) -> AÑO: 2025
A6: REM-A24. ATENCIÓN OBSTÉTRICA Y DEL RECIÉN NACIDO
A8: SECCIÓN A: INFORMACIÓN GENERAL DE PARTOS
A9: CARACTERISTICAS DEL PARTO | C9: TOTAL | D9: PARTOS SEGÚN EDAD DE LA MADRE | H9: PARTOS PREMATUROS (CONSIDERAR SOBRE 22 SEMANAS) | L9: Uso de oxitocina profiláctica | M9: ANESTESIA Y/O ANALGESIA DEL PARTO (MEDIDAS FARMACOLÓGICAS Y NO FARMACOLÓGICAS) | S9: Ligadura tardía del cordón (> a 60 segundos) | T9: CONTACTO INMEDIATO PIEL A PIEL >30 MINUTOS | X9: Lactancia materna en los primeros 60 minutos de vida (RN con peso de 2.500 grs. o más) | Y9: Alojamiento conjunto en puerperio inmediato | Z9: Atención con pertinencia cultural | AA9: Pueblos Originarios | AB9: Migrantes | AC9: Discapacidad | AD9: Privada de Libertad | AE9: Identidad de Género
D10: < 15 años | E10: 15 - 19 años | F10: 20 - 34 años | G10: ≥35 años | H10: Partos prematuros menos de 24 semanas | I10: Partos prematuros de 24 a 28 semanas | J10: Partos prematuros de 29 a 32 semanas | K10: Partos prematuros de 33 a 36 semanas | M10: Anestesia Neuroaxial | N10: Óxido nitroso | O10: Analgesia endovenosa | P10: General | Q10: Local | R10: Medidas no farmacológicas | T10: Con la Madre | V10: Con el padre o acompañante significativo
T11: RN peso menor o igual a 2.499 grs. | U11: RN con peso de 2.500 grs. o más | V11: RN peso menor o igual a 2.499 grs. | W11: RN con peso de 2.500 grs. o más | AE11: Trans masculino | AF11: No binarie
A12: TOTAL PARTOS | C12: =SUM(C13:C16) -> 113 | D12: =SUM(D13:D16) -> 0 | E12: =SUM(E13:E16) -> 4 | F12: =SUM(F13:F16) -> 85 | G12: =SUM(G13:G16) -> 24 | H12: =SUM(H13:H16) -> 0 | I12: =SUM(I13:I16) -> 0 | J12: =SUM(J13:J16) -> 0 | ... AF12: =SUM(AF13:AF16) -> 0
A13: Vaginal | C13: 38 | D13: 0 | E13: 2 | F13: 31 | G13: 5 | H13: 0 | I13: 0 | J13: 0 | K13: 2 | L13: 38 | M13: 24 | N13: 0 | O13: 0 | P13: 0 | Q13: 9 | R13: 38 | S13: 36 | T13: 2 | U13: 34 | V13: 2 | W13: 33 | X13: 32 | Y13: 35 | AA13: 0 | AB13: 5 | AC13: 0 | AD13: 0 | AE13: 0 | AF13: 0 | AG13: =$CA13&CB13&CC13&CD13&CE13 | CA13: =IF(AND(C13>0,AA13="")," * No olvide digitar la variable Pueblos originarios. Digite Cero si no tiene.",IF(AA13>C13," * La variable Pueblos originarios no puede ser mayor al Total.","")) | CB13: =IF(AND(C13>0,AB13="")," * No olvide digitar la variable Migrantes. Digite Cero si no tiene.",IF(AB13>C13," * La variable Migrantes no puede ser mayor al Total.","")) | CC13: =IF(AND($C13>0,OR(AC13=""))," * No olvide digitar la variable "&$AC$9&""&". Digite Cero si no tiene.",IF(OR(AC13>$C13)," * La variable Discapacidad no puede ser mayor al Total.","")) | CD13: =IF(AND($C13>0,OR(AD13=""))," * No olvide digitar la variable "&$AD$9&""&". Digite Cero si no tiene.",IF(OR(AD13>$C13)," * La variable "&$AD$9&""&" no puede ser mayor al Total.","")) | CE13: =IF(AND($C13>0,OR(AE13="",AF13=""))," * No olvide digitar la variable "&$AE$9&""&". Digite Cero si no tiene.",IF(OR(AE13+AF13>$C13)," * La variable "&$AE$9&""&" no puede ser mayor al Total.","")) | CI13: =IF(AND($C13>0,AA13=""),1,IF(AA13>$C13,1,0)) -> 0 | CJ13: =IF(AND($C13>0,AB13=""),1,IF(AB13>$C13,1,0)) -> 0 | CK13: =IF(AND($C13>0,AC13=""),1,IF(AC13>$C13,1,0)) -> 0 | CL13: =IF(AND($C13>0,AD13=""),1,IF(AD13>$C13,1,0)) -> 0 | CM13: =IF(AND($C13>0,AE13="",AF13=""),1,IF(AE13+AF13>$C13,1,0)) -> 0
A14: Instrumental | C14: 0 | D14: 0 | E14: 0 | F14: 0 | G14: 0 | H14: 0 | I14: 0 | J14: 0 | K14: 0 | L14: 0 | M14: 0 | N14: 0 | O14: 0 | P14: 0 | Q14: 0 | R14: 0 | S14: 0 | Y14: 0 | AA14: 0 | AB14: 0 | AC14: 0 | AD14: 0 | AE14: 0 | AF14: 0 | AG14: =$CA14&CB14&CC14&CD14&CE14 | CA14: =IF(AND(C14>0,AA14="")," * No olvide digitar la variable Pueblos originarios. Digite Cero si no tiene.",IF(AA14>C14," * La variable Pueblos originarios no puede ser mayor al Total.","")) | CB14: =IF(AND(C14>0,AB14="")," * No olvide digitar la variable Migrantes. Digite Cero si no tiene.",IF(AB14>C14," * La variable Migrantes no puede ser mayor al Total.","")) | CC14: =IF(AND($C14>0,OR(AC14=""))," * No olvide digitar la variable "&$AC$9&""&". Digite Cero si no tiene.",IF(OR(AC14>$C14)," * La variable Discapacidad no puede ser mayor al Total.","")) | CD14: =IF(AND($C14>0,OR(AD14=""))," * No olvide digitar la variable "&$AD$9&""&". Digite Cero si no tiene.",IF(OR(AD14>$C14)," * La variable "&$AD$9&""&" no puede ser mayor al Total.","")) | CE14: =IF(AND($C14>0,OR(AE14="",AF14=""))," * No olvide digitar la variable "&$AE$9&""&". Digite Cero si no tiene.",IF(OR(AE14+AF14>$C14)," * La variable "&$AE$9&""&" no puede ser mayor al Total.","")) | CI14: =IF(AND($C14>0,AA14=""),1,IF(AA14>$C14,1,0)) -> 0 | CJ14: =IF(AND($C14>0,AB14=""),1,IF(AB14>$C14,1,0)) -> 0 | CK14: =IF(AND($C14>0,AC14=""),1,IF(AC14>$C14,1,0)) -> 0 | CL14: =IF(AND($C14>0,AD14=""),1,IF(AD14>$C14,1,0)) -> 0 | CM14: =IF(AND($C14>0,AE14="",AF14=""),1,IF(AE14+AF14>$C14,1,0)) -> 0
A15: Cesárea Electiva | C15: 50 | D15: 0 | E15: 0 | F15: 35 | G15: 15 | H15: 0 | I15: 0 | J15: 0 | K15: 1 | L15: 50 | M15: 0 | N15: 0 | O15: 0 | P15: 0 | Q15: 0 | R15: 0 | S15: 48 | T15: 0 | U15: 49 | V15: 0 | W15: 48 | X15: 0 | Y15: 48 | AA15: 0 | AB15: 1 | AC15: 0 | AD15: 0 | AE15: 0 | AF15: 0 | AG15: =$CA15&CB15&CC15&CD15&CE15 | CA15: =IF(AND(C15>0,AA15="")," * No olvide digitar la variable Pueblos originarios. Digite Cero si no tiene.",IF(AA15>C15," * La variable Pueblos originarios no puede ser mayor al Total.","")) | CB15: =IF(AND(C15>0,AB15="")," * No olvide digitar la variable Migrantes. Digite Cero si no tiene.",IF(AB15>C15," * La variable Migrantes no puede ser mayor al Total.","")) | CC15: =IF(AND($C15>0,OR(AC15=""))," * No olvide digitar la variable "&$AC$9&""&". Digite Cero si no tiene.",IF(OR(AC15>$C15)," * La variable Discapacidad no puede ser mayor al Total.","")) | CD15: =IF(AND($C15>0,OR(AD15=""))," * No olvide digitar la variable "&$AD$9&""&". Digite Cero si no tiene.",IF(OR(AD15>$C15)," * La variable "&$AD$9&""&" no puede ser mayor al Total.","")) | CE15: =IF(AND($C15>0,OR(AE15="",AF15=""))," * No olvide digitar la variable "&$AE$9&""&". Digite Cero si no tiene.",IF(OR(AE15+AF15>$C15)," * La variable "&$AE$9&""&" no puede ser mayor al Total.","")) | CI15: =IF(AND($C15>0,AA15=""),1,IF(AA15>$C15,1,0)) -> 0 | CJ15: =IF(AND($C15>0,AB15=""),1,IF(AB15>$C15,1,0)) -> 0 | CK15: =IF(AND($C15>0,AC15=""),1,IF(AC15>$C15,1,0)) -> 0 | CL15: =IF(AND($C15>0,AD15=""),1,IF(AD15>$C15,1,0)) -> 0 | CM15: =IF(AND($C15>0,AE15="",AF15=""),1,IF(AE15+AF15>$C15,1,0)) -> 0
A16: Cesárea Urgencia | C16: 25 | D16: 0 | E16: 2 | F16: 19 | G16: 4 | H16: 0 | I16: 0 | J16: 0 | K16: 2 | L16: 25 | M16: 0 | N16: 0 | O16: 0 | P16: 1 | Q16: 0 | R16: 0 | S16: 24 | T16: 1 | U16: 22 | V16: 1 | W16: 20 | X16: 0 | Y16: 21 | AA16: 0 | AB16: 2 | AC16: 0 | AD16: 0 | AE16: 0 | AF16: 0 | AG16: =$CA16&CB16&CC16&CD16&CE16 | CA16: =IF(AND(C16>0,AA16="")," * No olvide digitar la variable Pueblos originarios. Digite Cero si no tiene.",IF(AA16>C16," * La variable Pueblos originarios no puede ser mayor al Total.","")) | CB16: =IF(AND(C16>0,AB16="")," * No olvide digitar la variable Migrantes. Digite Cero si no tiene.",IF(AB16>C16," * La variable Migrantes no puede ser mayor al Total.","")) | CC16: =IF(AND($C16>0,OR(AC16=""))," * No olvide digitar la variable "&$AC$9&""&". Digite Cero si no tiene.",IF(OR(AC16>$C16)," * La variable Discapacidad no puede ser mayor al Total.","")) | CD16: =IF(AND($C16>0,OR(AD16=""))," * No olvide digitar la variable "&$AD$9&""&". Digite Cero si no tiene.",IF(OR(AD16>$C16)," * La variable "&$AD$9&""&" no puede ser mayor al Total.","")) | CE16: =IF(AND($C16>0,OR(AE16="",AF16=""))," * No olvide digitar la variable "&$AE$9&""&". Digite Cero si no tiene.",IF(OR(AE16+AF16>$C16)," * La variable "&$AE$9&""&" no puede ser mayor al Total.","")) | CI16: =IF(AND($C16>0,AA16=""),1,IF(AA16>$C16,1,0)) -> 0 | CJ16: =IF(AND($C16>0,AB16=""),1,IF(AB16>$C16,1,0)) -> 0 | CK16: =IF(AND($C16>0,AC16=""),1,IF(AC16>$C16,1,0)) -> 0 | CL16: =IF(AND($C16>0,AD16=""),1,IF(AD16>$C16,1,0)) -> 0 | CM16: =IF(AND($C16>0,AE16="",AF16=""),1,IF(AE16+AF16>$C16,1,0)) -> 0
A17: Parto prehospitalario (en establecimientos salud o ambulancias) | C17: 0 | D17: 0 | E17: 0 | F17: 0 | G17: 0 | H17: 0 | I17: 0 | J17: 0 | K17: 0 | L17: 0 | M17: 0 | N17: 0 | O17: 0 | P17: 0 | Q17: 0 | R17: 0 | AG17: =$CA17&CB17&CC17&CD17&CE17 | CA17: =IF(AND(C17>0,AA17="")," * No olvide digitar la variable Pueblos originarios. Digite Cero si no tiene.",IF(AA17>C17," * La variable Pueblos originarios no puede ser mayor al Total.","")) | CB17: =IF(AND(C17>0,AB17="")," * No olvide digitar la variable Migrantes. Digite Cero si no tiene.",IF(AB17>C17," * La variable Migrantes no puede ser mayor al Total.","")) | CC17: =IF(AND($C17>0,OR(AC17=""))," * No olvide digitar la variable "&$AC$9&""&". Digite Cero si no tiene.",IF(OR(AC17>$C17)," * La variable Discapacidad no puede ser mayor al Total.","")) | CD17: =IF(AND($C17>0,OR(AD17=""))," * No olvide digitar la variable "&$AD$9&""&". Digite Cero si no tiene.",IF(OR(AD17>$C17)," * La variable "&$AD$9&""&" no puede ser mayor al Total.","")) | CE17: =IF(AND($C17>0,OR(AE17="",AF17=""))," * No olvide digitar la variable "&$AE$9&""&". Digite Cero si no tiene.",IF(OR(AE17+AF17>$C17)," * La variable "&$AE$9&""&" no puede ser mayor al Total.","")) | CI17: =IF(AND($C17>0,AA17=""),1,IF(AA17>$C17,1,0)) -> 0 | CJ17: =IF(AND($C17>0,AB17=""),1,IF(AB17>$C17,1,0)) -> 0 | CK17: =IF(AND($C17>0,AC17=""),1,IF(AC17>$C17,1,0)) -> 0 | CL17: =IF(AND($C17>0,AD17=""),1,IF(AD17>$C17,1,0)) -> 0 | CM17: =IF(AND($C17>0,AE17="",AF17=""),1,IF(AE17+AF17>$C17,1,0)) -> 0
A18: Partos fuera de la red de salud | C18: 0 | D18: 0 | E18: 0 | F18: 0 | G18: 0 | H18: 0 | I18: 0 | J18: 0 | K18: 0 | L18: 0 | M18: 0 | N18: 0 | O18: 0 | P18: 0 | Q18: 0 | R18: 0 | AA18: 0 | AB18: 0 | AC18: 0 | AD18: 0 | AG18: =$CA18&CB18&CC18&CD18&CE18 | CA18: =IF(AND(C18>0,AA18="")," * No olvide digitar la variable Pueblos originarios. Digite Cero si no tiene.",IF(AA18>C18," * La variable Pueblos originarios no puede ser mayor al Total.","")) | CB18: =IF(AND(C18>0,AB18="")," * No olvide digitar la variable Migrantes. Digite Cero si no tiene.",IF(AB18>C18," * La variable Migrantes no puede ser mayor al Total.","")) | CC18: =IF(AND($C18>0,OR(AC18=""))," * No olvide digitar la variable "&$AC$9&""&". Digite Cero si no tiene.",IF(OR(AC18>$C18)," * La variable Discapacidad no puede ser mayor al Total.","")) | CD18: =IF(AND($C18>0,OR(AD18=""))," * No olvide digitar la variable "&$AD$9&""&". Digite Cero si no tiene.",IF(OR(AD18>$C18)," * La variable "&$AD$9&""&" no puede ser mayor al Total.","")) | CE18: =IF(AND($C18>0,OR(AE18="",AF18=""))," * No olvide digitar la variable "&$AE$9&""&". Digite Cero si no tiene.",IF(OR(AE18+AF18>$C18)," * La variable "&$AE$9&""&" no puede ser mayor al Total.","")) | CI18: =IF(AND($C18>0,AA18=""),1,IF(AA18>$C18,1,0)) -> 0 | CJ18: =IF(AND($C18>0,AB18=""),1,IF(AB18>$C18,1,0)) -> 0 | CK18: =IF(AND($C18>0,AC18=""),1,IF(AC18>$C18,1,0)) -> 0 | CL18: =IF(AND($C18>0,AD18=""),1,IF(AD18>$C18,1,0)) -> 0 | CM18: =IF(AND($C18>0,AE18="",AF18=""),1,IF(AE18+AF18>$C18,1,0)) -> 0
A19: Plan de parto | C19: 15 | D19: 0 | E19: 0 | F19: 9 | G19: 6 | H19: 0 | I19: 0 | J19: 0 | K19: 0 | L19: 0 | M19: 0 | N19: 0 | O19: 0 | P19: 0 | Q19: 0 | R19: 0 | AA19: 0 | AB19: 0 | AC19: 0 | AD19: 0 | AE19: 0 | AF19: 0 | AG19: =$CA19&CB19&CC19&CD19&CE19 | CA19: =IF(AND(C19>0,AA19="")," * No olvide digitar la variable Pueblos originarios. Digite Cero si no tiene.",IF(AA19>C19," * La variable Pueblos originarios no puede ser mayor al Total.","")) | CB19: =IF(AND(C19>0,AB19="")," * No olvide digitar la variable Migrantes. Digite Cero si no tiene.",IF(AB19>C19," * La variable Migrantes no puede ser mayor al Total.","")) | CC19: =IF(AND($C19>0,OR(AC19=""))," * No olvide digitar la variable "&$AC$9&""&". Digite Cero si no tiene.",IF(OR(AC19>$C19)," * La variable Discapacidad no puede ser mayor al Total.","")) | CD19: =IF(AND($C19>0,OR(AD19=""))," * No olvide digitar la variable "&$AD$9&""&". Digite Cero si no tiene.",IF(OR(AD19>$C19)," * La variable "&$AD$9&""&" no puede ser mayor al Total.","")) | CE19: =IF(AND($C19>0,OR(AE19="",AF19=""))," * No olvide digitar la variable "&$AE$9&""&". Digite Cero si no tiene.",IF(OR(AE19+AF19>$C19)," * La variable "&$AE$9&""&" no puede ser mayor al Total.","")) | CI19: =IF(AND($C19>0,AA19=""),1,IF(AA19>$C19,1,0)) -> 0 | CJ19: =IF(AND($C19>0,AB19=""),1,IF(AB19>$C19,1,0)) -> 0 | CK19: =IF(AND($C19>0,AC19=""),1,IF(AC19>$C19,1,0)) -> 0 | CL19: =IF(AND($C19>0,AD19=""),1,IF(AD19>$C19,1,0)) -> 0 | CM19: =IF(AND($C19>0,AE19="",AF19=""),1,IF(AE19+AF19>$C19,1,0)) -> 0
A20: Entrega de placenta a solicitud | C20: 0 | D20: 0 | E20: 0 | F20: 0 | G20: 0 | H20: 0 | I20: 0 | J20: 0 | K20: 0 | L20: 0 | M20: 0 | N20: 0 | O20: 0 | P20: 0 | Q20: 0 | R20: 0 | AG20: =$CA20&CB20&CC20&CD20&CE20 | CA20: =IF(AND(C20>0,AA20="")," * No olvide digitar la variable Pueblos originarios. Digite Cero si no tiene.",IF(AA20>C20," * La variable Pueblos originarios no puede ser mayor al Total.","")) | CB20: =IF(AND(C20>0,AB20="")," * No olvide digitar la variable Migrantes. Digite Cero si no tiene.",IF(AB20>C20," * La variable Migrantes no puede ser mayor al Total.","")) | CC20: =IF(AND($C20>0,OR(AC20=""))," * No olvide digitar la variable "&$AC$9&""&". Digite Cero si no tiene.",IF(OR(AC20>$C20)," * La variable Discapacidad no puede ser mayor al Total.","")) | CD20: =IF(AND($C20>0,OR(AD20=""))," * No olvide digitar la variable "&$AD$9&""&". Digite Cero si no tiene.",IF(OR(AD20>$C20)," * La variable "&$AD$9&""&" no puede ser mayor al Total.","")) | CE20: =IF(AND($C20>0,OR(AE20="",AF20=""))," * No olvide digitar la variable "&$AE$9&""&". Digite Cero si no tiene.",IF(OR(AE20+AF20>$C20)," * La variable "&$AE$9&""&" no puede ser mayor al Total.","")) | CI20: =IF(AND($C20>0,AA20=""),1,IF(AA20>$C20,1,0)) -> 0 | CJ20: =IF(AND($C20>0,AB20=""),1,IF(AB20>$C20,1,0)) -> 0 | CK20: =IF(AND($C20>0,AC20=""),1,IF(AC20>$C20,1,0)) -> 0 | CL20: =IF(AND($C20>0,AD20=""),1,IF(AD20>$C20,1,0)) -> 0 | CM20: =IF(AND($C20>0,AE20="",AF20=""),1,IF(AE20+AF20>$C20,1,0)) -> 0
A21: Embarazo no controlado | C21: 0 | D21: 0 | E21: 0 | F21: 0 | G21: 0 | H21: 0 | I21: 0 | J21: 0 | K21: 0 | L21: 0 | M21: 0 | N21: 0 | O21: 0 | P21: 0 | Q21: 0 | R21: 0 | AG21: =$CA21&CB21&CC21&CD21&CE21 | CA21: =IF(AND(C21>0,AA21="")," * No olvide digitar la variable Pueblos originarios. Digite Cero si no tiene.",IF(AA21>C21," * La variable Pueblos originarios no puede ser mayor al Total.","")) | CB21: =IF(AND(C21>0,AB21="")," * No olvide digitar la variable Migrantes. Digite Cero si no tiene.",IF(AB21>C21," * La variable Migrantes no puede ser mayor al Total.","")) | CC21: =IF(AND($C21>0,OR(AC21=""))," * No olvide digitar la variable "&$AC$9&""&". Digite Cero si no tiene.",IF(OR(AC21>$C21)," * La variable Discapacidad no puede ser mayor al Total.","")) | CD21: =IF(AND($C21>0,OR(AD21=""))," * No olvide digitar la variable "&$AD$9&""&". Digite Cero si no tiene.",IF(OR(AD21>$C21)," * La variable "&$AD$9&""&" no puede ser mayor al Total.","")) | CE21: =IF(AND($C21>0,OR(AE21="",AF21=""))," * No olvide digitar la variable "&$AE$9&""&". Digite Cero si no tiene.",IF(OR(AE21+AF21>$C21)," * La variable "&$AE$9&""&" no puede ser mayor al Total.","")) | CI21: =IF(AND($C21>0,AA21=""),1,IF(AA21>$C21,1,0)) -> 0 | CJ21: =IF(AND($C21>0,AB21=""),1,IF(AB21>$C21,1,0)) -> 0 | CK21: =IF(AND($C21>0,AC21=""),1,IF(AC21>$C21,1,0)) -> 0 | CL21: =IF(AND($C21>0,AD21=""),1,IF(AD21>$C21,1,0)) -> 0 | CM21: =IF(AND($C21>0,AE21="",AF21=""),1,IF(AE21+AF21>$C21,1,0)) -> 0
A22: Parto en domicilio | B22: Con atención profesional | C22: 0 | D22: 0 | E22: 0 | F22: 0 | G22: 0 | H22: 0 | I22: 0 | J22: 0 | K22: 0 | L22: 0 | M22: 0 | N22: 0 | O22: 0 | P22: 0 | Q22: 0 | R22: 0 | AG22: =$CA22&CB22&CC22&CD22&CE22 | CA22: =IF(AND(C22>0,AA22="")," * No olvide digitar la variable Pueblos originarios. Digite Cero si no tiene.",IF(AA22>C22," * La variable Pueblos originarios no puede ser mayor al Total.","")) | CB22: =IF(AND(C22>0,AB22="")," * No olvide digitar la variable Migrantes. Digite Cero si no tiene.",IF(AB22>C22," * La variable Migrantes no puede ser mayor al Total.","")) | CC22: =IF(AND($C22>0,OR(AC22=""))," * No olvide digitar la variable "&$AC$9&""&". Digite Cero si no tiene.",IF(OR(AC22>$C22)," * La variable Discapacidad no puede ser mayor al Total.","")) | CD22: =IF(AND($C22>0,OR(AD22=""))," * No olvide digitar la variable "&$AD$9&""&". Digite Cero si no tiene.",IF(OR(AD22>$C22)," * La variable "&$AD$9&""&" no puede ser mayor al Total.","")) | CE22: =IF(AND($C22>0,OR(AE22="",AF22=""))," * No olvide digitar la variable "&$AE$9&""&". Digite Cero si no tiene.",IF(OR(AE22+AF22>$C22)," * La variable "&$AE$9&""&" no puede ser mayor al Total.","")) | CI22: =IF(AND($C22>0,AA22=""),1,IF(AA22>$C22,1,0)) -> 0 | CJ22: =IF(AND($C22>0,AB22=""),1,IF(AB22>$C22,1,0)) -> 0 | CK22: =IF(AND($C22>0,AC22=""),1,IF(AC22>$C22,1,0)) -> 0 | CL22: =IF(AND($C22>0,AD22=""),1,IF(AD22>$C22,1,0)) -> 0 | CM22: =IF(AND($C22>0,AE22="",AF22=""),1,IF(AE22+AF22>$C22,1,0)) -> 0
B23: Sin atención profesional | C23: 0 | D23: 0 | E23: 0 | F23: 0 | G23: 0 | H23: 0 | I23: 0 | J23: 0 | K23: 0 | L23: 0 | M23: 0 | N23: 0 | O23: 0 | P23: 0 | Q23: 0 | R23: 0 | AG23: =$CA23&CB23&CC23&CD23&CE23 | CA23: =IF(AND(C23>0,AA23="")," * No olvide digitar la variable Pueblos originarios. Digite Cero si no tiene.",IF(AA23>C23," * La variable Pueblos originarios no puede ser mayor al Total.","")) | CB23: =IF(AND(C23>0,AB23="")," * No olvide digitar la variable Migrantes. Digite Cero si no tiene.",IF(AB23>C23," * La variable Migrantes no puede ser mayor al Total.","")) | CC23: =IF(AND($C23>0,OR(AC23=""))," * No olvide digitar la variable "&$AC$9&""&". Digite Cero si no tiene.",IF(OR(AC23>$C23)," * La variable Discapacidad no puede ser mayor al Total.","")) | CD23: =IF(AND($C23>0,OR(AD23=""))," * No olvide digitar la variable "&$AD$9&""&". Digite Cero si no tiene.",IF(OR(AD23>$C23)," * La variable "&$AD$9&""&" no puede ser mayor al Total.","")) | CE23: =IF(AND($C23>0,OR(AE23="",AF23=""))," * No olvide digitar la variable "&$AE$9&""&". Digite Cero si no tiene.",IF(OR(AE23+AF23>$C23)," * La variable "&$AE$9&""&" no puede ser mayor al Total.","")) | CI23: =IF(AND($C23>0,AA23=""),1,IF(AA23>$C23,1,0)) -> 0 | CJ23: =IF(AND($C23>0,AB23=""),1,IF(AB23>$C23,1,0)) -> 0 | CK23: =IF(AND($C23>0,AC23=""),1,IF(AC23>$C23,1,0)) -> 0 | CL23: =IF(AND($C23>0,AD23=""),1,IF(AD23>$C23,1,0)) -> 0 | CM23: =IF(AND($C23>0,AE23="",AF23=""),1,IF(AE23+AF23>$C23,1,0)) -> 0
A24: SECCION A.1: PARTOS VAGINALES *
A25: CARACTERÍSTICAS DEL MODELO DE ATENCIÓN | C25: TOTAL | D25: <28 semanas | E25: 28 - 37 semanas | F25: 38 semanas y más
A26: Espontáneo | C26: =SUM(D26:F26) -> 18 | D26: 0 | E26: 4 | F26: 14
A27: Inducidos | B27: Mecánica | C27: =SUM(D27:F27) -> 0 | D27: 0 | E27: 0 | F27: 0
B28: Farmacológica | C28: =SUM(D28:F28) -> 5 | D28: 0 | E28: 1 | F28: 4
A29: Conducción oxitócica | C29: =SUM(D29:F29) -> 15 | D29: 0 | E29: 2 | F29: 13
A30: Libertad de movimiento | C30: =SUM(D30:F30) -> 38 | D30: 0 | E30: 7 | F30: 31
A31: Régimen hídrico amplio | C31: =SUM(D31:F31) -> 38 | D31: 0 | E31: 7 | F31: 31
A32: Manejo del dolor | B32: No farmacológico | C32: =SUM(D32:F32) -> 38 | D32: 0 | E32: 7 | F32: 31
B33: Farmacológico | C33: =SUM(D33:F33) -> 23 | D33: 0 | E33: 2 | F33: 21
A34: Posición al momento del expulsivo | B34: Litotomía | C34: =SUM(D34:F34) -> 38 | D34: 0 | E34: 7 | F34: 31
B35: Otras posiciones | C35: =SUM(D35:F35) -> 0 | D35: 0 | E35: 0 | F35: 0
A36: Episiotomía | C36: =SUM(D36:F36) -> 4 | D36: 0 | E36: 1 | F36: 3
A37: Acompañamiento | B37: Durante el trabajo de parto | C37: =SUM(D37:F37) -> 33 | D37: 0 | E37: 5 | F37: 28
B38: Sólo en el expulsivo | C38: =SUM(D38:F38) -> 2 | D38: 0 | E38: 1 | F38: 1
A39: (*) Partos de Término y Pre-Término
A40: SECCION A.2: CESÁREAS (RESPONSABILIDAD DEL MÉDICO JEFE DEL SERVICIO DE OBSTETRICIA)
A41: CLASIFICACIÓN SEGÚN MODELO DE ROBSON | C41: Programada | D41: Urgencia
A42: Grupo 1: Nulíparas, embarazo único, cefálica, ≥37 semanas en trabajo de parto espontáneo | C42: 8 | D42: 4
A43: Grupo 2: Nulíparas, embarazo único, cefálica, ≥37 semanas, cesárea programada o con inducción de trabajo de parto | B43: Césarea por inducción fracasada | C43: 0 | D43: 7
B44: Césarea programada | C44: 17 | D44: 0
A45: Grupo 3: Multípara, sin cesárea previa, embarazo único, cefálica, ≥37 semanas en trabajo de parto espontáneo | C45: 0 | D45: 3
A46: Grupo 4: Multípara, sin cesárea previa, embarazo único, cefálica, ≥37 semanas, cesárea programada o con inducción de trabajo de parto | B46: Césarea por inducción fracasada | C46: 0 | D46: 0
B47: Césarea programada | C47: 1 | D47: 2
A48: Grupo 5: multíparas con al menos 1 cesárea previa, embarazo unico, cefálica, ≥37 semanas | B48: 5.1: con 1 cesárea previa | C48: 18 | D48: 1
B49: 5.2: 2 o más cesareas previas | C49: 4 | D49: 3
A50: Grupo 6: Nulíparas, embarazo único, podálica | C50: 1 | D50: 1
A51: Grupo 7: Multíparas, embarazo único, podálica, con 1 o más cesáreas previas | C51: 1 | D51: 1
A52: Grupo 8: Todas las mujeres con embarazo múltiple, incluidas las que tienen 1 o más cesáreas previas | C52: 0 | D52: 0
A53: Grupo 9: Embarazo único, transverso y oblicuo, incluidas las que tienen una o mas cesáreas previas | C53: 0 | D53: 0
A54: Grupo 10: Todas las mujeres con embarazo único, cefálica, <37 semanas, incluidas las que tienen 1 o más cesáreas | C54: 0 | D54: 3
A55: Total cesáreas por requerimiento materno | B55: Nulípara | C55: 11 | D55: 2
B56: Multípara | C56: 21 | D56: 2
A57: Acompañamiento durante la cesárea | C57: 50 | D57: 7
A58: SECCION A.3: COMPLICACIONES
A59: TIPO DE COMPLICACIÓN | C59: Atención Institucional | F59: Parto en domicilio
C60: Parto Espontáneo | D60: Parto Inducido | E60: Césarea
A61: Hemorragia post parto | B61: Inercia
B62: Restos
B63: Trauma
B64: Desgarros III y IV
B65: Alteraciones de la coagulación
A66: Preeclampsia severa
A67: Eclampsia
A68: Sepsis o infección sistémica grave
A69: Manejo quirúrgico de la inercia uterina
A70: Histerectomía obstétrica
A71: Anemia severa postmetrorragia que requiere transfusión
A72: SECCIÓN B: INTERRUPCIÓN VOLUNTARIA DEL EMBARAZO
A73: CAUSALES | B73: CONTINUA EMBARAZO | E73: INTERRUMPE EMBARAZO | H73: Beneficiarias | I73: Pueblos Originarios | J73: Migrantes | K73: Trans masculino | L73: Discapacidad
B74: Rango Etario | E74: Rango Etario
B75: Menor de 14 años | C75: 14 - 17 años | D75: 18 y más años | E75: Menor de 14 años | F75: 14 - 17 años | G75: 18 y más años
A76: TOTAL | B76: =SUM(B77:B79) -> 0 | C76: =SUM(C77:C79) -> 0 | D76: =SUM(D77:D79) -> 0 | E76: =SUM(E77:E79) -> 0 | F76: =SUM(F77:F79) -> 0 | G76: =SUM(G77:G79) -> 0 | H76: =SUM(H77:H79) -> 0 | I76: =SUM(I77:I79) -> 0 | ... L76: =SUM(L77:L79) -> 0
A77: Causal N° 1: Mujer embarazada con riesgo vital | M77: =$CA77&CB77&CC77&CD77&CE77 | CA77: =IF(AND(SUM(E77:G77)>0,H77="")," * No olvide digitar la variable "&$H$73&""&". Digite cero si tiene.",IF(H77>SUM(E77:G77)," * La variable "&$H$73&""&" no puede ser mayor a la Suma de la variable "&$E$73&""&".","")) | CB77: =IF(AND(SUM(E77:G77)>0,I77="")," * No olvide digitar la variable Pueblos originarios. Digite cero si tiene.",IF(I77>SUM(E77:G77)," * La variable Pueblos originarios no puede ser mayor a la suma de la variable "&$E$73&""&".","")) | CC77: =IF(AND(SUM(E77:G77)>0,J77="")," * No olvide digitar la variable Migrantes. Digite cero si tiene.",IF(J77>SUM(E77:G77)," * La variable Migrantes no puede ser mayor a la suma de la variable "&$E$73&""&".","")) | CD77: =IF(AND(SUM($E77:$G77)>0,OR(K77=""))," * No olvide digitar la variable Trans Masculino. Digite Cero si no tiene.",IF(K77>SUM($E77:$G77)," * La variable Trans Masculino no puede ser mayor a la suma de la variable "&$E$73&""&".","")) | CE77: =IF(AND(SUM($E77:$G77)>0,OR(L77=""))," * No olvide digitar la variable "&$L$73&""&". Digite Cero si no tiene.",IF(L77>SUM($E77:$G77)," * La variable Discapacidad no puede ser mayor a la Suma de la variable "&$E$73&""&".","")) | CI77: =IF(AND(SUM($E77:$G77)>0,H77=""),1,IF(H77>SUM(E77:G77),1,0)) -> 0 | CJ77: =IF(AND(SUM(E77:G77)>0,I77=""),1,IF(I77>SUM(E77:G77),1,0)) -> 0 | CK77: =IF(AND(SUM(E77:G77)>0,J77=""),1,IF(J77>SUM(E77:G77),1,0)) -> 0 | CL77: =IF(AND(SUM($E77:$G77)>0,OR(K77="")),1,IF(K77>SUM($E77:$G77),1,0)) -> 0 | CM77: =IF(AND(SUM($E77:$G77)>0,OR(L77="")),1,IF(L77>SUM($E77:$G77),1,0)) -> 0
A78: Causal N° 2: Inviabilidad fetal de carácter letal | M78: =$CA78&CB78&CC78&CD78&CE78 | CA78: =IF(AND(SUM(E78:G78)>0,H78="")," * No olvide digitar la variable "&$H$73&""&". Digite cero si tiene.",IF(H78>SUM(E78:G78)," * La variable "&$H$73&""&" no puede ser mayor a la Suma de la variable "&$E$73&""&".","")) | CB78: =IF(AND(SUM(E78:G78)>0,I78="")," * No olvide digitar la variable Pueblos originarios. Digite cero si tiene.",IF(I78>SUM(E78:G78)," * La variable Pueblos originarios no puede ser mayor a la suma de la variable "&$E$73&""&".","")) | CC78: =IF(AND(SUM(E78:G78)>0,J78="")," * No olvide digitar la variable Migrantes. Digite cero si tiene.",IF(J78>SUM(E78:G78)," * La variable Migrantes no puede ser mayor a la suma de la variable "&$E$73&""&".","")) | CD78: =IF(AND(SUM($E78:$G78)>0,OR(K78=""))," * No olvide digitar la variable Trans Masculino. Digite Cero si no tiene.",IF(K78>SUM($E78:$G78)," * La variable Trans Masculino no puede ser mayor a la suma de la variable "&$E$73&""&".","")) | CE78: =IF(AND(SUM($E78:$G78)>0,OR(L78=""))," * No olvide digitar la variable "&$L$73&""&". Digite Cero si no tiene.",IF(L78>SUM($E78:$G78)," * La variable Discapacidad no puede ser mayor a la Suma de la variable "&$E$73&""&".","")) | CI78: =IF(AND(SUM($E78:$G78)>0,H78=""),1,IF(H78>SUM(E78:G78),1,0)) -> 0 | CJ78: =IF(AND(SUM(E78:G78)>0,I78=""),1,IF(I78>SUM(E78:G78),1,0)) -> 0 | CK78: =IF(AND(SUM(E78:G78)>0,J78=""),1,IF(J78>SUM(E78:G78),1,0)) -> 0 | CL78: =IF(AND(SUM($E78:$G78)>0,OR(K78="")),1,IF(K78>SUM($E78:$G78),1,0)) -> 0 | CM78: =IF(AND(SUM($E78:$G78)>0,OR(L78="")),1,IF(L78>SUM($E78:$G78),1,0)) -> 0
A79: Causal N° 3: Por violación | M79: =$CA79&CB79&CC79&CD79&CE79 | CA79: =IF(AND(SUM(E79:G79)>0,H79="")," * No olvide digitar la variable "&$H$73&""&". Digite cero si tiene.",IF(H79>SUM(E79:G79)," * La variable "&$H$73&""&" no puede ser mayor a la Suma de la variable "&$E$73&""&""&".","")) | CB79: =IF(AND(SUM(E79:G79)>0,I79="")," * No olvide digitar la variable Pueblos originarios. Digite cero si tiene.",IF(I79>SUM(E79:G79)," * La variable Pueblos originarios no puede ser mayor a la suma de la variable "&$E$73&""&".","")) | CC79: =IF(AND(SUM(E79:G79)>0,J79="")," * No olvide digitar la variable Migrantes. Digite cero si tiene.",IF(J79>SUM(E79:G79)," * La variable Migrantes no puede ser mayor a la suma de la variable "&$E$73&""&".","")) | CD79: =IF(AND(SUM($E79:$G79)>0,OR(K79=""))," * No olvide digitar la variable Trans Masculino. Digite Cero si no tiene.",IF(K79>SUM($E79:$G79)," * La variable Trans Masculino no puede ser mayor a la suma de la variable"&$E$73&""&".","")) | CE79: =IF(AND(SUM($E79:$G79)>0,OR(L79=""))," * No olvide digitar la variable "&$L$73&""&". Digite Cero si no tiene.",IF(L79>SUM($E79:$G79)," * La variable Discapacidad no puede ser mayor a la Suma de la variable "&$E$73&""&".","")) | CI79: =IF(AND(SUM($E79:$G79)>0,H79=""),1,IF(H79>SUM(E79:G79),1,0)) -> 0 | CJ79: =IF(AND(SUM(E79:G79)>0,I79=""),1,IF(I79>SUM(E79:G79),1,0)) -> 0 | CK79: =IF(AND(SUM(E79:G79)>0,J79=""),1,IF(J79>SUM(E79:G79),1,0)) -> 0 | CL79: =IF(AND(SUM($E79:$G79)>0,OR(K79="")),1,IF(K79>SUM($E79:$G79),1,0)) -> 0 | CM79: =IF(AND(SUM($E79:$G79)>0,OR(L79="")),1,IF(L79>SUM($E79:$G79),1,0)) -> 0
A80: SECCIÓN B.1 PROGAMA DE ACOMPAÑAMIENTO IVE
A81: ATENCIONES DE ACOMPAÑAMIENTO | B81: RANGO ETARIO | E81: CAUSAL IVE GESTANTE ATENDIDA
B82: Menor de 14 años | C82: 14 - 17 años | D82: 18 y más años | E82: Causal 1 | F82: Causal 2 | G82: Causal 3
A83: TOTAL | B83: =B84+B85+B86+B87+B88 -> 1 | C83: =C84+C85+C86+C87+C88 -> 0 | D83: =D84+D85+D86+D87+D88 -> 0 | E83: =E84+E85+E86+E87+E88 -> 0 | F83: =F84+F85+F86+F87+F88 -> 0 | G83: =G84+G85+G86+G87+G88 -> 0
A84: Atención por psiquiatra | B84: 0 | C84: 0 | D84: 0 | E84: 0 | F84: 0 | G84: 0
A85: Atención por psicólogo(a) | B85: 0 | C85: 0 | D85: 0 | E85: 0 | F85: 0 | G85: 0
A86: Atención por trabajador(a) social | B86: 0 | C86: 0 | D86: 0 | E86: 0 | F86: 0 | G86: 0
A87: Atención por Dupla (psicólogo(a) + trabajador(a) social) | B87: 0 | C87: 0 | D87: 0 | E87: 0 | F87: 0 | G87: 0
A88: Visita Domiciliaria | B88: 1 | C88: 0 | D88: 0 | E88: 0 | F88: 0 | G88: 0
A89: SECCIÓN C: MÉTODO ANTICONCEPTIVO AL ALTA
A90: MÉTODO ANTICONCEPTIVO | C90: Post Aborto | D90: Intracesárea | E90: Post Parto | F90: Post IVE | G90: RANGO ETARIO
G91: < 15 años | H91: 15-19 años | I91: 20 y más años
A92: DIU con Cobre
A93: DIU con Levonorgestrel
A94: Hormonal | B94: Oral Combinado
B95: Oral Progestágeno
B96: Inyectable Combinado
B97: Inyectable Progestágeno
B98: Implante Etonogestrel (3 años) | E98: 1 | I98: 1
B99: Implante Levonorgestrel (5 años)
B100: Anillo de Progestágeno
A101: Métodos de barrera
...

Sheet MARZO
A1: SERVICIO DE SALUD
A2: =CONCATENATE("COMUNA: ",[8]NOMBRE!B2, " (",[8]NOMBRE!C2,[8]NOMBRE!D2,[8]NOMBRE!E2,[8]NOMBRE!F2,[8]NOMBRE!G2,")") -> COMUNA: LINARES (07401)
A3: =CONCATENATE("ESTABLECIMIENTO/ESTRATEGIA: ", [8]NOMBRE!B3, " (",[8]NOMBRE!C3,[8]NOMBRE!D3,[8]NOMBRE!E3,[8]NOMBRE!F3,[8]NOMBRE!G3,[8]NOMBRE!H3,")") -> ESTABLECIMIENTO/ESTRATEGIA: HOSPITAL PRESIDENTE CARLOS IBAÑEZ DEL CAMPO (116108)
A4: =CONCATENATE("MES: ",[8]NOMBRE!B6, " (",[8]NOMBRE!C6,[8]NOMBRE!D6,")") -> MES: MARZO (03)
A5: =CONCATENATE("AÑO: ",[8]NOMBRE!B7) -> AÑO: 2025
A6: REM-A24. ATENCIÓN OBSTÉTRICA Y DEL RECIÉN NACIDO
A8: SECCIÓN A: INFORMACIÓN GENERAL DE PARTOS
A9: CARACTERISTICAS DEL PARTO | C9: TOTAL | D9: PARTOS SEGÚN EDAD DE LA MADRE | H9: PARTOS PREMATUROS (CONSIDERAR SOBRE 22 SEMANAS) | L9: Uso de oxitocina profiláctica | M9: ANESTESIA Y/O ANALGESIA DEL PARTO (MEDIDAS FARMACOLÓGICAS Y NO FARMACOLÓGICAS) | S9: Ligadura tardía del cordón (> a 60 segundos) | T9: CONTACTO INMEDIATO PIEL A PIEL >30 MINUTOS | X9: Lactancia materna en los primeros 60 minutos de vida (RN con peso de 2.500 grs. o más) | Y9: Alojamiento conjunto en puerperio inmediato | Z9: Atención con pertinencia cultural | AA9: Pueblos Originarios | AB9: Migrantes | AC9: Discapacidad | AD9: Privada de Libertad | AE9: Identidad de Género
D10: < 15 años | E10: 15 - 19 años | F10: 20 - 34 años | G10: ≥35 años | H10: Partos prematuros menos de 24 semanas | I10: Partos prematuros de 24 a 28 semanas | J10: Partos prematuros de 29 a 32 semanas | K10: Partos prematuros de 33 a 36 semanas | M10: Anestesia Neuroaxial | N10: Óxido nitroso | O10: Analgesia endovenosa | P10: General | Q10: Local | R10: Medidas no farmacológicas | T10: Con la Madre | V10: Con el padre o acompañante significativo
T11: RN peso menor o igual a 2.499 grs. | U11: RN con peso de 2.500 grs. o más | V11: RN peso menor o igual a 2.499 grs. | W11: RN con peso de 2.500 grs. o más | AE11: Trans masculino | AF11: No binarie
A12: TOTAL PARTOS | C12: =SUM(C13:C16) -> 127 | D12: =SUM(D13:D16) -> 1 | E12: =SUM(E13:E16) -> 10 | F12: =SUM(F13:F16) -> 73 | G12: =SUM(G13:G16) -> 43 | H12: =SUM(H13:H16) -> 0 | I12: =SUM(I13:I16) -> 1 | J12: =SUM(J13:J16) -> 1 | ... AF12: =SUM(AF13:AF16) -> 0
A13: Vaginal | C13: 56 | D13: 1 | E13: 9 | F13: 34 | G13: 12 | H13: 0 | I13: 1 | J13: 0 | K13: 7 | L13: 55 | M13: 38 | N13: 0 | O13: 0 | P13: 0 | Q13: 22 | R13: 55 | S13: 43 | T13: 50 | U13: 2 | V13: 43 | W13: 2 | X13: 50 | Y13: 50 | Z13: 0 | AA13: 0 | AB13: 6 | AC13: 0 | AD13: 0 | AE13: 0 | AF13: 0 | AG13: =$CA13&CB13&CC13&CD13&CE13 | CA13: =IF(AND(C13>0,AA13="")," * No olvide digitar la variable Pueblos originarios. Digite Cero si no tiene.",IF(AA13>C13," * La variable Pueblos originarios no puede ser mayor al Total.","")) | CB13: =IF(AND(C13>0,AB13="")," * No olvide digitar la variable Migrantes. Digite Cero si no tiene.",IF(AB13>C13," * La variable Migrantes no puede ser mayor al Total.","")) | CC13: =IF(AND($C13>0,OR(AC13=""))," * No olvide digitar la variable "&$AC$9&""&". Digite Cero si no tiene.",IF(OR(AC13>$C13)," * La variable Discapacidad no puede ser mayor al Total.","")) | CD13: =IF(AND($C13>0,OR(AD13=""))," * No olvide digitar la variable "&$AD$9&""&". Digite Cero si no tiene.",IF(OR(AD13>$C13)," * La variable "&$AD$9&""&" no puede ser mayor al Total.","")) | CE13: =IF(AND($C13>0,OR(AE13="",AF13=""))," * No olvide digitar la variable "&$AE$9&""&". Digite Cero si no tiene.",IF(OR(AE13+AF13>$C13)," * La variable "&$AE$9&""&" no puede ser mayor al Total.","")) | CI13: =IF(AND($C13>0,AA13=""),1,IF(AA13>$C13,1,0)) -> 0 | CJ13: =IF(AND($C13>0,AB13=""),1,IF(AB13>$C13,1,0)) -> 0 | CK13: =IF(AND($C13>0,AC13=""),1,IF(AC13>$C13,1,0)) -> 0 | CL13: =IF(AND($C13>0,AD13=""),1,IF(AD13>$C13,1,0)) -> 0 | CM13: =IF(AND($C13>0,AE13="",AF13=""),1,IF(AE13+AF13>$C13,1,0)) -> 0
A14: Instrumental | C14: 1 | D14: 0 | E14: 0 | F14: 0 | G14: 1 | H14: 0 | I14: 0 | J14: 0 | K14: 0 | L14: 2 | M14: 2 | N14: 0 | O14: 0 | P14: 0 | Q14: 2 | R14: 2 | S14: 0 | T14: 1 | U14: 0 | V14: 1 | W14: 0 | X14: 0 | Y14: 1 | Z14: 0 | AA14: 0 | AB14: 1 | AC14: 0 | AD14: 0 | AE14: 0 | AF14: 0 | AG14: =$CA14&CB14&CC14&CD14&CE14 | CA14: =IF(AND(C14>0,AA14="")," * No olvide digitar la variable Pueblos originarios. Digite Cero si no tiene.",IF(AA14>C14," * La variable Pueblos originarios no puede ser mayor al Total.","")) | CB14: =IF(AND(C14>0,AB14="")," * No olvide digitar la variable Migrantes. Digite Cero si no tiene.",IF(AB14>C14," * La variable Migrantes no puede ser mayor al Total.","")) | CC14: =IF(AND($C14>0,OR(AC14=""))," * No olvide digitar la variable "&$AC$9&""&". Digite Cero si no tiene.",IF(OR(AC14>$C14)," * La variable Discapacidad no puede ser mayor al Total.","")) | CD14: =IF(AND($C14>0,OR(AD14=""))," * No olvide digitar la variable "&$AD$9&""&". Digite Cero si no tiene.",IF(OR(AD14>$C14)," * La variable "&$AD$9&""&" no puede ser mayor al Total.","")) | CE14: =IF(AND($C14>0,OR(AE14="",AF14=""))," * No olvide digitar la variable "&$AE$9&""&". Digite Cero si no tiene.",IF(OR(AE14+AF14>$C14)," * La variable "&$AE$9&""&" no puede ser mayor al Total.","")) | CI14: =IF(AND($C14>0,AA14=""),1,IF(AA14>$C14,1,0)) -> 0 | CJ14: =IF(AND($C14>0,AB14=""),1,IF(AB14>$C14,1,0)) -> 0 | CK14: =IF(AND($C14>0,AC14=""),1,IF(AC14>$C14,1,0)) -> 0 | CL14: =IF(AND($C14>0,AD14=""),1,IF(AD14>$C14,1,0)) -> 0 | CM14: =IF(AND($C14>0,AE14="",AF14=""),1,IF(AE14+AF14>$C14,1,0)) -> 0
A15: Cesárea Electiva | C15: 50 | D15: 0 | E15: 0 | F15: 25 | G15: 25 | H15: 0 | I15: 0 | J15: 0 | K15: 2 | L15: 48 | M15: 0 | N15: 0 | O15: 0 | P15: 0 | Q15: 0 | R15: 0 | S15: 34 | T15: 17 | U15: 2 | V15: 16 | W15: 4 | X15: 0 | Y15: 45 | Z15: 0 | AA15: 0 | AB15: 1 | AC15: 0 | AD15: 0 | AE15: 0 | AF15: 0 | AG15: =$CA15&CB15&CC15&CD15&CE15 | CA15: =IF(AND(C15>0,AA15="")," * No olvide digitar la variable Pueblos originarios. Digite Cero si no tiene.",IF(AA15>C15," * La variable Pueblos originarios no puede ser mayor al Total.","")) | CB15: =IF(AND(C15>0,AB15="")," * No olvide digitar la variable Migrantes. Digite Cero si no tiene.",IF(AB15>C15," * La variable Migrantes no puede ser mayor al Total.","")) | CC15: =IF(AND($C15>0,OR(AC15=""))," * No olvide digitar la variable "&$AC$9&""&". Digite Cero si no tiene.",IF(OR(AC15>$C15)," * La variable Discapacidad no puede ser mayor al Total.","")) | CD15: =IF(AND($C15>0,OR(AD15=""))," * No olvide digitar la variable "&$AD$9&""&". Digite Cero si no tiene.",IF(OR(AD15>$C15)," * La variable "&$AD$9&""&" no puede ser mayor al Total.","")) | CE15: =IF(AND($C15>0,OR(AE15="",AF15=""))," * No olvide digitar la variable "&$AE$9&""&". Digite Cero si no tiene.",IF(OR(AE15+AF15>$C15)," * La variable "&$AE$9&""&" no puede ser mayor al Total.","")) | CI15: =IF(AND($C15>0,AA15=""),1,IF(AA15>$C15,1,0)) -> 0 | CJ15: =IF(AND($C15>0,AB15=""),1,IF(AB15>$C15,1,0)) -> 0 | CK15: =IF(AND($C15>0,AC15=""),1,IF(AC15>$C15,1,0)) -> 0 | CL15: =IF(AND($C15>0,AD15=""),1,IF(AD15>$C15,1,0)) -> 0 | CM15: =IF(AND($C15>0,AE15="",AF15=""),1,IF(AE15+AF15>$C15,1,0)) -> 0
A16: Cesárea Urgencia | C16: 20 | D16: 0 | E16: 1 | F16: 14 | G16: 5 | H16: 0 | I16: 0 | J16: 1 | K16: 3 | L16: 22 | M16: 0 | N16: 0 | O16: 0 | P16: 1 | Q16: 0 | R16: 0 | S16: 27 | T16: 48 | U16: 1 | V16: 48 | W16: 2 | X16: 0 | Y16: 20 | Z16: 0 | AA16: 0 | AB16: 1 | AC16: 0 | AD16: 0 | AE16: 0 | AF16: 0 | AG16: =$CA16&CB16&CC16&CD16&CE16 | CA16: =IF(AND(C16>0,AA16="")," * No olvide digitar la variable Pueblos originarios. Digite Cero si no tiene.",IF(AA16>C16," * La variable Pueblos originarios no puede ser mayor al Total.","")) | CB16: =IF(AND(C16>0,AB16="")," * No olvide digitar la variable Migrantes. Digite Cero si no tiene.",IF(AB16>C16," * La variable Migrantes no puede ser mayor al Total.","")) | CC16: =IF(AND($C16>0,OR(AC16=""))," * No olvide digitar la variable "&$AC$9&""&". Digite Cero si no tiene.",IF(OR(AC16>$C16)," * La variable Discapacidad no puede ser mayor al Total.","")) | CD16: =IF(AND($C16>0,OR(AD16=""))," * No olvide digitar la variable "&$AD$9&""&". Digite Cero si no tiene.",IF(OR(AD16>$C16)," * La variable "&$AD$9&""&" no puede ser mayor al Total.","")) | CE16: =IF(AND($C16>0,OR(AE16="",AF16=""))," * No olvide digitar la variable "&$AE$9&""&". Digite Cero si no tiene.",IF(OR(AE16+AF16>$C16)," * La variable "&$AE$9&""&" no puede ser mayor al Total.","")) | CI16: =IF(AND($C16>0,AA16=""),1,IF(AA16>$C16,1,0)) -> 0 | CJ16: =IF(AND($C16>0,AB16=""),1,IF(AB16>$C16,1,0)) -> 0 | CK16: =IF(AND($C16>0,AC16=""),1,IF(AC16>$C16,1,0)) -> 0 | CL16: =IF(AND($C16>0,AD16=""),1,IF(AD16>$C16,1,0)) -> 0 | CM16: =IF(AND($C16>0,AE16="",AF16=""),1,IF(AE16+AF16>$C16,1,0)) -> 0
A17: Parto prehospitalario (en establecimientos salud o ambulancias) | C17: 0 | D17: 0 | E17: 0 | F17: 0 | G17: 0 | L17: 0 | M17: 0 | N17: 0 | O17: 0 | P17: 0 | Q17: 0 | R17: 0 | AG17: =$CA17&CB17&CC17&CD17&CE17 | CA17: =IF(AND(C17>0,AA17="")," * No olvide digitar la variable Pueblos originarios. Digite Cero si no tiene.",IF(AA17>C17," * La variable Pueblos originarios no puede ser mayor al Total.","")) | CB17: =IF(AND(C17>0,AB17="")," * No olvide digitar la variable Migrantes. Digite Cero si no tiene.",IF(AB17>C17," * La variable Migrantes no puede ser mayor al Total.","")) | CC17: =IF(AND($C17>0,OR(AC17=""))," * No olvide digitar la variable "&$AC$9&""&". Digite Cero si no tiene.",IF(OR(AC17>$C17)," * La variable Discapacidad no puede ser mayor al Total.","")) | CD17: =IF(AND($C17>0,OR(AD17=""))," * No olvide digitar la variable "&$AD$9&""&". Digite Cero si no tiene.",IF(OR(AD17>$C17)," * La variable "&$AD$9&""&" no puede ser mayor al Total.","")) | CE17: =IF(AND($C17>0,OR(AE17="",AF17=""))," * No olvide digitar la variable "&$AE$9&""&". Digite Cero si no tiene.",IF(OR(AE17+AF17>$C17)," * La variable "&$AE$9&""&" no puede ser mayor al Total.","")) | CI17: =IF(AND($C17>0,AA17=""),1,IF(AA17>$C17,1,0)) -> 0 | CJ17: =IF(AND($C17>0,AB17=""),1,IF(AB17>$C17,1,0)) -> 0 | CK17: =IF(AND($C17>0,AC17=""),1,IF(AC17>$C17,1,0)) -> 0 | CL17: =IF(AND($C17>0,AD17=""),1,IF(AD17>$C17,1,0)) -> 0 | CM17: =IF(AND($C17>0,AE17="",AF17=""),1,IF(AE17+AF17>$C17,1,0)) -> 0
A18: Partos fuera de la red de salud | C18: 0 | D18: 0 | E18: 0 | F18: 0 | G18: 0 | L18: 0 | M18: 0 | N18: 0 | O18: 0 | P18: 0 | Q18: 0 | R18: 0 | AG18: =$CA18&CB18&CC18&CD18&CE18 | CA18: =IF(AND(C18>0,AA18="")," * No olvide digitar la variable Pueblos originarios. Digite Cero si no tiene.",IF(AA18>C18," * La variable Pueblos originarios no puede ser mayor al Total.","")) | CB18: =IF(AND(C18>0,AB18="")," * No olvide digitar la variable Migrantes. Digite Cero si no tiene.",IF(AB18>C18," * La variable Migrantes no puede ser mayor al Total.","")) | CC18: =IF(AND($C18>0,OR(AC18=""))," * No olvide digitar la variable "&$AC$9&""&". Digite Cero si no tiene.",IF(OR(AC18>$C18)," * La variable Discapacidad no puede ser mayor al Total.","")) | CD18: =IF(AND($C18>0,OR(AD18=""))," * No olvide digitar la variable "&$AD$9&""&". Digite Cero si no tiene.",IF(OR(AD18>$C18)," * La variable "&$AD$9&""&" no puede ser mayor al Total.","")) | CE18: =IF(AND($C18>0,OR(AE18="",AF18=""))," * No olvide digitar la variable "&$AE$9&""&". Digite Cero si no tiene.",IF(OR(AE18+AF18>$C18)," * La variable "&$AE$9&""&" no puede ser mayor al Total.","")) | CI18: =IF(AND($C18>0,AA18=""),1,IF(AA18>$C18,1,0)) -> 0 | CJ18: =IF(AND($C18>0,AB18=""),1,IF(AB18>$C18,1,0)) -> 0 | CK18: =IF(AND($C18>0,AC18=""),1,IF(AC18>$C18,1,0)) -> 0 | CL18: =IF(AND($C18>0,AD18=""),1,IF(AD18>$C18,1,0)) -> 0 | CM18: =IF(AND($C18>0,AE18="",AF18=""),1,IF(AE18+AF18>$C18,1,0)) -> 0
A19: Plan de parto | C19: 22 | D19: 0 | E19: 0 | F19: 12 | G19: 10 | H19: 0 | I19: 0 | J19: 0 | K19: 0 | L19: 0 | M19: 0 | N19: 0 | O19: 0 | P19: 0 | Q19: 0 | R19: 0 | S19: 0 | T19: 0 | U19: 0 | V19: 0 | W19: 0 | X19: 0 | Y19: 0 | Z19: 0 | AA19: 0 | AB19: 0 | AC19: 0 | AD19: 0 | AE19: 0 | AF19: 0 | AG19: =$CA19&CB19&CC19&CD19&CE19 | CA19: =IF(AND(C19>0,AA19="")," * No olvide digitar la variable Pueblos originarios. Digite Cero si no tiene.",IF(AA19>C19," * La variable Pueblos originarios no puede ser mayor al Total.","")) | CB19: =IF(AND(C19>0,AB19="")," * No olvide digitar la variable Migrantes. Digite Cero si no tiene.",IF(AB19>C19," * La variable Migrantes no puede ser mayor al Total.","")) | CC19: =IF(AND($C19>0,OR(AC19=""))," * No olvide digitar la variable "&$AC$9&""&". Digite Cero si no tiene.",IF(OR(AC19>$C19)," * La variable Discapacidad no puede ser mayor al Total.","")) | CD19: =IF(AND($C19>0,OR(AD19=""))," * No olvide digitar la variable "&$AD$9&""&". Digite Cero si no tiene.",IF(OR(AD19>$C19)," * La variable "&$AD$9&""&" no puede ser mayor al Total.","")) | CE19: =IF(AND($C19>0,OR(AE19="",AF19=""))," * No olvide digitar la variable "&$AE$9&""&". Digite Cero si no tiene.",IF(OR(AE19+AF19>$C19)," * La variable "&$AE$9&""&" no puede ser mayor al Total.","")) | CI19: =IF(AND($C19>0,AA19=""),1,IF(AA19>$C19,1,0)) -> 0 | CJ19: =IF(AND($C19>0,AB19=""),1,IF(AB19>$C19,1,0)) -> 0 | CK19: =IF(AND($C19>0,AC19=""),1,IF(AC19>$C19,1,0)) -> 0 | CL19: =IF(AND($C19>0,AD19=""),1,IF(AD19>$C19,1,0)) -> 0 | CM19: =IF(AND($C19>0,AE19="",AF19=""),1,IF(AE19+AF19>$C19,1,0)) -> 0
A20: Entrega de placenta a solicitud | C20: 0 | D20: 0 | E20: 0 | F20: 0 | G20: 0 | L20: 0 | M20: 0 | N20: 0 | O20: 0 | P20: 0 | Q20: 0 | R20: 0 | AG20: =$CA20&CB20&CC20&CD20&CE20 | CA20: =IF(AND(C20>0,AA20="")," * No olvide digitar la variable Pueblos originarios. Digite Cero si no tiene.",IF(AA20>C20," * La variable Pueblos originarios no puede ser mayor al Total.","")) | CB20: =IF(AND(C20>0,AB20="")," * No olvide digitar la variable Migrantes. Digite Cero si no tiene.",IF(AB20>C20," * La variable Migrantes no puede ser mayor al Total.","")) | CC20: =IF(AND($C20>0,OR(AC20=""))," * No olvide digitar la variable "&$AC$9&""&". Digite Cero si no tiene.",IF(OR(AC20>$C20)," * La variable Discapacidad no puede ser mayor al Total.","")) | CD20: =IF(AND($C20>0,OR(AD20=""))," * No olvide digitar la variable "&$AD$9&""&". Digite Cero si no tiene.",IF(OR(AD20>$C20)," * La variable "&$AD$9&""&" no puede ser mayor al Total.","")) | CE20: =IF(AND($C20>0,OR(AE20="",AF20=""))," * No olvide digitar la variable "&$AE$9&""&". Digite Cero si no tiene.",IF(OR(AE20+AF20>$C20)," * La variable "&$AE$9&""&" no puede ser mayor al Total.","")) | CI20: =IF(AND($C20>0,AA20=""),1,IF(AA20>$C20,1,0)) -> 0 | CJ20: =IF(AND($C20>0,AB20=""),1,IF(AB20>$C20,1,0)) -> 0 | CK20: =IF(AND($C20>0,AC20=""),1,IF(AC20>$C20,1,0)) -> 0 | CL20: =IF(AND($C20>0,AD20=""),1,IF(AD20>$C20,1,0)) -> 0 | CM20: =IF(AND($C20>0,AE20="",AF20=""),1,IF(AE20+AF20>$C20,1,0)) -> 0
A21: Embarazo no controlado | C21: 0 | D21: 0 | E21: 0 | F21: 0 | G21: 0 | L21: 0 | M21: 0 | N21: 0 | O21: 0 | P21: 0 | Q21: 0 | R21: 0 | AG21: =$CA21&CB21&CC21&CD21&CE21 | CA21: =IF(AND(C21>0,AA21="")," * No olvide digitar la variable Pueblos originarios. Digite Cero si no tiene.",IF(AA21>C21," * La variable Pueblos originarios no puede ser mayor al Total.","")) | CB21: =IF(AND(C21>0,AB21="")," * No olvide digitar la variable Migrantes. Digite Cero si no tiene.",IF(AB21>C21," * La variable Migrantes no puede ser mayor al Total.","")) | CC21: =IF(AND($C21>0,OR(AC21=""))," * No olvide digitar la variable "&$AC$9&""&". Digite Cero si no tiene.",IF(OR(AC21>$C21)," * La variable Discapacidad no puede ser mayor al Total.","")) | CD21: =IF(AND($C21>0,OR(AD21=""))," * No olvide digitar la variable "&$AD$9&""&". Digite Cero si no tiene.",IF(OR(AD21>$C21)," * La variable "&$AD$9&""&" no puede ser mayor al Total.","")) | CE21: =IF(AND($C21>0,OR(AE21="",AF21=""))," * No olvide digitar la variable "&$AE$9&""&". Digite Cero si no tiene.",IF(OR(AE21+AF21>$C21)," * La variable "&$AE$9&""&" no puede ser mayor al Total.","")) | CI21: =IF(AND($C21>0,AA21=""),1,IF(AA21>$C21,1,0)) -> 0 | CJ21: =IF(AND($C21>0,AB21=""),1,IF(AB21>$C21,1,0)) -> 0 | CK21: =IF(AND($C21>0,AC21=""),1,IF(AC21>$C21,1,0)) -> 0 | CL21: =IF(AND($C21>0,AD21=""),1,IF(AD21>$C21,1,0)) -> 0 | CM21: =IF(AND($C21>0,AE21="",AF21=""),1,IF(AE21+AF21>$C21,1,0)) -> 0
A22: Parto en domicilio | B22: Con atención profesional | C22: 0 | D22: 0 | E22: 0 | F22: 0 | G22: 0 | L22: 0 | M22: 0 | N22: 0 | O22: 0 | P22: 0 | Q22: 0 | R22: 0 | AG22: =$CA22&CB22&CC22&CD22&CE22 | CA22: =IF(AND(C22>0,AA22="")," * No olvide digitar la variable Pueblos originarios. Digite Cero si no tiene.",IF(AA22>C22," * La variable Pueblos originarios no puede ser mayor al Total.","")) | CB22: =IF(AND(C22>0,AB22="")," * No olvide digitar la variable Migrantes. Digite Cero si no tiene.",IF(AB22>C22," * La variable Migrantes no puede ser mayor al Total.","")) | CC22: =IF(AND($C22>0,OR(AC22=""))," * No olvide digitar la variable "&$AC$9&""&". Digite Cero si no tiene.",IF(OR(AC22>$C22)," * La variable Discapacidad no puede ser mayor al Total.","")) | CD22: =IF(AND($C22>0,OR(AD22=""))," * No olvide digitar la variable "&$AD$9&""&". Digite Cero si no tiene.",IF(OR(AD22>$C22)," * La variable "&$AD$9&""&" no puede ser mayor al Total.","")) | CE22: =IF(AND($C22>0,OR(AE22="",AF22=""))," * No olvide digitar la variable "&$AE$9&""&". Digite Cero si no tiene.",IF(OR(AE22+AF22>$C22)," * La variable "&$AE$9&""&" no puede ser mayor al Total.","")) | CI22: =IF(AND($C22>0,AA22=""),1,IF(AA22>$C22,1,0)) -> 0 | CJ22: =IF(AND($C22>0,AB22=""),1,IF(AB22>$C22,1,0)) -> 0 | CK22: =IF(AND($C22>0,AC22=""),1,IF(AC22>$C22,1,0)) -> 0 | CL22: =IF(AND($C22>0,AD22=""),1,IF(AD22>$C22,1,0)) -> 0 | CM22: =IF(AND($C22>0,AE22="",AF22=""),1,IF(AE22+AF22>$C22,1,0)) -> 0
B23: Sin atención profesional | C23: 0 | D23: 0 | E23: 0 | F23: 0 | G23: 0 | L23: 0 | M23: 0 | N23: 0 | O23: 0 | P23: 0 | Q23: 0 | R23: 0 | AG23: =$CA23&CB23&CC23&CD23&CE23 | CA23: =IF(AND(C23>0,AA23="")," * No olvide digitar la variable Pueblos originarios. Digite Cero si no tiene.",IF(AA23>C23," * La variable Pueblos originarios no puede ser mayor al Total.","")) | CB23: =IF(AND(C23>0,AB23="")," * No olvide digitar la variable Migrantes. Digite Cero si no tiene.",IF(AB23>C23," * La variable Migrantes no puede ser mayor al Total.","")) | CC23: =IF(AND($C23>0,OR(AC23=""))," * No olvide digitar la variable "&$AC$9&""&". Digite Cero si no tiene.",IF(OR(AC23>$C23)," * La variable Discapacidad no puede ser mayor al Total.","")) | CD23: =IF(AND($C23>0,OR(AD23=""))," * No olvide digitar la variable "&$AD$9&""&". Digite Cero si no tiene.",IF(OR(AD23>$C23)," * La variable "&$AD$9&""&" no puede ser mayor al Total.","")) | CE23: =IF(AND($C23>0,OR(AE23="",AF23=""))," * No olvide digitar la variable "&$AE$9&""&". Digite Cero si no tiene.",IF(OR(AE23+AF23>$C23)," * La variable "&$AE$9&""&" no puede ser mayor al Total.","")) | CI23: =IF(AND($C23>0,AA23=""),1,IF(AA23>$C23,1,0)) -> 0 | CJ23: =IF(AND($C23>0,AB23=""),1,IF(AB23>$C23,1,0)) -> 0 | CK23: =IF(AND($C23>0,AC23=""),1,IF(AC23>$C23,1,0)) -> 0 | CL23: =IF(AND($C23>0,AD23=""),1,IF(AD23>$C23,1,0)) -> 0 | CM23: =IF(AND($C23>0,AE23="",AF23=""),1,IF(AE23+AF23>$C23,1,0)) -> 0
A24: SECCION A.1: PARTOS VAGINALES *
A25: CARACTERÍSTICAS DEL MODELO DE ATENCIÓN | C25: TOTAL | D25: <28 semanas | E25: 28 - 37 semanas | F25: 38 semanas y más
A26: Espontáneo | C26: =SUM(D26:F26) -> 18 | D26: 0 | E26: 3 | F26: 15
A27: Inducidos | B27: Mecánica | C27: =SUM(D27:F27) -> 1 | D27: 0 | E27: 0 | F27: 1
B28: Farmacológica | C28: =SUM(D28:F28) -> 17 | D28: 1 | E28: 2 | F28: 14
A29: Conducción oxitócica | C29: =SUM(D29:F29) -> 21 | D29: 0 | E29: 1 | F29: 20
A30: Libertad de movimiento | C30: =SUM(D30:F30) -> 56 | D30: 1 | E30: 6 | F30: 49
A31: Régimen hídrico amplio | C31: =SUM(D31:F31) -> 56 | D31: 1 | E31: 6 | F31: 49
A32: Manejo del dolor | B32: No farmacológico | C32: =SUM(D32:F32) -> 56 | D32: 1 | E32: 6 | F32: 49
B33: Farmacológico | C33: =SUM(D33:F33) -> 40 | D33: 1 | E33: 5 | F33: 34
A34: Posición al momento del expulsivo | B34: Litotomía | C34: =SUM(D34:F34) -> 56 | D34: 1 | E34: 6 | F34: 49
B35: Otras posiciones | C35: =SUM(D35:F35) -> 0 | D35: 0 | E35: 0 | F35: 0
A36: Episiotomía | C36: =SUM(D36:F36) -> 6 | D36: 0 | E36: 0 | F36: 6
A37: Acompañamiento | B37: Durante el trabajo de parto | C37: =SUM(D37:F37) -> 48 | D37: 1 | E37: 4 | F37: 43
B38: Sólo en el expulsivo | C38: =SUM(D38:F38) -> 4 | D38: 0 | E38: 1 | F38: 3
A39: (*) Partos de Término y Pre-Término
A40: SECCION A.2: CESÁREAS (RESPONSABILIDAD DEL MÉDICO JEFE DEL SERVICIO DE OBSTETRICIA)
A41: CLASIFICACIÓN SEGÚN MODELO DE ROBSON | C41: Programada | D41: Urgencia
A42: Grupo 1: Nulíparas, embarazo único, cefálica, ≥37 semanas en trabajo de parto espontáneo | C42: 12 | D42: 6
A43: Grupo 2: Nulíparas, embarazo único, cefálica, ≥37 semanas, cesárea programada o con inducción de trabajo de parto | B43: Césarea por inducción fracasada | C43: 1 | D43: 1
B44: Césarea programada | C44: 8 | D44: 3
A45: Grupo 3: Multípara, sin cesárea previa, embarazo único, cefálica, ≥37 semanas en trabajo de parto espontáneo | C45: 3 | D45: 1
A46: Grupo 4: Multípara, sin cesárea previa, embarazo único, cefálica, ≥37 semanas, cesárea programada o con inducción de trabajo de parto | B46: Césarea por inducción fracasada | C46: 0 | D46: 2
B47: Césarea programada | C47: 2 | D47: 2
A48: Grupo 5: multíparas con al menos 1 cesárea previa, embarazo unico, cefálica, ≥37 semanas | B48: 5.1: con 1 cesárea previa | C48: 18 | D48: 0
B49: 5.2: 2 o más cesareas previas | C49: 2 | D49: 2
A50: Grupo 6: Nulíparas, embarazo único, podálica | C50: 0 | D50: 0
A51: Grupo 7: Multíparas, embarazo único, podálica, con 1 o más cesáreas previas | C51: 1 | D51: 0
A52: Grupo 8: Todas las mujeres con embarazo múltiple, incluidas las que tienen 1 o más cesáreas previas | C52: 1 | D52: 0
A53: Grupo 9: Embarazo único, transverso y oblicuo, incluidas las que tienen una o mas cesáreas previas | C53: 0 | D53: 0
A54: Grupo 10: Todas las mujeres con embarazo único, cefálica, <37 semanas, incluidas las que tienen 1 o más cesáreas | C54: 2 | D54: 3
A55: Total cesáreas por requerimiento materno | B55: Nulípara | C55: 2 | D55: 1
B56: Multípara | C56: 10 | D56: 0
A57: Acompañamiento durante la cesárea | C57: 48 | D57: 16
A58: SECCION A.3: COMPLICACIONES
A59: TIPO DE COMPLICACIÓN | C59: Atención Institucional | F59: Parto en domicilio
C60: Parto Espontáneo | D60: Parto Inducido | E60: Césarea
A61: Hemorragia post parto | B61: Inercia | C61: 0 | D61: 0 | E61: 1 | F61: 0
B62: Restos | C62: 2 | D62: 0 | E62: 0 | F62: 0
B63: Trauma | C63: 0 | D63: 0 | E63: 0 | F63: 0
B64: Desgarros III y IV | C64: 0 | D64: 0 | E64: 0 | F64: 0
B65: Alteraciones de la coagulación | C65: 0 | D65: 0 | E65: 0 | F65: 0
A66: Preeclampsia severa | C66: 0 | D66: 1 | E66: 4 | F66: 0
A67: Eclampsia | C67: 0 | D67: 0 | E67: 1 | F67: 0
A68: Sepsis o infección sistémica grave | C68: 0 | D68: 0 | E68: 0 | F68: 0
A69: Manejo quirúrgico de la inercia uterina | C69: 0 | D69: 0 | E69: 1 | F69: 0
A70: Histerectomía obstétrica | C70: 0 | D70: 0 | E70: 1 | F70: 0
A71: Anemia severa postmetrorragia que requiere transfusión | C71: 2 | D71: 0 | E71: 0 | F71: 0
A72: SECCIÓN B: INTERRUPCIÓN VOLUNTARIA DEL EMBARAZO
A73: CAUSALES | B73: CONTINUA EMBARAZO | E73: INTERRUMPE EMBARAZO | H73: Beneficiarias | I73: Pueblos Originarios | J73: Migrantes | K73: Trans masculino | L73: Discapacidad
B74: Rango Etario | E74: Rango Etario
B75: Menor de 14 años | C75: 14 - 17 años | D75: 18 y más años | E75: Menor de 14 años | F75: 14 - 17 años | G75: 18 y más años
A76: TOTAL | B76: =SUM(B77:B79) -> 0 | C76: =SUM(C77:C79) -> 0 | D76: =SUM(D77:D79) -> 0 | E76: =SUM(E77:E79) -> 0 | F76: =SUM(F77:F79) -> 0 | G76: =SUM(G77:G79) -> 1 | H76: =SUM(H77:H79) -> 1 | I76: =SUM(I77:I79) -> 0 | ... L76: =SUM(L77:L79) -> 0
A77: Causal N° 1: Mujer embarazada con riesgo vital | B77: 0 | C77: 0 | D77: 0 | E77: 0 | F77: 0 | G77: 0 | H77: 0 | I77: 0 | J77: 0 | K77: 0 | L77: 0 | M77: =$CA77&CB77&CC77&CD77&CE77 | CA77: =IF(AND(SUM(E77:G77)>0,H77="")," * No olvide digitar la variable "&$H$73&""&". Digite cero si tiene.",IF(H77>SUM(E77:G77)," * La variable "&$H$73&""&" no puede ser mayor a la Suma de la variable "&$E$73&""&".","")) | CB77: =IF(AND(SUM(E77:G77)>0,I77="")," * No olvide digitar la variable Pueblos originarios. Digite cero si tiene.",IF(I77>SUM(E77:G77)," * La variable Pueblos originarios no puede ser mayor a la suma de la variable "&$E$73&""&".","")) | CC77: =IF(AND(SUM(E77:G77)>0,J77="")," * No olvide digitar la variable Migrantes. Digite cero si tiene.",IF(J77>SUM(E77:G77)," * La variable Migrantes no puede ser mayor a la suma de la variable "&$E$73&""&".","")) | CD77: =IF(AND(SUM($E77:$G77)>0,OR(K77=""))," * No olvide digitar la variable Trans Masculino. Digite Cero si no tiene.",IF(K77>SUM($E77:$G77)," * La variable Trans Masculino no puede ser mayor a la suma de la variable "&$E$73&""&".","")) | CE77: =IF(AND(SUM($E77:$G77)>0,OR(L77=""))," * No olvide digitar la variable "&$L$73&""&". Digite Cero si no tiene.",IF(L77>SUM($E77:$G77)," * La variable Discapacidad no puede ser mayor a la Suma de la variable "&$E$73&""&".","")) | CI77: =IF(AND(SUM($E77:$G77)>0,H77=""),1,IF(H77>SUM(E77:G77),1,0)) -> 0 | CJ77: =IF(AND(SUM(E77:G77)>0,I77=""),1,IF(I77>SUM(E77:G77),1,0)) -> 0 | CK77: =IF(AND(SUM(E77:G77)>0,J77=""),1,IF(J77>SUM(E77:G77),1,0)) -> 0 | CL77: =IF(AND(SUM($E77:$G77)>0,OR(K77="")),1,IF(K77>SUM($E77:$G77),1,0)) -> 0 | CM77: =IF(AND(SUM($E77:$G77)>0,OR(L77="")),1,IF(L77>SUM($E77:$G77),1,0)) -> 0
A78: Causal N° 2: Inviabilidad fetal de carácter letal | B78: 0 | C78: 0 | D78: 0 | E78: 0 | F78: 0 | G78: 1 | H78: 1 | I78: 0 | J78: 0 | K78: 0 | L78: 0 | M78: =$CA78&CB78&CC78&CD78&CE78 | CA78: =IF(AND(SUM(E78:G78)>0,H78="")," * No olvide digitar la variable "&$H$73&""&". Digite cero si tiene.",IF(H78>SUM(E78:G78)," * La variable "&$H$73&""&" no puede ser mayor a la Suma de la variable "&$E$73&""&".","")) | CB78: =IF(AND(SUM(E78:G78)>0,I78="")," * No olvide digitar la variable Pueblos originarios. Digite cero si tiene.",IF(I78>SUM(E78:G78)," * La variable Pueblos originarios no puede ser mayor a la suma de la variable "&$E$73&""&".","")) | CC78: =IF(AND(SUM(E78:G78)>0,J78="")," * No olvide digitar la variable Migrantes. Digite cero si tiene.",IF(J78>SUM(E78:G78)," * La variable Migrantes no puede ser mayor a la suma de la variable "&$E$73&""&".","")) | CD78: =IF(AND(SUM($E78:$G78)>0,OR(K78=""))," * No olvide digitar la variable Trans Masculino. Digite Cero si no tiene.",IF(K78>SUM($E78:$G78)," * La variable Trans Masculino no puede ser mayor a la suma de la variable "&$E$73&""&".","")) | CE78: =IF(AND(SUM($E78:$G78)>0,OR(L78=""))," * No olvide digitar la variable "&$L$73&""&". Digite Cero si no tiene.",IF(L78>SUM($E78:$G78)," * La variable Discapacidad no puede ser mayor a la Suma de la variable "&$E$73&""&".","")) | CI78: =IF(AND(SUM($E78:$G78)>0,H78=""),1,IF(H78>SUM(E78:G78),1,0)) -> 0 | CJ78: =IF(AND(SUM(E78:G78)>0,I78=""),1,IF(I78>SUM(E78:G78),1,0)) -> 0 | CK78: =IF(AND(SUM(E78:G78)>0,J78=""),1,IF(J78>SUM(E78:G78),1,0)) -> 0 | CL78: =IF(AND(SUM($E78:$G78)>0,OR(K78="")),1,IF(K78>SUM($E78:$G78),1,0)) -> 0 | CM78: =IF(AND(SUM($E78:$G78)>0,OR(L78="")),1,IF(L78>SUM($E78:$G78),1,0)) -> 0
A79: Causal N° 3: Por violación | B79: 0 | C79: 0 | D79: 0 | E79: 0 | F79: 0 | G79: 0 | H79: 0 | I79: 0 | J79: 0 | K79: 0 | L79: 0 | M79: =$CA79&CB79&CC79&CD79&CE79 | CA79: =IF(AND(SUM(E79:G79)>0,H79="")," * No olvide digitar la variable "&$H$73&""&". Digite cero si tiene.",IF(H79>SUM(E79:G79)," * La variable "&$H$73&""&" no puede ser mayor a la Suma de la variable "&$E$73&""&""&".","")) | CB79: =IF(AND(SUM(E79:G79)>0,I79="")," * No olvide digitar la variable Pueblos originarios. Digite cero si tiene.",IF(I79>SUM(E79:G79)," * La variable Pueblos originarios no puede ser mayor a la suma de la variable "&$E$73&""&".","")) | CC79: =IF(AND(SUM(E79:G79)>0,J79="")," * No olvide digitar la variable Migrantes. Digite cero si tiene.",IF(J79>SUM(E79:G79)," * La variable Migrantes no puede ser mayor a la suma de la variable "&$E$73&""&".","")) | CD79: =IF(AND(SUM($E79:$G79)>0,OR(K79=""))," * No olvide digitar la variable Trans Masculino. Digite Cero si no tiene.",IF(K79>SUM($E79:$G79)," * La variable Trans Masculino no puede ser mayor a la suma de la variable"&$E$73&""&".","")) | CE79: =IF(AND(SUM($E79:$G79)>0,OR(L79=""))," * No olvide digitar la variable "&$L$73&""&". Digite Cero si no tiene.",IF(L79>SUM($E79:$G79)," * La variable Discapacidad no puede ser mayor a la Suma de la variable "&$E$73&""&".","")) | CI79: =IF(AND(SUM($E79:$G79)>0,H79=""),1,IF(H79>SUM(E79:G79),1,0)) -> 0 | CJ79: =IF(AND(SUM(E79:G79)>0,I79=""),1,IF(I79>SUM(E79:G79),1,0)) -> 0 | CK79: =IF(AND(SUM(E79:G79)>0,J79=""),1,IF(J79>SUM(E79:G79),1,0)) -> 0 | CL79: =IF(AND(SUM($E79:$G79)>0,OR(K79="")),1,IF(K79>SUM($E79:$G79),1,0)) -> 0 | CM79: =IF(AND(SUM($E79:$G79)>0,OR(L79="")),1,IF(L79>SUM($E79:$G79),1,0)) -> 0
A80: SECCIÓN B.1 PROGAMA DE ACOMPAÑAMIENTO IVE
A81: ATENCIONES DE ACOMPAÑAMIENTO | B81: RANGO ETARIO | E81: CAUSAL IVE GESTANTE ATENDIDA
B82: Menor de 14 años | C82: 14 - 17 años | D82: 18 y más años | E82: Causal 1 | F82: Causal 2 | G82: Causal 3
A83: TOTAL | B83: =B84+B85+B86+B87+B88 -> 0 | C83: =C84+C85+C86+C87+C88 -> 1 | D83: =D84+D85+D86+D87+D88 -> 1 | E83: =E84+E85+E86+E87+E88 -> 0 | F83: =F84+F85+F86+F87+F88 -> 1 | G83: =G84+G85+G86+G87+G88 -> 1
A84: Atención por psiquiatra | B84: 0 | C84: 0 | D84: 0 | E84: 0 | F84: 0 | G84: 0
A85: Atención por psicólogo(a) | B85: 0 | C85: 0 | D85: 0 | E85: 0 | F85: 0 | G85: 0
A86: Atención por trabajador(a) social | B86: 0 | C86: 0 | D86: 0 | E86: 0 | F86: 0 | G86: 0
A87: Atención por Dupla (psicólogo(a) + trabajador(a) social) | B87: 0 | C87: 0 | D87: 1 | E87: 0 | F87: 1 | G87: 0
A88: Visita Domiciliaria | B88: 0 | C88: 1 | D88: 0 | E88: 0 | F88: 0 | G88: 1
A89: SECCIÓN C: MÉTODO ANTICONCEPTIVO AL ALTA
A90: MÉTODO ANTICONCEPTIVO | C90: Post Aborto | D90: Intracesárea | E90: Post Parto | F90: Post IVE | G90: RANGO ETARIO
G91: < 15 años | H91: 15-19 años | I91: 20 y más años
A92: DIU con Cobre
A93: DIU con Levonorgestrel
A94: Hormonal | B94: Oral Combinado
B95: Oral Progestágeno
B96: Inyectable Combinado
B97: Inyectable Progestágeno
B98: Implante Etonogestrel (3 años) | E98: 2 | H98: 2
B99: Implante Levonorgestrel (5 años)
B100: Anillo de Progestágeno
A101: Métodos de barrera
...

Sheet ABRIL
A1: SERVICIO DE SALUD
A2: =CONCATENATE("COMUNA: ",[9]NOMBRE!B2, " (",[9]NOMBRE!C2,[9]NOMBRE!D2,[9]NOMBRE!E2,[9]NOMBRE!F2,[9]NOMBRE!G2,")") -> COMUNA: LINARES (07401)
A3: =CONCATENATE("ESTABLECIMIENTO/ESTRATEGIA: ", [9]NOMBRE!B3, " (",[9]NOMBRE!C3,[9]NOMBRE!D3,[9]NOMBRE!E3,[9]NOMBRE!F3,[9]NOMBRE!G3,[9]NOMBRE!H3,")") -> ESTABLECIMIENTO/ESTRATEGIA: HOSPITAL PRESIDENTE CARLOS IBAÑEZ DEL CAMPO (116108)
A4: =CONCATENATE("MES: ",[9]NOMBRE!B6, " (",[9]NOMBRE!C6,[9]NOMBRE!D6,")") -> MES: ABRIL (04)
A5: =CONCATENATE("AÑO: ",[9]NOMBRE!B7) -> AÑO: 2025
A6: REM-A24. ATENCIÓN OBSTÉTRICA Y DEL RECIÉN NACIDO
A8: SECCIÓN A: INFORMACIÓN GENERAL DE PARTOS
A9: CARACTERISTICAS DEL PARTO | C9: TOTAL | D9: PARTOS SEGÚN EDAD DE LA MADRE | H9: PARTOS PREMATUROS (CONSIDERAR SOBRE 22 SEMANAS) | L9: Uso de oxitocina profiláctica | M9: ANESTESIA Y/O ANALGESIA DEL PARTO (MEDIDAS FARMACOLÓGICAS Y NO FARMACOLÓGICAS) | S9: Ligadura tardía del cordón (> a 60 segundos) | T9: CONTACTO INMEDIATO PIEL A PIEL >30 MINUTOS | X9: Lactancia materna en los primeros 60 minutos de vida (RN con peso de 2.500 grs. o más) | Y9: Alojamiento conjunto en puerperio inmediato | Z9: Atención con pertinencia cultural | AA9: Pueblos Originarios | AB9: Migrantes | AC9: Discapacidad | AD9: Privada de Libertad | AE9: Identidad de Género
D10: < 15 años | E10: 15 - 19 años | F10: 20 - 34 años | G10: ≥35 años | H10: Partos prematuros menos de 24 semanas | I10: Partos prematuros de 24 a 28 semanas | J10: Partos prematuros de 29 a 32 semanas | K10: Partos prematuros de 33 a 36 semanas | M10: Anestesia Neuroaxial | N10: Óxido nitroso | O10: Analgesia endovenosa | P10: General | Q10: Local | R10: Medidas no farmacológicas | T10: Con la Madre | V10: Con el padre o acompañante significativo
T11: RN peso menor o igual a 2.499 grs. | U11: RN con peso de 2.500 grs. o más | V11: RN peso menor o igual a 2.499 grs. | W11: RN con peso de 2.500 grs. o más | AE11: Trans masculino | AF11: No binarie
A12: TOTAL PARTOS | C12: =SUM(C13:C16) -> 113 | D12: =SUM(D13:D16) -> 0 | E12: =SUM(E13:E16) -> 3 | F12: =SUM(F13:F16) -> 88 | G12: =SUM(G13:G16) -> 22 | H12: =SUM(H13:H16) -> 0 | I12: =SUM(I13:I16) -> 0 | J12: =SUM(J13:J16) -> 0 | ... AF12: =SUM(AF13:AF16) -> 0
A13: Vaginal | C13: 40 | D13: 0 | E13: 2 | F13: 33 | G13: 5 | H13: 0 | I13: 0 | J13: 0 | K13: 2 | L13: 40 | M13: 24 | Q13: 12 | R13: 40 | S13: 31 | T13: 3 | U13: 37 | V13: 3 | W13: 28 | X13: 37 | Y13: 2 | Z13: 0 | AA13: 0 | AB13: 4 | AC13: 0 | AD13: 0 | AE13: 0 | AF13: 0 | AG13: =$CA13&CB13&CC13&CD13&CE13 | CA13: =IF(AND(C13>0,AA13="")," * No olvide digitar la variable Pueblos originarios. Digite Cero si no tiene.",IF(AA13>C13," * La variable Pueblos originarios no puede ser mayor al Total.","")) | CB13: =IF(AND(C13>0,AB13="")," * No olvide digitar la variable Migrantes. Digite Cero si no tiene.",IF(AB13>C13," * La variable Migrantes no puede ser mayor al Total.","")) | CC13: =IF(AND($C13>0,OR(AC13=""))," * No olvide digitar la variable "&$AC$9&""&". Digite Cero si no tiene.",IF(OR(AC13>$C13)," * La variable Discapacidad no puede ser mayor al Total.","")) | CD13: =IF(AND($C13>0,OR(AD13=""))," * No olvide digitar la variable "&$AD$9&""&". Digite Cero si no tiene.",IF(OR(AD13>$C13)," * La variable "&$AD$9&""&" no puede ser mayor al Total.","")) | CE13: =IF(AND($C13>0,OR(AE13="",AF13=""))," * No olvide digitar la variable "&$AE$9&""&". Digite Cero si no tiene.",IF(OR(AE13+AF13>$C13)," * La variable "&$AE$9&""&" no puede ser mayor al Total.","")) | CI13: =IF(AND($C13>0,AA13=""),1,IF(AA13>$C13,1,0)) -> 0 | CJ13: =IF(AND($C13>0,AB13=""),1,IF(AB13>$C13,1,0)) -> 0 | CK13: =IF(AND($C13>0,AC13=""),1,IF(AC13>$C13,1,0)) -> 0 | CL13: =IF(AND($C13>0,AD13=""),1,IF(AD13>$C13,1,0)) -> 0 | CM13: =IF(AND($C13>0,AE13="",AF13=""),1,IF(AE13+AF13>$C13,1,0)) -> 0
A14: Instrumental | C14: 1 | D14: 0 | E14: 0 | F14: 1 | G14: 0 | H14: 0 | I14: 0 | J14: 0 | K14: 0 | L14: 1 | M14: 1 | Q14: 1 | R14: 1 | S14: 0 | T14: 0 | U14: 1 | V14: 0 | W14: 1 | X14: 1 | Y14: 0 | Z14: 0 | AA14: 0 | AB14: 0 | AC14: 0 | AD14: 0 | AE14: 0 | AF14: 0 | AG14: =$CA14&CB14&CC14&CD14&CE14 | CA14: =IF(AND(C14>0,AA14="")," * No olvide digitar la variable Pueblos originarios. Digite Cero si no tiene.",IF(AA14>C14," * La variable Pueblos originarios no puede ser mayor al Total.","")) | CB14: =IF(AND(C14>0,AB14="")," * No olvide digitar la variable Migrantes. Digite Cero si no tiene.",IF(AB14>C14," * La variable Migrantes no puede ser mayor al Total.","")) | CC14: =IF(AND($C14>0,OR(AC14=""))," * No olvide digitar la variable "&$AC$9&""&". Digite Cero si no tiene.",IF(OR(AC14>$C14)," * La variable Discapacidad no puede ser mayor al Total.","")) | CD14: =IF(AND($C14>0,OR(AD14=""))," * No olvide digitar la variable "&$AD$9&""&". Digite Cero si no tiene.",IF(OR(AD14>$C14)," * La variable "&$AD$9&""&" no puede ser mayor al Total.","")) | CE14: =IF(AND($C14>0,OR(AE14="",AF14=""))," * No olvide digitar la variable "&$AE$9&""&". Digite Cero si no tiene.",IF(OR(AE14+AF14>$C14)," * La variable "&$AE$9&""&" no puede ser mayor al Total.","")) | CI14: =IF(AND($C14>0,AA14=""),1,IF(AA14>$C14,1,0)) -> 0 | CJ14: =IF(AND($C14>0,AB14=""),1,IF(AB14>$C14,1,0)) -> 0 | CK14: =IF(AND($C14>0,AC14=""),1,IF(AC14>$C14,1,0)) -> 0 | CL14: =IF(AND($C14>0,AD14=""),1,IF(AD14>$C14,1,0)) -> 0 | CM14: =IF(AND($C14>0,AE14="",AF14=""),1,IF(AE14+AF14>$C14,1,0)) -> 0
A15: Cesárea Electiva | C15: 47 | D15: 0 | E15: 0 | F15: 33 | G15: 14 | H15: 0 | I15: 0 | J15: 0 | K15: 1 | L15: 48 | M15: 48 | Q15: 0 | R15: 0 | S15: 40 | T15: 39 | U15: 0 | V15: 0 | W15: 44 | X15: 0 | Y15: 6 | Z15: 0 | AA15: 0 | AB15: 0 | AC15: 0 | AD15: 0 | AE15: 0 | AF15: 0 | AG15: =$CA15&CB15&CC15&CD15&CE15 | CA15: =IF(AND(C15>0,AA15="")," * No olvide digitar la variable Pueblos originarios. Digite Cero si no tiene.",IF(AA15>C15," * La variable Pueblos originarios no puede ser mayor al Total.","")) | CB15: =IF(AND(C15>0,AB15="")," * No olvide digitar la variable Migrantes. Digite Cero si no tiene.",IF(AB15>C15," * La variable Migrantes no puede ser mayor al Total.","")) | CC15: =IF(AND($C15>0,OR(AC15=""))," * No olvide digitar la variable "&$AC$9&""&". Digite Cero si no tiene.",IF(OR(AC15>$C15)," * La variable Discapacidad no puede ser mayor al Total.","")) | CD15: =IF(AND($C15>0,OR(AD15=""))," * No olvide digitar la variable "&$AD$9&""&". Digite Cero si no tiene.",IF(OR(AD15>$C15)," * La variable "&$AD$9&""&" no puede ser mayor al Total.","")) | CE15: =IF(AND($C15>0,OR(AE15="",AF15=""))," * No olvide digitar la variable "&$AE$9&""&". Digite Cero si no tiene.",IF(OR(AE15+AF15>$C15)," * La variable "&$AE$9&""&" no puede ser mayor al Total.","")) | CI15: =IF(AND($C15>0,AA15=""),1,IF(AA15>$C15,1,0)) -> 0 | CJ15: =IF(AND($C15>0,AB15=""),1,IF(AB15>$C15,1,0)) -> 0 | CK15: =IF(AND($C15>0,AC15=""),1,IF(AC15>$C15,1,0)) -> 0 | CL15: =IF(AND($C15>0,AD15=""),1,IF(AD15>$C15,1,0)) -> 0 | CM15: =IF(AND($C15>0,AE15="",AF15=""),1,IF(AE15+AF15>$C15,1,0)) -> 0
A16: Cesárea Urgencia | C16: 25 | D16: 0 | E16: 1 | F16: 21 | G16: 3 | H16: 0 | I16: 0 | J16: 0 | K16: 1 | L16: 24 | M16: 23 | Q16: 0 | R16: 0 | S16: 22 | T16: 23 | U16: 1 | V16: 1 | W16: 21 | X16: 0 | Y16: 4 | Z16: 0 | AA16: 0 | AB16: 4 | AC16: 0 | AD16: 0 | AE16: 0 | AF16: 0 | AG16: =$CA16&CB16&CC16&CD16&CE16 | CA16: =IF(AND(C16>0,AA16="")," * No olvide digitar la variable Pueblos originarios. Digite Cero si no tiene.",IF(AA16>C16," * La variable Pueblos originarios no puede ser mayor al Total.","")) | CB16: =IF(AND(C16>0,AB16="")," * No olvide digitar la variable Migrantes. Digite Cero si no tiene.",IF(AB16>C16," * La variable Migrantes no puede ser mayor al Total.","")) | CC16: =IF(AND($C16>0,OR(AC16=""))," * No olvide digitar la variable "&$AC$9&""&". Digite Cero si no tiene.",IF(OR(AC16>$C16)," * La variable Discapacidad no puede ser mayor al Total.","")) | CD16: =IF(AND($C16>0,OR(AD16=""))," * No olvide digitar la variable "&$AD$9&""&". Digite Cero si no tiene.",IF(OR(AD16>$C16)," * La variable "&$AD$9&""&" no puede ser mayor al Total.","")) | CE16: =IF(AND($C16>0,OR(AE16="",AF16=""))," * No olvide digitar la variable "&$AE$9&""&". Digite Cero si no tiene.",IF(OR(AE16+AF16>$C16)," * La variable "&$AE$9&""&" no puede ser mayor al Total.","")) | CI16: =IF(AND($C16>0,AA16=""),1,IF(AA16>$C16,1,0)) -> 0 | CJ16: =IF(AND($C16>0,AB16=""),1,IF(AB16>$C16,1,0)) -> 0 | CK16: =IF(AND($C16>0,AC16=""),1,IF(AC16>$C16,1,0)) -> 0 | CL16: =IF(AND($C16>0,AD16=""),1,IF(AD16>$C16,1,0)) -> 0 | CM16: =IF(AND($C16>0,AE16="",AF16=""),1,IF(AE16+AF16>$C16,1,0)) -> 0
A17: Parto prehospitalario (en establecimientos salud o ambulancias) | C17: 0 | D17: 0 | E17: 0 | F17: 0 | G17: 0 | AG17: =$CA17&CB17&CC17&CD17&CE17 | CA17: =IF(AND(C17>0,AA17="")," * No olvide digitar la variable Pueblos originarios. Digite Cero si no tiene.",IF(AA17>C17," * La variable Pueblos originarios no puede ser mayor al Total.","")) | CB17: =IF(AND(C17>0,AB17="")," * No olvide digitar la variable Migrantes. Digite Cero si no tiene.",IF(AB17>C17," * La variable Migrantes no puede ser mayor al Total.","")) | CC17: =IF(AND($C17>0,OR(AC17=""))," * No olvide digitar la variable "&$AC$9&""&". Digite Cero si no tiene.",IF(OR(AC17>$C17)," * La variable Discapacidad no puede ser mayor al Total.","")) | CD17: =IF(AND($C17>0,OR(AD17=""))," * No olvide digitar la variable "&$AD$9&""&". Digite Cero si no tiene.",IF(OR(AD17>$C17)," * La variable "&$AD$9&""&" no puede ser mayor al Total.","")) | CE17: =IF(AND($C17>0,OR(AE17="",AF17=""))," * No olvide digitar la variable "&$AE$9&""&". Digite Cero si no tiene.",IF(OR(AE17+AF17>$C17)," * La variable "&$AE$9&""&" no puede ser mayor al Total.","")) | CI17: =IF(AND($C17>0,AA17=""),1,IF(AA17>$C17,1,0)) -> 0 | CJ17: =IF(AND($C17>0,AB17=""),1,IF(AB17>$C17,1,0)) -> 0 | CK17: =IF(AND($C17>0,AC17=""),1,IF(AC17>$C17,1,0)) -> 0 | CL17: =IF(AND($C17>0,AD17=""),1,IF(AD17>$C17,1,0)) -> 0 | CM17: =IF(AND($C17>0,AE17="",AF17=""),1,IF(AE17+AF17>$C17,1,0)) -> 0
A18: Partos fuera de la red de salud | C18: 0 | D18: 0 | E18: 0 | F18: 0 | G18: 0 | AG18: =$CA18&CB18&CC18&CD18&CE18 | CA18: =IF(AND(C18>0,AA18="")," * No olvide digitar la variable Pueblos originarios. Digite Cero si no tiene.",IF(AA18>C18," * La variable Pueblos originarios no puede ser mayor al Total.","")) | CB18: =IF(AND(C18>0,AB18="")," * No olvide digitar la variable Migrantes. Digite Cero si no tiene.",IF(AB18>C18," * La variable Migrantes no puede ser mayor al Total.","")) | CC18: =IF(AND($C18>0,OR(AC18=""))," * No olvide digitar la variable "&$AC$9&""&". Digite Cero si no tiene.",IF(OR(AC18>$C18)," * La variable Discapacidad no puede ser mayor al Total.","")) | CD18: =IF(AND($C18>0,OR(AD18=""))," * No olvide digitar la variable "&$AD$9&""&". Digite Cero si no tiene.",IF(OR(AD18>$C18)," * La variable "&$AD$9&""&" no puede ser mayor al Total.","")) | CE18: =IF(AND($C18>0,OR(AE18="",AF18=""))," * No olvide digitar la variable "&$AE$9&""&". Digite Cero si no tiene.",IF(OR(AE18+AF18>$C18)," * La variable "&$AE$9&""&" no puede ser mayor al Total.","")) | CI18: =IF(AND($C18>0,AA18=""),1,IF(AA18>$C18,1,0)) -> 0 | CJ18: =IF(AND($C18>0,AB18=""),1,IF(AB18>$C18,1,0)) -> 0 | CK18: =IF(AND($C18>0,AC18=""),1,IF(AC18>$C18,1,0)) -> 0 | CL18: =IF(AND($C18>0,AD18=""),1,IF(AD18>$C18,1,0)) -> 0 | CM18: =IF(AND($C18>0,AE18="",AF18=""),1,IF(AE18+AF18>$C18,1,0)) -> 0
A19: Plan de parto | C19: 22 | D19: 0 | E19: 0 | F19: 14 | G19: 8 | AA19: 0 | AB19: 0 | AC19: 0 | AD19: 0 | AE19: 0 | AF19: 0 | AG19: =$CA19&CB19&CC19&CD19&CE19 | CA19: =IF(AND(C19>0,AA19="")," * No olvide digitar la variable Pueblos originarios. Digite Cero si no tiene.",IF(AA19>C19," * La variable Pueblos originarios no puede ser mayor al Total.","")) | CB19: =IF(AND(C19>0,AB19="")," * No olvide digitar la variable Migrantes. Digite Cero si no tiene.",IF(AB19>C19," * La variable Migrantes no puede ser mayor al Total.","")) | CC19: =IF(AND($C19>0,OR(AC19=""))," * No olvide digitar la variable "&$AC$9&""&". Digite Cero si no tiene.",IF(OR(AC19>$C19)," * La variable Discapacidad no puede ser mayor al Total.","")) | CD19: =IF(AND($C19>0,OR(AD19=""))," * No olvide digitar la variable "&$AD$9&""&". Digite Cero si no tiene.",IF(OR(AD19>$C19)," * La variable "&$AD$9&""&" no puede ser mayor al Total.","")) | CE19: =IF(AND($C19>0,OR(AE19="",AF19=""))," * No olvide digitar la variable "&$AE$9&""&". Digite Cero si no tiene.",IF(OR(AE19+AF19>$C19)," * La variable "&$AE$9&""&" no puede ser mayor al Total.","")) | CI19: =IF(AND($C19>0,AA19=""),1,IF(AA19>$C19,1,0)) -> 0 | CJ19: =IF(AND($C19>0,AB19=""),1,IF(AB19>$C19,1,0)) -> 0 | CK19: =IF(AND($C19>0,AC19=""),1,IF(AC19>$C19,1,0)) -> 0 | CL19: =IF(AND($C19>0,AD19=""),1,IF(AD19>$C19,1,0)) -> 0 | CM19: =IF(AND($C19>0,AE19="",AF19=""),1,IF(AE19+AF19>$C19,1,0)) -> 0
A20: Entrega de placenta a solicitud | C20: 0 | D20: 0 | E20: 0 | F20: 0 | G20: 0 | AG20: =$CA20&CB20&CC20&CD20&CE20 | CA20: =IF(AND(C20>0,AA20="")," * No olvide digitar la variable Pueblos originarios. Digite Cero si no tiene.",IF(AA20>C20," * La variable Pueblos originarios no puede ser mayor al Total.","")) | CB20: =IF(AND(C20>0,AB20="")," * No olvide digitar la variable Migrantes. Digite Cero si no tiene.",IF(AB20>C20," * La variable Migrantes no puede ser mayor al Total.","")) | CC20: =IF(AND($C20>0,OR(AC20=""))," * No olvide digitar la variable "&$AC$9&""&". Digite Cero si no tiene.",IF(OR(AC20>$C20)," * La variable Discapacidad no puede ser mayor al Total.","")) | CD20: =IF(AND($C20>0,OR(AD20=""))," * No olvide digitar la variable "&$AD$9&""&". Digite Cero si no tiene.",IF(OR(AD20>$C20)," * La variable "&$AD$9&""&" no puede ser mayor al Total.","")) | CE20: =IF(AND($C20>0,OR(AE20="",AF20=""))," * No olvide digitar la variable "&$AE$9&""&". Digite Cero si no tiene.",IF(OR(AE20+AF20>$C20)," * La variable "&$AE$9&""&" no puede ser mayor al Total.","")) | CI20: =IF(AND($C20>0,AA20=""),1,IF(AA20>$C20,1,0)) -> 0 | CJ20: =IF(AND($C20>0,AB20=""),1,IF(AB20>$C20,1,0)) -> 0 | CK20: =IF(AND($C20>0,AC20=""),1,IF(AC20>$C20,1,0)) -> 0 | CL20: =IF(AND($C20>0,AD20=""),1,IF(AD20>$C20,1,0)) -> 0 | CM20: =IF(AND($C20>0,AE20="",AF20=""),1,IF(AE20+AF20>$C20,1,0)) -> 0
A21: Embarazo no controlado | C21: 0 | D21: 0 | E21: 0 | F21: 0 | G21: 0 | AG21: =$CA21&CB21&CC21&CD21&CE21 | CA21: =IF(AND(C21>0,AA21="")," * No olvide digitar la variable Pueblos originarios. Digite Cero si no tiene.",IF(AA21>C21," * La variable Pueblos originarios no puede ser mayor al Total.","")) | CB21: =IF(AND(C21>0,AB21="")," * No olvide digitar la variable Migrantes. Digite Cero si no tiene.",IF(AB21>C21," * La variable Migrantes no puede ser mayor al Total.","")) | CC21: =IF(AND($C21>0,OR(AC21=""))," * No olvide digitar la variable "&$AC$9&""&". Digite Cero si no tiene.",IF(OR(AC21>$C21)," * La variable Discapacidad no puede ser mayor al Total.","")) | CD21: =IF(AND($C21>0,OR(AD21=""))," * No olvide digitar la variable "&$AD$9&""&". Digite Cero si no tiene.",IF(OR(AD21>$C21)," * La variable "&$AD$9&""&" no puede ser mayor al Total.","")) | CE21: =IF(AND($C21>0,OR(AE21="",AF21=""))," * No olvide digitar la variable "&$AE$9&""&". Digite Cero si no tiene.",IF(OR(AE21+AF21>$C21)," * La variable "&$AE$9&""&" no puede ser mayor al Total.","")) | CI21: =IF(AND($C21>0,AA21=""),1,IF(AA21>$C21,1,0)) -> 0 | CJ21: =IF(AND($C21>0,AB21=""),1,IF(AB21>$C21,1,0)) -> 0 | CK21: =IF(AND($C21>0,AC21=""),1,IF(AC21>$C21,1,0)) -> 0 | CL21: =IF(AND($C21>0,AD21=""),1,IF(AD21>$C21,1,0)) -> 0 | CM21: =IF(AND($C21>0,AE21="",AF21=""),1,IF(AE21+AF21>$C21,1,0)) -> 0
A22: Parto en domicilio | B22: Con atención profesional | C22: 0 | D22: 0 | E22: 0 | F22: 0 | G22: 0 | AG22: =$CA22&CB22&CC22&CD22&CE22 | CA22: =IF(AND(C22>0,AA22="")," * No olvide digitar la variable Pueblos originarios. Digite Cero si no tiene.",IF(AA22>C22," * La variable Pueblos originarios no puede ser mayor al Total.","")) | CB22: =IF(AND(C22>0,AB22="")," * No olvide digitar la variable Migrantes. Digite Cero si no tiene.",IF(AB22>C22," * La variable Migrantes no puede ser mayor al Total.","")) | CC22: =IF(AND($C22>0,OR(AC22=""))," * No olvide digitar la variable "&$AC$9&""&". Digite Cero si no tiene.",IF(OR(AC22>$C22)," * La variable Discapacidad no puede ser mayor al Total.","")) | CD22: =IF(AND($C22>0,OR(AD22=""))," * No olvide digitar la variable "&$AD$9&""&". Digite Cero si no tiene.",IF(OR(AD22>$C22)," * La variable "&$AD$9&""&" no puede ser mayor al Total.","")) | CE22: =IF(AND($C22>0,OR(AE22="",AF22=""))," * No olvide digitar la variable "&$AE$9&""&". Digite Cero si no tiene.",IF(OR(AE22+AF22>$C22)," * La variable "&$AE$9&""&" no puede ser mayor al Total.","")) | CI22: =IF(AND($C22>0,AA22=""),1,IF(AA22>$C22,1,0)) -> 0 | CJ22: =IF(AND($C22>0,AB22=""),1,IF(AB22>$C22,1,0)) -> 0 | CK22: =IF(AND($C22>0,AC22=""),1,IF(AC22>$C22,1,0)) -> 0 | CL22: =IF(AND($C22>0,AD22=""),1,IF(AD22>$C22,1,0)) -> 0 | CM22: =IF(AND($C22>0,AE22="",AF22=""),1,IF(AE22+AF22>$C22,1,0)) -> 0
B23: Sin atención profesional | C23: 0 | D23: 0 | E23: 0 | F23: 0 | G23: 0 | AG23: =$CA23&CB23&CC23&CD23&CE23 | CA23: =IF(AND(C23>0,AA23="")," * No olvide digitar la variable Pueblos originarios. Digite Cero si no tiene.",IF(AA23>C23," * La variable Pueblos originarios no puede ser mayor al Total.","")) | CB23: =IF(AND(C23>0,AB23="")," * No olvide digitar la variable Migrantes. Digite Cero si no tiene.",IF(AB23>C23," * La variable Migrantes no puede ser mayor al Total.","")) | CC23: =IF(AND($C23>0,OR(AC23=""))," * No olvide digitar la variable "&$AC$9&""&". Digite Cero si no tiene.",IF(OR(AC23>$C23)," * La variable Discapacidad no puede ser mayor al Total.","")) | CD23: =IF(AND($C23>0,OR(AD23=""))," * No olvide digitar la variable "&$AD$9&""&". Digite Cero si no tiene.",IF(OR(AD23>$C23)," * La variable "&$AD$9&""&" no puede ser mayor al Total.","")) | CE23: =IF(AND($C23>0,OR(AE23="",AF23=""))," * No olvide digitar la variable "&$AE$9&""&". Digite Cero si no tiene.",IF(OR(AE23+AF23>$C23)," * La variable "&$AE$9&""&" no puede ser mayor al Total.","")) | CI23: =IF(AND($C23>0,AA23=""),1,IF(AA23>$C23,1,0)) -> 0 | CJ23: =IF(AND($C23>0,AB23=""),1,IF(AB23>$C23,1,0)) -> 0 | CK23: =IF(AND($C23>0,AC23=""),1,IF(AC23>$C23,1,0)) -> 0 | CL23: =IF(AND($C23>0,AD23=""),1,IF(AD23>$C23,1,0)) -> 0 | CM23: =IF(AND($C23>0,AE23="",AF23=""),1,IF(AE23+AF23>$C23,1,0)) -> 0
A24: SECCION A.1: PARTOS VAGINALES *
A25: CARACTERÍSTICAS DEL MODELO DE ATENCIÓN | C25: TOTAL | D25: <28 semanas | E25: 28 - 37 semanas | F25: 38 semanas y más
A26: Espontáneo | C26: =SUM(D26:F26) -> 13 | D26: 0 | E26: 2 | F26: 11
A27: Inducidos | B27: Mecánica | C27: =SUM(D27:F27) -> 0 | D27: 0 | E27: 0 | F27: 0
B28: Farmacológica | C28: =SUM(D28:F28) -> 12 | D28: 0 | E28: 1 | F28: 11
A29: Conducción oxitócica | C29: =SUM(D29:F29) -> 16 | D29: 0 | E29: 2 | F29: 14
A30: Libertad de movimiento | C30: =SUM(D30:F30) -> 41 | D30: 0 | E30: 5 | F30: 36
A31: Régimen hídrico amplio | C31: =SUM(D31:F31) -> 41 | D31: 0 | E31: 5 | F31: 36
A32: Manejo del dolor | B32: No farmacológico | C32: =SUM(D32:F32) -> 41 | D32: 0 | E32: 5 | F32: 36
B33: Farmacológico | C33: =SUM(D33:F33) -> 24 | D33: 0 | E33: 3 | F33: 21
A34: Posición al momento del expulsivo | B34: Litotomía | C34: =SUM(D34:F34) -> 41 | D34: 0 | E34: 5 | F34: 36
B35: Otras posiciones | C35: =SUM(D35:F35) -> 0 | D35: 0 | E35: 0 | F35: 0
A36: Episiotomía | C36: =SUM(D36:F36) -> 2 | D36: 0 | E36: 0 | F36: 2
A37: Acompañamiento | B37: Durante el trabajo de parto | C37: =SUM(D37:F37) -> 33 | D37: 0 | E37: 4 | F37: 29
B38: Sólo en el expulsivo | C38: =SUM(D38:F38) -> 4 | D38: 0 | E38: 0 | F38: 4
A39: (*) Partos de Término y Pre-Término
A40: SECCION A.2: CESÁREAS (RESPONSABILIDAD DEL MÉDICO JEFE DEL SERVICIO DE OBSTETRICIA)
A41: CLASIFICACIÓN SEGÚN MODELO DE ROBSON | C41: Programada | D41: Urgencia
A42: Grupo 1: Nulíparas, embarazo único, cefálica, ≥37 semanas en trabajo de parto espontáneo | C42: 16 | D42: 9
A43: Grupo 2: Nulíparas, embarazo único, cefálica, ≥37 semanas, cesárea programada o con inducción de trabajo de parto | B43: Césarea por inducción fracasada | C43: 0 | D43: 3
B44: Césarea programada | C44: 7 | D44: 1
A45: Grupo 3: Multípara, sin cesárea previa, embarazo único, cefálica, ≥37 semanas en trabajo de parto espontáneo | C45: 10 | D45: 7
A46: Grupo 4: Multípara, sin cesárea previa, embarazo único, cefálica, ≥37 semanas, cesárea programada o con inducción de trabajo de parto | B46: Césarea por inducción fracasada | C46: 0 | D46: 0
B47: Césarea programada | C47: 2 | D47: 0
A48: Grupo 5: multíparas con al menos 1 cesárea previa, embarazo unico, cefálica, ≥37 semanas | B48: 5.1: con 1 cesárea previa | C48: 6 | D48: 3
B49: 5.2: 2 o más cesareas previas | C49: 4 | D49: 0
A50: Grupo 6: Nulíparas, embarazo único, podálica | C50: 1 | D50: 1
A51: Grupo 7: Multíparas, embarazo único, podálica, con 1 o más cesáreas previas | C51: 0 | D51: 0
A52: Grupo 8: Todas las mujeres con embarazo múltiple, incluidas las que tienen 1 o más cesáreas previas | C52: 0 | D52: 0
A53: Grupo 9: Embarazo único, transverso y oblicuo, incluidas las que tienen una o mas cesáreas previas | C53: 0 | D53: 0
A54: Grupo 10: Todas las mujeres con embarazo único, cefálica, <37 semanas, incluidas las que tienen 1 o más cesáreas | C54: 1 | D54: 1
A55: Total cesáreas por requerimiento materno | B55: Nulípara | C55: 9 | D55: 3
B56: Multípara | C56: 10 | D56: 5
A57: Acompañamiento durante la cesárea | C57: 46 | D57: 0
A58: SECCION A.3: COMPLICACIONES
A59: TIPO DE COMPLICACIÓN | C59: Atención Institucional | F59: Parto en domicilio
C60: Parto Espontáneo | D60: Parto Inducido | E60: Césarea
A61: Hemorragia post parto | B61: Inercia | C61: 0 | D61: 0 | E61: 0 | F61: 0
B62: Restos | C62: 0 | D62: 0 | E62: 0 | F62: 0
B63: Trauma | C63: 0 | D63: 0 | E63: 0 | F63: 0
B64: Desgarros III y IV | C64: 0 | D64: 0 | E64: 0 | F64: 0
B65: Alteraciones de la coagulación | C65: 0 | D65: 0 | E65: 0 | F65: 0
A66: Preeclampsia severa | C66: 0 | D66: 0 | E66: 2 | F66: 0
A67: Eclampsia | C67: 0 | D67: 0 | E67: 0 | F67: 0
A68: Sepsis o infección sistémica grave | C68: 0 | D68: 0 | E68: 0 | F68: 0
A69: Manejo quirúrgico de la inercia uterina | C69: 0 | D69: 0 | E69: 0 | F69: 0
A70: Histerectomía obstétrica | C70: 0 | D70: 0 | E70: 0 | F70: 0
A71: Anemia severa postmetrorragia que requiere transfusión | C71: 0 | D71: 0 | E71: 0 | F71: 0
A72: SECCIÓN B: INTERRUPCIÓN VOLUNTARIA DEL EMBARAZO
A73: CAUSALES | B73: CONTINUA EMBARAZO | E73: INTERRUMPE EMBARAZO | H73: Beneficiarias | I73: Pueblos Originarios | J73: Migrantes | K73: Trans masculino | L73: Discapacidad
B74: Rango Etario | E74: Rango Etario
B75: Menor de 14 años | C75: 14 - 17 años | D75: 18 y más años | E75: Menor de 14 años | F75: 14 - 17 años | G75: 18 y más años
A76: TOTAL | B76: =SUM(B77:B79) -> 0 | C76: =SUM(C77:C79) -> 0 | D76: =SUM(D77:D79) -> 0 | E76: =SUM(E77:E79) -> 0 | F76: =SUM(F77:F79) -> 0 | G76: =SUM(G77:G79) -> 0 | H76: =SUM(H77:H79) -> 0 | I76: =SUM(I77:I79) -> 0 | ... L76: =SUM(L77:L79) -> 0
A77: Causal N° 1: Mujer embarazada con riesgo vital | M77: =$CA77&CB77&CC77&CD77&CE77 | CA77: =IF(AND(SUM(E77:G77)>0,H77="")," * No olvide digitar la variable "&$H$73&""&". Digite cero si tiene.",IF(H77>SUM(E77:G77)," * La variable "&$H$73&""&" no puede ser mayor a la Suma de la variable "&$E$73&""&".","")) | CB77: =IF(AND(SUM(E77:G77)>0,I77="")," * No olvide digitar la variable Pueblos originarios. Digite cero si tiene.",IF(I77>SUM(E77:G77)," * La variable Pueblos originarios no puede ser mayor a la suma de la variable "&$E$73&""&".","")) | CC77: =IF(AND(SUM(E77:G77)>0,J77="")," * No olvide digitar la variable Migrantes. Digite cero si tiene.",IF(J77>SUM(E77:G77)," * La variable Migrantes no puede ser mayor a la suma de la variable "&$E$73&""&".","")) | CD77: =IF(AND(SUM($E77:$G77)>0,OR(K77=""))," * No olvide digitar la variable Trans Masculino. Digite Cero si no tiene.",IF(K77>SUM($E77:$G77)," * La variable Trans Masculino no puede ser mayor a la suma de la variable "&$E$73&""&".","")) | CE77: =IF(AND(SUM($E77:$G77)>0,OR(L77=""))," * No olvide digitar la variable "&$L$73&""&". Digite Cero si no tiene.",IF(L77>SUM($E77:$G77)," * La variable Discapacidad no puede ser mayor a la Suma de la variable "&$E$73&""&".","")) | CI77: =IF(AND(SUM($E77:$G77)>0,H77=""),1,IF(H77>SUM(E77:G77),1,0)) -> 0 | CJ77: =IF(AND(SUM(E77:G77)>0,I77=""),1,IF(I77>SUM(E77:G77),1,0)) -> 0 | CK77: =IF(AND(SUM(E77:G77)>0,J77=""),1,IF(J77>SUM(E77:G77),1,0)) -> 0 | CL77: =IF(AND(SUM($E77:$G77)>0,OR(K77="")),1,IF(K77>SUM($E77:$G77),1,0)) -> 0 | CM77: =IF(AND(SUM($E77:$G77)>0,OR(L77="")),1,IF(L77>SUM($E77:$G77),1,0)) -> 0
A78: Causal N° 2: Inviabilidad fetal de carácter letal | M78: =$CA78&CB78&CC78&CD78&CE78 | CA78: =IF(AND(SUM(E78:G78)>0,H78="")," * No olvide digitar la variable "&$H$73&""&". Digite cero si tiene.",IF(H78>SUM(E78:G78)," * La variable "&$H$73&""&" no puede ser mayor a la Suma de la variable "&$E$73&""&".","")) | CB78: =IF(AND(SUM(E78:G78)>0,I78="")," * No olvide digitar la variable Pueblos originarios. Digite cero si tiene.",IF(I78>SUM(E78:G78)," * La variable Pueblos originarios no puede ser mayor a la suma de la variable "&$E$73&""&".","")) | CC78: =IF(AND(SUM(E78:G78)>0,J78="")," * No olvide digitar la variable Migrantes. Digite cero si tiene.",IF(J78>SUM(E78:G78)," * La variable Migrantes no puede ser mayor a la suma de la variable "&$E$73&""&".","")) | CD78: =IF(AND(SUM($E78:$G78)>0,OR(K78=""))," * No olvide digitar la variable Trans Masculino. Digite Cero si no tiene.",IF(K78>SUM($E78:$G78)," * La variable Trans Masculino no puede ser mayor a la suma de la variable "&$E$73&""&".","")) | CE78: =IF(AND(SUM($E78:$G78)>0,OR(L78=""))," * No olvide digitar la variable "&$L$73&""&". Digite Cero si no tiene.",IF(L78>SUM($E78:$G78)," * La variable Discapacidad no puede ser mayor a la Suma de la variable "&$E$73&""&".","")) | CI78: =IF(AND(SUM($E78:$G78)>0,H78=""),1,IF(H78>SUM(E78:G78),1,0)) -> 0 | CJ78: =IF(AND(SUM(E78:G78)>0,I78=""),1,IF(I78>SUM(E78:G78),1,0)) -> 0 | CK78: =IF(AND(SUM(E78:G78)>0,J78=""),1,IF(J78>SUM(E78:G78),1,0)) -> 0 | CL78: =IF(AND(SUM($E78:$G78)>0,OR(K78="")),1,IF(K78>SUM($E78:$G78),1,0)) -> 0 | CM78: =IF(AND(SUM($E78:$G78)>0,OR(L78="")),1,IF(L78>SUM($E78:$G78),1,0)) -> 0
A79: Causal N° 3: Por violación | M79: =$CA79&CB79&CC79&CD79&CE79 | CA79: =IF(AND(SUM(E79:G79)>0,H79="")," * No olvide digitar la variable "&$H$73&""&". Digite cero si tiene.",IF(H79>SUM(E79:G79)," * La variable "&$H$73&""&" no puede ser mayor a la Suma de la variable "&$E$73&""&""&".","")) | CB79: =IF(AND(SUM(E79:G79)>0,I79="")," * No olvide digitar la variable Pueblos originarios. Digite cero si tiene.",IF(I79>SUM(E79:G79)," * La variable Pueblos originarios no puede ser mayor a la suma de la variable "&$E$73&""&".","")) | CC79: =IF(AND(SUM(E79:G79)>0,J79="")," * No olvide digitar la variable Migrantes. Digite cero si tiene.",IF(J79>SUM(E79:G79)," * La variable Migrantes no puede ser mayor a la suma de la variable "&$E$73&""&".","")) | CD79: =IF(AND(SUM($E79:$G79)>0,OR(K79=""))," * No olvide digitar la variable Trans Masculino. Digite Cero si no tiene.",IF(K79>SUM($E79:$G79)," * La variable Trans Masculino no puede ser mayor a la suma de la variable"&$E$73&""&".","")) | CE79: =IF(AND(SUM($E79:$G79)>0,OR(L79=""))," * No olvide digitar la variable "&$L$73&""&". Digite Cero si no tiene.",IF(L79>SUM($E79:$G79)," * La variable Discapacidad no puede ser mayor a la Suma de la variable "&$E$73&""&".","")) | CI79: =IF(AND(SUM($E79:$G79)>0,H79=""),1,IF(H79>SUM(E79:G79),1,0)) -> 0 | CJ79: =IF(AND(SUM(E79:G79)>0,I79=""),1,IF(I79>SUM(E79:G79),1,0)) -> 0 | CK79: =IF(AND(SUM(E79:G79)>0,J79=""),1,IF(J79>SUM(E79:G79),1,0)) -> 0 | CL79: =IF(AND(SUM($E79:$G79)>0,OR(K79="")),1,IF(K79>SUM($E79:$G79),1,0)) -> 0 | CM79: =IF(AND(SUM($E79:$G79)>0,OR(L79="")),1,IF(L79>SUM($E79:$G79),1,0)) -> 0
A80: SECCIÓN B.1 PROGAMA DE ACOMPAÑAMIENTO IVE
A81: ATENCIONES DE ACOMPAÑAMIENTO | B81: RANGO ETARIO | E81: CAUSAL IVE GESTANTE ATENDIDA
B82: Menor de 14 años | C82: 14 - 17 años | D82: 18 y más años | E82: Causal 1 | F82: Causal 2 | G82: Causal 3
A83: TOTAL | B83: =B84+B85+B86+B87+B88 -> 0 | C83: =C84+C85+C86+C87+C88 -> 0 | D83: =D84+D85+D86+D87+D88 -> 6 | E83: =E84+E85+E86+E87+E88 -> 0 | F83: =F84+F85+F86+F87+F88 -> 6 | G83: =G84+G85+G86+G87+G88 -> 0
A84: Atención por psiquiatra
A85: Atención por psicólogo(a)
A86: Atención por trabajador(a) social | D86: 3 | F86: 3
A87: Atención por Dupla (psicólogo(a) + trabajador(a) social) | D87: 1 | F87: 1
A88: Visita Domiciliaria | D88: 2 | F88: 2
A89: SECCIÓN C: MÉTODO ANTICONCEPTIVO AL ALTA
A90: MÉTODO ANTICONCEPTIVO | C90: Post Aborto | D90: Intracesárea | E90: Post Parto | F90: Post IVE | G90: RANGO ETARIO
G91: < 15 años | H91: 15-19 años | I91: 20 y más años
A92: DIU con Cobre
A93: DIU con Levonorgestrel
A94: Hormonal | B94: Oral Combinado
B95: Oral Progestágeno
B96: Inyectable Combinado
B97: Inyectable Progestágeno
B98: Implante Etonogestrel (3 años) | E98: 1 | H98: 1
B99: Implante Levonorgestrel (5 años)
B100: Anillo de Progestágeno
A101: Métodos de barrera
...

Sheet MAYO
A1: SERVICIO DE SALUD
A2: =CONCATENATE("COMUNA: ",[10]NOMBRE!B2, " (",[10]NOMBRE!C2,[10]NOMBRE!D2,[10]NOMBRE!E2,[10]NOMBRE!F2,[10]NOMBRE!G2,")") -> COMUNA: LINARES (07401)
A3: =CONCATENATE("ESTABLECIMIENTO/ESTRATEGIA: ", [10]NOMBRE!B3, " (",[10]NOMBRE!C3,[10]NOMBRE!D3,[10]NOMBRE!E3,[10]NOMBRE!F3,[10]NOMBRE!G3,[10]NOMBRE!H3,")") -> ESTABLECIMIENTO/ESTRATEGIA: HOSPITAL PRESIDENTE CARLOS IBAÑEZ DEL CAMPO (116108)
A4: =CONCATENATE("MES: ",[10]NOMBRE!B6, " (",[10]NOMBRE!C6,[10]NOMBRE!D6,")") -> MES: MAYO (05)
A5: =CONCATENATE("AÑO: ",[10]NOMBRE!B7) -> AÑO: 2025
A6: REM-A24. ATENCIÓN OBSTÉTRICA Y DEL RECIÉN NACIDO
A8: SECCIÓN A: INFORMACIÓN GENERAL DE PARTOS
A9: CARACTERISTICAS DEL PARTO | C9: TOTAL | D9: PARTOS SEGÚN EDAD DE LA MADRE | H9: PARTOS PREMATUROS (CONSIDERAR SOBRE 22 SEMANAS) | L9: Uso de oxitocina profiláctica | M9: ANESTESIA Y/O ANALGESIA DEL PARTO (MEDIDAS FARMACOLÓGICAS Y NO FARMACOLÓGICAS) | S9: Ligadura tardía del cordón (> a 60 segundos) | T9: CONTACTO INMEDIATO PIEL A PIEL >30 MINUTOS | X9: Lactancia materna en los primeros 60 minutos de vida (RN con peso de 2.500 grs. o más) | Y9: Alojamiento conjunto en puerperio inmediato | Z9: Atención con pertinencia cultural | AA9: Pueblos Originarios | AB9: Migrantes | AC9: Discapacidad | AD9: Privada de Libertad | AE9: Identidad de Género
D10: < 15 años | E10: 15 - 19 años | F10: 20 - 34 años | G10: ≥35 años | H10: Partos prematuros menos de 24 semanas | I10: Partos prematuros de 24 a 28 semanas | J10: Partos prematuros de 29 a 32 semanas | K10: Partos prematuros de 33 a 36 semanas | M10: Anestesia Neuroaxial | N10: Óxido nitroso | O10: Analgesia endovenosa | P10: General | Q10: Local | R10: Medidas no farmacológicas | T10: Con la Madre | V10: Con el padre o acompañante significativo
T11: RN peso menor o igual a 2.499 grs. | U11: RN con peso de 2.500 grs. o más | V11: RN peso menor o igual a 2.499 grs. | W11: RN con peso de 2.500 grs. o más | AE11: Trans masculino | AF11: No binarie
A12: TOTAL PARTOS | C12: =SUM(C13:C16) -> 121 | D12: =SUM(D13:D16) -> 0 | E12: =SUM(E13:E16) -> 5 | F12: =SUM(F13:F16) -> 85 | G12: =SUM(G13:G16) -> 31 | H12: =SUM(H13:H16) -> 0 | I12: =SUM(I13:I16) -> 0 | J12: =SUM(J13:J16) -> 0 | ... AF12: =SUM(AF13:AF16) -> 0
A13: Vaginal | C13: 43 | D13: 0 | E13: 4 | F13: 31 | G13: 8 | H13: 0 | I13: 0 | J13: 0 | K13: 7 | L13: 43 | M13: 25 | N13: 0 | O13: 0 | P13: 0 | Q13: 17 | R13: 18 | S13: 33 | T13: 2 | U13: 35 | V13: 2 | W13: 34 | X13: 31 | Y13: 36 | Z13: 0 | AA13: 0 | AB13: 2 | AC13: 0 | AD13: 0 | AE13: 0 | AF13: 0 | AG13: =$CA13&CB13&CC13&CD13&CE13 | CA13: =IF(AND(C13>0,AA13="")," * No olvide digitar la variable Pueblos originarios. Digite Cero si no tiene.",IF(AA13>C13," * La variable Pueblos originarios no puede ser mayor al Total.","")) | CB13: =IF(AND(C13>0,AB13="")," * No olvide digitar la variable Migrantes. Digite Cero si no tiene.",IF(AB13>C13," * La variable Migrantes no puede ser mayor al Total.","")) | CC13: =IF(AND($C13>0,OR(AC13=""))," * No olvide digitar la variable "&$AC$9&""&". Digite Cero si no tiene.",IF(OR(AC13>$C13)," * La variable Discapacidad no puede ser mayor al Total.","")) | CD13: =IF(AND($C13>0,OR(AD13=""))," * No olvide digitar la variable "&$AD$9&""&". Digite Cero si no tiene.",IF(OR(AD13>$C13)," * La variable "&$AD$9&""&" no puede ser mayor al Total.","")) | CE13: =IF(AND($C13>0,OR(AE13="",AF13=""))," * No olvide digitar la variable "&$AE$9&""&". Digite Cero si no tiene.",IF(OR(AE13+AF13>$C13)," * La variable "&$AE$9&""&" no puede ser mayor al Total.","")) | CI13: =IF(AND($C13>0,AA13=""),1,IF(AA13>$C13,1,0)) -> 0 | CJ13: =IF(AND($C13>0,AB13=""),1,IF(AB13>$C13,1,0)) -> 0 | CK13: =IF(AND($C13>0,AC13=""),1,IF(AC13>$C13,1,0)) -> 0 | CL13: =IF(AND($C13>0,AD13=""),1,IF(AD13>$C13,1,0)) -> 0 | CM13: =IF(AND($C13>0,AE13="",AF13=""),1,IF(AE13+AF13>$C13,1,0)) -> 0
A14: Instrumental | C14: 1 | D14: 0 | E14: 0 | F14: 1 | G14: 0 | H14: 0 | I14: 0 | J14: 0 | K14: 0 | L14: 1 | M14: 1 | N14: 0 | O14: 0 | P14: 0 | Q14: 0 | R14: 0 | S14: 1 | T14: 0 | U14: 1 | V14: 0 | W14: 1 | X14: 1 | Y14: 1 | Z14: 0 | AA14: 0 | AB14: 0 | AC14: 0 | AD14: 0 | AE14: 0 | AF14: 0 | AG14: =$CA14&CB14&CC14&CD14&CE14 | CA14: =IF(AND(C14>0,AA14="")," * No olvide digitar la variable Pueblos originarios. Digite Cero si no tiene.",IF(AA14>C14," * La variable Pueblos originarios no puede ser mayor al Total.","")) | CB14: =IF(AND(C14>0,AB14="")," * No olvide digitar la variable Migrantes. Digite Cero si no tiene.",IF(AB14>C14," * La variable Migrantes no puede ser mayor al Total.","")) | CC14: =IF(AND($C14>0,OR(AC14=""))," * No olvide digitar la variable "&$AC$9&""&". Digite Cero si no tiene.",IF(OR(AC14>$C14)," * La variable Discapacidad no puede ser mayor al Total.","")) | CD14: =IF(AND($C14>0,OR(AD14=""))," * No olvide digitar la variable "&$AD$9&""&". Digite Cero si no tiene.",IF(OR(AD14>$C14)," * La variable "&$AD$9&""&" no puede ser mayor al Total.","")) | CE14: =IF(AND($C14>0,OR(AE14="",AF14=""))," * No olvide digitar la variable "&$AE$9&""&". Digite Cero si no tiene.",IF(OR(AE14+AF14>$C14)," * La variable "&$AE$9&""&" no puede ser mayor al Total.","")) | CI14: =IF(AND($C14>0,AA14=""),1,IF(AA14>$C14,1,0)) -> 0 | CJ14: =IF(AND($C14>0,AB14=""),1,IF(AB14>$C14,1,0)) -> 0 | CK14: =IF(AND($C14>0,AC14=""),1,IF(AC14>$C14,1,0)) -> 0 | CL14: =IF(AND($C14>0,AD14=""),1,IF(AD14>$C14,1,0)) -> 0 | CM14: =IF(AND($C14>0,AE14="",AF14=""),1,IF(AE14+AF14>$C14,1,0)) -> 0
A15: Cesárea Electiva | C15: 54 | D15: 0 | E15: 1 | F15: 33 | G15: 20 | H15: 0 | J15: 0 | K15: 2 | L15: 54 | M15: 54 | N15: 0 | O15: 0 | P15: 0 | Q15: 0 | R15: 0 | S15: 49 | T15: 1 | U15: 52 | V15: 1 | W15: 52 | X15: 1 | Y15: 53 | Z15: 0 | AA15: 0 | AB15: 1 | AC15: 0 | AD15: 0 | AE15: 0 | AF15: 0 | AG15: =$CA15&CB15&CC15&CD15&CE15 | CA15: =IF(AND(C15>0,AA15="")," * No olvide digitar la variable Pueblos originarios. Digite Cero si no tiene.",IF(AA15>C15," * La variable Pueblos originarios no puede ser mayor al Total.","")) | CB15: =IF(AND(C15>0,AB15="")," * No olvide digitar la variable Migrantes. Digite Cero si no tiene.",IF(AB15>C15," * La variable Migrantes no puede ser mayor al Total.","")) | CC15: =IF(AND($C15>0,OR(AC15=""))," * No olvide digitar la variable "&$AC$9&""&". Digite Cero si no tiene.",IF(OR(AC15>$C15)," * La variable Discapacidad no puede ser mayor al Total.","")) | CD15: =IF(AND($C15>0,OR(AD15=""))," * No olvide digitar la variable "&$AD$9&""&". Digite Cero si no tiene.",IF(OR(AD15>$C15)," * La variable "&$AD$9&""&" no puede ser mayor al Total.","")) | CE15: =IF(AND($C15>0,OR(AE15="",AF15=""))," * No olvide digitar la variable "&$AE$9&""&". Digite Cero si no tiene.",IF(OR(AE15+AF15>$C15)," * La variable "&$AE$9&""&" no puede ser mayor al Total.","")) | CI15: =IF(AND($C15>0,AA15=""),1,IF(AA15>$C15,1,0)) -> 0 | CJ15: =IF(AND($C15>0,AB15=""),1,IF(AB15>$C15,1,0)) -> 0 | CK15: =IF(AND($C15>0,AC15=""),1,IF(AC15>$C15,1,0)) -> 0 | CL15: =IF(AND($C15>0,AD15=""),1,IF(AD15>$C15,1,0)) -> 0 | CM15: =IF(AND($C15>0,AE15="",AF15=""),1,IF(AE15+AF15>$C15,1,0)) -> 0
A16: Cesárea Urgencia | C16: 23 | D16: 0 | E16: 0 | F16: 20 | G16: 3 | H16: 0 | I16: 0 | J16: 0 | K16: 4 | L16: 23 | M16: 24 | N16: 0 | O16: 0 | P16: 2 | Q16: 0 | R16: 0 | S16: 18 | T16: 0 | U16: 21 | V16: 0 | W16: 22 | X16: 0 | Y16: 22 | Z16: 0 | AA16: 0 | AB16: 4 | AC16: 0 | AD16: 0 | AE16: 0 | AF16: 0 | AG16: =$CA16&CB16&CC16&CD16&CE16 | CA16: =IF(AND(C16>0,AA16="")," * No olvide digitar la variable Pueblos originarios. Digite Cero si no tiene.",IF(AA16>C16," * La variable Pueblos originarios no puede ser mayor al Total.","")) | CB16: =IF(AND(C16>0,AB16="")," * No olvide digitar la variable Migrantes. Digite Cero si no tiene.",IF(AB16>C16," * La variable Migrantes no puede ser mayor al Total.","")) | CC16: =IF(AND($C16>0,OR(AC16=""))," * No olvide digitar la variable "&$AC$9&""&". Digite Cero si no tiene.",IF(OR(AC16>$C16)," * La variable Discapacidad no puede ser mayor al Total.","")) | CD16: =IF(AND($C16>0,OR(AD16=""))," * No olvide digitar la variable "&$AD$9&""&". Digite Cero si no tiene.",IF(OR(AD16>$C16)," * La variable "&$AD$9&""&" no puede ser mayor al Total.","")) | CE16: =IF(AND($C16>0,OR(AE16="",AF16=""))," * No olvide digitar la variable "&$AE$9&""&". Digite Cero si no tiene.",IF(OR(AE16+AF16>$C16)," * La variable "&$AE$9&""&" no puede ser mayor al Total.","")) | CI16: =IF(AND($C16>0,AA16=""),1,IF(AA16>$C16,1,0)) -> 0 | CJ16: =IF(AND($C16>0,AB16=""),1,IF(AB16>$C16,1,0)) -> 0 | CK16: =IF(AND($C16>0,AC16=""),1,IF(AC16>$C16,1,0)) -> 0 | CL16: =IF(AND($C16>0,AD16=""),1,IF(AD16>$C16,1,0)) -> 0 | CM16: =IF(AND($C16>0,AE16="",AF16=""),1,IF(AE16+AF16>$C16,1,0)) -> 0
A17: Parto prehospitalario (en establecimientos salud o ambulancias) | C17: 0 | D17: 0 | E17: 0 | F17: 0 | G17: 0 | H17: 0 | I17: 0 | J17: 0 | K17: 0 | L17: 0 | M17: 0 | N17: 0 | O17: 0 | P17: 0 | Q17: 0 | R17: 0 | S17: 0 | T17: 0 | U17: 0 | V17: 0 | W17: 0 | X17: 0 | Y17: 0 | Z17: 0 | AA17: 0 | AB17: 0 | AC17: 0 | AD17: 0 | AE17: 0 | AF17: 0 | AG17: =$CA17&CB17&CC17&CD17&CE17 | CA17: =IF(AND(C17>0,AA17="")," * No olvide digitar la variable Pueblos originarios. Digite Cero si no tiene.",IF(AA17>C17," * La variable Pueblos originarios no puede ser mayor al Total.","")) | CB17: =IF(AND(C17>0,AB17="")," * No olvide digitar la variable Migrantes. Digite Cero si no tiene.",IF(AB17>C17," * La variable Migrantes no puede ser mayor al Total.","")) | CC17: =IF(AND($C17>0,OR(AC17=""))," * No olvide digitar la variable "&$AC$9&""&". Digite Cero si no tiene.",IF(OR(AC17>$C17)," * La variable Discapacidad no puede ser mayor al Total.","")) | CD17: =IF(AND($C17>0,OR(AD17=""))," * No olvide digitar la variable "&$AD$9&""&". Digite Cero si no tiene.",IF(OR(AD17>$C17)," * La variable "&$AD$9&""&" no puede ser mayor al Total.","")) | CE17: =IF(AND($C17>0,OR(AE17="",AF17=""))," * No olvide digitar la variable "&$AE$9&""&". Digite Cero si no tiene.",IF(OR(AE17+AF17>$C17)," * La variable "&$AE$9&""&" no puede ser mayor al Total.","")) | CI17: =IF(AND($C17>0,AA17=""),1,IF(AA17>$C17,1,0)) -> 0 | CJ17: =IF(AND($C17>0,AB17=""),1,IF(AB17>$C17,1,0)) -> 0 | CK17: =IF(AND($C17>0,AC17=""),1,IF(AC17>$C17,1,0)) -> 0 | CL17: =IF(AND($C17>0,AD17=""),1,IF(AD17>$C17,1,0)) -> 0 | CM17: =IF(AND($C17>0,AE17="",AF17=""),1,IF(AE17+AF17>$C17,1,0)) -> 0
A18: Partos fuera de la red de salud | C18: 1 | D18: 0 | E18: 0 | F18: 1 | G18: 0 | H18: 0 | I18: 0 | J18: 0 | K18: 0 | L18: 0 | M18: 0 | N18: 0 | O18: 0 | P18: 0 | Q18: 0 | R18: 0 | S18: 0 | T18: 0 | U18: 0 | V18: 0 | W18: 0 | X18: 0 | Y18: 0 | Z18: 0 | AA18: 0 | AB18: 0 | AC18: 0 | AD18: 0 | AE18: 0 | AF18: 0 | AG18: =$CA18&CB18&CC18&CD18&CE18 | CA18: =IF(AND(C18>0,AA18="")," * No olvide digitar la variable Pueblos originarios. Digite Cero si no tiene.",IF(AA18>C18," * La variable Pueblos originarios no puede ser mayor al Total.","")) | CB18: =IF(AND(C18>0,AB18="")," * No olvide digitar la variable Migrantes. Digite Cero si no tiene.",IF(AB18>C18," * La variable Migrantes no puede ser mayor al Total.","")) | CC18: =IF(AND($C18>0,OR(AC18=""))," * No olvide digitar la variable "&$AC$9&""&". Digite Cero si no tiene.",IF(OR(AC18>$C18)," * La variable Discapacidad no puede ser mayor al Total.","")) | CD18: =IF(AND($C18>0,OR(AD18=""))," * No olvide digitar la variable "&$AD$9&""&". Digite Cero si no tiene.",IF(OR(AD18>$C18)," * La variable "&$AD$9&""&" no puede ser mayor al Total.","")) | CE18: =IF(AND($C18>0,OR(AE18="",AF18=""))," * No olvide digitar la variable "&$AE$9&""&". Digite Cero si no tiene.",IF(OR(AE18+AF18>$C18)," * La variable "&$AE$9&""&" no puede ser mayor al Total.","")) | CI18: =IF(AND($C18>0,AA18=""),1,IF(AA18>$C18,1,0)) -> 0 | CJ18: =IF(AND($C18>0,AB18=""),1,IF(AB18>$C18,1,0)) -> 0 | CK18: =IF(AND($C18>0,AC18=""),1,IF(AC18>$C18,1,0)) -> 0 | CL18: =IF(AND($C18>0,AD18=""),1,IF(AD18>$C18,1,0)) -> 0 | CM18: =IF(AND($C18>0,AE18="",AF18=""),1,IF(AE18+AF18>$C18,1,0)) -> 0
A19: Plan de parto | C19: 20 | D19: 0 | E19: 1 | F19: 13 | G19: 6 | H19: 0 | I19: 0 | J19: 0 | K19: 0 | L19: 0 | M19: 0 | N19: 0 | O19: 0 | P19: 0 | Q19: 0 | R19: 0 | S19: 0 | T19: 0 | U19: 0 | V19: 0 | W19: 0 | X19: 0 | Y19: 0 | Z19: 0 | AA19: 0 | AB19: 0 | AC19: 0 | AD19: 0 | AE19: 0 | AF19: 0 | AG19: =$CA19&CB19&CC19&CD19&CE19 | CA19: =IF(AND(C19>0,AA19="")," * No olvide digitar la variable Pueblos originarios. Digite Cero si no tiene.",IF(AA19>C19," * La variable Pueblos originarios no puede ser mayor al Total.","")) | CB19: =IF(AND(C19>0,AB19="")," * No olvide digitar la variable Migrantes. Digite Cero si no tiene.",IF(AB19>C19," * La variable Migrantes no puede ser mayor al Total.","")) | CC19: =IF(AND($C19>0,OR(AC19=""))," * No olvide digitar la variable "&$AC$9&""&". Digite Cero si no tiene.",IF(OR(AC19>$C19)," * La variable Discapacidad no puede ser mayor al Total.","")) | CD19: =IF(AND($C19>0,OR(AD19=""))," * No olvide digitar la variable "&$AD$9&""&". Digite Cero si no tiene.",IF(OR(AD19>$C19)," * La variable "&$AD$9&""&" no puede ser mayor al Total.","")) | CE19: =IF(AND($C19>0,OR(AE19="",AF19=""))," * No olvide digitar la variable "&$AE$9&""&". Digite Cero si no tiene.",IF(OR(AE19+AF19>$C19)," * La variable "&$AE$9&""&" no puede ser mayor al Total.","")) | CI19: =IF(AND($C19>0,AA19=""),1,IF(AA19>$C19,1,0)) -> 0 | CJ19: =IF(AND($C19>0,AB19=""),1,IF(AB19>$C19,1,0)) -> 0 | CK19: =IF(AND($C19>0,AC19=""),1,IF(AC19>$C19,1,0)) -> 0 | CL19: =IF(AND($C19>0,AD19=""),1,IF(AD19>$C19,1,0)) -> 0 | CM19: =IF(AND($C19>0,AE19="",AF19=""),1,IF(AE19+AF19>$C19,1,0)) -> 0
A20: Entrega de placenta a solicitud | C20: 1 | D20: 0 | E20: 0 | F20: 1 | G20: 0 | H20: 0 | I20: 0 | J20: 0 | K20: 0 | L20: 0 | M20: 0 | N20: 0 | O20: 0 | P20: 0 | Q20: 0 | R20: 0 | S20: 0 | T20: 0 | U20: 0 | V20: 0 | W20: 0 | X20: 0 | Y20: 0 | Z20: 0 | AA20: 0 | AB20: 0 | AC20: 0 | AD20: 0 | AE20: 0 | AF20: 0 | AG20: =$CA20&CB20&CC20&CD20&CE20 | CA20: =IF(AND(C20>0,AA20="")," * No olvide digitar la variable Pueblos originarios. Digite Cero si no tiene.",IF(AA20>C20," * La variable Pueblos originarios no puede ser mayor al Total.","")) | CB20: =IF(AND(C20>0,AB20="")," * No olvide digitar la variable Migrantes. Digite Cero si no tiene.",IF(AB20>C20," * La variable Migrantes no puede ser mayor al Total.","")) | CC20: =IF(AND($C20>0,OR(AC20=""))," * No olvide digitar la variable "&$AC$9&""&". Digite Cero si no tiene.",IF(OR(AC20>$C20)," * La variable Discapacidad no puede ser mayor al Total.","")) | CD20: =IF(AND($C20>0,OR(AD20=""))," * No olvide digitar la variable "&$AD$9&""&". Digite Cero si no tiene.",IF(OR(AD20>$C20)," * La variable "&$AD$9&""&" no puede ser mayor al Total.","")) | CE20: =IF(AND($C20>0,OR(AE20="",AF20=""))," * No olvide digitar la variable "&$AE$9&""&". Digite Cero si no tiene.",IF(OR(AE20+AF20>$C20)," * La variable "&$AE$9&""&" no puede ser mayor al Total.","")) | CI20: =IF(AND($C20>0,AA20=""),1,IF(AA20>$C20,1,0)) -> 0 | CJ20: =IF(AND($C20>0,AB20=""),1,IF(AB20>$C20,1,0)) -> 0 | CK20: =IF(AND($C20>0,AC20=""),1,IF(AC20>$C20,1,0)) -> 0 | CL20: =IF(AND($C20>0,AD20=""),1,IF(AD20>$C20,1,0)) -> 0 | CM20: =IF(AND($C20>0,AE20="",AF20=""),1,IF(AE20+AF20>$C20,1,0)) -> 0
A21: Embarazo no controlado | C21: 0 | D21: 0 | E21: 0 | F21: 0 | G21: 0 | H21: 0 | I21: 0 | J21: 0 | K21: 0 | L21: 0 | M21: 0 | N21: 0 | O21: 0 | P21: 0 | Q21: 0 | R21: 0 | S21: 0 | T21: 0 | U21: 0 | V21: 0 | W21: 0 | X21: 0 | Y21: 0 | Z21: 0 | AA21: 0 | AB21: 0 | AC21: 0 | AD21: 0 | AE21: 0 | AF21: 0 | AG21: =$CA21&CB21&CC21&CD21&CE21 | CA21: =IF(AND(C21>0,AA21="")," * No olvide digitar la variable Pueblos originarios. Digite Cero si no tiene.",IF(AA21>C21," * La variable Pueblos originarios no puede ser mayor al Total.","")) | CB21: =IF(AND(C21>0,AB21="")," * No olvide digitar la variable Migrantes. Digite Cero si no tiene.",IF(AB21>C21," * La variable Migrantes no puede ser mayor al Total.","")) | CC21: =IF(AND($C21>0,OR(AC21=""))," * No olvide digitar la variable "&$AC$9&""&". Digite Cero si no tiene.",IF(OR(AC21>$C21)," * La variable Discapacidad no puede ser mayor al Total.","")) | CD21: =IF(AND($C21>0,OR(AD21=""))," * No olvide digitar la variable "&$AD$9&""&". Digite Cero si no tiene.",IF(OR(AD21>$C21)," * La variable "&$AD$9&""&" no puede ser mayor al Total.","")) | CE21: =IF(AND($C21>0,OR(AE21="",AF21=""))," * No olvide digitar la variable "&$AE$9&""&". Digite Cero si no tiene.",IF(OR(AE21+AF21>$C21)," * La variable "&$AE$9&""&" no puede ser mayor al Total.","")) | CI21: =IF(AND($C21>0,AA21=""),1,IF(AA21>$C21,1,0)) -> 0 | CJ21: =IF(AND($C21>0,AB21=""),1,IF(AB21>$C21,1,0)) -> 0 | CK21: =IF(AND($C21>0,AC21=""),1,IF(AC21>$C21,1,0)) -> 0 | CL21: =IF(AND($C21>0,AD21=""),1,IF(AD21>$C21,1,0)) -> 0 | CM21: =IF(AND($C21>0,AE21="",AF21=""),1,IF(AE21+AF21>$C21,1,0)) -> 0
A22: Parto en domicilio | B22: Con atención profesional | C22: 0 | D22: 0 | E22: 0 | F22: 0 | G22: 0 | H22: 0 | I22: 0 | J22: 0 | K22: 0 | L22: 0 | M22: 0 | N22: 0 | O22: 0 | P22: 0 | Q22: 0 | R22: 0 | S22: 0 | T22: 0 | U22: 0 | V22: 0 | W22: 0 | X22: 0 | Y22: 0 | Z22: 0 | AA22: 0 | AB22: 0 | AC22: 0 | AD22: 0 | AE22: 0 | AF22: 0 | AG22: =$CA22&CB22&CC22&CD22&CE22 | CA22: =IF(AND(C22>0,AA22="")," * No olvide digitar la variable Pueblos originarios. Digite Cero si no tiene.",IF(AA22>C22," * La variable Pueblos originarios no puede ser mayor al Total.","")) | CB22: =IF(AND(C22>0,AB22="")," * No olvide digitar la variable Migrantes. Digite Cero si no tiene.",IF(AB22>C22," * La variable Migrantes no puede ser mayor al Total.","")) | CC22: =IF(AND($C22>0,OR(AC22=""))," * No olvide digitar la variable "&$AC$9&""&". Digite Cero si no tiene.",IF(OR(AC22>$C22)," * La variable Discapacidad no puede ser mayor al Total.","")) | CD22: =IF(AND($C22>0,OR(AD22=""))," * No olvide digitar la variable "&$AD$9&""&". Digite Cero si no tiene.",IF(OR(AD22>$C22)," * La variable "&$AD$9&""&" no puede ser mayor al Total.","")) | CE22: =IF(AND($C22>0,OR(AE22="",AF22=""))," * No olvide digitar la variable "&$AE$9&""&". Digite Cero si no tiene.",IF(OR(AE22+AF22>$C22)," * La variable "&$AE$9&""&" no puede ser mayor al Total.","")) | CI22: =IF(AND($C22>0,AA22=""),1,IF(AA22>$C22,1,0)) -> 0 | CJ22: =IF(AND($C22>0,AB22=""),1,IF(AB22>$C22,1,0)) -> 0 | CK22: =IF(AND($C22>0,AC22=""),1,IF(AC22>$C22,1,0)) -> 0 | CL22: =IF(AND($C22>0,AD22=""),1,IF(AD22>$C22,1,0)) -> 0 | CM22: =IF(AND($C22>0,AE22="",AF22=""),1,IF(AE22+AF22>$C22,1,0)) -> 0
B23: Sin atención profesional | C23: 1 | D23: 0 | E23: 0 | F23: 1 | G23: 0 | H23: 0 | I23: 0 | J23: 0 | K23: 0 | L23: 1 | M23: 0 | N23: 0 | O23: 0 | P23: 0 | Q23: 1 | R23: 1 | S23: 0 | T23: 0 | U23: 0 | V23: 0 | W23: 0 | X23: 0 | Y23: 0 | Z23: 0 | AA23: 0 | AB23: 1 | AC23: 0 | AD23: 0 | AE23: 0 | AF23: 0 | AG23: =$CA23&CB23&CC23&CD23&CE23 | CA23: =IF(AND(C23>0,AA23="")," * No olvide digitar la variable Pueblos originarios. Digite Cero si no tiene.",IF(AA23>C23," * La variable Pueblos originarios no puede ser mayor al Total.","")) | CB23: =IF(AND(C23>0,AB23="")," * No olvide digitar la variable Migrantes. Digite Cero si no tiene.",IF(AB23>C23," * La variable Migrantes no puede ser mayor al Total.","")) | CC23: =IF(AND($C23>0,OR(AC23=""))," * No olvide digitar la variable "&$AC$9&""&". Digite Cero si no tiene.",IF(OR(AC23>$C23)," * La variable Discapacidad no puede ser mayor al Total.","")) | CD23: =IF(AND($C23>0,OR(AD23=""))," * No olvide digitar la variable "&$AD$9&""&". Digite Cero si no tiene.",IF(OR(AD23>$C23)," * La variable "&$AD$9&""&" no puede ser mayor al Total.","")) | CE23: =IF(AND($C23>0,OR(AE23="",AF23=""))," * No olvide digitar la variable "&$AE$9&""&". Digite Cero si no tiene.",IF(OR(AE23+AF23>$C23)," * La variable "&$AE$9&""&" no puede ser mayor al Total.","")) | CI23: =IF(AND($C23>0,AA23=""),1,IF(AA23>$C23,1,0)) -> 0 | CJ23: =IF(AND($C23>0,AB23=""),1,IF(AB23>$C23,1,0)) -> 0 | CK23: =IF(AND($C23>0,AC23=""),1,IF(AC23>$C23,1,0)) -> 0 | CL23: =IF(AND($C23>0,AD23=""),1,IF(AD23>$C23,1,0)) -> 0 | CM23: =IF(AND($C23>0,AE23="",AF23=""),1,IF(AE23+AF23>$C23,1,0)) -> 0
A24: SECCION A.1: PARTOS VAGINALES *
A25: CARACTERÍSTICAS DEL MODELO DE ATENCIÓN | C25: TOTAL | D25: <28 semanas | E25: 28 - 37 semanas | F25: 38 semanas y más
A26: Espontáneo | C26: =SUM(D26:F26) -> 17 | D26: 0 | E26: 6 | F26: 11
A27: Inducidos | B27: Mecánica | C27: =SUM(D27:F27) -> 1 | D27: 0 | E27: 0 | F27: 1
B28: Farmacológica | C28: =SUM(D28:F28) -> 18 | D28: 0 | E28: 4 | F28: 14
A29: Conducción oxitócica | C29: =SUM(D29:F29) -> 8 | D29: 0 | E29: 0 | F29: 8
A30: Libertad de movimiento | C30: =SUM(D30:F30) -> 44 | D30: 0 | E30: 13 | F30: 31
A31: Régimen hídrico amplio | C31: =SUM(D31:F31) -> 44 | D31: 0 | E31: 13 | F31: 31
A32: Manejo del dolor | B32: No farmacológico | C32: =SUM(D32:F32) -> 18 | D32: 0 | E32: 3 | F32: 15
B33: Farmacológico | C33: =SUM(D33:F33) -> 26 | D33: 0 | E33: 9 | F33: 17
A34: Posición al momento del expulsivo | B34: Litotomía | C34: =SUM(D34:F34) -> 44 | D34: 0 | E34: 13 | F34: 31
B35: Otras posiciones | C35: =SUM(D35:F35) -> 0 | D35: 0 | E35: 0 | F35: 0
A36: Episiotomía | C36: =SUM(D36:F36) -> 5 | D36: 0 | E36: 1 | F36: 4
A37: Acompañamiento | B37: Durante el trabajo de parto | C37: =SUM(D37:F37) -> 37 | D37: 0 | E37: 10 | F37: 27
B38: Sólo en el expulsivo | C38: =SUM(D38:F38) -> 3 | D38: 0 | E38: 1 | F38: 2
A39: (*) Partos de Término y Pre-Término
A40: SECCION A.2: CESÁREAS (RESPONSABILIDAD DEL MÉDICO JEFE DEL SERVICIO DE OBSTETRICIA)
A41: CLASIFICACIÓN SEGÚN MODELO DE ROBSON | C41: Programada | D41: Urgencia
A42: Grupo 1: Nulíparas, embarazo único, cefálica, ≥37 semanas en trabajo de parto espontáneo | C42: 16 | D42: 6
A43: Grupo 2: Nulíparas, embarazo único, cefálica, ≥37 semanas, cesárea programada o con inducción de trabajo de parto | B43: Césarea por inducción fracasada | C43: 0 | D43: 3
B44: Césarea programada | C44: 11 | D44: 0
A45: Grupo 3: Multípara, sin cesárea previa, embarazo único, cefálica, ≥37 semanas en trabajo de parto espontáneo | C45: 1 | D45: 2
A46: Grupo 4: Multípara, sin cesárea previa, embarazo único, cefálica, ≥37 semanas, cesárea programada o con inducción de trabajo de parto | B46: Césarea por inducción fracasada | C46: 0 | D46: 2
B47: Césarea programada | C47: 2 | D47: 0
A48: Grupo 5: multíparas con al menos 1 cesárea previa, embarazo unico, cefálica, ≥37 semanas | B48: 5.1: con 1 cesárea previa | C48: 15 | D48: 5
B49: 5.2: 2 o más cesareas previas | C49: 6 | D49: 0
A50: Grupo 6: Nulíparas, embarazo único, podálica | C50: 2 | D50: 1
A51: Grupo 7: Multíparas, embarazo único, podálica, con 1 o más cesáreas previas | C51: 0 | D51: 2
A52: Grupo 8: Todas las mujeres con embarazo múltiple, incluidas las que tienen 1 o más cesáreas previas | C52: 0 | D52: 0
A53: Grupo 9: Embarazo único, transverso y oblicuo, incluidas las que tienen una o mas cesáreas previas | C53: 0 | D53: 0
A54: Grupo 10: Todas las mujeres con embarazo único, cefálica, <37 semanas, incluidas las que tienen 1 o más cesáreas | C54: 1 | D54: 2
A55: Total cesáreas por requerimiento materno | B55: Nulípara | C55: 11 | D55: 6
B56: Multípara | C56: 12 | D56: 3
A57: Acompañamiento durante la cesárea | C57: 54 | D57: 13
A58: SECCION A.3: COMPLICACIONES
A59: TIPO DE COMPLICACIÓN | C59: Atención Institucional | F59: Parto en domicilio
C60: Parto Espontáneo | D60: Parto Inducido | E60: Césarea
A61: Hemorragia post parto | B61: Inercia | C61: 0 | D61: 0 | E61: 0 | F61: 0
B62: Restos | C62: 0 | D62: 1 | E62: 0 | F62: 1
B63: Trauma | C63: 0 | D63: 0 | E63: 0 | F63: 0
B64: Desgarros III y IV | C64: 0 | D64: 0 | E64: 0 | F64: 0
B65: Alteraciones de la coagulación | C65: 0 | D65: 0 | E65: 1 | F65: 0
A66: Preeclampsia severa | C66: 0 | D66: 0 | E66: 2 | F66: 0
A67: Eclampsia | C67: 0 | D67: 0 | E67: 0 | F67: 0
A68: Sepsis o infección sistémica grave | C68: 0 | D68: 0 | E68: 0 | F68: 0
A69: Manejo quirúrgico de la inercia uterina | C69: 0 | D69: 0 | E69: 0 | F69: 0
A70: Histerectomía obstétrica | C70: 0 | D70: 0 | E70: 0 | F70: 0
A71: Anemia severa postmetrorragia que requiere transfusión | C71: 0 | D71: 0 | E71: 0 | F71: 0
A72: SECCIÓN B: INTERRUPCIÓN VOLUNTARIA DEL EMBARAZO
A73: CAUSALES | B73: CONTINUA EMBARAZO | E73: INTERRUMPE EMBARAZO | H73: Beneficiarias | I73: Pueblos Originarios | J73: Migrantes | K73: Trans masculino | L73: Discapacidad
B74: Rango Etario | E74: Rango Etario
B75: Menor de 14 años | C75: 14 - 17 años | D75: 18 y más años | E75: Menor de 14 años | F75: 14 - 17 años | G75: 18 y más años
A76: TOTAL | B76: =SUM(B77:B79) -> 0 | C76: =SUM(C77:C79) -> 0 | D76: =SUM(D77:D79) -> 0 | E76: =SUM(E77:E79) -> 0 | F76: =SUM(F77:F79) -> 0 | G76: =SUM(G77:G79) -> 1 | H76: =SUM(H77:H79) -> 1 | I76: =SUM(I77:I79) -> 0 | ... L76: =SUM(L77:L79) -> 0
A77: Causal N° 1: Mujer embarazada con riesgo vital | H77: 0 | I77: 0 | J77: 0 | K77: 0 | L77: 0 | M77: =$CA77&CB77&CC77&CD77&CE77 | CA77: =IF(AND(SUM(E77:G77)>0,H77="")," * No olvide digitar la variable "&$H$73&""&". Digite cero si tiene.",IF(H77>SUM(E77:G77)," * La variable "&$H$73&""&" no puede ser mayor a la Suma de la variable "&$E$73&""&".","")) | CB77: =IF(AND(SUM(E77:G77)>0,I77="")," * No olvide digitar la variable Pueblos originarios. Digite cero si tiene.",IF(I77>SUM(E77:G77)," * La variable Pueblos originarios no puede ser mayor a la suma de la variable "&$E$73&""&".","")) | CC77: =IF(AND(SUM(E77:G77)>0,J77="")," * No olvide digitar la variable Migrantes. Digite cero si tiene.",IF(J77>SUM(E77:G77)," * La variable Migrantes no puede ser mayor a la suma de la variable "&$E$73&""&".","")) | CD77: =IF(AND(SUM($E77:$G77)>0,OR(K77=""))," * No olvide digitar la variable Trans Masculino. Digite Cero si no tiene.",IF(K77>SUM($E77:$G77)," * La variable Trans Masculino no puede ser mayor a la suma de la variable "&$E$73&""&".","")) | CE77: =IF(AND(SUM($E77:$G77)>0,OR(L77=""))," * No olvide digitar la variable "&$L$73&""&". Digite Cero si no tiene.",IF(L77>SUM($E77:$G77)," * La variable Discapacidad no puede ser mayor a la Suma de la variable "&$E$73&""&".","")) | CI77: =IF(AND(SUM($E77:$G77)>0,H77=""),1,IF(H77>SUM(E77:G77),1,0)) -> 0 | CJ77: =IF(AND(SUM(E77:G77)>0,I77=""),1,IF(I77>SUM(E77:G77),1,0)) -> 0 | CK77: =IF(AND(SUM(E77:G77)>0,J77=""),1,IF(J77>SUM(E77:G77),1,0)) -> 0 | CL77: =IF(AND(SUM($E77:$G77)>0,OR(K77="")),1,IF(K77>SUM($E77:$G77),1,0)) -> 0 | CM77: =IF(AND(SUM($E77:$G77)>0,OR(L77="")),1,IF(L77>SUM($E77:$G77),1,0)) -> 0
A78: Causal N° 2: Inviabilidad fetal de carácter letal | G78: 1 | H78: 1 | I78: 0 | J78: 0 | K78: 0 | L78: 0 | M78: =$CA78&CB78&CC78&CD78&CE78 | CA78: =IF(AND(SUM(E78:G78)>0,H78="")," * No olvide digitar la variable "&$H$73&""&". Digite cero si tiene.",IF(H78>SUM(E78:G78)," * La variable "&$H$73&""&" no puede ser mayor a la Suma de la variable "&$E$73&""&".","")) | CB78: =IF(AND(SUM(E78:G78)>0,I78="")," * No olvide digitar la variable Pueblos originarios. Digite cero si tiene.",IF(I78>SUM(E78:G78)," * La variable Pueblos originarios no puede ser mayor a la suma de la variable "&$E$73&""&".","")) | CC78: =IF(AND(SUM(E78:G78)>0,J78="")," * No olvide digitar la variable Migrantes. Digite cero si tiene.",IF(J78>SUM(E78:G78)," * La variable Migrantes no puede ser mayor a la suma de la variable "&$E$73&""&".","")) | CD78: =IF(AND(SUM($E78:$G78)>0,OR(K78=""))," * No olvide digitar la variable Trans Masculino. Digite Cero si no tiene.",IF(K78>SUM($E78:$G78)," * La variable Trans Masculino no puede ser mayor a la suma de la variable "&$E$73&""&".","")) | CE78: =IF(AND(SUM($E78:$G78)>0,OR(L78=""))," * No olvide digitar la variable "&$L$73&""&". Digite Cero si no tiene.",IF(L78>SUM($E78:$G78)," * La variable Discapacidad no puede ser mayor a la Suma de la variable "&$E$73&""&".","")) | CI78: =IF(AND(SUM($E78:$G78)>0,H78=""),1,IF(H78>SUM(E78:G78),1,0)) -> 0 | CJ78: =IF(AND(SUM(E78:G78)>0,I78=""),1,IF(I78>SUM(E78:G78),1,0)) -> 0 | CK78: =IF(AND(SUM(E78:G78)>0,J78=""),1,IF(J78>SUM(E78:G78),1,0)) -> 0 | CL78: =IF(AND(SUM($E78:$G78)>0,OR(K78="")),1,IF(K78>SUM($E78:$G78),1,0)) -> 0 | CM78: =IF(AND(SUM($E78:$G78)>0,OR(L78="")),1,IF(L78>SUM($E78:$G78),1,0)) -> 0
A79: Causal N° 3: Por violación | H79: 0 | I79: 0 | J79: 0 | K79: 0 | L79: 0 | M79: =$CA79&CB79&CC79&CD79&CE79 | CA79: =IF(AND(SUM(E79:G79)>0,H79="")," * No olvide digitar la variable "&$H$73&""&". Digite cero si tiene.",IF(H79>SUM(E79:G79)," * La variable "&$H$73&""&" no puede ser mayor a la Suma de la variable "&$E$73&""&""&".","")) | CB79: =IF(AND(SUM(E79:G79)>0,I79="")," * No olvide digitar la variable Pueblos originarios. Digite cero si tiene.",IF(I79>SUM(E79:G79)," * La variable Pueblos originarios no puede ser mayor a la suma de la variable "&$E$73&""&".","")) | CC79: =IF(AND(SUM(E79:G79)>0,J79="")," * No olvide digitar la variable Migrantes. Digite cero si tiene.",IF(J79>SUM(E79:G79)," * La variable Migrantes no puede ser mayor a la suma de la variable "&$E$73&""&".","")) | CD79: =IF(AND(SUM($E79:$G79)>0,OR(K79=""))," * No olvide digitar la variable Trans Masculino. Digite Cero si no tiene.",IF(K79>SUM($E79:$G79)," * La variable Trans Masculino no puede ser mayor a la suma de la variable"&$E$73&""&".","")) | CE79: =IF(AND(SUM($E79:$G79)>0,OR(L79=""))," * No olvide digitar la variable "&$L$73&""&". Digite Cero si no tiene.",IF(L79>SUM($E79:$G79)," * La variable Discapacidad no puede ser mayor a la Suma de la variable "&$E$73&""&".","")) | CI79: =IF(AND(SUM($E79:$G79)>0,H79=""),1,IF(H79>SUM(E79:G79),1,0)) -> 0 | CJ79: =IF(AND(SUM(E79:G79)>0,I79=""),1,IF(I79>SUM(E79:G79),1,0)) -> 0 | CK79: =IF(AND(SUM(E79:G79)>0,J79=""),1,IF(J79>SUM(E79:G79),1,0)) -> 0 | CL79: =IF(AND(SUM($E79:$G79)>0,OR(K79="")),1,IF(K79>SUM($E79:$G79),1,0)) -> 0 | CM79: =IF(AND(SUM($E79:$G79)>0,OR(L79="")),1,IF(L79>SUM($E79:$G79),1,0)) -> 0
A80: SECCIÓN B.1 PROGAMA DE ACOMPAÑAMIENTO IVE
A81: ATENCIONES DE ACOMPAÑAMIENTO | B81: RANGO ETARIO | E81: CAUSAL IVE GESTANTE ATENDIDA
B82: Menor de 14 años | C82: 14 - 17 años | D82: 18 y más años | E82: Causal 1 | F82: Causal 2 | G82: Causal 3
A83: TOTAL | B83: =B84+B85+B86+B87+B88 -> 0 | C83: =C84+C85+C86+C87+C88 -> 0 | D83: =D84+D85+D86+D87+D88 -> 1 | E83: =E84+E85+E86+E87+E88 -> 0 | F83: =F84+F85+F86+F87+F88 -> 1 | G83: =G84+G85+G86+G87+G88 -> 0
A84: Atención por psiquiatra
A85: Atención por psicólogo(a)
A86: Atención por trabajador(a) social
A87: Atención por Dupla (psicólogo(a) + trabajador(a) social) | D87: 1 | F87: 1
A88: Visita Domiciliaria
A89: SECCIÓN C: MÉTODO ANTICONCEPTIVO AL ALTA
A90: MÉTODO ANTICONCEPTIVO | C90: Post Aborto | D90: Intracesárea | E90: Post Parto | F90: Post IVE | G90: RANGO ETARIO
G91: < 15 años | H91: 15-19 años | I91: 20 y más años
A92: DIU con Cobre
A93: DIU con Levonorgestrel
A94: Hormonal | B94: Oral Combinado
B95: Oral Progestágeno
B96: Inyectable Combinado
B97: Inyectable Progestágeno
B98: Implante Etonogestrel (3 años)
B99: Implante Levonorgestrel (5 años)
B100: Anillo de Progestágeno
A101: Métodos de barrera
...

Sheet JUNIO
A1: SERVICIO DE SALUD
A2: =CONCATENATE("COMUNA: ",[4]NOMBRE!B2, " (",[4]NOMBRE!C2,[4]NOMBRE!D2,[4]NOMBRE!E2,[4]NOMBRE!F2,[4]NOMBRE!G2,")") -> COMUNA: LINARES (07401)
A3: =CONCATENATE("ESTABLECIMIENTO/ESTRATEGIA: ", [4]NOMBRE!B3, " (",[4]NOMBRE!C3,[4]NOMBRE!D3,[4]NOMBRE!E3,[4]NOMBRE!F3,[4]NOMBRE!G3,[4]NOMBRE!H3,")") -> ESTABLECIMIENTO/ESTRATEGIA: HOSPITAL PRESIDENTE CARLOS IBAÑEZ DEL CAMPO (116108)
A4: =CONCATENATE("MES: ",[4]NOMBRE!B6, " (",[4]NOMBRE!C6,[4]NOMBRE!D6,")") -> MES: JUNIO (06)
A5: =CONCATENATE("AÑO: ",[4]NOMBRE!B7) -> AÑO: 2025
A6: REM-A24. ATENCIÓN OBSTÉTRICA Y DEL RECIÉN NACIDO
A8: SECCIÓN A: INFORMACIÓN GENERAL DE PARTOS
A9: CARACTERISTICAS DEL PARTO | C9: TOTAL | D9: PARTOS SEGÚN EDAD DE LA MADRE | H9: PARTOS PREMATUROS (CONSIDERAR SOBRE 22 SEMANAS) | L9: Uso de oxitocina profiláctica | M9: ANESTESIA Y/O ANALGESIA DEL PARTO (MEDIDAS FARMACOLÓGICAS Y NO FARMACOLÓGICAS) | S9: Ligadura tardía del cordón (> a 60 segundos) | T9: CONTACTO INMEDIATO PIEL A PIEL >30 MINUTOS | X9: Lactancia materna en los primeros 60 minutos de vida (RN con peso de 2.500 grs. o más) | Y9: Alojamiento conjunto en puerperio inmediato | Z9: Atención con pertinencia cultural | AA9: Pueblos Originarios | AB9: Migrantes | AC9: Discapacidad | AD9: Privada de Libertad | AE9: Identidad de Género
D10: < 15 años | E10: 15 - 19 años | F10: 20 - 34 años | G10: ≥35 años | H10: Partos prematuros menos de 24 semanas | I10: Partos prematuros de 24 a 28 semanas | J10: Partos prematuros de 29 a 32 semanas | K10: Partos prematuros de 33 a 36 semanas | M10: Anestesia Neuroaxial | N10: Óxido nitroso | O10: Analgesia endovenosa | P10: General | Q10: Local | R10: Medidas no farmacológicas | T10: Con la Madre | V10: Con el padre o acompañante significativo
T11: RN peso menor o igual a 2.499 grs. | U11: RN con peso de 2.500 grs. o más | V11: RN peso menor o igual a 2.499 grs. | W11: RN con peso de 2.500 grs. o más | AE11: Trans masculino | AF11: No binarie
A12: TOTAL PARTOS | C12: =SUM(C13:C16) -> 124 | D12: =SUM(D13:D16) -> 1 | E12: =SUM(E13:E16) -> 7 | F12: =SUM(F13:F16) -> 88 | G12: =SUM(G13:G16) -> 28 | H12: =SUM(H13:H16) -> 1 | I12: =SUM(I13:I16) -> 0 | J12: =SUM(J13:J16) -> 0 | ... AF12: =SUM(AF13:AF16) -> 0
A13: Vaginal | C13: 44 | D13: 1 | E13: 4 | F13: 30 | G13: 9 | H13: 1 | I13: 0 | J13: 0 | K13: 1 | L13: 44 | M13: 27 | N13: 0 | O13: 0 | P13: 0 | Q13: 8 | R13: 44 | T13: 39 | U13: 1 | V13: 41 | W13: 1 | X13: 37 | Y13: 40 | Z13: 0 | AA13: 0 | AB13: 0 | AC13: 5 | AD13: 0 | AE13: 1 | AF13: 0 | AG13: =$CA13&CB13&CC13&CD13&CE13 | CA13: =IF(AND(C13>0,AA13="")," * No olvide digitar la variable Pueblos originarios. Digite Cero si no tiene.",IF(AA13>C13," * La variable Pueblos originarios no puede ser mayor al Total.","")) | CB13: =IF(AND(C13>0,AB13="")," * No olvide digitar la variable Migrantes. Digite Cero si no tiene.",IF(AB13>C13," * La variable Migrantes no puede ser mayor al Total.","")) | CC13: =IF(AND($C13>0,OR(AC13=""))," * No olvide digitar la variable "&$AC$9&""&". Digite Cero si no tiene.",IF(OR(AC13>$C13)," * La variable Discapacidad no puede ser mayor al Total.","")) | CD13: =IF(AND($C13>0,OR(AD13=""))," * No olvide digitar la variable "&$AD$9&""&". Digite Cero si no tiene.",IF(OR(AD13>$C13)," * La variable "&$AD$9&""&" no puede ser mayor al Total.","")) | CE13: =IF(AND($C13>0,OR(AE13="",AF13=""))," * No olvide digitar la variable "&$AE$9&""&". Digite Cero si no tiene.",IF(OR(AE13+AF13>$C13)," * La variable "&$AE$9&""&" no puede ser mayor al Total.","")) | CI13: =IF(AND($C13>0,AA13=""),1,IF(AA13>$C13,1,0)) -> 0 | CJ13: =IF(AND($C13>0,AB13=""),1,IF(AB13>$C13,1,0)) -> 0 | CK13: =IF(AND($C13>0,AC13=""),1,IF(AC13>$C13,1,0)) -> 0 | CL13: =IF(AND($C13>0,AD13=""),1,IF(AD13>$C13,1,0)) -> 0 | CM13: =IF(AND($C13>0,AE13="",AF13=""),1,IF(AE13+AF13>$C13,1,0)) -> 0
A14: Instrumental | C14: 1 | D14: 0 | E14: 0 | F14: 1 | G14: 0 | H14: 0 | I14: 0 | J14: 0 | K14: 0 | L14: 2 | M14: 1 | N14: 0 | O14: 0 | P14: 0 | Q14: 1 | R14: 2 | T14: 2 | U14: 0 | V14: 1 | W14: 0 | X14: 1 | Y14: 2 | Z14: 0 | AA14: 0 | AB14: 0 | AC14: 1 | AD14: 0 | AE14: 0 | AF14: 0 | AG14: =$CA14&CB14&CC14&CD14&CE14 | CA14: =IF(AND(C14>0,AA14="")," * No olvide digitar la variable Pueblos originarios. Digite Cero si no tiene.",IF(AA14>C14," * La variable Pueblos originarios no puede ser mayor al Total.","")) | CB14: =IF(AND(C14>0,AB14="")," * No olvide digitar la variable Migrantes. Digite Cero si no tiene.",IF(AB14>C14," * La variable Migrantes no puede ser mayor al Total.","")) | CC14: =IF(AND($C14>0,OR(AC14=""))," * No olvide digitar la variable "&$AC$9&""&". Digite Cero si no tiene.",IF(OR(AC14>$C14)," * La variable Discapacidad no puede ser mayor al Total.","")) | CD14: =IF(AND($C14>0,OR(AD14=""))," * No olvide digitar la variable "&$AD$9&""&". Digite Cero si no tiene.",IF(OR(AD14>$C14)," * La variable "&$AD$9&""&" no puede ser mayor al Total.","")) | CE14: =IF(AND($C14>0,OR(AE14="",AF14=""))," * No olvide digitar la variable "&$AE$9&""&". Digite Cero si no tiene.",IF(OR(AE14+AF14>$C14)," * La variable "&$AE$9&""&" no puede ser mayor al Total.","")) | CI14: =IF(AND($C14>0,AA14=""),1,IF(AA14>$C14,1,0)) -> 0 | CJ14: =IF(AND($C14>0,AB14=""),1,IF(AB14>$C14,1,0)) -> 0 | CK14: =IF(AND($C14>0,AC14=""),1,IF(AC14>$C14,1,0)) -> 0 | CL14: =IF(AND($C14>0,AD14=""),1,IF(AD14>$C14,1,0)) -> 0 | CM14: =IF(AND($C14>0,AE14="",AF14=""),1,IF(AE14+AF14>$C14,1,0)) -> 0
A15: Cesárea Electiva | C15: 51 | D15: 0 | E15: 1 | F15: 36 | G15: 14 | H15: 0 | I15: 0 | J15: 0 | K15: 4 | L15: 51 | M15: 51 | N15: 0 | O15: 0 | P15: 0 | Q15: 0 | R15: 0 | T15: 51 | U15: 2 | V15: 50 | W15: 2 | X15: 0 | Y15: 52 | Z15: 0 | AA15: 0 | AB15: 0 | AC15: 0 | AD15: 0 | AE15: 0 | AF15: 0 | AG15: =$CA15&CB15&CC15&CD15&CE15 | CA15: =IF(AND(C15>0,AA15="")," * No olvide digitar la variable Pueblos originarios. Digite Cero si no tiene.",IF(AA15>C15," * La variable Pueblos originarios no puede ser mayor al Total.","")) | CB15: =IF(AND(C15>0,AB15="")," * No olvide digitar la variable Migrantes. Digite Cero si no tiene.",IF(AB15>C15," * La variable Migrantes no puede ser mayor al Total.","")) | CC15: =IF(AND($C15>0,OR(AC15=""))," * No olvide digitar la variable "&$AC$9&""&". Digite Cero si no tiene.",IF(OR(AC15>$C15)," * La variable Discapacidad no puede ser mayor al Total.","")) | CD15: =IF(AND($C15>0,OR(AD15=""))," * No olvide digitar la variable "&$AD$9&""&". Digite Cero si no tiene.",IF(OR(AD15>$C15)," * La variable "&$AD$9&""&" no puede ser mayor al Total.","")) | CE15: =IF(AND($C15>0,OR(AE15="",AF15=""))," * No olvide digitar la variable "&$AE$9&""&". Digite Cero si no tiene.",IF(OR(AE15+AF15>$C15)," * La variable "&$AE$9&""&" no puede ser mayor al Total.","")) | CI15: =IF(AND($C15>0,AA15=""),1,IF(AA15>$C15,1,0)) -> 0 | CJ15: =IF(AND($C15>0,AB15=""),1,IF(AB15>$C15,1,0)) -> 0 | CK15: =IF(AND($C15>0,AC15=""),1,IF(AC15>$C15,1,0)) -> 0 | CL15: =IF(AND($C15>0,AD15=""),1,IF(AD15>$C15,1,0)) -> 0 | CM15: =IF(AND($C15>0,AE15="",AF15=""),1,IF(AE15+AF15>$C15,1,0)) -> 0
A16: Cesárea Urgencia | C16: 28 | D16: 0 | E16: 2 | F16: 21 | G16: 5 | H16: 0 | I16: 0 | J16: 0 | K16: 0 | L16: 28 | M16: 28 | N16: 0 | O16: 0 | P16: 0 | Q16: 0 | R16: 0 | T16: 20 | U16: 2 | V16: 23 | W16: 1 | X16: 0 | Y16: 25 | Z16: 0 | AA16: 0 | AB16: 0 | AC16: 2 | AD16: 0 | AE16: 0 | AF16: 0 | AG16: =$CA16&CB16&CC16&CD16&CE16 | CA16: =IF(AND(C16>0,AA16="")," * No olvide digitar la variable Pueblos originarios. Digite Cero si no tiene.",IF(AA16>C16," * La variable Pueblos originarios no puede ser mayor al Total.","")) | CB16: =IF(AND(C16>0,AB16="")," * No olvide digitar la variable Migrantes. Digite Cero si no tiene.",IF(AB16>C16," * La variable Migrantes no puede ser mayor al Total.","")) | CC16: =IF(AND($C16>0,OR(AC16=""))," * No olvide digitar la variable "&$AC$9&""&". Digite Cero si no tiene.",IF(OR(AC16>$C16)," * La variable Discapacidad no puede ser mayor al Total.","")) | CD16: =IF(AND($C16>0,OR(AD16=""))," * No olvide digitar la variable "&$AD$9&""&". Digite Cero si no tiene.",IF(OR(AD16>$C16)," * La variable "&$AD$9&""&" no puede ser mayor al Total.","")) | CE16: =IF(AND($C16>0,OR(AE16="",AF16=""))," * No olvide digitar la variable "&$AE$9&""&". Digite Cero si no tiene.",IF(OR(AE16+AF16>$C16)," * La variable "&$AE$9&""&" no puede ser mayor al Total.","")) | CI16: =IF(AND($C16>0,AA16=""),1,IF(AA16>$C16,1,0)) -> 0 | CJ16: =IF(AND($C16>0,AB16=""),1,IF(AB16>$C16,1,0)) -> 0 | CK16: =IF(AND($C16>0,AC16=""),1,IF(AC16>$C16,1,0)) -> 0 | CL16: =IF(AND($C16>0,AD16=""),1,IF(AD16>$C16,1,0)) -> 0 | CM16: =IF(AND($C16>0,AE16="",AF16=""),1,IF(AE16+AF16>$C16,1,0)) -> 0
A17: Parto prehospitalario (en establecimientos salud o ambulancias) | C17: 0 | D17: 0 | E17: 0 | F17: 0 | G17: 0 | AG17: =$CA17&CB17&CC17&CD17&CE17 | CA17: =IF(AND(C17>0,AA17="")," * No olvide digitar la variable Pueblos originarios. Digite Cero si no tiene.",IF(AA17>C17," * La variable Pueblos originarios no puede ser mayor al Total.","")) | CB17: =IF(AND(C17>0,AB17="")," * No olvide digitar la variable Migrantes. Digite Cero si no tiene.",IF(AB17>C17," * La variable Migrantes no puede ser mayor al Total.","")) | CC17: =IF(AND($C17>0,OR(AC17=""))," * No olvide digitar la variable "&$AC$9&""&". Digite Cero si no tiene.",IF(OR(AC17>$C17)," * La variable Discapacidad no puede ser mayor al Total.","")) | CD17: =IF(AND($C17>0,OR(AD17=""))," * No olvide digitar la variable "&$AD$9&""&". Digite Cero si no tiene.",IF(OR(AD17>$C17)," * La variable "&$AD$9&""&" no puede ser mayor al Total.","")) | CE17: =IF(AND($C17>0,OR(AE17="",AF17=""))," * No olvide digitar la variable "&$AE$9&""&". Digite Cero si no tiene.",IF(OR(AE17+AF17>$C17)," * La variable "&$AE$9&""&" no puede ser mayor al Total.","")) | CI17: =IF(AND($C17>0,AA17=""),1,IF(AA17>$C17,1,0)) -> 0 | CJ17: =IF(AND($C17>0,AB17=""),1,IF(AB17>$C17,1,0)) -> 0 | CK17: =IF(AND($C17>0,AC17=""),1,IF(AC17>$C17,1,0)) -> 0 | CL17: =IF(AND($C17>0,AD17=""),1,IF(AD17>$C17,1,0)) -> 0 | CM17: =IF(AND($C17>0,AE17="",AF17=""),1,IF(AE17+AF17>$C17,1,0)) -> 0
A18: Partos fuera de la red de salud | C18: 0 | D18: 0 | E18: 0 | F18: 0 | G18: 0 | AG18: =$CA18&CB18&CC18&CD18&CE18 | CA18: =IF(AND(C18>0,AA18="")," * No olvide digitar la variable Pueblos originarios. Digite Cero si no tiene.",IF(AA18>C18," * La variable Pueblos originarios no puede ser mayor al Total.","")) | CB18: =IF(AND(C18>0,AB18="")," * No olvide digitar la variable Migrantes. Digite Cero si no tiene.",IF(AB18>C18," * La variable Migrantes no puede ser mayor al Total.","")) | CC18: =IF(AND($C18>0,OR(AC18=""))," * No olvide digitar la variable "&$AC$9&""&". Digite Cero si no tiene.",IF(OR(AC18>$C18)," * La variable Discapacidad no puede ser mayor al Total.","")) | CD18: =IF(AND($C18>0,OR(AD18=""))," * No olvide digitar la variable "&$AD$9&""&". Digite Cero si no tiene.",IF(OR(AD18>$C18)," * La variable "&$AD$9&""&" no puede ser mayor al Total.","")) | CE18: =IF(AND($C18>0,OR(AE18="",AF18=""))," * No olvide digitar la variable "&$AE$9&""&". Digite Cero si no tiene.",IF(OR(AE18+AF18>$C18)," * La variable "&$AE$9&""&" no puede ser mayor al Total.","")) | CI18: =IF(AND($C18>0,AA18=""),1,IF(AA18>$C18,1,0)) -> 0 | CJ18: =IF(AND($C18>0,AB18=""),1,IF(AB18>$C18,1,0)) -> 0 | CK18: =IF(AND($C18>0,AC18=""),1,IF(AC18>$C18,1,0)) -> 0 | CL18: =IF(AND($C18>0,AD18=""),1,IF(AD18>$C18,1,0)) -> 0 | CM18: =IF(AND($C18>0,AE18="",AF18=""),1,IF(AE18+AF18>$C18,1,0)) -> 0
