Workbook

Sheet GRÁFICOS
A3: SECCIÓN C: PROGRAMA HOSPITALIZACIÓN DOMICILIARIA
B5: Ingresos | D5: =+CONSOLIDADO!C31 -> 1208 | G5: PROFESIONALES | H5: Total de Visitas | M5: CUPOS | N5: TOTAL
B6: Personas Atendidas | D6: =+CONSOLIDADO!C32 -> 1491 | G6: Médico | H6: =+CONSOLIDADO!B40 -> 2598 | M6: Cupos Programados | N6: =+CONSOLIDADO!B51 -> 11980
B7: Días Personas Atendidas | D7: =+CONSOLIDADO!C33 -> 10360 | G7: Enfermera | H7: =+CONSOLIDADO!B41 -> 8004 | M7: Cupos Utilizados | N7: =+CONSOLIDADO!B52 -> 10598
B8: Altas | D8: =+CONSOLIDADO!C34 -> 1027 | G8: Técnico en Enfermería | H8: =+CONSOLIDADO!B42 -> 11494 | M8: Cupos Disponibles | N8: =+CONSOLIDADO!B53 -> 1382
B9: Fallecidos | D9: =+CONSOLIDADO!C35 -> 53 | G9: Kinesiólogo | H9: =+CONSOLIDADO!B44 -> 5893 | N9: Ocupación | O9: =+N7/N6 -> 0.88464107
B10: Reingresos a Hospitalización Tradicional | D10: =+CONSOLIDADO!C37 -> 93 | G10: Fonoaudiólogo/a | H10: =+CONSOLIDADO!B46 -> 273 | N10: Disponible | O10: =+N8/N6 -> 0.11535893

Sheet CONSOLIDADO
A1: SERVICIO DE SALUD
A2: =CONCATENATE("COMUNA: ",[2]NOMBRE!B2, " (",[2]NOMBRE!C2,[2]NOMBRE!D2,[2]NOMBRE!E2,[2]NOMBRE!F2,[2]NOMBRE!G2,")") -> COMUNA: 0 (00000)
A3: =CONCATENATE("ESTABLECIMIENTO/ESTRATEGIA: ", [2]NOMBRE!B3, " (",[2]NOMBRE!C3,[2]NOMBRE!D3,[2]NOMBRE!E3,[2]NOMBRE!F3,[2]NOMBRE!G3,[2]NOMBRE!H3,")") -> ESTABLECIMIENTO/ESTRATEGIA: 0 (000000)
A4: =CONCATENATE("MES: ",[2]NOMBRE!B6, " (",[2]NOMBRE!C6,[2]NOMBRE!D6,")") -> MES: 0 (00)
A5: =CONCATENATE("AÑO: ",[2]NOMBRE!B7) -> AÑO: 2025
A6: REM-21. QUIRÓFANOS Y OTROS RECURSOS HOSPITALARIOS
A8: SECCIÓN A: CAPACIDAD INSTALADA Y UTILIZACIÓN DE LOS QUIRÓFANOS CIRUGÍA MAYOR
A9: TIPO DE QUIRÓFANOS | B9: Número de Quirófanos en Dotación | C9: Promedio Mensual de Quirófanos Habilitados | D9: Promedio Mensual de Quirófanos en Trabajo | E9: Total de Horas Mensuales de Quirófanos Habilitados (Horario Hábil) | F9: Total de Horas Mensuales de Quirófanos en Trabajo (Horario Hábil) | G9: QUIRÓFANOS CIRUGIA MAYOR | Z9: CIRUGIAS MENORES Y PROCEDIMIENTOS *
G10: Horas Mensuales Programadas de Tabla Quirúrgica de Quirófanos en Trabajo, Horario Hábil | K10: Horas Mensuales Ocupadas de Quirófanos en Trabajo Horario Hábil | P10: Horas Mensuales Ocupadas de Quirófanos en Trabajo Horario Inhábil de Lunes a Viernes | U10: Horas Mensuales Ocupadas de Quirófanos en Trabajo Horario Sábado, Domingo y Festivo | Z10: Total Horas Mensuales Ocupadas de Quirófanos en Trabajo, Horario Hábil | AC10: Total Horas Mensuales Ocupadas de Quirófanos en Trabajo, Horario Inhábil
G12: Total | H12: Beneficiarios MAI | I12: Beneficiarios MLE | J12: Otros | K12: Total | L12: Beneficiarios MAI | M12: Beneficiarios MLE | N12: Otros | O12: De recambio | P12: Total | Q12: Beneficiarios MAI | R12: Beneficiarios MLE | S12: Otros | T12: De recambio | U12: Total | V12: Beneficiarios MAI | W12: Beneficiarios MLE | X12: Otros | Y12: De recambio | Z12: Total | AA12: Cirugía Menor | AB12: Otros Procedimientos | AC12: Total | AD12: Cirugía Menor | AE12: Otros Procedimientos
A13: TOTAL QUIRÓFANOS | B13: =SUM(B14:B17) -> 6 | C13: =SUM(C14:C17) -> 6 | D13: =SUM(D14:D17) -> 5.7858333 | E13: =SUM(E14:E17) -> 18360 | F13: =SUM(F14:F17) -> 17294 | G13: =SUM(G14:G17) -> 8669 | H13: =SUM(H14:H17) -> 8669 | I13: =SUM(I14:I17) -> 0 | ... AE13: =SUM(AE14:AE17) -> 88.73
A14: De Cirugía Electiva | B14: =AVERAGE(ENERO:DICIEMBRE!B14) -> 5 | C14: =AVERAGE(ENERO:DICIEMBRE!C14) -> 5 | D14: =AVERAGE(ENERO:DICIEMBRE!D14) -> 4.7858333 | E14: =SUM(ENERO:DICIEMBRE!E14) -> 9552 | F14: =SUM(ENERO:DICIEMBRE!F14) -> 8669 | G14: =SUM(H14:J14) -> 8669 | H14: =SUM(ENERO:DICIEMBRE!H14) -> 8669 | I14: =SUM(ENERO:DICIEMBRE!I14) -> 0 | J14: =SUM(ENERO:DICIEMBRE!J14) -> 0 | K14: =SUM(L14:O14) -> 7767.96 | L14: =SUM(ENERO:DICIEMBRE!L14) -> 6267.28 | M14: =SUM(ENERO:DICIEMBRE!M14) -> 12.07 | N14: =SUM(ENERO:DICIEMBRE!N14) -> 7.02 | O14: =SUM(ENERO:DICIEMBRE!O14) -> 1481.59 | P14: =SUM(Q14:T14) -> 3119.76 | Q14: =SUM(ENERO:DICIEMBRE!Q14) -> 644.47 | R14: =SUM(ENERO:DICIEMBRE!R14) -> 1829.1 | S14: =SUM(ENERO:DICIEMBRE!S14) -> 83.61 | T14: =SUM(ENERO:DICIEMBRE!T14) -> 562.58 | U14: =SUM(V14:Y14) -> 1492.62 | V14: =SUM(ENERO:DICIEMBRE!V14) -> 747.47 | W14: =SUM(ENERO:DICIEMBRE!W14) -> 269.52 | X14: =SUM(ENERO:DICIEMBRE!X14) -> 12.64 | Y14: =SUM(ENERO:DICIEMBRE!Y14) -> 462.99 | Z14: =SUM(AA14:AB14) -> 769.6 | AA14: =SUM(ENERO:DICIEMBRE!AA14) -> 575.23 | AB14: =SUM(ENERO:DICIEMBRE!AB14) -> 194.37 | AC14: =SUM(AD14:AE14) -> 183.53 | AD14: =SUM(ENERO:DICIEMBRE!AD14) -> 154.34 | AE14: =SUM(ENERO:DICIEMBRE!AE14) -> 29.19
A15: De Urgencia | B15: =AVERAGE(ENERO:DICIEMBRE!B15) -> 1 | C15: =AVERAGE(ENERO:DICIEMBRE!C15) -> 1 | D15: =AVERAGE(ENERO:DICIEMBRE!D15) -> 1 | E15: =SUM(ENERO:DICIEMBRE!E15) -> 8808 | F15: =SUM(ENERO:DICIEMBRE!F15) -> 8625 | G15: =SUM(H15:J15) -> 0 | H15: =SUM(ENERO:DICIEMBRE!H15) -> 0 | I15: =SUM(ENERO:DICIEMBRE!I15) -> 0 | J15: =SUM(ENERO:DICIEMBRE!J15) -> 0 | K15: =SUM(L15:O15) -> 1235.29 | L15: =SUM(ENERO:DICIEMBRE!L15) -> 1014.99 | M15: =SUM(ENERO:DICIEMBRE!M15) -> 9.06 | N15: =SUM(ENERO:DICIEMBRE!N15) -> 23.66 | O15: =SUM(ENERO:DICIEMBRE!O15) -> 187.58 | P15: =SUM(Q15:T15) -> 1740.14 | Q15: =SUM(ENERO:DICIEMBRE!Q15) -> 1469.73 | R15: =SUM(ENERO:DICIEMBRE!R15) -> 19.53 | S15: =SUM(ENERO:DICIEMBRE!S15) -> 7.38 | T15: =SUM(ENERO:DICIEMBRE!T15) -> 243.5 | U15: =SUM(V15:Y15) -> 1253.26 | V15: =SUM(ENERO:DICIEMBRE!V15) -> 1032.39 | W15: =SUM(ENERO:DICIEMBRE!W15) -> 23.03 | X15: =SUM(ENERO:DICIEMBRE!X15) -> 8.42 | Y15: =SUM(ENERO:DICIEMBRE!Y15) -> 189.42 | Z15: =SUM(AA15:AB15) -> 136.9 | AA15: =SUM(ENERO:DICIEMBRE!AA15) -> 84.4 | AB15: =SUM(ENERO:DICIEMBRE!AB15) -> 52.5 | AC15: =SUM(AD15:AE15) -> 232.68 | AD15: =SUM(ENERO:DICIEMBRE!AD15) -> 173.14 | AE15: =SUM(ENERO:DICIEMBRE!AE15) -> 59.54
A16: Obstétrico | B16: =SUM(ENERO:DICIEMBRE!B16) -> 0 | C16: =SUM(ENERO:DICIEMBRE!C16) -> 0 | D16: =SUM(ENERO:DICIEMBRE!D16) -> 0 | E16: =SUM(ENERO:DICIEMBRE!E16) -> 0 | F16: =SUM(ENERO:DICIEMBRE!F16) -> 0 | G16: =SUM(H16:J16) -> 0 | H16: =SUM(ENERO:DICIEMBRE!H16) -> 0 | I16: =SUM(ENERO:DICIEMBRE!I16) -> 0 | J16: =SUM(ENERO:DICIEMBRE!J16) -> 0 | K16: =SUM(L16:O16) -> 0 | L16: =SUM(ENERO:DICIEMBRE!L16) -> 0 | M16: =SUM(ENERO:DICIEMBRE!M16) -> 0 | N16: =SUM(ENERO:DICIEMBRE!N16) -> 0 | O16: =SUM(ENERO:DICIEMBRE!O16) -> 0 | P16: =SUM(Q16:T16) -> 0 | Q16: =SUM(ENERO:DICIEMBRE!Q16) -> 0 | R16: =SUM(ENERO:DICIEMBRE!R16) -> 0 | S16: =SUM(ENERO:DICIEMBRE!S16) -> 0 | T16: =SUM(ENERO:DICIEMBRE!T16) -> 0 | U16: =SUM(V16:Y16) -> 0 | V16: =SUM(ENERO:DICIEMBRE!V16) -> 0 | W16: =SUM(ENERO:DICIEMBRE!W16) -> 0 | X16: =SUM(ENERO:DICIEMBRE!X16) -> 0 | Y16: =SUM(ENERO:DICIEMBRE!Y16) -> 0 | Z16: =SUM(AA16:AB16) -> 0 | AA16: =SUM(ENERO:DICIEMBRE!AA16) -> 0 | AB16: =SUM(ENERO:DICIEMBRE!AB16) -> 0 | AC16: =SUM(AD16:AE16) -> 0 | AD16: =SUM(ENERO:DICIEMBRE!AD16) -> 0 | AE16: =SUM(ENERO:DICIEMBRE!AE16) -> 0
A17: Indiferenciado | B17: =SUM(ENERO:DICIEMBRE!B17) -> 0 | C17: =SUM(ENERO:DICIEMBRE!C17) -> 0 | D17: =SUM(ENERO:DICIEMBRE!D17) -> 0 | E17: =SUM(ENERO:DICIEMBRE!E17) -> 0 | F17: =SUM(ENERO:DICIEMBRE!F17) -> 0 | G17: =SUM(H17:J17) -> 0 | H17: =SUM(ENERO:DICIEMBRE!H17) -> 0 | I17: =SUM(ENERO:DICIEMBRE!I17) -> 0 | J17: =SUM(ENERO:DICIEMBRE!J17) -> 0 | K17: =SUM(L17:O17) -> 0 | L17: =SUM(ENERO:DICIEMBRE!L17) -> 0 | M17: =SUM(ENERO:DICIEMBRE!M17) -> 0 | N17: =SUM(ENERO:DICIEMBRE!N17) -> 0 | O17: =SUM(ENERO:DICIEMBRE!O17) -> 0 | P17: =SUM(Q17:T17) -> 0 | Q17: =SUM(ENERO:DICIEMBRE!Q17) -> 0 | R17: =SUM(ENERO:DICIEMBRE!R17) -> 0 | S17: =SUM(ENERO:DICIEMBRE!S17) -> 0 | T17: =SUM(ENERO:DICIEMBRE!T17) -> 0 | U17: =SUM(V17:Y17) -> 0 | V17: =SUM(ENERO:DICIEMBRE!V17) -> 0 | W17: =SUM(ENERO:DICIEMBRE!W17) -> 0 | X17: =SUM(ENERO:DICIEMBRE!X17) -> 0 | Y17: =SUM(ENERO:DICIEMBRE!Y17) -> 0 | Z17: =SUM(AA17:AB17) -> 0 | AA17: =SUM(ENERO:DICIEMBRE!AA17) -> 0 | AB17: =SUM(ENERO:DICIEMBRE!AB17) -> 0 | AC17: =SUM(AD17:AE17) -> 0 | AD17: =SUM(ENERO:DICIEMBRE!AD17) -> 0 | AE17: =SUM(ENERO:DICIEMBRE!AE17) -> 0
A18: * Las horas informadas en cirugía menores y procedimientos, deben estar contenidas en las horas ocupadas, en quirófanos para cirugía mayor.
A19: SECCIÓN B: PROCEDIMIENTOS COMPLEJOS AMBULATORIOS
A20: COMPONENTES | B20: TOTAL | C20: Hemodiálisis | D20: Cirugía Mayor Ambulatoria | E20: Coronariografía | F20: Otras
A21: Recurso Disponible | B21: =SUM(C21:F21) -> 10 | D21: =AVERAGE(ENERO:DICIEMBRE!D21) -> 10
A22: Ingresos | B22: =SUM(C22:F22) -> 4597 | D22: =SUM(ENERO:DICIEMBRE!D22) -> 4597
A23: Personas Atendidas | B23: =SUM(C23:F23) -> 4597 | D23: =SUM(ENERO:DICIEMBRE!D23) -> 4597
A24: Días Personas Atendidas | B24: =SUM(C24:F24) -> 4597 | D24: =SUM(ENERO:DICIEMBRE!D24) -> 4597
A25: Altas | B25: =SUM(C25:F25) -> 4597 | D25: =SUM(ENERO:DICIEMBRE!D25) -> 4597
A26: SECCIÓN C: HOSPITALIZACIÓN DOMICILIARIA Y ATENCIÓN VENTILATORIA EN DOMICILIO
A27: SECCIÓN C.1:HOSPITALIZACIÓN DOMICILIARIA
A28: SECCIÓN C.1.1: PERSONAS ATENDIDAS EN EL PROGRAMA
A29: COMPONENTES | C29: TOTAL | D29: RANGO ETARIO | H29: ORIGEN DE LA DERIVACIÓN | N29: SEXO
D30: Menor de 15 años | E30: 15 - 19 años | F30: 20 - 59 años | G30: 60 y más años | H30: APS | I30: Urgencia | J30: Hospitalización | K30: Ambulatorio | L30: Ley de Urgencia | M30: UGCC | N30: Hombres | O30: Mujeres
A31: Ingresos | C31: =SUM(D31:G31) -> 1208 | D31: =SUM(ENERO:DICIEMBRE!D31) -> 0 | E31: =SUM(ENERO:DICIEMBRE!E31) -> 14 | F31: =SUM(ENERO:DICIEMBRE!F31) -> 269 | G31: =SUM(ENERO:DICIEMBRE!G31) -> 925 | H31: =SUM(ENERO:DICIEMBRE!H31) -> 32 | I31: =SUM(ENERO:DICIEMBRE!I31) -> 612 | J31: =SUM(ENERO:DICIEMBRE!J31) -> 410 | K31: =SUM(ENERO:DICIEMBRE!K31) -> 131 | ... O31: =SUM(ENERO:DICIEMBRE!O31) -> 627 | P31: =AW31&AX31&AY31&AZ31&BA31&BB31&BC31&BD31 | AW31: =IF(AND($C31>0,H31="")," * No olvide digitar la variable "&H$29&""&" APS. Digite CERO si no tiene.","") | AX31: =IF(AND($C31>0,I31="")," * No olvide digitar la variable "&$H$29&""&" Urgencia. Digite CERO si no tiene.","") | AY31: =IF(AND($C31>0,J31="")," * No olvide digitar la variable "&$H$29&""&" Hospitalización. Digite CERO si no tiene.","") | AZ31: =IF(AND($C31>0,K31="")," * No olvide digitar la variable "&$H$29&""&" Ambulatorio. Digite CERO si no tiene.","") | BA31: =IF(AND($C31>0,L31="")," * No olvide digitar la variable "&$H$29&""&" Ley de Urgencia. Digite CERO si no tiene.","") | BB31: =IF(AND($C31>0,M31="")," * No olvide digitar la variable "&$H$29&""&" UGCC. Digite CERO si no tiene.","") | BC31: =IF(AND(H31+I31+J31+K31+L31+M31>$C31)," * La variable "&$H$29&""&" No puede ser mayor al Total.","") | BD31: =IF(AND(N31+O31>$C31)," * La variable "&$N$29&""&" No puede ser mayor al Total.","") | BF31: =IF(AND($C31>0,H31=""),1,0) -> 0 | BG31: =IF(AND($C31>0,I31=""),1,0) -> 0 | BH31: =IF(AND($C31>0,J31=""),1,0) -> 0 | BI31: =IF(AND($C31>0,K31=""),1,0) -> 0 | BJ31: =IF(AND($C31>0,L31=""),1,0) -> 0 | BK31: =IF(AND($C31>0,M31=""),1,0) -> 0 | BL31: =IF(AND(H31+I31+J31+K31+L31+M31>$C31),1,0) -> 0 | BM31: =IF(AND(N31+O31>$C31),1,0) -> 0
A32: Personas Atendidas | C32: =SUM(D32:G32) -> 1491 | D32: =SUM(ENERO:DICIEMBRE!D32) -> 0 | E32: =SUM(ENERO:DICIEMBRE!E32) -> 18 | F32: =SUM(ENERO:DICIEMBRE!F32) -> 328 | G32: =SUM(ENERO:DICIEMBRE!G32) -> 1145 | N32: =SUM(ENERO:DICIEMBRE!N32) -> 709 | O32: =SUM(ENERO:DICIEMBRE!O32) -> 782 | P32: =BD32 | BD32: =IF(AND(N32+O32>$C32)," * La variable "&$N$29&""&" No puede ser mayor al Total.","") | BM32: =IF(AND(N32+O32>$C32),1,0) -> 0
A33: Días Personas Atendidas | C33: =SUM(D33:G33) -> 10360 | D33: =SUM(ENERO:DICIEMBRE!D33) -> 0 | E33: =SUM(ENERO:DICIEMBRE!E33) -> 99 | F33: =SUM(ENERO:DICIEMBRE!F33) -> 2216 | G33: =SUM(ENERO:DICIEMBRE!G33) -> 8045 | N33: =SUM(ENERO:DICIEMBRE!N33) -> 4962 | O33: =SUM(ENERO:DICIEMBRE!O33) -> 5328 | P33: =BD33 | BD33: =IF(AND(N33+O33>$C33)," * La variable "&$N$29&""&" No puede ser mayor al Total.","") | BM33: =IF(AND(N33+O33>$C33),1,0) -> 0
A34: Altas | C34: =SUM(D34:G34) -> 1027 | D34: =SUM(ENERO:DICIEMBRE!D34) -> 0 | E34: =SUM(ENERO:DICIEMBRE!E34) -> 14 | F34: =SUM(ENERO:DICIEMBRE!F34) -> 229 | G34: =SUM(ENERO:DICIEMBRE!G34) -> 784 | N34: =SUM(ENERO:DICIEMBRE!N34) -> 468 | O34: =SUM(ENERO:DICIEMBRE!O34) -> 559 | P34: =BD34 | BD34: =IF(AND(N34+O34>$C34)," * La variable "&$N$29&""&" No puede ser mayor al Total.","") | BM34: =IF(AND(N34+O34>$C34),1,0) -> 0
A35: Fallecidos | B35: Esperados | C35: =SUM(D35:G35) -> 53 | D35: =SUM(ENERO:DICIEMBRE!D35) -> 0 | E35: =SUM(ENERO:DICIEMBRE!E35) -> 0 | F35: =SUM(ENERO:DICIEMBRE!F35) -> 3 | G35: =SUM(ENERO:DICIEMBRE!G35) -> 50 | N35: =SUM(ENERO:DICIEMBRE!N35) -> 20 | O35: =SUM(ENERO:DICIEMBRE!O35) -> 33 | P35: =BD35 | BD35: =IF(AND(N35+O35>$C35)," * La variable "&$N$29&""&" No puede ser mayor al Total.","") | BM35: =IF(AND(N35+O35>$C35),1,0) -> 0
B36: No esperados | C36: =SUM(D36:G36) -> 0 | D36: =SUM(ENERO:DICIEMBRE!D36) -> 0 | E36: =SUM(ENERO:DICIEMBRE!E36) -> 0 | F36: =SUM(ENERO:DICIEMBRE!F36) -> 0 | G36: =SUM(ENERO:DICIEMBRE!G36) -> 0 | N36: =SUM(ENERO:DICIEMBRE!N36) -> 0 | O36: =SUM(ENERO:DICIEMBRE!O36) -> 0 | P36: =BD36 | BD36: =IF(AND(N36+O36>$C36)," * La variable "&$N$29&""&" No puede ser mayor al Total.","") | BM36: =IF(AND(N36+O36>$C36),1,0) -> 0
A37: Reingresos a Hospitalización Tradicional | C37: =SUM(D37:G37) -> 93 | D37: =SUM(ENERO:DICIEMBRE!D37) -> 0 | E37: =SUM(ENERO:DICIEMBRE!E37) -> 1 | F37: =SUM(ENERO:DICIEMBRE!F37) -> 21 | G37: =SUM(ENERO:DICIEMBRE!G37) -> 71 | N37: =SUM(ENERO:DICIEMBRE!N37) -> 57 | O37: =SUM(ENERO:DICIEMBRE!O37) -> 36 | P37: =BD37 | BD37: =IF(AND(N37+O37>$C37)," * La variable "&$N$29&""&" No puede ser mayor al Total.","") | BM37: =IF(AND(N37+O37>$C37),1,0) -> 0
A38: SECCIÓN C.1.2: VISITAS REALIZADAS
A39: PROFESIONALES | B39: Total de Visitas
A40: Médico | B40: =SUM(ENERO:DICIEMBRE!B40) -> 2598
A41: Enfermera | B41: =SUM(ENERO:DICIEMBRE!B41) -> 8004
A42: Técnico en Enfermería | B42: =SUM(ENERO:DICIEMBRE!B42) -> 11494
A43: Matrona | B43: =SUM(ENERO:DICIEMBRE!B43) -> 0
A44: Kinesiólogo | B44: =SUM(ENERO:DICIEMBRE!B44) -> 5893
A45: Psicólogo | B45: =SUM(ENERO:DICIEMBRE!B45) -> 0
A46: Fonoaudiólogo/a | B46: =SUM(ENERO:DICIEMBRE!B46) -> 273
A47: Trabajador/a Social | B47: =SUM(ENERO:DICIEMBRE!B47) -> 0
A48: Terapeuta Ocupacional | B48: =SUM(ENERO:DICIEMBRE!B48) -> 0
A49: SECCIÓN C.1.3: CUPOS DISPONIBLES EN UNIDAD DE HOSPITALIZACIÓN DOMICILIARIA
A50: COMPONENTES | B50: TOTAL | C50: N° de Cupos | D50: N° de cupos Campaña Invierno Adicionales | E50: N° de cupos Campaña de Invierno
A51: Número Cupos Programados | B51: =SUM(C51:E51) -> 11980 | C51: =SUM(ENERO:DICIEMBRE!C51) -> 10986 | D51: =SUM(ENERO:DICIEMBRE!D51) -> 994 | E51: =SUM(ENERO:DICIEMBRE!E51) -> 0
A52: Número Cupos Utilizados | B52: =SUM(C52:E52) -> 10598 | C52: =SUM(ENERO:DICIEMBRE!C52) -> 9833 | D52: =SUM(ENERO:DICIEMBRE!D52) -> 765 | E52: =SUM(ENERO:DICIEMBRE!E52) -> 0
A53: Número de Cupos Disponibles | B53: =SUM(C53:E53) -> 1382 | C53: =SUM(ENERO:DICIEMBRE!C53) -> 1153 | D53: =SUM(ENERO:DICIEMBRE!D53) -> 229 | E53: =SUM(ENERO:DICIEMBRE!E53) -> 0
A54: SECCIÓN C.2 ATENCIÓN VENTILATORIA EN DOMICILIO
A55: SECCIÓN C.2.1: ASISTENCIA VENTILATORIA Y OXÍGENO EN DOMICILIO
A56: TIPO DE ESTRATEGIA | B56: TOTAL | C56: 0-9 años | D56: 10 - 19 años | E56: 20 y más años | F56: N° de cupos Campaña de Invierno
A57: Estrategia de Asistencia Ventilatoria Invasiva en Domicilio | B57: =SUM(C57:E57) -> 0 | C57: =SUM(ENERO:DICIEMBRE!C57) -> 0 | D57: =SUM(ENERO:DICIEMBRE!D57) -> 0 | E57: =SUM(ENERO:DICIEMBRE!E57) -> 0 | F57: =SUM(ENERO:DICIEMBRE!F57) -> 0
A58: Estrategia de Asistencia Ventilatoria no Invasiva en Domicilio | B58: =SUM(C58:E58) -> 0 | C58: =SUM(ENERO:DICIEMBRE!C58) -> 0 | D58: =SUM(ENERO:DICIEMBRE!D58) -> 0 | E58: =SUM(ENERO:DICIEMBRE!E58) -> 0 | F58: =SUM(ENERO:DICIEMBRE!F58) -> 0
A59: Estrategia Oxígeno Domiciliario para pacientes Crónicos | B59: =SUM(C59:E59) -> 0 | C59: =SUM(ENERO:DICIEMBRE!C59) -> 0 | D59: =SUM(ENERO:DICIEMBRE!D59) -> 0 | E59: =SUM(ENERO:DICIEMBRE!E59) -> 0 | F59: =SUM(ENERO:DICIEMBRE!F59) -> 0
A60: SECCIÓN C.2.2: INGRESOS Y EGRESOS AL PROGRAMA ASISTENCIA VENTILATORIA EN DOMICILIO
A61: ACTIVIDAD | B61: INGRESOS | E61: Número de egresos | F61: Número de personas activas | G61: Número de controles médicos
B62: TOTAL (Ambos sexos) | C62: Hombres | D62: Mujeres
A63: Asistencia Ventilatoria Invasiva Infantil (AVI) | B63: =SUM(C63:D63) -> 0 | C63: =SUM(ENERO:DICIEMBRE!C63) -> 0 | D63: =SUM(ENERO:DICIEMBRE!D63) -> 0 | E63: =SUM(ENERO:DICIEMBRE!E63) -> 0 | F63: =SUM(ENERO:DICIEMBRE!F63) -> 0 | G63: =SUM(ENERO:DICIEMBRE!G63) -> 0
A64: Asistencia Ventilatoria Invasiva Del Adulto (AVIA) | B64: =SUM(C64:D64) -> 0 | C64: =SUM(ENERO:DICIEMBRE!C64) -> 0 | D64: =SUM(ENERO:DICIEMBRE!D64) -> 0 | E64: =SUM(ENERO:DICIEMBRE!E64) -> 0 | F64: =SUM(ENERO:DICIEMBRE!F64) -> 0 | G64: =SUM(ENERO:DICIEMBRE!G64) -> 0
A65: Asistencia Ventilatoria no Invasiva Infantil (AVNI) | B65: =SUM(C65:D65) -> 0 | C65: =SUM(ENERO:DICIEMBRE!C65) -> 0 | D65: =SUM(ENERO:DICIEMBRE!D65) -> 0 | E65: =SUM(ENERO:DICIEMBRE!E65) -> 0 | F65: =SUM(ENERO:DICIEMBRE!F65) -> 0 | G65: =SUM(ENERO:DICIEMBRE!G65) -> 0
A66: Asistencia Ventilatoria no Invasiva Adulto (AVNIA) | B66: =SUM(C66:D66) -> 0 | C66: =SUM(ENERO:DICIEMBRE!C66) -> 0 | D66: =SUM(ENERO:DICIEMBRE!D66) -> 0 | E66: =SUM(ENERO:DICIEMBRE!E66) -> 0 | F66: =SUM(ENERO:DICIEMBRE!F66) -> 0 | G66: =SUM(ENERO:DICIEMBRE!G66) -> 0
A67: Oxigenoterapia Ambulatorio Crónico Respiratorio Infantil | B67: =SUM(C67:D67) -> 0 | C67: =SUM(ENERO:DICIEMBRE!C67) -> 0 | D67: =SUM(ENERO:DICIEMBRE!D67) -> 0 | E67: =SUM(ENERO:DICIEMBRE!E67) -> 0 | F67: =SUM(ENERO:DICIEMBRE!F67) -> 0 | G67: =SUM(ENERO:DICIEMBRE!G67) -> 0
A68: Oxigenoterapia Ambulatorio Crónico Respiratorio Adulto | B68: =SUM(C68:D68) -> 0 | C68: =SUM(ENERO:DICIEMBRE!C68) -> 0 | D68: =SUM(ENERO:DICIEMBRE!D68) -> 0 | E68: =SUM(ENERO:DICIEMBRE!E68) -> 0 | F68: =SUM(ENERO:DICIEMBRE!F68) -> 0 | G68: =SUM(ENERO:DICIEMBRE!G68) -> 0
A69: TOTAL | B69: =SUM(B63:B68) -> 0 | C69: =SUM(C63:C68) -> 0 | D69: =SUM(D63:D68) -> 0 | E69: =SUM(E63:E68) -> 0 | F69: =SUM(F63:F68) -> 0 | G69: =SUM(G63:G68) -> 0
A70: SECCIÓN C.2.3: INGRESO PROGRAMA ASISTENCIA VENTILATORIA Y OXÍGENO EN DOMICILIO SEGÚN DIAGNÓSTICO
A71: CAUSAS DE INGRESO | B71: Asistencia Ventilatoria Invasiva Infantil (AVI) | C71: Asistencia Ventilatoria Invasiva Del Adulto (AVIA) | D71: Asistencia Ventilatoria no Invasiva Infantil (AVNI) | E71: Asistencia Ventilatoria no Invasiva Adulto (AVNIA) | F71: Oxigenoterapia Ambulatorio Crónico Respiratorio Infantil | G71: Oxigenoterapia Ambulatorio Crónico Respiratorio Adulto | H71: Pueblos originarios | I71: Migrantes
A72: Enfermedad neuromuscular | B72: =SUM(ENERO:DICIEMBRE!B72) -> 0 | C72: =SUM(ENERO:DICIEMBRE!C72) -> 0 | D72: =SUM(ENERO:DICIEMBRE!D72) -> 0 | E72: =SUM(ENERO:DICIEMBRE!E72) -> 0 | F72: =SUM(ENERO:DICIEMBRE!F72) -> 0 | G72: =SUM(ENERO:DICIEMBRE!G72) -> 0 | H72: =SUM(ENERO:DICIEMBRE!H72) -> 0 | I72: =SUM(ENERO:DICIEMBRE!I72) -> 0
A73: Daño pulmonar crónico | B73: =SUM(ENERO:DICIEMBRE!B73) -> 0 | C73: =SUM(ENERO:DICIEMBRE!C73) -> 0 | D73: =SUM(ENERO:DICIEMBRE!D73) -> 0 | E73: =SUM(ENERO:DICIEMBRE!E73) -> 0 | F73: =SUM(ENERO:DICIEMBRE!F73) -> 0 | G73: =SUM(ENERO:DICIEMBRE!G73) -> 0 | H73: =SUM(ENERO:DICIEMBRE!H73) -> 0 | I73: =SUM(ENERO:DICIEMBRE!I73) -> 0
A74: Daño sistema nervioso central | B74: =SUM(ENERO:DICIEMBRE!B74) -> 0 | C74: =SUM(ENERO:DICIEMBRE!C74) -> 0 | D74: =SUM(ENERO:DICIEMBRE!D74) -> 0 | E74: =SUM(ENERO:DICIEMBRE!E74) -> 0 | F74: =SUM(ENERO:DICIEMBRE!F74) -> 0 | G74: =SUM(ENERO:DICIEMBRE!G74) -> 0 | H74: =SUM(ENERO:DICIEMBRE!H74) -> 0 | I74: =SUM(ENERO:DICIEMBRE!I74) -> 0
A75: Sindrome genético | B75: =SUM(ENERO:DICIEMBRE!B75) -> 0 | C75: =SUM(ENERO:DICIEMBRE!C75) -> 0 | D75: =SUM(ENERO:DICIEMBRE!D75) -> 0 | E75: =SUM(ENERO:DICIEMBRE!E75) -> 0 | F75: =SUM(ENERO:DICIEMBRE!F75) -> 0 | G75: =SUM(ENERO:DICIEMBRE!G75) -> 0 | H75: =SUM(ENERO:DICIEMBRE!H75) -> 0 | I75: =SUM(ENERO:DICIEMBRE!I75) -> 0
A76: Displasia Broncopulmonar | B76: =SUM(ENERO:DICIEMBRE!B76) -> 0 | C76: =SUM(ENERO:DICIEMBRE!C76) -> 0 | D76: =SUM(ENERO:DICIEMBRE!D76) -> 0 | E76: =SUM(ENERO:DICIEMBRE!E76) -> 0 | F76: =SUM(ENERO:DICIEMBRE!F76) -> 0 | G76: =SUM(ENERO:DICIEMBRE!G76) -> 0 | H76: =SUM(ENERO:DICIEMBRE!H76) -> 0 | I76: =SUM(ENERO:DICIEMBRE!I76) -> 0
A77: SECCIÓN D: APOYO PSICOSOCIAL EN NIÑOS, NIÑAS Y ADOLESCENTES HOSPITALIZADOS
A78: CONCEPTO | B78: INTERVENCIÓN | C78: TOTAL | D78: RANGO ETARIO
D79: Hasta 28 días | E79: 29 días hasta menor de 1 año | F79: 1 - 4 años | G79: 5 - 9 años | H79: 10 - 14 años | I79: 15 - 19 años
A80: TOTAL DE EGRESOS (en el período) | C80: =SUM(D80:I80) -> 2000 | D80: =SUM(ENERO:DICIEMBRE!D80) -> 279 | E80: =SUM(ENERO:DICIEMBRE!E80) -> 165 | F80: =SUM(ENERO:DICIEMBRE!F80) -> 395 | G80: =SUM(ENERO:DICIEMBRE!G80) -> 384 | H80: =SUM(ENERO:DICIEMBRE!H80) -> 390 | I80: =SUM(ENERO:DICIEMBRE!I80) -> 387
A81: Egresados con Apoyo Psicosocial (en el período) | B81: Intervención Psicosocial | C81: =SUM(D81:I81) -> 660 | D81: =SUM(ENERO:DICIEMBRE!D81) -> 326 | E81: =SUM(ENERO:DICIEMBRE!E81) -> 158 | F81: =SUM(ENERO:DICIEMBRE!F81) -> 176 | G81: =SUM(ENERO:DICIEMBRE!G81) -> 0 | H81: =SUM(ENERO:DICIEMBRE!H81) -> 0 | I81: =SUM(ENERO:DICIEMBRE!I81) -> 0
B82: Estimulación del Desarrollo | C82: =SUM(D82:I82) -> 548 | D82: =SUM(ENERO:DICIEMBRE!D82) -> 301 | E82: =SUM(ENERO:DICIEMBRE!E82) -> 147 | F82: =SUM(ENERO:DICIEMBRE!F82) -> 100 | G82: =SUM(ENERO:DICIEMBRE!G82) -> 0 | H82: =SUM(ENERO:DICIEMBRE!H82) -> 0 | I82: =SUM(ENERO:DICIEMBRE!I82) -> 0
A83: Nº de Atenciones (en el mes) | B83: Intervención Psicosocial | C83: =SUM(D83:I83) -> 1347 | D83: =SUM(ENERO:DICIEMBRE!D83) -> 649 | E83: =SUM(ENERO:DICIEMBRE!E83) -> 411 | F83: =SUM(ENERO:DICIEMBRE!F83) -> 287 | G83: =SUM(ENERO:DICIEMBRE!G83) -> 0 | H83: =SUM(ENERO:DICIEMBRE!H83) -> 0 | I83: =SUM(ENERO:DICIEMBRE!I83) -> 0
B84: Estimulación del Desarrollo | C84: =SUM(D84:I84) -> 1796 | D84: =SUM(ENERO:DICIEMBRE!D84) -> 1018 | E84: =SUM(ENERO:DICIEMBRE!E84) -> 558 | F84: =SUM(ENERO:DICIEMBRE!F84) -> 220 | G84: =SUM(ENERO:DICIEMBRE!G84) -> 0 | H84: =SUM(ENERO:DICIEMBRE!H84) -> 0 | I84: =SUM(ENERO:DICIEMBRE!I84) -> 0
A85: SECCIÓN E: GESTIÓN DE PROCESOS DE PACIENTES QUIRÚRGICOS CON CIRUGÍA ELECTIVA
A86: ESPECIALIDAD | B86: DÍAS DE ESTADA PREQUIRÚRGICOS | D86: PACIENTES INTERVENIDOS | F86: HORARIO HÁBIL | J86: INHABIL DE LUNES A VIERNES | N86: SÁBADO, DOMINGO Y FESTIVO
F87: Pacientes Programados | H87: Pacientes Suspendidos | J87: Pacientes Programados | L87: Pacientes Suspendidos | N87: Pacientes Programados | P87: Pacientes Suspendidos
B88: Menor de 15 años | C88: 15 y más años | D88: Menor de 15 años | E88: 15 y más años | F88: Menor de 15 años | G88: 15 y más años | H88: Menor de 15 años | I88: 15 y más años | J88: Menor de 15 años | K88: 15 y más años | L88: Menor de 15 años | M88: 15 y más años | N88: Menor de 15 años | O88: 15 y más años | P88: Menor de 15 años | Q88: 15 y más años
A89: Cirugía General | B89: =SUM(ENERO:DICIEMBRE!B89) -> 12 | C89: =SUM(ENERO:DICIEMBRE!C89) -> 37.462312 | D89: =SUM(ENERO:DICIEMBRE!D89) -> 586 | E89: =SUM(ENERO:DICIEMBRE!E89) -> 1869 | F89: =SUM(ENERO:DICIEMBRE!F89) -> 444 | G89: =SUM(ENERO:DICIEMBRE!G89) -> 1170 | H89: =SUM(ENERO:DICIEMBRE!H89) -> 21 | I89: =SUM(ENERO:DICIEMBRE!I89) -> 74 | ... Q89: =SUM(ENERO:DICIEMBRE!Q89) -> 19 | R89: =AT89&AU89&AV89 | AT89: =IF((D89+E89)<((F89+G89)-(H89+I89)),"* La suma de "&D$86&""&" debe ser mayor o igual a la Diferencia de "&F$87&""&" menos Pacientes Suspendidos","") | BC89: =IF((D89+E89)<((F89+G89)-(H89+I89)),1,0) -> 0
A90: Cirugía Cardiovascular | B90: =SUM(ENERO:DICIEMBRE!B90) -> 0 | C90: =SUM(ENERO:DICIEMBRE!C90) -> 0 | D90: =SUM(ENERO:DICIEMBRE!D90) -> 0 | E90: =SUM(ENERO:DICIEMBRE!E90) -> 0 | F90: =SUM(ENERO:DICIEMBRE!F90) -> 0 | G90: =SUM(ENERO:DICIEMBRE!G90) -> 0 | H90: =SUM(ENERO:DICIEMBRE!H90) -> 0 | I90: =SUM(ENERO:DICIEMBRE!I90) -> 0 | ... Q90: =SUM(ENERO:DICIEMBRE!Q90) -> 0 | R90: =AT90&AU90&AV90 | AT90: =IF((D90+E90)<((F90+G90)-(H90+I90)),"* La suma de "&D$86&""&" debe ser mayor o igual a la Diferencia de "&F$87&""&" menos Pacientes Suspendidos","") | BC90: =IF((D90+E90)<((F90+G90)-(H90+I90)),1,0) -> 0
A91: Cirugía Maxilofacial | B91: =SUM(ENERO:DICIEMBRE!B91) -> 0 | C91: =SUM(ENERO:DICIEMBRE!C91) -> 11 | D91: =SUM(ENERO:DICIEMBRE!D91) -> 8 | E91: =SUM(ENERO:DICIEMBRE!E91) -> 38 | F91: =SUM(ENERO:DICIEMBRE!F91) -> 7 | G91: =SUM(ENERO:DICIEMBRE!G91) -> 39 | H91: =SUM(ENERO:DICIEMBRE!H91) -> 0 | I91: =SUM(ENERO:DICIEMBRE!I91) -> 2 | ... Q91: =SUM(ENERO:DICIEMBRE!Q91) -> 0 | R91: =AT91&AU91&AV91 | AT91: =IF((D91+E91)<((F91+G91)-(H91+I91)),"* La suma de "&D$86&""&" debe ser mayor o igual a la Diferencia de "&F$87&""&" menos Pacientes Suspendidos","") | BC91: =IF((D91+E91)<((F91+G91)-(H91+I91)),1,0) -> 0
A92: Cirugía Tórax | B92: =SUM(ENERO:DICIEMBRE!B92) -> 0 | C92: =SUM(ENERO:DICIEMBRE!C92) -> 0 | D92: =SUM(ENERO:DICIEMBRE!D92) -> 0 | E92: =SUM(ENERO:DICIEMBRE!E92) -> 0 | F92: =SUM(ENERO:DICIEMBRE!F92) -> 0 | G92: =SUM(ENERO:DICIEMBRE!G92) -> 0 | H92: =SUM(ENERO:DICIEMBRE!H92) -> 0 | I92: =SUM(ENERO:DICIEMBRE!I92) -> 0 | ... Q92: =SUM(ENERO:DICIEMBRE!Q92) -> 0 | R92: =AT92&AU92&AV92 | AT92: =IF((D92+E92)<((F92+G92)-(H92+I92)),"* La suma de "&D$86&""&" debe ser mayor o igual a la Diferencia de "&F$87&""&" menos Pacientes Suspendidos","") | BC92: =IF((D92+E92)<((F92+G92)-(H92+I92)),1,0) -> 0
A93: Traumatología | B93: =SUM(ENERO:DICIEMBRE!B93) -> 6 | C93: =SUM(ENERO:DICIEMBRE!C93) -> 33.855769 | D93: =SUM(ENERO:DICIEMBRE!D93) -> 152 | E93: =SUM(ENERO:DICIEMBRE!E93) -> 1065 | F93: =SUM(ENERO:DICIEMBRE!F93) -> 137 | G93: =SUM(ENERO:DICIEMBRE!G93) -> 841 | H93: =SUM(ENERO:DICIEMBRE!H93) -> 12 | I93: =SUM(ENERO:DICIEMBRE!I93) -> 47 | ... Q93: =SUM(ENERO:DICIEMBRE!Q93) -> 10 | R93: =AT93&AU93&AV93 | AT93: =IF((D93+E93)<((F93+G93)-(H93+I93)),"* La suma de "&D$86&""&" debe ser mayor o igual a la Diferencia de "&F$87&""&" menos Pacientes Suspendidos","") | BC93: =IF((D93+E93)<((F93+G93)-(H93+I93)),1,0) -> 0
A94: Neurocirugía | B94: =SUM(ENERO:DICIEMBRE!B94) -> 0 | C94: =SUM(ENERO:DICIEMBRE!C94) -> 0 | D94: =SUM(ENERO:DICIEMBRE!D94) -> 0 | E94: =SUM(ENERO:DICIEMBRE!E94) -> 0 | F94: =SUM(ENERO:DICIEMBRE!F94) -> 0 | G94: =SUM(ENERO:DICIEMBRE!G94) -> 0 | H94: =SUM(ENERO:DICIEMBRE!H94) -> 0 | I94: =SUM(ENERO:DICIEMBRE!I94) -> 0 | ... Q94: =SUM(ENERO:DICIEMBRE!Q94) -> 0 | R94: =AT94&AU94&AV94 | AT94: =IF((D94+E94)<((F94+G94)-(H94+I94)),"* La suma de "&D$86&""&" debe ser mayor o igual a la Diferencia de "&F$87&""&" menos Pacientes Suspendidos","") | BC94: =IF((D94+E94)<((F94+G94)-(H94+I94)),1,0) -> 0
A95: Otorrinolaringología | B95: =SUM(ENERO:DICIEMBRE!B95) -> 3 | C95: =SUM(ENERO:DICIEMBRE!C95) -> 12 | D95: =SUM(ENERO:DICIEMBRE!D95) -> 350 | E95: =SUM(ENERO:DICIEMBRE!E95) -> 106 | F95: =SUM(ENERO:DICIEMBRE!F95) -> 91 | G95: =SUM(ENERO:DICIEMBRE!G95) -> 33 | H95: =SUM(ENERO:DICIEMBRE!H95) -> 6 | I95: =SUM(ENERO:DICIEMBRE!I95) -> 0 | ... Q95: =SUM(ENERO:DICIEMBRE!Q95) -> 3 | R95: =AT95&AU95&AV95 | AT95: =IF((D95+E95)<((F95+G95)-(H95+I95)),"* La suma de "&D$86&""&" debe ser mayor o igual a la Diferencia de "&F$87&""&" menos Pacientes Suspendidos","") | BC95: =IF((D95+E95)<((F95+G95)-(H95+I95)),1,0) -> 0
A96: Oftalmología | B96: =SUM(ENERO:DICIEMBRE!B96) -> 0 | C96: =SUM(ENERO:DICIEMBRE!C96) -> 0 | D96: =SUM(ENERO:DICIEMBRE!D96) -> 0 | E96: =SUM(ENERO:DICIEMBRE!E96) -> 2305 | F96: =SUM(ENERO:DICIEMBRE!F96) -> 0 | G96: =SUM(ENERO:DICIEMBRE!G96) -> 923 | H96: =SUM(ENERO:DICIEMBRE!H96) -> 0 | I96: =SUM(ENERO:DICIEMBRE!I96) -> 46 | ... Q96: =SUM(ENERO:DICIEMBRE!Q96) -> 21 | R96: =AT96&AU96&AV96 | AT96: =IF((D96+E96)<((F96+G96)-(H96+I96)),"* La suma de "&D$86&""&" debe ser mayor o igual a la Diferencia de "&F$87&""&" menos Pacientes Suspendidos","") | BC96: =IF((D96+E96)<((F96+G96)-(H96+I96)),1,0) -> 0
A97: Obstetricia Y Ginecología | B97: =SUM(ENERO:DICIEMBRE!B97) -> 0 | C97: =SUM(ENERO:DICIEMBRE!C97) -> 4.3255814 | D97: =SUM(ENERO:DICIEMBRE!D97) -> 0 | E97: =SUM(ENERO:DICIEMBRE!E97) -> 737 | F97: =SUM(ENERO:DICIEMBRE!F97) -> 0 | G97: =SUM(ENERO:DICIEMBRE!G97) -> 234 | H97: =SUM(ENERO:DICIEMBRE!H97) -> 0 | I97: =SUM(ENERO:DICIEMBRE!I97) -> 15 | ... Q97: =SUM(ENERO:DICIEMBRE!Q97) -> 0 | R97: =AT97&AU97&AV97 | AT97: =IF((D97+E97)<((F97+G97)-(H97+I97)),"* La suma de "&D$86&""&" debe ser mayor o igual a la Diferencia de "&F$87&""&" menos Pacientes Suspendidos","") | BC97: =IF((D97+E97)<((F97+G97)-(H97+I97)),1,0) -> 0
A98: Ginecología | B98: =SUM(ENERO:DICIEMBRE!B98) -> 3 | C98: =SUM(ENERO:DICIEMBRE!C98) -> 1.7213115 | D98: =SUM(ENERO:DICIEMBRE!D98) -> 4 | E98: =SUM(ENERO:DICIEMBRE!E98) -> 456 | F98: =SUM(ENERO:DICIEMBRE!F98) -> 4 | G98: =SUM(ENERO:DICIEMBRE!G98) -> 364 | H98: =SUM(ENERO:DICIEMBRE!H98) -> 0 | I98: =SUM(ENERO:DICIEMBRE!I98) -> 38 | ... Q98: =SUM(ENERO:DICIEMBRE!Q98) -> 3 | R98: =AT98&AU98&AV98 | AT98: =IF((D98+E98)<((F98+G98)-(H98+I98)),"* La suma de "&D$86&""&" debe ser mayor o igual a la Diferencia de "&F$87&""&" menos Pacientes Suspendidos","") | BC98: =IF((D98+E98)<((F98+G98)-(H98+I98)),1,0) -> 0
A99: Urología | B99: =SUM(ENERO:DICIEMBRE!B99) -> 0 | C99: =SUM(ENERO:DICIEMBRE!C99) -> 41.888889 | D99: =SUM(ENERO:DICIEMBRE!D99) -> 1 | E99: =SUM(ENERO:DICIEMBRE!E99) -> 150 | F99: =SUM(ENERO:DICIEMBRE!F99) -> 0 | G99: =SUM(ENERO:DICIEMBRE!G99) -> 103 | H99: =SUM(ENERO:DICIEMBRE!H99) -> 0 | I99: =SUM(ENERO:DICIEMBRE!I99) -> 12 | ... Q99: =SUM(ENERO:DICIEMBRE!Q99) -> 1 | R99: =AT99&AU99&AV99 | AT99: =IF((D99+E99)<((F99+G99)-(H99+I99)),"* La suma de "&D$86&""&" debe ser mayor o igual a la Diferencia de "&F$87&""&" menos Pacientes Suspendidos","") | BC99: =IF((D99+E99)<((F99+G99)-(H99+I99)),1,0) -> 0
A100: Otras Especialidades | B100: =SUM(ENERO:DICIEMBRE!B100) -> 0 | C100: =SUM(ENERO:DICIEMBRE!C100) -> 51.4 | D100: =SUM(ENERO:DICIEMBRE!D100) -> 0 | E100: =SUM(ENERO:DICIEMBRE!E100) -> 126 | F100: =SUM(ENERO:DICIEMBRE!F100) -> 0 | G100: =SUM(ENERO:DICIEMBRE!G100) -> 60 | H100: =SUM(ENERO:DICIEMBRE!H100) -> 0 | I100: =SUM(ENERO:DICIEMBRE!I100) -> 0 | ... Q100: =SUM(ENERO:DICIEMBRE!Q100) -> 1 | R100: =AT100&AU100&AV100 | AT100: =IF((D100+E100)<((F100+G100)-(H100+I100)),"* La suma de "&D$86&""&" debe ser mayor o igual a la Diferencia de "&F$87&""&" menos Pacientes Suspendidos","") | BC100: =IF((D100+E100)<((F100+G100)-(H100+I100)),1,0) -> 0
A101: Odontología | B101: =SUM(ENERO:DICIEMBRE!B101) -> 0 | C101: =SUM(ENERO:DICIEMBRE!C101) -> 0 | D101: =SUM(ENERO:DICIEMBRE!D101) -> 0 | E101: =SUM(ENERO:DICIEMBRE!E101) -> 0 | F101: =SUM(ENERO:DICIEMBRE!F101) -> 0 | G101: =SUM(ENERO:DICIEMBRE!G101) -> 0 | H101: =SUM(ENERO:DICIEMBRE!H101) -> 0 | I101: =SUM(ENERO:DICIEMBRE!I101) -> 0 | ... Q101: =SUM(ENERO:DICIEMBRE!Q101) -> 0 | R101: =AT101&AU101&AV101 | AT101: =IF((D101+E101)<((F101+G101)-(H101+I101)),"* La suma de "&D$86&""&" debe ser mayor o igual a la Diferencia de "&F$87&""&" menos Pacientes Suspendidos","") | BC101: =IF((D101+E101)<((F101+G101)-(H101+I101)),1,0) -> 0
A102: TOTAL | B102: =SUM(B89:B101) -> 24 | C102: =SUM(C89:C101) -> 193.65386 | D102: =SUM(D89:D101) -> 1101 | E102: =SUM(E89:E101) -> 6852 | F102: =SUM(F89:F101) -> 683 | G102: =SUM(G89:G101) -> 3767 | H102: =SUM(H89:H101) -> 39 | I102: =SUM(I89:I101) -> 234 | ... Q102: =SUM(Q89:Q101) -> 58
...

Sheet ENERO
A1: SERVICIO DE SALUD
A2: =CONCATENATE("COMUNA: ",[1]NOMBRE!B2, " (",[1]NOMBRE!C2,[1]NOMBRE!D2,[1]NOMBRE!E2,[1]NOMBRE!F2,[1]NOMBRE!G2,")") -> COMUNA: LINARES (07401)
A3: =CONCATENATE("ESTABLECIMIENTO/ESTRATEGIA: ", [1]NOMBRE!B3, " (",[1]NOMBRE!C3,[1]NOMBRE!D3,[1]NOMBRE!E3,[1]NOMBRE!F3,[1]NOMBRE!G3,[1]NOMBRE!H3,")") -> ESTABLECIMIENTO/ESTRATEGIA: HOSPITAL PRESIDENTE CARLOS IBAÑEZ DEL CAMPO (116108)
A4: =CONCATENATE("MES: ",[1]NOMBRE!B6, " (",[1]NOMBRE!C6,[1]NOMBRE!D6,")") -> MES: ENERO (01)
A5: =CONCATENATE("AÑO: ",[1]NOMBRE!B7) -> AÑO: 2025
A6: REM-21. QUIRÓFANOS Y OTROS RECURSOS HOSPITALARIOS
A8: SECCIÓN A: CAPACIDAD INSTALADA Y UTILIZACIÓN DE LOS QUIRÓFANOS CIRUGÍA MAYOR
A9: TIPO DE QUIRÓFANOS | B9: Número de Quirófanos en Dotación | C9: Promedio Mensual de Quirófanos Habilitados | D9: Promedio Mensual de Quirófanos en Trabajo | E9: Total de Horas Mensuales de Quirófanos Habilitados (Horario Hábil) | F9: Total de Horas Mensuales de Quirófanos en Trabajo (Horario Hábil) | G9: QUIRÓFANOS CIRUGIA MAYOR | Z9: CIRUGIAS MENORES Y PROCEDIMIENTOS *
G10: Horas Mensuales Programadas de Tabla Quirúrgica de Quirófanos en Trabajo, Horario Hábil | K10: Horas Mensuales Ocupadas de Quirófanos en Trabajo Horario Hábil | P10: Horas Mensuales Ocupadas de Quirófanos en Trabajo Horario Inhábil de Lunes a Viernes | U10: Horas Mensuales Ocupadas de Quirófanos en Trabajo Horario Sábado, Domingo y Festivo | Z10: Total Horas Mensuales Ocupadas de Quirófanos en Trabajo, Horario Hábil | AC10: Total Horas Mensuales Ocupadas de Quirófanos en Trabajo, Horario Inhábil
G12: Total | H12: Beneficiarios MAI | I12: Beneficiarios MLE | J12: Otros | K12: Total | L12: Beneficiarios MAI | M12: Beneficiarios MLE | N12: Otros | O12: De recambio | P12: Total | Q12: Beneficiarios MAI | R12: Beneficiarios MLE | S12: Otros | T12: De recambio | U12: Total | V12: Beneficiarios MAI | W12: Beneficiarios MLE | X12: Otros | Y12: De recambio | Z12: Total | AA12: Cirugía Menor | AB12: Otros Procedimientos | AC12: Total | AD12: Cirugía Menor | AE12: Otros Procedimientos
A13: TOTAL QUIRÓFANOS | B13: =SUM(B14:B17) -> 6 | C13: =SUM(C14:C17) -> 6 | D13: =SUM(D14:D17) -> 5 | E13: =SUM(E14:E17) -> 1492 | F13: =SUM(F14:F17) -> 1468 | G13: =SUM(G14:G17) -> 748 | H13: =SUM(H14:H17) -> 748 | I13: =SUM(I14:I17) -> 0 | ... AE13: =SUM(AE14:AE17) -> 6.31
A14: De Cirugía Electiva | B14: 5 | C14: 5 | D14: 4 | E14: 748 | F14: 748 | G14: =SUM(H14:J14) -> 748 | H14: 748 | I14: 0 | J14: 0 | K14: =SUM(L14:O14) -> 652.06 | L14: 498.23 | M14: 0 | N14: 0.83 | O14: 153 | P14: =SUM(Q14:T14) -> 349.33 | Q14: 86.08 | R14: 144.72 | S14: 6.45 | T14: 112.08 | U14: =SUM(V14:Y14) -> 104.43 | V14: 50.43 | W14: 0 | X14: 0 | Y14: 54 | Z14: =SUM(AA14:AB14) -> 57.75 | AA14: 39.4 | AB14: 18.35 | AC14: =SUM(AD14:AE14) -> 17.75 | AD14: 15.6 | AE14: 2.15
A15: De Urgencia | B15: 1 | C15: 1 | D15: 1 | E15: 744 | F15: 720 | G15: =SUM(H15:J15) -> 0 | H15: 0 | I15: 0 | J15: 0 | K15: =SUM(L15:O15) -> 126.8 | L15: 104.8 | M15: 0 | N15: 0 | O15: 22 | P15: =SUM(Q15:T15) -> 202.38 | Q15: 168.05 | R15: 0 | S15: 0 | T15: 34.33 | U15: =SUM(V15:Y15) -> 143.24 | V15: 119.57 | W15: 0 | X15: 0 | Y15: 23.67 | Z15: =SUM(AA15:AB15) -> 7.39 | AA15: 6.26 | AB15: 1.13 | AC15: =SUM(AD15:AE15) -> 12.16 | AD15: 8 | AE15: 4.16
A16: Obstétrico | G16: =SUM(H16:J16) -> 0 | K16: =SUM(L16:O16) -> 0 | P16: =SUM(Q16:T16) -> 0 | U16: =SUM(V16:Y16) -> 0 | Z16: =SUM(AA16:AB16) -> 0 | AC16: =SUM(AD16:AE16) -> 0
A17: Indiferenciado | G17: =SUM(H17:J17) -> 0 | K17: =SUM(L17:O17) -> 0 | P17: =SUM(Q17:T17) -> 0 | U17: =SUM(V17:Y17) -> 0 | Z17: =SUM(AA17:AB17) -> 0 | AC17: =SUM(AD17:AE17) -> 0
A18: * Las horas informadas en cirugía menores y procedimientos, deben estar contenidas en las horas ocupadas, en quirófanos para cirugía mayor.
A19: SECCIÓN B: PROCEDIMIENTOS COMPLEJOS AMBULATORIOS
A20: COMPONENTES | B20: TOTAL | C20: Hemodiálisis | D20: Cirugía Mayor Ambulatoria | E20: Coronariografía | F20: Otras
A21: Recurso Disponible | B21: =SUM(C21:F21) -> 10 | D21: 10
A22: Ingresos | B22: =SUM(C22:F22) -> 478 | D22: 478
A23: Personas Atendidas | B23: =SUM(C23:F23) -> 478 | D23: 478
A24: Días Personas Atendidas | B24: =SUM(C24:F24) -> 478 | D24: 478
A25: Altas | B25: =SUM(C25:F25) -> 477 | D25: 477
A26: SECCIÓN C: HOSPITALIZACIÓN DOMICILIARIA Y ATENCIÓN VENTILATORIA EN DOMICILIO
A27: SECCIÓN C.1:HOSPITALIZACIÓN DOMICILIARIA
A28: SECCIÓN C.1.1: PERSONAS ATENDIDAS EN EL PROGRAMA
A29: COMPONENTES | C29: TOTAL | D29: RANGO ETARIO | H29: ORIGEN DE LA DERIVACIÓN | N29: SEXO
D30: Menor de 15 años | E30: 15 - 19 años | F30: 20 - 59 años | G30: 60 y más años | H30: APS | I30: Urgencia | J30: Hospitalización | K30: Ambulatorio | L30: Ley de Urgencia | M30: UGCC | N30: Hombres | O30: Mujeres
A31: Ingresos | C31: =SUM(D31:G31) -> 87 | D31: 0 | E31: 0 | F31: 22 | G31: 65 | H31: 2 | I31: 49 | J31: 30 | K31: 4 | L31: 0 | M31: 2 | N31: 35 | O31: 52 | P31: =AW31&AX31&AY31&AZ31&BA31&BB31&BC31&BD31 | AW31: =IF(AND($C31>0,H31="")," * No olvide digitar la variable "&H$29&""&" APS. Digite CERO si no tiene.","") | AX31: =IF(AND($C31>0,I31="")," * No olvide digitar la variable "&$H$29&""&" Urgencia. Digite CERO si no tiene.","") | AY31: =IF(AND($C31>0,J31="")," * No olvide digitar la variable "&$H$29&""&" Hospitalización. Digite CERO si no tiene.","") | AZ31: =IF(AND($C31>0,K31="")," * No olvide digitar la variable "&$H$29&""&" Ambulatorio. Digite CERO si no tiene.","") | BA31: =IF(AND($C31>0,L31="")," * No olvide digitar la variable "&$H$29&""&" Ley de Urgencia. Digite CERO si no tiene.","") | BB31: =IF(AND($C31>0,M31="")," * No olvide digitar la variable "&$H$29&""&" UGCC. Digite CERO si no tiene.","") | BC31: =IF(AND(H31+I31+J31+K31+L31+M31>$C31)," * La variable "&$H$29&""&" No puede ser mayor al Total.","") | BD31: =IF(AND(N31+O31>$C31)," * La variable "&$N$29&""&" No puede ser mayor al Total.","") | BF31: =IF(AND($C31>0,H31=""),1,0) -> 0 | BG31: =IF(AND($C31>0,I31=""),1,0) -> 0 | BH31: =IF(AND($C31>0,J31=""),1,0) -> 0 | BI31: =IF(AND($C31>0,K31=""),1,0) -> 0 | BJ31: =IF(AND($C31>0,L31=""),1,0) -> 0 | BK31: =IF(AND($C31>0,M31=""),1,0) -> 0 | BL31: =IF(AND(H31+I31+J31+K31+L31+M31>$C31),1,0) -> 0 | BM31: =IF(AND(N31+O31>$C31),1,0) -> 0
A32: Personas Atendidas | C32: =SUM(D32:G32) -> 110 | D32: 0 | E32: 1 | F32: 27 | G32: 82 | N32: 45 | O32: 65 | P32: =BD32 | BD32: =IF(AND(N32+O32>$C32)," * La variable "&$N$29&""&" No puede ser mayor al Total.","") | BM32: =IF(AND(N32+O32>$C32),1,0) -> 0
A33: Días Personas Atendidas | C33: =SUM(D33:G33) -> 772 | D33: 0 | E33: 17 | F33: 195 | G33: 560 | N33: 285 | O33: 417 | P33: =BD33 | BD33: =IF(AND(N33+O33>$C33)," * La variable "&$N$29&""&" No puede ser mayor al Total.","") | BM33: =IF(AND(N33+O33>$C33),1,0) -> 0
A34: Altas | C34: =SUM(D34:G34) -> 75 | D34: 0 | E34: 1 | F34: 19 | G34: 55 | N34: 30 | O34: 45 | P34: =BD34 | BD34: =IF(AND(N34+O34>$C34)," * La variable "&$N$29&""&" No puede ser mayor al Total.","") | BM34: =IF(AND(N34+O34>$C34),1,0) -> 0
A35: Fallecidos | B35: Esperados | C35: =SUM(D35:G35) -> 8 | D35: 0 | E35: 0 | F35: 0 | G35: 8 | N35: 3 | O35: 5 | P35: =BD35 | BD35: =IF(AND(N35+O35>$C35)," * La variable "&$N$29&""&" No puede ser mayor al Total.","") | BM35: =IF(AND(N35+O35>$C35),1,0) -> 0
B36: No esperados | C36: =SUM(D36:G36) -> 0 | D36: 0 | E36: 0 | F36: 0 | G36: 0 | P36: =BD36 | BD36: =IF(AND(N36+O36>$C36)," * La variable "&$N$29&""&" No puede ser mayor al Total.","") | BM36: =IF(AND(N36+O36>$C36),1,0) -> 0
A37: Reingresos a Hospitalización Tradicional | C37: =SUM(D37:G37) -> 5 | D37: 0 | E37: 0 | F37: 1 | G37: 4 | N37: 1 | O37: 4 | P37: =BD37 | BD37: =IF(AND(N37+O37>$C37)," * La variable "&$N$29&""&" No puede ser mayor al Total.","") | BM37: =IF(AND(N37+O37>$C37),1,0) -> 0
A38: SECCIÓN C.1.2: VISITAS REALIZADAS
A39: PROFESIONALES | B39: Total de Visitas
A40: Médico | B40: 199
A41: Enfermera | B41: 610
A42: Técnico en Enfermería | B42: 843
A43: Matrona | B43: 0
A44: Kinesiólogo | B44: 416
A45: Psicólogo | B45: 0
A46: Fonoaudiólogo/a | B46: 15
A47: Trabajador/a Social | B47: 0
A48: Terapeuta Ocupacional | B48: 0
A49: SECCIÓN C.1.3: CUPOS DISPONIBLES EN UNIDAD DE HOSPITALIZACIÓN DOMICILIARIA
A50: COMPONENTES | B50: TOTAL | C50: N° de Cupos | D50: N° de cupos Campaña Invierno Adicionales | E50: N° de cupos Campaña de Invierno
A51: Número Cupos Programados | B51: =SUM(C51:E51) -> 930 | C51: 930 | D51: 0 | E51: 0
A52: Número Cupos Utilizados | B52: =SUM(C52:E52) -> 772 | C52: 772 | D52: 0 | E52: 0
A53: Número de Cupos Disponibles | B53: =SUM(C53:E53) -> 158 | C53: 158 | D53: 0 | E53: 0
A54: SECCIÓN C.2 ATENCIÓN VENTILATORIA EN DOMICILIO
A55: SECCIÓN C.2.1: ASISTENCIA VENTILATORIA Y OXÍGENO EN DOMICILIO
A56: TIPO DE ESTRATEGIA | B56: TOTAL | C56: 0-9 años | D56: 10 - 19 años | E56: 20 y más años | F56: N° de cupos Campaña de Invierno
A57: Estrategia de Asistencia Ventilatoria Invasiva en Domicilio | B57: =SUM(C57:E57) -> 0
A58: Estrategia de Asistencia Ventilatoria no Invasiva en Domicilio | B58: =SUM(C58:E58) -> 0
A59: Estrategia Oxígeno Domiciliario para pacientes Crónicos | B59: =SUM(C59:E59) -> 0
A60: SECCIÓN C.2.2: INGRESOS Y EGRESOS AL PROGRAMA ASISTENCIA VENTILATORIA EN DOMICILIO
A61: ACTIVIDAD | B61: INGRESOS | E61: Número de egresos | F61: Número de personas activas | G61: Número de controles médicos
B62: TOTAL (Ambos sexos) | C62: Hombres | D62: Mujeres
A63: Asistencia Ventilatoria Invasiva Infantil (AVI) | B63: =SUM(C63:D63) -> 0
A64: Asistencia Ventilatoria Invasiva Del Adulto (AVIA) | B64: =SUM(C64:D64) -> 0
A65: Asistencia Ventilatoria no Invasiva Infantil (AVNI) | B65: =SUM(C65:D65) -> 0
A66: Asistencia Ventilatoria no Invasiva Adulto (AVNIA) | B66: =SUM(C66:D66) -> 0
A67: Oxigenoterapia Ambulatorio Crónico Respiratorio Infantil | B67: =SUM(C67:D67) -> 0
A68: Oxigenoterapia Ambulatorio Crónico Respiratorio Adulto | B68: =SUM(C68:D68) -> 0
A69: TOTAL | B69: =SUM(B63:B68) -> 0 | C69: =SUM(C63:C68) -> 0 | D69: =SUM(D63:D68) -> 0 | E69: =SUM(E63:E68) -> 0 | F69: =SUM(F63:F68) -> 0 | G69: =SUM(G63:G68) -> 0
A70: SECCIÓN C.2.3: INGRESO PROGRAMA ASISTENCIA VENTILATORIA Y OXÍGENO EN DOMICILIO SEGÚN DIAGNÓSTICO
A71: CAUSAS DE INGRESO | B71: Asistencia Ventilatoria Invasiva Infantil (AVI) | C71: Asistencia Ventilatoria Invasiva Del Adulto (AVIA) | D71: Asistencia Ventilatoria no Invasiva Infantil (AVNI) | E71: Asistencia Ventilatoria no Invasiva Adulto (AVNIA) | F71: Oxigenoterapia Ambulatorio Crónico Respiratorio Infantil | G71: Oxigenoterapia Ambulatorio Crónico Respiratorio Adulto | H71: Pueblos originarios | I71: Migrantes
A72: Enfermedad neuromuscular
A73: Daño pulmonar crónico
A74: Daño sistema nervioso central
A75: Sindrome genético
A76: Displasia Broncopulmonar
A77: SECCIÓN D: APOYO PSICOSOCIAL EN NIÑOS, NIÑAS Y ADOLESCENTES HOSPITALIZADOS
A78: CONCEPTO | B78: INTERVENCIÓN | C78: TOTAL | D78: RANGO ETARIO
D79: Hasta 28 días | E79: 29 días hasta menor de 1 año | F79: 1 - 4 años | G79: 5 - 9 años | H79: 10 - 14 años | I79: 15 - 19 años
A80: TOTAL DE EGRESOS (en el período) | C80: =SUM(D80:I80) -> 144 | D80: 18 | E80: 10 | F80: 30 | G80: 41 | H80: 26 | I80: 19
A81: Egresados con Apoyo Psicosocial (en el período) | B81: Intervención Psicosocial | C81: =SUM(D81:I81) -> 36 | D81: 17 | E81: 8 | F81: 11
B82: Estimulación del Desarrollo | C82: =SUM(D82:I82) -> 3 | D82: 3 | E82: 0 | F82: 0
A83: Nº de Atenciones (en el mes) | B83: Intervención Psicosocial | C83: =SUM(D83:I83) -> 70 | D83: 32 | E83: 22 | F83: 16
B84: Estimulación del Desarrollo | C84: =SUM(D84:I84) -> 94 | D84: 77 | E84: 16 | F84: 1
A85: SECCIÓN E: GESTIÓN DE PROCESOS DE PACIENTES QUIRÚRGICOS CON CIRUGÍA ELECTIVA
A86: ESPECIALIDAD | B86: DÍAS DE ESTADA PREQUIRÚRGICOS | D86: PACIENTES INTERVENIDOS | F86: HORARIO HÁBIL | J86: INHABIL DE LUNES A VIERNES | N86: SÁBADO, DOMINGO Y FESTIVO
F87: Pacientes Programados | H87: Pacientes Suspendidos | J87: Pacientes Programados | L87: Pacientes Suspendidos | N87: Pacientes Programados | P87: Pacientes Suspendidos
B88: Menor de 15 años | C88: 15 y más años | D88: Menor de 15 años | E88: 15 y más años | F88: Menor de 15 años | G88: 15 y más años | H88: Menor de 15 años | I88: 15 y más años | J88: Menor de 15 años | K88: 15 y más años | L88: Menor de 15 años | M88: 15 y más años | N88: Menor de 15 años | O88: 15 y más años | P88: Menor de 15 años | Q88: 15 y más años
A89: Cirugía General | B89: 11 | C89: 4 | D89: 50 | E89: 138 | F89: 37 | G89: 76 | H89: 2 | I89: 6 | J89: 16 | K89: 70 | L89: 1 | M89: 2 | R89: =AT89&AU89&AV89 | AT89: =IF((D89+E89)<((F89+G89)-(H89+I89)),"* La suma de "&D$86&""&" debe ser mayor o igual a la Diferencia de "&F$87&""&" menos Pacientes Suspendidos","") | BC89: =IF((D89+E89)<((F89+G89)-(H89+I89)),1,0) -> 0
A90: Cirugía Cardiovascular | R90: =AT90&AU90&AV90 | AT90: =IF((D90+E90)<((F90+G90)-(H90+I90)),"* La suma de "&D$86&""&" debe ser mayor o igual a la Diferencia de "&F$87&""&" menos Pacientes Suspendidos","") | BC90: =IF((D90+E90)<((F90+G90)-(H90+I90)),1,0) -> 0
A91: Cirugía Maxilofacial | E91: 4 | G91: 5 | I91: 1 | R91: =AT91&AU91&AV91 | AT91: =IF((D91+E91)<((F91+G91)-(H91+I91)),"* La suma de "&D$86&""&" debe ser mayor o igual a la Diferencia de "&F$87&""&" menos Pacientes Suspendidos","") | BC91: =IF((D91+E91)<((F91+G91)-(H91+I91)),1,0) -> 0
A92: Cirugía Tórax | R92: =AT92&AU92&AV92 | AT92: =IF((D92+E92)<((F92+G92)-(H92+I92)),"* La suma de "&D$86&""&" debe ser mayor o igual a la Diferencia de "&F$87&""&" menos Pacientes Suspendidos","") | BC92: =IF((D92+E92)<((F92+G92)-(H92+I92)),1,0) -> 0
A93: Traumatología | B93: 1 | C93: 4 | D93: 9 | E93: 84 | F93: 8 | G93: 76 | I93: 5 | J93: 1 | K93: 11 | O93: 2 | R93: =AT93&AU93&AV93 | AT93: =IF((D93+E93)<((F93+G93)-(H93+I93)),"* La suma de "&D$86&""&" debe ser mayor o igual a la Diferencia de "&F$87&""&" menos Pacientes Suspendidos","") | BC93: =IF((D93+E93)<((F93+G93)-(H93+I93)),1,0) -> 0
A94: Neurocirugía | R94: =AT94&AU94&AV94 | AT94: =IF((D94+E94)<((F94+G94)-(H94+I94)),"* La suma de "&D$86&""&" debe ser mayor o igual a la Diferencia de "&F$87&""&" menos Pacientes Suspendidos","") | BC94: =IF((D94+E94)<((F94+G94)-(H94+I94)),1,0) -> 0
A95: Otorrinolaringología | D95: 28 | E95: 4 | F95: 7 | G95: 3 | J95: 22 | K95: 1 | L95: 1 | R95: =AT95&AU95&AV95 | AT95: =IF((D95+E95)<((F95+G95)-(H95+I95)),"* La suma de "&D$86&""&" debe ser mayor o igual a la Diferencia de "&F$87&""&" menos Pacientes Suspendidos","") | BC95: =IF((D95+E95)<((F95+G95)-(H95+I95)),1,0) -> 0
A96: Oftalmología | E96: 314 | G96: 133 | I96: 2 | K96: 24 | O96: 160 | Q96: 1 | R96: =AT96&AU96&AV96 | AT96: =IF((D96+E96)<((F96+G96)-(H96+I96)),"* La suma de "&D$86&""&" debe ser mayor o igual a la Diferencia de "&F$87&""&" menos Pacientes Suspendidos","") | BC96: =IF((D96+E96)<((F96+G96)-(H96+I96)),1,0) -> 0
A97: Obstetricia Y Ginecología | C97: 1 | E97: 56 | G97: 8 | K97: 48 | R97: =AT97&AU97&AV97 | AT97: =IF((D97+E97)<((F97+G97)-(H97+I97)),"* La suma de "&D$86&""&" debe ser mayor o igual a la Diferencia de "&F$87&""&" menos Pacientes Suspendidos","") | BC97: =IF((D97+E97)<((F97+G97)-(H97+I97)),1,0) -> 0
A98: Ginecología | E98: 55 | G98: 40 | I98: 4 | K98: 22 | M98: 3 | R98: =AT98&AU98&AV98 | AT98: =IF((D98+E98)<((F98+G98)-(H98+I98)),"* La suma de "&D$86&""&" debe ser mayor o igual a la Diferencia de "&F$87&""&" menos Pacientes Suspendidos","") | BC98: =IF((D98+E98)<((F98+G98)-(H98+I98)),1,0) -> 0
A99: Urología | C99: 2 | E99: 13 | G99: 8 | I99: 2 | K99: 7 | M99: 1 | O99: 1 | R99: =AT99&AU99&AV99 | AT99: =IF((D99+E99)<((F99+G99)-(H99+I99)),"* La suma de "&D$86&""&" debe ser mayor o igual a la Diferencia de "&F$87&""&" menos Pacientes Suspendidos","") | BC99: =IF((D99+E99)<((F99+G99)-(H99+I99)),1,0) -> 0
A100: Otras Especialidades | R100: =AT100&AU100&AV100 | AT100: =IF((D100+E100)<((F100+G100)-(H100+I100)),"* La suma de "&D$86&""&" debe ser mayor o igual a la Diferencia de "&F$87&""&" menos Pacientes Suspendidos","") | BC100: =IF((D100+E100)<((F100+G100)-(H100+I100)),1,0) -> 0
A101: Odontología | R101: =AT101&AU101&AV101 | AT101: =IF((D101+E101)<((F101+G101)-(H101+I101)),"* La suma de "&D$86&""&" debe ser mayor o igual a la Diferencia de "&F$87&""&" menos Pacientes Suspendidos","") | BC101: =IF((D101+E101)<((F101+G101)-(H101+I101)),1,0) -> 0
A102: TOTAL | B102: =SUM(B89:B101) -> 12 | C102: =SUM(C89:C101) -> 11 | D102: =SUM(D89:D101) -> 87 | E102: =SUM(E89:E101) -> 668 | F102: =SUM(F89:F101) -> 52 | G102: =SUM(G89:G101) -> 349 | H102: =SUM(H89:H101) -> 2 | I102: =SUM(I89:I101) -> 20 | ... Q102: =SUM(Q89:Q101) -> 1
...

Sheet FEBRERO
A1: SERVICIO DE SALUD
A2: =CONCATENATE("COMUNA: ",[3]NOMBRE!B2, " (",[3]NOMBRE!C2,[3]NOMBRE!D2,[3]NOMBRE!E2,[3]NOMBRE!F2,[3]NOMBRE!G2,")") -> COMUNA: LINARES (07401)
A3: =CONCATENATE("ESTABLECIMIENTO/ESTRATEGIA: ", [3]NOMBRE!B3, " (",[3]NOMBRE!C3,[3]NOMBRE!D3,[3]NOMBRE!E3,[3]NOMBRE!F3,[3]NOMBRE!G3,[3]NOMBRE!H3,")") -> ESTABLECIMIENTO/ESTRATEGIA: HOSPITAL PRESIDENTE CARLOS IBAÑEZ DEL CAMPO (116108)
A4: =CONCATENATE("MES: ",[3]NOMBRE!B6, " (",[3]NOMBRE!C6,[3]NOMBRE!D6,")") -> MES: FEBRERO (02)
A5: =CONCATENATE("AÑO: ",[3]NOMBRE!B7) -> AÑO: 2025
A6: REM-21. QUIRÓFANOS Y OTROS RECURSOS HOSPITALARIOS
A8: SECCIÓN A: CAPACIDAD INSTALADA Y UTILIZACIÓN DE LOS QUIRÓFANOS CIRUGÍA MAYOR
A9: TIPO DE QUIRÓFANOS | B9: Número de Quirófanos en Dotación | C9: Promedio Mensual de Quirófanos Habilitados | D9: Promedio Mensual de Quirófanos en Trabajo | E9: Total de Horas Mensuales de Quirófanos Habilitados (Horario Hábil) | F9: Total de Horas Mensuales de Quirófanos en Trabajo (Horario Hábil) | G9: QUIRÓFANOS CIRUGIA MAYOR | Z9: CIRUGIAS MENORES Y PROCEDIMIENTOS *
G10: Horas Mensuales Programadas de Tabla Quirúrgica de Quirófanos en Trabajo, Horario Hábil | K10: Horas Mensuales Ocupadas de Quirófanos en Trabajo Horario Hábil | P10: Horas Mensuales Ocupadas de Quirófanos en Trabajo Horario Inhábil de Lunes a Viernes | U10: Horas Mensuales Ocupadas de Quirófanos en Trabajo Horario Sábado, Domingo y Festivo | Z10: Total Horas Mensuales Ocupadas de Quirófanos en Trabajo, Horario Hábil | AC10: Total Horas Mensuales Ocupadas de Quirófanos en Trabajo, Horario Inhábil
G12: Total | H12: Beneficiarios MAI | I12: Beneficiarios MLE | J12: Otros | K12: Total | L12: Beneficiarios MAI | M12: Beneficiarios MLE | N12: Otros | O12: De recambio | P12: Total | Q12: Beneficiarios MAI | R12: Beneficiarios MLE | S12: Otros | T12: De recambio | U12: Total | V12: Beneficiarios MAI | W12: Beneficiarios MLE | X12: Otros | Y12: De recambio | Z12: Total | AA12: Cirugía Menor | AB12: Otros Procedimientos | AC12: Total | AD12: Cirugía Menor | AE12: Otros Procedimientos
A13: TOTAL QUIRÓFANOS | B13: =SUM(B14:B17) -> 6 | C13: =SUM(C14:C17) -> 6 | D13: =SUM(D14:D17) -> 5 | E13: =SUM(E14:E17) -> 1480 | F13: =SUM(F14:F17) -> 1360 | G13: =SUM(G14:G17) -> 640 | H13: =SUM(H14:H17) -> 640 | I13: =SUM(I14:I17) -> 0 | ... AE13: =SUM(AE14:AE17) -> 6.27
A14: De Cirugía Electiva | B14: 5 | C14: 5 | D14: 4 | E14: 760 | F14: 640 | G14: =SUM(H14:J14) -> 640 | H14: 640 | I14: 0 | J14: 0 | K14: =SUM(L14:O14) -> 561.94 | L14: 449.27 | M14: 0 | N14: 0 | O14: 112.67 | P14: =SUM(Q14:T14) -> 349.33 | Q14: 86.08 | R14: 144.72 | S14: 6.45 | T14: 112.08 | U14: =SUM(V14:Y14) -> 150.54 | V14: 0 | W14: 141.57 | X14: 8.97 | Y14: 0 | Z14: =SUM(AA14:AB14) -> 52.2 | AA14: 36.2 | AB14: 16 | AC14: =SUM(AD14:AE14) -> 7.11 | AD14: 6.7 | AE14: 0.41
A15: De Urgencia | B15: 1 | C15: 1 | D15: 1 | E15: 720 | F15: 720 | G15: =SUM(H15:J15) -> 0 | H15: 0 | I15: 0 | J15: 0 | K15: =SUM(L15:O15) -> 115 | L15: 97 | M15: 0 | N15: 0 | O15: 18 | P15: =SUM(Q15:T15) -> 202.38 | Q15: 168.05 | R15: 0 | S15: 0 | T15: 34.33 | U15: =SUM(V15:Y15) -> 171.16 | V15: 137.83 | W15: 0 | X15: 0 | Y15: 33.33 | Z15: =SUM(AA15:AB15) -> 22.8 | AA15: 7.8 | AB15: 15 | AC15: =SUM(AD15:AE15) -> 15.86 | AD15: 10 | AE15: 5.86
A16: Obstétrico | G16: =SUM(H16:J16) -> 0 | K16: =SUM(L16:O16) -> 0 | P16: =SUM(Q16:T16) -> 0 | U16: =SUM(V16:Y16) -> 0 | Z16: =SUM(AA16:AB16) -> 0 | AC16: =SUM(AD16:AE16) -> 0
A17: Indiferenciado | G17: =SUM(H17:J17) -> 0 | K17: =SUM(L17:O17) -> 0 | P17: =SUM(Q17:T17) -> 0 | U17: =SUM(V17:Y17) -> 0 | Z17: =SUM(AA17:AB17) -> 0 | AC17: =SUM(AD17:AE17) -> 0
A18: * Las horas informadas en cirugía menores y procedimientos, deben estar contenidas en las horas ocupadas, en quirófanos para cirugía mayor.
A19: SECCIÓN B: PROCEDIMIENTOS COMPLEJOS AMBULATORIOS
A20: COMPONENTES | B20: TOTAL | C20: Hemodiálisis | D20: Cirugía Mayor Ambulatoria | E20: Coronariografía | F20: Otras
A21: Recurso Disponible | B21: =SUM(C21:F21) -> 10 | D21: 10
A22: Ingresos | B22: =SUM(C22:F22) -> 227 | D22: 227
A23: Personas Atendidas | B23: =SUM(C23:F23) -> 227 | D23: 227
A24: Días Personas Atendidas | B24: =SUM(C24:F24) -> 227 | D24: 227
A25: Altas | B25: =SUM(C25:F25) -> 228 | D25: 228
A26: SECCIÓN C: HOSPITALIZACIÓN DOMICILIARIA Y ATENCIÓN VENTILATORIA EN DOMICILIO
A27: SECCIÓN C.1:HOSPITALIZACIÓN DOMICILIARIA
A28: SECCIÓN C.1.1: PERSONAS ATENDIDAS EN EL PROGRAMA
A29: COMPONENTES | C29: TOTAL | D29: RANGO ETARIO | H29: ORIGEN DE LA DERIVACIÓN | N29: SEXO
D30: Menor de 15 años | E30: 15 - 19 años | F30: 20 - 59 años | G30: 60 y más años | H30: APS | I30: Urgencia | J30: Hospitalización | K30: Ambulatorio | L30: Ley de Urgencia | M30: UGCC | N30: Hombres | O30: Mujeres
A31: Ingresos | C31: =SUM(D31:G31) -> 86 | D31: 0 | E31: 0 | F31: 24 | G31: 62 | H31: 2 | I31: 44 | J31: 30 | K31: 10 | L31: 0 | M31: 0 | N31: 23 | O31: 33 | P31: =AW31&AX31&AY31&AZ31&BA31&BB31&BC31&BD31 | AW31: =IF(AND($C31>0,H31="")," * No olvide digitar la variable "&H$29&""&" APS. Digite CERO si no tiene.","") | AX31: =IF(AND($C31>0,I31="")," * No olvide digitar la variable "&$H$29&""&" Urgencia. Digite CERO si no tiene.","") | AY31: =IF(AND($C31>0,J31="")," * No olvide digitar la variable "&$H$29&""&" Hospitalización. Digite CERO si no tiene.","") | AZ31: =IF(AND($C31>0,K31="")," * No olvide digitar la variable "&$H$29&""&" Ambulatorio. Digite CERO si no tiene.","") | BA31: =IF(AND($C31>0,L31="")," * No olvide digitar la variable "&$H$29&""&" Ley de Urgencia. Digite CERO si no tiene.","") | BB31: =IF(AND($C31>0,M31="")," * No olvide digitar la variable "&$H$29&""&" UGCC. Digite CERO si no tiene.","") | BC31: =IF(AND(H31+I31+J31+K31+L31+M31>$C31)," * La variable "&$H$29&""&" No puede ser mayor al Total.","") | BD31: =IF(AND(N31+O31>$C31)," * La variable "&$N$29&""&" No puede ser mayor al Total.","") | BF31: =IF(AND($C31>0,H31=""),1,0) -> 0 | BG31: =IF(AND($C31>0,I31=""),1,0) -> 0 | BH31: =IF(AND($C31>0,J31=""),1,0) -> 0 | BI31: =IF(AND($C31>0,K31=""),1,0) -> 0 | BJ31: =IF(AND($C31>0,L31=""),1,0) -> 0 | BK31: =IF(AND($C31>0,M31=""),1,0) -> 0 | BL31: =IF(AND(H31+I31+J31+K31+L31+M31>$C31),1,0) -> 0 | BM31: =IF(AND(N31+O31>$C31),1,0) -> 0
A32: Personas Atendidas | C32: =SUM(D32:G32) -> 69 | D32: 0 | E32: 0 | F32: 16 | G32: 53 | N32: 29 | O32: 40 | P32: =BD32 | BD32: =IF(AND(N32+O32>$C32)," * La variable "&$N$29&""&" No puede ser mayor al Total.","") | BM32: =IF(AND(N32+O32>$C32),1,0) -> 0
A33: Días Personas Atendidas | C33: =SUM(D33:G33) -> 489 | D33: 0 | E33: 0 | F33: 131 | G33: 358 | N33: 211 | O33: 278 | P33: =BD33 | BD33: =IF(AND(N33+O33>$C33)," * La variable "&$N$29&""&" No puede ser mayor al Total.","") | BM33: =IF(AND(N33+O33>$C33),1,0) -> 0
A34: Altas | C34: =SUM(D34:G34) -> 44 | D34: 0 | E34: 0 | F34: 13 | G34: 31 | N34: 16 | O34: 28 | P34: =BD34 | BD34: =IF(AND(N34+O34>$C34)," * La variable "&$N$29&""&" No puede ser mayor al Total.","") | BM34: =IF(AND(N34+O34>$C34),1,0) -> 0
A35: Fallecidos | B35: Esperados | C35: =SUM(D35:G35) -> 4 | D35: 0 | E35: 0 | F35: 0 | G35: 4 | N35: 1 | O35: 3 | P35: =BD35 | BD35: =IF(AND(N35+O35>$C35)," * La variable "&$N$29&""&" No puede ser mayor al Total.","") | BM35: =IF(AND(N35+O35>$C35),1,0) -> 0
B36: No esperados | C36: =SUM(D36:G36) -> 0 | D36: 0 | E36: 0 | F36: 0 | G36: 0 | N36: 0 | O36: 0 | P36: =BD36 | BD36: =IF(AND(N36+O36>$C36)," * La variable "&$N$29&""&" No puede ser mayor al Total.","") | BM36: =IF(AND(N36+O36>$C36),1,0) -> 0
A37: Reingresos a Hospitalización Tradicional | C37: =SUM(D37:G37) -> 5 | D37: 0 | E37: 0 | F37: 2 | G37: 3 | N37: 4 | O37: 1 | P37: =BD37 | BD37: =IF(AND(N37+O37>$C37)," * La variable "&$N$29&""&" No puede ser mayor al Total.","") | BM37: =IF(AND(N37+O37>$C37),1,0) -> 0
A38: SECCIÓN C.1.2: VISITAS REALIZADAS
A39: PROFESIONALES | B39: Total de Visitas
A40: Médico | B40: 110
A41: Enfermera | B41: 400
A42: Técnico en Enfermería | B42: 641
A43: Matrona | B43: 0
A44: Kinesiólogo | B44: 236
A45: Psicólogo | B45: 0
A46: Fonoaudiólogo/a | B46: 11
A47: Trabajador/a Social | B47: 0
A48: Terapeuta Ocupacional | B48: 0
A49: SECCIÓN C.1.3: CUPOS DISPONIBLES EN UNIDAD DE HOSPITALIZACIÓN DOMICILIARIA
A50: COMPONENTES | B50: TOTAL | C50: N° de Cupos | D50: N° de cupos Campaña Invierno Adicionales | E50: N° de cupos Campaña de Invierno
A51: Número Cupos Programados | B51: =SUM(C51:E51) -> 840 | C51: 840
A52: Número Cupos Utilizados | B52: =SUM(C52:E52) -> 772 | C52: 772
A53: Número de Cupos Disponibles | B53: =SUM(C53:E53) -> 68 | C53: 68
A54: SECCIÓN C.2 ATENCIÓN VENTILATORIA EN DOMICILIO
A55: SECCIÓN C.2.1: ASISTENCIA VENTILATORIA Y OXÍGENO EN DOMICILIO
A56: TIPO DE ESTRATEGIA | B56: TOTAL | C56: 0-9 años | D56: 10 - 19 años | E56: 20 y más años | F56: N° de cupos Campaña de Invierno
A57: Estrategia de Asistencia Ventilatoria Invasiva en Domicilio | B57: =SUM(C57:E57) -> 0
A58: Estrategia de Asistencia Ventilatoria no Invasiva en Domicilio | B58: =SUM(C58:E58) -> 0
A59: Estrategia Oxígeno Domiciliario para pacientes Crónicos | B59: =SUM(C59:E59) -> 0
A60: SECCIÓN C.2.2: INGRESOS Y EGRESOS AL PROGRAMA ASISTENCIA VENTILATORIA EN DOMICILIO
A61: ACTIVIDAD | B61: INGRESOS | E61: Número de egresos | F61: Número de personas activas | G61: Número de controles médicos
B62: TOTAL (Ambos sexos) | C62: Hombres | D62: Mujeres
A63: Asistencia Ventilatoria Invasiva Infantil (AVI) | B63: =SUM(C63:D63) -> 0
A64: Asistencia Ventilatoria Invasiva Del Adulto (AVIA) | B64: =SUM(C64:D64) -> 0
A65: Asistencia Ventilatoria no Invasiva Infantil (AVNI) | B65: =SUM(C65:D65) -> 0
A66: Asistencia Ventilatoria no Invasiva Adulto (AVNIA) | B66: =SUM(C66:D66) -> 0
A67: Oxigenoterapia Ambulatorio Crónico Respiratorio Infantil | B67: =SUM(C67:D67) -> 0
A68: Oxigenoterapia Ambulatorio Crónico Respiratorio Adulto | B68: =SUM(C68:D68) -> 0
A69: TOTAL | B69: =SUM(B63:B68) -> 0 | C69: =SUM(C63:C68) -> 0 | D69: =SUM(D63:D68) -> 0 | E69: =SUM(E63:E68) -> 0 | F69: =SUM(F63:F68) -> 0 | G69: =SUM(G63:G68) -> 0
A70: SECCIÓN C.2.3: INGRESO PROGRAMA ASISTENCIA VENTILATORIA Y OXÍGENO EN DOMICILIO SEGÚN DIAGNÓSTICO
A71: CAUSAS DE INGRESO | B71: Asistencia Ventilatoria Invasiva Infantil (AVI) | C71: Asistencia Ventilatoria Invasiva Del Adulto (AVIA) | D71: Asistencia Ventilatoria no Invasiva Infantil (AVNI) | E71: Asistencia Ventilatoria no Invasiva Adulto (AVNIA) | F71: Oxigenoterapia Ambulatorio Crónico Respiratorio Infantil | G71: Oxigenoterapia Ambulatorio Crónico Respiratorio Adulto | H71: Pueblos originarios | I71: Migrantes
A72: Enfermedad neuromuscular
A73: Daño pulmonar crónico
A74: Daño sistema nervioso central
A75: Sindrome genético
A76: Displasia Broncopulmonar
A77: SECCIÓN D: APOYO PSICOSOCIAL EN NIÑOS, NIÑAS Y ADOLESCENTES HOSPITALIZADOS
A78: CONCEPTO | B78: INTERVENCIÓN | C78: TOTAL | D78: RANGO ETARIO
D79: Hasta 28 días | E79: 29 días hasta menor de 1 año | F79: 1 - 4 años | G79: 5 - 9 años | H79: 10 - 14 años | I79: 15 - 19 años
A80: TOTAL DE EGRESOS (en el período) | C80: =SUM(D80:I80) -> 145 | D80: 18 | E80: 7 | F80: 20 | G80: 28 | H80: 40 | I80: 32
A81: Egresados con Apoyo Psicosocial (en el período) | B81: Intervención Psicosocial | C81: =SUM(D81:I81) -> 39 | D81: 22 | E81: 4 | F81: 13
B82: Estimulación del Desarrollo | C82: =SUM(D82:I82) -> 28 | D82: 21 | E82: 2 | F82: 5
A83: Nº de Atenciones (en el mes) | B83: Intervención Psicosocial | C83: =SUM(D83:I83) -> 106 | D83: 64 | E83: 14 | F83: 28
B84: Estimulación del Desarrollo | C84: =SUM(D84:I84) -> 121 | D84: 112 | E84: 4 | F84: 5
A85: SECCIÓN E: GESTIÓN DE PROCESOS DE PACIENTES QUIRÚRGICOS CON CIRUGÍA ELECTIVA
A86: ESPECIALIDAD | B86: DÍAS DE ESTADA PREQUIRÚRGICOS | D86: PACIENTES INTERVENIDOS | F86: HORARIO HÁBIL | J86: INHABIL DE LUNES A VIERNES | N86: SÁBADO, DOMINGO Y FESTIVO
F87: Pacientes Programados | H87: Pacientes Suspendidos | J87: Pacientes Programados | L87: Pacientes Suspendidos | N87: Pacientes Programados | P87: Pacientes Suspendidos
B88: Menor de 15 años | C88: 15 y más años | D88: Menor de 15 años | E88: 15 y más años | F88: Menor de 15 años | G88: 15 y más años | H88: Menor de 15 años | I88: 15 y más años | J88: Menor de 15 años | K88: 15 y más años | L88: Menor de 15 años | M88: 15 y más años | N88: Menor de 15 años | O88: 15 y más años | P88: Menor de 15 años | Q88: 15 y más años
A89: Cirugía General | C89: 4 | D89: 37 | E89: 108 | F89: 30 | G89: 81 | H89: 1 | I89: 4 | J89: 8 | K89: 30 | O89: 1 | R89: =AT89&AU89&AV89 | AT89: =IF((D89+E89)<((F89+G89)-(H89+I89)),"* La suma de "&D$86&""&" debe ser mayor o igual a la Diferencia de "&F$87&""&" menos Pacientes Suspendidos","") | BC89: =IF((D89+E89)<((F89+G89)-(H89+I89)),1,0) -> 0
A90: Cirugía Cardiovascular | R90: =AT90&AU90&AV90 | AT90: =IF((D90+E90)<((F90+G90)-(H90+I90)),"* La suma de "&D$86&""&" debe ser mayor o igual a la Diferencia de "&F$87&""&" menos Pacientes Suspendidos","") | BC90: =IF((D90+E90)<((F90+G90)-(H90+I90)),1,0) -> 0
A91: Cirugía Maxilofacial | D91: 1 | E91: 2 | F91: 1 | G91: 3 | I91: 1 | R91: =AT91&AU91&AV91 | AT91: =IF((D91+E91)<((F91+G91)-(H91+I91)),"* La suma de "&D$86&""&" debe ser mayor o igual a la Diferencia de "&F$87&""&" menos Pacientes Suspendidos","") | BC91: =IF((D91+E91)<((F91+G91)-(H91+I91)),1,0) -> 0
A92: Cirugía Tórax | R92: =AT92&AU92&AV92 | AT92: =IF((D92+E92)<((F92+G92)-(H92+I92)),"* La suma de "&D$86&""&" debe ser mayor o igual a la Diferencia de "&F$87&""&" menos Pacientes Suspendidos","") | BC92: =IF((D92+E92)<((F92+G92)-(H92+I92)),1,0) -> 0
A93: Traumatología | C93: 3 | D93: 12 | E93: 74 | F93: 9 | G93: 72 | I93: 5 | J93: 3 | K93: 7 | R93: =AT93&AU93&AV93 | AT93: =IF((D93+E93)<((F93+G93)-(H93+I93)),"* La suma de "&D$86&""&" debe ser mayor o igual a la Diferencia de "&F$87&""&" menos Pacientes Suspendidos","") | BC93: =IF((D93+E93)<((F93+G93)-(H93+I93)),1,0) -> 0
A94: Neurocirugía | R94: =AT94&AU94&AV94 | AT94: =IF((D94+E94)<((F94+G94)-(H94+I94)),"* La suma de "&D$86&""&" debe ser mayor o igual a la Diferencia de "&F$87&""&" menos Pacientes Suspendidos","") | BC94: =IF((D94+E94)<((F94+G94)-(H94+I94)),1,0) -> 0
A95: Otorrinolaringología | D95: 31 | E95: 3 | F95: 7 | G95: 2 | J95: 20 | K95: 2 | N95: 3 | R95: =AT95&AU95&AV95 | AT95: =IF((D95+E95)<((F95+G95)-(H95+I95)),"* La suma de "&D$86&""&" debe ser mayor o igual a la Diferencia de "&F$87&""&" menos Pacientes Suspendidos","") | BC95: =IF((D95+E95)<((F95+G95)-(H95+I95)),1,0) -> 0
A96: Oftalmología | E96: 104 | G96: 35 | I96: 2 | K96: 18 | M96: 9 | O96: 62 | R96: =AT96&AU96&AV96 | AT96: =IF((D96+E96)<((F96+G96)-(H96+I96)),"* La suma de "&D$86&""&" debe ser mayor o igual a la Diferencia de "&F$87&""&" menos Pacientes Suspendidos","") | BC96: =IF((D96+E96)<((F96+G96)-(H96+I96)),1,0) -> 0
A97: Obstetricia Y Ginecología | E97: 49 | G97: 8 | K97: 41 | R97: =AT97&AU97&AV97 | AT97: =IF((D97+E97)<((F97+G97)-(H97+I97)),"* La suma de "&D$86&""&" debe ser mayor o igual a la Diferencia de "&F$87&""&" menos Pacientes Suspendidos","") | BC97: =IF((D97+E97)<((F97+G97)-(H97+I97)),1,0) -> 0
A98: Ginecología | D98: 1 | E98: 35 | F98: 1 | G98: 25 | I98: 2 | K98: 12 | R98: =AT98&AU98&AV98 | AT98: =IF((D98+E98)<((F98+G98)-(H98+I98)),"* La suma de "&D$86&""&" debe ser mayor o igual a la Diferencia de "&F$87&""&" menos Pacientes Suspendidos","") | BC98: =IF((D98+E98)<((F98+G98)-(H98+I98)),1,0) -> 0
A99: Urología | E99: 9 | G99: 2 | K99: 2 | O99: 5 | R99: =AT99&AU99&AV99 | AT99: =IF((D99+E99)<((F99+G99)-(H99+I99)),"* La suma de "&D$86&""&" debe ser mayor o igual a la Diferencia de "&F$87&""&" menos Pacientes Suspendidos","") | BC99: =IF((D99+E99)<((F99+G99)-(H99+I99)),1,0) -> 0
A100: Otras Especialidades | C100: 10 | E100: 3 | G100: 1 | O100: 2 | R100: =AT100&AU100&AV100 | AT100: =IF((D100+E100)<((F100+G100)-(H100+I100)),"* La suma de "&D$86&""&" debe ser mayor o igual a la Diferencia de "&F$87&""&" menos Pacientes Suspendidos","") | BC100: =IF((D100+E100)<((F100+G100)-(H100+I100)),1,0) -> 0
A101: Odontología | R101: =AT101&AU101&AV101 | AT101: =IF((D101+E101)<((F101+G101)-(H101+I101)),"* La suma de "&D$86&""&" debe ser mayor o igual a la Diferencia de "&F$87&""&" menos Pacientes Suspendidos","") | BC101: =IF((D101+E101)<((F101+G101)-(H101+I101)),1,0) -> 0
A102: TOTAL | B102: =SUM(B89:B101) -> 0 | C102: =SUM(C89:C101) -> 17 | D102: =SUM(D89:D101) -> 82 | E102: =SUM(E89:E101) -> 387 | F102: =SUM(F89:F101) -> 48 | G102: =SUM(G89:G101) -> 229 | H102: =SUM(H89:H101) -> 1 | I102: =SUM(I89:I101) -> 14 | ... Q102: =SUM(Q89:Q101) -> 0
...

Sheet MARZO
A1: SERVICIO DE SALUD
A2: =CONCATENATE("COMUNA: ",[4]NOMBRE!B2, " (",[4]NOMBRE!C2,[4]NOMBRE!D2,[4]NOMBRE!E2,[4]NOMBRE!F2,[4]NOMBRE!G2,")") -> COMUNA: LINARES (07401)
A3: =CONCATENATE("ESTABLECIMIENTO/ESTRATEGIA: ", [4]NOMBRE!B3, " (",[4]NOMBRE!C3,[4]NOMBRE!D3,[4]NOMBRE!E3,[4]NOMBRE!F3,[4]NOMBRE!G3,[4]NOMBRE!H3,")") -> ESTABLECIMIENTO/ESTRATEGIA: HOSPITAL PRESIDENTE CARLOS IBAÑEZ DEL CAMPO (116108)
A4: =CONCATENATE("MES: ",[4]NOMBRE!B6, " (",[4]NOMBRE!C6,[4]NOMBRE!D6,")") -> MES: MARZO (03)
A5: =CONCATENATE("AÑO: ",[4]NOMBRE!B7) -> AÑO: 2025
A6: REM-21. QUIRÓFANOS Y OTROS RECURSOS HOSPITALARIOS
A8: SECCIÓN A: CAPACIDAD INSTALADA Y UTILIZACIÓN DE LOS QUIRÓFANOS CIRUGÍA MAYOR
A9: TIPO DE QUIRÓFANOS | B9: Número de Quirófanos en Dotación | C9: Promedio Mensual de Quirófanos Habilitados | D9: Promedio Mensual de Quirófanos en Trabajo | E9: Total de Horas Mensuales de Quirófanos Habilitados (Horario Hábil) | F9: Total de Horas Mensuales de Quirófanos en Trabajo (Horario Hábil) | G9: QUIRÓFANOS CIRUGIA MAYOR | Z9: CIRUGIAS MENORES Y PROCEDIMIENTOS *
G10: Horas Mensuales Programadas de Tabla Quirúrgica de Quirófanos en Trabajo, Horario Hábil | K10: Horas Mensuales Ocupadas de Quirófanos en Trabajo Horario Hábil | P10: Horas Mensuales Ocupadas de Quirófanos en Trabajo Horario Inhábil de Lunes a Viernes | U10: Horas Mensuales Ocupadas de Quirófanos en Trabajo Horario Sábado, Domingo y Festivo | Z10: Total Horas Mensuales Ocupadas de Quirófanos en Trabajo, Horario Hábil | AC10: Total Horas Mensuales Ocupadas de Quirófanos en Trabajo, Horario Inhábil
G12: Total | H12: Beneficiarios MAI | I12: Beneficiarios MLE | J12: Otros | K12: Total | L12: Beneficiarios MAI | M12: Beneficiarios MLE | N12: Otros | O12: De recambio | P12: Total | Q12: Beneficiarios MAI | R12: Beneficiarios MLE | S12: Otros | T12: De recambio | U12: Total | V12: Beneficiarios MAI | W12: Beneficiarios MLE | X12: Otros | Y12: De recambio | Z12: Total | AA12: Cirugía Menor | AB12: Otros Procedimientos | AC12: Total | AD12: Cirugía Menor | AE12: Otros Procedimientos
A13: TOTAL QUIRÓFANOS | B13: =SUM(B14:B17) -> 6 | C13: =SUM(C14:C17) -> 6 | D13: =SUM(D14:D17) -> 6 | E13: =SUM(E14:E17) -> 1558 | F13: =SUM(F14:F17) -> 1398 | G13: =SUM(G14:G17) -> 654 | H13: =SUM(H14:H17) -> 654 | I13: =SUM(I14:I17) -> 0 | ... AE13: =SUM(AE14:AE17) -> 8.22
A14: De Cirugía Electiva | B14: 5 | C14: 5 | D14: 5 | E14: 814 | F14: 654 | G14: =SUM(H14:J14) -> 654 | H14: 654 | I14: 0 | J14: 0 | K14: =SUM(L14:O14) -> 602.87 | L14: 470.13 | M14: 1.07 | N14: 0 | O14: 131.67 | P14: =SUM(Q14:T14) -> 174.13 | Q14: 3.92 | R14: 157.23 | S14: 7.4 | T14: 5.58 | U14: =SUM(V14:Y14) -> 94.28 | V14: 35.07 | W14: 16.88 | X14: 0 | Y14: 42.33 | Z14: =SUM(AA14:AB14) -> 59.43 | AA14: 42.53 | AB14: 16.9 | AC14: =SUM(AD14:AE14) -> 10.74 | AD14: 8.58 | AE14: 2.16
A15: De Urgencia | B15: 1 | C15: 1 | D15: 1 | E15: 744 | F15: 744 | G15: =SUM(H15:J15) -> 0 | H15: 0 | I15: 0 | J15: 0 | K15: =SUM(L15:O15) -> 106.65 | L15: 88.98 | M15: 0 | N15: 0 | O15: 17.67 | P15: =SUM(Q15:T15) -> 154.75 | Q15: 127.08 | R15: 0 | S15: 0 | T15: 27.67 | U15: =SUM(V15:Y15) -> 95.04 | V15: 80.37 | W15: 0 | X15: 0 | Y15: 14.67 | Z15: =SUM(AA15:AB15) -> 8.61 | AA15: 3.73 | AB15: 4.88 | AC15: =SUM(AD15:AE15) -> 20.64 | AD15: 14.58 | AE15: 6.06
A16: Obstétrico | G16: =SUM(H16:J16) -> 0 | K16: =SUM(L16:O16) -> 0 | P16: =SUM(Q16:T16) -> 0 | U16: =SUM(V16:Y16) -> 0 | Z16: =SUM(AA16:AB16) -> 0 | AC16: =SUM(AD16:AE16) -> 0
A17: Indiferenciado | G17: =SUM(H17:J17) -> 0 | K17: =SUM(L17:O17) -> 0 | P17: =SUM(Q17:T17) -> 0 | U17: =SUM(V17:Y17) -> 0 | Z17: =SUM(AA17:AB17) -> 0 | AC17: =SUM(AD17:AE17) -> 0
A18: * Las horas informadas en cirugía menores y procedimientos, deben estar contenidas en las horas ocupadas, en quirófanos para cirugía mayor.
A19: SECCIÓN B: PROCEDIMIENTOS COMPLEJOS AMBULATORIOS
A20: COMPONENTES | B20: TOTAL | C20: Hemodiálisis | D20: Cirugía Mayor Ambulatoria | E20: Coronariografía | F20: Otras
A21: Recurso Disponible | B21: =SUM(C21:F21) -> 10 | D21: 10
A22: Ingresos | B22: =SUM(C22:F22) -> 320 | D22: 320
A23: Personas Atendidas | B23: =SUM(C23:F23) -> 320 | D23: 320
A24: Días Personas Atendidas | B24: =SUM(C24:F24) -> 320 | D24: 320
A25: Altas | B25: =SUM(C25:F25) -> 320 | D25: 320
A26: SECCIÓN C: HOSPITALIZACIÓN DOMICILIARIA Y ATENCIÓN VENTILATORIA EN DOMICILIO
A27: SECCIÓN C.1:HOSPITALIZACIÓN DOMICILIARIA
A28: SECCIÓN C.1.1: PERSONAS ATENDIDAS EN EL PROGRAMA
A29: COMPONENTES | C29: TOTAL | D29: RANGO ETARIO | H29: ORIGEN DE LA DERIVACIÓN | N29: SEXO
D30: Menor de 15 años | E30: 15 - 19 años | F30: 20 - 59 años | G30: 60 y más años | H30: APS | I30: Urgencia | J30: Hospitalización | K30: Ambulatorio | L30: Ley de Urgencia | M30: UGCC | N30: Hombres | O30: Mujeres
A31: Ingresos | C31: =SUM(D31:G31) -> 98 | D31: 0 | E31: 0 | F31: 23 | G31: 75 | H31: 1 | I31: 66 | J31: 22 | K31: 7 | L31: 0 | M31: 0 | N31: 52 | O31: 46 | P31: =AW31&AX31&AY31&AZ31&BA31&BB31&BC31&BD31 | AW31: =IF(AND($C31>0,H31="")," * No olvide digitar la variable "&H$29&""&" APS. Digite CERO si no tiene.","") | AX31: =IF(AND($C31>0,I31="")," * No olvide digitar la variable "&$H$29&""&" Urgencia. Digite CERO si no tiene.","") | AY31: =IF(AND($C31>0,J31="")," * No olvide digitar la variable "&$H$29&""&" Hospitalización. Digite CERO si no tiene.","") | AZ31: =IF(AND($C31>0,K31="")," * No olvide digitar la variable "&$H$29&""&" Ambulatorio. Digite CERO si no tiene.","") | BA31: =IF(AND($C31>0,L31="")," * No olvide digitar la variable "&$H$29&""&" Ley de Urgencia. Digite CERO si no tiene.","") | BB31: =IF(AND($C31>0,M31="")," * No olvide digitar la variable "&$H$29&""&" UGCC. Digite CERO si no tiene.","") | BC31: =IF(AND(H31+I31+J31+K31+L31+M31>$C31)," * La variable "&$H$29&""&" No puede ser mayor al Total.","") | BD31: =IF(AND(N31+O31>$C31)," * La variable "&$N$29&""&" No puede ser mayor al Total.","") | BF31: =IF(AND($C31>0,H31=""),1,0) -> 0 | BG31: =IF(AND($C31>0,I31=""),1,0) -> 0 | BH31: =IF(AND($C31>0,J31=""),1,0) -> 0 | BI31: =IF(AND($C31>0,K31=""),1,0) -> 0 | BJ31: =IF(AND($C31>0,L31=""),1,0) -> 0 | BK31: =IF(AND($C31>0,M31=""),1,0) -> 0 | BL31: =IF(AND(H31+I31+J31+K31+L31+M31>$C31),1,0) -> 0 | BM31: =IF(AND(N31+O31>$C31),1,0) -> 0
A32: Personas Atendidas | C32: =SUM(D32:G32) -> 119 | D32: 0 | E32: 0 | F32: 28 | G32: 91 | N32: 60 | O32: 59 | P32: =BD32 | BD32: =IF(AND(N32+O32>$C32)," * La variable "&$N$29&""&" No puede ser mayor al Total.","") | BM32: =IF(AND(N32+O32>$C32),1,0) -> 0
A33: Días Personas Atendidas | C33: =SUM(D33:G33) -> 830 | D33: 0 | E33: 0 | F33: 164 | G33: 666 | N33: 434 | O33: 396 | P33: =BD33 | BD33: =IF(AND(N33+O33>$C33)," * La variable "&$N$29&""&" No puede ser mayor al Total.","") | BM33: =IF(AND(N33+O33>$C33),1,0) -> 0
A34: Altas | C34: =SUM(D34:G34) -> 80 | D34: 0 | E34: 0 | F34: 17 | G34: 63 | N34: 39 | O34: 41 | P34: =BD34 | BD34: =IF(AND(N34+O34>$C34)," * La variable "&$N$29&""&" No puede ser mayor al Total.","") | BM34: =IF(AND(N34+O34>$C34),1,0) -> 0
A35: Fallecidos | B35: Esperados | C35: =SUM(D35:G35) -> 2 | D35: 0 | E35: 0 | F35: 0 | G35: 2 | N35: 1 | O35: 1 | P35: =BD35 | BD35: =IF(AND(N35+O35>$C35)," * La variable "&$N$29&""&" No puede ser mayor al Total.","") | BM35: =IF(AND(N35+O35>$C35),1,0) -> 0
B36: No esperados | C36: =SUM(D36:G36) -> 0 | D36: 0 | E36: 0 | F36: 0 | G36: 0 | N36: 0 | O36: 0 | P36: =BD36 | BD36: =IF(AND(N36+O36>$C36)," * La variable "&$N$29&""&" No puede ser mayor al Total.","") | BM36: =IF(AND(N36+O36>$C36),1,0) -> 0
A37: Reingresos a Hospitalización Tradicional | C37: =SUM(D37:G37) -> 11 | D37: 0 | E37: 0 | F37: 2 | G37: 9 | N37: 8 | O37: 3 | P37: =BD37 | BD37: =IF(AND(N37+O37>$C37)," * La variable "&$N$29&""&" No puede ser mayor al Total.","") | BM37: =IF(AND(N37+O37>$C37),1,0) -> 0
A38: SECCIÓN C.1.2: VISITAS REALIZADAS
A39: PROFESIONALES | B39: Total de Visitas
A40: Médico | B40: 180
A41: Enfermera | B41: 653
A42: Técnico en Enfermería | B42: 933
A43: Matrona | B43: 0
A44: Kinesiólogo | B44: 426
A45: Psicólogo | B45: 0
A46: Fonoaudiólogo/a | B46: 19
A47: Trabajador/a Social | B47: 0
A48: Terapeuta Ocupacional | B48: 0
A49: SECCIÓN C.1.3: CUPOS DISPONIBLES EN UNIDAD DE HOSPITALIZACIÓN DOMICILIARIA
A50: COMPONENTES | B50: TOTAL | C50: N° de Cupos | D50: N° de cupos Campaña Invierno Adicionales | E50: N° de cupos Campaña de Invierno
A51: Número Cupos Programados | B51: =SUM(C51:E51) -> 930 | C51: 930 | D51: 0 | E51: 0
A52: Número Cupos Utilizados | B52: =SUM(C52:E52) -> 785 | C52: 785 | D52: 0 | E52: 0
A53: Número de Cupos Disponibles | B53: =SUM(C53:E53) -> 145 | C53: 145 | D53: 0 | E53: 0
A54: SECCIÓN C.2 ATENCIÓN VENTILATORIA EN DOMICILIO
A55: SECCIÓN C.2.1: ASISTENCIA VENTILATORIA Y OXÍGENO EN DOMICILIO
A56: TIPO DE ESTRATEGIA | B56: TOTAL | C56: 0-9 años | D56: 10 - 19 años | E56: 20 y más años | F56: N° de cupos Campaña de Invierno
A57: Estrategia de Asistencia Ventilatoria Invasiva en Domicilio | B57: =SUM(C57:E57) -> 0
A58: Estrategia de Asistencia Ventilatoria no Invasiva en Domicilio | B58: =SUM(C58:E58) -> 0
A59: Estrategia Oxígeno Domiciliario para pacientes Crónicos | B59: =SUM(C59:E59) -> 0
A60: SECCIÓN C.2.2: INGRESOS Y EGRESOS AL PROGRAMA ASISTENCIA VENTILATORIA EN DOMICILIO
A61: ACTIVIDAD | B61: INGRESOS | E61: Número de egresos | F61: Número de personas activas | G61: Número de controles médicos
B62: TOTAL (Ambos sexos) | C62: Hombres | D62: Mujeres
A63: Asistencia Ventilatoria Invasiva Infantil (AVI) | B63: =SUM(C63:D63) -> 0
A64: Asistencia Ventilatoria Invasiva Del Adulto (AVIA) | B64: =SUM(C64:D64) -> 0
A65: Asistencia Ventilatoria no Invasiva Infantil (AVNI) | B65: =SUM(C65:D65) -> 0
A66: Asistencia Ventilatoria no Invasiva Adulto (AVNIA) | B66: =SUM(C66:D66) -> 0
A67: Oxigenoterapia Ambulatorio Crónico Respiratorio Infantil | B67: =SUM(C67:D67) -> 0
A68: Oxigenoterapia Ambulatorio Crónico Respiratorio Adulto | B68: =SUM(C68:D68) -> 0
A69: TOTAL | B69: =SUM(B63:B68) -> 0 | C69: =SUM(C63:C68) -> 0 | D69: =SUM(D63:D68) -> 0 | E69: =SUM(E63:E68) -> 0 | F69: =SUM(F63:F68) -> 0 | G69: =SUM(G63:G68) -> 0
A70: SECCIÓN C.2.3: INGRESO PROGRAMA ASISTENCIA VENTILATORIA Y OXÍGENO EN DOMICILIO SEGÚN DIAGNÓSTICO
A71: CAUSAS DE INGRESO | B71: Asistencia Ventilatoria Invasiva Infantil (AVI) | C71: Asistencia Ventilatoria Invasiva Del Adulto (AVIA) | D71: Asistencia Ventilatoria no Invasiva Infantil (AVNI) | E71: Asistencia Ventilatoria no Invasiva Adulto (AVNIA) | F71: Oxigenoterapia Ambulatorio Crónico Respiratorio Infantil | G71: Oxigenoterapia Ambulatorio Crónico Respiratorio Adulto | H71: Pueblos originarios | I71: Migrantes
A72: Enfermedad neuromuscular
A73: Daño pulmonar crónico
A74: Daño sistema nervioso central
A75: Sindrome genético
A76: Displasia Broncopulmonar
A77: SECCIÓN D: APOYO PSICOSOCIAL EN NIÑOS, NIÑAS Y ADOLESCENTES HOSPITALIZADOS
A78: CONCEPTO | B78: INTERVENCIÓN | C78: TOTAL | D78: RANGO ETARIO
D79: Hasta 28 días | E79: 29 días hasta menor de 1 año | F79: 1 - 4 años | G79: 5 - 9 años | H79: 10 - 14 años | I79: 15 - 19 años
A80: TOTAL DE EGRESOS (en el período) | C80: =SUM(D80:I80) -> 187 | D80: 29 | E80: 5 | F80: 32 | G80: 36 | H80: 45 | I80: 40
A81: Egresados con Apoyo Psicosocial (en el período) | B81: Intervención Psicosocial | C81: =SUM(D81:I81) -> 36 | D81: 17 | E81: 8 | F81: 11
B82: Estimulación del Desarrollo | C82: =SUM(D82:I82) -> 3 | D82: 3 | E82: 0 | F82: 0
A83: Nº de Atenciones (en el mes) | B83: Intervención Psicosocial | C83: =SUM(D83:I83) -> 70 | D83: 32 | E83: 22 | F83: 16
B84: Estimulación del Desarrollo | C84: =SUM(D84:I84) -> 94 | D84: 77 | E84: 16 | F84: 1
A85: SECCIÓN E: GESTIÓN DE PROCESOS DE PACIENTES QUIRÚRGICOS CON CIRUGÍA ELECTIVA
A86: ESPECIALIDAD | B86: DÍAS DE ESTADA PREQUIRÚRGICOS | D86: PACIENTES INTERVENIDOS | F86: HORARIO HÁBIL | J86: INHABIL DE LUNES A VIERNES | N86: SÁBADO, DOMINGO Y FESTIVO
F87: Pacientes Programados | H87: Pacientes Suspendidos | J87: Pacientes Programados | L87: Pacientes Suspendidos | N87: Pacientes Programados | P87: Pacientes Suspendidos
B88: Menor de 15 años | C88: 15 y más años | D88: Menor de 15 años | E88: 15 y más años | F88: Menor de 15 años | G88: 15 y más años | H88: Menor de 15 años | I88: 15 y más años | J88: Menor de 15 años | K88: 15 y más años | L88: Menor de 15 años | M88: 15 y más años | N88: Menor de 15 años | O88: 15 y más años | P88: Menor de 15 años | Q88: 15 y más años
A89: Cirugía General | B89: 0 | C89: 4 | D89: 32 | E89: 134 | F89: 21 | G89: 83 | H89: 1 | I89: 3 | J89: 12 | K89: 51 | L89: 0 | M89: 0 | N89: 0 | O89: 5 | P89: 0 | Q89: 2 | R89: =AT89&AU89&AV89 | AT89: =IF((D89+E89)<((F89+G89)-(H89+I89)),"* La suma de "&D$86&""&" debe ser mayor o igual a la Diferencia de "&F$87&""&" menos Pacientes Suspendidos","") | BC89: =IF((D89+E89)<((F89+G89)-(H89+I89)),1,0) -> 0
A90: Cirugía Cardiovascular | R90: =AT90&AU90&AV90 | AT90: =IF((D90+E90)<((F90+G90)-(H90+I90)),"* La suma de "&D$86&""&" debe ser mayor o igual a la Diferencia de "&F$87&""&" menos Pacientes Suspendidos","") | BC90: =IF((D90+E90)<((F90+G90)-(H90+I90)),1,0) -> 0
A91: Cirugía Maxilofacial | B91: 0 | C91: 0 | D91: 0 | E91: 2 | F91: 0 | G91: 2 | H91: 0 | I91: 0 | J91: 0 | K91: 0 | L91: 0 | M91: 0 | R91: =AT91&AU91&AV91 | AT91: =IF((D91+E91)<((F91+G91)-(H91+I91)),"* La suma de "&D$86&""&" debe ser mayor o igual a la Diferencia de "&F$87&""&" menos Pacientes Suspendidos","") | BC91: =IF((D91+E91)<((F91+G91)-(H91+I91)),1,0) -> 0
A92: Cirugía Tórax | R92: =AT92&AU92&AV92 | AT92: =IF((D92+E92)<((F92+G92)-(H92+I92)),"* La suma de "&D$86&""&" debe ser mayor o igual a la Diferencia de "&F$87&""&" menos Pacientes Suspendidos","") | BC92: =IF((D92+E92)<((F92+G92)-(H92+I92)),1,0) -> 0
A93: Traumatología | B93: 0 | C93: 3 | D93: 13 | E93: 83 | F93: 12 | G93: 73 | H93: 0 | I93: 2 | J93: 1 | K93: 12 | L93: 0 | M93: 0 | R93: =AT93&AU93&AV93 | AT93: =IF((D93+E93)<((F93+G93)-(H93+I93)),"* La suma de "&D$86&""&" debe ser mayor o igual a la Diferencia de "&F$87&""&" menos Pacientes Suspendidos","") | BC93: =IF((D93+E93)<((F93+G93)-(H93+I93)),1,0) -> 0
A94: Neurocirugía | R94: =AT94&AU94&AV94 | AT94: =IF((D94+E94)<((F94+G94)-(H94+I94)),"* La suma de "&D$86&""&" debe ser mayor o igual a la Diferencia de "&F$87&""&" menos Pacientes Suspendidos","") | BC94: =IF((D94+E94)<((F94+G94)-(H94+I94)),1,0) -> 0
A95: Otorrinolaringología | B95: 0 | C95: 0 | D95: 33 | E95: 10 | F95: 10 | G95: 8 | H95: 0 | I95: 0 | J95: 19 | K95: 2 | L95: 0 | M95: 0 | N95: 4 | O95: 0 | P95: 0 | Q95: 0 | R95: =AT95&AU95&AV95 | AT95: =IF((D95+E95)<((F95+G95)-(H95+I95)),"* La suma de "&D$86&""&" debe ser mayor o igual a la Diferencia de "&F$87&""&" menos Pacientes Suspendidos","") | BC95: =IF((D95+E95)<((F95+G95)-(H95+I95)),1,0) -> 0
A96: Oftalmología | B96: 0 | C96: 0 | D96: 0 | E96: 186 | F96: 0 | G96: 60 | H96: 0 | I96: 1 | J96: 0 | K96: 13 | L96: 0 | M96: 3 | N96: 0 | O96: 118 | P96: 0 | Q96: 1 | R96: =AT96&AU96&AV96 | AT96: =IF((D96+E96)<((F96+G96)-(H96+I96)),"* La suma de "&D$86&""&" debe ser mayor o igual a la Diferencia de "&F$87&""&" menos Pacientes Suspendidos","") | BC96: =IF((D96+E96)<((F96+G96)-(H96+I96)),1,0) -> 0
A97: Obstetricia Y Ginecología | B97: 0 | C97: 0 | D97: 0 | E97: 47 | F97: 0 | G97: 9 | J97: 0 | K97: 39 | L97: 0 | M97: 1 | R97: =AT97&AU97&AV97 | AT97: =IF((D97+E97)<((F97+G97)-(H97+I97)),"* La suma de "&D$86&""&" debe ser mayor o igual a la Diferencia de "&F$87&""&" menos Pacientes Suspendidos","") | BC97: =IF((D97+E97)<((F97+G97)-(H97+I97)),1,0) -> 0
A98: Ginecología | B98: 1 | C98: 0 | D98: 1 | E98: 37 | F98: 1 | G98: 34 | H98: 0 | I98: 6 | J98: 0 | K98: 10 | L98: 0 | M98: 1 | R98: =AT98&AU98&AV98 | AT98: =IF((D98+E98)<((F98+G98)-(H98+I98)),"* La suma de "&D$86&""&" debe ser mayor o igual a la Diferencia de "&F$87&""&" menos Pacientes Suspendidos","") | BC98: =IF((D98+E98)<((F98+G98)-(H98+I98)),1,0) -> 0
A99: Urología | B99: 0 | C99: 1 | D99: 0 | E99: 9 | F99: 0 | G99: 6 | H99: 0 | I99: 1 | J99: 0 | K99: 4 | L99: 0 | M99: 0 | R99: =AT99&AU99&AV99 | AT99: =IF((D99+E99)<((F99+G99)-(H99+I99)),"* La suma de "&D$86&""&" debe ser mayor o igual a la Diferencia de "&F$87&""&" menos Pacientes Suspendidos","") | BC99: =IF((D99+E99)<((F99+G99)-(H99+I99)),1,0) -> 0
A100: Otras Especialidades | B100: 0 | C100: 0 | D100: 0 | E100: 3 | F100: 0 | G100: 0 | H100: 0 | I100: 0 | J100: 0 | K100: 1 | L100: 0 | M100: 0 | N100: 0 | O100: 2 | P100: 0 | Q100: 0 | R100: =AT100&AU100&AV100 | AT100: =IF((D100+E100)<((F100+G100)-(H100+I100)),"* La suma de "&D$86&""&" debe ser mayor o igual a la Diferencia de "&F$87&""&" menos Pacientes Suspendidos","") | BC100: =IF((D100+E100)<((F100+G100)-(H100+I100)),1,0) -> 0
A101: Odontología | R101: =AT101&AU101&AV101 | AT101: =IF((D101+E101)<((F101+G101)-(H101+I101)),"* La suma de "&D$86&""&" debe ser mayor o igual a la Diferencia de "&F$87&""&" menos Pacientes Suspendidos","") | BC101: =IF((D101+E101)<((F101+G101)-(H101+I101)),1,0) -> 0
A102: TOTAL | B102: =SUM(B89:B101) -> 1 | C102: =SUM(C89:C101) -> 8 | D102: =SUM(D89:D101) -> 79 | E102: =SUM(E89:E101) -> 511 | F102: =SUM(F89:F101) -> 44 | G102: =SUM(G89:G101) -> 275 | H102: =SUM(H89:H101) -> 1 | I102: =SUM(I89:I101) -> 13 | ... Q102: =SUM(Q89:Q101) -> 3
...

Sheet ABRIL
A1: SERVICIO DE SALUD
A2: =CONCATENATE("COMUNA: ",[5]NOMBRE!B2, " (",[5]NOMBRE!C2,[5]NOMBRE!D2,[5]NOMBRE!E2,[5]NOMBRE!F2,[5]NOMBRE!G2,")") -> COMUNA: LINARES (07401)
A3: =CONCATENATE("ESTABLECIMIENTO/ESTRATEGIA: ", [5]NOMBRE!B3, " (",[5]NOMBRE!C3,[5]NOMBRE!D3,[5]NOMBRE!E3,[5]NOMBRE!F3,[5]NOMBRE!G3,[5]NOMBRE!H3,")") -> ESTABLECIMIENTO/ESTRATEGIA: HOSPITAL PRESIDENTE CARLOS IBAÑEZ DEL CAMPO (116108)
A4: =CONCATENATE("MES: ",[5]NOMBRE!B6, " (",[5]NOMBRE!C6,[5]NOMBRE!D6,")") -> MES: ABRIL (04)
A5: =CONCATENATE("AÑO: ",[5]NOMBRE!B7) -> AÑO: 2025
A6: REM-21. QUIRÓFANOS Y OTROS RECURSOS HOSPITALARIOS
A8: SECCIÓN A: CAPACIDAD INSTALADA Y UTILIZACIÓN DE LOS QUIRÓFANOS CIRUGÍA MAYOR
A9: TIPO DE QUIRÓFANOS | B9: Número de Quirófanos en Dotación | C9: Promedio Mensual de Quirófanos Habilitados | D9: Promedio Mensual de Quirófanos en Trabajo | E9: Total de Horas Mensuales de Quirófanos Habilitados (Horario Hábil) | F9: Total de Horas Mensuales de Quirófanos en Trabajo (Horario Hábil) | G9: QUIRÓFANOS CIRUGIA MAYOR | Z9: CIRUGIAS MENORES Y PROCEDIMIENTOS *
G10: Horas Mensuales Programadas de Tabla Quirúrgica de Quirófanos en Trabajo, Horario Hábil | K10: Horas Mensuales Ocupadas de Quirófanos en Trabajo Horario Hábil | P10: Horas Mensuales Ocupadas de Quirófanos en Trabajo Horario Inhábil de Lunes a Viernes | U10: Horas Mensuales Ocupadas de Quirófanos en Trabajo Horario Sábado, Domingo y Festivo | Z10: Total Horas Mensuales Ocupadas de Quirófanos en Trabajo, Horario Hábil | AC10: Total Horas Mensuales Ocupadas de Quirófanos en Trabajo, Horario Inhábil
G12: Total | H12: Beneficiarios MAI | I12: Beneficiarios MLE | J12: Otros | K12: Total | L12: Beneficiarios MAI | M12: Beneficiarios MLE | N12: Otros | O12: De recambio | P12: Total | Q12: Beneficiarios MAI | R12: Beneficiarios MLE | S12: Otros | T12: De recambio | U12: Total | V12: Beneficiarios MAI | W12: Beneficiarios MLE | X12: Otros | Y12: De recambio | Z12: Total | AA12: Cirugía Menor | AB12: Otros Procedimientos | AC12: Total | AD12: Cirugía Menor | AE12: Otros Procedimientos
A13: TOTAL QUIRÓFANOS | B13: =SUM(B14:B17) -> 6 | C13: =SUM(C14:C17) -> 6 | D13: =SUM(D14:D17) -> 6 | E13: =SUM(E14:E17) -> 1545 | F13: =SUM(F14:F17) -> 1439 | G13: =SUM(G14:G17) -> 738 | H13: =SUM(H14:H17) -> 738 | I13: =SUM(I14:I17) -> 0 | ... AE13: =SUM(AE14:AE17) -> 3.54
A14: De Cirugía Electiva | B14: 5 | C14: 5 | D14: 5 | E14: 825 | F14: 738 | G14: =SUM(H14:J14) -> 738 | H14: 738 | I14: 0 | J14: 0 | K14: =SUM(L14:O14) -> 657.78 | L14: 520.7 | M14: 0 | N14: 3.08 | O14: 134 | P14: =SUM(Q14:T14) -> 219.72 | Q14: 12.65 | R14: 181.8 | S14: 8.95 | T14: 16.32 | U14: =SUM(V14:Y14) -> 40.42 | V14: 15.02 | W14: 12.43 | X14: 1.97 | Y14: 11 | Z14: =SUM(AA14:AB14) -> 62.61 | AA14: 38.36 | AB14: 24.25 | AC14: =SUM(AD14:AE14) -> 17.74 | AD14: 15.21 | AE14: 2.53
A15: De Urgencia | B15: 1 | C15: 1 | D15: 1 | E15: 720 | F15: 701 | G15: =SUM(H15:J15) -> 0 | H15: 0 | I15: 0 | J15: 0 | K15: =SUM(L15:O15) -> 69.45 | L15: 55.45 | M15: 0 | N15: 0 | O15: 14 | P15: =SUM(Q15:T15) -> 113.22 | Q15: 94.55 | R15: 0 | S15: 0 | T15: 18.67 | U15: =SUM(V15:Y15) -> 123.47 | V15: 102.47 | W15: 0 | X15: 0 | Y15: 21 | Z15: =SUM(AA15:AB15) -> 6.08 | AA15: 4 | AB15: 2.08 | AC15: =SUM(AD15:AE15) -> 7.69 | AD15: 6.68 | AE15: 1.01
A16: Obstétrico | G16: =SUM(H16:J16) -> 0 | K16: =SUM(L16:O16) -> 0 | P16: =SUM(Q16:T16) -> 0 | U16: =SUM(V16:Y16) -> 0 | Z16: =SUM(AA16:AB16) -> 0 | AC16: =SUM(AD16:AE16) -> 0
A17: Indiferenciado | G17: =SUM(H17:J17) -> 0 | K17: =SUM(L17:O17) -> 0 | P17: =SUM(Q17:T17) -> 0 | U17: =SUM(V17:Y17) -> 0 | Z17: =SUM(AA17:AB17) -> 0 | AC17: =SUM(AD17:AE17) -> 0
A18: * Las horas informadas en cirugía menores y procedimientos, deben estar contenidas en las horas ocupadas, en quirófanos para cirugía mayor.
A19: SECCIÓN B: PROCEDIMIENTOS COMPLEJOS AMBULATORIOS
A20: COMPONENTES | B20: TOTAL | C20: Hemodiálisis | D20: Cirugía Mayor Ambulatoria | E20: Coronariografía | F20: Otras
A21: Recurso Disponible | B21: =SUM(C21:F21) -> 10 | D21: 10
A22: Ingresos | B22: =SUM(C22:F22) -> 216 | D22: 216
A23: Personas Atendidas | B23: =SUM(C23:F23) -> 216 | D23: 216
A24: Días Personas Atendidas | B24: =SUM(C24:F24) -> 216 | D24: 216
A25: Altas | B25: =SUM(C25:F25) -> 216 | D25: 216
A26: SECCIÓN C: HOSPITALIZACIÓN DOMICILIARIA Y ATENCIÓN VENTILATORIA EN DOMICILIO
A27: SECCIÓN C.1:HOSPITALIZACIÓN DOMICILIARIA
A28: SECCIÓN C.1.1: PERSONAS ATENDIDAS EN EL PROGRAMA
A29: COMPONENTES | C29: TOTAL | D29: RANGO ETARIO | H29: ORIGEN DE LA DERIVACIÓN | N29: SEXO
D30: Menor de 15 años | E30: 15 - 19 años | F30: 20 - 59 años | G30: 60 y más años | H30: APS | I30: Urgencia | J30: Hospitalización | K30: Ambulatorio | L30: Ley de Urgencia | M30: UGCC | N30: Hombres | O30: Mujeres
A31: Ingresos | C31: =SUM(D31:G31) -> 87 | D31: 0 | E31: 1 | F31: 26 | G31: 60 | H31: 1 | I31: 47 | J31: 30 | K31: 6 | L31: 0 | M31: 3 | N31: 36 | O31: 51 | P31: =AW31&AX31&AY31&AZ31&BA31&BB31&BC31&BD31 | AW31: =IF(AND($C31>0,H31="")," * No olvide digitar la variable "&H$29&""&" APS. Digite CERO si no tiene.","") | AX31: =IF(AND($C31>0,I31="")," * No olvide digitar la variable "&$H$29&""&" Urgencia. Digite CERO si no tiene.","") | AY31: =IF(AND($C31>0,J31="")," * No olvide digitar la variable "&$H$29&""&" Hospitalización. Digite CERO si no tiene.","") | AZ31: =IF(AND($C31>0,K31="")," * No olvide digitar la variable "&$H$29&""&" Ambulatorio. Digite CERO si no tiene.","") | BA31: =IF(AND($C31>0,L31="")," * No olvide digitar la variable "&$H$29&""&" Ley de Urgencia. Digite CERO si no tiene.","") | BB31: =IF(AND($C31>0,M31="")," * No olvide digitar la variable "&$H$29&""&" UGCC. Digite CERO si no tiene.","") | BC31: =IF(AND(H31+I31+J31+K31+L31+M31>$C31)," * La variable "&$H$29&""&" No puede ser mayor al Total.","") | BD31: =IF(AND(N31+O31>$C31)," * La variable "&$N$29&""&" No puede ser mayor al Total.","") | BF31: =IF(AND($C31>0,H31=""),1,0) -> 0 | BG31: =IF(AND($C31>0,I31=""),1,0) -> 0 | BH31: =IF(AND($C31>0,J31=""),1,0) -> 0 | BI31: =IF(AND($C31>0,K31=""),1,0) -> 0 | BJ31: =IF(AND($C31>0,L31=""),1,0) -> 0 | BK31: =IF(AND($C31>0,M31=""),1,0) -> 0 | BL31: =IF(AND(H31+I31+J31+K31+L31+M31>$C31),1,0) -> 0 | BM31: =IF(AND(N31+O31>$C31),1,0) -> 0
A32: Personas Atendidas | C32: =SUM(D32:G32) -> 113 | D32: 0 | E32: 1 | F32: 35 | G32: 77 | N32: 48 | O32: 65 | P32: =BD32 | BD32: =IF(AND(N32+O32>$C32)," * La variable "&$N$29&""&" No puede ser mayor al Total.","") | BM32: =IF(AND(N32+O32>$C32),1,0) -> 0
A33: Días Personas Atendidas | C33: =SUM(D33:G33) -> 803 | D33: 0 | E33: 2 | F33: 211 | G33: 590 | N33: 351 | O33: 452 | P33: =BD33 | BD33: =IF(AND(N33+O33>$C33)," * La variable "&$N$29&""&" No puede ser mayor al Total.","") | BM33: =IF(AND(N33+O33>$C33),1,0) -> 0
A34: Altas | C34: =SUM(D34:G34) -> 78 | D34: 0 | E34: 1 | F34: 21 | G34: 56 | N34: 33 | O34: 45 | P34: =BD34 | BD34: =IF(AND(N34+O34>$C34)," * La variable "&$N$29&""&" No puede ser mayor al Total.","") | BM34: =IF(AND(N34+O34>$C34),1,0) -> 0
A35: Fallecidos | B35: Esperados | C35: =SUM(D35:G35) -> 2 | D35: 0 | E35: 0 | F35: 1 | G35: 1 | N35: 0 | O35: 2 | P35: =BD35 | BD35: =IF(AND(N35+O35>$C35)," * La variable "&$N$29&""&" No puede ser mayor al Total.","") | BM35: =IF(AND(N35+O35>$C35),1,0) -> 0
B36: No esperados | C36: =SUM(D36:G36) -> 0 | D36: 0 | E36: 0 | F36: 0 | G36: 0 | N36: 0 | O36: 0 | P36: =BD36 | BD36: =IF(AND(N36+O36>$C36)," * La variable "&$N$29&""&" No puede ser mayor al Total.","") | BM36: =IF(AND(N36+O36>$C36),1,0) -> 0
A37: Reingresos a Hospitalización Tradicional | C37: =SUM(D37:G37) -> 6 | D37: 0 | E37: 0 | F37: 3 | G37: 3 | N37: 4 | O37: 2 | P37: =BD37 | BD37: =IF(AND(N37+O37>$C37)," * La variable "&$N$29&""&" No puede ser mayor al Total.","") | BM37: =IF(AND(N37+O37>$C37),1,0) -> 0
A38: SECCIÓN C.1.2: VISITAS REALIZADAS
A39: PROFESIONALES | B39: Total de Visitas
A40: Médico | B40: 211
A41: Enfermera | B41: 603
A42: Técnico en Enfermería | B42: 882
A43: Matrona | B43: 0
A44: Kinesiólogo | B44: 519
A45: Psicólogo | B45: 0
A46: Fonoaudiólogo/a | B46: 16
A47: Trabajador/a Social | B47: 0
A48: Terapeuta Ocupacional | B48: 0
A49: SECCIÓN C.1.3: CUPOS DISPONIBLES EN UNIDAD DE HOSPITALIZACIÓN DOMICILIARIA
A50: COMPONENTES | B50: TOTAL | C50: N° de Cupos | D50: N° de cupos Campaña Invierno Adicionales | E50: N° de cupos Campaña de Invierno
A51: Número Cupos Programados | B51: =SUM(C51:E51) -> 900 | C51: 900 | D51: 0 | E51: 0
A52: Número Cupos Utilizados | B52: =SUM(C52:E52) -> 803 | C52: 803 | D52: 0 | E52: 0
A53: Número de Cupos Disponibles | B53: =SUM(C53:E53) -> 97 | C53: 97 | D53: 0 | E53: 0
A54: SECCIÓN C.2 ATENCIÓN VENTILATORIA EN DOMICILIO
A55: SECCIÓN C.2.1: ASISTENCIA VENTILATORIA Y OXÍGENO EN DOMICILIO
A56: TIPO DE ESTRATEGIA | B56: TOTAL | C56: 0-9 años | D56: 10 - 19 años | E56: 20 y más años | F56: N° de cupos Campaña de Invierno
A57: Estrategia de Asistencia Ventilatoria Invasiva en Domicilio | B57: =SUM(C57:E57) -> 0
A58: Estrategia de Asistencia Ventilatoria no Invasiva en Domicilio | B58: =SUM(C58:E58) -> 0
A59: Estrategia Oxígeno Domiciliario para pacientes Crónicos | B59: =SUM(C59:E59) -> 0
A60: SECCIÓN C.2.2: INGRESOS Y EGRESOS AL PROGRAMA ASISTENCIA VENTILATORIA EN DOMICILIO
A61: ACTIVIDAD | B61: INGRESOS | E61: Número de egresos | F61: Número de personas activas | G61: Número de controles médicos
B62: TOTAL (Ambos sexos) | C62: Hombres | D62: Mujeres
A63: Asistencia Ventilatoria Invasiva Infantil (AVI) | B63: =SUM(C63:D63) -> 0
A64: Asistencia Ventilatoria Invasiva Del Adulto (AVIA) | B64: =SUM(C64:D64) -> 0
A65: Asistencia Ventilatoria no Invasiva Infantil (AVNI) | B65: =SUM(C65:D65) -> 0
A66: Asistencia Ventilatoria no Invasiva Adulto (AVNIA) | B66: =SUM(C66:D66) -> 0
A67: Oxigenoterapia Ambulatorio Crónico Respiratorio Infantil | B67: =SUM(C67:D67) -> 0
A68: Oxigenoterapia Ambulatorio Crónico Respiratorio Adulto | B68: =SUM(C68:D68) -> 0
A69: TOTAL | B69: =SUM(B63:B68) -> 0 | C69: =SUM(C63:C68) -> 0 | D69: =SUM(D63:D68) -> 0 | E69: =SUM(E63:E68) -> 0 | F69: =SUM(F63:F68) -> 0 | G69: =SUM(G63:G68) -> 0
A70: SECCIÓN C.2.3: INGRESO PROGRAMA ASISTENCIA VENTILATORIA Y OXÍGENO EN DOMICILIO SEGÚN DIAGNÓSTICO
A71: CAUSAS DE INGRESO | B71: Asistencia Ventilatoria Invasiva Infantil (AVI) | C71: Asistencia Ventilatoria Invasiva Del Adulto (AVIA) | D71: Asistencia Ventilatoria no Invasiva Infantil (AVNI) | E71: Asistencia Ventilatoria no Invasiva Adulto (AVNIA) | F71: Oxigenoterapia Ambulatorio Crónico Respiratorio Infantil | G71: Oxigenoterapia Ambulatorio Crónico Respiratorio Adulto | H71: Pueblos originarios | I71: Migrantes
A72: Enfermedad neuromuscular
A73: Daño pulmonar crónico
A74: Daño sistema nervioso central
A75: Sindrome genético
A76: Displasia Broncopulmonar
A77: SECCIÓN D: APOYO PSICOSOCIAL EN NIÑOS, NIÑAS Y ADOLESCENTES HOSPITALIZADOS
A78: CONCEPTO | B78: INTERVENCIÓN | C78: TOTAL | D78: RANGO ETARIO
D79: Hasta 28 días | E79: 29 días hasta menor de 1 año | F79: 1 - 4 años | G79: 5 - 9 años | H79: 10 - 14 años | I79: 15 - 19 años
A80: TOTAL DE EGRESOS (en el período) | C80: =SUM(D80:I80) -> 191 | D80: 24 | E80: 12 | F80: 34 | G80: 46 | H80: 40 | I80: 35
A81: Egresados con Apoyo Psicosocial (en el período) | B81: Intervención Psicosocial | C81: =SUM(D81:I81) -> 104 | D81: 51 | E81: 27 | F81: 26
B82: Estimulación del Desarrollo | C82: =SUM(D82:I82) -> 97 | D82: 63 | E82: 17 | F82: 17
A83: Nº de Atenciones (en el mes) | B83: Intervención Psicosocial | C83: =SUM(D83:I83) -> 144 | D83: 72 | E83: 30 | F83: 42
B84: Estimulación del Desarrollo | C84: =SUM(D84:I84) -> 122 | D84: 88 | E84: 17 | F84: 17
A85: SECCIÓN E: GESTIÓN DE PROCESOS DE PACIENTES QUIRÚRGICOS CON CIRUGÍA ELECTIVA
A86: ESPECIALIDAD | B86: DÍAS DE ESTADA PREQUIRÚRGICOS | D86: PACIENTES INTERVENIDOS | F86: HORARIO HÁBIL | J86: INHABIL DE LUNES A VIERNES | N86: SÁBADO, DOMINGO Y FESTIVO
F87: Pacientes Programados | H87: Pacientes Suspendidos | J87: Pacientes Programados | L87: Pacientes Suspendidos | N87: Pacientes Programados | P87: Pacientes Suspendidos
B88: Menor de 15 años | C88: 15 y más años | D88: Menor de 15 años | E88: 15 y más años | F88: Menor de 15 años | G88: 15 y más años | H88: Menor de 15 años | I88: 15 y más años | J88: Menor de 15 años | K88: 15 y más años | L88: Menor de 15 años | M88: 15 y más años | N88: Menor de 15 años | O88: 15 y más años | P88: Menor de 15 años | Q88: 15 y más años
A89: Cirugía General | C89: 2 | D89: 54 | E89: 165 | F89: 36 | G89: =75+6+29 -> 110 | H89: 1 | I89: 6 | J89: 19 | K89: =56+3 -> 59 | M89: 2 | O89: 4 | R89: =AT89&AU89&AV89 | AT89: =IF((D89+E89)<((F89+G89)-(H89+I89)),"* La suma de "&D$86&""&" debe ser mayor o igual a la Diferencia de "&F$87&""&" menos Pacientes Suspendidos","") | BC89: =IF((D89+E89)<((F89+G89)-(H89+I89)),1,0) -> 0
A90: Cirugía Cardiovascular | R90: =AT90&AU90&AV90 | AT90: =IF((D90+E90)<((F90+G90)-(H90+I90)),"* La suma de "&D$86&""&" debe ser mayor o igual a la Diferencia de "&F$87&""&" menos Pacientes Suspendidos","") | BC90: =IF((D90+E90)<((F90+G90)-(H90+I90)),1,0) -> 0
A91: Cirugía Maxilofacial | C91: 2 | D91: 1 | E91: 4 | F91: 1 | G91: 4 | R91: =AT91&AU91&AV91 | AT91: =IF((D91+E91)<((F91+G91)-(H91+I91)),"* La suma de "&D$86&""&" debe ser mayor o igual a la Diferencia de "&F$87&""&" menos Pacientes Suspendidos","") | BC91: =IF((D91+E91)<((F91+G91)-(H91+I91)),1,0) -> 0
A92: Cirugía Tórax | R92: =AT92&AU92&AV92 | AT92: =IF((D92+E92)<((F92+G92)-(H92+I92)),"* La suma de "&D$86&""&" debe ser mayor o igual a la Diferencia de "&F$87&""&" menos Pacientes Suspendidos","") | BC92: =IF((D92+E92)<((F92+G92)-(H92+I92)),1,0) -> 0
A93: Traumatología | C93: 3 | D93: 11 | E93: 73 | F93: 11 | G93: 74 | H93: 1 | I93: 8 | J93: 1 | K93: 5 | O93: 2 | R93: =AT93&AU93&AV93 | AT93: =IF((D93+E93)<((F93+G93)-(H93+I93)),"* La suma de "&D$86&""&" debe ser mayor o igual a la Diferencia de "&F$87&""&" menos Pacientes Suspendidos","") | BC93: =IF((D93+E93)<((F93+G93)-(H93+I93)),1,0) -> 0
A94: Neurocirugía | R94: =AT94&AU94&AV94 | AT94: =IF((D94+E94)<((F94+G94)-(H94+I94)),"* La suma de "&D$86&""&" debe ser mayor o igual a la Diferencia de "&F$87&""&" menos Pacientes Suspendidos","") | BC94: =IF((D94+E94)<((F94+G94)-(H94+I94)),1,0) -> 0
A95: Otorrinolaringología | D95: 29 | E95: 12 | F95: 13 | G95: 6 | H95: 1 | J95: 15 | K95: 6 | N95: 2 | R95: =AT95&AU95&AV95 | AT95: =IF((D95+E95)<((F95+G95)-(H95+I95)),"* La suma de "&D$86&""&" debe ser mayor o igual a la Diferencia de "&F$87&""&" menos Pacientes Suspendidos","") | BC95: =IF((D95+E95)<((F95+G95)-(H95+I95)),1,0) -> 0
A96: Oftalmología | E96: 42 | G96: 13 | I96: 1 | K96: 14 | O96: 16 | R96: =AT96&AU96&AV96 | AT96: =IF((D96+E96)<((F96+G96)-(H96+I96)),"* La suma de "&D$86&""&" debe ser mayor o igual a la Diferencia de "&F$87&""&" menos Pacientes Suspendidos","") | BC96: =IF((D96+E96)<((F96+G96)-(H96+I96)),1,0) -> 0
A97: Obstetricia Y Ginecología | E97: 46 | G97: 7 | K97: 38 | O97: 1 | R97: =AT97&AU97&AV97 | AT97: =IF((D97+E97)<((F97+G97)-(H97+I97)),"* La suma de "&D$86&""&" debe ser mayor o igual a la Diferencia de "&F$87&""&" menos Pacientes Suspendidos","") | BC97: =IF((D97+E97)<((F97+G97)-(H97+I97)),1,0) -> 0
A98: Ginecología | C98: 0 | E98: 52 | G98: 40 | I98: 1 | K98: 13 | M98: 1 | O98: 1 | R98: =AT98&AU98&AV98 | AT98: =IF((D98+E98)<((F98+G98)-(H98+I98)),"* La suma de "&D$86&""&" debe ser mayor o igual a la Diferencia de "&F$87&""&" menos Pacientes Suspendidos","") | BC98: =IF((D98+E98)<((F98+G98)-(H98+I98)),1,0) -> 0
A99: Urología | C99: 2 | E99: 18 | G99: 7 | I99: 1 | K99: 7 | O99: 5 | R99: =AT99&AU99&AV99 | AT99: =IF((D99+E99)<((F99+G99)-(H99+I99)),"* La suma de "&D$86&""&" debe ser mayor o igual a la Diferencia de "&F$87&""&" menos Pacientes Suspendidos","") | BC99: =IF((D99+E99)<((F99+G99)-(H99+I99)),1,0) -> 0
A100: Otras Especialidades | E100: 5 | G100: 2 | O100: 3 | R100: =AT100&AU100&AV100 | AT100: =IF((D100+E100)<((F100+G100)-(H100+I100)),"* La suma de "&D$86&""&" debe ser mayor o igual a la Diferencia de "&F$87&""&" menos Pacientes Suspendidos","") | BC100: =IF((D100+E100)<((F100+G100)-(H100+I100)),1,0) -> 0
A101: Odontología | R101: =AT101&AU101&AV101 | AT101: =IF((D101+E101)<((F101+G101)-(H101+I101)),"* La suma de "&D$86&""&" debe ser mayor o igual a la Diferencia de "&F$87&""&" menos Pacientes Suspendidos","") | BC101: =IF((D101+E101)<((F101+G101)-(H101+I101)),1,0) -> 0
A102: TOTAL | B102: =SUM(B89:B101) -> 0 | C102: =SUM(C89:C101) -> 9 | D102: =SUM(D89:D101) -> 95 | E102: =SUM(E89:E101) -> 417 | F102: =SUM(F89:F101) -> 61 | G102: =SUM(G89:G101) -> 263 | H102: =SUM(H89:H101) -> 3 | I102: =SUM(I89:I101) -> 17 | ... Q102: =SUM(Q89:Q101) -> 0
...

Sheet MAYO
A1: SERVICIO DE SALUD
A2: =CONCATENATE("COMUNA: ",[6]NOMBRE!B2, " (",[6]NOMBRE!C2,[6]NOMBRE!D2,[6]NOMBRE!E2,[6]NOMBRE!F2,[6]NOMBRE!G2,")") -> COMUNA: LINARES (07401)
A3: =CONCATENATE("ESTABLECIMIENTO/ESTRATEGIA: ", [6]NOMBRE!B3, " (",[6]NOMBRE!C3,[6]NOMBRE!D3,[6]NOMBRE!E3,[6]NOMBRE!F3,[6]NOMBRE!G3,[6]NOMBRE!H3,")") -> ESTABLECIMIENTO/ESTRATEGIA: HOSPITAL PRESIDENTE CARLOS IBAÑEZ DEL CAMPO (116108)
A4: =CONCATENATE("MES: ",[6]NOMBRE!B6, " (",[6]NOMBRE!C6,[6]NOMBRE!D6,")") -> MES: MAYO (05)
A5: =CONCATENATE("AÑO: ",[6]NOMBRE!B7) -> AÑO: 2025
A6: REM-21. QUIRÓFANOS Y OTROS RECURSOS HOSPITALARIOS
A8: SECCIÓN A: CAPACIDAD INSTALADA Y UTILIZACIÓN DE LOS QUIRÓFANOS CIRUGÍA MAYOR
A9: TIPO DE QUIRÓFANOS | B9: Número de Quirófanos en Dotación | C9: Promedio Mensual de Quirófanos Habilitados | D9: Promedio Mensual de Quirófanos en Trabajo | E9: Total de Horas Mensuales de Quirófanos Habilitados (Horario Hábil) | F9: Total de Horas Mensuales de Quirófanos en Trabajo (Horario Hábil) | G9: QUIRÓFANOS CIRUGIA MAYOR | Z9: CIRUGIAS MENORES Y PROCEDIMIENTOS *
G10: Horas Mensuales Programadas de Tabla Quirúrgica de Quirófanos en Trabajo, Horario Hábil | K10: Horas Mensuales Ocupadas de Quirófanos en Trabajo Horario Hábil | P10: Horas Mensuales Ocupadas de Quirófanos en Trabajo Horario Inhábil de Lunes a Viernes | U10: Horas Mensuales Ocupadas de Quirófanos en Trabajo Horario Sábado, Domingo y Festivo | Z10: Total Horas Mensuales Ocupadas de Quirófanos en Trabajo, Horario Hábil | AC10: Total Horas Mensuales Ocupadas de Quirófanos en Trabajo, Horario Inhábil
G12: Total | H12: Beneficiarios MAI | I12: Beneficiarios MLE | J12: Otros | K12: Total | L12: Beneficiarios MAI | M12: Beneficiarios MLE | N12: Otros | O12: De recambio | P12: Total | Q12: Beneficiarios MAI | R12: Beneficiarios MLE | S12: Otros | T12: De recambio | U12: Total | V12: Beneficiarios MAI | W12: Beneficiarios MLE | X12: Otros | Y12: De recambio | Z12: Total | AA12: Cirugía Menor | AB12: Otros Procedimientos | AC12: Total | AD12: Cirugía Menor | AE12: Otros Procedimientos
A13: TOTAL QUIRÓFANOS | B13: =SUM(B14:B17) -> 6 | C13: =SUM(C14:C17) -> 6 | D13: =SUM(D14:D17) -> 6 | E13: =SUM(E14:E17) -> 1519 | F13: =SUM(F14:F17) -> 1366 | G13: =SUM(G14:G17) -> 679 | H13: =SUM(H14:H17) -> 679 | I13: =SUM(I14:I17) -> 0 | ... AE13: =SUM(AE14:AE17) -> 18.22
A14: De Cirugía Electiva | B14: 5 | C14: 5 | D14: 5 | E14: 775 | F14: 679 | G14: =SUM(H14:J14) -> 679 | H14: 679 | I14: 0 | J14: 0 | K14: =SUM(L14:O14) -> 685.18 | L14: 513.85 | M14: 7.23 | N14: 1.1 | O14: 163 | P14: =SUM(Q14:T14) -> 184.48 | Q14: 10.52 | R14: 146.12 | S14: 11.32 | T14: 16.52 | U14: =SUM(V14:Y14) -> 161.65 | V14: 89.5 | W14: 1.82 | X14: 0 | Y14: 70.33 | Z14: =SUM(AA14:AB14) -> 53.8 | AA14: 37 | AB14: 16.8 | AC14: =SUM(AD14:AE14) -> 17.99 | AD14: 5.63 | AE14: 12.36
A15: De Urgencia | B15: 1 | C15: 1 | D15: 1 | E15: 744 | F15: 687 | G15: =SUM(H15:J15) -> 0 | H15: 0 | I15: 0 | J15: 0 | K15: =SUM(L15:O15) -> 100.11 | L15: 85.78 | M15: 0 | N15: 0 | O15: 14.33 | P15: =SUM(Q15:T15) -> 117.95 | Q15: 96.95 | R15: 0 | S15: 0 | T15: 21 | U15: =SUM(V15:Y15) -> 103.04 | V15: 88.37 | W15: 0 | X15: 0 | Y15: 14.67 | Z15: =SUM(AA15:AB15) -> 10.8 | AA15: 7.6 | AB15: 3.2 | AC15: =SUM(AD15:AE15) -> 15.54 | AD15: 9.68 | AE15: 5.86
A16: Obstétrico | G16: =SUM(H16:J16) -> 0 | K16: =SUM(L16:O16) -> 0 | P16: =SUM(Q16:T16) -> 0 | U16: =SUM(V16:Y16) -> 0 | Z16: =SUM(AA16:AB16) -> 0 | AC16: =SUM(AD16:AE16) -> 0
A17: Indiferenciado | G17: =SUM(H17:J17) -> 0 | K17: =SUM(L17:O17) -> 0 | P17: =SUM(Q17:T17) -> 0 | U17: =SUM(V17:Y17) -> 0 | Z17: =SUM(AA17:AB17) -> 0 | AC17: =SUM(AD17:AE17) -> 0
A18: * Las horas informadas en cirugía menores y procedimientos, deben estar contenidas en las horas ocupadas, en quirófanos para cirugía mayor.
A19: SECCIÓN B: PROCEDIMIENTOS COMPLEJOS AMBULATORIOS
A20: COMPONENTES | B20: TOTAL | C20: Hemodiálisis | D20: Cirugía Mayor Ambulatoria | E20: Coronariografía | F20: Otras
A21: Recurso Disponible | B21: =SUM(C21:F21) -> 10 | D21: 10
A22: Ingresos | B22: =SUM(C22:F22) -> 527 | D22: 527
A23: Personas Atendidas | B23: =SUM(C23:F23) -> 527 | D23: 527
A24: Días Personas Atendidas | B24: =SUM(C24:F24) -> 527 | D24: 527
A25: Altas | B25: =SUM(C25:F25) -> 525 | D25: 525
A26: SECCIÓN C: HOSPITALIZACIÓN DOMICILIARIA Y ATENCIÓN VENTILATORIA EN DOMICILIO
A27: SECCIÓN C.1:HOSPITALIZACIÓN DOMICILIARIA
A28: SECCIÓN C.1.1: PERSONAS ATENDIDAS EN EL PROGRAMA
A29: COMPONENTES | C29: TOTAL | D29: RANGO ETARIO | H29: ORIGEN DE LA DERIVACIÓN | N29: SEXO
D30: Menor de 15 años | E30: 15 - 19 años | F30: 20 - 59 años | G30: 60 y más años | H30: APS | I30: Urgencia | J30: Hospitalización | K30: Ambulatorio | L30: Ley de Urgencia | M30: UGCC | N30: Hombres | O30: Mujeres
A31: Ingresos | C31: =SUM(D31:G31) -> 97 | D31: 0 | E31: 0 | F31: 2 | G31: 95 | H31: 3 | I31: 44 | J31: 40 | K31: 8 | L31: 0 | M31: 2 | N31: 45 | O31: 52 | P31: =AW31&AX31&AY31&AZ31&BA31&BB31&BC31&BD31 | AW31: =IF(AND($C31>0,H31="")," * No olvide digitar la variable "&H$29&""&" APS. Digite CERO si no tiene.","") | AX31: =IF(AND($C31>0,I31="")," * No olvide digitar la variable "&$H$29&""&" Urgencia. Digite CERO si no tiene.","") | AY31: =IF(AND($C31>0,J31="")," * No olvide digitar la variable "&$H$29&""&" Hospitalización. Digite CERO si no tiene.","") | AZ31: =IF(AND($C31>0,K31="")," * No olvide digitar la variable "&$H$29&""&" Ambulatorio. Digite CERO si no tiene.","") | BA31: =IF(AND($C31>0,L31="")," * No olvide digitar la variable "&$H$29&""&" Ley de Urgencia. Digite CERO si no tiene.","") | BB31: =IF(AND($C31>0,M31="")," * No olvide digitar la variable "&$H$29&""&" UGCC. Digite CERO si no tiene.","") | BC31: =IF(AND(H31+I31+J31+K31+L31+M31>$C31)," * La variable "&$H$29&""&" No puede ser mayor al Total.","") | BD31: =IF(AND(N31+O31>$C31)," * La variable "&$N$29&""&" No puede ser mayor al Total.","") | BF31: =IF(AND($C31>0,H31=""),1,0) -> 0 | BG31: =IF(AND($C31>0,I31=""),1,0) -> 0 | BH31: =IF(AND($C31>0,J31=""),1,0) -> 0 | BI31: =IF(AND($C31>0,K31=""),1,0) -> 0 | BJ31: =IF(AND($C31>0,L31=""),1,0) -> 0 | BK31: =IF(AND($C31>0,M31=""),1,0) -> 0 | BL31: =IF(AND(H31+I31+J31+K31+L31+M31>$C31),1,0) -> 0 | BM31: =IF(AND(N31+O31>$C31),1,0) -> 0
A32: Personas Atendidas | C32: =SUM(D32:G32) -> 124 | D32: 0 | E32: 0 | F32: 4 | G32: 120 | N32: 56 | O32: 68 | P32: =BD32 | BD32: =IF(AND(N32+O32>$C32)," * La variable "&$N$29&""&" No puede ser mayor al Total.","") | BM32: =IF(AND(N32+O32>$C32),1,0) -> 0
A33: Días Personas Atendidas | C33: =SUM(D33:G33) -> 938 | D33: 0 | E33: 0 | F33: 32 | G33: 906 | N33: 463 | O33: 475 | P33: =BD33 | BD33: =IF(AND(N33+O33>$C33)," * La variable "&$N$29&""&" No puede ser mayor al Total.","") | BM33: =IF(AND(N33+O33>$C33),1,0) -> 0
A34: Altas | C34: =SUM(D34:G34) -> 83 | D34: 0 | E34: 0 | F34: 4 | G34: 79 | N34: 32 | O34: 51 | P34: =BD34 | BD34: =IF(AND(N34+O34>$C34)," * La variable "&$N$29&""&" No puede ser mayor al Total.","") | BM34: =IF(AND(N34+O34>$C34),1,0) -> 0
A35: Fallecidos | B35: Esperados | C35: =SUM(D35:G35) -> 7 | D35: 0 | E35: 0 | F35: 0 | G35: 7 | N35: 4 | O35: 3 | P35: =BD35 | BD35: =IF(AND(N35+O35>$C35)," * La variable "&$N$29&""&" No puede ser mayor al Total.","") | BM35: =IF(AND(N35+O35>$C35),1,0) -> 0
B36: No esperados | C36: =SUM(D36:G36) -> 0 | D36: 0 | E36: 0 | F36: 0 | G36: 0 | N36: 0 | O36: 0 | P36: =BD36 | BD36: =IF(AND(N36+O36>$C36)," * La variable "&$N$29&""&" No puede ser mayor al Total.","") | BM36: =IF(AND(N36+O36>$C36),1,0) -> 0
A37: Reingresos a Hospitalización Tradicional | C37: =SUM(D37:G37) -> 4 | D37: 0 | E37: 0 | F37: 0 | G37: 4 | N37: 3 | O37: 1 | P37: =BD37 | BD37: =IF(AND(N37+O37>$C37)," * La variable "&$N$29&""&" No puede ser mayor al Total.","") | BM37: =IF(AND(N37+O37>$C37),1,0) -> 0
A38: SECCIÓN C.1.2: VISITAS REALIZADAS
A39: PROFESIONALES | B39: Total de Visitas
A40: Médico | B40: 216
A41: Enfermera | B41: 658
A42: Técnico en Enfermería | B42: 1005
A43: Matrona | B43: 0
A44: Kinesiólogo | B44: 598
A45: Psicólogo | B45: 0
A46: Fonoaudiólogo/a | B46: 32
A47: Trabajador/a Social | B47: 0
A48: Terapeuta Ocupacional | B48: 0
A49: SECCIÓN C.1.3: CUPOS DISPONIBLES EN UNIDAD DE HOSPITALIZACIÓN DOMICILIARIA
A50: COMPONENTES | B50: TOTAL | C50: N° de Cupos | D50: N° de cupos Campaña Invierno Adicionales | E50: N° de cupos Campaña de Invierno
A51: Número Cupos Programados | B51: =SUM(C51:E51) -> 966 | C51: 966 | D51: 0 | E51: 0
A52: Número Cupos Utilizados | B52: =SUM(C52:E52) -> 938 | C52: 938 | D52: 0 | E52: 0
A53: Número de Cupos Disponibles | B53: =SUM(C53:E53) -> 28 | C53: 28 | D53: 0 | E53: 0
A54: SECCIÓN C.2 ATENCIÓN VENTILATORIA EN DOMICILIO
A55: SECCIÓN C.2.1: ASISTENCIA VENTILATORIA Y OXÍGENO EN DOMICILIO
A56: TIPO DE ESTRATEGIA | B56: TOTAL | C56: 0-9 años | D56: 10 - 19 años | E56: 20 y más años | F56: N° de cupos Campaña de Invierno
A57: Estrategia de Asistencia Ventilatoria Invasiva en Domicilio | B57: =SUM(C57:E57) -> 0
A58: Estrategia de Asistencia Ventilatoria no Invasiva en Domicilio | B58: =SUM(C58:E58) -> 0
A59: Estrategia Oxígeno Domiciliario para pacientes Crónicos | B59: =SUM(C59:E59) -> 0
A60: SECCIÓN C.2.2: INGRESOS Y EGRESOS AL PROGRAMA ASISTENCIA VENTILATORIA EN DOMICILIO
A61: ACTIVIDAD | B61: INGRESOS | E61: Número de egresos | F61: Número de personas activas | G61: Número de controles médicos
B62: TOTAL (Ambos sexos) | C62: Hombres | D62: Mujeres
A63: Asistencia Ventilatoria Invasiva Infantil (AVI) | B63: =SUM(C63:D63) -> 0
A64: Asistencia Ventilatoria Invasiva Del Adulto (AVIA) | B64: =SUM(C64:D64) -> 0
A65: Asistencia Ventilatoria no Invasiva Infantil (AVNI) | B65: =SUM(C65:D65) -> 0
A66: Asistencia Ventilatoria no Invasiva Adulto (AVNIA) | B66: =SUM(C66:D66) -> 0
A67: Oxigenoterapia Ambulatorio Crónico Respiratorio Infantil | B67: =SUM(C67:D67) -> 0
A68: Oxigenoterapia Ambulatorio Crónico Respiratorio Adulto | B68: =SUM(C68:D68) -> 0
A69: TOTAL | B69: =SUM(B63:B68) -> 0 | C69: =SUM(C63:C68) -> 0 | D69: =SUM(D63:D68) -> 0 | E69: =SUM(E63:E68) -> 0 | F69: =SUM(F63:F68) -> 0 | G69: =SUM(G63:G68) -> 0
A70: SECCIÓN C.2.3: INGRESO PROGRAMA ASISTENCIA VENTILATORIA Y OXÍGENO EN DOMICILIO SEGÚN DIAGNÓSTICO
A71: CAUSAS DE INGRESO | B71: Asistencia Ventilatoria Invasiva Infantil (AVI) | C71: Asistencia Ventilatoria Invasiva Del Adulto (AVIA) | D71: Asistencia Ventilatoria no Invasiva Infantil (AVNI) | E71: Asistencia Ventilatoria no Invasiva Adulto (AVNIA) | F71: Oxigenoterapia Ambulatorio Crónico Respiratorio Infantil | G71: Oxigenoterapia Ambulatorio Crónico Respiratorio Adulto | H71: Pueblos originarios | I71: Migrantes
A72: Enfermedad neuromuscular
A73: Daño pulmonar crónico
A74: Daño sistema nervioso central
A75: Sindrome genético
A76: Displasia Broncopulmonar
A77: SECCIÓN D: APOYO PSICOSOCIAL EN NIÑOS, NIÑAS Y ADOLESCENTES HOSPITALIZADOS
A78: CONCEPTO | B78: INTERVENCIÓN | C78: TOTAL | D78: RANGO ETARIO
D79: Hasta 28 días | E79: 29 días hasta menor de 1 año | F79: 1 - 4 años | G79: 5 - 9 años | H79: 10 - 14 años | I79: 15 - 19 años
A80: TOTAL DE EGRESOS (en el período) | C80: =SUM(D80:I80) -> 139 | D80: 24 | E80: 13 | F80: 26 | G80: 23 | H80: 27 | I80: 26
A81: Egresados con Apoyo Psicosocial (en el período) | B81: Intervención Psicosocial | C81: =SUM(D81:I81) -> 100 | D81: 55 | E81: 26 | F81: 19
B82: Estimulación del Desarrollo | C82: =SUM(D82:I82) -> 81 | D82: 51 | E82: 27 | F82: 3
A83: Nº de Atenciones (en el mes) | B83: Intervención Psicosocial | C83: =SUM(D83:I83) -> 130 | D83: 71 | E83: 38 | F83: 21
B84: Estimulación del Desarrollo | C84: =SUM(D84:I84) -> 126 | D84: 76 | E84: 46 | F84: 4
A85: SECCIÓN E: GESTIÓN DE PROCESOS DE PACIENTES QUIRÚRGICOS CON CIRUGÍA ELECTIVA
A86: ESPECIALIDAD | B86: DÍAS DE ESTADA PREQUIRÚRGICOS | D86: PACIENTES INTERVENIDOS | F86: HORARIO HÁBIL | J86: INHABIL DE LUNES A VIERNES | N86: SÁBADO, DOMINGO Y FESTIVO
F87: Pacientes Programados | H87: Pacientes Suspendidos | J87: Pacientes Programados | L87: Pacientes Suspendidos | N87: Pacientes Programados | P87: Pacientes Suspendidos
B88: Menor de 15 años | C88: 15 y más años | D88: Menor de 15 años | E88: 15 y más años | F88: Menor de 15 años | G88: 15 y más años | H88: Menor de 15 años | I88: 15 y más años | J88: Menor de 15 años | K88: 15 y más años | L88: Menor de 15 años | M88: 15 y más años | N88: Menor de 15 años | O88: 15 y más años | P88: Menor de 15 años | Q88: 15 y más años
A89: Cirugía General | B89: 0 | C89: 2 | D89: 44 | E89: 151 | F89: 31 | G89: 103 | H89: 1 | I89: 5 | J89: 14 | K89: 53 | O89: 2 | Q89: 2 | R89: =AT89&AU89&AV89 | AT89: =IF((D89+E89)<((F89+G89)-(H89+I89)),"* La suma de "&D$86&""&" debe ser mayor o igual a la Diferencia de "&F$87&""&" menos Pacientes Suspendidos","") | BC89: =IF((D89+E89)<((F89+G89)-(H89+I89)),1,0) -> 0
A90: Cirugía Cardiovascular | R90: =AT90&AU90&AV90 | AT90: =IF((D90+E90)<((F90+G90)-(H90+I90)),"* La suma de "&D$86&""&" debe ser mayor o igual a la Diferencia de "&F$87&""&" menos Pacientes Suspendidos","") | BC90: =IF((D90+E90)<((F90+G90)-(H90+I90)),1,0) -> 0
A91: Cirugía Maxilofacial | B91: 0 | C91: 4 | E91: 4 | G91: 4 | R91: =AT91&AU91&AV91 | AT91: =IF((D91+E91)<((F91+G91)-(H91+I91)),"* La suma de "&D$86&""&" debe ser mayor o igual a la Diferencia de "&F$87&""&" menos Pacientes Suspendidos","") | BC91: =IF((D91+E91)<((F91+G91)-(H91+I91)),1,0) -> 0
A92: Cirugía Tórax | R92: =AT92&AU92&AV92 | AT92: =IF((D92+E92)<((F92+G92)-(H92+I92)),"* La suma de "&D$86&""&" debe ser mayor o igual a la Diferencia de "&F$87&""&" menos Pacientes Suspendidos","") | BC92: =IF((D92+E92)<((F92+G92)-(H92+I92)),1,0) -> 0
A93: Traumatología | B93: 0 | C93: 4 | D93: 12 | E93: 76 | F93: 13 | G93: 69 | H93: 2 | I93: 3 | J93: 1 | K93: 10 | R93: =AT93&AU93&AV93 | AT93: =IF((D93+E93)<((F93+G93)-(H93+I93)),"* La suma de "&D$86&""&" debe ser mayor o igual a la Diferencia de "&F$87&""&" menos Pacientes Suspendidos","") | BC93: =IF((D93+E93)<((F93+G93)-(H93+I93)),1,0) -> 0
A94: Neurocirugía | R94: =AT94&AU94&AV94 | AT94: =IF((D94+E94)<((F94+G94)-(H94+I94)),"* La suma de "&D$86&""&" debe ser mayor o igual a la Diferencia de "&F$87&""&" menos Pacientes Suspendidos","") | BC94: =IF((D94+E94)<((F94+G94)-(H94+I94)),1,0) -> 0
A95: Otorrinolaringología | D95: 3 | F95: 2 | H95: 1 | J95: 2 | R95: =AT95&AU95&AV95 | AT95: =IF((D95+E95)<((F95+G95)-(H95+I95)),"* La suma de "&D$86&""&" debe ser mayor o igual a la Diferencia de "&F$87&""&" menos Pacientes Suspendidos","") | BC95: =IF((D95+E95)<((F95+G95)-(H95+I95)),1,0) -> 0
A96: Oftalmología | E96: 346 | G96: 159 | I96: 8 | K96: 22 | O96: 178 | Q96: 5 | R96: =AT96&AU96&AV96 | AT96: =IF((D96+E96)<((F96+G96)-(H96+I96)),"* La suma de "&D$86&""&" debe ser mayor o igual a la Diferencia de "&F$87&""&" menos Pacientes Suspendidos","") | BC96: =IF((D96+E96)<((F96+G96)-(H96+I96)),1,0) -> 0
A97: Obstetricia Y Ginecología | B97: 0 | C97: 1 | E97: 98 | G97: 52 | I97: 5 | K97: 49 | O97: 2 | R97: =AT97&AU97&AV97 | AT97: =IF((D97+E97)<((F97+G97)-(H97+I97)),"* La suma de "&D$86&""&" debe ser mayor o igual a la Diferencia de "&F$87&""&" menos Pacientes Suspendidos","") | BC97: =IF((D97+E97)<((F97+G97)-(H97+I97)),1,0) -> 0
A98: Ginecología | R98: =AT98&AU98&AV98 | AT98: =IF((D98+E98)<((F98+G98)-(H98+I98)),"* La suma de "&D$86&""&" debe ser mayor o igual a la Diferencia de "&F$87&""&" menos Pacientes Suspendidos","") | BC98: =IF((D98+E98)<((F98+G98)-(H98+I98)),1,0) -> 0
A99: Urología | B99: 0 | C99: 1 | E99: 12 | G99: 8 | I99: 1 | K99: 5 | R99: =AT99&AU99&AV99 | AT99: =IF((D99+E99)<((F99+G99)-(H99+I99)),"* La suma de "&D$86&""&" debe ser mayor o igual a la Diferencia de "&F$87&""&" menos Pacientes Suspendidos","") | BC99: =IF((D99+E99)<((F99+G99)-(H99+I99)),1,0) -> 0
A100: Otras Especialidades | E100: 37 | G100: 1 | K100: 1 | O100: 35 | R100: =AT100&AU100&AV100 | AT100: =IF((D100+E100)<((F100+G100)-(H100+I100)),"* La suma de "&D$86&""&" debe ser mayor o igual a la Diferencia de "&F$87&""&" menos Pacientes Suspendidos","") | BC100: =IF((D100+E100)<((F100+G100)-(H100+I100)),1,0) -> 0
A101: Odontología | R101: =AT101&AU101&AV101 | AT101: =IF((D101+E101)<((F101+G101)-(H101+I101)),"* La suma de "&D$86&""&" debe ser mayor o igual a la Diferencia de "&F$87&""&" menos Pacientes Suspendidos","") | BC101: =IF((D101+E101)<((F101+G101)-(H101+I101)),1,0) -> 0
A102: TOTAL | B102: =SUM(B89:B101) -> 0 | C102: =SUM(C89:C101) -> 12 | D102: =SUM(D89:D101) -> 59 | E102: =SUM(E89:E101) -> 724 | F102: =SUM(F89:F101) -> 46 | G102: =SUM(G89:G101) -> 396 | H102: =SUM(H89:H101) -> 4 | I102: =SUM(I89:I101) -> 22 | ... Q102: =SUM(Q89:Q101) -> 7
...

Sheet JUNIO
A1: SERVICIO DE SALUD
A2: =CONCATENATE("COMUNA: ",[7]NOMBRE!B2, " (",[7]NOMBRE!C2,[7]NOMBRE!D2,[7]NOMBRE!E2,[7]NOMBRE!F2,[7]NOMBRE!G2,")") -> COMUNA: LINARES (07401)
A3: =CONCATENATE("ESTABLECIMIENTO/ESTRATEGIA: ", [7]NOMBRE!B3, " (",[7]NOMBRE!C3,[7]NOMBRE!D3,[7]NOMBRE!E3,[7]NOMBRE!F3,[7]NOMBRE!G3,[7]NOMBRE!H3,")") -> ESTABLECIMIENTO/ESTRATEGIA: HOSPITAL PRESIDENTE CARLOS IBAÑEZ DEL CAMPO (116108)
A4: =CONCATENATE("MES: ",[7]NOMBRE!B6, " (",[7]NOMBRE!C6,[7]NOMBRE!D6,")") -> MES: JUNIO (06)
A5: =CONCATENATE("AÑO: ",[7]NOMBRE!B7) -> AÑO: 2025
A6: REM-21. QUIRÓFANOS Y OTROS RECURSOS HOSPITALARIOS
A8: SECCIÓN A: CAPACIDAD INSTALADA Y UTILIZACIÓN DE LOS QUIRÓFANOS CIRUGÍA MAYOR
A9: TIPO DE QUIRÓFANOS | B9: Número de Quirófanos en Dotación | C9: Promedio Mensual de Quirófanos Habilitados | D9: Promedio Mensual de Quirófanos en Trabajo | E9: Total de Horas Mensuales de Quirófanos Habilitados (Horario Hábil) | F9: Total de Horas Mensuales de Quirófanos en Trabajo (Horario Hábil) | G9: QUIRÓFANOS CIRUGIA MAYOR | Z9: CIRUGIAS MENORES Y PROCEDIMIENTOS *
G10: Horas Mensuales Programadas de Tabla Quirúrgica de Quirófanos en Trabajo, Horario Hábil | K10: Horas Mensuales Ocupadas de Quirófanos en Trabajo Horario Hábil | P10: Horas Mensuales Ocupadas de Quirófanos en Trabajo Horario Inhábil de Lunes a Viernes | U10: Horas Mensuales Ocupadas de Quirófanos en Trabajo Horario Sábado, Domingo y Festivo | Z10: Total Horas Mensuales Ocupadas de Quirófanos en Trabajo, Horario Hábil | AC10: Total Horas Mensuales Ocupadas de Quirófanos en Trabajo, Horario Inhábil
G12: Total | H12: Beneficiarios MAI | I12: Beneficiarios MLE | J12: Otros | K12: Total | L12: Beneficiarios MAI | M12: Beneficiarios MLE | N12: Otros | O12: De recambio | P12: Total | Q12: Beneficiarios MAI | R12: Beneficiarios MLE | S12: Otros | T12: De recambio | U12: Total | V12: Beneficiarios MAI | W12: Beneficiarios MLE | X12: Otros | Y12: De recambio | Z12: Total | AA12: Cirugía Menor | AB12: Otros Procedimientos | AC12: Total | AD12: Cirugía Menor | AE12: Otros Procedimientos
A13: TOTAL QUIRÓFANOS | B13: =SUM(B14:B17) -> 6 | C13: =SUM(C14:C17) -> 6 | D13: =SUM(D14:D17) -> 6 | E13: =SUM(E14:E17) -> 1505 | F13: =SUM(F14:F17) -> 1441 | G13: =SUM(G14:G17) -> 745 | H13: =SUM(H14:H17) -> 745 | I13: =SUM(I14:I17) -> 0 | ... AE13: =SUM(AE14:AE17) -> 10.93
A14: De Cirugía Electiva | B14: 5 | C14: 5 | D14: 5 | E14: 785 | F14: 745 | G14: =SUM(H14:J14) -> 745 | H14: 745 | I14: 0 | J14: 0 | K14: =SUM(L14:O14) -> 690.88 | L14: 556.03 | M14: 0.85 | N14: 0 | O14: 134 | P14: =SUM(Q14:T14) -> 198.71 | Q14: 27.55 | R14: 168.23 | S14: 2.93 | T14: 0 | U14: =SUM(V14:Y14) -> 137.99 | V14: 62.98 | W14: 10.68 | X14: 0 | Y14: 64.33 | Z14: =SUM(AA14:AB14) -> 47.54 | AA14: 30.06 | AB14: 17.48 | AC14: =SUM(AD14:AE14) -> 12.93 | AD14: 11.35 | AE14: 1.58
A15: De Urgencia | B15: 1 | C15: 1 | D15: 1 | E15: 720 | F15: 696 | G15: =SUM(H15:J15) -> 0 | H15: 0 | I15: 0 | J15: 0 | K15: =SUM(L15:O15) -> 81.3 | L15: 64.97 | M15: 0 | N15: 0 | O15: 16.33 | P15: =SUM(Q15:T15) -> 117.8 | Q15: 117.8 | R15: 0 | S15: 0 | T15: 0 | U15: =SUM(V15:Y15) -> 80.36 | V15: 68.03 | W15: 0 | X15: 0 | Y15: 12.33 | Z15: =SUM(AA15:AB15) -> 8.9 | AA15: 6.1 | AB15: 2.8 | AC15: =SUM(AD15:AE15) -> 16.26 | AD15: 6.91 | AE15: 9.35
A16: Obstétrico | G16: =SUM(H16:J16) -> 0 | K16: =SUM(L16:O16) -> 0 | P16: =SUM(Q16:T16) -> 0 | U16: =SUM(V16:Y16) -> 0 | Z16: =SUM(AA16:AB16) -> 0 | AC16: =SUM(AD16:AE16) -> 0
A17: Indiferenciado | G17: =SUM(H17:J17) -> 0 | K17: =SUM(L17:O17) -> 0 | P17: =SUM(Q17:T17) -> 0 | U17: =SUM(V17:Y17) -> 0 | Z17: =SUM(AA17:AB17) -> 0 | AC17: =SUM(AD17:AE17) -> 0
A18: * Las horas informadas en cirugía menores y procedimientos, deben estar contenidas en las horas ocupadas, en quirófanos para cirugía mayor.
A19: SECCIÓN B: PROCEDIMIENTOS COMPLEJOS AMBULATORIOS
A20: COMPONENTES | B20: TOTAL | C20: Hemodiálisis | D20: Cirugía Mayor Ambulatoria | E20: Coronariografía | F20: Otras
A21: Recurso Disponible | B21: =SUM(C21:F21) -> 10 | D21: 10
A22: Ingresos | B22: =SUM(C22:F22) -> 459 | D22: 459
A23: Personas Atendidas | B23: =SUM(C23:F23) -> 459 | D23: 459
A24: Días Personas Atendidas | B24: =SUM(C24:F24) -> 459 | D24: 459
A25: Altas | B25: =SUM(C25:F25) -> 459 | D25: 459
A26: SECCIÓN C: HOSPITALIZACIÓN DOMICILIARIA Y ATENCIÓN VENTILATORIA EN DOMICILIO
A27: SECCIÓN C.1:HOSPITALIZACIÓN DOMICILIARIA
A28: SECCIÓN C.1.1: PERSONAS ATENDIDAS EN EL PROGRAMA
A29: COMPONENTES | C29: TOTAL | D29: RANGO ETARIO | H29: ORIGEN DE LA DERIVACIÓN | N29: SEXO
D30: Menor de 15 años | E30: 15 - 19 años | F30: 20 - 59 años | G30: 60 y más años | H30: APS | I30: Urgencia | J30: Hospitalización | K30: Ambulatorio | L30: Ley de Urgencia | M30: UGCC | N30: Hombres | O30: Mujeres
A31: Ingresos | C31: =SUM(D31:G31) -> 101 | D31: 0 | E31: 1 | F31: 23 | G31: 77 | H31: 5 | I31: 57 | J31: 31 | K31: 4 | L31: 0 | M31: 4 | N31: 34 | O31: 67 | P31: =AW31&AX31&AY31&AZ31&BA31&BB31&BC31&BD31 | AW31: =IF(AND($C31>0,H31="")," * No olvide digitar la variable "&H$29&""&" APS. Digite CERO si no tiene.","") | AX31: =IF(AND($C31>0,I31="")," * No olvide digitar la variable "&$H$29&""&" Urgencia. Digite CERO si no tiene.","") | AY31: =IF(AND($C31>0,J31="")," * No olvide digitar la variable "&$H$29&""&" Hospitalización. Digite CERO si no tiene.","") | AZ31: =IF(AND($C31>0,K31="")," * No olvide digitar la variable "&$H$29&""&" Ambulatorio. Digite CERO si no tiene.","") | BA31: =IF(AND($C31>0,L31="")," * No olvide digitar la variable "&$H$29&""&" Ley de Urgencia. Digite CERO si no tiene.","") | BB31: =IF(AND($C31>0,M31="")," * No olvide digitar la variable "&$H$29&""&" UGCC. Digite CERO si no tiene.","") | BC31: =IF(AND(H31+I31+J31+K31+L31+M31>$C31)," * La variable "&$H$29&""&" No puede ser mayor al Total.","") | BD31: =IF(AND(N31+O31>$C31)," * La variable "&$N$29&""&" No puede ser mayor al Total.","") | BF31: =IF(AND($C31>0,H31=""),1,0) -> 0 | BG31: =IF(AND($C31>0,I31=""),1,0) -> 0 | BH31: =IF(AND($C31>0,J31=""),1,0) -> 0 | BI31: =IF(AND($C31>0,K31=""),1,0) -> 0 | BJ31: =IF(AND($C31>0,L31=""),1,0) -> 0 | BK31: =IF(AND($C31>0,M31=""),1,0) -> 0 | BL31: =IF(AND(H31+I31+J31+K31+L31+M31>$C31),1,0) -> 0 | BM31: =IF(AND(N31+O31>$C31),1,0) -> 0
A32: Personas Atendidas | C32: =SUM(D32:G32) -> 131 | D32: 0 | E32: 1 | F32: 29 | G32: 101 | N32: 51 | O32: 80 | P32: =BD32 | BD32: =IF(AND(N32+O32>$C32)," * La variable "&$N$29&""&" No puede ser mayor al Total.","") | BM32: =IF(AND(N32+O32>$C32),1,0) -> 0
A33: Días Personas Atendidas | C33: =SUM(D33:G33) -> 907 | D33: 0 | E33: 4 | F33: 213 | G33: 690 | N33: 326 | O33: 581 | P33: =BD33 | BD33: =IF(AND(N33+O33>$C33)," * La variable "&$N$29&""&" No puede ser mayor al Total.","") | BM33: =IF(AND(N33+O33>$C33),1,0) -> 0
A34: Altas | C34: =SUM(D34:G34) -> 90 | D34: 0 | E34: 1 | F34: 25 | G34: 64 | N34: 30 | O34: 60 | P34: =BD34 | BD34: =IF(AND(N34+O34>$C34)," * La variable "&$N$29&""&" No puede ser mayor al Total.","") | BM34: =IF(AND(N34+O34>$C34),1,0) -> 0
A35: Fallecidos | B35: Esperados | C35: =SUM(D35:G35) -> 2 | D35: 0 | E35: 0 | F35: 0 | G35: 2 | N35: 2 | O35: 0 | P35: =BD35 | BD35: =IF(AND(N35+O35>$C35)," * La variable "&$N$29&""&" No puede ser mayor al Total.","") | BM35: =IF(AND(N35+O35>$C35),1,0) -> 0
B36: No esperados | C36: =SUM(D36:G36) -> 0 | D36: 0 | E36: 0 | F36: 0 | G36: 0 | N36: 0 | O36: 0 | P36: =BD36 | BD36: =IF(AND(N36+O36>$C36)," * La variable "&$N$29&""&" No puede ser mayor al Total.","") | BM36: =IF(AND(N36+O36>$C36),1,0) -> 0
A37: Reingresos a Hospitalización Tradicional | C37: =SUM(D37:G37) -> 11 | D37: 0 | E37: 0 | F37: 0 | G37: 11 | N37: 5 | O37: 6 | P37: =BD37 | BD37: =IF(AND(N37+O37>$C37)," * La variable "&$N$29&""&" No puede ser mayor al Total.","") | BM37: =IF(AND(N37+O37>$C37),1,0) -> 0
A38: SECCIÓN C.1.2: VISITAS REALIZADAS
A39: PROFESIONALES | B39: Total de Visitas
A40: Médico | B40: 263
A41: Enfermera | B41: 715
A42: Técnico en Enfermería | B42: 1033
A43: Matrona | B43: 0
A44: Kinesiólogo | B44: 610
A45: Psicólogo | B45: 0
A46: Fonoaudiólogo/a | B46: 34
A47: Trabajador/a Social | B47: 0
A48: Terapeuta Ocupacional | B48: 0
A49: SECCIÓN C.1.3: CUPOS DISPONIBLES EN UNIDAD DE HOSPITALIZACIÓN DOMICILIARIA
A50: COMPONENTES | B50: TOTAL | C50: N° de Cupos | D50: N° de cupos Campaña Invierno Adicionales | E50: N° de cupos Campaña de Invierno
A51: Número Cupos Programados | B51: =SUM(C51:E51) -> 1020 | C51: 900 | D51: 120
A52: Número Cupos Utilizados | B52: =SUM(C52:E52) -> 907 | C52: 900 | D52: 7
A53: Número de Cupos Disponibles | B53: =SUM(C53:E53) -> 113 | C53: 0 | D53: 113
A54: SECCIÓN C.2 ATENCIÓN VENTILATORIA EN DOMICILIO
A55: SECCIÓN C.2.1: ASISTENCIA VENTILATORIA Y OXÍGENO EN DOMICILIO
A56: TIPO DE ESTRATEGIA | B56: TOTAL | C56: 0-9 años | D56: 10 - 19 años | E56: 20 y más años | F56: N° de cupos Campaña de Invierno
A57: Estrategia de Asistencia Ventilatoria Invasiva en Domicilio | B57: =SUM(C57:E57) -> 0
A58: Estrategia de Asistencia Ventilatoria no Invasiva en Domicilio | B58: =SUM(C58:E58) -> 0
A59: Estrategia Oxígeno Domiciliario para pacientes Crónicos | B59: =SUM(C59:E59) -> 0
A60: SECCIÓN C.2.2: INGRESOS Y EGRESOS AL PROGRAMA ASISTENCIA VENTILATORIA EN DOMICILIO
A61: ACTIVIDAD | B61: INGRESOS | E61: Número de egresos | F61: Número de personas activas | G61: Número de controles médicos
B62: TOTAL (Ambos sexos) | C62: Hombres | D62: Mujeres
A63: Asistencia Ventilatoria Invasiva Infantil (AVI) | B63: =SUM(C63:D63) -> 0
A64: Asistencia Ventilatoria Invasiva Del Adulto (AVIA) | B64: =SUM(C64:D64) -> 0
A65: Asistencia Ventilatoria no Invasiva Infantil (AVNI) | B65: =SUM(C65:D65) -> 0
A66: Asistencia Ventilatoria no Invasiva Adulto (AVNIA) | B66: =SUM(C66:D66) -> 0
A67: Oxigenoterapia Ambulatorio Crónico Respiratorio Infantil | B67: =SUM(C67:D67) -> 0
A68: Oxigenoterapia Ambulatorio Crónico Respiratorio Adulto | B68: =SUM(C68:D68) -> 0
A69: TOTAL | B69: =SUM(B63:B68) -> 0 | C69: =SUM(C63:C68) -> 0 | D69: =SUM(D63:D68) -> 0 | E69: =SUM(E63:E68) -> 0 | F69: =SUM(F63:F68) -> 0 | G69: =SUM(G63:G68) -> 0
A70: SECCIÓN C.2.3: INGRESO PROGRAMA ASISTENCIA VENTILATORIA Y OXÍGENO EN DOMICILIO SEGÚN DIAGNÓSTICO
A71: CAUSAS DE INGRESO | B71: Asistencia Ventilatoria Invasiva Infantil (AVI) | C71: Asistencia Ventilatoria Invasiva Del Adulto (AVIA) | D71: Asistencia Ventilatoria no Invasiva Infantil (AVNI) | E71: Asistencia Ventilatoria no Invasiva Adulto (AVNIA) | F71: Oxigenoterapia Ambulatorio Crónico Respiratorio Infantil | G71: Oxigenoterapia Ambulatorio Crónico Respiratorio Adulto | H71: Pueblos originarios | I71: Migrantes
A72: Enfermedad neuromuscular
A73: Daño pulmonar crónico
A74: Daño sistema nervioso central
A75: Sindrome genético
A76: Displasia Broncopulmonar
A77: SECCIÓN D: APOYO PSICOSOCIAL EN NIÑOS, NIÑAS Y ADOLESCENTES HOSPITALIZADOS
A78: CONCEPTO | B78: INTERVENCIÓN | C78: TOTAL | D78: RANGO ETARIO
D79: Hasta 28 días | E79: 29 días hasta menor de 1 año | F79: 1 - 4 años | G79: 5 - 9 años | H79: 10 - 14 años | I79: 15 - 19 años
A80: TOTAL DE EGRESOS (en el período) | C80: =SUM(D80:I80) -> 136 | D80: 24 | E80: 11 | F80: 29 | G80: 18 | H80: 26 | I80: 28
A81: Egresados con Apoyo Psicosocial (en el período) | B81: Intervención Psicosocial | C81: =SUM(D81:I81) -> 103 | D81: 58 | E81: 23 | F81: 22
B82: Estimulación del Desarrollo | C82: =SUM(D82:I82) -> 101 | D82: 51 | E82: 33 | F82: 17
A83: Nº de Atenciones (en el mes) | B83: Intervención Psicosocial | C83: =SUM(D83:I83) -> 137 | D83: 68 | E83: 41 | F83: 28
B84: Estimulación del Desarrollo | C84: =SUM(D84:I84) -> 127 | D84: 72 | E84: 48 | F84: 7
A85: SECCIÓN E: GESTIÓN DE PROCESOS DE PACIENTES QUIRÚRGICOS CON CIRUGÍA ELECTIVA
A86: ESPECIALIDAD | B86: DÍAS DE ESTADA PREQUIRÚRGICOS | D86: PACIENTES INTERVENIDOS | F86: HORARIO HÁBIL | J86: INHABIL DE LUNES A VIERNES | N86: SÁBADO, DOMINGO Y FESTIVO
F87: Pacientes Programados | H87: Pacientes Suspendidos | J87: Pacientes Programados | L87: Pacientes Suspendidos | N87: Pacientes Programados | P87: Pacientes Suspendidos
B88: Menor de 15 años | C88: 15 y más años | D88: Menor de 15 años | E88: 15 y más años | F88: Menor de 15 años | G88: 15 y más años | H88: Menor de 15 años | I88: 15 y más años | J88: Menor de 15 años | K88: 15 y más años | L88: Menor de 15 años | M88: 15 y más años | N88: Menor de 15 años | O88: 15 y más años | P88: Menor de 15 años | Q88: 15 y más años
A89: Cirugía General | C89: 3 | D89: 64 | E89: 164 | F89: 42 | G89: 115 | H89: 1 | I89: 3 | J89: 23 | K89: 53 | M89: 1 | R89: =AT89&AU89&AV89 | AT89: =IF((D89+E89)<((F89+G89)-(H89+I89)),"* La suma de "&D$86&""&" debe ser mayor o igual a la Diferencia de "&F$87&""&" menos Pacientes Suspendidos","") | BC89: =IF((D89+E89)<((F89+G89)-(H89+I89)),1,0) -> 0
A90: Cirugía Cardiovascular | R90: =AT90&AU90&AV90 | AT90: =IF((D90+E90)<((F90+G90)-(H90+I90)),"* La suma de "&D$86&""&" debe ser mayor o igual a la Diferencia de "&F$87&""&" menos Pacientes Suspendidos","") | BC90: =IF((D90+E90)<((F90+G90)-(H90+I90)),1,0) -> 0
A91: Cirugía Maxilofacial | E91: 4 | G91: 4 | R91: =AT91&AU91&AV91 | AT91: =IF((D91+E91)<((F91+G91)-(H91+I91)),"* La suma de "&D$86&""&" debe ser mayor o igual a la Diferencia de "&F$87&""&" menos Pacientes Suspendidos","") | BC91: =IF((D91+E91)<((F91+G91)-(H91+I91)),1,0) -> 0
A92: Cirugía Tórax | R92: =AT92&AU92&AV92 | AT92: =IF((D92+E92)<((F92+G92)-(H92+I92)),"* La suma de "&D$86&""&" debe ser mayor o igual a la Diferencia de "&F$87&""&" menos Pacientes Suspendidos","") | BC92: =IF((D92+E92)<((F92+G92)-(H92+I92)),1,0) -> 0
A93: Traumatología | B93: 2 | C93: 2 | D93: 10 | E93: 95 | F93: 15 | G93: 76 | H93: 5 | I93: 2 | K93: 22 | M93: 1 | R93: =AT93&AU93&AV93 | AT93: =IF((D93+E93)<((F93+G93)-(H93+I93)),"* La suma de "&D$86&""&" debe ser mayor o igual a la Diferencia de "&F$87&""&" menos Pacientes Suspendidos","") | BC93: =IF((D93+E93)<((F93+G93)-(H93+I93)),1,0) -> 0
A94: Neurocirugía | R94: =AT94&AU94&AV94 | AT94: =IF((D94+E94)<((F94+G94)-(H94+I94)),"* La suma de "&D$86&""&" debe ser mayor o igual a la Diferencia de "&F$87&""&" menos Pacientes Suspendidos","") | BC94: =IF((D94+E94)<((F94+G94)-(H94+I94)),1,0) -> 0
A95: Otorrinolaringología | D95: 12 | E95: 3 | J95: 2 | N95: 10 | O95: 3 | R95: =AT95&AU95&AV95 | AT95: =IF((D95+E95)<((F95+G95)-(H95+I95)),"* La suma de "&D$86&""&" debe ser mayor o igual a la Diferencia de "&F$87&""&" menos Pacientes Suspendidos","") | BC95: =IF((D95+E95)<((F95+G95)-(H95+I95)),1,0) -> 0
A96: Oftalmología | E96: 236 | G96: 51 | I96: 6 | K96: 18 | O96: 177 | Q96: 4 | R96: =AT96&AU96&AV96 | AT96: =IF((D96+E96)<((F96+G96)-(H96+I96)),"* La suma de "&D$86&""&" debe ser mayor o igual a la Diferencia de "&F$87&""&" menos Pacientes Suspendidos","") | BC96: =IF((D96+E96)<((F96+G96)-(H96+I96)),1,0) -> 0
A97: Obstetricia Y Ginecología | C97: 1 | E97: 89 | G97: 51 | I97: 6 | K97: 44 | M97: 1 | O97: 1 | R97: =AT97&AU97&AV97 | AT97: =IF((D97+E97)<((F97+G97)-(H97+I97)),"* La suma de "&D$86&""&" debe ser mayor o igual a la Diferencia de "&F$87&""&" menos Pacientes Suspendidos","") | BC97: =IF((D97+E97)<((F97+G97)-(H97+I97)),1,0) -> 0
A98: Ginecología | R98: =AT98&AU98&AV98 | AT98: =IF((D98+E98)<((F98+G98)-(H98+I98)),"* La suma de "&D$86&""&" debe ser mayor o igual a la Diferencia de "&F$87&""&" menos Pacientes Suspendidos","") | BC98: =IF((D98+E98)<((F98+G98)-(H98+I98)),1,0) -> 0
A99: Urología | C99: 2 | E99: 11 | G99: 4 | K99: 5 | O99: 2 | R99: =AT99&AU99&AV99 | AT99: =IF((D99+E99)<((F99+G99)-(H99+I99)),"* La suma de "&D$86&""&" debe ser mayor o igual a la Diferencia de "&F$87&""&" menos Pacientes Suspendidos","") | BC99: =IF((D99+E99)<((F99+G99)-(H99+I99)),1,0) -> 0
A100: Otras Especialidades | C100: 8 | E100: 7 | G100: 2 | O100: 5 | R100: =AT100&AU100&AV100 | AT100: =IF((D100+E100)<((F100+G100)-(H100+I100)),"* La suma de "&D$86&""&" debe ser mayor o igual a la Diferencia de "&F$87&""&" menos Pacientes Suspendidos","") | BC100: =IF((D100+E100)<((F100+G100)-(H100+I100)),1,0) -> 0
A101: Odontología | R101: =AT101&AU101&AV101 | AT101: =IF((D101+E101)<((F101+G101)-(H101+I101)),"* La suma de "&D$86&""&" debe ser mayor o igual a la Diferencia de "&F$87&""&" menos Pacientes Suspendidos","") | BC101: =IF((D101+E101)<((F101+G101)-(H101+I101)),1,0) -> 0
A102: TOTAL | B102: =SUM(B89:B101) -> 2 | C102: =SUM(C89:C101) -> 16 | D102: =SUM(D89:D101) -> 86 | E102: =SUM(E89:E101) -> 609 | F102: =SUM(F89:F101) -> 57 | G102: =SUM(G89:G101) -> 303 | H102: =SUM(H89:H101) -> 6 | I102: =SUM(I89:I101) -> 17 | ... Q102: =SUM(Q89:Q101) -> 4
...

Sheet JULIO
A1: SERVICIO DE SALUD
A2: =CONCATENATE("COMUNA: ",[8]NOMBRE!B2, " (",[8]NOMBRE!C2,[8]NOMBRE!D2,[8]NOMBRE!E2,[8]NOMBRE!F2,[8]NOMBRE!G2,")") -> COMUNA: LINARES (07401)
A3: =CONCATENATE("ESTABLECIMIENTO/ESTRATEGIA: ", [8]NOMBRE!B3, " (",[8]NOMBRE!C3,[8]NOMBRE!D3,[8]NOMBRE!E3,[8]NOMBRE!F3,[8]NOMBRE!G3,[8]NOMBRE!H3,")") -> ESTABLECIMIENTO/ESTRATEGIA: HOSPITAL PRESIDENTE CARLOS IBAÑEZ DEL CAMPO (116108)
A4: =CONCATENATE("MES: ",[8]NOMBRE!B6, " (",[8]NOMBRE!C6,[8]NOMBRE!D6,")") -> MES: JULIO (07)
A5: =CONCATENATE("AÑO: ",[8]NOMBRE!B7) -> AÑO: 2025
A6: REM-21. QUIRÓFANOS Y OTROS RECURSOS HOSPITALARIOS
A8: SECCIÓN A: CAPACIDAD INSTALADA Y UTILIZACIÓN DE LOS QUIRÓFANOS CIRUGÍA MAYOR
A9: TIPO DE QUIRÓFANOS | B9: Número de Quirófanos en Dotación | C9: Promedio Mensual de Quirófanos Habilitados | D9: Promedio Mensual de Quirófanos en Trabajo | E9: Total de Horas Mensuales de Quirófanos Habilitados (Horario Hábil) | F9: Total de Horas Mensuales de Quirófanos en Trabajo (Horario Hábil) | G9: QUIRÓFANOS CIRUGIA MAYOR | Z9: CIRUGIAS MENORES Y PROCEDIMIENTOS *
G10: Horas Mensuales Programadas de Tabla Quirúrgica de Quirófanos en Trabajo, Horario Hábil | K10: Horas Mensuales Ocupadas de Quirófanos en Trabajo Horario Hábil | P10: Horas Mensuales Ocupadas de Quirófanos en Trabajo Horario Inhábil de Lunes a Viernes | U10: Horas Mensuales Ocupadas de Quirófanos en Trabajo Horario Sábado, Domingo y Festivo | Z10: Total Horas Mensuales Ocupadas de Quirófanos en Trabajo, Horario Hábil | AC10: Total Horas Mensuales Ocupadas de Quirófanos en Trabajo, Horario Inhábil
G12: Total | H12: Beneficiarios MAI | I12: Beneficiarios MLE | J12: Otros | K12: Total | L12: Beneficiarios MAI | M12: Beneficiarios MLE | N12: Otros | O12: De recambio | P12: Total | Q12: Beneficiarios MAI | R12: Beneficiarios MLE | S12: Otros | T12: De recambio | U12: Total | V12: Beneficiarios MAI | W12: Beneficiarios MLE | X12: Otros | Y12: De recambio | Z12: Total | AA12: Cirugía Menor | AB12: Otros Procedimientos | AC12: Total | AD12: Cirugía Menor | AE12: Otros Procedimientos
A13: TOTAL QUIRÓFANOS | B13: =SUM(B14:B17) -> 6 | C13: =SUM(C14:C17) -> 6 | D13: =SUM(D14:D17) -> 6 | E13: =SUM(E14:E17) -> 1604 | F13: =SUM(F14:F17) -> 1548 | G13: =SUM(G14:G17) -> 815 | H13: =SUM(H14:H17) -> 815 | I13: =SUM(I14:I17) -> 0 | ... AE13: =SUM(AE14:AE17) -> 9.31
A14: De Cirugía Electiva | B14: 5 | C14: 5 | D14: 5 | E14: 860 | F14: 815 | G14: =SUM(H14:J14) -> 815 | H14: 815 | I14: 0 | J14: 0 | K14: =SUM(L14:O14) -> 756.52 | L14: 630.17 | M14: 0 | N14: 0.35 | O14: 126 | P14: =SUM(Q14:T14) -> 241.25 | Q14: 42.12 | R14: 149.8 | S14: 4.33 | T14: 45 | U14: =SUM(V14:Y14) -> 93.93 | V14: 48.73 | W14: 8.95 | X14: 0 | Y14: 36.25 | Z14: =SUM(AA14:AB14) -> 60.41 | AA14: 42.23 | AB14: 18.18 | AC14: =SUM(AD14:AE14) -> 16.36 | AD14: 14.76 | AE14: 1.6
A15: De Urgencia | B15: 1 | C15: 1 | D15: 1 | E15: 744 | F15: 733 | G15: =SUM(H15:J15) -> 0 | H15: 0 | I15: 0 | J15: 0 | K15: =SUM(L15:O15) -> 98.69 | L15: 74.77 | M15: 1.12 | N15: 8.05 | O15: 14.75 | P15: =SUM(Q15:T15) -> 129.01 | Q15: 106.63 | R15: 0 | S15: 3.88 | T15: 18.5 | U15: =SUM(V15:Y15) -> 53.44 | V15: 43.27 | W15: 0 | X15: 3.17 | Y15: 7 | Z15: =SUM(AA15:AB15) -> 18.89 | AA15: 16.31 | AB15: 2.58 | AC15: =SUM(AD15:AE15) -> 25.41 | AD15: 17.7 | AE15: 7.71
A16: Obstétrico | G16: =SUM(H16:J16) -> 0 | K16: =SUM(L16:O16) -> 0 | P16: =SUM(Q16:T16) -> 0 | U16: =SUM(V16:Y16) -> 0 | Z16: =SUM(AA16:AB16) -> 0 | AC16: =SUM(AD16:AE16) -> 0
A17: Indiferenciado | G17: =SUM(H17:J17) -> 0 | K17: =SUM(L17:O17) -> 0 | P17: =SUM(Q17:T17) -> 0 | U17: =SUM(V17:Y17) -> 0 | Z17: =SUM(AA17:AB17) -> 0 | AC17: =SUM(AD17:AE17) -> 0
A18: * Las horas informadas en cirugía menores y procedimientos, deben estar contenidas en las horas ocupadas, en quirófanos para cirugía mayor.
A19: SECCIÓN B: PROCEDIMIENTOS COMPLEJOS AMBULATORIOS
A20: COMPONENTES | B20: TOTAL | C20: Hemodiálisis | D20: Cirugía Mayor Ambulatoria | E20: Coronariografía | F20: Otras
A21: Recurso Disponible | B21: =SUM(C21:F21) -> 10 | D21: 10
A22: Ingresos | B22: =SUM(C22:F22) -> 479 | D22: 479
A23: Personas Atendidas | B23: =SUM(C23:F23) -> 479 | D23: 479
A24: Días Personas Atendidas | B24: =SUM(C24:F24) -> 479 | D24: 479
A25: Altas | B25: =SUM(C25:F25) -> 480 | D25: 480
A26: SECCIÓN C: HOSPITALIZACIÓN DOMICILIARIA Y ATENCIÓN VENTILATORIA EN DOMICILIO
A27: SECCIÓN C.1:HOSPITALIZACIÓN DOMICILIARIA
A28: SECCIÓN C.1.1: PERSONAS ATENDIDAS EN EL PROGRAMA
A29: COMPONENTES | C29: TOTAL | D29: RANGO ETARIO | H29: ORIGEN DE LA DERIVACIÓN | N29: SEXO
D30: Menor de 15 años | E30: 15 - 19 años | F30: 20 - 59 años | G30: 60 y más años | H30: APS | I30: Urgencia | J30: Hospitalización | K30: Ambulatorio | L30: Ley de Urgencia | M30: UGCC | N30: Hombres | O30: Mujeres
A31: Ingresos | C31: =SUM(D31:G31) -> 136 | D31: 0 | E31: 2 | F31: 32 | G31: 102 | H31: 7 | I31: 64 | J31: 46 | K31: 18 | L31: 0 | M31: 1 | N31: 70 | O31: 66 | P31: =AW31&AX31&AY31&AZ31&BA31&BB31&BC31&BD31 | AW31: =IF(AND($C31>0,H31="")," * No olvide digitar la variable "&H$29&""&" APS. Digite CERO si no tiene.","") | AX31: =IF(AND($C31>0,I31="")," * No olvide digitar la variable "&$H$29&""&" Urgencia. Digite CERO si no tiene.","") | AY31: =IF(AND($C31>0,J31="")," * No olvide digitar la variable "&$H$29&""&" Hospitalización. Digite CERO si no tiene.","") | AZ31: =IF(AND($C31>0,K31="")," * No olvide digitar la variable "&$H$29&""&" Ambulatorio. Digite CERO si no tiene.","") | BA31: =IF(AND($C31>0,L31="")," * No olvide digitar la variable "&$H$29&""&" Ley de Urgencia. Digite CERO si no tiene.","") | BB31: =IF(AND($C31>0,M31="")," * No olvide digitar la variable "&$H$29&""&" UGCC. Digite CERO si no tiene.","") | BC31: =IF(AND(H31+I31+J31+K31+L31+M31>$C31)," * La variable "&$H$29&""&" No puede ser mayor al Total.","") | BD31: =IF(AND(N31+O31>$C31)," * La variable "&$N$29&""&" No puede ser mayor al Total.","") | BF31: =IF(AND($C31>0,H31=""),1,0) -> 0 | BG31: =IF(AND($C31>0,I31=""),1,0) -> 0 | BH31: =IF(AND($C31>0,J31=""),1,0) -> 0 | BI31: =IF(AND($C31>0,K31=""),1,0) -> 0 | BJ31: =IF(AND($C31>0,L31=""),1,0) -> 0 | BK31: =IF(AND($C31>0,M31=""),1,0) -> 0 | BL31: =IF(AND(H31+I31+J31+K31+L31+M31>$C31),1,0) -> 0 | BM31: =IF(AND(N31+O31>$C31),1,0) -> 0
A32: Personas Atendidas | C32: =SUM(D32:G32) -> 164 | D32: 0 | E32: 2 | F32: 36 | G32: 126 | N32: 84 | O32: 80 | P32: =BD32 | BD32: =IF(AND(N32+O32>$C32)," * La variable "&$N$29&""&" No puede ser mayor al Total.","") | BM32: =IF(AND(N32+O32>$C32),1,0) -> 0
A33: Días Personas Atendidas | C33: =SUM(D33:G33) -> 1118 | D33: 0 | E33: 15 | F33: 262 | G33: 841 | N33: 607 | O33: 511 | P33: =BD33 | BD33: =IF(AND(N33+O33>$C33)," * La variable "&$N$29&""&" No puede ser mayor al Total.","") | BM33: =IF(AND(N33+O33>$C33),1,0) -> 0
A34: Altas | C34: =SUM(D34:G34) -> 116 | D34: 0 | E34: 1 | F34: 27 | G34: 88 | N34: 61 | O34: 55 | P34: =BD34 | BD34: =IF(AND(N34+O34>$C34)," * La variable "&$N$29&""&" No puede ser mayor al Total.","") | BM34: =IF(AND(N34+O34>$C34),1,0) -> 0
A35: Fallecidos | B35: Esperados | C35: =SUM(D35:G35) -> 5 | D35: 0 | E35: 0 | F35: 0 | G35: 5 | N35: 2 | O35: 3 | P35: =BD35 | BD35: =IF(AND(N35+O35>$C35)," * La variable "&$N$29&""&" No puede ser mayor al Total.","") | BM35: =IF(AND(N35+O35>$C35),1,0) -> 0
B36: No esperados | C36: =SUM(D36:G36) -> 0 | D36: 0 | E36: 0 | F36: 0 | G36: 0 | N36: 0 | O36: 0 | P36: =BD36 | BD36: =IF(AND(N36+O36>$C36)," * La variable "&$N$29&""&" No puede ser mayor al Total.","") | BM36: =IF(AND(N36+O36>$C36),1,0) -> 0
A37: Reingresos a Hospitalización Tradicional | C37: =SUM(D37:G37) -> 6 | D37: 0 | E37: 0 | F37: 1 | G37: 5 | N37: 4 | O37: 2 | P37: =BD37 | BD37: =IF(AND(N37+O37>$C37)," * La variable "&$N$29&""&" No puede ser mayor al Total.","") | BM37: =IF(AND(N37+O37>$C37),1,0) -> 0
A38: SECCIÓN C.1.2: VISITAS REALIZADAS
A39: PROFESIONALES | B39: Total de Visitas
A40: Médico | B40: 315
A41: Enfermera | B41: 871
A42: Técnico en Enfermería | B42: 1236
A43: Matrona | B43: 0
A44: Kinesiólogo | B44: 548
A45: Psicólogo | B45: 0
A46: Fonoaudiólogo/a | B46: 39
A47: Trabajador/a Social | B47: 0
A48: Terapeuta Ocupacional | B48: 0
A49: SECCIÓN C.1.3: CUPOS DISPONIBLES EN UNIDAD DE HOSPITALIZACIÓN DOMICILIARIA
A50: COMPONENTES | B50: TOTAL | C50: N° de Cupos | D50: N° de cupos Campaña Invierno Adicionales | E50: N° de cupos Campaña de Invierno
A51: Número Cupos Programados | B51: =SUM(C51:E51) -> 1290 | C51: 930 | D51: 360
A52: Número Cupos Utilizados | B52: =SUM(C52:E52) -> 1118 | C52: 805 | D52: 313
A53: Número de Cupos Disponibles | B53: =SUM(C53:E53) -> 172 | C53: 125 | D53: 47
A54: SECCIÓN C.2 ATENCIÓN VENTILATORIA EN DOMICILIO
A55: SECCIÓN C.2.1: ASISTENCIA VENTILATORIA Y OXÍGENO EN DOMICILIO
A56: TIPO DE ESTRATEGIA | B56: TOTAL | C56: 0-9 años | D56: 10 - 19 años | E56: 20 y más años | F56: N° de cupos Campaña de Invierno
A57: Estrategia de Asistencia Ventilatoria Invasiva en Domicilio | B57: =SUM(C57:E57) -> 0
A58: Estrategia de Asistencia Ventilatoria no Invasiva en Domicilio | B58: =SUM(C58:E58) -> 0
A59: Estrategia Oxígeno Domiciliario para pacientes Crónicos | B59: =SUM(C59:E59) -> 0
A60: SECCIÓN C.2.2: INGRESOS Y EGRESOS AL PROGRAMA ASISTENCIA VENTILATORIA EN DOMICILIO
A61: ACTIVIDAD | B61: INGRESOS | E61: Número de egresos | F61: Número de personas activas | G61: Número de controles médicos
B62: TOTAL (Ambos sexos) | C62: Hombres | D62: Mujeres
A63: Asistencia Ventilatoria Invasiva Infantil (AVI) | B63: =SUM(C63:D63) -> 0
A64: Asistencia Ventilatoria Invasiva Del Adulto (AVIA) | B64: =SUM(C64:D64) -> 0
A65: Asistencia Ventilatoria no Invasiva Infantil (AVNI) | B65: =SUM(C65:D65) -> 0
A66: Asistencia Ventilatoria no Invasiva Adulto (AVNIA) | B66: =SUM(C66:D66) -> 0
A67: Oxigenoterapia Ambulatorio Crónico Respiratorio Infantil | B67: =SUM(C67:D67) -> 0
A68: Oxigenoterapia Ambulatorio Crónico Respiratorio Adulto | B68: =SUM(C68:D68) -> 0
A69: TOTAL | B69: =SUM(B63:B68) -> 0 | C69: =SUM(C63:C68) -> 0 | D69: =SUM(D63:D68) -> 0 | E69: =SUM(E63:E68) -> 0 | F69: =SUM(F63:F68) -> 0 | G69: =SUM(G63:G68) -> 0
A70: SECCIÓN C.2.3: INGRESO PROGRAMA ASISTENCIA VENTILATORIA Y OXÍGENO EN DOMICILIO SEGÚN DIAGNÓSTICO
A71: CAUSAS DE INGRESO | B71: Asistencia Ventilatoria Invasiva Infantil (AVI) | C71: Asistencia Ventilatoria Invasiva Del Adulto (AVIA) | D71: Asistencia Ventilatoria no Invasiva Infantil (AVNI) | E71: Asistencia Ventilatoria no Invasiva Adulto (AVNIA) | F71: Oxigenoterapia Ambulatorio Crónico Respiratorio Infantil | G71: Oxigenoterapia Ambulatorio Crónico Respiratorio Adulto | H71: Pueblos originarios | I71: Migrantes
A72: Enfermedad neuromuscular
A73: Daño pulmonar crónico
A74: Daño sistema nervioso central
A75: Sindrome genético
A76: Displasia Broncopulmonar
A77: SECCIÓN D: APOYO PSICOSOCIAL EN NIÑOS, NIÑAS Y ADOLESCENTES HOSPITALIZADOS
A78: CONCEPTO | B78: INTERVENCIÓN | C78: TOTAL | D78: RANGO ETARIO
D79: Hasta 28 días | E79: 29 días hasta menor de 1 año | F79: 1 - 4 años | G79: 5 - 9 años | H79: 10 - 14 años | I79: 15 - 19 años
A80: TOTAL DE EGRESOS (en el período) | C80: =SUM(D80:I80) -> 170 | D80: 27 | E80: 14 | F80: 32 | G80: 30 | H80: 31 | I80: 36
A81: Egresados con Apoyo Psicosocial (en el período) | B81: Intervención Psicosocial | C81: =SUM(D81:I81) -> 62 | D81: 31 | E81: 12 | F81: 19
B82: Estimulación del Desarrollo | C82: =SUM(D82:I82) -> 37 | D82: 27 | E82: 9 | F82: 1
A83: Nº de Atenciones (en el mes) | B83: Intervención Psicosocial | C83: =SUM(D83:I83) -> 154 | D83: 66 | E83: 64 | F83: 24
B84: Estimulación del Desarrollo | C84: =SUM(D84:I84) -> 144 | D84: 76 | E84: 67 | F84: 1
A85: SECCIÓN E: GESTIÓN DE PROCESOS DE PACIENTES QUIRÚRGICOS CON CIRUGÍA ELECTIVA
A86: ESPECIALIDAD | B86: DÍAS DE ESTADA PREQUIRÚRGICOS | D86: PACIENTES INTERVENIDOS | F86: HORARIO HÁBIL | J86: INHABIL DE LUNES A VIERNES | N86: SÁBADO, DOMINGO Y FESTIVO
F87: Pacientes Programados | H87: Pacientes Suspendidos | J87: Pacientes Programados | L87: Pacientes Suspendidos | N87: Pacientes Programados | P87: Pacientes Suspendidos
B88: Menor de 15 años | C88: 15 y más años | D88: Menor de 15 años | E88: 15 y más años | F88: Menor de 15 años | G88: 15 y más años | H88: Menor de 15 años | I88: 15 y más años | J88: Menor de 15 años | K88: 15 y más años | L88: Menor de 15 años | M88: 15 y más años | N88: Menor de 15 años | O88: 15 y más años | P88: Menor de 15 años | Q88: 15 y más años
A89: Cirugía General | C89: 5.4623116 | D89: 58 | E89: 199 | F89: 46 | G89: 133 | H89: 2 | I89: 7 | J89: 16 | K89: 66 | L89: 2 | M89: 2 | O89: 9 | R89: =AT89&AU89&AV89 | AT89: =IF((D89+E89)<((F89+G89)-(H89+I89)),"* La suma de "&D$86&""&" debe ser mayor o igual a la Diferencia de "&F$87&""&" menos Pacientes Suspendidos","") | BC89: =IF((D89+E89)<((F89+G89)-(H89+I89)),1,0) -> 0
A90: Cirugía Cardiovascular | R90: =AT90&AU90&AV90 | AT90: =IF((D90+E90)<((F90+G90)-(H90+I90)),"* La suma de "&D$86&""&" debe ser mayor o igual a la Diferencia de "&F$87&""&" menos Pacientes Suspendidos","") | BC90: =IF((D90+E90)<((F90+G90)-(H90+I90)),1,0) -> 0
A91: Cirugía Maxilofacial | C91: 0 | D91: 1 | E91: 5 | F91: 1 | G91: 5 | R91: =AT91&AU91&AV91 | AT91: =IF((D91+E91)<((F91+G91)-(H91+I91)),"* La suma de "&D$86&""&" debe ser mayor o igual a la Diferencia de "&F$87&""&" menos Pacientes Suspendidos","") | BC91: =IF((D91+E91)<((F91+G91)-(H91+I91)),1,0) -> 0
A92: Cirugía Tórax | R92: =AT92&AU92&AV92 | AT92: =IF((D92+E92)<((F92+G92)-(H92+I92)),"* La suma de "&D$86&""&" debe ser mayor o igual a la Diferencia de "&F$87&""&" menos Pacientes Suspendidos","") | BC92: =IF((D92+E92)<((F92+G92)-(H92+I92)),1,0) -> 0
A93: Traumatología | B93: 2 | C93: 2.8557692 | D93: 8 | E93: 104 | F93: 9 | G93: 81 | H93: 1 | I93: 3 | K93: 21 | M93: 1 | O93: 6 | R93: =AT93&AU93&AV93 | AT93: =IF((D93+E93)<((F93+G93)-(H93+I93)),"* La suma de "&D$86&""&" debe ser mayor o igual a la Diferencia de "&F$87&""&" menos Pacientes Suspendidos","") | BC93: =IF((D93+E93)<((F93+G93)-(H93+I93)),1,0) -> 0
A94: Neurocirugía | R94: =AT94&AU94&AV94 | AT94: =IF((D94+E94)<((F94+G94)-(H94+I94)),"* La suma de "&D$86&""&" debe ser mayor o igual a la Diferencia de "&F$87&""&" menos Pacientes Suspendidos","") | BC94: =IF((D94+E94)<((F94+G94)-(H94+I94)),1,0) -> 0
A95: Otorrinolaringología | C95: 0 | D95: 26 | E95: 4 | F95: 3 | J95: 16 | L95: 1 | N95: 8 | O95: 4 | R95: =AT95&AU95&AV95 | AT95: =IF((D95+E95)<((F95+G95)-(H95+I95)),"* La suma de "&D$86&""&" debe ser mayor o igual a la Diferencia de "&F$87&""&" menos Pacientes Suspendidos","") | BC95: =IF((D95+E95)<((F95+G95)-(H95+I95)),1,0) -> 0
A96: Oftalmología | C96: 0 | E96: 246 | G96: 111 | I96: 5 | K96: 22 | O96: 120 | Q96: 2 | R96: =AT96&AU96&AV96 | AT96: =IF((D96+E96)<((F96+G96)-(H96+I96)),"* La suma de "&D$86&""&" debe ser mayor o igual a la Diferencia de "&F$87&""&" menos Pacientes Suspendidos","") | BC96: =IF((D96+E96)<((F96+G96)-(H96+I96)),1,0) -> 0
A97: Obstetricia Y Ginecología | C97: 0.3255814 | E97: 43 | G97: 8 | K97: 36 | M97: 1 | R97: =AT97&AU97&AV97 | AT97: =IF((D97+E97)<((F97+G97)-(H97+I97)),"* La suma de "&D$86&""&" debe ser mayor o igual a la Diferencia de "&F$87&""&" menos Pacientes Suspendidos","") | BC97: =IF((D97+E97)<((F97+G97)-(H97+I97)),1,0) -> 0
A98: Ginecología | C98: 0.72131148 | E98: 61 | G98: 52 | I98: 7 | K98: 17 | M98: 1 | R98: =AT98&AU98&AV98 | AT98: =IF((D98+E98)<((F98+G98)-(H98+I98)),"* La suma de "&D$86&""&" debe ser mayor o igual a la Diferencia de "&F$87&""&" menos Pacientes Suspendidos","") | BC98: =IF((D98+E98)<((F98+G98)-(H98+I98)),1,0) -> 0
A99: Urología | C99: 9.8888889 | E99: 9 | G99: 9 | I99: 1 | K99: 1 | R99: =AT99&AU99&AV99 | AT99: =IF((D99+E99)<((F99+G99)-(H99+I99)),"* La suma de "&D$86&""&" debe ser mayor o igual a la Diferencia de "&F$87&""&" menos Pacientes Suspendidos","") | BC99: =IF((D99+E99)<((F99+G99)-(H99+I99)),1,0) -> 0
A100: Otras Especialidades | C100: 7.4 | E100: 5 | G100: 4 | K100: 1 | O100: 1 | Q100: 1 | R100: =AT100&AU100&AV100 | AT100: =IF((D100+E100)<((F100+G100)-(H100+I100)),"* La suma de "&D$86&""&" debe ser mayor o igual a la Diferencia de "&F$87&""&" menos Pacientes Suspendidos","") | BC100: =IF((D100+E100)<((F100+G100)-(H100+I100)),1,0) -> 0
A101: Odontología | R101: =AT101&AU101&AV101 | AT101: =IF((D101+E101)<((F101+G101)-(H101+I101)),"* La suma de "&D$86&""&" debe ser mayor o igual a la Diferencia de "&F$87&""&" menos Pacientes Suspendidos","") | BC101: =IF((D101+E101)<((F101+G101)-(H101+I101)),1,0) -> 0
A102: TOTAL | B102: =SUM(B89:B101) -> 2 | C102: =SUM(C89:C101) -> 26.653863 | D102: =SUM(D89:D101) -> 93 | E102: =SUM(E89:E101) -> 676 | F102: =SUM(F89:F101) -> 59 | G102: =SUM(G89:G101) -> 403 | H102: =SUM(H89:H101) -> 3 | I102: =SUM(I89:I101) -> 23 | ... Q102: =SUM(Q89:Q101) -> 3
...

Sheet AGOSTO
A1: SERVICIO DE SALUD
A2: =CONCATENATE("COMUNA: ",[9]NOMBRE!B2, " (",[9]NOMBRE!C2,[9]NOMBRE!D2,[9]NOMBRE!E2,[9]NOMBRE!F2,[9]NOMBRE!G2,")") -> COMUNA: LINARES (07401)
A3: =CONCATENATE("ESTABLECIMIENTO/ESTRATEGIA: ", [9]NOMBRE!B3, " (",[9]NOMBRE!C3,[9]NOMBRE!D3,[9]NOMBRE!E3,[9]NOMBRE!F3,[9]NOMBRE!G3,[9]NOMBRE!H3,")") -> ESTABLECIMIENTO/ESTRATEGIA: HOSPITAL PRESIDENTE CARLOS IBAÑEZ DEL CAMPO (116108)
A4: =CONCATENATE("MES: ",[9]NOMBRE!B6, " (",[9]NOMBRE!C6,[9]NOMBRE!D6,")") -> MES: AGOSTO (08)
A5: =CONCATENATE("AÑO: ",[9]NOMBRE!B7) -> AÑO: 2025
A6: REM-21. QUIRÓFANOS Y OTROS RECURSOS HOSPITALARIOS
A8: SECCIÓN A: CAPACIDAD INSTALADA Y UTILIZACIÓN DE LOS QUIRÓFANOS CIRUGÍA MAYOR
A9: TIPO DE QUIRÓFANOS | B9: Número de Quirófanos en Dotación | C9: Promedio Mensual de Quirófanos Habilitados | D9: Promedio Mensual de Quirófanos en Trabajo | E9: Total de Horas Mensuales de Quirófanos Habilitados (Horario Hábil) | F9: Total de Horas Mensuales de Quirófanos en Trabajo (Horario Hábil) | G9: QUIRÓFANOS CIRUGIA MAYOR | Z9: CIRUGIAS MENORES Y PROCEDIMIENTOS *
G10: Horas Mensuales Programadas de Tabla Quirúrgica de Quirófanos en Trabajo, Horario Hábil | K10: Horas Mensuales Ocupadas de Quirófanos en Trabajo Horario Hábil | P10: Horas Mensuales Ocupadas de Quirófanos en Trabajo Horario Inhábil de Lunes a Viernes | U10: Horas Mensuales Ocupadas de Quirófanos en Trabajo Horario Sábado, Domingo y Festivo | Z10: Total Horas Mensuales Ocupadas de Quirófanos en Trabajo, Horario Hábil | AC10: Total Horas Mensuales Ocupadas de Quirófanos en Trabajo, Horario Inhábil
G12: Total | H12: Beneficiarios MAI | I12: Beneficiarios MLE | J12: Otros | K12: Total | L12: Beneficiarios MAI | M12: Beneficiarios MLE | N12: Otros | O12: De recambio | P12: Total | Q12: Beneficiarios MAI | R12: Beneficiarios MLE | S12: Otros | T12: De recambio | U12: Total | V12: Beneficiarios MAI | W12: Beneficiarios MLE | X12: Otros | Y12: De recambio | Z12: Total | AA12: Cirugía Menor | AB12: Otros Procedimientos | AC12: Total | AD12: Cirugía Menor | AE12: Otros Procedimientos
A13: TOTAL QUIRÓFANOS | B13: =SUM(B14:B17) -> 6 | C13: =SUM(C14:C17) -> 6 | D13: =SUM(D14:D17) -> 6 | E13: =SUM(E14:E17) -> 1524 | F13: =SUM(F14:F17) -> 1449 | G13: =SUM(G14:G17) -> 717 | H13: =SUM(H14:H17) -> 717 | I13: =SUM(I14:I17) -> 0 | ... AE13: =SUM(AE14:AE17) -> 6.94
A14: De Cirugía Electiva | B14: 5 | C14: 5 | D14: 5 | E14: 780 | F14: 717 | G14: =SUM(H14:J14) -> 717 | H14: 717 | I14: 0 | J14: 0 | K14: =SUM(L14:O14) -> 671.16 | L14: 549.18 | M14: 0 | N14: 0.48 | O14: 121.5 | P14: =SUM(Q14:T14) -> 285.55 | Q14: 53.7 | R14: 167.42 | S14: 10.93 | T14: 53.5 | U14: =SUM(V14:Y14) -> 108.28 | V14: 61.28 | W14: 9.75 | X14: 0 | Y14: 37.25 | Z14: =SUM(AA14:AB14) -> 64.03 | AA14: 47.63 | AB14: 16.4 | AC14: =SUM(AD14:AE14) -> 8.92 | AD14: 6.86 | AE14: 2.06
A15: De Urgencia | B15: 1 | C15: 1 | D15: 1 | E15: 744 | F15: 732 | G15: =SUM(H15:J15) -> 0 | H15: 0 | I15: 0 | J15: 0 | K15: =SUM(L15:O15) -> 103.9 | L15: 86.02 | M15: 0.83 | N15: 3.8 | O15: 13.25 | P15: =SUM(Q15:T15) -> 123.7 | Q15: 101.25 | R15: 3.45 | S15: 1.5 | T15: 17.5 | U15: =SUM(V15:Y15) -> 89.35 | V15: 74.42 | W15: 2.13 | X15: 2.05 | Y15: 10.75 | Z15: =SUM(AA15:AB15) -> 9.27 | AA15: 3.61 | AB15: 5.66 | AC15: =SUM(AD15:AE15) -> 16.01 | AD15: 11.13 | AE15: 4.88
A16: Obstétrico | G16: =SUM(H16:J16) -> 0 | K16: =SUM(L16:O16) -> 0 | P16: =SUM(Q16:T16) -> 0 | U16: =SUM(V16:Y16) -> 0 | Z16: =SUM(AA16:AB16) -> 0 | AC16: =SUM(AD16:AE16) -> 0
A17: Indiferenciado | G17: =SUM(H17:J17) -> 0 | K17: =SUM(L17:O17) -> 0 | P17: =SUM(Q17:T17) -> 0 | U17: =SUM(V17:Y17) -> 0 | Z17: =SUM(AA17:AB17) -> 0 | AC17: =SUM(AD17:AE17) -> 0
A18: * Las horas informadas en cirugía menores y procedimientos, deben estar contenidas en las horas ocupadas, en quirófanos para cirugía mayor.
A19: SECCIÓN B: PROCEDIMIENTOS COMPLEJOS AMBULATORIOS
A20: COMPONENTES | B20: TOTAL | C20: Hemodiálisis | D20: Cirugía Mayor Ambulatoria | E20: Coronariografía | F20: Otras
A21: Recurso Disponible | B21: =SUM(C21:F21) -> 10 | D21: 10
A22: Ingresos | B22: =SUM(C22:F22) -> 474 | D22: 474
A23: Personas Atendidas | B23: =SUM(C23:F23) -> 474 | D23: 474
A24: Días Personas Atendidas | B24: =SUM(C24:F24) -> 474 | D24: 474
A25: Altas | B25: =SUM(C25:F25) -> 475 | D25: 475
A26: SECCIÓN C: HOSPITALIZACIÓN DOMICILIARIA Y ATENCIÓN VENTILATORIA EN DOMICILIO
A27: SECCIÓN C.1:HOSPITALIZACIÓN DOMICILIARIA
A28: SECCIÓN C.1.1: PERSONAS ATENDIDAS EN EL PROGRAMA
A29: COMPONENTES | C29: TOTAL | D29: RANGO ETARIO | H29: ORIGEN DE LA DERIVACIÓN | N29: SEXO
D30: Menor de 15 años | E30: 15 - 19 años | F30: 20 - 59 años | G30: 60 y más años | H30: APS | I30: Urgencia | J30: Hospitalización | K30: Ambulatorio | L30: Ley de Urgencia | M30: UGCC | N30: Hombres | O30: Mujeres
A31: Ingresos | C31: =SUM(D31:G31) -> 123 | D31: 0 | E31: 4 | F31: 32 | G31: 87 | H31: 4 | I31: 51 | J31: 52 | K31: 16 | L31: 0 | M31: 0 | N31: 62 | O31: 61 | P31: =AW31&AX31&AY31&AZ31&BA31&BB31&BC31&BD31 | AW31: =IF(AND($C31>0,H31="")," * No olvide digitar la variable "&H$29&""&" APS. Digite CERO si no tiene.","") | AX31: =IF(AND($C31>0,I31="")," * No olvide digitar la variable "&$H$29&""&" Urgencia. Digite CERO si no tiene.","") | AY31: =IF(AND($C31>0,J31="")," * No olvide digitar la variable "&$H$29&""&" Hospitalización. Digite CERO si no tiene.","") | AZ31: =IF(AND($C31>0,K31="")," * No olvide digitar la variable "&$H$29&""&" Ambulatorio. Digite CERO si no tiene.","") | BA31: =IF(AND($C31>0,L31="")," * No olvide digitar la variable "&$H$29&""&" Ley de Urgencia. Digite CERO si no tiene.","") | BB31: =IF(AND($C31>0,M31="")," * No olvide digitar la variable "&$H$29&""&" UGCC. Digite CERO si no tiene.","") | BC31: =IF(AND(H31+I31+J31+K31+L31+M31>$C31)," * La variable "&$H$29&""&" No puede ser mayor al Total.","") | BD31: =IF(AND(N31+O31>$C31)," * La variable "&$N$29&""&" No puede ser mayor al Total.","") | BF31: =IF(AND($C31>0,H31=""),1,0) -> 0 | BG31: =IF(AND($C31>0,I31=""),1,0) -> 0 | BH31: =IF(AND($C31>0,J31=""),1,0) -> 0 | BI31: =IF(AND($C31>0,K31=""),1,0) -> 0 | BJ31: =IF(AND($C31>0,L31=""),1,0) -> 0 | BK31: =IF(AND($C31>0,M31=""),1,0) -> 0 | BL31: =IF(AND(H31+I31+J31+K31+L31+M31>$C31),1,0) -> 0 | BM31: =IF(AND(N31+O31>$C31),1,0) -> 0
A32: Personas Atendidas | C32: =SUM(D32:G32) -> 160 | D32: 0 | E32: 5 | F32: 40 | G32: 115 | N32: 79 | O32: 81 | P32: =BD32 | BD32: =IF(AND(N32+O32>$C32)," * La variable "&$N$29&""&" No puede ser mayor al Total.","") | BM32: =IF(AND(N32+O32>$C32),1,0) -> 0
A33: Días Personas Atendidas | C33: =SUM(D33:G33) -> 1053 | D33: 0 | E33: 21 | F33: 285 | G33: 747 | N33: 533 | O33: 520 | P33: =BD33 | BD33: =IF(AND(N33+O33>$C33)," * La variable "&$N$29&""&" No puede ser mayor al Total.","") | BM33: =IF(AND(N33+O33>$C33),1,0) -> 0
A34: Altas | C34: =SUM(D34:G34) -> 110 | D34: 0 | E34: 3 | F34: 30 | G34: 77 | N34: 55 | O34: 55 | P34: =BD34 | BD34: =IF(AND(N34+O34>$C34)," * La variable "&$N$29&""&" No puede ser mayor al Total.","") | BM34: =IF(AND(N34+O34>$C34),1,0) -> 0
A35: Fallecidos | B35: Esperados | C35: =SUM(D35:G35) -> 2 | D35: 0 | E35: 0 | F35: 0 | G35: 2 | N35: 0 | O35: 2 | P35: =BD35 | BD35: =IF(AND(N35+O35>$C35)," * La variable "&$N$29&""&" No puede ser mayor al Total.","") | BM35: =IF(AND(N35+O35>$C35),1,0) -> 0
B36: No esperados | C36: =SUM(D36:G36) -> 0 | D36: 0 | E36: 0 | F36: 0 | G36: 0 | N36: 0 | O36: 0 | P36: =BD36 | BD36: =IF(AND(N36+O36>$C36)," * La variable "&$N$29&""&" No puede ser mayor al Total.","") | BM36: =IF(AND(N36+O36>$C36),1,0) -> 0
A37: Reingresos a Hospitalización Tradicional | C37: =SUM(D37:G37) -> 10 | D37: 0 | E37: 0 | F37: 1 | G37: 9 | N37: 4 | O37: 6 | P37: =BD37 | BD37: =IF(AND(N37+O37>$C37)," * La variable "&$N$29&""&" No puede ser mayor al Total.","") | BM37: =IF(AND(N37+O37>$C37),1,0) -> 0
A38: SECCIÓN C.1.2: VISITAS REALIZADAS
A39: PROFESIONALES | B39: Total de Visitas
A40: Médico | B40: 240
A41: Enfermera | B41: 887
A42: Técnico en Enfermería | B42: 1172
A43: Matrona | B43: 0
A44: Kinesiólogo | B44: 609
A45: Psicólogo | B45: 0
A46: Fonoaudiólogo/a | B46: 39
A47: Trabajador/a Social | B47: 0
A48: Terapeuta Ocupacional | B48: 0
A49: SECCIÓN C.1.3: CUPOS DISPONIBLES EN UNIDAD DE HOSPITALIZACIÓN DOMICILIARIA
A50: COMPONENTES | B50: TOTAL | C50: N° de Cupos | D50: N° de cupos Campaña Invierno Adicionales | E50: N° de cupos Campaña de Invierno
A51: Número Cupos Programados | B51: =SUM(C51:E51) -> 1240 | C51: 930 | D51: 310
A52: Número Cupos Utilizados | B52: =SUM(C52:E52) -> 1053 | C52: 775 | D52: 278
A53: Número de Cupos Disponibles | B53: =SUM(C53:E53) -> 187 | C53: 155 | D53: 32
A54: SECCIÓN C.2 ATENCIÓN VENTILATORIA EN DOMICILIO
A55: SECCIÓN C.2.1: ASISTENCIA VENTILATORIA Y OXÍGENO EN DOMICILIO
A56: TIPO DE ESTRATEGIA | B56: TOTAL | C56: 0-9 años | D56: 10 - 19 años | E56: 20 y más años | F56: N° de cupos Campaña de Invierno
A57: Estrategia de Asistencia Ventilatoria Invasiva en Domicilio | B57: =SUM(C57:E57) -> 0
A58: Estrategia de Asistencia Ventilatoria no Invasiva en Domicilio | B58: =SUM(C58:E58) -> 0
A59: Estrategia Oxígeno Domiciliario para pacientes Crónicos | B59: =SUM(C59:E59) -> 0
A60: SECCIÓN C.2.2: INGRESOS Y EGRESOS AL PROGRAMA ASISTENCIA VENTILATORIA EN DOMICILIO
A61: ACTIVIDAD | B61: INGRESOS | E61: Número de egresos | F61: Número de personas activas | G61: Número de controles médicos
B62: TOTAL (Ambos sexos) | C62: Hombres | D62: Mujeres
A63: Asistencia Ventilatoria Invasiva Infantil (AVI) | B63: =SUM(C63:D63) -> 0
A64: Asistencia Ventilatoria Invasiva Del Adulto (AVIA) | B64: =SUM(C64:D64) -> 0
A65: Asistencia Ventilatoria no Invasiva Infantil (AVNI) | B65: =SUM(C65:D65) -> 0
A66: Asistencia Ventilatoria no Invasiva Adulto (AVNIA) | B66: =SUM(C66:D66) -> 0
A67: Oxigenoterapia Ambulatorio Crónico Respiratorio Infantil | B67: =SUM(C67:D67) -> 0
A68: Oxigenoterapia Ambulatorio Crónico Respiratorio Adulto | B68: =SUM(C68:D68) -> 0
A69: TOTAL | B69: =SUM(B63:B68) -> 0 | C69: =SUM(C63:C68) -> 0 | D69: =SUM(D63:D68) -> 0 | E69: =SUM(E63:E68) -> 0 | F69: =SUM(F63:F68) -> 0 | G69: =SUM(G63:G68) -> 0
A70: SECCIÓN C.2.3: INGRESO PROGRAMA ASISTENCIA VENTILATORIA Y OXÍGENO EN DOMICILIO SEGÚN DIAGNÓSTICO
A71: CAUSAS DE INGRESO | B71: Asistencia Ventilatoria Invasiva Infantil (AVI) | C71: Asistencia Ventilatoria Invasiva Del Adulto (AVIA) | D71: Asistencia Ventilatoria no Invasiva Infantil (AVNI) | E71: Asistencia Ventilatoria no Invasiva Adulto (AVNIA) | F71: Oxigenoterapia Ambulatorio Crónico Respiratorio Infantil | G71: Oxigenoterapia Ambulatorio Crónico Respiratorio Adulto | H71: Pueblos originarios | I71: Migrantes
A72: Enfermedad neuromuscular
A73: Daño pulmonar crónico
A74: Daño sistema nervioso central
A75: Sindrome genético
A76: Displasia Broncopulmonar
A77: SECCIÓN D: APOYO PSICOSOCIAL EN NIÑOS, NIÑAS Y ADOLESCENTES HOSPITALIZADOS
A78: CONCEPTO | B78: INTERVENCIÓN | C78: TOTAL | D78: RANGO ETARIO
D79: Hasta 28 días | E79: 29 días hasta menor de 1 año | F79: 1 - 4 años | G79: 5 - 9 años | H79: 10 - 14 años | I79: 15 - 19 años
A80: TOTAL DE EGRESOS (en el período) | C80: =SUM(D80:I80) -> 194 | D80: 29 | E80: 28 | F80: 44 | G80: 28 | H80: 34 | I80: 31
A81: Egresados con Apoyo Psicosocial (en el período) | B81: Intervención Psicosocial | C81: =SUM(D81:I81) -> 54 | D81: 24 | E81: 22 | F81: 8
B82: Estimulación del Desarrollo | C82: =SUM(D82:I82) -> 61 | D82: 28 | E82: 17 | F82: 16
A83: Nº de Atenciones (en el mes) | B83: Intervención Psicosocial | C83: =SUM(D83:I83) -> 126 | D83: 58 | E83: 57 | F83: 11
B84: Estimulación del Desarrollo | C84: =SUM(D84:I84) -> 194 | D84: 103 | E84: 62 | F84: 29
A85: SECCIÓN E: GESTIÓN DE PROCESOS DE PACIENTES QUIRÚRGICOS CON CIRUGÍA ELECTIVA
A86: ESPECIALIDAD | B86: DÍAS DE ESTADA PREQUIRÚRGICOS | D86: PACIENTES INTERVENIDOS | F86: HORARIO HÁBIL | J86: INHABIL DE LUNES A VIERNES | N86: SÁBADO, DOMINGO Y FESTIVO
F87: Pacientes Programados | H87: Pacientes Suspendidos | J87: Pacientes Programados | L87: Pacientes Suspendidos | N87: Pacientes Programados | P87: Pacientes Suspendidos
B88: Menor de 15 años | C88: 15 y más años | D88: Menor de 15 años | E88: 15 y más años | F88: Menor de 15 años | G88: 15 y más años | H88: Menor de 15 años | I88: 15 y más años | J88: Menor de 15 años | K88: 15 y más años | L88: Menor de 15 años | M88: 15 y más años | N88: Menor de 15 años | O88: 15 y más años | P88: Menor de 15 años | Q88: 15 y más años
A89: Cirugía General | C89: 3 | D89: 58 | E89: =3+131+1+12 -> 147 | F89: 41 | G89: =85+10 -> 95 | H89: 4 | I89: 11 | J89: 12 | K89: 61 | N89: 12 | O89: 3 | P89: 3 | Q89: 1 | R89: =AT89&AU89&AV89 | AT89: =IF((D89+E89)<((F89+G89)-(H89+I89)),"* La suma de "&D$86&""&" debe ser mayor o igual a la Diferencia de "&F$87&""&" menos Pacientes Suspendidos","") | BC89: =IF((D89+E89)<((F89+G89)-(H89+I89)),1,0) -> 0
A90: Cirugía Cardiovascular | R90: =AT90&AU90&AV90 | AT90: =IF((D90+E90)<((F90+G90)-(H90+I90)),"* La suma de "&D$86&""&" debe ser mayor o igual a la Diferencia de "&F$87&""&" menos Pacientes Suspendidos","") | BC90: =IF((D90+E90)<((F90+G90)-(H90+I90)),1,0) -> 0
A91: Cirugía Maxilofacial | C91: 2 | D91: 1 | E91: 4 | F91: 1 | G91: 4 | R91: =AT91&AU91&AV91 | AT91: =IF((D91+E91)<((F91+G91)-(H91+I91)),"* La suma de "&D$86&""&" debe ser mayor o igual a la Diferencia de "&F$87&""&" menos Pacientes Suspendidos","") | BC91: =IF((D91+E91)<((F91+G91)-(H91+I91)),1,0) -> 0
A92: Cirugía Tórax | R92: =AT92&AU92&AV92 | AT92: =IF((D92+E92)<((F92+G92)-(H92+I92)),"* La suma de "&D$86&""&" debe ser mayor o igual a la Diferencia de "&F$87&""&" menos Pacientes Suspendidos","") | BC92: =IF((D92+E92)<((F92+G92)-(H92+I92)),1,0) -> 0
A93: Traumatología | C93: 2 | D93: 10 | E93: 86 | F93: 10 | G93: 61 | I93: 1 | K93: 26 | M93: 4 | O93: 5 | Q93: 1 | R93: =AT93&AU93&AV93 | AT93: =IF((D93+E93)<((F93+G93)-(H93+I93)),"* La suma de "&D$86&""&" debe ser mayor o igual a la Diferencia de "&F$87&""&" menos Pacientes Suspendidos","") | BC93: =IF((D93+E93)<((F93+G93)-(H93+I93)),1,0) -> 0
A94: Neurocirugía | R94: =AT94&AU94&AV94 | AT94: =IF((D94+E94)<((F94+G94)-(H94+I94)),"* La suma de "&D$86&""&" debe ser mayor o igual a la Diferencia de "&F$87&""&" menos Pacientes Suspendidos","") | BC94: =IF((D94+E94)<((F94+G94)-(H94+I94)),1,0) -> 0
A95: Otorrinolaringología | C95: 12 | D95: 36 | E95: 6 | F95: 7 | G95: 4 | J95: 18 | K95: 2 | M95: 1 | N95: 11 | O95: 1 | R95: =AT95&AU95&AV95 | AT95: =IF((D95+E95)<((F95+G95)-(H95+I95)),"* La suma de "&D$86&""&" debe ser mayor o igual a la Diferencia de "&F$87&""&" menos Pacientes Suspendidos","") | BC95: =IF((D95+E95)<((F95+G95)-(H95+I95)),1,0) -> 0
A96: Oftalmología | E96: 254 | G96: 116 | I96: 4 | K96: 26 | O96: 120 | Q96: 4 | R96: =AT96&AU96&AV96 | AT96: =IF((D96+E96)<((F96+G96)-(H96+I96)),"* La suma de "&D$86&""&" debe ser mayor o igual a la Diferencia de "&F$87&""&" menos Pacientes Suspendidos","") | BC96: =IF((D96+E96)<((F96+G96)-(H96+I96)),1,0) -> 0
A97: Obstetricia Y Ginecología | C97: 1 | E97: 49 | G97: 5 | K97: 44 | R97: =AT97&AU97&AV97 | AT97: =IF((D97+E97)<((F97+G97)-(H97+I97)),"* La suma de "&D$86&""&" debe ser mayor o igual a la Diferencia de "&F$87&""&" menos Pacientes Suspendidos","") | BC97: =IF((D97+E97)<((F97+G97)-(H97+I97)),1,0) -> 0
A98: Ginecología | B98: 1 | D98: 1 | E98: 64 | F98: 1 | G98: 59 | I98: 8 | K98: 14 | M98: 1 | O98: 1 | Q98: 1 | R98: =AT98&AU98&AV98 | AT98: =IF((D98+E98)<((F98+G98)-(H98+I98)),"* La suma de "&D$86&""&" debe ser mayor o igual a la Diferencia de "&F$87&""&" menos Pacientes Suspendidos","") | BC98: =IF((D98+E98)<((F98+G98)-(H98+I98)),1,0) -> 0
A99: Urología | C99: 4 | E99: 19 | G99: 15 | O99: 5 | Q99: 1 | R99: =AT99&AU99&AV99 | AT99: =IF((D99+E99)<((F99+G99)-(H99+I99)),"* La suma de "&D$86&""&" debe ser mayor o igual a la Diferencia de "&F$87&""&" menos Pacientes Suspendidos","") | BC99: =IF((D99+E99)<((F99+G99)-(H99+I99)),1,0) -> 0
A100: Otras Especialidades | C100: 10 | E100: 15 | G100: 11 | K100: 2 | O100: 2 | R100: =AT100&AU100&AV100 | AT100: =IF((D100+E100)<((F100+G100)-(H100+I100)),"* La suma de "&D$86&""&" debe ser mayor o igual a la Diferencia de "&F$87&""&" menos Pacientes Suspendidos","") | BC100: =IF((D100+E100)<((F100+G100)-(H100+I100)),1,0) -> 0
A101: Odontología | R101: =AT101&AU101&AV101 | AT101: =IF((D101+E101)<((F101+G101)-(H101+I101)),"* La suma de "&D$86&""&" debe ser mayor o igual a la Diferencia de "&F$87&""&" menos Pacientes Suspendidos","") | BC101: =IF((D101+E101)<((F101+G101)-(H101+I101)),1,0) -> 0
A102: TOTAL | B102: =SUM(B89:B101) -> 1 | C102: =SUM(C89:C101) -> 34 | D102: =SUM(D89:D101) -> 106 | E102: =SUM(E89:E101) -> 644 | F102: =SUM(F89:F101) -> 60 | G102: =SUM(G89:G101) -> 370 | H102: =SUM(H89:H101) -> 4 | I102: =SUM(I89:I101) -> 24 | ... Q102: =SUM(Q89:Q101) -> 8
...

Sheet SEPTIEMBRE
A1: SERVICIO DE SALUD
A2: =CONCATENATE("COMUNA: ",[10]NOMBRE!B2, " (",[10]NOMBRE!C2,[10]NOMBRE!D2,[10]NOMBRE!E2,[10]NOMBRE!F2,[10]NOMBRE!G2,")") -> COMUNA: LINARES (07401)
A3: =CONCATENATE("ESTABLECIMIENTO/ESTRATEGIA: ", [10]NOMBRE!B3, " (",[10]NOMBRE!C3,[10]NOMBRE!D3,[10]NOMBRE!E3,[10]NOMBRE!F3,[10]NOMBRE!G3,[10]NOMBRE!H3,")") -> ESTABLECIMIENTO/ESTRATEGIA: HOSPITAL PRESIDENTE CARLOS IBAÑEZ DEL CAMPO (116108)
A4: =CONCATENATE("MES: ",[10]NOMBRE!B6, " (",[10]NOMBRE!C6,[10]NOMBRE!D6,")") -> MES: SEPTIEMBRE (09)
A5: =CONCATENATE("AÑO: ",[10]NOMBRE!B7) -> AÑO: 2025
A6: REM-21. QUIRÓFANOS Y OTROS RECURSOS HOSPITALARIOS
A8: SECCIÓN A: CAPACIDAD INSTALADA Y UTILIZACIÓN DE LOS QUIRÓFANOS CIRUGÍA MAYOR
A9: TIPO DE QUIRÓFANOS | B9: Número de Quirófanos en Dotación | C9: Promedio Mensual de Quirófanos Habilitados | D9: Promedio Mensual de Quirófanos en Trabajo | E9: Total de Horas Mensuales de Quirófanos Habilitados (Horario Hábil) | F9: Total de Horas Mensuales de Quirófanos en Trabajo (Horario Hábil) | G9: QUIRÓFANOS CIRUGIA MAYOR | Z9: CIRUGIAS MENORES Y PROCEDIMIENTOS *
G10: Horas Mensuales Programadas de Tabla Quirúrgica de Quirófanos en Trabajo, Horario Hábil | K10: Horas Mensuales Ocupadas de Quirófanos en Trabajo Horario Hábil | P10: Horas Mensuales Ocupadas de Quirófanos en Trabajo Horario Inhábil de Lunes a Viernes | U10: Horas Mensuales Ocupadas de Quirófanos en Trabajo Horario Sábado, Domingo y Festivo | Z10: Total Horas Mensuales Ocupadas de Quirófanos en Trabajo, Horario Hábil | AC10: Total Horas Mensuales Ocupadas de Quirófanos en Trabajo, Horario Inhábil
G12: Total | H12: Beneficiarios MAI | I12: Beneficiarios MLE | J12: Otros | K12: Total | L12: Beneficiarios MAI | M12: Beneficiarios MLE | N12: Otros | O12: De recambio | P12: Total | Q12: Beneficiarios MAI | R12: Beneficiarios MLE | S12: Otros | T12: De recambio | U12: Total | V12: Beneficiarios MAI | W12: Beneficiarios MLE | X12: Otros | Y12: De recambio | Z12: Total | AA12: Cirugía Menor | AB12: Otros Procedimientos | AC12: Total | AD12: Cirugía Menor | AE12: Otros Procedimientos
A13: TOTAL QUIRÓFANOS | B13: =SUM(B14:B17) -> 6 | C13: =SUM(C14:C17) -> 6 | D13: =SUM(D14:D17) -> 5.81 | E13: =SUM(E14:E17) -> 1505 | F13: =SUM(F14:F17) -> 1431 | G13: =SUM(G14:G17) -> 735 | H13: =SUM(H14:H17) -> 735 | I13: =SUM(I14:I17) -> 0 | ... AE13: =SUM(AE14:AE17) -> 7.31
A14: De Cirugía Electiva | B14: 5 | C14: 5 | D14: 4.81 | E14: 785 | F14: 735 | G14: =SUM(H14:J14) -> 735 | H14: 735 | I14: 0 | J14: 0 | K14: =SUM(L14:O14) -> 580.69 | L14: 480.87 | M14: 2.92 | N14: 0.9 | O14: 96 | P14: =SUM(Q14:T14) -> 239.43 | Q14: 61.82 | R14: 123.13 | S14: 10.48 | T14: 44 | U14: =SUM(V14:Y14) -> 244.15 | V14: 154.02 | W14: 35.13 | X14: 0 | Y14: 55 | Z14: =SUM(AA14:AB14) -> 54.1 | AA14: 43.55 | AB14: 10.55 | AC14: =SUM(AD14:AE14) -> 12.91 | AD14: 11.11 | AE14: 1.8
A15: De Urgencia | B15: 1 | C15: 1 | D15: 1 | E15: 720 | F15: 696 | G15: =SUM(H15:J15) -> 0 | H15: 0 | I15: 0 | J15: 0 | K15: =SUM(L15:O15) -> 98.38 | L15: 85.43 | M15: 0.45 | N15: 0 | O15: 12.5 | P15: =SUM(Q15:T15) -> 105.93 | Q15: 89.1 | R15: 1.75 | S15: 1.08 | T15: 14 | U15: =SUM(V15:Y15) -> 162.46 | V15: 127.23 | W15: 12.8 | X15: 1.43 | Y15: 21 | Z15: =SUM(AA15:AB15) -> 7.01 | AA15: 3.8 | AB15: 3.21 | AC15: =SUM(AD15:AE15) -> 13.71 | AD15: 8.2 | AE15: 5.51
A16: Obstétrico | G16: =SUM(H16:J16) -> 0 | K16: =SUM(L16:O16) -> 0 | P16: =SUM(Q16:T16) -> 0 | U16: =SUM(V16:Y16) -> 0 | Z16: =SUM(AA16:AB16) -> 0 | AC16: =SUM(AD16:AE16) -> 0
A17: Indiferenciado | G17: =SUM(H17:J17) -> 0 | K17: =SUM(L17:O17) -> 0 | P17: =SUM(Q17:T17) -> 0 | U17: =SUM(V17:Y17) -> 0 | Z17: =SUM(AA17:AB17) -> 0 | AC17: =SUM(AD17:AE17) -> 0
A18: * Las horas informadas en cirugía menores y procedimientos, deben estar contenidas en las horas ocupadas, en quirófanos para cirugía mayor.
A19: SECCIÓN B: PROCEDIMIENTOS COMPLEJOS AMBULATORIOS
A20: COMPONENTES | B20: TOTAL | C20: Hemodiálisis | D20: Cirugía Mayor Ambulatoria | E20: Coronariografía | F20: Otras
A21: Recurso Disponible | B21: =SUM(C21:F21) -> 10 | D21: 10
A22: Ingresos | B22: =SUM(C22:F22) -> 389 | D22: 389
A23: Personas Atendidas | B23: =SUM(C23:F23) -> 389 | D23: 389
A24: Días Personas Atendidas | B24: =SUM(C24:F24) -> 389 | D24: 389
A25: Altas | B25: =SUM(C25:F25) -> 389 | D25: 389
A26: SECCIÓN C: HOSPITALIZACIÓN DOMICILIARIA Y ATENCIÓN VENTILATORIA EN DOMICILIO
A27: SECCIÓN C.1:HOSPITALIZACIÓN DOMICILIARIA
A28: SECCIÓN C.1.1: PERSONAS ATENDIDAS EN EL PROGRAMA
A29: COMPONENTES | C29: TOTAL | D29: RANGO ETARIO | H29: ORIGEN DE LA DERIVACIÓN | N29: SEXO
D30: Menor de 15 años | E30: 15 - 19 años | F30: 20 - 59 años | G30: 60 y más años | H30: APS | I30: Urgencia | J30: Hospitalización | K30: Ambulatorio | L30: Ley de Urgencia | M30: UGCC | N30: Hombres | O30: Mujeres
A31: Ingresos | C31: =SUM(D31:G31) -> 100 | D31: 0 | E31: 1 | F31: 16 | G31: 83 | H31: 3 | I31: 36 | J31: 37 | K31: 22 | L31: 0 | M31: 2 | N31: 52 | O31: 48 | P31: =AW31&AX31&AY31&AZ31&BA31&BB31&BC31&BD31 | AW31: =IF(AND($C31>0,H31="")," * No olvide digitar la variable "&H$29&""&" APS. Digite CERO si no tiene.","") | AX31: =IF(AND($C31>0,I31="")," * No olvide digitar la variable "&$H$29&""&" Urgencia. Digite CERO si no tiene.","") | AY31: =IF(AND($C31>0,J31="")," * No olvide digitar la variable "&$H$29&""&" Hospitalización. Digite CERO si no tiene.","") | AZ31: =IF(AND($C31>0,K31="")," * No olvide digitar la variable "&$H$29&""&" Ambulatorio. Digite CERO si no tiene.","") | BA31: =IF(AND($C31>0,L31="")," * No olvide digitar la variable "&$H$29&""&" Ley de Urgencia. Digite CERO si no tiene.","") | BB31: =IF(AND($C31>0,M31="")," * No olvide digitar la variable "&$H$29&""&" UGCC. Digite CERO si no tiene.","") | BC31: =IF(AND(H31+I31+J31+K31+L31+M31>$C31)," * La variable "&$H$29&""&" No puede ser mayor al Total.","") | BD31: =IF(AND(N31+O31>$C31)," * La variable "&$N$29&""&" No puede ser mayor al Total.","") | BF31: =IF(AND($C31>0,H31=""),1,0) -> 0 | BG31: =IF(AND($C31>0,I31=""),1,0) -> 0 | BH31: =IF(AND($C31>0,J31=""),1,0) -> 0 | BI31: =IF(AND($C31>0,K31=""),1,0) -> 0 | BJ31: =IF(AND($C31>0,L31=""),1,0) -> 0 | BK31: =IF(AND($C31>0,M31=""),1,0) -> 0 | BL31: =IF(AND(H31+I31+J31+K31+L31+M31>$C31),1,0) -> 0 | BM31: =IF(AND(N31+O31>$C31),1,0) -> 0
A32: Personas Atendidas | C32: =SUM(D32:G32) -> 138 | D32: 0 | E32: 3 | F32: 25 | G32: 110 | N32: 72 | O32: 66 | P32: =BD32 | BD32: =IF(AND(N32+O32>$C32)," * La variable "&$N$29&""&" No puede ser mayor al Total.","") | BM32: =IF(AND(N32+O32>$C32),1,0) -> 0
A33: Días Personas Atendidas | C33: =SUM(D33:G33) -> 914 | D33: 0 | E33: 17 | F33: 157 | G33: 740 | N33: 485 | O33: 429 | P33: =BD33 | BD33: =IF(AND(N33+O33>$C33)," * La variable "&$N$29&""&" No puede ser mayor al Total.","") | BM33: =IF(AND(N33+O33>$C33),1,0) -> 0
A34: Altas | C34: =SUM(D34:G34) -> 102 | D34: 0 | E34: 3 | F34: 15 | G34: 84 | N34: 51 | O34: 51 | P34: =BD34 | BD34: =IF(AND(N34+O34>$C34)," * La variable "&$N$29&""&" No puede ser mayor al Total.","") | BM34: =IF(AND(N34+O34>$C34),1,0) -> 0
A35: Fallecidos | B35: Esperados | C35: =SUM(D35:G35) -> 5 | D35: 0 | E35: 0 | F35: 0 | G35: 5 | N35: 2 | O35: 3 | P35: =BD35 | BD35: =IF(AND(N35+O35>$C35)," * La variable "&$N$29&""&" No puede ser mayor al Total.","") | BM35: =IF(AND(N35+O35>$C35),1,0) -> 0
B36: No esperados | C36: =SUM(D36:G36) -> 0 | D36: 0 | E36: 0 | F36: 0 | G36: 0 | N36: 0 | O36: 0 | P36: =BD36 | BD36: =IF(AND(N36+O36>$C36)," * La variable "&$N$29&""&" No puede ser mayor al Total.","") | BM36: =IF(AND(N36+O36>$C36),1,0) -> 0
A37: Reingresos a Hospitalización Tradicional | C37: =SUM(D37:G37) -> 9 | D37: 0 | E37: 0 | F37: 4 | G37: 5 | N37: 8 | O37: 1 | P37: =BD37 | BD37: =IF(AND(N37+O37>$C37)," * La variable "&$N$29&""&" No puede ser mayor al Total.","") | BM37: =IF(AND(N37+O37>$C37),1,0) -> 0
A38: SECCIÓN C.1.2: VISITAS REALIZADAS
A39: PROFESIONALES | B39: Total de Visitas
A40: Médico | B40: 235
A41: Enfermera | B41: 712
A42: Técnico en Enfermería | B42: 976
A43: Matrona | B43: 0
A44: Kinesiólogo | B44: 532
A45: Psicólogo | B45: 0
A46: Fonoaudiólogo/a | B46: 36
A47: Trabajador/a Social | B47: 0
A48: Terapeuta Ocupacional | B48: 0
A49: SECCIÓN C.1.3: CUPOS DISPONIBLES EN UNIDAD DE HOSPITALIZACIÓN DOMICILIARIA
A50: COMPONENTES | B50: TOTAL | C50: N° de Cupos | D50: N° de cupos Campaña Invierno Adicionales | E50: N° de cupos Campaña de Invierno
A51: Número Cupos Programados | B51: =SUM(C51:E51) -> 1104 | C51: 900 | D51: 204
A52: Número Cupos Utilizados | B52: =SUM(C52:E52) -> 914 | C52: 747 | D52: 167
A53: Número de Cupos Disponibles | B53: =SUM(C53:E53) -> 190 | C53: 153 | D53: 37
A54: SECCIÓN C.2 ATENCIÓN VENTILATORIA EN DOMICILIO
A55: SECCIÓN C.2.1: ASISTENCIA VENTILATORIA Y OXÍGENO EN DOMICILIO
A56: TIPO DE ESTRATEGIA | B56: TOTAL | C56: 0-9 años | D56: 10 - 19 años | E56: 20 y más años | F56: N° de cupos Campaña de Invierno
A57: Estrategia de Asistencia Ventilatoria Invasiva en Domicilio | B57: =SUM(C57:E57) -> 0
A58: Estrategia de Asistencia Ventilatoria no Invasiva en Domicilio | B58: =SUM(C58:E58) -> 0
A59: Estrategia Oxígeno Domiciliario para pacientes Crónicos | B59: =SUM(C59:E59) -> 0
A60: SECCIÓN C.2.2: INGRESOS Y EGRESOS AL PROGRAMA ASISTENCIA VENTILATORIA EN DOMICILIO
A61: ACTIVIDAD | B61: INGRESOS | E61: Número de egresos | F61: Número de personas activas | G61: Número de controles médicos
B62: TOTAL (Ambos sexos) | C62: Hombres | D62: Mujeres
A63: Asistencia Ventilatoria Invasiva Infantil (AVI) | B63: =SUM(C63:D63) -> 0
A64: Asistencia Ventilatoria Invasiva Del Adulto (AVIA) | B64: =SUM(C64:D64) -> 0
A65: Asistencia Ventilatoria no Invasiva Infantil (AVNI) | B65: =SUM(C65:D65) -> 0
A66: Asistencia Ventilatoria no Invasiva Adulto (AVNIA) | B66: =SUM(C66:D66) -> 0
A67: Oxigenoterapia Ambulatorio Crónico Respiratorio Infantil | B67: =SUM(C67:D67) -> 0
A68: Oxigenoterapia Ambulatorio Crónico Respiratorio Adulto | B68: =SUM(C68:D68) -> 0
A69: TOTAL | B69: =SUM(B63:B68) -> 0 | C69: =SUM(C63:C68) -> 0 | D69: =SUM(D63:D68) -> 0 | E69: =SUM(E63:E68) -> 0 | F69: =SUM(F63:F68) -> 0 | G69: =SUM(G63:G68) -> 0
A70: SECCIÓN C.2.3: INGRESO PROGRAMA ASISTENCIA VENTILATORIA Y OXÍGENO EN DOMICILIO SEGÚN DIAGNÓSTICO
A71: CAUSAS DE INGRESO | B71: Asistencia Ventilatoria Invasiva Infantil (AVI) | C71: Asistencia Ventilatoria Invasiva Del Adulto (AVIA) | D71: Asistencia Ventilatoria no Invasiva Infantil (AVNI) | E71: Asistencia Ventilatoria no Invasiva Adulto (AVNIA) | F71: Oxigenoterapia Ambulatorio Crónico Respiratorio Infantil | G71: Oxigenoterapia Ambulatorio Crónico Respiratorio Adulto | H71: Pueblos originarios | I71: Migrantes
A72: Enfermedad neuromuscular
A73: Daño pulmonar crónico
A74: Daño sistema nervioso central
A75: Sindrome genético
A76: Displasia Broncopulmonar
A77: SECCIÓN D: APOYO PSICOSOCIAL EN NIÑOS, NIÑAS Y ADOLESCENTES HOSPITALIZADOS
A78: CONCEPTO | B78: INTERVENCIÓN | C78: TOTAL | D78: RANGO ETARIO
D79: Hasta 28 días | E79: 29 días hasta menor de 1 año | F79: 1 - 4 años | G79: 5 - 9 años | H79: 10 - 14 años | I79: 15 - 19 años
A80: TOTAL DE EGRESOS (en el período) | C80: =SUM(D80:I80) -> 171 | D80: 28 | E80: 22 | F80: 36 | G80: 25 | H80: 27 | I80: 33
A81: Egresados con Apoyo Psicosocial (en el período) | B81: Intervención Psicosocial | C81: =SUM(D81:I81) -> 31 | D81: 16 | E81: 7 | F81: 8
B82: Estimulación del Desarrollo | C82: =SUM(D82:I82) -> 34 | D82: 11 | E82: 9 | F82: 14
A83: Nº de Atenciones (en el mes) | B83: Intervención Psicosocial | C83: =SUM(D83:I83) -> 63 | D83: 27 | E83: 17 | F83: 19
B84: Estimulación del Desarrollo | C84: =SUM(D84:I84) -> 183 | D84: 78 | E84: 61 | F84: 44
A85: SECCIÓN E: GESTIÓN DE PROCESOS DE PACIENTES QUIRÚRGICOS CON CIRUGÍA ELECTIVA
A86: ESPECIALIDAD | B86: DÍAS DE ESTADA PREQUIRÚRGICOS | D86: PACIENTES INTERVENIDOS | F86: HORARIO HÁBIL | J86: INHABIL DE LUNES A VIERNES | N86: SÁBADO, DOMINGO Y FESTIVO
F87: Pacientes Programados | H87: Pacientes Suspendidos | J87: Pacientes Programados | L87: Pacientes Suspendidos | N87: Pacientes Programados | P87: Pacientes Suspendidos
B88: Menor de 15 años | C88: 15 y más años | D88: Menor de 15 años | E88: 15 y más años | F88: Menor de 15 años | G88: 15 y más años | H88: Menor de 15 años | I88: 15 y más años | J88: Menor de 15 años | K88: 15 y más años | L88: Menor de 15 años | M88: 15 y más años | N88: Menor de 15 años | O88: 15 y más años | P88: Menor de 15 años | Q88: 15 y más años
A89: Cirugía General | C89: 3 | D89: 40 | E89: 173 | F89: 31 | G89: 98 | H89: 4 | I89: 9 | J89: 5 | K89: 55 | M89: 1 | N89: 8 | O89: 30 | R89: =AT89&AU89&AV89 | AT89: =IF((D89+E89)<((F89+G89)-(H89+I89)),"* La suma de "&D$86&""&" debe ser mayor o igual a la Diferencia de "&F$87&""&" menos Pacientes Suspendidos","") | BC89: =IF((D89+E89)<((F89+G89)-(H89+I89)),1,0) -> 0
A90: Cirugía Cardiovascular | R90: =AT90&AU90&AV90 | AT90: =IF((D90+E90)<((F90+G90)-(H90+I90)),"* La suma de "&D$86&""&" debe ser mayor o igual a la Diferencia de "&F$87&""&" menos Pacientes Suspendidos","") | BC90: =IF((D90+E90)<((F90+G90)-(H90+I90)),1,0) -> 0
A91: Cirugía Maxilofacial | D91: 1 | E91: 3 | G91: 2 | N91: 1 | O91: 1 | R91: =AT91&AU91&AV91 | AT91: =IF((D91+E91)<((F91+G91)-(H91+I91)),"* La suma de "&D$86&""&" debe ser mayor o igual a la Diferencia de "&F$87&""&" menos Pacientes Suspendidos","") | BC91: =IF((D91+E91)<((F91+G91)-(H91+I91)),1,0) -> 0
A92: Cirugía Tórax | R92: =AT92&AU92&AV92 | AT92: =IF((D92+E92)<((F92+G92)-(H92+I92)),"* La suma de "&D$86&""&" debe ser mayor o igual a la Diferencia de "&F$87&""&" menos Pacientes Suspendidos","") | BC92: =IF((D92+E92)<((F92+G92)-(H92+I92)),1,0) -> 0
A93: Traumatología | C93: 2 | D93: 10 | E93: 101 | F93: 9 | G93: 58 | H93: 1 | I93: 2 | J93: 1 | K93: 26 | N93: 1 | O93: 19 | R93: =AT93&AU93&AV93 | AT93: =IF((D93+E93)<((F93+G93)-(H93+I93)),"* La suma de "&D$86&""&" debe ser mayor o igual a la Diferencia de "&F$87&""&" menos Pacientes Suspendidos","") | BC93: =IF((D93+E93)<((F93+G93)-(H93+I93)),1,0) -> 0
A94: Neurocirugía | R94: =AT94&AU94&AV94 | AT94: =IF((D94+E94)<((F94+G94)-(H94+I94)),"* La suma de "&D$86&""&" debe ser mayor o igual a la Diferencia de "&F$87&""&" menos Pacientes Suspendidos","") | BC94: =IF((D94+E94)<((F94+G94)-(H94+I94)),1,0) -> 0
A95: Otorrinolaringología | D95: 30 | E95: 9 | F95: 4 | G95: 2 | J95: 8 | N95: 18 | O95: 7 | R95: =AT95&AU95&AV95 | AT95: =IF((D95+E95)<((F95+G95)-(H95+I95)),"* La suma de "&D$86&""&" debe ser mayor o igual a la Diferencia de "&F$87&""&" menos Pacientes Suspendidos","") | BC95: =IF((D95+E95)<((F95+G95)-(H95+I95)),1,0) -> 0
A96: Oftalmología | E96: 187 | G96: 83 | I96: 4 | K96: 22 | O96: 89 | Q96: 3 | R96: =AT96&AU96&AV96 | AT96: =IF((D96+E96)<((F96+G96)-(H96+I96)),"* La suma de "&D$86&""&" debe ser mayor o igual a la Diferencia de "&F$87&""&" menos Pacientes Suspendidos","") | BC96: =IF((D96+E96)<((F96+G96)-(H96+I96)),1,0) -> 0
A97: Obstetricia Y Ginecología | E97: 56 | G97: 10 | K97: 36 | O97: 10 | R97: =AT97&AU97&AV97 | AT97: =IF((D97+E97)<((F97+G97)-(H97+I97)),"* La suma de "&D$86&""&" debe ser mayor o igual a la Diferencia de "&F$87&""&" menos Pacientes Suspendidos","") | BC97: =IF((D97+E97)<((F97+G97)-(H97+I97)),1,0) -> 0
A98: Ginecología | E98: 47 | G98: 38 | I98: 7 | K98: 9 | M98: 2 | O98: 9 | R98: =AT98&AU98&AV98 | AT98: =IF((D98+E98)<((F98+G98)-(H98+I98)),"* La suma de "&D$86&""&" debe ser mayor o igual a la Diferencia de "&F$87&""&" menos Pacientes Suspendidos","") | BC98: =IF((D98+E98)<((F98+G98)-(H98+I98)),1,0) -> 0
A99: Urología | C99: 13 | E99: 10 | G99: 11 | I99: 3 | O99: 2 | R99: =AT99&AU99&AV99 | AT99: =IF((D99+E99)<((F99+G99)-(H99+I99)),"* La suma de "&D$86&""&" debe ser mayor o igual a la Diferencia de "&F$87&""&" menos Pacientes Suspendidos","") | BC99: =IF((D99+E99)<((F99+G99)-(H99+I99)),1,0) -> 0
A100: Otras Especialidades | C100: 7 | E100: 12 | G100: 9 | O100: 3 | R100: =AT100&AU100&AV100 | AT100: =IF((D100+E100)<((F100+G100)-(H100+I100)),"* La suma de "&D$86&""&" debe ser mayor o igual a la Diferencia de "&F$87&""&" menos Pacientes Suspendidos","") | BC100: =IF((D100+E100)<((F100+G100)-(H100+I100)),1,0) -> 0
A101: Odontología | R101: =AT101&AU101&AV101 | AT101: =IF((D101+E101)<((F101+G101)-(H101+I101)),"* La suma de "&D$86&""&" debe ser mayor o igual a la Diferencia de "&F$87&""&" menos Pacientes Suspendidos","") | BC101: =IF((D101+E101)<((F101+G101)-(H101+I101)),1,0) -> 0
A102: TOTAL | B102: =SUM(B89:B101) -> 0 | C102: =SUM(C89:C101) -> 25 | D102: =SUM(D89:D101) -> 81 | E102: =SUM(E89:E101) -> 598 | F102: =SUM(F89:F101) -> 44 | G102: =SUM(G89:G101) -> 311 | H102: =SUM(H89:H101) -> 5 | I102: =SUM(I89:I101) -> 25 | ... Q102: =SUM(Q89:Q101) -> 3
...

Sheet OCTUBRE
A1: SERVICIO DE SALUD
A2: =CONCATENATE("COMUNA: ",[11]NOMBRE!B2, " (",[11]NOMBRE!C2,[11]NOMBRE!D2,[11]NOMBRE!E2,[11]NOMBRE!F2,[11]NOMBRE!G2,")") -> COMUNA: LINARES (07401)
A3: =CONCATENATE("ESTABLECIMIENTO/ESTRATEGIA: ", [11]NOMBRE!B3, " (",[11]NOMBRE!C3,[11]NOMBRE!D3,[11]NOMBRE!E3,[11]NOMBRE!F3,[11]NOMBRE!G3,[11]NOMBRE!H3,")") -> ESTABLECIMIENTO/ESTRATEGIA: HOSPITAL PRESIDENTE CARLOS IBAÑEZ DEL CAMPO (116108)
A4: =CONCATENATE("MES: ",[11]NOMBRE!B6, " (",[11]NOMBRE!C6,[11]NOMBRE!D6,")") -> MES: OCTUBRE (10)
A5: =CONCATENATE("AÑO: ",[11]NOMBRE!B7) -> AÑO: 2025
A6: REM-21. QUIRÓFANOS Y OTROS RECURSOS HOSPITALARIOS
A8: SECCIÓN A: CAPACIDAD INSTALADA Y UTILIZACIÓN DE LOS QUIRÓFANOS CIRUGÍA MAYOR
A9: TIPO DE QUIRÓFANOS | B9: Número de Quirófanos en Dotación | C9: Promedio Mensual de Quirófanos Habilitados | D9: Promedio Mensual de Quirófanos en Trabajo | E9: Total de Horas Mensuales de Quirófanos Habilitados (Horario Hábil) | F9: Total de Horas Mensuales de Quirófanos en Trabajo (Horario Hábil) | G9: QUIRÓFANOS CIRUGIA MAYOR | Z9: CIRUGIAS MENORES Y PROCEDIMIENTOS *
G10: Horas Mensuales Programadas de Tabla Quirúrgica de Quirófanos en Trabajo, Horario Hábil | K10: Horas Mensuales Ocupadas de Quirófanos en Trabajo Horario Hábil | P10: Horas Mensuales Ocupadas de Quirófanos en Trabajo Horario Inhábil de Lunes a Viernes | U10: Horas Mensuales Ocupadas de Quirófanos en Trabajo Horario Sábado, Domingo y Festivo | Z10: Total Horas Mensuales Ocupadas de Quirófanos en Trabajo, Horario Hábil | AC10: Total Horas Mensuales Ocupadas de Quirófanos en Trabajo, Horario Inhábil
G12: Total | H12: Beneficiarios MAI | I12: Beneficiarios MLE | J12: Otros | K12: Total | L12: Beneficiarios MAI | M12: Beneficiarios MLE | N12: Otros | O12: De recambio | P12: Total | Q12: Beneficiarios MAI | R12: Beneficiarios MLE | S12: Otros | T12: De recambio | U12: Total | V12: Beneficiarios MAI | W12: Beneficiarios MLE | X12: Otros | Y12: De recambio | Z12: Total | AA12: Cirugía Menor | AB12: Otros Procedimientos | AC12: Total | AD12: Cirugía Menor | AE12: Otros Procedimientos
A13: TOTAL QUIRÓFANOS | B13: =SUM(B14:B17) -> 6 | C13: =SUM(C14:C17) -> 6 | D13: =SUM(D14:D17) -> 6 | E13: =SUM(E14:E17) -> 1604 | F13: =SUM(F14:F17) -> 1543 | G13: =SUM(G14:G17) -> 799 | H13: =SUM(H14:H17) -> 799 | I13: =SUM(I14:I17) -> 0 | ... AE13: =SUM(AE14:AE17) -> 4.41
A14: De Cirugía Electiva | B14: 5 | C14: 5 | D14: 5 | E14: 860 | F14: 799 | G14: =SUM(H14:J14) -> 799 | H14: 799 | K14: =SUM(L14:O14) -> 692.92 | L14: 580.42 | M14: 0 | N14: 0 | O14: 112.5 | P14: =SUM(Q14:T14) -> 348.61 | Q14: 110.83 | R14: 171.33 | S14: 1.95 | T14: 64.5 | U14: =SUM(V14:Y14) -> 172.3 | V14: 120.5 | W14: 9.98 | X14: 0.57 | Y14: 41.25 | Z14: =SUM(AA14:AB14) -> 139.13 | AA14: 124.63 | AB14: 14.5 | AC14: =SUM(AD14:AE14) -> 42.13 | AD14: 40.85 | AE14: 1.28
A15: De Urgencia | B15: 1 | C15: 1 | D15: 1 | E15: 744 | F15: 744 | G15: =SUM(H15:J15) -> 0 | K15: =SUM(L15:O15) -> 127.63 | L15: 105.93 | M15: 2.85 | N15: 1.6 | O15: 17.25 | P15: =SUM(Q15:T15) -> 149.53 | Q15: 128.53 | R15: 1.5 | S15: 0 | T15: 19.5 | U15: =SUM(V15:Y15) -> 91.79 | V15: 78.17 | W15: 1.87 | X15: 0 | Y15: 11.75 | Z15: =SUM(AA15:AB15) -> 13.01 | AA15: 8.76 | AB15: 4.25 | AC15: =SUM(AD15:AE15) -> 19.83 | AD15: 16.7 | AE15: 3.13
A16: Obstétrico | G16: =SUM(H16:J16) -> 0 | K16: =SUM(L16:O16) -> 0 | P16: =SUM(Q16:T16) -> 0 | U16: =SUM(V16:Y16) -> 0 | Z16: =SUM(AA16:AB16) -> 0 | AC16: =SUM(AD16:AE16) -> 0
A17: Indiferenciado | G17: =SUM(H17:J17) -> 0 | K17: =SUM(L17:O17) -> 0 | P17: =SUM(Q17:T17) -> 0 | U17: =SUM(V17:Y17) -> 0 | Z17: =SUM(AA17:AB17) -> 0 | AC17: =SUM(AD17:AE17) -> 0
A18: * Las horas informadas en cirugía menores y procedimientos, deben estar contenidas en las horas ocupadas, en quirófanos para cirugía mayor.
A19: SECCIÓN B: PROCEDIMIENTOS COMPLEJOS AMBULATORIOS
A20: COMPONENTES | B20: TOTAL | C20: Hemodiálisis | D20: Cirugía Mayor Ambulatoria | E20: Coronariografía | F20: Otras
A21: Recurso Disponible | B21: =SUM(C21:F21) -> 10 | D21: 10
A22: Ingresos | B22: =SUM(C22:F22) -> 425 | D22: 425
A23: Personas Atendidas | B23: =SUM(C23:F23) -> 425 | D23: 425
A24: Días Personas Atendidas | B24: =SUM(C24:F24) -> 425 | D24: 425
A25: Altas | B25: =SUM(C25:F25) -> 425 | D25: 425
A26: SECCIÓN C: HOSPITALIZACIÓN DOMICILIARIA Y ATENCIÓN VENTILATORIA EN DOMICILIO
A27: SECCIÓN C.1:HOSPITALIZACIÓN DOMICILIARIA
A28: SECCIÓN C.1.1: PERSONAS ATENDIDAS EN EL PROGRAMA
A29: COMPONENTES | C29: TOTAL | D29: RANGO ETARIO | H29: ORIGEN DE LA DERIVACIÓN | N29: SEXO
D30: Menor de 15 años | E30: 15 - 19 años | F30: 20 - 59 años | G30: 60 y más años | H30: APS | I30: Urgencia | J30: Hospitalización | K30: Ambulatorio | L30: Ley de Urgencia | M30: UGCC | N30: Hombres | O30: Mujeres
A31: Ingresos | C31: =SUM(D31:G31) -> 108 | D31: 0 | E31: 2 | F31: 23 | G31: 83 | H31: 3 | I31: 63 | J31: 26 | K31: 11 | L31: 0 | M31: 5 | N31: 54 | O31: 54 | P31: =AW31&AX31&AY31&AZ31&BA31&BB31&BC31&BD31 | AW31: =IF(AND($C31>0,H31="")," * No olvide digitar la variable "&H$29&""&" APS. Digite CERO si no tiene.","") | AX31: =IF(AND($C31>0,I31="")," * No olvide digitar la variable "&$H$29&""&" Urgencia. Digite CERO si no tiene.","") | AY31: =IF(AND($C31>0,J31="")," * No olvide digitar la variable "&$H$29&""&" Hospitalización. Digite CERO si no tiene.","") | AZ31: =IF(AND($C31>0,K31="")," * No olvide digitar la variable "&$H$29&""&" Ambulatorio. Digite CERO si no tiene.","") | BA31: =IF(AND($C31>0,L31="")," * No olvide digitar la variable "&$H$29&""&" Ley de Urgencia. Digite CERO si no tiene.","") | BB31: =IF(AND($C31>0,M31="")," * No olvide digitar la variable "&$H$29&""&" UGCC. Digite CERO si no tiene.","") | BC31: =IF(AND(H31+I31+J31+K31+L31+M31>$C31)," * La variable "&$H$29&""&" No puede ser mayor al Total.","") | BD31: =IF(AND(N31+O31>$C31)," * La variable "&$N$29&""&" No puede ser mayor al Total.","") | BF31: =IF(AND($C31>0,H31=""),1,0) -> 0 | BG31: =IF(AND($C31>0,I31=""),1,0) -> 0 | BH31: =IF(AND($C31>0,J31=""),1,0) -> 0 | BI31: =IF(AND($C31>0,K31=""),1,0) -> 0 | BJ31: =IF(AND($C31>0,L31=""),1,0) -> 0 | BK31: =IF(AND($C31>0,M31=""),1,0) -> 0 | BL31: =IF(AND(H31+I31+J31+K31+L31+M31>$C31),1,0) -> 0 | BM31: =IF(AND(N31+O31>$C31),1,0) -> 0
A32: Personas Atendidas | C32: =SUM(D32:G32) -> 130 | D32: 0 | E32: 2 | F32: 29 | G32: 99 | N32: 65 | O32: 65 | P32: =BD32 | BD32: =IF(AND(N32+O32>$C32)," * La variable "&$N$29&""&" No puede ser mayor al Total.","") | BM32: =IF(AND(N32+O32>$C32),1,0) -> 0
A33: Días Personas Atendidas | C33: =SUM(D33:G33) -> 858 | D33: 0 | E33: 9 | F33: 192 | G33: 657 | N33: 417 | O33: 441 | P33: =BD33 | BD33: =IF(AND(N33+O33>$C33)," * La variable "&$N$29&""&" No puede ser mayor al Total.","") | BM33: =IF(AND(N33+O33>$C33),1,0) -> 0
A34: Altas | C34: =SUM(D34:G34) -> 92 | D34: 0 | E34: 2 | F34: 20 | G34: 70 | N34: 42 | O34: 50 | P34: =BD34 | BD34: =IF(AND(N34+O34>$C34)," * La variable "&$N$29&""&" No puede ser mayor al Total.","") | BM34: =IF(AND(N34+O34>$C34),1,0) -> 0
A35: Fallecidos | B35: Esperados | C35: =SUM(D35:G35) -> 4 | D35: 0 | E35: 0 | F35: 1 | G35: 3 | N35: 1 | O35: 3 | P35: =BD35 | BD35: =IF(AND(N35+O35>$C35)," * La variable "&$N$29&""&" No puede ser mayor al Total.","") | BM35: =IF(AND(N35+O35>$C35),1,0) -> 0
B36: No esperados | C36: =SUM(D36:G36) -> 0 | D36: 0 | E36: 0 | F36: 0 | G36: 0 | N36: 0 | O36: 0 | P36: =BD36 | BD36: =IF(AND(N36+O36>$C36)," * La variable "&$N$29&""&" No puede ser mayor al Total.","") | BM36: =IF(AND(N36+O36>$C36),1,0) -> 0
A37: Reingresos a Hospitalización Tradicional | C37: =SUM(D37:G37) -> 9 | D37: 0 | E37: 0 | F37: 2 | G37: 7 | N37: 7 | O37: 2 | P37: =BD37 | BD37: =IF(AND(N37+O37>$C37)," * La variable "&$N$29&""&" No puede ser mayor al Total.","") | BM37: =IF(AND(N37+O37>$C37),1,0) -> 0
A38: SECCIÓN C.1.2: VISITAS REALIZADAS
A39: PROFESIONALES | B39: Total de Visitas
A40: Médico | B40: 249
A41: Enfermera | B41: 653
A42: Técnico en Enfermería | B42: 954
A43: Matrona | B43: 0
A44: Kinesiólogo | B44: 455
A45: Psicólogo | B45: 0
A46: Fonoaudiólogo/a | B46: 0
A47: Trabajador/a Social | B47: 0
A48: Terapeuta Ocupacional | B48: 0
A49: SECCIÓN C.1.3: CUPOS DISPONIBLES EN UNIDAD DE HOSPITALIZACIÓN DOMICILIARIA
A50: COMPONENTES | B50: TOTAL | C50: N° de Cupos | D50: N° de cupos Campaña Invierno Adicionales | E50: N° de cupos Campaña de Invierno
A51: Número Cupos Programados | B51: =SUM(C51:E51) -> 930 | C51: 930 | D51: 0 | E51: 0
A52: Número Cupos Utilizados | B52: =SUM(C52:E52) -> 858 | C52: 858 | D52: 0 | E52: 0
A53: Número de Cupos Disponibles | B53: =SUM(C53:E53) -> 72 | C53: 72 | D53: 0 | E53: 0
A54: SECCIÓN C.2 ATENCIÓN VENTILATORIA EN DOMICILIO
A55: SECCIÓN C.2.1: ASISTENCIA VENTILATORIA Y OXÍGENO EN DOMICILIO
A56: TIPO DE ESTRATEGIA | B56: TOTAL | C56: 0-9 años | D56: 10 - 19 años | E56: 20 y más años | F56: N° de cupos Campaña de Invierno
A57: Estrategia de Asistencia Ventilatoria Invasiva en Domicilio | B57: =SUM(C57:E57) -> 0
A58: Estrategia de Asistencia Ventilatoria no Invasiva en Domicilio | B58: =SUM(C58:E58) -> 0
A59: Estrategia Oxígeno Domiciliario para pacientes Crónicos | B59: =SUM(C59:E59) -> 0
A60: SECCIÓN C.2.2: INGRESOS Y EGRESOS AL PROGRAMA ASISTENCIA VENTILATORIA EN DOMICILIO
A61: ACTIVIDAD | B61: INGRESOS | E61: Número de egresos | F61: Número de personas activas | G61: Número de controles médicos
B62: TOTAL (Ambos sexos) | C62: Hombres | D62: Mujeres
A63: Asistencia Ventilatoria Invasiva Infantil (AVI) | B63: =SUM(C63:D63) -> 0
A64: Asistencia Ventilatoria Invasiva Del Adulto (AVIA) | B64: =SUM(C64:D64) -> 0
A65: Asistencia Ventilatoria no Invasiva Infantil (AVNI) | B65: =SUM(C65:D65) -> 0
A66: Asistencia Ventilatoria no Invasiva Adulto (AVNIA) | B66: =SUM(C66:D66) -> 0
A67: Oxigenoterapia Ambulatorio Crónico Respiratorio Infantil | B67: =SUM(C67:D67) -> 0
A68: Oxigenoterapia Ambulatorio Crónico Respiratorio Adulto | B68: =SUM(C68:D68) -> 0
A69: TOTAL | B69: =SUM(B63:B68) -> 0 | C69: =SUM(C63:C68) -> 0 | D69: =SUM(D63:D68) -> 0 | E69: =SUM(E63:E68) -> 0 | F69: =SUM(F63:F68) -> 0 | G69: =SUM(G63:G68) -> 0
A70: SECCIÓN C.2.3: INGRESO PROGRAMA ASISTENCIA VENTILATORIA Y OXÍGENO EN DOMICILIO SEGÚN DIAGNÓSTICO
A71: CAUSAS DE INGRESO | B71: Asistencia Ventilatoria Invasiva Infantil (AVI) | C71: Asistencia Ventilatoria Invasiva Del Adulto (AVIA) | D71: Asistencia Ventilatoria no Invasiva Infantil (AVNI) | E71: Asistencia Ventilatoria no Invasiva Adulto (AVNIA) | F71: Oxigenoterapia Ambulatorio Crónico Respiratorio Infantil | G71: Oxigenoterapia Ambulatorio Crónico Respiratorio Adulto | H71: Pueblos originarios | I71: Migrantes
A72: Enfermedad neuromuscular
A73: Daño pulmonar crónico
A74: Daño sistema nervioso central
A75: Sindrome genético
A76: Displasia Broncopulmonar
A77: SECCIÓN D: APOYO PSICOSOCIAL EN NIÑOS, NIÑAS Y ADOLESCENTES HOSPITALIZADOS
A78: CONCEPTO | B78: INTERVENCIÓN | C78: TOTAL | D78: RANGO ETARIO
D79: Hasta 28 días | E79: 29 días hasta menor de 1 año | F79: 1 - 4 años | G79: 5 - 9 años | H79: 10 - 14 años | I79: 15 - 19 años
A80: TOTAL DE EGRESOS (en el período) | C80: =SUM(D80:I80) -> 207 | D80: 29 | E80: 13 | F80: 37 | G80: 49 | H80: 37 | I80: 42
A81: Egresados con Apoyo Psicosocial (en el período) | B81: Intervención Psicosocial | C81: =SUM(D81:I81) -> 31 | D81: 12 | E81: 3 | F81: 16
B82: Estimulación del Desarrollo | C82: =SUM(D82:I82) -> 38 | D82: 16 | E82: 7 | F82: 15
A83: Nº de Atenciones (en el mes) | B83: Intervención Psicosocial | C83: =SUM(D83:I83) -> 102 | D83: 49 | E83: 19 | F83: 34
B84: Estimulación del Desarrollo | C84: =SUM(D84:I84) -> 228 | D84: 98 | E84: 58 | F84: 72
A85: SECCIÓN E: GESTIÓN DE PROCESOS DE PACIENTES QUIRÚRGICOS CON CIRUGÍA ELECTIVA
A86: ESPECIALIDAD | B86: DÍAS DE ESTADA PREQUIRÚRGICOS | D86: PACIENTES INTERVENIDOS | F86: HORARIO HÁBIL | J86: INHABIL DE LUNES A VIERNES | N86: SÁBADO, DOMINGO Y FESTIVO
F87: Pacientes Programados | H87: Pacientes Suspendidos | J87: Pacientes Programados | L87: Pacientes Suspendidos | N87: Pacientes Programados | P87: Pacientes Suspendidos
B88: Menor de 15 años | C88: 15 y más años | D88: Menor de 15 años | E88: 15 y más años | F88: Menor de 15 años | G88: 15 y más años | H88: Menor de 15 años | I88: 15 y más años | J88: Menor de 15 años | K88: 15 y más años | L88: Menor de 15 años | M88: 15 y más años | N88: Menor de 15 años | O88: 15 y más años | P88: Menor de 15 años | Q88: 15 y más años
A89: Cirugía General | C89: 2 | D89: 66 | E89: 205 | F89: 59 | G89: 92 | H89: 1 | I89: 11 | J89: 8 | K89: 75 | N89: 5 | O89: 58 | P89: 5 | Q89: 9 | R89: =AT89&AU89&AV89 | AT89: =IF((D89+E89)<((F89+G89)-(H89+I89)),"* La suma de "&D$86&""&" debe ser mayor o igual a la Diferencia de "&F$87&""&" menos Pacientes Suspendidos","") | BC89: =IF((D89+E89)<((F89+G89)-(H89+I89)),1,0) -> 0
A90: Cirugía Cardiovascular | R90: =AT90&AU90&AV90 | AT90: =IF((D90+E90)<((F90+G90)-(H90+I90)),"* La suma de "&D$86&""&" debe ser mayor o igual a la Diferencia de "&F$87&""&" menos Pacientes Suspendidos","") | BC90: =IF((D90+E90)<((F90+G90)-(H90+I90)),1,0) -> 0
A91: Cirugía Maxilofacial | D91: 3 | E91: 1 | F91: 3 | G91: 1 | R91: =AT91&AU91&AV91 | AT91: =IF((D91+E91)<((F91+G91)-(H91+I91)),"* La suma de "&D$86&""&" debe ser mayor o igual a la Diferencia de "&F$87&""&" menos Pacientes Suspendidos","") | BC91: =IF((D91+E91)<((F91+G91)-(H91+I91)),1,0) -> 0
A92: Cirugía Tórax | R92: =AT92&AU92&AV92 | AT92: =IF((D92+E92)<((F92+G92)-(H92+I92)),"* La suma de "&D$86&""&" debe ser mayor o igual a la Diferencia de "&F$87&""&" menos Pacientes Suspendidos","") | BC92: =IF((D92+E92)<((F92+G92)-(H92+I92)),1,0) -> 0
A93: Traumatología | C93: 2 | D93: 24 | E93: 107 | F93: 13 | G93: 69 | I93: 5 | J93: 2 | K93: 34 | M93: 1 | N93: 9 | O93: 15 | Q93: 5 | R93: =AT93&AU93&AV93 | AT93: =IF((D93+E93)<((F93+G93)-(H93+I93)),"* La suma de "&D$86&""&" debe ser mayor o igual a la Diferencia de "&F$87&""&" menos Pacientes Suspendidos","") | BC93: =IF((D93+E93)<((F93+G93)-(H93+I93)),1,0) -> 0
A94: Neurocirugía | R94: =AT94&AU94&AV94 | AT94: =IF((D94+E94)<((F94+G94)-(H94+I94)),"* La suma de "&D$86&""&" debe ser mayor o igual a la Diferencia de "&F$87&""&" menos Pacientes Suspendidos","") | BC94: =IF((D94+E94)<((F94+G94)-(H94+I94)),1,0) -> 0
A95: Otorrinolaringología | D95: 64 | E95: 11 | F95: 17 | G95: 2 | H95: 1 | J95: 22 | K95: 8 | N95: 26 | O95: 1 | R95: =AT95&AU95&AV95 | AT95: =IF((D95+E95)<((F95+G95)-(H95+I95)),"* La suma de "&D$86&""&" debe ser mayor o igual a la Diferencia de "&F$87&""&" menos Pacientes Suspendidos","") | BC95: =IF((D95+E95)<((F95+G95)-(H95+I95)),1,0) -> 0
A96: Oftalmología | E96: 132 | G96: 61 | I96: 6 | K96: 22 | O96: 56 | Q96: 1 | R96: =AT96&AU96&AV96 | AT96: =IF((D96+E96)<((F96+G96)-(H96+I96)),"* La suma de "&D$86&""&" debe ser mayor o igual a la Diferencia de "&F$87&""&" menos Pacientes Suspendidos","") | BC96: =IF((D96+E96)<((F96+G96)-(H96+I96)),1,0) -> 0
A97: Obstetricia Y Ginecología | E97: 65 | G97: 13 | K97: 50 | O97: 2 | R97: =AT97&AU97&AV97 | AT97: =IF((D97+E97)<((F97+G97)-(H97+I97)),"* La suma de "&D$86&""&" debe ser mayor o igual a la Diferencia de "&F$87&""&" menos Pacientes Suspendidos","") | BC97: =IF((D97+E97)<((F97+G97)-(H97+I97)),1,0) -> 0
A98: Ginecología | B98: 1 | C98: 1 | D98: 1 | E98: 57 | F98: 1 | G98: 45 | I98: 1 | K98: 13 | O98: 2 | Q98: 2 | R98: =AT98&AU98&AV98 | AT98: =IF((D98+E98)<((F98+G98)-(H98+I98)),"* La suma de "&D$86&""&" debe ser mayor o igual a la Diferencia de "&F$87&""&" menos Pacientes Suspendidos","") | BC98: =IF((D98+E98)<((F98+G98)-(H98+I98)),1,0) -> 0
A99: Urología | C99: 4 | D99: 1 | E99: 17 | G99: 15 | I99: 1 | J99: 1 | O99: 3 | R99: =AT99&AU99&AV99 | AT99: =IF((D99+E99)<((F99+G99)-(H99+I99)),"* La suma de "&D$86&""&" debe ser mayor o igual a la Diferencia de "&F$87&""&" menos Pacientes Suspendidos","") | BC99: =IF((D99+E99)<((F99+G99)-(H99+I99)),1,0) -> 0
A100: Otras Especialidades | C100: 2 | E100: 8 | G100: 4 | O100: 4 | R100: =AT100&AU100&AV100 | AT100: =IF((D100+E100)<((F100+G100)-(H100+I100)),"* La suma de "&D$86&""&" debe ser mayor o igual a la Diferencia de "&F$87&""&" menos Pacientes Suspendidos","") | BC100: =IF((D100+E100)<((F100+G100)-(H100+I100)),1,0) -> 0
A101: Odontología | R101: =AT101&AU101&AV101 | AT101: =IF((D101+E101)<((F101+G101)-(H101+I101)),"* La suma de "&D$86&""&" debe ser mayor o igual a la Diferencia de "&F$87&""&" menos Pacientes Suspendidos","") | BC101: =IF((D101+E101)<((F101+G101)-(H101+I101)),1,0) -> 0
A102: TOTAL | B102: =SUM(B89:B101) -> 1 | C102: =SUM(C89:C101) -> 11 | D102: =SUM(D89:D101) -> 159 | E102: =SUM(E89:E101) -> 603 | F102: =SUM(F89:F101) -> 93 | G102: =SUM(G89:G101) -> 302 | H102: =SUM(H89:H101) -> 2 | I102: =SUM(I89:I101) -> 24 | ... Q102: =SUM(Q89:Q101) -> 17
...

Sheet NOVIEMBRE
A1: SERVICIO DE SALUD
A2: =CONCATENATE("COMUNA: ",[12]NOMBRE!B2, " (",[12]NOMBRE!C2,[12]NOMBRE!D2,[12]NOMBRE!E2,[12]NOMBRE!F2,[12]NOMBRE!G2,")") -> COMUNA: LINARES (07401)
A3: =CONCATENATE("ESTABLECIMIENTO/ESTRATEGIA: ", [12]NOMBRE!B3, " (",[12]NOMBRE!C3,[12]NOMBRE!D3,[12]NOMBRE!E3,[12]NOMBRE!F3,[12]NOMBRE!G3,[12]NOMBRE!H3,")") -> ESTABLECIMIENTO/ESTRATEGIA: HOSPITAL PRESIDENTE CARLOS IBAÑEZ DEL CAMPO (116108)
A4: =CONCATENATE("MES: ",[12]NOMBRE!B6, " (",[12]NOMBRE!C6,[12]NOMBRE!D6,")") -> MES: NOVIEMBRE (11)
A5: =CONCATENATE("AÑO: ",[12]NOMBRE!B7) -> AÑO: 2025
A6: REM-21. QUIRÓFANOS Y OTROS RECURSOS HOSPITALARIOS
A8: SECCIÓN A: CAPACIDAD INSTALADA Y UTILIZACIÓN DE LOS QUIRÓFANOS CIRUGÍA MAYOR
A9: TIPO DE QUIRÓFANOS | B9: Número de Quirófanos en Dotación | C9: Promedio Mensual de Quirófanos Habilitados | D9: Promedio Mensual de Quirófanos en Trabajo | E9: Total de Horas Mensuales de Quirófanos Habilitados (Horario Hábil) | F9: Total de Horas Mensuales de Quirófanos en Trabajo (Horario Hábil) | G9: QUIRÓFANOS CIRUGIA MAYOR | Z9: CIRUGIAS MENORES Y PROCEDIMIENTOS *
G10: Horas Mensuales Programadas de Tabla Quirúrgica de Quirófanos en Trabajo, Horario Hábil | K10: Horas Mensuales Ocupadas de Quirófanos en Trabajo Horario Hábil | P10: Horas Mensuales Ocupadas de Quirófanos en Trabajo Horario Inhábil de Lunes a Viernes | U10: Horas Mensuales Ocupadas de Quirófanos en Trabajo Horario Sábado, Domingo y Festivo | Z10: Total Horas Mensuales Ocupadas de Quirófanos en Trabajo, Horario Hábil | AC10: Total Horas Mensuales Ocupadas de Quirófanos en Trabajo, Horario Inhábil
G12: Total | H12: Beneficiarios MAI | I12: Beneficiarios MLE | J12: Otros | K12: Total | L12: Beneficiarios MAI | M12: Beneficiarios MLE | N12: Otros | O12: De recambio | P12: Total | Q12: Beneficiarios MAI | R12: Beneficiarios MLE | S12: Otros | T12: De recambio | U12: Total | V12: Beneficiarios MAI | W12: Beneficiarios MLE | X12: Otros | Y12: De recambio | Z12: Total | AA12: Cirugía Menor | AB12: Otros Procedimientos | AC12: Total | AD12: Cirugía Menor | AE12: Otros Procedimientos
A13: TOTAL QUIRÓFANOS | B13: =SUM(B14:B17) -> 6 | C13: =SUM(C14:C17) -> 6 | D13: =SUM(D14:D17) -> 5.81 | E13: =SUM(E14:E17) -> 1500 | F13: =SUM(F14:F17) -> 1443 | G13: =SUM(G14:G17) -> 723 | H13: =SUM(H14:H17) -> 723 | I13: =SUM(I14:I17) -> 0 | ... AE13: =SUM(AE14:AE17) -> 5.19
A14: De Cirugía Electiva | B14: 5 | C14: 5 | D14: 4.81 | E14: 780 | F14: 723 | G14: =SUM(H14:J14) -> 723 | H14: 723 | I14: 0 | J14: 0 | K14: =SUM(L14:O14) -> 619.98 | L14: 519.7 | M14: 0 | N14: 0.28 | O14: 100 | P14: =SUM(Q14:T14) -> 295.09 | Q14: 85.47 | R14: 155.37 | S14: 4.75 | T14: 49.5 | U14: =SUM(V14:Y14) -> 125.15 | V14: 78.62 | W14: 7.78 | X14: 0 | Y14: 38.75 | Z14: =SUM(AA14:AB14) -> 47.83 | AA14: 38.23 | AB14: 9.6 | AC14: =SUM(AD14:AE14) -> 11.19 | AD14: 10.28 | AE14: 0.91
