Workbook

Sheet GRÁFICOS
A3: SECCIÓN C: PROGRAMA HOSPITALIZACIÓN DOMICILIARIA
B5: Ingresos | D5: =+CONSOLIDADO!C31 -> 1208 | G5: PROFESIONALES | H5: Total de Visitas | M5: CUPOS | N5: TOTAL
B6: Personas Atendidas | D6: =+CONSOLIDADO!C32 -> 1491 | G6: Médico | H6: =+CONSOLIDADO!B40 -> 2598 | M6: Cupos Programados | N6: =+CONSOLIDADO!B51 -> 11980
B7: Días Personas Atendidas | D7: =+CONSOLIDADO!C33 -> 10360 | G7: Enfermera | H7: =+CONSOLIDADO!B41 -> 8004 | M7: Cupos Utilizados | N7: =+CONSOLIDADO!B52 -> 10598
B8: Altas | D8: =+CONSOLIDADO!C34 -> 1027 | G8: Técnico en Enfermería | H8: =+CONSOLIDADO!B42 -> 11494 | M8: Cupos Disponibles | N8: =+CONSOLIDADO!B53 -> 1382
B9: Fallecidos | D9: =+CONSOLIDADO!C35 -> 53 | G9: Kinesiólogo | H9: =+CONSOLIDADO!B44 -> 5893 | N9: Ocupación | O9: =+N7/N6 -> 0.88464107
B10: Reingresos a Hospitalización Tradicional | D10: =+CONSOLIDADO!C37 -> 93 | G10: Fonoaudiólogo/a | H10: =+CONSOLIDADO!B46 -> 273 | N10: Disponible | O10: =+N8/N6 -> 0.11535893

Sheet CONSOLIDADO
A1: SERVICIO DE SALUD
A2: =CONCATENATE("COMUNA: ",[2]NOMBRE!B2, " (",[2]NOMBRE!C2,[2]NOMBRE!D2,[2]NOMBRE!E2,[2]NOMBRE!F2,[2]NOMBRE!G2,")") -> COMUNA: 0 (00000)
A3: =CONCATENATE("ESTABLECIMIENTO/ESTRATEGIA: ", [2]NOMBRE!B3, " (",[2]NOMBRE!C3,[2]NOMBRE!D3,[2]NOMBRE!E3,[2]NOMBRE!F3,[2]NOMBRE!G3,[2]NOMBRE!H3,")") -> ESTABLECIMIENTO/ESTRATEGIA: 0 (000000)
A4: =CONCATENATE("MES: ",[2]NOMBRE!B6, " (",[2]NOMBRE!C6,[2]NOMBRE!D6,")") -> MES: 0 (00)
A5: =CONCATENATE("AÑO: ",[2]NOMBRE!B7) -> AÑO: 2025
A6: REM-21. QUIRÓFANOS Y OTROS RECURSOS HOSPITALARIOS
A8: SECCIÓN A: CAPACIDAD INSTALADA Y UTILIZACIÓN DE LOS QUIRÓFANOS CIRUGÍA MAYOR
A9: TIPO DE QUIRÓFANOS | B9: Número de Quirófanos en Dotación | C9: Promedio Mensual de Quirófanos Habilitados | D9: Promedio Mensual de Quirófanos en Trabajo | E9: Total de Horas Mensuales de Quirófanos Habilitados (Horario Hábil) | F9: Total de Horas Mensuales de Quirófanos en Trabajo (Horario Hábil) | G9: QUIRÓFANOS CIRUGIA MAYOR | Z9: CIRUGIAS MENORES Y PROCEDIMIENTOS *
G10: Horas Mensuales Programadas de Tabla Quirúrgica de Quirófanos en Trabajo, Horario Hábil | K10: Horas Mensuales Ocupadas de Quirófanos en Trabajo Horario Hábil | P10: Horas Mensuales Ocupadas de Quirófanos en Trabajo Horario Inhábil de Lunes a Viernes | U10: Horas Mensuales Ocupadas de Quirófanos en Trabajo Horario Sábado, Domingo y Festivo | Z10: Total Horas Mensuales Ocupadas de Quirófanos en Trabajo, Horario Hábil | AC10: Total Horas Mensuales Ocupadas de Quirófanos en Trabajo, Horario Inhábil
G12: Total | H12: Beneficiarios MAI | I12: Beneficiarios MLE | J12: Otros | K12: Total | L12: Beneficiarios MAI | M12: Beneficiarios MLE | N12: Otros | O12: De recambio | P12: Total | Q12: Beneficiarios MAI | R12: Beneficiarios MLE | S12: Otros | T12: De recambio | U12: Total | V12: Beneficiarios MAI | W12: Beneficiarios MLE | X12: Otros | Y12: De recambio | Z12: Total | AA12: Cirugía Menor | AB12: Otros Procedimientos | AC12: Total | AD12: Cirugía Menor | AE12: Otros Procedimientos
A13: TOTAL QUIRÓFANOS | B13: =SUM(B14:B17) -> 6 | C13: =SUM(C14:C17) -> 6 | D13: =SUM(D14:D17) -> 5.7858333 | E13: =SUM(E14:E17) -> 18360 | F13: =SUM(F14:F17) -> 17294 | G13: =SUM(G14:G17) -> 8669 | H13: =SUM(H14:H17) -> 8669 | I13: =SUM(I14:I17) -> 0 | ... AE13: =SUM(AE14:AE17) -> 88.73
A14: De Cirugía Electiva | B14: =AVERAGE(ENERO:DICIEMBRE!B14) -> 5 | C14: =AVERAGE(ENERO:DICIEMBRE!C14) -> 5 | D14: =AVERAGE(ENERO:DICIEMBRE!D14) -> 4.7858333 | E14: =SUM(ENERO:DICIEMBRE!E14) -> 9552 | F14: =SUM(ENERO:DICIEMBRE!F14) -> 8669 | G14: =SUM(H14:J14) -> 8669 | H14: =SUM(ENERO:DICIEMBRE!H14) -> 8669 | I14: =SUM(ENERO:DICIEMBRE!I14) -> 0 | J14: =SUM(ENERO:DICIEMBRE!J14) -> 0 | K14: =SUM(L14:O14) -> 7767.96 | L14: =SUM(ENERO:DICIEMBRE!L14) -> 6267.28 | M14: =SUM(ENERO:DICIEMBRE!M14) -> 12.07 | N14: =SUM(ENERO:DICIEMBRE!N14) -> 7.02 | O14: =SUM(ENERO:DICIEMBRE!O14) -> 1481.59 | P14: =SUM(Q14:T14) -> 3119.76 | Q14: =SUM(ENERO:DICIEMBRE!Q14) -> 644.47 | R14: =SUM(ENERO:DICIEMBRE!R14) -> 1829.1 | S14: =SUM(ENERO:DICIEMBRE!S14) -> 83.61 | T14: =SUM(ENERO:DICIEMBRE!T14) -> 562.58 | U14: =SUM(V14:Y14) -> 1492.62 | V14: =SUM(ENERO:DICIEMBRE!V14) -> 747.47 | W14: =SUM(ENERO:DICIEMBRE!W14) -> 269.52 | X14: =SUM(ENERO:DICIEMBRE!X14) -> 12.64 | Y14: =SUM(ENERO:DICIEMBRE!Y14) -> 462.99 | Z14: =SUM(AA14:AB14) -> 769.6 | AA14: =SUM(ENERO:DICIEMBRE!AA14) -> 575.23 | AB14: =SUM(ENERO:DICIEMBRE!AB14) -> 194.37 | AC14: =SUM(AD14:AE14) -> 183.53 | AD14: =SUM(ENERO:DICIEMBRE!AD14) -> 154.34 | AE14: =SUM(ENERO:DICIEMBRE!AE14) -> 29.19
A15: De Urgencia | B15: =AVERAGE(ENERO:DICIEMBRE!B15) -> 1 | C15: =AVERAGE(ENERO:DICIEMBRE!C15) -> 1 | D15: =AVERAGE(ENERO:DICIEMBRE!D15) -> 1 | E15: =SUM(ENERO:DICIEMBRE!E15) -> 8808 | F15: =SUM(ENERO:DICIEMBRE!F15) -> 8625 | G15: =SUM(H15:J15) -> 0 | H15: =SUM(ENERO:DICIEMBRE!H15) -> 0 | I15: =SUM(ENERO:DICIEMBRE!I15) -> 0 | J15: =SUM(ENERO:DICIEMBRE!J15) -> 0 | K15: =SUM(L15:O15) -> 1235.29 | L15: =SUM(ENERO:DICIEMBRE!L15) -> 1014.99 | M15: =SUM(ENERO:DICIEMBRE!M15) -> 9.06 | N15: =SUM(ENERO:DICIEMBRE!N15) -> 23.66 | O15: =SUM(ENERO:DICIEMBRE!O15) -> 187.58 | P15: =SUM(Q15:T15) -> 1740.14 | Q15: =SUM(ENERO:DICIEMBRE!Q15) -> 1469.73 | R15: =SUM(ENERO:DICIEMBRE!R15) -> 19.53 | S15: =SUM(ENERO:DICIEMBRE!S15) -> 7.38 | T15: =SUM(ENERO:DICIEMBRE!T15) -> 243.5 | U15: =SUM(V15:Y15) -> 1253.26 | V15: =SUM(ENERO:DICIEMBRE!V15) -> 1032.39 | W15: =SUM(ENERO:DICIEMBRE!W15) -> 23.03 | X15: =SUM(ENERO:DICIEMBRE!X15) -> 8.42 | Y15: =SUM(ENERO:DICIEMBRE!Y15) -> 189.42 | Z15: =SUM(AA15:AB15) -> 136.9 | AA15: =SUM(ENERO:DICIEMBRE!AA15) -> 84.4 | AB15: =SUM(ENERO:DICIEMBRE!AB15) -> 52.5 | AC15: =SUM(AD15:AE15) -> 232.68 | AD15: =SUM(ENERO:DICIEMBRE!AD15) -> 173.14 | AE15: =SUM(ENERO:DICIEMBRE!AE15) -> 59.54
A16: Obstétrico | B16: =SUM(ENERO:DICIEMBRE!B16) -> 0 | C16: =SUM(ENERO:DICIEMBRE!C16) -> 0 | D16: =SUM(ENERO:DICIEMBRE!D16) -> 0 | E16: =SUM(ENERO:DICIEMBRE!E16) -> 0 | F16: =SUM(ENERO:DICIEMBRE!F16) -> 0 | G16: =SUM(H16:J16) -> 0 | H16: =SUM(ENERO:DICIEMBRE!H16) -> 0 | I16: =SUM(ENERO:DICIEMBRE!I16) -> 0 | J16: =SUM(ENERO:DICIEMBRE!J16) -> 0 | K16: =SUM(L16:O16) -> 0 | L16: =SUM(ENERO:DICIEMBRE!L16) -> 0 | M16: =SUM(ENERO:DICIEMBRE!M16) -> 0 | N16: =SUM(ENERO:DICIEMBRE!N16) -> 0 | O16: =SUM(ENERO:DICIEMBRE!O16) -> 0 | P16: =SUM(Q16:T16) -> 0 | Q16: =SUM(ENERO:DICIEMBRE!Q16) -> 0 | R16: =SUM(ENERO:DICIEMBRE!R16) -> 0 | S16: =SUM(ENERO:DICIEMBRE!S16) -> 0 | T16: =SUM(ENERO:DICIEMBRE!T16) -> 0 | U16: =SUM(V16:Y16) -> 0 | V16: =SUM(ENERO:DICIEMBRE!V16) -> 0 | W16: =SUM(ENERO:DICIEMBRE!W16) -> 0 | X16: =SUM(ENERO:DICIEMBRE!X16) -> 0 | Y16: =SUM(ENERO:DICIEMBRE!Y16) -> 0 | Z16: =SUM(AA16:AB16) -> 0 | AA16: =SUM(ENERO:DICIEMBRE!AA16) -> 0 | AB16: =SUM(ENERO:DICIEMBRE!AB16) -> 0 | AC16: =SUM(AD16:AE16) -> 0 | AD16: =SUM(ENERO:DICIEMBRE!AD16) -> 0 | AE16: =SUM(ENERO:DICIEMBRE!AE16) -> 0
A17: Indiferenciado | B17: =SUM(ENERO:DICIEMBRE!B17) -> 0 | C17: =SUM(ENERO:DICIEMBRE!C17) -> 0 | D17: =SUM(ENERO:DICIEMBRE!D17) -> 0 | E17: =SUM(ENERO:DICIEMBRE!E17) -> 0 | F17: =SUM(ENERO:DICIEMBRE!F17) -> 0 | G17: =SUM(H17:J17) -> 0 | H17: =SUM(ENERO:DICIEMBRE!H17) -> 0 | I17: =SUM(ENERO:DICIEMBRE!I17) -> 0 | J17: =SUM(ENERO:DICIEMBRE!J17) -> 0 | K17: =SUM(L17:O17) -> 0 | L17: =SUM(ENERO:DICIEMBRE!L17) -> 0 | M17: =SUM(ENERO:DICIEMBRE!M17) -> 0 | N17: =SUM(ENERO:DICIEMBRE!N17) -> 0 | O17: =SUM(ENERO:DICIEMBRE!O17) -> 0 | P17: =SUM(Q17:T17) -> 0 | Q17: =SUM(ENERO:DICIEMBRE!Q17) -> 0 | R17: =SUM(ENERO:DICIEMBRE!R17) -> 0 | S17: =SUM(ENERO:DICIEMBRE!S17) -> 0 | T17: =SUM(ENERO:DICIEMBRE!T17) -> 0 | U17: =SUM(V17:Y17) -> 0 | V17: =SUM(ENERO:DICIEMBRE!V17) -> 0 | W17: =SUM(ENERO:DICIEMBRE!W17) -> 0 | X17: =SUM(ENERO:DICIEMBRE!X17) -> 0 | Y17: =SUM(ENERO:DICIEMBRE!Y17) -> 0 | Z17: =SUM(AA17:AB17) -> 0 | AA17: =SUM(ENERO:DICIEMBRE!AA17) -> 0 | AB17: =SUM(ENERO:DICIEMBRE!AB17) -> 0 | AC17: =SUM(AD17:AE17) -> 0 | AD17: =SUM(ENERO:DICIEMBRE!AD17) -> 0 | AE17: =SUM(ENERO:DICIEMBRE!AE17) -> 0
A18: * Las horas informadas en cirugía menores y procedimientos, deben estar contenidas en las horas ocupadas, en quirófanos para cirugía mayor.
A19: SECCIÓN B: PROCEDIMIENTOS COMPLEJOS AMBULATORIOS
A20: COMPONENTES | B20: TOTAL | C20: Hemodiálisis | D20: Cirugía Mayor Ambulatoria | E20: Coronariografía | F20: Otras
A21: Recurso Disponible | B21: =SUM(C21:F21) -> 10 | D21: =AVERAGE(ENERO:DICIEMBRE!D21) -> 10
A22: Ingresos | B22: =SUM(C22:F22) -> 4597 | D22: =SUM(ENERO:DICIEMBRE!D22) -> 4597
A23: Personas Atendidas | B23: =SUM(C23:F23) -> 4597 | D23: =SUM(ENERO:DICIEMBRE!D23) -> 4597
A24: Días Personas Atendidas | B24: =SUM(C24:F24) -> 4597 | D24: =SUM(ENERO:DICIEMBRE!D24) -> 4597
A25: Altas | B25: =SUM(C25:F25) -> 4597 | D25: =SUM(ENERO:DICIEMBRE!D25) -> 4597
A26: SECCIÓN C: HOSPITALIZACIÓN DOMICILIARIA Y ATENCIÓN VENTILATORIA EN DOMICILIO
A27: SECCIÓN C.1:HOSPITALIZACIÓN DOMICILIARIA
A28: SECCIÓN C.1.1: PERSONAS ATENDIDAS EN EL PROGRAMA
A29: COMPONENTES | C29: TOTAL | D29: RANGO ETARIO | H29: ORIGEN DE LA DERIVACIÓN | N29: SEXO
D30: Menor de 15 años | E30: 15 - 19 años | F30: 20 - 59 años | G30: 60 y más años | H30: APS | I30: Urgencia | J30: Hospitalización | K30: Ambulatorio | L30: Ley de Urgencia | M30: UGCC | N30: Hombres | O30: Mujeres
A31: Ingresos | C31: =SUM(D31:G31) -> 1208 | D31: =SUM(ENERO:DICIEMBRE!D31) -> 0 | E31: =SUM(ENERO:DICIEMBRE!E31) -> 14 | F31: =SUM(ENERO:DICIEMBRE!F31) -> 269 | G31: =SUM(ENERO:DICIEMBRE!G31) -> 925 | H31: =SUM(ENERO:DICIEMBRE!H31) -> 32 | I31: =SUM(ENERO:DICIEMBRE!I31) -> 612 | J31: =SUM(ENERO:DICIEMBRE!J31) -> 410 | K31: =SUM(ENERO:DICIEMBRE!K31) -> 131 | ... O31: =SUM(ENERO:DICIEMBRE!O31) -> 627 | P31: =AW31&AX31&AY31&AZ31&BA31&BB31&BC31&BD31 | AW31: =IF(AND($C31>0,H31="")," * No olvide digitar la variable "&H$29&""&" APS. Digite CERO si no tiene.","") | AX31: =IF(AND($C31>0,I31="")," * No olvide digitar la variable "&$H$29&""&" Urgencia. Digite CERO si no tiene.","") | AY31: =IF(AND($C31>0,J31="")," * No olvide digitar la variable "&$H$29&""&" Hospitalización. Digite CERO si no tiene.","") | AZ31: =IF(AND($C31>0,K31="")," * No olvide digitar la variable "&$H$29&""&" Ambulatorio. Digite CERO si no tiene.","") | BA31: =IF(AND($C31>0,L31="")," * No olvide digitar la variable "&$H$29&""&" Ley de Urgencia. Digite CERO si no tiene.","") | BB31: =IF(AND($C31>0,M31="")," * No olvide digitar la variable "&$H$29&""&" UGCC. Digite CERO si no tiene.","") | BC31: =IF(AND(H31+I31+J31+K31+L31+M31>$C31)," * La variable "&$H$29&""&" No puede ser mayor al Total.","") | BD31: =IF(AND(N31+O31>$C31)," * La variable "&$N$29&""&" No puede ser mayor al Total.","") | BF31: =IF(AND($C31>0,H31=""),1,0) -> 0 | BG31: =IF(AND($C31>0,I31=""),1,0) -> 0 | BH31: =IF(AND($C31>0,J31=""),1,0) -> 0 | BI31: =IF(AND($C31>0,K31=""),1,0) -> 0 | BJ31: =IF(AND($C31>0,L31=""),1,0) -> 0 | BK31: =IF(AND($C31>0,M31=""),1,0) -> 0 | BL31: =IF(AND(H31+I31+J31+K31+L31+M31>$C31),1,0) -> 0 | BM31: =IF(AND(N31+O31>$C31),1,0) -> 0
A32: Personas Atendidas | C32: =SUM(D32:G32) -> 1491 | D32: =SUM(ENERO:DICIEMBRE!D32) -> 0 | E32: =SUM(ENERO:DICIEMBRE!E32) -> 18 | F32: =SUM(ENERO:DICIEMBRE!F32) -> 328 | G32: =SUM(ENERO:DICIEMBRE!G32) -> 1145 | N32: =SUM(ENERO:DICIEMBRE!N32) -> 709 | O32: =SUM(ENERO:DICIEMBRE!O32) -> 782 | P32: =BD32 | BD32: =IF(AND(N32+O32>$C32)," * La variable "&$N$29&""&" No puede ser mayor al Total.","") | BM32: =IF(AND(N32+O32>$C32),1,0) -> 0
A33: Días Personas Atendidas | C33: =SUM(D33:G33) -> 10360 | D33: =SUM(ENERO:DICIEMBRE!D33) -> 0 | E33: =SUM(ENERO:DICIEMBRE!E33) -> 99 | F33: =SUM(ENERO:DICIEMBRE!F33) -> 2216 | G33: =SUM(ENERO:DICIEMBRE!G33) -> 8045 | N33: =SUM(ENERO:DICIEMBRE!N33) -> 4962 | O33: =SUM(ENERO:DICIEMBRE!O33) -> 5328 | P33: =BD33 | BD33: =IF(AND(N33+O33>$C33)," * La variable "&$N$29&""&" No puede ser mayor al Total.","") | BM33: =IF(AND(N33+O33>$C33),1,0) -> 0
A34: Altas | C34: =SUM(D34:G34) -> 1027 | D34: =SUM(ENERO:DICIEMBRE!D34) -> 0 | E34: =SUM(ENERO:DICIEMBRE!E34) -> 14 | F34: =SUM(ENERO:DICIEMBRE!F34) -> 229 | G34: =SUM(ENERO:DICIEMBRE!G34) -> 784 | N34: =SUM(ENERO:DICIEMBRE!N34) -> 468 | O34: =SUM(ENERO:DICIEMBRE!O34) -> 559 | P34: =BD34 | BD34: =IF(AND(N34+O34>$C34)," * La variable "&$N$29&""&" No puede ser mayor al Total.","") | BM34: =IF(AND(N34+O34>$C34),1,0) -> 0
A35: Fallecidos | B35: Esperados | C35: =SUM(D35:G35) -> 53 | D35: =SUM(ENERO:DICIEMBRE!D35) -> 0 | E35: =SUM(ENERO:DICIEMBRE!E35) -> 0 | F35: =SUM(ENERO:DICIEMBRE!F35) -> 3 | G35: =SUM(ENERO:DICIEMBRE!G35) -> 50 | N35: =SUM(ENERO:DICIEMBRE!N35) -> 20 | O35: =SUM(ENERO:DICIEMBRE!O35) -> 33 | P35: =BD35 | BD35: =IF(AND(N35+O35>$C35)," * La variable "&$N$29&""&" No puede ser mayor al Total.","") | BM35: =IF(AND(N35+O35>$C35),1,0) -> 0
B36: No esperados | C36: =SUM(D36:G36) -> 0 | D36: =SUM(ENERO:DICIEMBRE!D36) -> 0 | E36: =SUM(ENERO:DICIEMBRE!E36) -> 0 | F36: =SUM(ENERO:DICIEMBRE!F36) -> 0 | G36: =SUM(ENERO:DICIEMBRE!G36) -> 0 | N36: =SUM(ENERO:DICIEMBRE!N36) -> 0 | O36: =SUM(ENERO:DICIEMBRE!O36) -> 0 | P36: =BD36 | BD36: =IF(AND(N36+O36>$C36)," * La variable "&$N$29&""&" No puede ser mayor al Total.","") | BM36: =IF(AND(N36+O36>$C36),1,0) -> 0
A37: Reingresos a Hospitalización Tradicional | C37: =SUM(D37:G37) -> 93 | D37: =SUM(ENERO:DICIEMBRE!D37) -> 0 | E37: =SUM(ENERO:DICIEMBRE!E37) -> 1 | F37: =SUM(ENERO:DICIEMBRE!F37) -> 21 | G37: =SUM(ENERO:DICIEMBRE!G37) -> 71 | N37: =SUM(ENERO:DICIEMBRE!N37) -> 57 | O37: =SUM(ENERO:DICIEMBRE!O37) -> 36 | P37: =BD37 | BD37: =IF(AND(N37+O37>$C37)," * La variable "&$N$29&""&" No puede ser mayor al Total.","") | BM37: =IF(AND(N37+O37>$C37),1,0) -> 0
A38: SECCIÓN C.1.2: VISITAS REALIZADAS
A39: PROFESIONALES | B39: Total de Visitas
A40: Médico | B40: =SUM(ENERO:DICIEMBRE!B40) -> 2598
A41: Enfermera | B41: =SUM(ENERO:DICIEMBRE!B41) -> 8004
A42: Técnico en Enfermería | B42: =SUM(ENERO:DICIEMBRE!B42) -> 11494
...

Sheet ENERO
A1: SERVICIO DE SALUD
A2: =CONCATENATE("COMUNA: ",[1]NOMBRE!B2, " (",[1]NOMBRE!C2,[1]NOMBRE!D2,[1]NOMBRE!E2,[1]NOMBRE!F2,[1]NOMBRE!G2,")") -> COMUNA: LINARES (07401)
A3: =CONCATENATE("ESTABLECIMIENTO/ESTRATEGIA: ", [1]NOMBRE!B3, " (",[1]NOMBRE!C3,[1]NOMBRE!D3,[1]NOMBRE!E3,[1]NOMBRE!F3,[1]NOMBRE!G3,[1]NOMBRE!H3,")") -> ESTABLECIMIENTO/ESTRATEGIA: HOSPITAL PRESIDENTE CARLOS IBAÑEZ DEL CAMPO (116108)
A4: =CONCATENATE("MES: ",[1]NOMBRE!B6, " (",[1]NOMBRE!C6,[1]NOMBRE!D6,")") -> MES: ENERO (01)
A5: =CONCATENATE("AÑO: ",[1]NOMBRE!B7) -> AÑO: 2025
A6: REM-21. QUIRÓFANOS Y OTROS RECURSOS HOSPITALARIOS
A8: SECCIÓN A: CAPACIDAD INSTALADA Y UTILIZACIÓN DE LOS QUIRÓFANOS CIRUGÍA MAYOR
A9: TIPO DE QUIRÓFANOS | B9: Número de Quirófanos en Dotación | C9: Promedio Mensual de Quirófanos Habilitados | D9: Promedio Mensual de Quirófanos en Trabajo | E9: Total de Horas Mensuales de Quirófanos Habilitados (Horario Hábil) | F9: Total de Horas Mensuales de Quirófanos en Trabajo (Horario Hábil) | G9: QUIRÓFANOS CIRUGIA MAYOR | Z9: CIRUGIAS MENORES Y PROCEDIMIENTOS *
G10: Horas Mensuales Programadas de Tabla Quirúrgica de Quirófanos en Trabajo, Horario Hábil | K10: Horas Mensuales Ocupadas de Quirófanos en Trabajo Horario Hábil | P10: Horas Mensuales Ocupadas de Quirófanos en Trabajo Horario Inhábil de Lunes a Viernes | U10: Horas Mensuales Ocupadas de Quirófanos en Trabajo Horario Sábado, Domingo y Festivo | Z10: Total Horas Mensuales Ocupadas de Quirófanos en Trabajo, Horario Hábil | AC10: Total Horas Mensuales Ocupadas de Quirófanos en Trabajo, Horario Inhábil
G12: Total | H12: Beneficiarios MAI | I12: Beneficiarios MLE | J12: Otros | K12: Total | L12: Beneficiarios MAI | M12: Beneficiarios MLE | N12: Otros | O12: De recambio | P12: Total | Q12: Beneficiarios MAI | R12: Beneficiarios MLE | S12: Otros | T12: De recambio | U12: Total | V12: Beneficiarios MAI | W12: Beneficiarios MLE | X12: Otros | Y12: De recambio | Z12: Total | AA12: Cirugía Menor | AB12: Otros Procedimientos | AC12: Total | AD12: Cirugía Menor | AE12: Otros Procedimientos
A13: TOTAL QUIRÓFANOS | B13: =SUM(B14:B17) -> 6 | C13: =SUM(C14:C17) -> 6 | D13: =SUM(D14:D17) -> 5 | E13: =SUM(E14:E17) -> 1492 | F13: =SUM(F14:F17) -> 1468 | G13: =SUM(G14:G17) -> 748 | H13: =SUM(H14:H17) -> 748 | I13: =SUM(I14:I17) -> 0 | ... AE13: =SUM(AE14:AE17) -> 6.31
A14: De Cirugía Electiva | B14: 5 | C14: 5 | D14: 4 | E14: 748 | F14: 748 | G14: =SUM(H14:J14) -> 748 | H14: 748 | I14: 0 | J14: 0 | K14: =SUM(L14:O14) -> 652.06 | L14: 498.23 | M14: 0 | N14: 0.83 | O14: 153 | P14: =SUM(Q14:T14) -> 349.33 | Q14: 86.08 | R14: 144.72 | S14: 6.45 | T14: 112.08 | U14: =SUM(V14:Y14) -> 104.43 | V14: 50.43 | W14: 0 | X14: 0 | Y14: 54 | Z14: =SUM(AA14:AB14) -> 57.75 | AA14: 39.4 | AB14: 18.35 | AC14: =SUM(AD14:AE14) -> 17.75 | AD14: 15.6 | AE14: 2.15
A15: De Urgencia | B15: 1 | C15: 1 | D15: 1 | E15: 744 | F15: 720 | G15: =SUM(H15:J15) -> 0 | H15: 0 | I15: 0 | J15: 0 | K15: =SUM(L15:O15) -> 126.8 | L15: 104.8 | M15: 0 | N15: 0 | O15: 22 | P15: =SUM(Q15:T15) -> 202.38 | Q15: 168.05 | R15: 0 | S15: 0 | T15: 34.33 | U15: =SUM(V15:Y15) -> 143.24 | V15: 119.57 | W15: 0 | X15: 0 | Y15: 23.67 | Z15: =SUM(AA15:AB15) -> 7.39 | AA15: 6.26 | AB15: 1.13 | AC15: =SUM(AD15:AE15) -> 12.16 | AD15: 8 | AE15: 4.16
A16: Obstétrico | G16: =SUM(H16:J16) -> 0 | K16: =SUM(L16:O16) -> 0 | P16: =SUM(Q16:T16) -> 0 | U16: =SUM(V16:Y16) -> 0 | Z16: =SUM(AA16:AB16) -> 0 | AC16: =SUM(AD16:AE16) -> 0
A17: Indiferenciado | G17: =SUM(H17:J17) -> 0 | K17: =SUM(L17:O17) -> 0 | P17: =SUM(Q17:T17) -> 0 | U17: =SUM(V17:Y17) -> 0 | Z17: =SUM(AA17:AB17) -> 0 | AC17: =SUM(AD17:AE17) -> 0
A18: * Las horas informadas en cirugía menores y procedimientos, deben estar contenidas en las horas ocupadas, en quirófanos para cirugía mayor.
A19: SECCIÓN B: PROCEDIMIENTOS COMPLEJOS AMBULATORIOS
A20: COMPONENTES | B20: TOTAL | C20: Hemodiálisis | D20: Cirugía Mayor Ambulatoria | E20: Coronariografía | F20: Otras
A21: Recurso Disponible | B21: =SUM(C21:F21) -> 10 | D21: 10
A22: Ingresos | B22: =SUM(C22:F22) -> 478 | D22: 478
A23: Personas Atendidas | B23: =SUM(C23:F23) -> 478 | D23: 478
A24: Días Personas Atendidas | B24: =SUM(C24:F24) -> 478 | D24: 478
A25: Altas | B25: =SUM(C25:F25) -> 477 | D25: 477
A26: SECCIÓN C: HOSPITALIZACIÓN DOMICILIARIA Y ATENCIÓN VENTILATORIA EN DOMICILIO
A27: SECCIÓN C.1:HOSPITALIZACIÓN DOMICILIARIA
A28: SECCIÓN C.1.1: PERSONAS ATENDIDAS EN EL PROGRAMA
A29: COMPONENTES | C29: TOTAL | D29: RANGO ETARIO | H29: ORIGEN DE LA DERIVACIÓN | N29: SEXO
D30: Menor de 15 años | E30: 15 - 19 años | F30: 20 - 59 años | G30: 60 y más años | H30: APS | I30: Urgencia | J30: Hospitalización | K30: Ambulatorio | L30: Ley de Urgencia | M30: UGCC | N30: Hombres | O30: Mujeres
A31: Ingresos | C31: =SUM(D31:G31) -> 87 | D31: 0 | E31: 0 | F31: 22 | G31: 65 | H31: 2 | I31: 49 | J31: 30 | K31: 4 | L31: 0 | M31: 2 | N31: 35 | O31: 52 | P31: =AW31&AX31&AY31&AZ31&BA31&BB31&BC31&BD31 | AW31: =IF(AND($C31>0,H31="")," * No olvide digitar la variable "&H$29&""&" APS. Digite CERO si no tiene.","") | AX31: =IF(AND($C31>0,I31="")," * No olvide digitar la variable "&$H$29&""&" Urgencia. Digite CERO si no tiene.","") | AY31: =IF(AND($C31>0,J31="")," * No olvide digitar la variable "&$H$29&""&" Hospitalización. Digite CERO si no tiene.","") | AZ31: =IF(AND($C31>0,K31="")," * No olvide digitar la variable "&$H$29&""&" Ambulatorio. Digite CERO si no tiene.","") | BA31: =IF(AND($C31>0,L31="")," * No olvide digitar la variable "&$H$29&""&" Ley de Urgencia. Digite CERO si no tiene.","") | BB31: =IF(AND($C31>0,M31="")," * No olvide digitar la variable "&$H$29&""&" UGCC. Digite CERO si no tiene.","") | BC31: =IF(AND(H31+I31+J31+K31+L31+M31>$C31)," * La variable "&$H$29&""&" No puede ser mayor al Total.","") | BD31: =IF(AND(N31+O31>$C31)," * La variable "&$N$29&""&" No puede ser mayor al Total.","") | BF31: =IF(AND($C31>0,H31=""),1,0) -> 0 | BG31: =IF(AND($C31>0,I31=""),1,0) -> 0 | BH31: =IF(AND($C31>0,J31=""),1,0) -> 0 | BI31: =IF(AND($C31>0,K31=""),1,0) -> 0 | BJ31: =IF(AND($C31>0,L31=""),1,0) -> 0 | BK31: =IF(AND($C31>0,M31=""),1,0) -> 0 | BL31: =IF(AND(H31+I31+J31+K31+L31+M31>$C31),1,0) -> 0 | BM31: =IF(AND(N31+O31>$C31),1,0) -> 0
A32: Personas Atendidas | C32: =SUM(D32:G32) -> 110 | D32: 0 | E32: 1 | F32: 27 | G32: 82 | N32: 45 | O32: 65 | P32: =BD32 | BD32: =IF(AND(N32+O32>$C32)," * La variable "&$N$29&""&" No puede ser mayor al Total.","") | BM32: =IF(AND(N32+O32>$C32),1,0) -> 0
A33: Días Personas Atendidas | C33: =SUM(D33:G33) -> 772 | D33: 0 | E33: 17 | F33: 195 | G33: 560 | N33: 285 | O33: 417 | P33: =BD33 | BD33: =IF(AND(N33+O33>$C33)," * La variable "&$N$29&""&" No puede ser mayor al Total.","") | BM33: =IF(AND(N33+O33>$C33),1,0) -> 0
A34: Altas | C34: =SUM(D34:G34) -> 75 | D34: 0 | E34: 1 | F34: 19 | G34: 55 | N34: 30 | O34: 45 | P34: =BD34 | BD34: =IF(AND(N34+O34>$C34)," * La variable "&$N$29&""&" No puede ser mayor al Total.","") | BM34: =IF(AND(N34+O34>$C34),1,0) -> 0
A35: Fallecidos | B35: Esperados | C35: =SUM(D35:G35) -> 8 | D35: 0 | E35: 0 | F35: 0 | G35: 8 | N35: 3 | O35: 5 | P35: =BD35 | BD35: =IF(AND(N35+O35>$C35)," * La variable "&$N$29&""&" No puede ser mayor al Total.","") | BM35: =IF(AND(N35+O35>$C35),1,0) -> 0
B36: No esperados | C36: =SUM(D36:G36) -> 0 | D36: 0 | E36: 0 | F36: 0 | G36: 0 | P36: =BD36 | BD36: =IF(AND(N36+O36>$C36)," * La variable "&$N$29&""&" No puede ser mayor al Total.","") | BM36: =IF(AND(N36+O36>$C36),1,0) -> 0
A37: Reingresos a Hospitalización Tradicional | C37: =SUM(D37:G37) -> 5 | D37: 0 | E37: 0 | F37: 1 | G37: 4 | N37: 1 | O37: 4 | P37: =BD37 | BD37: =IF(AND(N37+O37>$C37)," * La variable "&$N$29&""&" No puede ser mayor al Total.","") | BM37: =IF(AND(N37+O37>$C37),1,0) -> 0
A38: SECCIÓN C.1.2: VISITAS REALIZADAS
A39: PROFESIONALES | B39: Total de Visitas
A40: Médico | B40: 199
A41: Enfermera | B41: 610
A42: Técnico en Enfermería | B42: 843
...

Sheet FEBRERO
A1: SERVICIO DE SALUD
A2: =CONCATENATE("COMUNA: ",[3]NOMBRE!B2, " (",[3]NOMBRE!C2,[3]NOMBRE!D2,[3]NOMBRE!E2,[3]NOMBRE!F2,[3]NOMBRE!G2,")") -> COMUNA: LINARES (07401)
A3: =CONCATENATE("ESTABLECIMIENTO/ESTRATEGIA: ", [3]NOMBRE!B3, " (",[3]NOMBRE!C3,[3]NOMBRE!D3,[3]NOMBRE!E3,[3]NOMBRE!F3,[3]NOMBRE!G3,[3]NOMBRE!H3,")") -> ESTABLECIMIENTO/ESTRATEGIA: HOSPITAL PRESIDENTE CARLOS IBAÑEZ DEL CAMPO (116108)
A4: =CONCATENATE("MES: ",[3]NOMBRE!B6, " (",[3]NOMBRE!C6,[3]NOMBRE!D6,")") -> MES: FEBRERO (02)
A5: =CONCATENATE("AÑO: ",[3]NOMBRE!B7) -> AÑO: 2025
A6: REM-21. QUIRÓFANOS Y OTROS RECURSOS HOSPITALARIOS
A8: SECCIÓN A: CAPACIDAD INSTALADA Y UTILIZACIÓN DE LOS QUIRÓFANOS CIRUGÍA MAYOR
A9: TIPO DE QUIRÓFANOS | B9: Número de Quirófanos en Dotación | C9: Promedio Mensual de Quirófanos Habilitados | D9: Promedio Mensual de Quirófanos en Trabajo | E9: Total de Horas Mensuales de Quirófanos Habilitados (Horario Hábil) | F9: Total de Horas Mensuales de Quirófanos en Trabajo (Horario Hábil) | G9: QUIRÓFANOS CIRUGIA MAYOR | Z9: CIRUGIAS MENORES Y PROCEDIMIENTOS *
G10: Horas Mensuales Programadas de Tabla Quirúrgica de Quirófanos en Trabajo, Horario Hábil | K10: Horas Mensuales Ocupadas de Quirófanos en Trabajo Horario Hábil | P10: Horas Mensuales Ocupadas de Quirófanos en Trabajo Horario Inhábil de Lunes a Viernes | U10: Horas Mensuales Ocupadas de Quirófanos en Trabajo Horario Sábado, Domingo y Festivo | Z10: Total Horas Mensuales Ocupadas de Quirófanos en Trabajo, Horario Hábil | AC10: Total Horas Mensuales Ocupadas de Quirófanos en Trabajo, Horario Inhábil
G12: Total | H12: Beneficiarios MAI | I12: Beneficiarios MLE | J12: Otros | K12: Total | L12: Beneficiarios MAI | M12: Beneficiarios MLE | N12: Otros | O12: De recambio | P12: Total | Q12: Beneficiarios MAI | R12: Beneficiarios MLE | S12: Otros | T12: De recambio | U12: Total | V12: Beneficiarios MAI | W12: Beneficiarios MLE | X12: Otros | Y12: De recambio | Z12: Total | AA12: Cirugía Menor | AB12: Otros Procedimientos | AC12: Total | AD12: Cirugía Menor | AE12: Otros Procedimientos
A13: TOTAL QUIRÓFANOS | B13: =SUM(B14:B17) -> 6 | C13: =SUM(C14:C17) -> 6 | D13: =SUM(D14:D17) -> 5 | E13: =SUM(E14:E17) -> 1480 | F13: =SUM(F14:F17) -> 1360 | G13: =SUM(G14:G17) -> 640 | H13: =SUM(H14:H17) -> 640 | I13: =SUM(I14:I17) -> 0 | ... AE13: =SUM(AE14:AE17) -> 6.27
A14: De Cirugía Electiva | B14: 5 | C14: 5 | D14: 4 | E14: 760 | F14: 640 | G14: =SUM(H14:J14) -> 640 | H14: 640 | I14: 0 | J14: 0 | K14: =SUM(L14:O14) -> 561.94 | L14: 449.27 | M14: 0 | N14: 0 | O14: 112.67 | P14: =SUM(Q14:T14) -> 349.33 | Q14: 86.08 | R14: 144.72 | S14: 6.45 | T14: 112.08 | U14: =SUM(V14:Y14) -> 150.54 | V14: 0 | W14: 141.57 | X14: 8.97 | Y14: 0 | Z14: =SUM(AA14:AB14) -> 52.2 | AA14: 36.2 | AB14: 16 | AC14: =SUM(AD14:AE14) -> 7.11 | AD14: 6.7 | AE14: 0.41
A15: De Urgencia | B15: 1 | C15: 1 | D15: 1 | E15: 720 | F15: 720 | G15: =SUM(H15:J15) -> 0 | H15: 0 | I15: 0 | J15: 0 | K15: =SUM(L15:O15) -> 115 | L15: 97 | M15: 0 | N15: 0 | O15: 18 | P15: =SUM(Q15:T15) -> 202.38 | Q15: 168.05 | R15: 0 | S15: 0 | T15: 34.33 | U15: =SUM(V15:Y15) -> 171.16 | V15: 137.83 | W15: 0 | X15: 0 | Y15: 33.33 | Z15: =SUM(AA15:AB15) -> 22.8 | AA15: 7.8 | AB15: 15 | AC15: =SUM(AD15:AE15) -> 15.86 | AD15: 10 | AE15: 5.86
A16: Obstétrico | G16: =SUM(H16:J16) -> 0 | K16: =SUM(L16:O16) -> 0 | P16: =SUM(Q16:T16) -> 0 | U16: =SUM(V16:Y16) -> 0 | Z16: =SUM(AA16:AB16) -> 0 | AC16: =SUM(AD16:AE16) -> 0
A17: Indiferenciado | G17: =SUM(H17:J17) -> 0 | K17: =SUM(L17:O17) -> 0 | P17: =SUM(Q17:T17) -> 0 | U17: =SUM(V17:Y17) -> 0 | Z17: =SUM(AA17:AB17) -> 0 | AC17: =SUM(AD17:AE17) -> 0
A18: * Las horas informadas en cirugía menores y procedimientos, deben estar contenidas en las horas ocupadas, en quirófanos para cirugía mayor.
A19: SECCIÓN B: PROCEDIMIENTOS COMPLEJOS AMBULATORIOS
A20: COMPONENTES | B20: TOTAL | C20: Hemodiálisis | D20: Cirugía Mayor Ambulatoria | E20: Coronariografía | F20: Otras
A21: Recurso Disponible | B21: =SUM(C21:F21) -> 10 | D21: 10
A22: Ingresos | B22: =SUM(C22:F22) -> 227 | D22: 227
A23: Personas Atendidas | B23: =SUM(C23:F23) -> 227 | D23: 227
A24: Días Personas Atendidas | B24: =SUM(C24:F24) -> 227 | D24: 227
A25: Altas | B25: =SUM(C25:F25) -> 228 | D25: 228
A26: SECCIÓN C: HOSPITALIZACIÓN DOMICILIARIA Y ATENCIÓN VENTILATORIA EN DOMICILIO
A27: SECCIÓN C.1:HOSPITALIZACIÓN DOMICILIARIA
A28: SECCIÓN C.1.1: PERSONAS ATENDIDAS EN EL PROGRAMA
A29: COMPONENTES | C29: TOTAL | D29: RANGO ETARIO | H29: ORIGEN DE LA DERIVACIÓN | N29: SEXO
D30: Menor de 15 años | E30: 15 - 19 años | F30: 20 - 59 años | G30: 60 y más años | H30: APS | I30: Urgencia | J30: Hospitalización | K30: Ambulatorio | L30: Ley de Urgencia | M30: UGCC | N30: Hombres | O30: Mujeres
A31: Ingresos | C31: =SUM(D31:G31) -> 86 | D31: 0 | E31: 0 | F31: 24 | G31: 62 | H31: 2 | I31: 44 | J31: 30 | K31: 10 | L31: 0 | M31: 0 | N31: 23 | O31: 33 | P31: =AW31&AX31&AY31&AZ31&BA31&BB31&BC31&BD31 | AW31: =IF(AND($C31>0,H31="")," * No olvide digitar la variable "&H$29&""&" APS. Digite CERO si no tiene.","") | AX31: =IF(AND($C31>0,I31="")," * No olvide digitar la variable "&$H$29&""&" Urgencia. Digite CERO si no tiene.","") | AY31: =IF(AND($C31>0,J31="")," * No olvide digitar la variable "&$H$29&""&" Hospitalización. Digite CERO si no tiene.","") | AZ31: =IF(AND($C31>0,K31="")," * No olvide digitar la variable "&$H$29&""&" Ambulatorio. Digite CERO si no tiene.","") | BA31: =IF(AND($C31>0,L31="")," * No olvide digitar la variable "&$H$29&""&" Ley de Urgencia. Digite CERO si no tiene.","") | BB31: =IF(AND($C31>0,M31="")," * No olvide digitar la variable "&$H$29&""&" UGCC. Digite CERO si no tiene.","") | BC31: =IF(AND(H31+I31+J31+K31+L31+M31>$C31)," * La variable "&$H$29&""&" No puede ser mayor al Total.","") | BD31: =IF(AND(N31+O31>$C31)," * La variable "&$N$29&""&" No puede ser mayor al Total.","") | BF31: =IF(AND($C31>0,H31=""),1,0) -> 0 | BG31: =IF(AND($C31>0,I31=""),1,0) -> 0 | BH31: =IF(AND($C31>0,J31=""),1,0) -> 0 | BI31: =IF(AND($C31>0,K31=""),1,0) -> 0 | BJ31: =IF(AND($C31>0,L31=""),1,0) -> 0 | BK31: =IF(AND($C31>0,M31=""),1,0) -> 0 | BL31: =IF(AND(H31+I31+J31+K31+L31+M31>$C31),1,0) -> 0 | BM31: =IF(AND(N31+O31>$C31),1,0) -> 0
A32: Personas Atendidas | C32: =SUM(D32:G32) -> 69 | D32: 0 | E32: 0 | F32: 16 | G32: 53 | N32: 29 | O32: 40 | P32: =BD32 | BD32: =IF(AND(N32+O32>$C32)," * La variable "&$N$29&""&" No puede ser mayor al Total.","") | BM32: =IF(AND(N32+O32>$C32),1,0) -> 0
A33: Días Personas Atendidas | C33: =SUM(D33:G33) -> 489 | D33: 0 | E33: 0 | F33: 131 | G33: 358 | N33: 211 | O33: 278 | P33: =BD33 | BD33: =IF(AND(N33+O33>$C33)," * La variable "&$N$29&""&" No puede ser mayor al Total.","") | BM33: =IF(AND(N33+O33>$C33),1,0) -> 0
A34: Altas | C34: =SUM(D34:G34) -> 44 | D34: 0 | E34: 0 | F34: 13 | G34: 31 | N34: 16 | O34: 28 | P34: =BD34 | BD34: =IF(AND(N34+O34>$C34)," * La variable "&$N$29&""&" No puede ser mayor al Total.","") | BM34: =IF(AND(N34+O34>$C34),1,0) -> 0
A35: Fallecidos | B35: Esperados | C35: =SUM(D35:G35) -> 4 | D35: 0 | E35: 0 | F35: 0 | G35: 4 | N35: 1 | O35: 3 | P35: =BD35 | BD35: =IF(AND(N35+O35>$C35)," * La variable "&$N$29&""&" No puede ser mayor al Total.","") | BM35: =IF(AND(N35+O35>$C35),1,0) -> 0
B36: No esperados | C36: =SUM(D36:G36) -> 0 | D36: 0 | E36: 0 | F36: 0 | G36: 0 | N36: 0 | O36: 0 | P36: =BD36 | BD36: =IF(AND(N36+O36>$C36)," * La variable "&$N$29&""&" No puede ser mayor al Total.","") | BM36: =IF(AND(N36+O36>$C36),1,0) -> 0
A37: Reingresos a Hospitalización Tradicional | C37: =SUM(D37:G37) -> 5 | D37: 0 | E37: 0 | F37: 2 | G37: 3 | N37: 4 | O37: 1 | P37: =BD37 | BD37: =IF(AND(N37+O37>$C37)," * La variable "&$N$29&""&" No puede ser mayor al Total.","") | BM37: =IF(AND(N37+O37>$C37),1,0) -> 0
A38: SECCIÓN C.1.2: VISITAS REALIZADAS
A39: PROFESIONALES | B39: Total de Visitas
A40: Médico | B40: 110
A41: Enfermera | B41: 400
A42: Técnico en Enfermería | B42: 641
...

Sheet MARZO
A1: SERVICIO DE SALUD
A2: =CONCATENATE("COMUNA: ",[4]NOMBRE!B2, " (",[4]NOMBRE!C2,[4]NOMBRE!D2,[4]NOMBRE!E2,[4]NOMBRE!F2,[4]NOMBRE!G2,")") -> COMUNA: LINARES (07401)
A3: =CONCATENATE("ESTABLECIMIENTO/ESTRATEGIA: ", [4]NOMBRE!B3, " (",[4]NOMBRE!C3,[4]NOMBRE!D3,[4]NOMBRE!E3,[4]NOMBRE!F3,[4]NOMBRE!G3,[4]NOMBRE!H3,")") -> ESTABLECIMIENTO/ESTRATEGIA: HOSPITAL PRESIDENTE CARLOS IBAÑEZ DEL CAMPO (116108)
A4: =CONCATENATE("MES: ",[4]NOMBRE!B6, " (",[4]NOMBRE!C6,[4]NOMBRE!D6,")") -> MES: MARZO (03)
A5: =CONCATENATE("AÑO: ",[4]NOMBRE!B7) -> AÑO: 2025
A6: REM-21. QUIRÓFANOS Y OTROS RECURSOS HOSPITALARIOS
A8: SECCIÓN A: CAPACIDAD INSTALADA Y UTILIZACIÓN DE LOS QUIRÓFANOS CIRUGÍA MAYOR
A9: TIPO DE QUIRÓFANOS | B9: Número de Quirófanos en Dotación | C9: Promedio Mensual de Quirófanos Habilitados | D9: Promedio Mensual de Quirófanos en Trabajo | E9: Total de Horas Mensuales de Quirófanos Habilitados (Horario Hábil) | F9: Total de Horas Mensuales de Quirófanos en Trabajo (Horario Hábil) | G9: QUIRÓFANOS CIRUGIA MAYOR | Z9: CIRUGIAS MENORES Y PROCEDIMIENTOS *
G10: Horas Mensuales Programadas de Tabla Quirúrgica de Quirófanos en Trabajo, Horario Hábil | K10: Horas Mensuales Ocupadas de Quirófanos en Trabajo Horario Hábil | P10: Horas Mensuales Ocupadas de Quirófanos en Trabajo Horario Inhábil de Lunes a Viernes | U10: Horas Mensuales Ocupadas de Quirófanos en Trabajo Horario Sábado, Domingo y Festivo | Z10: Total Horas Mensuales Ocupadas de Quirófanos en Trabajo, Horario Hábil | AC10: Total Horas Mensuales Ocupadas de Quirófanos en Trabajo, Horario Inhábil
G12: Total | H12: Beneficiarios MAI | I12: Beneficiarios MLE | J12: Otros | K12: Total | L12: Beneficiarios MAI | M12: Beneficiarios MLE | N12: Otros | O12: De recambio | P12: Total | Q12: Beneficiarios MAI | R12: Beneficiarios MLE | S12: Otros | T12: De recambio | U12: Total | V12: Beneficiarios MAI | W12: Beneficiarios MLE | X12: Otros | Y12: De recambio | Z12: Total | AA12: Cirugía Menor | AB12: Otros Procedimientos | AC12: Total | AD12: Cirugía Menor | AE12: Otros Procedimientos
A13: TOTAL QUIRÓFANOS | B13: =SUM(B14:B17) -> 6 | C13: =SUM(C14:C17) -> 6 | D13: =SUM(D14:D17) -> 6 | E13: =SUM(E14:E17) -> 1558 | F13: =SUM(F14:F17) -> 1398 | G13: =SUM(G14:G17) -> 654 | H13: =SUM(H14:H17) -> 654 | I13: =SUM(I14:I17) -> 0 | ... AE13: =SUM(AE14:AE17) -> 8.22
A14: De Cirugía Electiva | B14: 5 | C14: 5 | D14: 5 | E14: 814 | F14: 654 | G14: =SUM(H14:J14) -> 654 | H14: 654 | I14: 0 | J14: 0 | K14: =SUM(L14:O14) -> 602.87 | L14: 470.13 | M14: 1.07 | N14: 0 | O14: 131.67 | P14: =SUM(Q14:T14) -> 174.13 | Q14: 3.92 | R14: 157.23 | S14: 7.4 | T14: 5.58 | U14: =SUM(V14:Y14) -> 94.28 | V14: 35.07 | W14: 16.88 | X14: 0 | Y14: 42.33 | Z14: =SUM(AA14:AB14) -> 59.43 | AA14: 42.53 | AB14: 16.9 | AC14: =SUM(AD14:AE14) -> 10.74 | AD14: 8.58 | AE14: 2.16
A15: De Urgencia | B15: 1 | C15: 1 | D15: 1 | E15: 744 | F15: 744 | G15: =SUM(H15:J15) -> 0 | H15: 0 | I15: 0 | J15: 0 | K15: =SUM(L15:O15) -> 106.65 | L15: 88.98 | M15: 0 | N15: 0 | O15: 17.67 | P15: =SUM(Q15:T15) -> 154.75 | Q15: 127.08 | R15: 0 | S15: 0 | T15: 27.67 | U15: =SUM(V15:Y15) -> 95.04 | V15: 80.37 | W15: 0 | X15: 0 | Y15: 14.67 | Z15: =SUM(AA15:AB15) -> 8.61 | AA15: 3.73 | AB15: 4.88 | AC15: =SUM(AD15:AE15) -> 20.64 | AD15: 14.58 | AE15: 6.06
A16: Obstétrico | G16: =SUM(H16:J16) -> 0 | K16: =SUM(L16:O16) -> 0 | P16: =SUM(Q16:T16) -> 0 | U16: =SUM(V16:Y16) -> 0 | Z16: =SUM(AA16:AB16) -> 0 | AC16: =SUM(AD16:AE16) -> 0
A17: Indiferenciado | G17: =SUM(H17:J17) -> 0 | K17: =SUM(L17:O17) -> 0 | P17: =SUM(Q17:T17) -> 0 | U17: =SUM(V17:Y17) -> 0 | Z17: =SUM(AA17:AB17) -> 0 | AC17: =SUM(AD17:AE17) -> 0
A18: * Las horas informadas en cirugía menores y procedimientos, deben estar contenidas en las horas ocupadas, en quirófanos para cirugía mayor.
A19: SECCIÓN B: PROCEDIMIENTOS COMPLEJOS AMBULATORIOS
A20: COMPONENTES | B20: TOTAL | C20: Hemodiálisis | D20: Cirugía Mayor Ambulatoria | E20: Coronariografía | F20: Otras
A21: Recurso Disponible | B21: =SUM(C21:F21) -> 10 | D21: 10
A22: Ingresos | B22: =SUM(C22:F22) -> 320 | D22: 320
A23: Personas Atendidas | B23: =SUM(C23:F23) -> 320 | D23: 320
A24: Días Personas Atendidas | B24: =SUM(C24:F24) -> 320 | D24: 320
A25: Altas | B25: =SUM(C25:F25) -> 320 | D25: 320
A26: SECCIÓN C: HOSPITALIZACIÓN DOMICILIARIA Y ATENCIÓN VENTILATORIA EN DOMICILIO
A27: SECCIÓN C.1:HOSPITALIZACIÓN DOMICILIARIA
A28: SECCIÓN C.1.1: PERSONAS ATENDIDAS EN EL PROGRAMA
A29: COMPONENTES | C29: TOTAL | D29: RANGO ETARIO | H29: ORIGEN DE LA DERIVACIÓN | N29: SEXO
D30: Menor de 15 años | E30: 15 - 19 años | F30: 20 - 59 años | G30: 60 y más años | H30: APS | I30: Urgencia | J30: Hospitalización | K30: Ambulatorio | L30: Ley de Urgencia | M30: UGCC | N30: Hombres | O30: Mujeres
A31: Ingresos | C31: =SUM(D31:G31) -> 98 | D31: 0 | E31: 0 | F31: 23 | G31: 75 | H31: 1 | I31: 66 | J31: 22 | K31: 7 | L31: 0 | M31: 0 | N31: 52 | O31: 46 | P31: =AW31&AX31&AY31&AZ31&BA31&BB31&BC31&BD31 | AW31: =IF(AND($C31>0,H31="")," * No olvide digitar la variable "&H$29&""&" APS. Digite CERO si no tiene.","") | AX31: =IF(AND($C31>0,I31="")," * No olvide digitar la variable "&$H$29&""&" Urgencia. Digite CERO si no tiene.","") | AY31: =IF(AND($C31>0,J31="")," * No olvide digitar la variable "&$H$29&""&" Hospitalización. Digite CERO si no tiene.","") | AZ31: =IF(AND($C31>0,K31="")," * No olvide digitar la variable "&$H$29&""&" Ambulatorio. Digite CERO si no tiene.","") | BA31: =IF(AND($C31>0,L31="")," * No olvide digitar la variable "&$H$29&""&" Ley de Urgencia. Digite CERO si no tiene.","") | BB31: =IF(AND($C31>0,M31="")," * No olvide digitar la variable "&$H$29&""&" UGCC. Digite CERO si no tiene.","") | BC31: =IF(AND(H31+I31+J31+K31+L31+M31>$C31)," * La variable "&$H$29&""&" No puede ser mayor al Total.","") | BD31: =IF(AND(N31+O31>$C31)," * La variable "&$N$29&""&" No puede ser mayor al Total.","") | BF31: =IF(AND($C31>0,H31=""),1,0) -> 0 | BG31: =IF(AND($C31>0,I31=""),1,0) -> 0 | BH31: =IF(AND($C31>0,J31=""),1,0) -> 0 | BI31: =IF(AND($C31>0,K31=""),1,0) -> 0 | BJ31: =IF(AND($C31>0,L31=""),1,0) -> 0 | BK31: =IF(AND($C31>0,M31=""),1,0) -> 0 | BL31: =IF(AND(H31+I31+J31+K31+L31+M31>$C31),1,0) -> 0 | BM31: =IF(AND(N31+O31>$C31),1,0) -> 0
A32: Personas Atendidas | C32: =SUM(D32:G32) -> 119 | D32: 0 | E32: 0 | F32: 28 | G32: 91 | N32: 60 | O32: 59 | P32: =BD32 | BD32: =IF(AND(N32+O32>$C32)," * La variable "&$N$29&""&" No puede ser mayor al Total.","") | BM32: =IF(AND(N32+O32>$C32),1,0) -> 0
A33: Días Personas Atendidas | C33: =SUM(D33:G33) -> 830 | D33: 0 | E33: 0 | F33: 164 | G33: 666 | N33: 434 | O33: 396 | P33: =BD33 | BD33: =IF(AND(N33+O33>$C33)," * La variable "&$N$29&""&" No puede ser mayor al Total.","") | BM33: =IF(AND(N33+O33>$C33),1,0) -> 0
A34: Altas | C34: =SUM(D34:G34) -> 80 | D34: 0 | E34: 0 | F34: 17 | G34: 63 | N34: 39 | O34: 41 | P34: =BD34 | BD34: =IF(AND(N34+O34>$C34)," * La variable "&$N$29&""&" No puede ser mayor al Total.","") | BM34: =IF(AND(N34+O34>$C34),1,0) -> 0
A35: Fallecidos | B35: Esperados | C35: =SUM(D35:G35) -> 2 | D35: 0 | E35: 0 | F35: 0 | G35: 2 | N35: 1 | O35: 1 | P35: =BD35 | BD35: =IF(AND(N35+O35>$C35)," * La variable "&$N$29&""&" No puede ser mayor al Total.","") | BM35: =IF(AND(N35+O35>$C35),1,0) -> 0
B36: No esperados | C36: =SUM(D36:G36) -> 0 | D36: 0 | E36: 0 | F36: 0 | G36: 0 | N36: 0 | O36: 0 | P36: =BD36 | BD36: =IF(AND(N36+O36>$C36)," * La variable "&$N$29&""&" No puede ser mayor al Total.","") | BM36: =IF(AND(N36+O36>$C36),1,0) -> 0
A37: Reingresos a Hospitalización Tradicional | C37: =SUM(D37:G37) -> 11 | D37: 0 | E37: 0 | F37: 2 | G37: 9 | N37: 8 | O37: 3 | P37: =BD37 | BD37: =IF(AND(N37+O37>$C37)," * La variable "&$N$29&""&" No puede ser mayor al Total.","") | BM37: =IF(AND(N37+O37>$C37),1,0) -> 0
A38: SECCIÓN C.1.2: VISITAS REALIZADAS
A39: PROFESIONALES | B39: Total de Visitas
A40: Médico | B40: 180
A41: Enfermera | B41: 653
A42: Técnico en Enfermería | B42: 933
...

Sheet ABRIL
A1: SERVICIO DE SALUD
A2: =CONCATENATE("COMUNA: ",[5]NOMBRE!B2, " (",[5]NOMBRE!C2,[5]NOMBRE!D2,[5]NOMBRE!E2,[5]NOMBRE!F2,[5]NOMBRE!G2,")") -> COMUNA: LINARES (07401)
A3: =CONCATENATE("ESTABLECIMIENTO/ESTRATEGIA: ", [5]NOMBRE!B3, " (",[5]NOMBRE!C3,[5]NOMBRE!D3,[5]NOMBRE!E3,[5]NOMBRE!F3,[5]NOMBRE!G3,[5]NOMBRE!H3,")") -> ESTABLECIMIENTO/ESTRATEGIA: HOSPITAL PRESIDENTE CARLOS IBAÑEZ DEL CAMPO (116108)
A4: =CONCATENATE("MES: ",[5]NOMBRE!B6, " (",[5]NOMBRE!C6,[5]NOMBRE!D6,")") -> MES: ABRIL (04)
A5: =CONCATENATE("AÑO: ",[5]NOMBRE!B7) -> AÑO: 2025
A6: REM-21. QUIRÓFANOS Y OTROS RECURSOS HOSPITALARIOS
A8: SECCIÓN A: CAPACIDAD INSTALADA Y UTILIZACIÓN DE LOS QUIRÓFANOS CIRUGÍA MAYOR
A9: TIPO DE QUIRÓFANOS | B9: Número de Quirófanos en Dotación | C9: Promedio Mensual de Quirófanos Habilitados | D9: Promedio Mensual de Quirófanos en Trabajo | E9: Total de Horas Mensuales de Quirófanos Habilitados (Horario Hábil) | F9: Total de Horas Mensuales de Quirófanos en Trabajo (Horario Hábil) | G9: QUIRÓFANOS CIRUGIA MAYOR | Z9: CIRUGIAS MENORES Y PROCEDIMIENTOS *
G10: Horas Mensuales Programadas de Tabla Quirúrgica de Quirófanos en Trabajo, Horario Hábil | K10: Horas Mensuales Ocupadas de Quirófanos en Trabajo Horario Hábil | P10: Horas Mensuales Ocupadas de Quirófanos en Trabajo Horario Inhábil de Lunes a Viernes | U10: Horas Mensuales Ocupadas de Quirófanos en Trabajo Horario Sábado, Domingo y Festivo | Z10: Total Horas Mensuales Ocupadas de Quirófanos en Trabajo, Horario Hábil | AC10: Total Horas Mensuales Ocupadas de Quirófanos en Trabajo, Horario Inhábil
G12: Total | H12: Beneficiarios MAI | I12: Beneficiarios MLE | J12: Otros | K12: Total | L12: Beneficiarios MAI | M12: Beneficiarios MLE | N12: Otros | O12: De recambio | P12: Total | Q12: Beneficiarios MAI | R12: Beneficiarios MLE | S12: Otros | T12: De recambio | U12: Total | V12: Beneficiarios MAI | W12: Beneficiarios MLE | X12: Otros | Y12: De recambio | Z12: Total | AA12: Cirugía Menor | AB12: Otros Procedimientos | AC12: Total | AD12: Cirugía Menor | AE12: Otros Procedimientos
A13: TOTAL QUIRÓFANOS | B13: =SUM(B14:B17) -> 6 | C13: =SUM(C14:C17) -> 6 | D13: =SUM(D14:D17) -> 6 | E13: =SUM(E14:E17) -> 1545 | F13: =SUM(F14:F17) -> 1439 | G13: =SUM(G14:G17) -> 738 | H13: =SUM(H14:H17) -> 738 | I13: =SUM(I14:I17) -> 0 | ... AE13: =SUM(AE14:AE17) -> 3.54
A14: De Cirugía Electiva | B14: 5 | C14: 5 | D14: 5 | E14: 825 | F14: 738 | G14: =SUM(H14:J14) -> 738 | H14: 738 | I14: 0 | J14: 0 | K14: =SUM(L14:O14) -> 657.78 | L14: 520.7 | M14: 0 | N14: 3.08 | O14: 134 | P14: =SUM(Q14:T14) -> 219.72 | Q14: 12.65 | R14: 181.8 | S14: 8.95 | T14: 16.32 | U14: =SUM(V14:Y14) -> 40.42 | V14: 15.02 | W14: 12.43 | X14: 1.97 | Y14: 11 | Z14: =SUM(AA14:AB14) -> 62.61 | AA14: 38.36 | AB14: 24.25 | AC14: =SUM(AD14:AE14) -> 17.74 | AD14: 15.21 | AE14: 2.53
A15: De Urgencia | B15: 1 | C15: 1 | D15: 1 | E15: 720 | F15: 701 | G15: =SUM(H15:J15) -> 0 | H15: 0 | I15: 0 | J15: 0 | K15: =SUM(L15:O15) -> 69.45 | L15: 55.45 | M15: 0 | N15: 0 | O15: 14 | P15: =SUM(Q15:T15) -> 113.22 | Q15: 94.55 | R15: 0 | S15: 0 | T15: 18.67 | U15: =SUM(V15:Y15) -> 123.47 | V15: 102.47 | W15: 0 | X15: 0 | Y15: 21 | Z15: =SUM(AA15:AB15) -> 6.08 | AA15: 4 | AB15: 2.08 | AC15: =SUM(AD15:AE15) -> 7.69 | AD15: 6.68 | AE15: 1.01
A16: Obstétrico | G16: =SUM(H16:J16) -> 0 | K16: =SUM(L16:O16) -> 0 | P16: =SUM(Q16:T16) -> 0 | U16: =SUM(V16:Y16) -> 0 | Z16: =SUM(AA16:AB16) -> 0 | AC16: =SUM(AD16:AE16) -> 0
A17: Indiferenciado | G17: =SUM(H17:J17) -> 0 | K17: =SUM(L17:O17) -> 0 | P17: =SUM(Q17:T17) -> 0 | U17: =SUM(V17:Y17) -> 0 | Z17: =SUM(AA17:AB17) -> 0 | AC17: =SUM(AD17:AE17) -> 0
A18: * Las horas informadas en cirugía menores y procedimientos, deben estar contenidas en las horas ocupadas, en quirófanos para cirugía mayor.
A19: SECCIÓN B: PROCEDIMIENTOS COMPLEJOS AMBULATORIOS
A20: COMPONENTES | B20: TOTAL | C20: Hemodiálisis | D20: Cirugía Mayor Ambulatoria | E20: Coronariografía | F20: Otras
A21: Recurso Disponible | B21: =SUM(C21:F21) -> 10 | D21: 10
A22: Ingresos | B22: =SUM(C22:F22) -> 216 | D22: 216
A23: Personas Atendidas | B23: =SUM(C23:F23) -> 216 | D23: 216
A24: Días Personas Atendidas | B24: =SUM(C24:F24) -> 216 | D24: 216
A25: Altas | B25: =SUM(C25:F25) -> 216 | D25: 216
A26: SECCIÓN C: HOSPITALIZACIÓN DOMICILIARIA Y ATENCIÓN VENTILATORIA EN DOMICILIO
A27: SECCIÓN C.1:HOSPITALIZACIÓN DOMICILIARIA
A28: SECCIÓN C.1.1: PERSONAS ATENDIDAS EN EL PROGRAMA
A29: COMPONENTES | C29: TOTAL | D29: RANGO ETARIO | H29: ORIGEN DE LA DERIVACIÓN | N29: SEXO
D30: Menor de 15 años | E30: 15 - 19 años | F30: 20 - 59 años | G30: 60 y más años | H30: APS | I30: Urgencia | J30: Hospitalización | K30: Ambulatorio | L30: Ley de Urgencia | M30: UGCC | N30: Hombres | O30: Mujeres
A31: Ingresos | C31: =SUM(D31:G31) -> 87 | D31: 0 | E31: 1 | F31: 26 | G31: 60 | H31: 1 | I31: 47 | J31: 30 | K31: 6 | L31: 0 | M31: 3 | N31: 36 | O31: 51 | P31: =AW31&AX31&AY31&AZ31&BA31&BB31&BC31&BD31 | AW31: =IF(AND($C31>0,H31="")," * No olvide digitar la variable "&H$29&""&" APS. Digite CERO si no tiene.","") | AX31: =IF(AND($C31>0,I31="")," * No olvide digitar la variable "&$H$29&""&" Urgencia. Digite CERO si no tiene.","") | AY31: =IF(AND($C31>0,J31="")," * No olvide digitar la variable "&$H$29&""&" Hospitalización. Digite CERO si no tiene.","") | AZ31: =IF(AND($C31>0,K31="")," * No olvide digitar la variable "&$H$29&""&" Ambulatorio. Digite CERO si no tiene.","") | BA31: =IF(AND($C31>0,L31="")," * No olvide digitar la variable "&$H$29&""&" Ley de Urgencia. Digite CERO si no tiene.","") | BB31: =IF(AND($C31>0,M31="")," * No olvide digitar la variable "&$H$29&""&" UGCC. Digite CERO si no tiene.","") | BC31: =IF(AND(H31+I31+J31+K31+L31+M31>$C31)," * La variable "&$H$29&""&" No puede ser mayor al Total.","") | BD31: =IF(AND(N31+O31>$C31)," * La variable "&$N$29&""&" No puede ser mayor al Total.","") | BF31: =IF(AND($C31>0,H31=""),1,0) -> 0 | BG31: =IF(AND($C31>0,I31=""),1,0) -> 0 | BH31: =IF(AND($C31>0,J31=""),1,0) -> 0 | BI31: =IF(AND($C31>0,K31=""),1,0) -> 0 | BJ31: =IF(AND($C31>0,L31=""),1,0) -> 0 | BK31: =IF(AND($C31>0,M31=""),1,0) -> 0 | BL31: =IF(AND(H31+I31+J31+K31+L31+M31>$C31),1,0) -> 0 | BM31: =IF(AND(N31+O31>$C31),1,0) -> 0
A32: Personas Atendidas | C32: =SUM(D32:G32) -> 113 | D32: 0 | E32: 1 | F32: 35 | G32: 77 | N32: 48 | O32: 65 | P32: =BD32 | BD32: =IF(AND(N32+O32>$C32)," * La variable "&$N$29&""&" No puede ser mayor al Total.","") | BM32: =IF(AND(N32+O32>$C32),1,0) -> 0
A33: Días Personas Atendidas | C33: =SUM(D33:G33) -> 803 | D33: 0 | E33: 2 | F33: 211 | G33: 590 | N33: 351 | O33: 452 | P33: =BD33 | BD33: =IF(AND(N33+O33>$C33)," * La variable "&$N$29&""&" No puede ser mayor al Total.","") | BM33: =IF(AND(N33+O33>$C33),1,0) -> 0
A34: Altas | C34: =SUM(D34:G34) -> 78 | D34: 0 | E34: 1 | F34: 21 | G34: 56 | N34: 33 | O34: 45 | P34: =BD34 | BD34: =IF(AND(N34+O34>$C34)," * La variable "&$N$29&""&" No puede ser mayor al Total.","") | BM34: =IF(AND(N34+O34>$C34),1,0) -> 0
A35: Fallecidos | B35: Esperados | C35: =SUM(D35:G35) -> 2 | D35: 0 | E35: 0 | F35: 1 | G35: 1 | N35: 0 | O35: 2 | P35: =BD35 | BD35: =IF(AND(N35+O35>$C35)," * La variable "&$N$29&""&" No puede ser mayor al Total.","") | BM35: =IF(AND(N35+O35>$C35),1,0) -> 0
B36: No esperados | C36: =SUM(D36:G36) -> 0 | D36: 0 | E36: 0 | F36: 0 | G36: 0 | N36: 0 | O36: 0 | P36: =BD36 | BD36: =IF(AND(N36+O36>$C36)," * La variable "&$N$29&""&" No puede ser mayor al Total.","") | BM36: =IF(AND(N36+O36>$C36),1,0) -> 0
A37: Reingresos a Hospitalización Tradicional | C37: =SUM(D37:G37) -> 6 | D37: 0 | E37: 0 | F37: 3 | G37: 3 | N37: 4 | O37: 2 | P37: =BD37 | BD37: =IF(AND(N37+O37>$C37)," * La variable "&$N$29&""&" No puede ser mayor al Total.","") | BM37: =IF(AND(N37+O37>$C37),1,0) -> 0
A38: SECCIÓN C.1.2: VISITAS REALIZADAS
A39: PROFESIONALES | B39: Total de Visitas
A40: Médico | B40: 211
A41: Enfermera | B41: 603
A42: Técnico en Enfermería | B42: 882
...

Sheet MAYO
A1: SERVICIO DE SALUD
A2: =CONCATENATE("COMUNA: ",[6]NOMBRE!B2, " (",[6]NOMBRE!C2,[6]NOMBRE!D2,[6]NOMBRE!E2,[6]NOMBRE!F2,[6]NOMBRE!G2,")") -> COMUNA: LINARES (07401)
A3: =CONCATENATE("ESTABLECIMIENTO/ESTRATEGIA: ", [6]NOMBRE!B3, " (",[6]NOMBRE!C3,[6]NOMBRE!D3,[6]NOMBRE!E3,[6]NOMBRE!F3,[6]NOMBRE!G3,[6]NOMBRE!H3,")") -> ESTABLECIMIENTO/ESTRATEGIA: HOSPITAL PRESIDENTE CARLOS IBAÑEZ DEL CAMPO (116108)
A4: =CONCATENATE("MES: ",[6]NOMBRE!B6, " (",[6]NOMBRE!C6,[6]NOMBRE!D6,")") -> MES: MAYO (05)
A5: =CONCATENATE("AÑO: ",[6]NOMBRE!B7) -> AÑO: 2025
A6: REM-21. QUIRÓFANOS Y OTROS RECURSOS HOSPITALARIOS
A8: SECCIÓN A: CAPACIDAD INSTALADA Y UTILIZACIÓN DE LOS QUIRÓFANOS CIRUGÍA MAYOR
A9: TIPO DE QUIRÓFANOS | B9: Número de Quirófanos en Dotación | C9: Promedio Mensual de Quirófanos Habilitados | D9: Promedio Mensual de Quirófanos en Trabajo | E9: Total de Horas Mensuales de Quirófanos Habilitados (Horario Hábil) | F9: Total de Horas Mensuales de Quirófanos en Trabajo (Horario Hábil) | G9: QUIRÓFANOS CIRUGIA MAYOR | Z9: CIRUGIAS MENORES Y PROCEDIMIENTOS *
G10: Horas Mensuales Programadas de Tabla Quirúrgica de Quirófanos en Trabajo, Horario Hábil | K10: Horas Mensuales Ocupadas de Quirófanos en Trabajo Horario Hábil | P10: Horas Mensuales Ocupadas de Quirófanos en Trabajo Horario Inhábil de Lunes a Viernes | U10: Horas Mensuales Ocupadas de Quirófanos en Trabajo Horario Sábado, Domingo y Festivo | Z10: Total Horas Mensuales Ocupadas de Quirófanos en Trabajo, Horario Hábil | AC10: Total Horas Mensuales Ocupadas de Quirófanos en Trabajo, Horario Inhábil
G12: Total | H12: Beneficiarios MAI | I12: Beneficiarios MLE | J12: Otros | K12: Total | L12: Beneficiarios MAI | M12: Beneficiarios MLE | N12: Otros | O12: De recambio | P12: Total | Q12: Beneficiarios MAI | R12: Beneficiarios MLE | S12: Otros | T12: De recambio | U12: Total | V12: Beneficiarios MAI | W12: Beneficiarios MLE | X12: Otros | Y12: De recambio | Z12: Total | AA12: Cirugía Menor | AB12: Otros Procedimientos | AC12: Total | AD12: Cirugía Menor | AE12: Otros Procedimientos
A13: TOTAL QUIRÓFANOS | B13: =SUM(B14:B17) -> 6 | C13: =SUM(C14:C17) -> 6 | D13: =SUM(D14:D17) -> 6 | E13: =SUM(E14:E17) -> 1519 | F13: =SUM(F14:F17) -> 1366 | G13: =SUM(G14:G17) -> 679 | H13: =SUM(H14:H17) -> 679 | I13: =SUM(I14:I17) -> 0 | ... AE13: =SUM(AE14:AE17) -> 18.22
A14: De Cirugía Electiva | B14: 5 | C14: 5 | D14: 5 | E14: 775 | F14: 679 | G14: =SUM(H14:J14) -> 679 | H14: 679 | I14: 0 | J14: 0 | K14: =SUM(L14:O14) -> 685.18 | L14: 513.85 | M14: 7.23 | N14: 1.1 | O14: 163 | P14: =SUM(Q14:T14) -> 184.48 | Q14: 10.52 | R14: 146.12 | S14: 11.32 | T14: 16.52 | U14: =SUM(V14:Y14) -> 161.65 | V14: 89.5 | W14: 1.82 | X14: 0 | Y14: 70.33 | Z14: =SUM(AA14:AB14) -> 53.8 | AA14: 37 | AB14: 16.8 | AC14: =SUM(AD14:AE14) -> 17.99 | AD14: 5.63 | AE14: 12.36
A15: De Urgencia | B15: 1 | C15: 1 | D15: 1 | E15: 744 | F15: 687 | G15: =SUM(H15:J15) -> 0 | H15: 0 | I15: 0 | J15: 0 | K15: =SUM(L15:O15) -> 100.11 | L15: 85.78 | M15: 0 | N15: 0 | O15: 14.33 | P15: =SUM(Q15:T15) -> 117.95 | Q15: 96.95 | R15: 0 | S15: 0 | T15: 21 | U15: =SUM(V15:Y15) -> 103.04 | V15: 88.37 | W15: 0 | X15: 0 | Y15: 14.67 | Z15: =SUM(AA15:AB15) -> 10.8 | AA15: 7.6 | AB15: 3.2 | AC15: =SUM(AD15:AE15) -> 15.54 | AD15: 9.68 | AE15: 5.86
A16: Obstétrico | G16: =SUM(H16:J16) -> 0 | K16: =SUM(L16:O16) -> 0 | P16: =SUM(Q16:T16) -> 0 | U16: =SUM(V16:Y16) -> 0 | Z16: =SUM(AA16:AB16) -> 0 | AC16: =SUM(AD16:AE16) -> 0
A17: Indiferenciado | G17: =SUM(H17:J17) -> 0 | K17: =SUM(L17:O17) -> 0 | P17: =SUM(Q17:T17) -> 0 | U17: =SUM(V17:Y17) -> 0 | Z17: =SUM(AA17:AB17) -> 0 | AC17: =SUM(AD17:AE17) -> 0
A18: * Las horas informadas en cirugía menores y procedimientos, deben estar contenidas en las horas ocupadas, en quirófanos para cirugía mayor.
A19: SECCIÓN B: PROCEDIMIENTOS COMPLEJOS AMBULATORIOS
A20: COMPONENTES | B20: TOTAL | C20: Hemodiálisis | D20: Cirugía Mayor Ambulatoria | E20: Coronariografía | F20: Otras
A21: Recurso Disponible | B21: =SUM(C21:F21) -> 10 | D21: 10
A22: Ingresos | B22: =SUM(C22:F22) -> 527 | D22: 527
A23: Personas Atendidas | B23: =SUM(C23:F23) -> 527 | D23: 527
A24: Días Personas Atendidas | B24: =SUM(C24:F24) -> 527 | D24: 527
A25: Altas | B25: =SUM(C25:F25) -> 525 | D25: 525
A26: SECCIÓN C: HOSPITALIZACIÓN DOMICILIARIA Y ATENCIÓN VENTILATORIA EN DOMICILIO
A27: SECCIÓN C.1:HOSPITALIZACIÓN DOMICILIARIA
A28: SECCIÓN C.1.1: PERSONAS ATENDIDAS EN EL PROGRAMA
A29: COMPONENTES | C29: TOTAL | D29: RANGO ETARIO | H29: ORIGEN DE LA DERIVACIÓN | N29: SEXO
D30: Menor de 15 años | E30: 15 - 19 años | F30: 20 - 59 años | G30: 60 y más años | H30: APS | I30: Urgencia | J30: Hospitalización | K30: Ambulatorio | L30: Ley de Urgencia | M30: UGCC | N30: Hombres | O30: Mujeres
A31: Ingresos | C31: =SUM(D31:G31) -> 97 | D31: 0 | E31: 0 | F31: 2 | G31: 95 | H31: 3 | I31: 44 | J31: 40 | K31: 8 | L31: 0 | M31: 2 | N31: 45 | O31: 52 | P31: =AW31&AX31&AY31&AZ31&BA31&BB31&BC31&BD31 | AW31: =IF(AND($C31>0,H31="")," * No olvide digitar la variable "&H$29&""&" APS. Digite CERO si no tiene.","") | AX31: =IF(AND($C31>0,I31="")," * No olvide digitar la variable "&$H$29&""&" Urgencia. Digite CERO si no tiene.","") | AY31: =IF(AND($C31>0,J31="")," * No olvide digitar la variable "&$H$29&""&" Hospitalización. Digite CERO si no tiene.","") | AZ31: =IF(AND($C31>0,K31="")," * No olvide digitar la variable "&$H$29&""&" Ambulatorio. Digite CERO si no tiene.","") | BA31: =IF(AND($C31>0,L31="")," * No olvide digitar la variable "&$H$29&""&" Ley de Urgencia. Digite CERO si no tiene.","") | BB31: =IF(AND($C31>0,M31="")," * No olvide digitar la variable "&$H$29&""&" UGCC. Digite CERO si no tiene.","") | BC31: =IF(AND(H31+I31+J31+K31+L31+M31>$C31)," * La variable "&$H$29&""&" No puede ser mayor al Total.","") | BD31: =IF(AND(N31+O31>$C31)," * La variable "&$N$29&""&" No puede ser mayor al Total.","") | BF31: =IF(AND($C31>0,H31=""),1,0) -> 0 | BG31: =IF(AND($C31>0,I31=""),1,0) -> 0 | BH31: =IF(AND($C31>0,J31=""),1,0) -> 0 | BI31: =IF(AND($C31>0,K31=""),1,0) -> 0 | BJ31: =IF(AND($C31>0,L31=""),1,0) -> 0 | BK31: =IF(AND($C31>0,M31=""),1,0) -> 0 | BL31: =IF(AND(H31+I31+J31+K31+L31+M31>$C31),1,0) -> 0 | BM31: =IF(AND(N31+O31>$C31),1,0) -> 0
A32: Personas Atendidas | C32: =SUM(D32:G32) -> 124 | D32: 0 | E32: 0 | F32: 4 | G32: 120 | N32: 56 | O32: 68 | P32: =BD32 | BD32: =IF(AND(N32+O32>$C32)," * La variable "&$N$29&""&" No puede ser mayor al Total.","") | BM32: =IF(AND(N32+O32>$C32),1,0) -> 0
A33: Días Personas Atendidas | C33: =SUM(D33:G33) -> 938 | D33: 0 | E33: 0 | F33: 32 | G33: 906 | N33: 463 | O33: 475 | P33: =BD33 | BD33: =IF(AND(N33+O33>$C33)," * La variable "&$N$29&""&" No puede ser mayor al Total.","") | BM33: =IF(AND(N33+O33>$C33),1,0) -> 0
A34: Altas | C34: =SUM(D34:G34) -> 83 | D34: 0 | E34: 0 | F34: 4 | G34: 79 | N34: 32 | O34: 51 | P34: =BD34 | BD34: =IF(AND(N34+O34>$C34)," * La variable "&$N$29&""&" No puede ser mayor al Total.","") | BM34: =IF(AND(N34+O34>$C34),1,0) -> 0
A35: Fallecidos | B35: Esperados | C35: =SUM(D35:G35) -> 7 | D35: 0 | E35: 0 | F35: 0 | G35: 7 | N35: 4 | O35: 3 | P35: =BD35 | BD35: =IF(AND(N35+O35>$C35)," * La variable "&$N$29&""&" No puede ser mayor al Total.","") | BM35: =IF(AND(N35+O35>$C35),1,0) -> 0
B36: No esperados | C36: =SUM(D36:G36) -> 0 | D36: 0 | E36: 0 | F36: 0 | G36: 0 | N36: 0 | O36: 0 | P36: =BD36 | BD36: =IF(AND(N36+O36>$C36)," * La variable "&$N$29&""&" No puede ser mayor al Total.","") | BM36: =IF(AND(N36+O36>$C36),1,0) -> 0
A37: Reingresos a Hospitalización Tradicional | C37: =SUM(D37:G37) -> 4 | D37: 0 | E37: 0 | F37: 0 | G37: 4 | N37: 3 | O37: 1 | P37: =BD37 | BD37: =IF(AND(N37+O37>$C37)," * La variable "&$N$29&""&" No puede ser mayor al Total.","") | BM37: =IF(AND(N37+O37>$C37),1,0) -> 0
A38: SECCIÓN C.1.2: VISITAS REALIZADAS
A39: PROFESIONALES | B39: Total de Visitas
A40: Médico | B40: 216
A41: Enfermera | B41: 658
A42: Técnico en Enfermería | B42: 1005
...

Sheet JUNIO
A1: SERVICIO DE SALUD
A2: =CONCATENATE("COMUNA: ",[7]NOMBRE!B2, " (",[7]NOMBRE!C2,[7]NOMBRE!D2,[7]NOMBRE!E2,[7]NOMBRE!F2,[7]NOMBRE!G2,")") -> COMUNA: LINARES (07401)
A3: =CONCATENATE("ESTABLECIMIENTO/ESTRATEGIA: ", [7]NOMBRE!B3, " (",[7]NOMBRE!C3,[7]NOMBRE!D3,[7]NOMBRE!E3,[7]NOMBRE!F3,[7]NOMBRE!G3,[7]NOMBRE!H3,")") -> ESTABLECIMIENTO/ESTRATEGIA: HOSPITAL PRESIDENTE CARLOS IBAÑEZ DEL CAMPO (116108)
A4: =CONCATENATE("MES: ",[7]NOMBRE!B6, " (",[7]NOMBRE!C6,[7]NOMBRE!D6,")") -> MES: JUNIO (06)
A5: =CONCATENATE("AÑO: ",[7]NOMBRE!B7) -> AÑO: 2025
A6: REM-21. QUIRÓFANOS Y OTROS RECURSOS HOSPITALARIOS
A8: SECCIÓN A: CAPACIDAD INSTALADA Y UTILIZACIÓN DE LOS QUIRÓFANOS CIRUGÍA MAYOR
A9: TIPO DE QUIRÓFANOS | B9: Número de Quirófanos en Dotación | C9: Promedio Mensual de Quirófanos Habilitados | D9: Promedio Mensual de Quirófanos en Trabajo | E9: Total de Horas Mensuales de Quirófanos Habilitados (Horario Hábil) | F9: Total de Horas Mensuales de Quirófanos en Trabajo (Horario Hábil) | G9: QUIRÓFANOS CIRUGIA MAYOR | Z9: CIRUGIAS MENORES Y PROCEDIMIENTOS *
G10: Horas Mensuales Programadas de Tabla Quirúrgica de Quirófanos en Trabajo, Horario Hábil | K10: Horas Mensuales Ocupadas de Quirófanos en Trabajo Horario Hábil | P10: Horas Mensuales Ocupadas de Quirófanos en Trabajo Horario Inhábil de Lunes a Viernes | U10: Horas Mensuales Ocupadas de Quirófanos en Trabajo Horario Sábado, Domingo y Festivo | Z10: Total Horas Mensuales Ocupadas de Quirófanos en Trabajo, Horario Hábil | AC10: Total Horas Mensuales Ocupadas de Quirófanos en Trabajo, Horario Inhábil
G12: Total | H12: Beneficiarios MAI | I12: Beneficiarios MLE | J12: Otros | K12: Total | L12: Beneficiarios MAI | M12: Beneficiarios MLE | N12: Otros | O12: De recambio | P12: Total | Q12: Beneficiarios MAI | R12: Beneficiarios MLE | S12: Otros | T12: De recambio | U12: Total | V12: Beneficiarios MAI | W12: Beneficiarios MLE | X12: Otros | Y12: De recambio | Z12: Total | AA12: Cirugía Menor | AB12: Otros Procedimientos | AC12: Total | AD12: Cirugía Menor | AE12: Otros Procedimientos
A13: TOTAL QUIRÓFANOS | B13: =SUM(B14:B17) -> 6 | C13: =SUM(C14:C17) -> 6 | D13: =SUM(D14:D17) -> 6 | E13: =SUM(E14:E17) -> 1505 | F13: =SUM(F14:F17) -> 1441 | G13: =SUM(G14:G17) -> 745 | H13: =SUM(H14:H17) -> 745 | I13: =SUM(I14:I17) -> 0 | ... AE13: =SUM(AE14:AE17) -> 10.93
A14: De Cirugía Electiva | B14: 5 | C14: 5 | D14: 5 | E14: 785 | F14: 745 | G14: =SUM(H14:J14) -> 745 | H14: 745 | I14: 0 | J14: 0 | K14: =SUM(L14:O14) -> 690.88 | L14: 556.03 | M14: 0.85 | N14: 0 | O14: 134 | P14: =SUM(Q14:T14) -> 198.71 | Q14: 27.55 | R14: 168.23 | S14: 2.93 | T14: 0 | U14: =SUM(V14:Y14) -> 137.99 | V14: 62.98 | W14: 10.68 | X14: 0 | Y14: 64.33 | Z14: =SUM(AA14:AB14) -> 47.54 | AA14: 30.06 | AB14: 17.48 | AC14: =SUM(AD14:AE14) -> 12.93 | AD14: 11.35 | AE14: 1.58
A15: De Urgencia | B15: 1 | C15: 1 | D15: 1 | E15: 720 | F15: 696 | G15: =SUM(H15:J15) -> 0 | H15: 0 | I15: 0 | J15: 0 | K15: =SUM(L15:O15) -> 81.3 | L15: 64.97 | M15: 0 | N15: 0 | O15: 16.33 | P15: =SUM(Q15:T15) -> 117.8 | Q15: 117.8 | R15: 0 | S15: 0 | T15: 0 | U15: =SUM(V15:Y15) -> 80.36 | V15: 68.03 | W15: 0 | X15: 0 | Y15: 12.33 | Z15: =SUM(AA15:AB15) -> 8.9 | AA15: 6.1 | AB15: 2.8 | AC15: =SUM(AD15:AE15) -> 16.26 | AD15: 6.91 | AE15: 9.35
A16: Obstétrico | G16: =SUM(H16:J16) -> 0 | K16: =SUM(L16:O16) -> 0 | P16: =SUM(Q16:T16) -> 0 | U16: =SUM(V16:Y16) -> 0 | Z16: =SUM(AA16:AB16) -> 0 | AC16: =SUM(AD16:AE16) -> 0
A17: Indiferenciado | G17: =SUM(H17:J17) -> 0 | K17: =SUM(L17:O17) -> 0 | P17: =SUM(Q17:T17) -> 0 | U17: =SUM(V17:Y17) -> 0 | Z17: =SUM(AA17:AB17) -> 0 | AC17: =SUM(AD17:AE17) -> 0
A18: * Las horas informadas en cirugía menores y procedimientos, deben estar contenidas en las horas ocupadas, en quirófanos para cirugía mayor.
A19: SECCIÓN B: PROCEDIMIENTOS COMPLEJOS AMBULATORIOS
A20: COMPONENTES | B20: TOTAL | C20: Hemodiálisis | D20: Cirugía Mayor Ambulatoria | E20: Coronariografía | F20: Otras
A21: Recurso Disponible | B21: =SUM(C21:F21) -> 10 | D21: 10
A22: Ingresos | B22: =SUM(C22:F22) -> 459 | D22: 459
A23: Personas Atendidas | B23: =SUM(C23:F23) -> 459 | D23: 459
A24: Días Personas Atendidas | B24: =SUM(C24:F24) -> 459 | D24: 459
A25: Altas | B25: =SUM(C25:F25) -> 459 | D25: 459
A26: SECCIÓN C: HOSPITALIZACIÓN DOMICILIARIA Y ATENCIÓN VENTILATORIA EN DOMICILIO
A27: SECCIÓN C.1:HOSPITALIZACIÓN DOMICILIARIA
A28: SECCIÓN C.1.1: PERSONAS ATENDIDAS EN EL PROGRAMA
A29: COMPONENTES | C29: TOTAL | D29: RANGO ETARIO | H29: ORIGEN DE LA DERIVACIÓN | N29: SEXO
D30: Menor de 15 años | E30: 15 - 19 años | F30: 20 - 59 años | G30: 60 y más años | H30: APS | I30: Urgencia | J30: Hospitalización | K30: Ambulatorio | L30: Ley de Urgencia | M30: UGCC | N30: Hombres | O30: Mujeres
A31: Ingresos | C31: =SUM(D31:G31) -> 101 | D31: 0 | E31: 1 | F31: 23 | G31: 77 | H31: 5 | I31: 57 | J31: 31 | K31: 4 | L31: 0 | M31: 4 | N31: 34 | O31: 67 | P31: =AW31&AX31&AY31&AZ31&BA31&BB31&BC31&BD31 | AW31: =IF(AND($C31>0,H31="")," * No olvide digitar la variable "&H$29&""&" APS. Digite CERO si no tiene.","") | AX31: =IF(AND($C31>0,I31="")," * No olvide digitar la variable "&$H$29&""&" Urgencia. Digite CERO si no tiene.","") | AY31: =IF(AND($C31>0,J31="")," * No olvide digitar la variable "&$H$29&""&" Hospitalización. Digite CERO si no tiene.","") | AZ31: =IF(AND($C31>0,K31="")," * No olvide digitar la variable "&$H$29&""&" Ambulatorio. Digite CERO si no tiene.","") | BA31: =IF(AND($C31>0,L31="")," * No olvide digitar la variable "&$H$29&""&" Ley de Urgencia. Digite CERO si no tiene.","") | BB31: =IF(AND($C31>0,M31="")," * No olvide digitar la variable "&$H$29&""&" UGCC. Digite CERO si no tiene.","") | BC31: =IF(AND(H31+I31+J31+K31+L31+M31>$C31)," * La variable "&$H$29&""&" No puede ser mayor al Total.","") | BD31: =IF(AND(N31+O31>$C31)," * La variable "&$N$29&""&" No puede ser mayor al Total.","") | BF31: =IF(AND($C31>0,H31=""),1,0) -> 0 | BG31: =IF(AND($C31>0,I31=""),1,0) -> 0 | BH31: =IF(AND($C31>0,J31=""),1,0) -> 0 | BI31: =IF(AND($C31>0,K31=""),1,0) -> 0 | BJ31: =IF(AND($C31>0,L31=""),1,0) -> 0 | BK31: =IF(AND($C31>0,M31=""),1,0) -> 0 | BL31: =IF(AND(H31+I31+J31+K31+L31+M31>$C31),1,0) -> 0 | BM31: =IF(AND(N31+O31>$C31),1,0) -> 0
A32: Personas Atendidas | C32: =SUM(D32:G32) -> 131 | D32: 0 | E32: 1 | F32: 29 | G32: 101 | N32: 51 | O32: 80 | P32: =BD32 | BD32: =IF(AND(N32+O32>$C32)," * La variable "&$N$29&""&" No puede ser mayor al Total.","") | BM32: =IF(AND(N32+O32>$C32),1,0) -> 0
