Workbook

Sheet CONSOLIDADO
A1: SERVICIO DE SALUD
A2: =CONCATENATE("COMUNA: ",[1]NOMBRE!B2, " (",[1]NOMBRE!C2,[1]NOMBRE!D2,[1]NOMBRE!E2,[1]NOMBRE!F2,[1]NOMBRE!G2,")") -> COMUNA: 0 (00000)
A3: =CONCATENATE("ESTABLECIMIENTO/ESTRATEGIA: ", [1]NOMBRE!B3, " (",[1]NOMBRE!C3,[1]NOMBRE!D3,[1]NOMBRE!E3,[1]NOMBRE!F3,[1]NOMBRE!G3,[1]NOMBRE!H3,")") -> ESTABLECIMIENTO/ESTRATEGIA: 0 (000000)
A4: =CONCATENATE("MES: ",[1]NOMBRE!B6, " (",[1]NOMBRE!C6,[1]NOMBRE!D6,")") -> MES: 0 (00)
A5: =CONCATENATE("AÑO: ",[1]NOMBRE!B7) -> AÑO: 2025
A6: REM-A19b. ACTIVIDADES DE PARTICIPACIÓN SOCIAL
A8: SECCIÓN A: ATENCIÓN OFICINAS DE INFORMACIONES (SISTEMA INTEGRAL DE ATENCIÓN A USUARIOS)
A9: TIPO DE ATENCION | B9: Nº DE ATENCIONES EN EL MES | E9: Respuestas del Mes Dentro de Plazos Legales (15 días Hábiles) | G9: Reclamos Respondidos Fuera de Plazos Legales | H9: Reclamos Pendientes | J9: TRANS | L9: No Binarie | M9: No revelado | N9: Pueblos Originarios | O9: Migrantes | P9: PRAIS | Q9: N° DE ATENCIONES EN EL MES (Ley Mila)
B10: TOTAL AMBOS SEXOS | C10: Hombres | D10: Mujeres | E10: Reclamos generados en el mes | F10: Reclamos generados en el mes anterior | H10: Respuestas pendientes dentro del plazo legal | I10: Respuestas pendientes fuera del plazo legal | J10: Masculino | K10: Femenina | Q10: Niños, niñas y adolescentes | R10: Gestantes
A11: TOTAL DE RECLAMOS | B11: =SUM(C11:D11) -> 1508 | C11: =SUM(C12:C51) -> 429 | D11: =SUM(D12:D51) -> 1079 | E11: =SUM(E12:E51) -> 1033 | F11: =SUM(F12:F51) -> 340 | G11: =SUM(G12:G51) -> 81 | H11: =SUM(H12:H51) -> 373 | I11: =SUM(I12:I51) -> 102 | J11: =SUM(J12:J51) -> 0 | ... R11: =SUM(R12:R51) -> 0
A12: Trato no amable, digno ni respetuoso | B12: =SUM(C12:D12) -> 169 | C12: =SUM(ENERO:DICIEMBRE!C12) -> 44 | D12: =SUM(ENERO:DICIEMBRE!D12) -> 125 | E12: =SUM(ENERO:DICIEMBRE!E12) -> 107 | F12: =SUM(ENERO:DICIEMBRE!F12) -> 43 | G12: =SUM(ENERO:DICIEMBRE!G12) -> 12 | H12: =SUM(ENERO:DICIEMBRE!H12) -> 50 | I12: =SUM(ENERO:DICIEMBRE!I12) -> 12 | J12: =SUM(ENERO:DICIEMBRE!J12) -> 0 | ... R12: =SUM(ENERO:DICIEMBRE!R12) -> 0 | S12: =CA12&CB12&CC12&CD12&CE12&CF12&CG12&CH12&CI12 | CA12: =IF(AND(D12>0,J12=""),"*No olvide digitar el campo TRANS Masculino (Digite CERO si no tiene).", IF(J12>D12," * El Número de TRANS Masculino no puede superar el Total Mujeres. ","")) | CB12: =IF(AND(C12>0,OR(K12=""))," *No olvide digitar el campo TRANS Femenino (Digite CERO si no tiene).",IF(K12>$C12," * El Número de TRANS Femenino no puede superar el Total Hombres. ","")) | CC12: =IF(AND($B12>0,OR(L12=""))," *No olvide digitar el campo "&L$9&""&". Digite CERO si no tiene.", IF(L12>$B12," * La variable "&L$9&""&" no puede superar el Total Ambos Sexos. ","")) | CD12: =IF(AND($B12>0,OR(M12=""))," *No olvide digitar el campo "&M$9&""&". Digite CERO si no tiene.", IF(M12>$B12," * La variable "&M$9&""&" no puede superar el Total Ambos Sexos. ","")) | CE12: =IF(AND($B12>0,OR(N12=""))," *No olvide digitar el campo "&N$9&""&". Digite CERO si no tiene.", IF(N12>$B12," * La variable "&N$9&""&" no puede superar el Total Ambos Sexos. ","")) | CF12: =IF(AND($B12>0,OR(O12=""))," *No olvide digitar el campo "&O$9&""&". Digite CERO si no tiene.", IF(O12>$B12," * La variable "&O$9&""&" no puede superar el Total Ambos Sexos. ","")) | CG12: =IF(AND($B12>0,OR(P12=""))," *No olvide digitar el campo "&P$9&""&". Digite CERO si no tiene.", IF(P12>$B12," * La variable "&P$9&""&" no puede superar el Total Ambos Sexos. ","")) | CH12: =IF(AND($B12>0,OR(Q12=""))," *No olvide digitar el campo "&Q$9&""&". Niños, niñas y adolescentes. Digite CERO si no tiene.", IF(Q12>$B12," * La variable "&Q$9&""&" no puede superar el Total Ambos Sexos. ","")) | CI12: =IF(AND($D12>0,OR(R12=""))," *No olvide digitar el campo "&Q$9&""&" Gestantes. Digite CERO si no tiene.", IF(R12>$D12," * La variable "&Q$9&""&" no puede superar el Total Mujeres. ","")) | CM12: =IF(AND(D12>0,OR(J12="")),1,IF(J12>D12,1,0)) -> 0 | CN12: =IF(AND(C12>0,OR(K12="")),1,IF(K12>C12,1,0)) -> 0 | CO12: =IF(AND($B12>0,OR(L12="")),1,IF(L12>$B12,1,0)) -> 0 | CP12: =IF(AND($B12>0,OR(M12="")),1,IF(M12>$B12,1,0)) -> 0 | CQ12: =IF(AND($B12>0,OR(N12="")),1,IF(N12>$B12,1,0)) -> 0 | CR12: =IF(AND($B12>0,OR(O12="")),1,IF(O12>$B12,1,0)) -> 0 | CS12: =IF(AND($B12>0,OR(P12="")),1,IF(P12>$B12,1,0)) -> 0 | CT12: =IF(AND($B12>0,OR(Q12="")),1,IF(Q12>$B12,1,0)) -> 0 | CU12: =IF(AND($D12>0,OR(R12="")),1,IF(R12>$D12,1,0)) -> 0
A13: Trato discriminatorio | B13: =SUM(C13:D13) -> 13 | C13: =SUM(ENERO:DICIEMBRE!C13) -> 3 | D13: =SUM(ENERO:DICIEMBRE!D13) -> 10 | E13: =SUM(ENERO:DICIEMBRE!E13) -> 7 | F13: =SUM(ENERO:DICIEMBRE!F13) -> 6 | G13: =SUM(ENERO:DICIEMBRE!G13) -> 0 | H13: =SUM(ENERO:DICIEMBRE!H13) -> 6 | I13: =SUM(ENERO:DICIEMBRE!I13) -> 0 | J13: =SUM(ENERO:DICIEMBRE!J13) -> 0 | ... R13: =SUM(ENERO:DICIEMBRE!R13) -> 0 | S13: =CA13&CB13&CC13&CD13&CE13&CF13&CG13&CH13&CI13 | CA13: =IF(AND(D13>0,J13=""),"*No olvide digitar el campo TRANS Masculino (Digite CERO si no tiene).", IF(J13>D13," * El Número de TRANS Masculino no puede superar el Total Mujeres. ","")) | CB13: =IF(AND(C13>0,OR(K13=""))," *No olvide digitar el campo TRANS Femenino (Digite CERO si no tiene).",IF(K13>$C13," * El Número de TRANS Femenino no puede superar el Total Hombres. ","")) | CC13: =IF(AND($B13>0,OR(L13=""))," *No olvide digitar el campo "&L$9&""&". Digite CERO si no tiene.", IF(L13>$B13," * La variable "&L$9&""&" no puede superar el Total Ambos Sexos. ","")) | CD13: =IF(AND($B13>0,OR(M13=""))," *No olvide digitar el campo "&M$9&""&". Digite CERO si no tiene.", IF(M13>$B13," * La variable "&M$9&""&" no puede superar el Total Ambos Sexos. ","")) | CE13: =IF(AND($B13>0,OR(N13=""))," *No olvide digitar el campo "&N$9&""&". Digite CERO si no tiene.", IF(N13>$B13," * La variable "&N$9&""&" no puede superar el Total Ambos Sexos. ","")) | CF13: =IF(AND($B13>0,OR(O13=""))," *No olvide digitar el campo "&O$9&""&". Digite CERO si no tiene.", IF(O13>$B13," * La variable "&O$9&""&" no puede superar el Total Ambos Sexos. ","")) | CG13: =IF(AND($B13>0,OR(P13=""))," *No olvide digitar el campo "&P$9&""&". Digite CERO si no tiene.", IF(P13>$B13," * La variable "&P$9&""&" no puede superar el Total Ambos Sexos. ","")) | CH13: =IF(AND($B13>0,OR(Q13=""))," *No olvide digitar el campo "&Q$9&""&". Niños, niñas y adolescentes. Digite CERO si no tiene.", IF(Q13>$B13," * La variable "&Q$9&""&" no puede superar el Total Ambos Sexos. ","")) | CI13: =IF(AND($D13>0,OR(R13=""))," *No olvide digitar el campo "&Q$9&""&" Gestantes. Digite CERO si no tiene.", IF(R13>$D13," * La variable "&Q$9&""&" no puede superar el Total Mujeres. ","")) | CM13: =IF(AND(D13>0,OR(J13="")),1,IF(J13>D13,1,0)) -> 0 | CN13: =IF(AND(C13>0,OR(K13="")),1,IF(K13>C13,1,0)) -> 0 | CO13: =IF(AND($B13>0,OR(L13="")),1,IF(L13>$B13,1,0)) -> 0 | CP13: =IF(AND($B13>0,OR(M13="")),1,IF(M13>$B13,1,0)) -> 0 | CQ13: =IF(AND($B13>0,OR(N13="")),1,IF(N13>$B13,1,0)) -> 0 | CR13: =IF(AND($B13>0,OR(O13="")),1,IF(O13>$B13,1,0)) -> 0 | CS13: =IF(AND($B13>0,OR(P13="")),1,IF(P13>$B13,1,0)) -> 0 | CT13: =IF(AND($B13>0,OR(Q13="")),1,IF(Q13>$B13,1,0)) -> 0 | CU13: =IF(AND($D13>0,OR(R13="")),1,IF(R13>$D13,1,0)) -> 0
A14: Trato con falta de privacidad | B14: =SUM(C14:D14) -> 1 | C14: =SUM(ENERO:DICIEMBRE!C14) -> 1 | D14: =SUM(ENERO:DICIEMBRE!D14) -> 0 | E14: =SUM(ENERO:DICIEMBRE!E14) -> 1 | F14: =SUM(ENERO:DICIEMBRE!F14) -> 0 | G14: =SUM(ENERO:DICIEMBRE!G14) -> 0 | H14: =SUM(ENERO:DICIEMBRE!H14) -> 0 | I14: =SUM(ENERO:DICIEMBRE!I14) -> 0 | J14: =SUM(ENERO:DICIEMBRE!J14) -> 0 | ... R14: =SUM(ENERO:DICIEMBRE!R14) -> 0 | S14: =CA14&CB14&CC14&CD14&CE14&CF14&CG14&CH14&CI14 | CA14: =IF(AND(D14>0,J14=""),"*No olvide digitar el campo TRANS Masculino (Digite CERO si no tiene).", IF(J14>D14," * El Número de TRANS Masculino no puede superar el Total Mujeres. ","")) | CB14: =IF(AND(C14>0,OR(K14=""))," *No olvide digitar el campo TRANS Femenino (Digite CERO si no tiene).",IF(K14>$C14," * El Número de TRANS Femenino no puede superar el Total Hombres. ","")) | CC14: =IF(AND($B14>0,OR(L14=""))," *No olvide digitar el campo "&L$9&""&". Digite CERO si no tiene.", IF(L14>$B14," * La variable "&L$9&""&" no puede superar el Total Ambos Sexos. ","")) | CD14: =IF(AND($B14>0,OR(M14=""))," *No olvide digitar el campo "&M$9&""&". Digite CERO si no tiene.", IF(M14>$B14," * La variable "&M$9&""&" no puede superar el Total Ambos Sexos. ","")) | CE14: =IF(AND($B14>0,OR(N14=""))," *No olvide digitar el campo "&N$9&""&". Digite CERO si no tiene.", IF(N14>$B14," * La variable "&N$9&""&" no puede superar el Total Ambos Sexos. ","")) | CF14: =IF(AND($B14>0,OR(O14=""))," *No olvide digitar el campo "&O$9&""&". Digite CERO si no tiene.", IF(O14>$B14," * La variable "&O$9&""&" no puede superar el Total Ambos Sexos. ","")) | CG14: =IF(AND($B14>0,OR(P14=""))," *No olvide digitar el campo "&P$9&""&". Digite CERO si no tiene.", IF(P14>$B14," * La variable "&P$9&""&" no puede superar el Total Ambos Sexos. ","")) | CH14: =IF(AND($B14>0,OR(Q14=""))," *No olvide digitar el campo "&Q$9&""&". Niños, niñas y adolescentes. Digite CERO si no tiene.", IF(Q14>$B14," * La variable "&Q$9&""&" no puede superar el Total Ambos Sexos. ","")) | CI14: =IF(AND($D14>0,OR(R14=""))," *No olvide digitar el campo "&Q$9&""&" Gestantes. Digite CERO si no tiene.", IF(R14>$D14," * La variable "&Q$9&""&" no puede superar el Total Mujeres. ","")) | CM14: =IF(AND(D14>0,OR(J14="")),1,IF(J14>D14,1,0)) -> 0 | CN14: =IF(AND(C14>0,OR(K14="")),1,IF(K14>C14,1,0)) -> 0 | CO14: =IF(AND($B14>0,OR(L14="")),1,IF(L14>$B14,1,0)) -> 0 | CP14: =IF(AND($B14>0,OR(M14="")),1,IF(M14>$B14,1,0)) -> 0 | CQ14: =IF(AND($B14>0,OR(N14="")),1,IF(N14>$B14,1,0)) -> 0 | CR14: =IF(AND($B14>0,OR(O14="")),1,IF(O14>$B14,1,0)) -> 0 | CS14: =IF(AND($B14>0,OR(P14="")),1,IF(P14>$B14,1,0)) -> 0 | CT14: =IF(AND($B14>0,OR(Q14="")),1,IF(Q14>$B14,1,0)) -> 0 | CU14: =IF(AND($D14>0,OR(R14="")),1,IF(R14>$D14,1,0)) -> 0
A15: Trato con falta de confidencialidad | B15: =SUM(C15:D15) -> 1 | C15: =SUM(ENERO:DICIEMBRE!C15) -> 0 | D15: =SUM(ENERO:DICIEMBRE!D15) -> 1 | E15: =SUM(ENERO:DICIEMBRE!E15) -> 0 | F15: =SUM(ENERO:DICIEMBRE!F15) -> 1 | G15: =SUM(ENERO:DICIEMBRE!G15) -> 0 | H15: =SUM(ENERO:DICIEMBRE!H15) -> 1 | I15: =SUM(ENERO:DICIEMBRE!I15) -> 0 | J15: =SUM(ENERO:DICIEMBRE!J15) -> 0 | ... R15: =SUM(ENERO:DICIEMBRE!R15) -> 0 | S15: =CA15&CB15&CC15&CD15&CE15&CF15&CG15&CH15&CI15 | CA15: =IF(AND(D15>0,J15=""),"*No olvide digitar el campo TRANS Masculino (Digite CERO si no tiene).", IF(J15>D15," * El Número de TRANS Masculino no puede superar el Total Mujeres. ","")) | CB15: =IF(AND(C15>0,OR(K15=""))," *No olvide digitar el campo TRANS Femenino (Digite CERO si no tiene).",IF(K15>$C15," * El Número de TRANS Femenino no puede superar el Total Hombres. ","")) | CC15: =IF(AND($B15>0,OR(L15=""))," *No olvide digitar el campo "&L$9&""&". Digite CERO si no tiene.", IF(L15>$B15," * La variable "&L$9&""&" no puede superar el Total Ambos Sexos. ","")) | CD15: =IF(AND($B15>0,OR(M15=""))," *No olvide digitar el campo "&M$9&""&". Digite CERO si no tiene.", IF(M15>$B15," * La variable "&M$9&""&" no puede superar el Total Ambos Sexos. ","")) | CE15: =IF(AND($B15>0,OR(N15=""))," *No olvide digitar el campo "&N$9&""&". Digite CERO si no tiene.", IF(N15>$B15," * La variable "&N$9&""&" no puede superar el Total Ambos Sexos. ","")) | CF15: =IF(AND($B15>0,OR(O15=""))," *No olvide digitar el campo "&O$9&""&". Digite CERO si no tiene.", IF(O15>$B15," * La variable "&O$9&""&" no puede superar el Total Ambos Sexos. ","")) | CG15: =IF(AND($B15>0,OR(P15=""))," *No olvide digitar el campo "&P$9&""&". Digite CERO si no tiene.", IF(P15>$B15," * La variable "&P$9&""&" no puede superar el Total Ambos Sexos. ","")) | CH15: =IF(AND($B15>0,OR(Q15=""))," *No olvide digitar el campo "&Q$9&""&". Niños, niñas y adolescentes. Digite CERO si no tiene.", IF(Q15>$B15," * La variable "&Q$9&""&" no puede superar el Total Ambos Sexos. ","")) | CI15: =IF(AND($D15>0,OR(R15=""))," *No olvide digitar el campo "&Q$9&""&" Gestantes. Digite CERO si no tiene.", IF(R15>$D15," * La variable "&Q$9&""&" no puede superar el Total Mujeres. ","")) | CM15: =IF(AND(D15>0,OR(J15="")),1,IF(J15>D15,1,0)) -> 0 | CN15: =IF(AND(C15>0,OR(K15="")),1,IF(K15>C15,1,0)) -> 0 | CO15: =IF(AND($B15>0,OR(L15="")),1,IF(L15>$B15,1,0)) -> 0 | CP15: =IF(AND($B15>0,OR(M15="")),1,IF(M15>$B15,1,0)) -> 0 | CQ15: =IF(AND($B15>0,OR(N15="")),1,IF(N15>$B15,1,0)) -> 0 | CR15: =IF(AND($B15>0,OR(O15="")),1,IF(O15>$B15,1,0)) -> 0 | CS15: =IF(AND($B15>0,OR(P15="")),1,IF(P15>$B15,1,0)) -> 0 | CT15: =IF(AND($B15>0,OR(Q15="")),1,IF(Q15>$B15,1,0)) -> 0 | CU15: =IF(AND($D15>0,OR(R15="")),1,IF(R15>$D15,1,0)) -> 0
A16: Trato sin pertinencia cultural en la atención | B16: =SUM(C16:D16) -> 0 | C16: =SUM(ENERO:DICIEMBRE!C16) -> 0 | D16: =SUM(ENERO:DICIEMBRE!D16) -> 0 | E16: =SUM(ENERO:DICIEMBRE!E16) -> 0 | F16: =SUM(ENERO:DICIEMBRE!F16) -> 0 | G16: =SUM(ENERO:DICIEMBRE!G16) -> 0 | H16: =SUM(ENERO:DICIEMBRE!H16) -> 0 | I16: =SUM(ENERO:DICIEMBRE!I16) -> 0 | J16: =SUM(ENERO:DICIEMBRE!J16) -> 0 | ... R16: =SUM(ENERO:DICIEMBRE!R16) -> 0 | S16: =CA16&CB16&CC16&CD16&CE16&CF16&CG16&CH16&CI16 | CA16: =IF(AND(D16>0,J16=""),"*No olvide digitar el campo TRANS Masculino (Digite CERO si no tiene).", IF(J16>D16," * El Número de TRANS Masculino no puede superar el Total Mujeres. ","")) | CB16: =IF(AND(C16>0,OR(K16=""))," *No olvide digitar el campo TRANS Femenino (Digite CERO si no tiene).",IF(K16>$C16," * El Número de TRANS Femenino no puede superar el Total Hombres. ","")) | CC16: =IF(AND($B16>0,OR(L16=""))," *No olvide digitar el campo "&L$9&""&". Digite CERO si no tiene.", IF(L16>$B16," * La variable "&L$9&""&" no puede superar el Total Ambos Sexos. ","")) | CD16: =IF(AND($B16>0,OR(M16=""))," *No olvide digitar el campo "&M$9&""&". Digite CERO si no tiene.", IF(M16>$B16," * La variable "&M$9&""&" no puede superar el Total Ambos Sexos. ","")) | CE16: =IF(AND($B16>0,OR(N16=""))," *No olvide digitar el campo "&N$9&""&". Digite CERO si no tiene.", IF(N16>$B16," * La variable "&N$9&""&" no puede superar el Total Ambos Sexos. ","")) | CF16: =IF(AND($B16>0,OR(O16=""))," *No olvide digitar el campo "&O$9&""&". Digite CERO si no tiene.", IF(O16>$B16," * La variable "&O$9&""&" no puede superar el Total Ambos Sexos. ","")) | CG16: =IF(AND($B16>0,OR(P16=""))," *No olvide digitar el campo "&P$9&""&". Digite CERO si no tiene.", IF(P16>$B16," * La variable "&P$9&""&" no puede superar el Total Ambos Sexos. ","")) | CH16: =IF(AND($B16>0,OR(Q16=""))," *No olvide digitar el campo "&Q$9&""&". Niños, niñas y adolescentes. Digite CERO si no tiene.", IF(Q16>$B16," * La variable "&Q$9&""&" no puede superar el Total Ambos Sexos. ","")) | CI16: =IF(AND($D16>0,OR(R16=""))," *No olvide digitar el campo "&Q$9&""&" Gestantes. Digite CERO si no tiene.", IF(R16>$D16," * La variable "&Q$9&""&" no puede superar el Total Mujeres. ","")) | CM16: =IF(AND(D16>0,OR(J16="")),1,IF(J16>D16,1,0)) -> 0 | CN16: =IF(AND(C16>0,OR(K16="")),1,IF(K16>C16,1,0)) -> 0 | CO16: =IF(AND($B16>0,OR(L16="")),1,IF(L16>$B16,1,0)) -> 0 | CP16: =IF(AND($B16>0,OR(M16="")),1,IF(M16>$B16,1,0)) -> 0 | CQ16: =IF(AND($B16>0,OR(N16="")),1,IF(N16>$B16,1,0)) -> 0 | CR16: =IF(AND($B16>0,OR(O16="")),1,IF(O16>$B16,1,0)) -> 0 | CS16: =IF(AND($B16>0,OR(P16="")),1,IF(P16>$B16,1,0)) -> 0 | CT16: =IF(AND($B16>0,OR(Q16="")),1,IF(Q16>$B16,1,0)) -> 0 | CU16: =IF(AND($D16>0,OR(R16="")),1,IF(R16>$D16,1,0)) -> 0
A17: Trato sin condiciones para el acompañamiento | B17: =SUM(C17:D17) -> 2 | C17: =SUM(ENERO:DICIEMBRE!C17) -> 0 | D17: =SUM(ENERO:DICIEMBRE!D17) -> 2 | E17: =SUM(ENERO:DICIEMBRE!E17) -> 1 | F17: =SUM(ENERO:DICIEMBRE!F17) -> 1 | G17: =SUM(ENERO:DICIEMBRE!G17) -> 0 | H17: =SUM(ENERO:DICIEMBRE!H17) -> 1 | I17: =SUM(ENERO:DICIEMBRE!I17) -> 0 | J17: =SUM(ENERO:DICIEMBRE!J17) -> 0 | ... R17: =SUM(ENERO:DICIEMBRE!R17) -> 0 | S17: =CA17&CB17&CC17&CD17&CE17&CF17&CG17&CH17&CI17 | CA17: =IF(AND(D17>0,J17=""),"*No olvide digitar el campo TRANS Masculino (Digite CERO si no tiene).", IF(J17>D17," * El Número de TRANS Masculino no puede superar el Total Mujeres. ","")) | CB17: =IF(AND(C17>0,OR(K17=""))," *No olvide digitar el campo TRANS Femenino (Digite CERO si no tiene).",IF(K17>$C17," * El Número de TRANS Femenino no puede superar el Total Hombres. ","")) | CC17: =IF(AND($B17>0,OR(L17=""))," *No olvide digitar el campo "&L$9&""&". Digite CERO si no tiene.", IF(L17>$B17," * La variable "&L$9&""&" no puede superar el Total Ambos Sexos. ","")) | CD17: =IF(AND($B17>0,OR(M17=""))," *No olvide digitar el campo "&M$9&""&". Digite CERO si no tiene.", IF(M17>$B17," * La variable "&M$9&""&" no puede superar el Total Ambos Sexos. ","")) | CE17: =IF(AND($B17>0,OR(N17=""))," *No olvide digitar el campo "&N$9&""&". Digite CERO si no tiene.", IF(N17>$B17," * La variable "&N$9&""&" no puede superar el Total Ambos Sexos. ","")) | CF17: =IF(AND($B17>0,OR(O17=""))," *No olvide digitar el campo "&O$9&""&". Digite CERO si no tiene.", IF(O17>$B17," * La variable "&O$9&""&" no puede superar el Total Ambos Sexos. ","")) | CG17: =IF(AND($B17>0,OR(P17=""))," *No olvide digitar el campo "&P$9&""&". Digite CERO si no tiene.", IF(P17>$B17," * La variable "&P$9&""&" no puede superar el Total Ambos Sexos. ","")) | CH17: =IF(AND($B17>0,OR(Q17=""))," *No olvide digitar el campo "&Q$9&""&". Niños, niñas y adolescentes. Digite CERO si no tiene.", IF(Q17>$B17," * La variable "&Q$9&""&" no puede superar el Total Ambos Sexos. ","")) | CI17: =IF(AND($D17>0,OR(R17=""))," *No olvide digitar el campo "&Q$9&""&" Gestantes. Digite CERO si no tiene.", IF(R17>$D17," * La variable "&Q$9&""&" no puede superar el Total Mujeres. ","")) | CM17: =IF(AND(D17>0,OR(J17="")),1,IF(J17>D17,1,0)) -> 0 | CN17: =IF(AND(C17>0,OR(K17="")),1,IF(K17>C17,1,0)) -> 0 | CO17: =IF(AND($B17>0,OR(L17="")),1,IF(L17>$B17,1,0)) -> 0 | CP17: =IF(AND($B17>0,OR(M17="")),1,IF(M17>$B17,1,0)) -> 0 | CQ17: =IF(AND($B17>0,OR(N17="")),1,IF(N17>$B17,1,0)) -> 0 | CR17: =IF(AND($B17>0,OR(O17="")),1,IF(O17>$B17,1,0)) -> 0 | CS17: =IF(AND($B17>0,OR(P17="")),1,IF(P17>$B17,1,0)) -> 0 | CT17: =IF(AND($B17>0,OR(Q17="")),1,IF(Q17>$B17,1,0)) -> 0 | CU17: =IF(AND($D17>0,OR(R17="")),1,IF(R17>$D17,1,0)) -> 0
A18: Competencia técnica diagnóstico | B18: =SUM(C18:D18) -> 47 | C18: =SUM(ENERO:DICIEMBRE!C18) -> 8 | D18: =SUM(ENERO:DICIEMBRE!D18) -> 39 | E18: =SUM(ENERO:DICIEMBRE!E18) -> 34 | F18: =SUM(ENERO:DICIEMBRE!F18) -> 8 | G18: =SUM(ENERO:DICIEMBRE!G18) -> 3 | H18: =SUM(ENERO:DICIEMBRE!H18) -> 9 | I18: =SUM(ENERO:DICIEMBRE!I18) -> 4 | J18: =SUM(ENERO:DICIEMBRE!J18) -> 0 | ... R18: =SUM(ENERO:DICIEMBRE!R18) -> 0 | S18: =CA18&CB18&CC18&CD18&CE18&CF18&CG18&CH18&CI18 | CA18: =IF(AND(D18>0,J18=""),"*No olvide digitar el campo TRANS Masculino (Digite CERO si no tiene).", IF(J18>D18," * El Número de TRANS Masculino no puede superar el Total Mujeres. ","")) | CB18: =IF(AND(C18>0,OR(K18=""))," *No olvide digitar el campo TRANS Femenino (Digite CERO si no tiene).",IF(K18>$C18," * El Número de TRANS Femenino no puede superar el Total Hombres. ","")) | CC18: =IF(AND($B18>0,OR(L18=""))," *No olvide digitar el campo "&L$9&""&". Digite CERO si no tiene.", IF(L18>$B18," * La variable "&L$9&""&" no puede superar el Total Ambos Sexos. ","")) | CD18: =IF(AND($B18>0,OR(M18=""))," *No olvide digitar el campo "&M$9&""&". Digite CERO si no tiene.", IF(M18>$B18," * La variable "&M$9&""&" no puede superar el Total Ambos Sexos. ","")) | CE18: =IF(AND($B18>0,OR(N18=""))," *No olvide digitar el campo "&N$9&""&". Digite CERO si no tiene.", IF(N18>$B18," * La variable "&N$9&""&" no puede superar el Total Ambos Sexos. ","")) | CF18: =IF(AND($B18>0,OR(O18=""))," *No olvide digitar el campo "&O$9&""&". Digite CERO si no tiene.", IF(O18>$B18," * La variable "&O$9&""&" no puede superar el Total Ambos Sexos. ","")) | CG18: =IF(AND($B18>0,OR(P18=""))," *No olvide digitar el campo "&P$9&""&". Digite CERO si no tiene.", IF(P18>$B18," * La variable "&P$9&""&" no puede superar el Total Ambos Sexos. ","")) | CH18: =IF(AND($B18>0,OR(Q18=""))," *No olvide digitar el campo "&Q$9&""&". Niños, niñas y adolescentes. Digite CERO si no tiene.", IF(Q18>$B18," * La variable "&Q$9&""&" no puede superar el Total Ambos Sexos. ","")) | CI18: =IF(AND($D18>0,OR(R18=""))," *No olvide digitar el campo "&Q$9&""&" Gestantes. Digite CERO si no tiene.", IF(R18>$D18," * La variable "&Q$9&""&" no puede superar el Total Mujeres. ","")) | CM18: =IF(AND(D18>0,OR(J18="")),1,IF(J18>D18,1,0)) -> 0 | CN18: =IF(AND(C18>0,OR(K18="")),1,IF(K18>C18,1,0)) -> 0 | CO18: =IF(AND($B18>0,OR(L18="")),1,IF(L18>$B18,1,0)) -> 0 | CP18: =IF(AND($B18>0,OR(M18="")),1,IF(M18>$B18,1,0)) -> 0 | CQ18: =IF(AND($B18>0,OR(N18="")),1,IF(N18>$B18,1,0)) -> 0 | CR18: =IF(AND($B18>0,OR(O18="")),1,IF(O18>$B18,1,0)) -> 0 | CS18: =IF(AND($B18>0,OR(P18="")),1,IF(P18>$B18,1,0)) -> 0 | CT18: =IF(AND($B18>0,OR(Q18="")),1,IF(Q18>$B18,1,0)) -> 0 | CU18: =IF(AND($D18>0,OR(R18="")),1,IF(R18>$D18,1,0)) -> 0
A19: Competencia técnica tratamiento farmacológico / clínico / cirugía | B19: =SUM(C19:D19) -> 62 | C19: =SUM(ENERO:DICIEMBRE!C19) -> 22 | D19: =SUM(ENERO:DICIEMBRE!D19) -> 40 | E19: =SUM(ENERO:DICIEMBRE!E19) -> 38 | F19: =SUM(ENERO:DICIEMBRE!F19) -> 15 | G19: =SUM(ENERO:DICIEMBRE!G19) -> 2 | H19: =SUM(ENERO:DICIEMBRE!H19) -> 21 | I19: =SUM(ENERO:DICIEMBRE!I19) -> 3 | J19: =SUM(ENERO:DICIEMBRE!J19) -> 0 | ... R19: =SUM(ENERO:DICIEMBRE!R19) -> 0 | S19: =CA19&CB19&CC19&CD19&CE19&CF19&CG19&CH19&CI19 | CA19: =IF(AND(D19>0,J19=""),"*No olvide digitar el campo TRANS Masculino (Digite CERO si no tiene).", IF(J19>D19," * El Número de TRANS Masculino no puede superar el Total Mujeres. ","")) | CB19: =IF(AND(C19>0,OR(K19=""))," *No olvide digitar el campo TRANS Femenino (Digite CERO si no tiene).",IF(K19>$C19," * El Número de TRANS Femenino no puede superar el Total Hombres. ","")) | CC19: =IF(AND($B19>0,OR(L19=""))," *No olvide digitar el campo "&L$9&""&". Digite CERO si no tiene.", IF(L19>$B19," * La variable "&L$9&""&" no puede superar el Total Ambos Sexos. ","")) | CD19: =IF(AND($B19>0,OR(M19=""))," *No olvide digitar el campo "&M$9&""&". Digite CERO si no tiene.", IF(M19>$B19," * La variable "&M$9&""&" no puede superar el Total Ambos Sexos. ","")) | CE19: =IF(AND($B19>0,OR(N19=""))," *No olvide digitar el campo "&N$9&""&". Digite CERO si no tiene.", IF(N19>$B19," * La variable "&N$9&""&" no puede superar el Total Ambos Sexos. ","")) | CF19: =IF(AND($B19>0,OR(O19=""))," *No olvide digitar el campo "&O$9&""&". Digite CERO si no tiene.", IF(O19>$B19," * La variable "&O$9&""&" no puede superar el Total Ambos Sexos. ","")) | CG19: =IF(AND($B19>0,OR(P19=""))," *No olvide digitar el campo "&P$9&""&". Digite CERO si no tiene.", IF(P19>$B19," * La variable "&P$9&""&" no puede superar el Total Ambos Sexos. ","")) | CH19: =IF(AND($B19>0,OR(Q19=""))," *No olvide digitar el campo "&Q$9&""&". Niños, niñas y adolescentes. Digite CERO si no tiene.", IF(Q19>$B19," * La variable "&Q$9&""&" no puede superar el Total Ambos Sexos. ","")) | CI19: =IF(AND($D19>0,OR(R19=""))," *No olvide digitar el campo "&Q$9&""&" Gestantes. Digite CERO si no tiene.", IF(R19>$D19," * La variable "&Q$9&""&" no puede superar el Total Mujeres. ","")) | CM19: =IF(AND(D19>0,OR(J19="")),1,IF(J19>D19,1,0)) -> 0 | CN19: =IF(AND(C19>0,OR(K19="")),1,IF(K19>C19,1,0)) -> 0 | CO19: =IF(AND($B19>0,OR(L19="")),1,IF(L19>$B19,1,0)) -> 0 | CP19: =IF(AND($B19>0,OR(M19="")),1,IF(M19>$B19,1,0)) -> 0 | CQ19: =IF(AND($B19>0,OR(N19="")),1,IF(N19>$B19,1,0)) -> 0 | CR19: =IF(AND($B19>0,OR(O19="")),1,IF(O19>$B19,1,0)) -> 0 | CS19: =IF(AND($B19>0,OR(P19="")),1,IF(P19>$B19,1,0)) -> 0 | CT19: =IF(AND($B19>0,OR(Q19="")),1,IF(Q19>$B19,1,0)) -> 0 | CU19: =IF(AND($D19>0,OR(R19="")),1,IF(R19>$D19,1,0)) -> 0
A20: Eventos adversos | B20: =SUM(C20:D20) -> 8 | C20: =SUM(ENERO:DICIEMBRE!C20) -> 2 | D20: =SUM(ENERO:DICIEMBRE!D20) -> 6 | E20: =SUM(ENERO:DICIEMBRE!E20) -> 6 | F20: =SUM(ENERO:DICIEMBRE!F20) -> 2 | G20: =SUM(ENERO:DICIEMBRE!G20) -> 0 | H20: =SUM(ENERO:DICIEMBRE!H20) -> 2 | I20: =SUM(ENERO:DICIEMBRE!I20) -> 0 | J20: =SUM(ENERO:DICIEMBRE!J20) -> 0 | ... R20: =SUM(ENERO:DICIEMBRE!R20) -> 0 | S20: =CA20&CB20&CC20&CD20&CE20&CF20&CG20&CH20&CI20 | CA20: =IF(AND(D20>0,J20=""),"*No olvide digitar el campo TRANS Masculino (Digite CERO si no tiene).", IF(J20>D20," * El Número de TRANS Masculino no puede superar el Total Mujeres. ","")) | CB20: =IF(AND(C20>0,OR(K20=""))," *No olvide digitar el campo TRANS Femenino (Digite CERO si no tiene).",IF(K20>$C20," * El Número de TRANS Femenino no puede superar el Total Hombres. ","")) | CC20: =IF(AND($B20>0,OR(L20=""))," *No olvide digitar el campo "&L$9&""&". Digite CERO si no tiene.", IF(L20>$B20," * La variable "&L$9&""&" no puede superar el Total Ambos Sexos. ","")) | CD20: =IF(AND($B20>0,OR(M20=""))," *No olvide digitar el campo "&M$9&""&". Digite CERO si no tiene.", IF(M20>$B20," * La variable "&M$9&""&" no puede superar el Total Ambos Sexos. ","")) | CE20: =IF(AND($B20>0,OR(N20=""))," *No olvide digitar el campo "&N$9&""&". Digite CERO si no tiene.", IF(N20>$B20," * La variable "&N$9&""&" no puede superar el Total Ambos Sexos. ","")) | CF20: =IF(AND($B20>0,OR(O20=""))," *No olvide digitar el campo "&O$9&""&". Digite CERO si no tiene.", IF(O20>$B20," * La variable "&O$9&""&" no puede superar el Total Ambos Sexos. ","")) | CG20: =IF(AND($B20>0,OR(P20=""))," *No olvide digitar el campo "&P$9&""&". Digite CERO si no tiene.", IF(P20>$B20," * La variable "&P$9&""&" no puede superar el Total Ambos Sexos. ","")) | CH20: =IF(AND($B20>0,OR(Q20=""))," *No olvide digitar el campo "&Q$9&""&". Niños, niñas y adolescentes. Digite CERO si no tiene.", IF(Q20>$B20," * La variable "&Q$9&""&" no puede superar el Total Ambos Sexos. ","")) | CI20: =IF(AND($D20>0,OR(R20=""))," *No olvide digitar el campo "&Q$9&""&" Gestantes. Digite CERO si no tiene.", IF(R20>$D20," * La variable "&Q$9&""&" no puede superar el Total Mujeres. ","")) | CM20: =IF(AND(D20>0,OR(J20="")),1,IF(J20>D20,1,0)) -> 0 | CN20: =IF(AND(C20>0,OR(K20="")),1,IF(K20>C20,1,0)) -> 0 | CO20: =IF(AND($B20>0,OR(L20="")),1,IF(L20>$B20,1,0)) -> 0 | CP20: =IF(AND($B20>0,OR(M20="")),1,IF(M20>$B20,1,0)) -> 0 | CQ20: =IF(AND($B20>0,OR(N20="")),1,IF(N20>$B20,1,0)) -> 0 | CR20: =IF(AND($B20>0,OR(O20="")),1,IF(O20>$B20,1,0)) -> 0 | CS20: =IF(AND($B20>0,OR(P20="")),1,IF(P20>$B20,1,0)) -> 0 | CT20: =IF(AND($B20>0,OR(Q20="")),1,IF(Q20>$B20,1,0)) -> 0 | CU20: =IF(AND($D20>0,OR(R20="")),1,IF(R20>$D20,1,0)) -> 0
A21: Infraestructura baños públicos | B21: =SUM(C21:D21) -> 9 | C21: =SUM(ENERO:DICIEMBRE!C21) -> 1 | D21: =SUM(ENERO:DICIEMBRE!D21) -> 8 | E21: =SUM(ENERO:DICIEMBRE!E21) -> 8 | F21: =SUM(ENERO:DICIEMBRE!F21) -> 1 | G21: =SUM(ENERO:DICIEMBRE!G21) -> 0 | H21: =SUM(ENERO:DICIEMBRE!H21) -> 1 | I21: =SUM(ENERO:DICIEMBRE!I21) -> 0 | J21: =SUM(ENERO:DICIEMBRE!J21) -> 0 | ... R21: =SUM(ENERO:DICIEMBRE!R21) -> 0 | S21: =CA21&CB21&CC21&CD21&CE21&CF21&CG21&CH21&CI21 | CA21: =IF(AND(D21>0,J21=""),"*No olvide digitar el campo TRANS Masculino (Digite CERO si no tiene).", IF(J21>D21," * El Número de TRANS Masculino no puede superar el Total Mujeres. ","")) | CB21: =IF(AND(C21>0,OR(K21=""))," *No olvide digitar el campo TRANS Femenino (Digite CERO si no tiene).",IF(K21>$C21," * El Número de TRANS Femenino no puede superar el Total Hombres. ","")) | CC21: =IF(AND($B21>0,OR(L21=""))," *No olvide digitar el campo "&L$9&""&". Digite CERO si no tiene.", IF(L21>$B21," * La variable "&L$9&""&" no puede superar el Total Ambos Sexos. ","")) | CD21: =IF(AND($B21>0,OR(M21=""))," *No olvide digitar el campo "&M$9&""&". Digite CERO si no tiene.", IF(M21>$B21," * La variable "&M$9&""&" no puede superar el Total Ambos Sexos. ","")) | CE21: =IF(AND($B21>0,OR(N21=""))," *No olvide digitar el campo "&N$9&""&". Digite CERO si no tiene.", IF(N21>$B21," * La variable "&N$9&""&" no puede superar el Total Ambos Sexos. ","")) | CF21: =IF(AND($B21>0,OR(O21=""))," *No olvide digitar el campo "&O$9&""&". Digite CERO si no tiene.", IF(O21>$B21," * La variable "&O$9&""&" no puede superar el Total Ambos Sexos. ","")) | CG21: =IF(AND($B21>0,OR(P21=""))," *No olvide digitar el campo "&P$9&""&". Digite CERO si no tiene.", IF(P21>$B21," * La variable "&P$9&""&" no puede superar el Total Ambos Sexos. ","")) | CH21: =IF(AND($B21>0,OR(Q21=""))," *No olvide digitar el campo "&Q$9&""&". Niños, niñas y adolescentes. Digite CERO si no tiene.", IF(Q21>$B21," * La variable "&Q$9&""&" no puede superar el Total Ambos Sexos. ","")) | CI21: =IF(AND($D21>0,OR(R21=""))," *No olvide digitar el campo "&Q$9&""&" Gestantes. Digite CERO si no tiene.", IF(R21>$D21," * La variable "&Q$9&""&" no puede superar el Total Mujeres. ","")) | CM21: =IF(AND(D21>0,OR(J21="")),1,IF(J21>D21,1,0)) -> 0 | CN21: =IF(AND(C21>0,OR(K21="")),1,IF(K21>C21,1,0)) -> 0 | CO21: =IF(AND($B21>0,OR(L21="")),1,IF(L21>$B21,1,0)) -> 0 | CP21: =IF(AND($B21>0,OR(M21="")),1,IF(M21>$B21,1,0)) -> 0 | CQ21: =IF(AND($B21>0,OR(N21="")),1,IF(N21>$B21,1,0)) -> 0 | CR21: =IF(AND($B21>0,OR(O21="")),1,IF(O21>$B21,1,0)) -> 0 | CS21: =IF(AND($B21>0,OR(P21="")),1,IF(P21>$B21,1,0)) -> 0 | CT21: =IF(AND($B21>0,OR(Q21="")),1,IF(Q21>$B21,1,0)) -> 0 | CU21: =IF(AND($D21>0,OR(R21="")),1,IF(R21>$D21,1,0)) -> 0
A22: Infraestructura condiciones salas de espera, box de atención o sala de hospitalización | B22: =SUM(C22:D22) -> 22 | C22: =SUM(ENERO:DICIEMBRE!C22) -> 5 | D22: =SUM(ENERO:DICIEMBRE!D22) -> 17 | E22: =SUM(ENERO:DICIEMBRE!E22) -> 15 | F22: =SUM(ENERO:DICIEMBRE!F22) -> 3 | G22: =SUM(ENERO:DICIEMBRE!G22) -> 1 | H22: =SUM(ENERO:DICIEMBRE!H22) -> 6 | I22: =SUM(ENERO:DICIEMBRE!I22) -> 1 | J22: =SUM(ENERO:DICIEMBRE!J22) -> 0 | ... R22: =SUM(ENERO:DICIEMBRE!R22) -> 0 | S22: =CA22&CB22&CC22&CD22&CE22&CF22&CG22&CH22&CI22 | CA22: =IF(AND(D22>0,J22=""),"*No olvide digitar el campo TRANS Masculino (Digite CERO si no tiene).", IF(J22>D22," * El Número de TRANS Masculino no puede superar el Total Mujeres. ","")) | CB22: =IF(AND(C22>0,OR(K22=""))," *No olvide digitar el campo TRANS Femenino (Digite CERO si no tiene).",IF(K22>$C22," * El Número de TRANS Femenino no puede superar el Total Hombres. ","")) | CC22: =IF(AND($B22>0,OR(L22=""))," *No olvide digitar el campo "&L$9&""&". Digite CERO si no tiene.", IF(L22>$B22," * La variable "&L$9&""&" no puede superar el Total Ambos Sexos. ","")) | CD22: =IF(AND($B22>0,OR(M22=""))," *No olvide digitar el campo "&M$9&""&". Digite CERO si no tiene.", IF(M22>$B22," * La variable "&M$9&""&" no puede superar el Total Ambos Sexos. ","")) | CE22: =IF(AND($B22>0,OR(N22=""))," *No olvide digitar el campo "&N$9&""&". Digite CERO si no tiene.", IF(N22>$B22," * La variable "&N$9&""&" no puede superar el Total Ambos Sexos. ","")) | CF22: =IF(AND($B22>0,OR(O22=""))," *No olvide digitar el campo "&O$9&""&". Digite CERO si no tiene.", IF(O22>$B22," * La variable "&O$9&""&" no puede superar el Total Ambos Sexos. ","")) | CG22: =IF(AND($B22>0,OR(P22=""))," *No olvide digitar el campo "&P$9&""&". Digite CERO si no tiene.", IF(P22>$B22," * La variable "&P$9&""&" no puede superar el Total Ambos Sexos. ","")) | CH22: =IF(AND($B22>0,OR(Q22=""))," *No olvide digitar el campo "&Q$9&""&". Niños, niñas y adolescentes. Digite CERO si no tiene.", IF(Q22>$B22," * La variable "&Q$9&""&" no puede superar el Total Ambos Sexos. ","")) | CI22: =IF(AND($D22>0,OR(R22=""))," *No olvide digitar el campo "&Q$9&""&" Gestantes. Digite CERO si no tiene.", IF(R22>$D22," * La variable "&Q$9&""&" no puede superar el Total Mujeres. ","")) | CM22: =IF(AND(D22>0,OR(J22="")),1,IF(J22>D22,1,0)) -> 0 | CN22: =IF(AND(C22>0,OR(K22="")),1,IF(K22>C22,1,0)) -> 0 | CO22: =IF(AND($B22>0,OR(L22="")),1,IF(L22>$B22,1,0)) -> 0 | CP22: =IF(AND($B22>0,OR(M22="")),1,IF(M22>$B22,1,0)) -> 0 | CQ22: =IF(AND($B22>0,OR(N22="")),1,IF(N22>$B22,1,0)) -> 0 | CR22: =IF(AND($B22>0,OR(O22="")),1,IF(O22>$B22,1,0)) -> 0 | CS22: =IF(AND($B22>0,OR(P22="")),1,IF(P22>$B22,1,0)) -> 0 | CT22: =IF(AND($B22>0,OR(Q22="")),1,IF(Q22>$B22,1,0)) -> 0 | CU22: =IF(AND($D22>0,OR(R22="")),1,IF(R22>$D22,1,0)) -> 0
A23: Infraestructura accesibilidad universal | B23: =SUM(C23:D23) -> 3 | C23: =SUM(ENERO:DICIEMBRE!C23) -> 0 | D23: =SUM(ENERO:DICIEMBRE!D23) -> 3 | E23: =SUM(ENERO:DICIEMBRE!E23) -> 3 | F23: =SUM(ENERO:DICIEMBRE!F23) -> 0 | G23: =SUM(ENERO:DICIEMBRE!G23) -> 0 | H23: =SUM(ENERO:DICIEMBRE!H23) -> 0 | I23: =SUM(ENERO:DICIEMBRE!I23) -> 0 | J23: =SUM(ENERO:DICIEMBRE!J23) -> 0 | ... R23: =SUM(ENERO:DICIEMBRE!R23) -> 0 | S23: =CA23&CB23&CC23&CD23&CE23&CF23&CG23&CH23&CI23 | CA23: =IF(AND(D23>0,J23=""),"*No olvide digitar el campo TRANS Masculino (Digite CERO si no tiene).", IF(J23>D23," * El Número de TRANS Masculino no puede superar el Total Mujeres. ","")) | CB23: =IF(AND(C23>0,OR(K23=""))," *No olvide digitar el campo TRANS Femenino (Digite CERO si no tiene).",IF(K23>$C23," * El Número de TRANS Femenino no puede superar el Total Hombres. ","")) | CC23: =IF(AND($B23>0,OR(L23=""))," *No olvide digitar el campo "&L$9&""&". Digite CERO si no tiene.", IF(L23>$B23," * La variable "&L$9&""&" no puede superar el Total Ambos Sexos. ","")) | CD23: =IF(AND($B23>0,OR(M23=""))," *No olvide digitar el campo "&M$9&""&". Digite CERO si no tiene.", IF(M23>$B23," * La variable "&M$9&""&" no puede superar el Total Ambos Sexos. ","")) | CE23: =IF(AND($B23>0,OR(N23=""))," *No olvide digitar el campo "&N$9&""&". Digite CERO si no tiene.", IF(N23>$B23," * La variable "&N$9&""&" no puede superar el Total Ambos Sexos. ","")) | CF23: =IF(AND($B23>0,OR(O23=""))," *No olvide digitar el campo "&O$9&""&". Digite CERO si no tiene.", IF(O23>$B23," * La variable "&O$9&""&" no puede superar el Total Ambos Sexos. ","")) | CG23: =IF(AND($B23>0,OR(P23=""))," *No olvide digitar el campo "&P$9&""&". Digite CERO si no tiene.", IF(P23>$B23," * La variable "&P$9&""&" no puede superar el Total Ambos Sexos. ","")) | CH23: =IF(AND($B23>0,OR(Q23=""))," *No olvide digitar el campo "&Q$9&""&". Niños, niñas y adolescentes. Digite CERO si no tiene.", IF(Q23>$B23," * La variable "&Q$9&""&" no puede superar el Total Ambos Sexos. ","")) | CI23: =IF(AND($D23>0,OR(R23=""))," *No olvide digitar el campo "&Q$9&""&" Gestantes. Digite CERO si no tiene.", IF(R23>$D23," * La variable "&Q$9&""&" no puede superar el Total Mujeres. ","")) | CM23: =IF(AND(D23>0,OR(J23="")),1,IF(J23>D23,1,0)) -> 0 | CN23: =IF(AND(C23>0,OR(K23="")),1,IF(K23>C23,1,0)) -> 0 | CO23: =IF(AND($B23>0,OR(L23="")),1,IF(L23>$B23,1,0)) -> 0 | CP23: =IF(AND($B23>0,OR(M23="")),1,IF(M23>$B23,1,0)) -> 0 | CQ23: =IF(AND($B23>0,OR(N23="")),1,IF(N23>$B23,1,0)) -> 0 | CR23: =IF(AND($B23>0,OR(O23="")),1,IF(O23>$B23,1,0)) -> 0 | CS23: =IF(AND($B23>0,OR(P23="")),1,IF(P23>$B23,1,0)) -> 0 | CT23: =IF(AND($B23>0,OR(Q23="")),1,IF(Q23>$B23,1,0)) -> 0 | CU23: =IF(AND($D23>0,OR(R23="")),1,IF(R23>$D23,1,0)) -> 0
... A51: Incumplimiento de garantías FOFAR | B51: =SUM(C51:D51) -> 0 | C51: =SUM(ENERO:DICIEMBRE!C51) -> 0 | D51: =SUM(ENERO:DICIEMBRE!D51) -> 0 | E51: =SUM(ENERO:DICIEMBRE!E51) -> 0 | F51: =SUM(ENERO:DICIEMBRE!F51) -> 0 | G51: =SUM(ENERO:DICIEMBRE!G51) -> 0 | H51: =SUM(ENERO:DICIEMBRE!H51) -> 0 | I51: =SUM(ENERO:DICIEMBRE!I51) -> 0 | J51: =SUM(ENERO:DICIEMBRE!J51) -> 0 | ... R51: =SUM(ENERO:DICIEMBRE!R51) -> 0 | S51: =CA51&CB51&CC51&CD51&CE51&CF51&CG51&CH51&CI51 | CA51: =IF(AND(D51>0,J51=""),"*No olvide digitar el campo TRANS Masculino (Digite CERO si no tiene).", IF(J51>D51," * El Número de TRANS Masculino no puede superar el Total Mujeres. ","")) | CB51: =IF(AND(C51>0,OR(K51=""))," *No olvide digitar el campo TRANS Femenino (Digite CERO si no tiene).",IF(K51>$C51," * El Número de TRANS Femenino no puede superar el Total Hombres. ","")) | CC51: =IF(AND($B51>0,OR(L51=""))," *No olvide digitar el campo "&L$9&""&". Digite CERO si no tiene.", IF(L51>$B51," * La variable "&L$9&""&" no puede superar el Total Ambos Sexos. ","")) | CD51: =IF(AND($B51>0,OR(M51=""))," *No olvide digitar el campo "&M$9&""&". Digite CERO si no tiene.", IF(M51>$B51," * La variable "&M$9&""&" no puede superar el Total Ambos Sexos. ","")) | CE51: =IF(AND($B51>0,OR(N51=""))," *No olvide digitar el campo "&N$9&""&". Digite CERO si no tiene.", IF(N51>$B51," * La variable "&N$9&""&" no puede superar el Total Ambos Sexos. ","")) | CF51: =IF(AND($B51>0,OR(O51=""))," *No olvide digitar el campo "&O$9&""&". Digite CERO si no tiene.", IF(O51>$B51," * La variable "&O$9&""&" no puede superar el Total Ambos Sexos. ","")) | CG51: =IF(AND($B51>0,OR(P51=""))," *No olvide digitar el campo "&P$9&""&". Digite CERO si no tiene.", IF(P51>$B51," * La variable "&P$9&""&" no puede superar el Total Ambos Sexos. ","")) | CH51: =IF(AND($B51>0,OR(Q51=""))," *No olvide digitar el campo "&Q$9&""&". Niños, niñas y adolescentes. Digite CERO si no tiene.", IF(Q51>$B51," * La variable "&Q$9&""&" no puede superar el Total Ambos Sexos. ","")) | CI51: =IF(AND($D51>0,OR(R51=""))," *No olvide digitar el campo "&Q$9&""&" Gestantes. Digite CERO si no tiene.", IF(R51>$D51," * La variable "&Q$9&""&" no puede superar el Total Mujeres. ","")) | CM51: =IF(AND(D51>0,OR(J51="")),1,IF(J51>D51,1,0)) -> 0 | CN51: =IF(AND(C51>0,OR(K51="")),1,IF(K51>C51,1,0)) -> 0 | CO51: =IF(AND($B51>0,OR(L51="")),1,IF(L51>$B51,1,0)) -> 0 | CP51: =IF(AND($B51>0,OR(M51="")),1,IF(M51>$B51,1,0)) -> 0 | CQ51: =IF(AND($B51>0,OR(N51="")),1,IF(N51>$B51,1,0)) -> 0 | CR51: =IF(AND($B51>0,OR(O51="")),1,IF(O51>$B51,1,0)) -> 0 | CS51: =IF(AND($B51>0,OR(P51="")),1,IF(P51>$B51,1,0)) -> 0 | CT51: =IF(AND($B51>0,OR(Q51="")),1,IF(Q51>$B51,1,0)) -> 0 | CU51: =IF(AND($D51>0,OR(R51="")),1,IF(R51>$D51,1,0)) -> 0
A52: TOTAL CONSULTAS, FELICITACIONES O SUGERENCIAS | B52: =SUM(B53:B57) -> 58816 | C52: =SUM(C53:C57) -> 17104 | D52: =SUM(D53:D57) -> 41712 | J52: =SUM(J53:J57) -> 0 | K52: =SUM(K53:K57) -> 0 | L52: =SUM(L53:L57) -> 0 | M52: =SUM(M53:M57) -> 0 | N52: =SUM(N53:N57) -> 0 | O52: =SUM(O53:O57) -> 0 | P52: =SUM(P53:P57) -> 0 | Q52: =SUM(Q53:Q57) -> 0 | R52: =SUM(R53:R57) -> 0
A53: Consultas | B53: =SUM(C53:D53) -> 57653 | C53: =SUM(ENERO:DICIEMBRE!C53) -> 16787 | D53: =SUM(ENERO:DICIEMBRE!D53) -> 40866 | E53: =SUM(ENERO:DICIEMBRE!E53) -> 0 | F53: =SUM(ENERO:DICIEMBRE!F53) -> 0 | G53: =SUM(ENERO:DICIEMBRE!G53) -> 0 | H53: =SUM(ENERO:DICIEMBRE!H53) -> 0 | I53: =SUM(ENERO:DICIEMBRE!I53) -> 0 | J53: =SUM(ENERO:DICIEMBRE!J53) -> 0 | ... R53: =SUM(ENERO:DICIEMBRE!R53) -> 0 | S53: =CA53&CB53&CC53&CD53&CE53&CF53&CG53&CH53&CI53 | CA53: =IF(AND(D53>0,J53=""),"*No olvide digitar el campo TRANS Masculino (Digite CERO si no tiene).", IF(J53>D53," * El Número de TRANS Masculino no puede superar el Total Mujeres. ","")) | CB53: =IF(AND(C53>0,OR(K53=""))," *No olvide digitar el campo TRANS Femenino (Digite CERO si no tiene).",IF(K53>$C53," * El Número de TRANS Femenino no puede superar el Total Hombres. ","")) | CC53: =IF(AND($B53>0,OR(L53=""))," *No olvide digitar el campo "&L$9&""&". Digite CERO si no tiene.", IF(L53>$B53," * La variable "&L$9&""&" no puede superar el Total Ambos Sexos. ","")) | CD53: =IF(AND($B53>0,OR(M53=""))," *No olvide digitar el campo "&M$9&""&". Digite CERO si no tiene.", IF(M53>$B53," * La variable "&M$9&""&" no puede superar el Total Ambos Sexos. ","")) | CE53: =IF(AND($B53>0,OR(N53=""))," *No olvide digitar el campo "&N$9&""&". Digite CERO si no tiene.", IF(N53>$B53," * La variable "&N$9&""&" no puede superar el Total Ambos Sexos. ","")) | CF53: =IF(AND($B53>0,OR(O53=""))," *No olvide digitar el campo "&O$9&""&". Digite CERO si no tiene.", IF(O53>$B53," * La variable "&O$9&""&" no puede superar el Total Ambos Sexos. ","")) | CG53: =IF(AND($B53>0,OR(P53=""))," *No olvide digitar el campo "&P$9&""&". Digite CERO si no tiene.", IF(P53>$B53," * La variable "&P$9&""&" no puede superar el Total Ambos Sexos. ","")) | CH53: =IF(AND($B53>0,OR(Q53=""))," *No olvide digitar el campo "&Q$9&""&". Niños, niñas y adolescentes. Digite CERO si no tiene.", IF(Q53>$B53," * La variable "&Q$9&""&" no puede superar el Total Ambos Sexos. ","")) | CI53: =IF(AND($D53>0,OR(R53=""))," *No olvide digitar el campo "&Q$9&""&" Gestantes. Digite CERO si no tiene.", IF(R53>$D53," * La variable "&Q$9&""&" no puede superar el Total Mujeres. ","")) | CM53: =IF(AND(D53>0,OR(J53="")),1,IF(J53>D53,1,0)) -> 0 | CN53: =IF(AND(C53>0,OR(K53="")),1,IF(K53>C53,1,0)) -> 0 | CO53: =IF(AND($B53>0,OR(L53="")),1,IF(L53>$B53,1,0)) -> 0 | CP53: =IF(AND($B53>0,OR(M53="")),1,IF(M53>$B53,1,0)) -> 0 | CQ53: =IF(AND($B53>0,OR(N53="")),1,IF(N53>$B53,1,0)) -> 0 | CR53: =IF(AND($B53>0,OR(O53="")),1,IF(O53>$B53,1,0)) -> 0 | CS53: =IF(AND($B53>0,OR(P53="")),1,IF(P53>$B53,1,0)) -> 0 | CT53: =IF(AND($B53>0,OR(Q53="")),1,IF(Q53>$B53,1,0)) -> 0 | CU53: =IF(AND($D53>0,OR(R53="")),1,IF(R53>$D53,1,0)) -> 0
A54: Sugerencias | B54: =SUM(C54:D54) -> 50 | C54: =SUM(ENERO:DICIEMBRE!C54) -> 9 | D54: =SUM(ENERO:DICIEMBRE!D54) -> 41 | E54: =SUM(ENERO:DICIEMBRE!E54) -> 0 | F54: =SUM(ENERO:DICIEMBRE!F54) -> 0 | G54: =SUM(ENERO:DICIEMBRE!G54) -> 0 | H54: =SUM(ENERO:DICIEMBRE!H54) -> 0 | I54: =SUM(ENERO:DICIEMBRE!I54) -> 0 | J54: =SUM(ENERO:DICIEMBRE!J54) -> 0 | ... R54: =SUM(ENERO:DICIEMBRE!R54) -> 0 | S54: =CA54&CB54&CC54&CD54&CE54&CF54&CG54&CH54&CI54 | CA54: =IF(AND(D54>0,J54=""),"*No olvide digitar el campo TRANS Masculino (Digite CERO si no tiene).", IF(J54>D54," * El Número de TRANS Masculino no puede superar el Total Mujeres. ","")) | CB54: =IF(AND(C54>0,OR(K54=""))," *No olvide digitar el campo TRANS Femenino (Digite CERO si no tiene).",IF(K54>$C54," * El Número de TRANS Femenino no puede superar el Total Hombres. ","")) | CC54: =IF(AND($B54>0,OR(L54=""))," *No olvide digitar el campo "&L$9&""&". Digite CERO si no tiene.", IF(L54>$B54," * La variable "&L$9&""&" no puede superar el Total Ambos Sexos. ","")) | CD54: =IF(AND($B54>0,OR(M54=""))," *No olvide digitar el campo "&M$9&""&". Digite CERO si no tiene.", IF(M54>$B54," * La variable "&M$9&""&" no puede superar el Total Ambos Sexos. ","")) | CE54: =IF(AND($B54>0,OR(N54=""))," *No olvide digitar el campo "&N$9&""&". Digite CERO si no tiene.", IF(N54>$B54," * La variable "&N$9&""&" no puede superar el Total Ambos Sexos. ","")) | CF54: =IF(AND($B54>0,OR(O54=""))," *No olvide digitar el campo "&O$9&""&". Digite CERO si no tiene.", IF(O54>$B54," * La variable "&O$9&""&" no puede superar el Total Ambos Sexos. ","")) | CG54: =IF(AND($B54>0,OR(P54=""))," *No olvide digitar el campo "&P$9&""&". Digite CERO si no tiene.", IF(P54>$B54," * La variable "&P$9&""&" no puede superar el Total Ambos Sexos. ","")) | CH54: =IF(AND($B54>0,OR(Q54=""))," *No olvide digitar el campo "&Q$9&""&". Niños, niñas y adolescentes. Digite CERO si no tiene.", IF(Q54>$B54," * La variable "&Q$9&""&" no puede superar el Total Ambos Sexos. ","")) | CI54: =IF(AND($D54>0,OR(R54=""))," *No olvide digitar el campo "&Q$9&""&" Gestantes. Digite CERO si no tiene.", IF(R54>$D54," * La variable "&Q$9&""&" no puede superar el Total Mujeres. ","")) | CM54: =IF(AND(D54>0,OR(J54="")),1,IF(J54>D54,1,0)) -> 0 | CN54: =IF(AND(C54>0,OR(K54="")),1,IF(K54>C54,1,0)) -> 0 | CO54: =IF(AND($B54>0,OR(L54="")),1,IF(L54>$B54,1,0)) -> 0 | CP54: =IF(AND($B54>0,OR(M54="")),1,IF(M54>$B54,1,0)) -> 0 | CQ54: =IF(AND($B54>0,OR(N54="")),1,IF(N54>$B54,1,0)) -> 0 | CR54: =IF(AND($B54>0,OR(O54="")),1,IF(O54>$B54,1,0)) -> 0 | CS54: =IF(AND($B54>0,OR(P54="")),1,IF(P54>$B54,1,0)) -> 0 | CT54: =IF(AND($B54>0,OR(Q54="")),1,IF(Q54>$B54,1,0)) -> 0 | CU54: =IF(AND($D54>0,OR(R54="")),1,IF(R54>$D54,1,0)) -> 0
A55: Felicitaciones | B55: =SUM(C55:D55) -> 763 | C55: =SUM(ENERO:DICIEMBRE!C55) -> 193 | D55: =SUM(ENERO:DICIEMBRE!D55) -> 570 | E55: =SUM(ENERO:DICIEMBRE!E55) -> 0 | F55: =SUM(ENERO:DICIEMBRE!F55) -> 0 | G55: =SUM(ENERO:DICIEMBRE!G55) -> 0 | H55: =SUM(ENERO:DICIEMBRE!H55) -> 0 | I55: =SUM(ENERO:DICIEMBRE!I55) -> 0 | J55: =SUM(ENERO:DICIEMBRE!J55) -> 0 | ... R55: =SUM(ENERO:DICIEMBRE!R55) -> 0 | S55: =CA55&CB55&CC55&CD55&CE55&CF55&CG55&CH55&CI55 | CA55: =IF(AND(D55>0,J55=""),"*No olvide digitar el campo TRANS Masculino (Digite CERO si no tiene).", IF(J55>D55," * El Número de TRANS Masculino no puede superar el Total Mujeres. ","")) | CB55: =IF(AND(C55>0,OR(K55=""))," *No olvide digitar el campo TRANS Femenino (Digite CERO si no tiene).",IF(K55>$C55," * El Número de TRANS Femenino no puede superar el Total Hombres. ","")) | CC55: =IF(AND($B55>0,OR(L55=""))," *No olvide digitar el campo "&L$9&""&". Digite CERO si no tiene.", IF(L55>$B55," * La variable "&L$9&""&" no puede superar el Total Ambos Sexos. ","")) | CD55: =IF(AND($B55>0,OR(M55=""))," *No olvide digitar el campo "&M$9&""&". Digite CERO si no tiene.", IF(M55>$B55," * La variable "&M$9&""&" no puede superar el Total Ambos Sexos. ","")) | CE55: =IF(AND($B55>0,OR(N55=""))," *No olvide digitar el campo "&N$9&""&". Digite CERO si no tiene.", IF(N55>$B55," * La variable "&N$9&""&" no puede superar el Total Ambos Sexos. ","")) | CF55: =IF(AND($B55>0,OR(O55=""))," *No olvide digitar el campo "&O$9&""&". Digite CERO si no tiene.", IF(O55>$B55," * La variable "&O$9&""&" no puede superar el Total Ambos Sexos. ","")) | CG55: =IF(AND($B55>0,OR(P55=""))," *No olvide digitar el campo "&P$9&""&". Digite CERO si no tiene.", IF(P55>$B55," * La variable "&P$9&""&" no puede superar el Total Ambos Sexos. ","")) | CH55: =IF(AND($B55>0,OR(Q55=""))," *No olvide digitar el campo "&Q$9&""&". Niños, niñas y adolescentes. Digite CERO si no tiene.", IF(Q55>$B55," * La variable "&Q$9&""&" no puede superar el Total Ambos Sexos. ","")) | CI55: =IF(AND($D55>0,OR(R55=""))," *No olvide digitar el campo "&Q$9&""&" Gestantes. Digite CERO si no tiene.", IF(R55>$D55," * La variable "&Q$9&""&" no puede superar el Total Mujeres. ","")) | CM55: =IF(AND(D55>0,OR(J55="")),1,IF(J55>D55,1,0)) -> 0 | CN55: =IF(AND(C55>0,OR(K55="")),1,IF(K55>C55,1,0)) -> 0 | CO55: =IF(AND($B55>0,OR(L55="")),1,IF(L55>$B55,1,0)) -> 0 | CP55: =IF(AND($B55>0,OR(M55="")),1,IF(M55>$B55,1,0)) -> 0 | CQ55: =IF(AND($B55>0,OR(N55="")),1,IF(N55>$B55,1,0)) -> 0 | CR55: =IF(AND($B55>0,OR(O55="")),1,IF(O55>$B55,1,0)) -> 0 | CS55: =IF(AND($B55>0,OR(P55="")),1,IF(P55>$B55,1,0)) -> 0 | CT55: =IF(AND($B55>0,OR(Q55="")),1,IF(Q55>$B55,1,0)) -> 0 | CU55: =IF(AND($D55>0,OR(R55="")),1,IF(R55>$D55,1,0)) -> 0
A56: Solicitudes | B56: =SUM(C56:D56) -> 223 | C56: =SUM(ENERO:DICIEMBRE!C56) -> 71 | D56: =SUM(ENERO:DICIEMBRE!D56) -> 152 | E56: =SUM(ENERO:DICIEMBRE!E56) -> 0 | F56: =SUM(ENERO:DICIEMBRE!F56) -> 0 | G56: =SUM(ENERO:DICIEMBRE!G56) -> 0 | H56: =SUM(ENERO:DICIEMBRE!H56) -> 0 | I56: =SUM(ENERO:DICIEMBRE!I56) -> 0 | J56: =SUM(ENERO:DICIEMBRE!J56) -> 0 | ... R56: =SUM(ENERO:DICIEMBRE!R56) -> 0 | S56: =CA56&CB56&CC56&CD56&CE56&CF56&CG56&CH56&CI56 | CA56: =IF(AND(D56>0,J56=""),"*No olvide digitar el campo TRANS Masculino (Digite CERO si no tiene).", IF(J56>D56," * El Número de TRANS Masculino no puede superar el Total Mujeres. ","")) | CB56: =IF(AND(C56>0,OR(K56=""))," *No olvide digitar el campo TRANS Femenino (Digite CERO si no tiene).",IF(K56>$C56," * El Número de TRANS Femenino no puede superar el Total Hombres. ","")) | CC56: =IF(AND($B56>0,OR(L56=""))," *No olvide digitar el campo "&L$9&""&". Digite CERO si no tiene.", IF(L56>$B56," * La variable "&L$9&""&" no puede superar el Total Ambos Sexos. ","")) | CD56: =IF(AND($B56>0,OR(M56=""))," *No olvide digitar el campo "&M$9&""&". Digite CERO si no tiene.", IF(M56>$B56," * La variable "&M$9&""&" no puede superar el Total Ambos Sexos. ","")) | CE56: =IF(AND($B56>0,OR(N56=""))," *No olvide digitar el campo "&N$9&""&". Digite CERO si no tiene.", IF(N56>$B56," * La variable "&N$9&""&" no puede superar el Total Ambos Sexos. ","")) | CF56: =IF(AND($B56>0,OR(O56=""))," *No olvide digitar el campo "&O$9&""&". Digite CERO si no tiene.", IF(O56>$B56," * La variable "&O$9&""&" no puede superar el Total Ambos Sexos. ","")) | CG56: =IF(AND($B56>0,OR(P56=""))," *No olvide digitar el campo "&P$9&""&". Digite CERO si no tiene.", IF(P56>$B56," * La variable "&P$9&""&" no puede superar el Total Ambos Sexos. ","")) | CH56: =IF(AND($B56>0,OR(Q56=""))," *No olvide digitar el campo "&Q$9&""&". Niños, niñas y adolescentes. Digite CERO si no tiene.", IF(Q56>$B56," * La variable "&Q$9&""&" no puede superar el Total Ambos Sexos. ","")) | CI56: =IF(AND($D56>0,OR(R56=""))," *No olvide digitar el campo "&Q$9&""&" Gestantes. Digite CERO si no tiene.", IF(R56>$D56," * La variable "&Q$9&""&" no puede superar el Total Mujeres. ","")) | CM56: =IF(AND(D56>0,OR(J56="")),1,IF(J56>D56,1,0)) -> 0 | CN56: =IF(AND(C56>0,OR(K56="")),1,IF(K56>C56,1,0)) -> 0 | CO56: =IF(AND($B56>0,OR(L56="")),1,IF(L56>$B56,1,0)) -> 0 | CP56: =IF(AND($B56>0,OR(M56="")),1,IF(M56>$B56,1,0)) -> 0 | CQ56: =IF(AND($B56>0,OR(N56="")),1,IF(N56>$B56,1,0)) -> 0 | CR56: =IF(AND($B56>0,OR(O56="")),1,IF(O56>$B56,1,0)) -> 0 | CS56: =IF(AND($B56>0,OR(P56="")),1,IF(P56>$B56,1,0)) -> 0 | CT56: =IF(AND($B56>0,OR(Q56="")),1,IF(Q56>$B56,1,0)) -> 0 | CU56: =IF(AND($D56>0,OR(R56="")),1,IF(R56>$D56,1,0)) -> 0
A57: Solicitudes Ley 20.285 (Ley de Transparencia) | B57: =SUM(C57:D57) -> 127 | C57: =SUM(ENERO:DICIEMBRE!C57) -> 44 | D57: =SUM(ENERO:DICIEMBRE!D57) -> 83 | E57: =SUM(ENERO:DICIEMBRE!E57) -> 0 | F57: =SUM(ENERO:DICIEMBRE!F57) -> 0 | G57: =SUM(ENERO:DICIEMBRE!G57) -> 0 | H57: =SUM(ENERO:DICIEMBRE!H57) -> 0 | I57: =SUM(ENERO:DICIEMBRE!I57) -> 0 | J57: =SUM(ENERO:DICIEMBRE!J57) -> 0 | ... R57: =SUM(ENERO:DICIEMBRE!R57) -> 0 | S57: =CA57&CB57&CC57&CD57&CE57&CF57&CG57&CH57&CI57 | CA57: =IF(AND(D57>0,J57=""),"*No olvide digitar el campo TRANS Masculino (Digite CERO si no tiene).", IF(J57>D57," * El Número de TRANS Masculino no puede superar el Total Mujeres. ","")) | CB57: =IF(AND(C57>0,OR(K57=""))," *No olvide digitar el campo TRANS Femenino (Digite CERO si no tiene).",IF(K57>$C57," * El Número de TRANS Femenino no puede superar el Total Hombres. ","")) | CC57: =IF(AND($B57>0,OR(L57=""))," *No olvide digitar el campo "&L$9&""&". Digite CERO si no tiene.", IF(L57>$B57," * La variable "&L$9&""&" no puede superar el Total Ambos Sexos. ","")) | CD57: =IF(AND($B57>0,OR(M57=""))," *No olvide digitar el campo "&M$9&""&". Digite CERO si no tiene.", IF(M57>$B57," * La variable "&M$9&""&" no puede superar el Total Ambos Sexos. ","")) | CE57: =IF(AND($B57>0,OR(N57=""))," *No olvide digitar el campo "&N$9&""&". Digite CERO si no tiene.", IF(N57>$B57," * La variable "&N$9&""&" no puede superar el Total Ambos Sexos. ","")) | CF57: =IF(AND($B57>0,OR(O57=""))," *No olvide digitar el campo "&O$9&""&". Digite CERO si no tiene.", IF(O57>$B57," * La variable "&O$9&""&" no puede superar el Total Ambos Sexos. ","")) | CG57: =IF(AND($B57>0,OR(P57=""))," *No olvide digitar el campo "&P$9&""&". Digite CERO si no tiene.", IF(P57>$B57," * La variable "&P$9&""&" no puede superar el Total Ambos Sexos. ","")) | CH57: =IF(AND($B57>0,OR(Q57=""))," *No olvide digitar el campo "&Q$9&""&". Niños, niñas y adolescentes. Digite CERO si no tiene.", IF(Q57>$B57," * La variable "&Q$9&""&" no puede superar el Total Ambos Sexos. ","")) | CI57: =IF(AND($D57>0,OR(R57=""))," *No olvide digitar el campo "&Q$9&""&" Gestantes. Digite CERO si no tiene.", IF(R57>$D57," * La variable "&Q$9&""&" no puede superar el Total Mujeres. ","")) | CM57: =IF(AND(D57>0,OR(J57="")),1,IF(J57>D57,1,0)) -> 0 | CN57: =IF(AND(C57>0,OR(K57="")),1,IF(K57>C57,1,0)) -> 0 | CO57: =IF(AND($B57>0,OR(L57="")),1,IF(L57>$B57,1,0)) -> 0 | CP57: =IF(AND($B57>0,OR(M57="")),1,IF(M57>$B57,1,0)) -> 0 | CQ57: =IF(AND($B57>0,OR(N57="")),1,IF(N57>$B57,1,0)) -> 0 | CR57: =IF(AND($B57>0,OR(O57="")),1,IF(O57>$B57,1,0)) -> 0 | CS57: =IF(AND($B57>0,OR(P57="")),1,IF(P57>$B57,1,0)) -> 0 | CT57: =IF(AND($B57>0,OR(Q57="")),1,IF(Q57>$B57,1,0)) -> 0 | CU57: =IF(AND($D57>0,OR(R57="")),1,IF(R57>$D57,1,0)) -> 0
A58: SECCIÓN B: ACTIVIDADES DE PARTICIPACIÓN SOCIAL
A59: SECCIÓN B.1: ACTIVIDADES SEGÚN INSTANCIAS DE PARTICIPACIÓN SOCIAL
A60: TIPO DE ACTIVIDADES | B60: TOTAL | C60: INSTANCIAS DE PARTICIPACIÓN SOCIAL | M60: Uso de TICS y/o Redes Sociales | N60: PARTICIPANTES
C61: Consejos de la Sociedad Civil (COSOC) | D61: Instancias de participación de Adolescentes y Jóvenes | E61: Consejos Consultivos de Usuarios | F61: Consejo de Desarrollo Local | G61: Consejo de Integración de la Red Asistencial (CIRA) | H61: Comités o Mesas de Trabajo | I61: Cabildos Ciudadanos Territoriales y Sectoriales | J61: Instancias de Participación Indígena en Salud | K61: Consejo Interreligioso | L61: Otras Instancias de participación | N61: Total Ambos Sexos | O61: Hombres | P61: Mujeres | Q61: Trans Masculino | R61: Trans Femenina | S61: No Binarie | T61: No revelado | U61: Pueblos Originarios | V61: Migrantes | W61: PRAIS
A62: Administración y/o gestión | B62: =SUM(C62:L62) -> 0 | C62: =SUM(ENERO:DICIEMBRE!C62) -> 0 | D62: =SUM(ENERO:DICIEMBRE!D62) -> 0 | E62: =SUM(ENERO:DICIEMBRE!E62) -> 0 | F62: =SUM(ENERO:DICIEMBRE!F62) -> 0 | G62: =SUM(ENERO:DICIEMBRE!G62) -> 0 | H62: =SUM(ENERO:DICIEMBRE!H62) -> 0 | I62: =SUM(ENERO:DICIEMBRE!I62) -> 0 | J62: =SUM(ENERO:DICIEMBRE!J62) -> 0 | ... M62: =SUM(ENERO:DICIEMBRE!M62) -> 0 | N62: =SUM(O62:P62) -> 0 | O62: =SUM(ENERO:DICIEMBRE!O62) -> 0 | P62: =SUM(ENERO:DICIEMBRE!P62) -> 0 | Q62: =SUM(ENERO:DICIEMBRE!Q62) -> 0 | R62: =SUM(ENERO:DICIEMBRE!R62) -> 0 | S62: =SUM(ENERO:DICIEMBRE!S62) -> 0 | T62: =SUM(ENERO:DICIEMBRE!T62) -> 0 | U62: =SUM(ENERO:DICIEMBRE!U62) -> 0 | V62: =SUM(ENERO:DICIEMBRE!V62) -> 0 | W62: =SUM(ENERO:DICIEMBRE!W62) -> 0 | X62: =CA62&CB62&CC62&CD62&CE62&CF62&CG62 | CA62: =IF(AND(P62>0,Q62=""),"*No olvide digitar el campo "&Q$61&""&". Digite CERO si no tiene.", IF(Q62>P62," * El Número de "&Q$61&""&" no puede superar el Total Mujeres. ","")) | CB62: =IF(AND(O62>0,R62=""),"*No olvide digitar el campo "&R$61&""&". Digite CERO si no tiene.", IF(R62>O62," * El Número de "&R$61&""&" no puede superar el Total hOMBRES. ","")) | CC62: =IF(AND($N62>0,S62=""),"*No olvide digitar el campo "&S$61&""&". Digite CERO si no tiene.", IF(S62>$N62," * La variable "&S$61&""&" no puede superar el Total Ambos Sexos. ","")) | CD62: =IF(AND($N62>0,T62=""),"*No olvide digitar el campo "&T$61&""&". Digite CERO si no tiene.", IF(T62>$N62," * La variable "&T$61&""&" no puede superar el Total Ambos Sexos. ","")) | CE62: =IF(AND($N62>0,U62=""),"*No olvide digitar el campo "&U$61&""&". Digite CERO si no tiene.", IF(U62>$N62," * La variable "&U$61&""&" no puede superar el Total Ambos Sexos. ","")) | CF62: =IF(AND($N62>0,V62=""),"*No olvide digitar el campo "&V$61&""&". Digite CERO si no tiene.", IF(V62>$N62," * La variable "&V$61&""&" no puede superar el Total Ambos Sexos. ","")) | CG62: =IF(AND($N62>0,W62=""),"*No olvide digitar el campo "&W$61&""&". Digite CERO si no tiene.", IF(W62>$N62," * La variable "&W$61&""&" no puede superar el Total Ambos Sexos. ","")) | CM62: =IF(AND(P62>0,OR(Q62="")),1,IF(Q62>P62,1,0)) -> 0 | CN62: =IF(AND(O62>0,OR(R62="")),1,IF(R62>O62,1,0)) -> 0 | CO62: =IF(AND($N62>0,OR(S62="")),1,IF(S62>$N62,1,0)) -> 0 | CP62: =IF(AND($N62>0,OR(T62="")),1,IF(T62>$N62,1,0)) -> 0 | CQ62: =IF(AND($N62>0,OR(U62="")),1,IF(U62>$N62,1,0)) -> 0 | CR62: =IF(AND($N62>0,OR(V62="")),1,IF(V62>$N62,1,0)) -> 0 | CS62: =IF(AND($N62>0,OR(W62="")),1,IF(W62>$N62,1,0)) -> 0
A63: Entrevistas | B63: =SUM(C63:L63) -> 0 | C63: =SUM(ENERO:DICIEMBRE!C63) -> 0 | D63: =SUM(ENERO:DICIEMBRE!D63) -> 0 | E63: =SUM(ENERO:DICIEMBRE!E63) -> 0 | F63: =SUM(ENERO:DICIEMBRE!F63) -> 0 | G63: =SUM(ENERO:DICIEMBRE!G63) -> 0 | H63: =SUM(ENERO:DICIEMBRE!H63) -> 0 | I63: =SUM(ENERO:DICIEMBRE!I63) -> 0 | J63: =SUM(ENERO:DICIEMBRE!J63) -> 0 | ... M63: =SUM(ENERO:DICIEMBRE!M63) -> 0 | N63: =SUM(O63:P63) -> 0 | O63: =SUM(ENERO:DICIEMBRE!O63) -> 0 | P63: =SUM(ENERO:DICIEMBRE!P63) -> 0 | Q63: =SUM(ENERO:DICIEMBRE!Q63) -> 0 | R63: =SUM(ENERO:DICIEMBRE!R63) -> 0 | S63: =SUM(ENERO:DICIEMBRE!S63) -> 0 | T63: =SUM(ENERO:DICIEMBRE!T63) -> 0 | U63: =SUM(ENERO:DICIEMBRE!U63) -> 0 | V63: =SUM(ENERO:DICIEMBRE!V63) -> 0 | W63: =SUM(ENERO:DICIEMBRE!W63) -> 0 | X63: =CA63&CB63&CC63&CD63&CE63&CF63&CG63 | CA63: =IF(AND(P63>0,Q63=""),"*No olvide digitar el campo "&Q$61&""&". Digite CERO si no tiene.", IF(Q63>P63," * El Número de "&Q$61&""&" no puede superar el Total Mujeres. ","")) | CB63: =IF(AND(O63>0,R63=""),"*No olvide digitar el campo "&R$61&""&". Digite CERO si no tiene.", IF(R63>O63," * El Número de "&R$61&""&" no puede superar el Total hOMBRES. ","")) | CC63: =IF(AND($N63>0,S63=""),"*No olvide digitar el campo "&S$61&""&". Digite CERO si no tiene.", IF(S63>$N63," * La variable "&S$61&""&" no puede superar el Total Ambos Sexos. ","")) | CD63: =IF(AND($N63>0,T63=""),"*No olvide digitar el campo "&T$61&""&". Digite CERO si no tiene.", IF(T63>$N63," * La variable "&T$61&""&" no puede superar el Total Ambos Sexos. ","")) | CE63: =IF(AND($N63>0,U63=""),"*No olvide digitar el campo "&U$61&""&". Digite CERO si no tiene.", IF(U63>$N63," * La variable "&U$61&""&" no puede superar el Total Ambos Sexos. ","")) | CF63: =IF(AND($N63>0,V63=""),"*No olvide digitar el campo "&V$61&""&". Digite CERO si no tiene.", IF(V63>$N63," * La variable "&V$61&""&" no puede superar el Total Ambos Sexos. ","")) | CG63: =IF(AND($N63>0,W63=""),"*No olvide digitar el campo "&W$61&""&". Digite CERO si no tiene.", IF(W63>$N63," * La variable "&W$61&""&" no puede superar el Total Ambos Sexos. ","")) | CM63: =IF(AND(P63>0,OR(Q63="")),1,IF(Q63>P63,1,0)) -> 0 | CN63: =IF(AND(O63>0,OR(R63="")),1,IF(R63>O63,1,0)) -> 0 | CO63: =IF(AND($N63>0,OR(S63="")),1,IF(S63>$N63,1,0)) -> 0 | CP63: =IF(AND($N63>0,OR(T63="")),1,IF(T63>$N63,1,0)) -> 0 | CQ63: =IF(AND($N63>0,OR(U63="")),1,IF(U63>$N63,1,0)) -> 0 | CR63: =IF(AND($N63>0,OR(V63="")),1,IF(V63>$N63,1,0)) -> 0 | CS63: =IF(AND($N63>0,OR(W63="")),1,IF(W63>$N63,1,0)) -> 0
A64: Reuniones con el intrasector | B64: =SUM(C64:L64) -> 4 | C64: =SUM(ENERO:DICIEMBRE!C64) -> 0 | D64: =SUM(ENERO:DICIEMBRE!D64) -> 0 | E64: =SUM(ENERO:DICIEMBRE!E64) -> 3 | F64: =SUM(ENERO:DICIEMBRE!F64) -> 0 | G64: =SUM(ENERO:DICIEMBRE!G64) -> 0 | H64: =SUM(ENERO:DICIEMBRE!H64) -> 0 | I64: =SUM(ENERO:DICIEMBRE!I64) -> 0 | J64: =SUM(ENERO:DICIEMBRE!J64) -> 0 | ... M64: =SUM(ENERO:DICIEMBRE!M64) -> 0 | N64: =SUM(O64:P64) -> 65 | O64: =SUM(ENERO:DICIEMBRE!O64) -> 24 | P64: =SUM(ENERO:DICIEMBRE!P64) -> 41 | Q64: =SUM(ENERO:DICIEMBRE!Q64) -> 0 | R64: =SUM(ENERO:DICIEMBRE!R64) -> 0 | S64: =SUM(ENERO:DICIEMBRE!S64) -> 0 | T64: =SUM(ENERO:DICIEMBRE!T64) -> 0 | U64: =SUM(ENERO:DICIEMBRE!U64) -> 0 | V64: =SUM(ENERO:DICIEMBRE!V64) -> 0 | W64: =SUM(ENERO:DICIEMBRE!W64) -> 0 | X64: =CA64&CB64&CC64&CD64&CE64&CF64&CG64 | CA64: =IF(AND(P64>0,Q64=""),"*No olvide digitar el campo "&Q$61&""&". Digite CERO si no tiene.", IF(Q64>P64," * El Número de "&Q$61&""&" no puede superar el Total Mujeres. ","")) | CB64: =IF(AND(O64>0,R64=""),"*No olvide digitar el campo "&R$61&""&". Digite CERO si no tiene.", IF(R64>O64," * El Número de "&R$61&""&" no puede superar el Total hOMBRES. ","")) | CC64: =IF(AND($N64>0,S64=""),"*No olvide digitar el campo "&S$61&""&". Digite CERO si no tiene.", IF(S64>$N64," * La variable "&S$61&""&" no puede superar el Total Ambos Sexos. ","")) | CD64: =IF(AND($N64>0,T64=""),"*No olvide digitar el campo "&T$61&""&". Digite CERO si no tiene.", IF(T64>$N64," * La variable "&T$61&""&" no puede superar el Total Ambos Sexos. ","")) | CE64: =IF(AND($N64>0,U64=""),"*No olvide digitar el campo "&U$61&""&". Digite CERO si no tiene.", IF(U64>$N64," * La variable "&U$61&""&" no puede superar el Total Ambos Sexos. ","")) | CF64: =IF(AND($N64>0,V64=""),"*No olvide digitar el campo "&V$61&""&". Digite CERO si no tiene.", IF(V64>$N64," * La variable "&V$61&""&" no puede superar el Total Ambos Sexos. ","")) | CG64: =IF(AND($N64>0,W64=""),"*No olvide digitar el campo "&W$61&""&". Digite CERO si no tiene.", IF(W64>$N64," * La variable "&W$61&""&" no puede superar el Total Ambos Sexos. ","")) | CM64: =IF(AND(P64>0,OR(Q64="")),1,IF(Q64>P64,1,0)) -> 0 | CN64: =IF(AND(O64>0,OR(R64="")),1,IF(R64>O64,1,0)) -> 0 | CO64: =IF(AND($N64>0,OR(S64="")),1,IF(S64>$N64,1,0)) -> 0 | CP64: =IF(AND($N64>0,OR(T64="")),1,IF(T64>$N64,1,0)) -> 0 | CQ64: =IF(AND($N64>0,OR(U64="")),1,IF(U64>$N64,1,0)) -> 0 | CR64: =IF(AND($N64>0,OR(V64="")),1,IF(V64>$N64,1,0)) -> 0 | CS64: =IF(AND($N64>0,OR(W64="")),1,IF(W64>$N64,1,0)) -> 0
