Workbook

Sheet CONSOLIDADO
A1: SERVICIO DE SALUD
A2: =CONCATENATE("COMUNA: ",[1]NOMBRE!B2, " (",[1]NOMBRE!C2,[1]NOMBRE!D2,[1]NOMBRE!E2,[1]NOMBRE!F2,[1]NOMBRE!G2,")") -> COMUNA: 0 (00000)
A3: =CONCATENATE("ESTABLECIMIENTO/ESTRATEGIA: ", [1]NOMBRE!B3, " (",[1]NOMBRE!C3,[1]NOMBRE!D3,[1]NOMBRE!E3,[1]NOMBRE!F3,[1]NOMBRE!G3,[1]NOMBRE!H3,")") -> ESTABLECIMIENTO/ESTRATEGIA: 0 (000000)
A4: =CONCATENATE("MES: ",[1]NOMBRE!B6, " (",[1]NOMBRE!C6,[1]NOMBRE!D6,")") -> MES: 0 (00)
A5: =CONCATENATE("AÑO: ",[1]NOMBRE!B7) -> AÑO: 2025
A6: REM-A19b. ACTIVIDADES DE PARTICIPACIÓN SOCIAL
A8: SECCIÓN A: ATENCIÓN OFICINAS DE INFORMACIONES (SISTEMA INTEGRAL DE ATENCIÓN A USUARIOS)
A9: TIPO DE ATENCION | B9: Nº DE ATENCIONES EN EL MES | E9: Respuestas del Mes Dentro de Plazos Legales (15 días Hábiles) | G9: Reclamos Respondidos Fuera de Plazos Legales | H9: Reclamos Pendientes | J9: TRANS | L9: No Binarie | M9: No revelado | N9: Pueblos Originarios | O9: Migrantes | P9: PRAIS | Q9: N° DE ATENCIONES EN EL MES (Ley Mila)
B10: TOTAL AMBOS SEXOS | C10: Hombres | D10: Mujeres | E10: Reclamos generados en el mes | F10: Reclamos generados en el mes anterior | H10: Respuestas pendientes dentro del plazo legal | I10: Respuestas pendientes fuera del plazo legal | J10: Masculino | K10: Femenina | Q10: Niños, niñas y adolescentes | R10: Gestantes
A11: TOTAL DE RECLAMOS | B11: =SUM(C11:D11) -> 1508 | C11: =SUM(C12:C51) -> 429 | D11: =SUM(D12:D51) -> 1079 | E11: =SUM(E12:E51) -> 1033 | F11: =SUM(F12:F51) -> 340 | G11: =SUM(G12:G51) -> 81 | H11: =SUM(H12:H51) -> 373 | I11: =SUM(I12:I51) -> 102 | J11: =SUM(J12:J51) -> 0 | ... R11: =SUM(R12:R51) -> 0
A12: Trato no amable, digno ni respetuoso | B12: =SUM(C12:D12) -> 169 | C12: =SUM(ENERO:DICIEMBRE!C12) -> 44 | D12: =SUM(ENERO:DICIEMBRE!D12) -> 125 | E12: =SUM(ENERO:DICIEMBRE!E12) -> 107 | F12: =SUM(ENERO:DICIEMBRE!F12) -> 43 | G12: =SUM(ENERO:DICIEMBRE!G12) -> 12 | H12: =SUM(ENERO:DICIEMBRE!H12) -> 50 | I12: =SUM(ENERO:DICIEMBRE!I12) -> 12 | J12: =SUM(ENERO:DICIEMBRE!J12) -> 0 | ... R12: =SUM(ENERO:DICIEMBRE!R12) -> 0 | S12: =CA12&CB12&CC12&CD12&CE12&CF12&CG12&CH12&CI12 | CA12: =IF(AND(D12>0,J12=""),"*No olvide digitar el campo TRANS Masculino (Digite CERO si no tiene).", IF(J12>D12," * El Número de TRANS Masculino no puede superar el Total Mujeres. ","")) | CB12: =IF(AND(C12>0,OR(K12=""))," *No olvide digitar el campo TRANS Femenino (Digite CERO si no tiene).",IF(K12>$C12," * El Número de TRANS Femenino no puede superar el Total Hombres. ","")) | CC12: =IF(AND($B12>0,OR(L12=""))," *No olvide digitar el campo "&L$9&""&". Digite CERO si no tiene.", IF(L12>$B12," * La variable "&L$9&""&" no puede superar el Total Ambos Sexos. ","")) | CD12: =IF(AND($B12>0,OR(M12=""))," *No olvide digitar el campo "&M$9&""&". Digite CERO si no tiene.", IF(M12>$B12," * La variable "&M$9&""&" no puede superar el Total Ambos Sexos. ","")) | CE12: =IF(AND($B12>0,OR(N12=""))," *No olvide digitar el campo "&N$9&""&". Digite CERO si no tiene.", IF(N12>$B12," * La variable "&N$9&""&" no puede superar el Total Ambos Sexos. ","")) | CF12: =IF(AND($B12>0,OR(O12=""))," *No olvide digitar el campo "&O$9&""&". Digite CERO si no tiene.", IF(O12>$B12," * La variable "&O$9&""&" no puede superar el Total Ambos Sexos. ","")) | CG12: =IF(AND($B12>0,OR(P12=""))," *No olvide digitar el campo "&P$9&""&". Digite CERO si no tiene.", IF(P12>$B12," * La variable "&P$9&""&" no puede superar el Total Ambos Sexos. ","")) | CH12: =IF(AND($B12>0,OR(Q12=""))," *No olvide digitar el campo "&Q$9&""&". Niños, niñas y adolescentes. Digite CERO si no tiene.", IF(Q12>$B12," * La variable "&Q$9&""&" no puede superar el Total Ambos Sexos. ","")) | CI12: =IF(AND($D12>0,OR(R12=""))," *No olvide digitar el campo "&Q$9&""&" Gestantes. Digite CERO si no tiene.", IF(R12>$D12," * La variable "&Q$9&""&" no puede superar el Total Mujeres. ","")) | CM12: =IF(AND(D12>0,OR(J12="")),1,IF(J12>D12,1,0)) -> 0 | CN12: =IF(AND(C12>0,OR(K12="")),1,IF(K12>C12,1,0)) -> 0 | CO12: =IF(AND($B12>0,OR(L12="")),1,IF(L12>$B12,1,0)) -> 0 | CP12: =IF(AND($B12>0,OR(M12="")),1,IF(M12>$B12,1,0)) -> 0 | CQ12: =IF(AND($B12>0,OR(N12="")),1,IF(N12>$B12,1,0)) -> 0 | CR12: =IF(AND($B12>0,OR(O12="")),1,IF(O12>$B12,1,0)) -> 0 | CS12: =IF(AND($B12>0,OR(P12="")),1,IF(P12>$B12,1,0)) -> 0 | CT12: =IF(AND($B12>0,OR(Q12="")),1,IF(Q12>$B12,1,0)) -> 0 | CU12: =IF(AND($D12>0,OR(R12="")),1,IF(R12>$D12,1,0)) -> 0
A13: Trato discriminatorio | B13: =SUM(C13:D13) -> 13 | C13: =SUM(ENERO:DICIEMBRE!C13) -> 3 | D13: =SUM(ENERO:DICIEMBRE!D13) -> 10 | E13: =SUM(ENERO:DICIEMBRE!E13) -> 7 | F13: =SUM(ENERO:DICIEMBRE!F13) -> 6 | G13: =SUM(ENERO:DICIEMBRE!G13) -> 0 | H13: =SUM(ENERO:DICIEMBRE!H13) -> 6 | I13: =SUM(ENERO:DICIEMBRE!I13) -> 0 | J13: =SUM(ENERO:DICIEMBRE!J13) -> 0 | ... R13: =SUM(ENERO:DICIEMBRE!R13) -> 0 | S13: =CA13&CB13&CC13&CD13&CE13&CF13&CG13&CH13&CI13 | CA13: =IF(AND(D13>0,J13=""),"*No olvide digitar el campo TRANS Masculino (Digite CERO si no tiene).", IF(J13>D13," * El Número de TRANS Masculino no puede superar el Total Mujeres. ","")) | CB13: =IF(AND(C13>0,OR(K13=""))," *No olvide digitar el campo TRANS Femenino (Digite CERO si no tiene).",IF(K13>$C13," * El Número de TRANS Femenino no puede superar el Total Hombres. ","")) | CC13: =IF(AND($B13>0,OR(L13=""))," *No olvide digitar el campo "&L$9&""&". Digite CERO si no tiene.", IF(L13>$B13," * La variable "&L$9&""&" no puede superar el Total Ambos Sexos. ","")) | CD13: =IF(AND($B13>0,OR(M13=""))," *No olvide digitar el campo "&M$9&""&". Digite CERO si no tiene.", IF(M13>$B13," * La variable "&M$9&""&" no puede superar el Total Ambos Sexos. ","")) | CE13: =IF(AND($B13>0,OR(N13=""))," *No olvide digitar el campo "&N$9&""&". Digite CERO si no tiene.", IF(N13>$B13," * La variable "&N$9&""&" no puede superar el Total Ambos Sexos. ","")) | CF13: =IF(AND($B13>0,OR(O13=""))," *No olvide digitar el campo "&O$9&""&". Digite CERO si no tiene.", IF(O13>$B13," * La variable "&O$9&""&" no puede superar el Total Ambos Sexos. ","")) | CG13: =IF(AND($B13>0,OR(P13=""))," *No olvide digitar el campo "&P$9&""&". Digite CERO si no tiene.", IF(P13>$B13," * La variable "&P$9&""&" no puede superar el Total Ambos Sexos. ","")) | CH13: =IF(AND($B13>0,OR(Q13=""))," *No olvide digitar el campo "&Q$9&""&". Niños, niñas y adolescentes. Digite CERO si no tiene.", IF(Q13>$B13," * La variable "&Q$9&""&" no puede superar el Total Ambos Sexos. ","")) | CI13: =IF(AND($D13>0,OR(R13=""))," *No olvide digitar el campo "&Q$9&""&" Gestantes. Digite CERO si no tiene.", IF(R13>$D13," * La variable "&Q$9&""&" no puede superar el Total Mujeres. ","")) | CM13: =IF(AND(D13>0,OR(J13="")),1,IF(J13>D13,1,0)) -> 0 | CN13: =IF(AND(C13>0,OR(K13="")),1,IF(K13>C13,1,0)) -> 0 | CO13: =IF(AND($B13>0,OR(L13="")),1,IF(L13>$B13,1,0)) -> 0 | CP13: =IF(AND($B13>0,OR(M13="")),1,IF(M13>$B13,1,0)) -> 0 | CQ13: =IF(AND($B13>0,OR(N13="")),1,IF(N13>$B13,1,0)) -> 0 | CR13: =IF(AND($B13>0,OR(O13="")),1,IF(O13>$B13,1,0)) -> 0 | CS13: =IF(AND($B13>0,OR(P13="")),1,IF(P13>$B13,1,0)) -> 0 | CT13: =IF(AND($B13>0,OR(Q13="")),1,IF(Q13>$B13,1,0)) -> 0 | CU13: =IF(AND($D13>0,OR(R13="")),1,IF(R13>$D13,1,0)) -> 0
A14: Trato con falta de privacidad | B14: =SUM(C14:D14) -> 1 | C14: =SUM(ENERO:DICIEMBRE!C14) -> 1 | D14: =SUM(ENERO:DICIEMBRE!D14) -> 0 | E14: =SUM(ENERO:DICIEMBRE!E14) -> 1 | F14: =SUM(ENERO:DICIEMBRE!F14) -> 0 | G14: =SUM(ENERO:DICIEMBRE!G14) -> 0 | H14: =SUM(ENERO:DICIEMBRE!H14) -> 0 | I14: =SUM(ENERO:DICIEMBRE!I14) -> 0 | J14: =SUM(ENERO:DICIEMBRE!J14) -> 0 | ... R14: =SUM(ENERO:DICIEMBRE!R14) -> 0 | S14: =CA14&CB14&CC14&CD14&CE14&CF14&CG14&CH14&CI14 | CA14: =IF(AND(D14>0,J14=""),"*No olvide digitar el campo TRANS Masculino (Digite CERO si no tiene).", IF(J14>D14," * El Número de TRANS Masculino no puede superar el Total Mujeres. ","")) | CB14: =IF(AND(C14>0,OR(K14=""))," *No olvide digitar el campo TRANS Femenino (Digite CERO si no tiene).",IF(K14>$C14," * El Número de TRANS Femenino no puede superar el Total Hombres. ","")) | CC14: =IF(AND($B14>0,OR(L14=""))," *No olvide digitar el campo "&L$9&""&". Digite CERO si no tiene.", IF(L14>$B14," * La variable "&L$9&""&" no puede superar el Total Ambos Sexos. ","")) | CD14: =IF(AND($B14>0,OR(M14=""))," *No olvide digitar el campo "&M$9&""&". Digite CERO si no tiene.", IF(M14>$B14," * La variable "&M$9&""&" no puede superar el Total Ambos Sexos. ","")) | CE14: =IF(AND($B14>0,OR(N14=""))," *No olvide digitar el campo "&N$9&""&". Digite CERO si no tiene.", IF(N14>$B14," * La variable "&N$9&""&" no puede superar el Total Ambos Sexos. ","")) | CF14: =IF(AND($B14>0,OR(O14=""))," *No olvide digitar el campo "&O$9&""&". Digite CERO si no tiene.", IF(O14>$B14," * La variable "&O$9&""&" no puede superar el Total Ambos Sexos. ","")) | CG14: =IF(AND($B14>0,OR(P14=""))," *No olvide digitar el campo "&P$9&""&". Digite CERO si no tiene.", IF(P14>$B14," * La variable "&P$9&""&" no puede superar el Total Ambos Sexos. ","")) | CH14: =IF(AND($B14>0,OR(Q14=""))," *No olvide digitar el campo "&Q$9&""&". Niños, niñas y adolescentes. Digite CERO si no tiene.", IF(Q14>$B14," * La variable "&Q$9&""&" no puede superar el Total Ambos Sexos. ","")) | CI14: =IF(AND($D14>0,OR(R14=""))," *No olvide digitar el campo "&Q$9&""&" Gestantes. Digite CERO si no tiene.", IF(R14>$D14," * La variable "&Q$9&""&" no puede superar el Total Mujeres. ","")) | CM14: =IF(AND(D14>0,OR(J14="")),1,IF(J14>D14,1,0)) -> 0 | CN14: =IF(AND(C14>0,OR(K14="")),1,IF(K14>C14,1,0)) -> 0 | CO14: =IF(AND($B14>0,OR(L14="")),1,IF(L14>$B14,1,0)) -> 0 | CP14: =IF(AND($B14>0,OR(M14="")),1,IF(M14>$B14,1,0)) -> 0 | CQ14: =IF(AND($B14>0,OR(N14="")),1,IF(N14>$B14,1,0)) -> 0 | CR14: =IF(AND($B14>0,OR(O14="")),1,IF(O14>$B14,1,0)) -> 0 | CS14: =IF(AND($B14>0,OR(P14="")),1,IF(P14>$B14,1,0)) -> 0 | CT14: =IF(AND($B14>0,OR(Q14="")),1,IF(Q14>$B14,1,0)) -> 0 | CU14: =IF(AND($D14>0,OR(R14="")),1,IF(R14>$D14,1,0)) -> 0
A15: Trato con falta de confidencialidad | B15: =SUM(C15:D15) -> 1 | C15: =SUM(ENERO:DICIEMBRE!C15) -> 0 | D15: =SUM(ENERO:DICIEMBRE!D15) -> 1 | E15: =SUM(ENERO:DICIEMBRE!E15) -> 0 | F15: =SUM(ENERO:DICIEMBRE!F15) -> 1 | G15: =SUM(ENERO:DICIEMBRE!G15) -> 0 | H15: =SUM(ENERO:DICIEMBRE!H15) -> 1 | I15: =SUM(ENERO:DICIEMBRE!I15) -> 0 | J15: =SUM(ENERO:DICIEMBRE!J15) -> 0 | ... R15: =SUM(ENERO:DICIEMBRE!R15) -> 0 | S15: =CA15&CB15&CC15&CD15&CE15&CF15&CG15&CH15&CI15 | CA15: =IF(AND(D15>0,J15=""),"*No olvide digitar el campo TRANS Masculino (Digite CERO si no tiene).", IF(J15>D15," * El Número de TRANS Masculino no puede superar el Total Mujeres. ","")) | CB15: =IF(AND(C15>0,OR(K15=""))," *No olvide digitar el campo TRANS Femenino (Digite CERO si no tiene).",IF(K15>$C15," * El Número de TRANS Femenino no puede superar el Total Hombres. ","")) | CC15: =IF(AND($B15>0,OR(L15=""))," *No olvide digitar el campo "&L$9&""&". Digite CERO si no tiene.", IF(L15>$B15," * La variable "&L$9&""&" no puede superar el Total Ambos Sexos. ","")) | CD15: =IF(AND($B15>0,OR(M15=""))," *No olvide digitar el campo "&M$9&""&". Digite CERO si no tiene.", IF(M15>$B15," * La variable "&M$9&""&" no puede superar el Total Ambos Sexos. ","")) | CE15: =IF(AND($B15>0,OR(N15=""))," *No olvide digitar el campo "&N$9&""&". Digite CERO si no tiene.", IF(N15>$B15," * La variable "&N$9&""&" no puede superar el Total Ambos Sexos. ","")) | CF15: =IF(AND($B15>0,OR(O15=""))," *No olvide digitar el campo "&O$9&""&". Digite CERO si no tiene.", IF(O15>$B15," * La variable "&O$9&""&" no puede superar el Total Ambos Sexos. ","")) | CG15: =IF(AND($B15>0,OR(P15=""))," *No olvide digitar el campo "&P$9&""&". Digite CERO si no tiene.", IF(P15>$B15," * La variable "&P$9&""&" no puede superar el Total Ambos Sexos. ","")) | CH15: =IF(AND($B15>0,OR(Q15=""))," *No olvide digitar el campo "&Q$9&""&". Niños, niñas y adolescentes. Digite CERO si no tiene.", IF(Q15>$B15," * La variable "&Q$9&""&" no puede superar el Total Ambos Sexos. ","")) | CI15: =IF(AND($D15>0,OR(R15=""))," *No olvide digitar el campo "&Q$9&""&" Gestantes. Digite CERO si no tiene.", IF(R15>$D15," * La variable "&Q$9&""&" no puede superar el Total Mujeres. ","")) | CM15: =IF(AND(D15>0,OR(J15="")),1,IF(J15>D15,1,0)) -> 0 | CN15: =IF(AND(C15>0,OR(K15="")),1,IF(K15>C15,1,0)) -> 0 | CO15: =IF(AND($B15>0,OR(L15="")),1,IF(L15>$B15,1,0)) -> 0 | CP15: =IF(AND($B15>0,OR(M15="")),1,IF(M15>$B15,1,0)) -> 0 | CQ15: =IF(AND($B15>0,OR(N15="")),1,IF(N15>$B15,1,0)) -> 0 | CR15: =IF(AND($B15>0,OR(O15="")),1,IF(O15>$B15,1,0)) -> 0 | CS15: =IF(AND($B15>0,OR(P15="")),1,IF(P15>$B15,1,0)) -> 0 | CT15: =IF(AND($B15>0,OR(Q15="")),1,IF(Q15>$B15,1,0)) -> 0 | CU15: =IF(AND($D15>0,OR(R15="")),1,IF(R15>$D15,1,0)) -> 0
A16: Trato sin pertinencia cultural en la atención | B16: =SUM(C16:D16) -> 0 | C16: =SUM(ENERO:DICIEMBRE!C16) -> 0 | D16: =SUM(ENERO:DICIEMBRE!D16) -> 0 | E16: =SUM(ENERO:DICIEMBRE!E16) -> 0 | F16: =SUM(ENERO:DICIEMBRE!F16) -> 0 | G16: =SUM(ENERO:DICIEMBRE!G16) -> 0 | H16: =SUM(ENERO:DICIEMBRE!H16) -> 0 | I16: =SUM(ENERO:DICIEMBRE!I16) -> 0 | J16: =SUM(ENERO:DICIEMBRE!J16) -> 0 | ... R16: =SUM(ENERO:DICIEMBRE!R16) -> 0 | S16: =CA16&CB16&CC16&CD16&CE16&CF16&CG16&CH16&CI16 | CA16: =IF(AND(D16>0,J16=""),"*No olvide digitar el campo TRANS Masculino (Digite CERO si no tiene).", IF(J16>D16," * El Número de TRANS Masculino no puede superar el Total Mujeres. ","")) | CB16: =IF(AND(C16>0,OR(K16=""))," *No olvide digitar el campo TRANS Femenino (Digite CERO si no tiene).",IF(K16>$C16," * El Número de TRANS Femenino no puede superar el Total Hombres. ","")) | CC16: =IF(AND($B16>0,OR(L16=""))," *No olvide digitar el campo "&L$9&""&". Digite CERO si no tiene.", IF(L16>$B16," * La variable "&L$9&""&" no puede superar el Total Ambos Sexos. ","")) | CD16: =IF(AND($B16>0,OR(M16=""))," *No olvide digitar el campo "&M$9&""&". Digite CERO si no tiene.", IF(M16>$B16," * La variable "&M$9&""&" no puede superar el Total Ambos Sexos. ","")) | CE16: =IF(AND($B16>0,OR(N16=""))," *No olvide digitar el campo "&N$9&""&". Digite CERO si no tiene.", IF(N16>$B16," * La variable "&N$9&""&" no puede superar el Total Ambos Sexos. ","")) | CF16: =IF(AND($B16>0,OR(O16=""))," *No olvide digitar el campo "&O$9&""&". Digite CERO si no tiene.", IF(O16>$B16," * La variable "&O$9&""&" no puede superar el Total Ambos Sexos. ","")) | CG16: =IF(AND($B16>0,OR(P16=""))," *No olvide digitar el campo "&P$9&""&". Digite CERO si no tiene.", IF(P16>$B16," * La variable "&P$9&""&" no puede superar el Total Ambos Sexos. ","")) | CH16: =IF(AND($B16>0,OR(Q16=""))," *No olvide digitar el campo "&Q$9&""&". Niños, niñas y adolescentes. Digite CERO si no tiene.", IF(Q16>$B16," * La variable "&Q$9&""&" no puede superar el Total Ambos Sexos. ","")) | CI16: =IF(AND($D16>0,OR(R16=""))," *No olvide digitar el campo "&Q$9&""&" Gestantes. Digite CERO si no tiene.", IF(R16>$D16," * La variable "&Q$9&""&" no puede superar el Total Mujeres. ","")) | CM16: =IF(AND(D16>0,OR(J16="")),1,IF(J16>D16,1,0)) -> 0 | CN16: =IF(AND(C16>0,OR(K16="")),1,IF(K16>C16,1,0)) -> 0 | CO16: =IF(AND($B16>0,OR(L16="")),1,IF(L16>$B16,1,0)) -> 0 | CP16: =IF(AND($B16>0,OR(M16="")),1,IF(M16>$B16,1,0)) -> 0 | CQ16: =IF(AND($B16>0,OR(N16="")),1,IF(N16>$B16,1,0)) -> 0 | CR16: =IF(AND($B16>0,OR(O16="")),1,IF(O16>$B16,1,0)) -> 0 | CS16: =IF(AND($B16>0,OR(P16="")),1,IF(P16>$B16,1,0)) -> 0 | CT16: =IF(AND($B16>0,OR(Q16="")),1,IF(Q16>$B16,1,0)) -> 0 | CU16: =IF(AND($D16>0,OR(R16="")),1,IF(R16>$D16,1,0)) -> 0
A17: Trato sin condiciones para el acompañamiento | B17: =SUM(C17:D17) -> 2 | C17: =SUM(ENERO:DICIEMBRE!C17) -> 0 | D17: =SUM(ENERO:DICIEMBRE!D17) -> 2 | E17: =SUM(ENERO:DICIEMBRE!E17) -> 1 | F17: =SUM(ENERO:DICIEMBRE!F17) -> 1 | G17: =SUM(ENERO:DICIEMBRE!G17) -> 0 | H17: =SUM(ENERO:DICIEMBRE!H17) -> 1 | I17: =SUM(ENERO:DICIEMBRE!I17) -> 0 | J17: =SUM(ENERO:DICIEMBRE!J17) -> 0 | ... R17: =SUM(ENERO:DICIEMBRE!R17) -> 0 | S17: =CA17&CB17&CC17&CD17&CE17&CF17&CG17&CH17&CI17 | CA17: =IF(AND(D17>0,J17=""),"*No olvide digitar el campo TRANS Masculino (Digite CERO si no tiene).", IF(J17>D17," * El Número de TRANS Masculino no puede superar el Total Mujeres. ","")) | CB17: =IF(AND(C17>0,OR(K17=""))," *No olvide digitar el campo TRANS Femenino (Digite CERO si no tiene).",IF(K17>$C17," * El Número de TRANS Femenino no puede superar el Total Hombres. ","")) | CC17: =IF(AND($B17>0,OR(L17=""))," *No olvide digitar el campo "&L$9&""&". Digite CERO si no tiene.", IF(L17>$B17," * La variable "&L$9&""&" no puede superar el Total Ambos Sexos. ","")) | CD17: =IF(AND($B17>0,OR(M17=""))," *No olvide digitar el campo "&M$9&""&". Digite CERO si no tiene.", IF(M17>$B17," * La variable "&M$9&""&" no puede superar el Total Ambos Sexos. ","")) | CE17: =IF(AND($B17>0,OR(N17=""))," *No olvide digitar el campo "&N$9&""&". Digite CERO si no tiene.", IF(N17>$B17," * La variable "&N$9&""&" no puede superar el Total Ambos Sexos. ","")) | CF17: =IF(AND($B17>0,OR(O17=""))," *No olvide digitar el campo "&O$9&""&". Digite CERO si no tiene.", IF(O17>$B17," * La variable "&O$9&""&" no puede superar el Total Ambos Sexos. ","")) | CG17: =IF(AND($B17>0,OR(P17=""))," *No olvide digitar el campo "&P$9&""&". Digite CERO si no tiene.", IF(P17>$B17," * La variable "&P$9&""&" no puede superar el Total Ambos Sexos. ","")) | CH17: =IF(AND($B17>0,OR(Q17=""))," *No olvide digitar el campo "&Q$9&""&". Niños, niñas y adolescentes. Digite CERO si no tiene.", IF(Q17>$B17," * La variable "&Q$9&""&" no puede superar el Total Ambos Sexos. ","")) | CI17: =IF(AND($D17>0,OR(R17=""))," *No olvide digitar el campo "&Q$9&""&" Gestantes. Digite CERO si no tiene.", IF(R17>$D17," * La variable "&Q$9&""&" no puede superar el Total Mujeres. ","")) | CM17: =IF(AND(D17>0,OR(J17="")),1,IF(J17>D17,1,0)) -> 0 | CN17: =IF(AND(C17>0,OR(K17="")),1,IF(K17>C17,1,0)) -> 0 | CO17: =IF(AND($B17>0,OR(L17="")),1,IF(L17>$B17,1,0)) -> 0 | CP17: =IF(AND($B17>0,OR(M17="")),1,IF(M17>$B17,1,0)) -> 0 | CQ17: =IF(AND($B17>0,OR(N17="")),1,IF(N17>$B17,1,0)) -> 0 | CR17: =IF(AND($B17>0,OR(O17="")),1,IF(O17>$B17,1,0)) -> 0 | CS17: =IF(AND($B17>0,OR(P17="")),1,IF(P17>$B17,1,0)) -> 0 | CT17: =IF(AND($B17>0,OR(Q17="")),1,IF(Q17>$B17,1,0)) -> 0 | CU17: =IF(AND($D17>0,OR(R17="")),1,IF(R17>$D17,1,0)) -> 0
A18: Competencia técnica diagnóstico | B18: =SUM(C18:D18) -> 47 | C18: =SUM(ENERO:DICIEMBRE!C18) -> 8 | D18: =SUM(ENERO:DICIEMBRE!D18) -> 39 | E18: =SUM(ENERO:DICIEMBRE!E18) -> 34 | F18: =SUM(ENERO:DICIEMBRE!F18) -> 8 | G18: =SUM(ENERO:DICIEMBRE!G18) -> 3 | H18: =SUM(ENERO:DICIEMBRE!H18) -> 9 | I18: =SUM(ENERO:DICIEMBRE!I18) -> 4 | J18: =SUM(ENERO:DICIEMBRE!J18) -> 0 | ... R18: =SUM(ENERO:DICIEMBRE!R18) -> 0 | S18: =CA18&CB18&CC18&CD18&CE18&CF18&CG18&CH18&CI18 | CA18: =IF(AND(D18>0,J18=""),"*No olvide digitar el campo TRANS Masculino (Digite CERO si no tiene).", IF(J18>D18," * El Número de TRANS Masculino no puede superar el Total Mujeres. ","")) | CB18: =IF(AND(C18>0,OR(K18=""))," *No olvide digitar el campo TRANS Femenino (Digite CERO si no tiene).",IF(K18>$C18," * El Número de TRANS Femenino no puede superar el Total Hombres. ","")) | CC18: =IF(AND($B18>0,OR(L18=""))," *No olvide digitar el campo "&L$9&""&". Digite CERO si no tiene.", IF(L18>$B18," * La variable "&L$9&""&" no puede superar el Total Ambos Sexos. ","")) | CD18: =IF(AND($B18>0,OR(M18=""))," *No olvide digitar el campo "&M$9&""&". Digite CERO si no tiene.", IF(M18>$B18," * La variable "&M$9&""&" no puede superar el Total Ambos Sexos. ","")) | CE18: =IF(AND($B18>0,OR(N18=""))," *No olvide digitar el campo "&N$9&""&". Digite CERO si no tiene.", IF(N18>$B18," * La variable "&N$9&""&" no puede superar el Total Ambos Sexos. ","")) | CF18: =IF(AND($B18>0,OR(O18=""))," *No olvide digitar el campo "&O$9&""&". Digite CERO si no tiene.", IF(O18>$B18," * La variable "&O$9&""&" no puede superar el Total Ambos Sexos. ","")) | CG18: =IF(AND($B18>0,OR(P18=""))," *No olvide digitar el campo "&P$9&""&". Digite CERO si no tiene.", IF(P18>$B18," * La variable "&P$9&""&" no puede superar el Total Ambos Sexos. ","")) | CH18: =IF(AND($B18>0,OR(Q18=""))," *No olvide digitar el campo "&Q$9&""&". Niños, niñas y adolescentes. Digite CERO si no tiene.", IF(Q18>$B18," * La variable "&Q$9&""&" no puede superar el Total Ambos Sexos. ","")) | CI18: =IF(AND($D18>0,OR(R18=""))," *No olvide digitar el campo "&Q$9&""&" Gestantes. Digite CERO si no tiene.", IF(R18>$D18," * La variable "&Q$9&""&" no puede superar el Total Mujeres. ","")) | CM18: =IF(AND(D18>0,OR(J18="")),1,IF(J18>D18,1,0)) -> 0 | CN18: =IF(AND(C18>0,OR(K18="")),1,IF(K18>C18,1,0)) -> 0 | CO18: =IF(AND($B18>0,OR(L18="")),1,IF(L18>$B18,1,0)) -> 0 | CP18: =IF(AND($B18>0,OR(M18="")),1,IF(M18>$B18,1,0)) -> 0 | CQ18: =IF(AND($B18>0,OR(N18="")),1,IF(N18>$B18,1,0)) -> 0 | CR18: =IF(AND($B18>0,OR(O18="")),1,IF(O18>$B18,1,0)) -> 0 | CS18: =IF(AND($B18>0,OR(P18="")),1,IF(P18>$B18,1,0)) -> 0 | CT18: =IF(AND($B18>0,OR(Q18="")),1,IF(Q18>$B18,1,0)) -> 0 | CU18: =IF(AND($D18>0,OR(R18="")),1,IF(R18>$D18,1,0)) -> 0
A19: Competencia técnica tratamiento farmacológico / clínico / cirugía | B19: =SUM(C19:D19) -> 62 | C19: =SUM(ENERO:DICIEMBRE!C19) -> 22 | D19: =SUM(ENERO:DICIEMBRE!D19) -> 40 | E19: =SUM(ENERO:DICIEMBRE!E19) -> 38 | F19: =SUM(ENERO:DICIEMBRE!F19) -> 15 | G19: =SUM(ENERO:DICIEMBRE!G19) -> 2 | H19: =SUM(ENERO:DICIEMBRE!H19) -> 21 | I19: =SUM(ENERO:DICIEMBRE!I19) -> 3 | J19: =SUM(ENERO:DICIEMBRE!J19) -> 0 | ... R19: =SUM(ENERO:DICIEMBRE!R19) -> 0 | S19: =CA19&CB19&CC19&CD19&CE19&CF19&CG19&CH19&CI19 | CA19: =IF(AND(D19>0,J19=""),"*No olvide digitar el campo TRANS Masculino (Digite CERO si no tiene).", IF(J19>D19," * El Número de TRANS Masculino no puede superar el Total Mujeres. ","")) | CB19: =IF(AND(C19>0,OR(K19=""))," *No olvide digitar el campo TRANS Femenino (Digite CERO si no tiene).",IF(K19>$C19," * El Número de TRANS Femenino no puede superar el Total Hombres. ","")) | CC19: =IF(AND($B19>0,OR(L19=""))," *No olvide digitar el campo "&L$9&""&". Digite CERO si no tiene.", IF(L19>$B19," * La variable "&L$9&""&" no puede superar el Total Ambos Sexos. ","")) | CD19: =IF(AND($B19>0,OR(M19=""))," *No olvide digitar el campo "&M$9&""&". Digite CERO si no tiene.", IF(M19>$B19," * La variable "&M$9&""&" no puede superar el Total Ambos Sexos. ","")) | CE19: =IF(AND($B19>0,OR(N19=""))," *No olvide digitar el campo "&N$9&""&". Digite CERO si no tiene.", IF(N19>$B19," * La variable "&N$9&""&" no puede superar el Total Ambos Sexos. ","")) | CF19: =IF(AND($B19>0,OR(O19=""))," *No olvide digitar el campo "&O$9&""&". Digite CERO si no tiene.", IF(O19>$B19," * La variable "&O$9&""&" no puede superar el Total Ambos Sexos. ","")) | CG19: =IF(AND($B19>0,OR(P19=""))," *No olvide digitar el campo "&P$9&""&". Digite CERO si no tiene.", IF(P19>$B19," * La variable "&P$9&""&" no puede superar el Total Ambos Sexos. ","")) | CH19: =IF(AND($B19>0,OR(Q19=""))," *No olvide digitar el campo "&Q$9&""&". Niños, niñas y adolescentes. Digite CERO si no tiene.", IF(Q19>$B19," * La variable "&Q$9&""&" no puede superar el Total Ambos Sexos. ","")) | CI19: =IF(AND($D19>0,OR(R19=""))," *No olvide digitar el campo "&Q$9&""&" Gestantes. Digite CERO si no tiene.", IF(R19>$D19," * La variable "&Q$9&""&" no puede superar el Total Mujeres. ","")) | CM19: =IF(AND(D19>0,OR(J19="")),1,IF(J19>D19,1,0)) -> 0 | CN19: =IF(AND(C19>0,OR(K19="")),1,IF(K19>C19,1,0)) -> 0 | CO19: =IF(AND($B19>0,OR(L19="")),1,IF(L19>$B19,1,0)) -> 0 | CP19: =IF(AND($B19>0,OR(M19="")),1,IF(M19>$B19,1,0)) -> 0 | CQ19: =IF(AND($B19>0,OR(N19="")),1,IF(N19>$B19,1,0)) -> 0 | CR19: =IF(AND($B19>0,OR(O19="")),1,IF(O19>$B19,1,0)) -> 0 | CS19: =IF(AND($B19>0,OR(P19="")),1,IF(P19>$B19,1,0)) -> 0 | CT19: =IF(AND($B19>0,OR(Q19="")),1,IF(Q19>$B19,1,0)) -> 0 | CU19: =IF(AND($D19>0,OR(R19="")),1,IF(R19>$D19,1,0)) -> 0
A20: Eventos adversos | B20: =SUM(C20:D20) -> 8 | C20: =SUM(ENERO:DICIEMBRE!C20) -> 2 | D20: =SUM(ENERO:DICIEMBRE!D20) -> 6 | E20: =SUM(ENERO:DICIEMBRE!E20) -> 6 | F20: =SUM(ENERO:DICIEMBRE!F20) -> 2 | G20: =SUM(ENERO:DICIEMBRE!G20) -> 0 | H20: =SUM(ENERO:DICIEMBRE!H20) -> 2 | I20: =SUM(ENERO:DICIEMBRE!I20) -> 0 | J20: =SUM(ENERO:DICIEMBRE!J20) -> 0 | ... R20: =SUM(ENERO:DICIEMBRE!R20) -> 0 | S20: =CA20&CB20&CC20&CD20&CE20&CF20&CG20&CH20&CI20 | CA20: =IF(AND(D20>0,J20=""),"*No olvide digitar el campo TRANS Masculino (Digite CERO si no tiene).", IF(J20>D20," * El Número de TRANS Masculino no puede superar el Total Mujeres. ","")) | CB20: =IF(AND(C20>0,OR(K20=""))," *No olvide digitar el campo TRANS Femenino (Digite CERO si no tiene).",IF(K20>$C20," * El Número de TRANS Femenino no puede superar el Total Hombres. ","")) | CC20: =IF(AND($B20>0,OR(L20=""))," *No olvide digitar el campo "&L$9&""&". Digite CERO si no tiene.", IF(L20>$B20," * La variable "&L$9&""&" no puede superar el Total Ambos Sexos. ","")) | CD20: =IF(AND($B20>0,OR(M20=""))," *No olvide digitar el campo "&M$9&""&". Digite CERO si no tiene.", IF(M20>$B20," * La variable "&M$9&""&" no puede superar el Total Ambos Sexos. ","")) | CE20: =IF(AND($B20>0,OR(N20=""))," *No olvide digitar el campo "&N$9&""&". Digite CERO si no tiene.", IF(N20>$B20," * La variable "&N$9&""&" no puede superar el Total Ambos Sexos. ","")) | CF20: =IF(AND($B20>0,OR(O20=""))," *No olvide digitar el campo "&O$9&""&". Digite CERO si no tiene.", IF(O20>$B20," * La variable "&O$9&""&" no puede superar el Total Ambos Sexos. ","")) | CG20: =IF(AND($B20>0,OR(P20=""))," *No olvide digitar el campo "&P$9&""&". Digite CERO si no tiene.", IF(P20>$B20," * La variable "&P$9&""&" no puede superar el Total Ambos Sexos. ","")) | CH20: =IF(AND($B20>0,OR(Q20=""))," *No olvide digitar el campo "&Q$9&""&". Niños, niñas y adolescentes. Digite CERO si no tiene.", IF(Q20>$B20," * La variable "&Q$9&""&" no puede superar el Total Ambos Sexos. ","")) | CI20: =IF(AND($D20>0,OR(R20=""))," *No olvide digitar el campo "&Q$9&""&" Gestantes. Digite CERO si no tiene.", IF(R20>$D20," * La variable "&Q$9&""&" no puede superar el Total Mujeres. ","")) | CM20: =IF(AND(D20>0,OR(J20="")),1,IF(J20>D20,1,0)) -> 0 | CN20: =IF(AND(C20>0,OR(K20="")),1,IF(K20>C20,1,0)) -> 0 | CO20: =IF(AND($B20>0,OR(L20="")),1,IF(L20>$B20,1,0)) -> 0 | CP20: =IF(AND($B20>0,OR(M20="")),1,IF(M20>$B20,1,0)) -> 0 | CQ20: =IF(AND($B20>0,OR(N20="")),1,IF(N20>$B20,1,0)) -> 0 | CR20: =IF(AND($B20>0,OR(O20="")),1,IF(O20>$B20,1,0)) -> 0 | CS20: =IF(AND($B20>0,OR(P20="")),1,IF(P20>$B20,1,0)) -> 0 | CT20: =IF(AND($B20>0,OR(Q20="")),1,IF(Q20>$B20,1,0)) -> 0 | CU20: =IF(AND($D20>0,OR(R20="")),1,IF(R20>$D20,1,0)) -> 0
A21: Infraestructura baños públicos | B21: =SUM(C21:D21) -> 9 | C21: =SUM(ENERO:DICIEMBRE!C21) -> 1 | D21: =SUM(ENERO:DICIEMBRE!D21) -> 8 | E21: =SUM(ENERO:DICIEMBRE!E21) -> 8 | F21: =SUM(ENERO:DICIEMBRE!F21) -> 1 | G21: =SUM(ENERO:DICIEMBRE!G21) -> 0 | H21: =SUM(ENERO:DICIEMBRE!H21) -> 1 | I21: =SUM(ENERO:DICIEMBRE!I21) -> 0 | J21: =SUM(ENERO:DICIEMBRE!J21) -> 0 | ... R21: =SUM(ENERO:DICIEMBRE!R21) -> 0 | S21: =CA21&CB21&CC21&CD21&CE21&CF21&CG21&CH21&CI21 | CA21: =IF(AND(D21>0,J21=""),"*No olvide digitar el campo TRANS Masculino (Digite CERO si no tiene).", IF(J21>D21," * El Número de TRANS Masculino no puede superar el Total Mujeres. ","")) | CB21: =IF(AND(C21>0,OR(K21=""))," *No olvide digitar el campo TRANS Femenino (Digite CERO si no tiene).",IF(K21>$C21," * El Número de TRANS Femenino no puede superar el Total Hombres. ","")) | CC21: =IF(AND($B21>0,OR(L21=""))," *No olvide digitar el campo "&L$9&""&". Digite CERO si no tiene.", IF(L21>$B21," * La variable "&L$9&""&" no puede superar el Total Ambos Sexos. ","")) | CD21: =IF(AND($B21>0,OR(M21=""))," *No olvide digitar el campo "&M$9&""&". Digite CERO si no tiene.", IF(M21>$B21," * La variable "&M$9&""&" no puede superar el Total Ambos Sexos. ","")) | CE21: =IF(AND($B21>0,OR(N21=""))," *No olvide digitar el campo "&N$9&""&". Digite CERO si no tiene.", IF(N21>$B21," * La variable "&N$9&""&" no puede superar el Total Ambos Sexos. ","")) | CF21: =IF(AND($B21>0,OR(O21=""))," *No olvide digitar el campo "&O$9&""&". Digite CERO si no tiene.", IF(O21>$B21," * La variable "&O$9&""&" no puede superar el Total Ambos Sexos. ","")) | CG21: =IF(AND($B21>0,OR(P21=""))," *No olvide digitar el campo "&P$9&""&". Digite CERO si no tiene.", IF(P21>$B21," * La variable "&P$9&""&" no puede superar el Total Ambos Sexos. ","")) | CH21: =IF(AND($B21>0,OR(Q21=""))," *No olvide digitar el campo "&Q$9&""&". Niños, niñas y adolescentes. Digite CERO si no tiene.", IF(Q21>$B21," * La variable "&Q$9&""&" no puede superar el Total Ambos Sexos. ","")) | CI21: =IF(AND($D21>0,OR(R21=""))," *No olvide digitar el campo "&Q$9&""&" Gestantes. Digite CERO si no tiene.", IF(R21>$D21," * La variable "&Q$9&""&" no puede superar el Total Mujeres. ","")) | CM21: =IF(AND(D21>0,OR(J21="")),1,IF(J21>D21,1,0)) -> 0 | CN21: =IF(AND(C21>0,OR(K21="")),1,IF(K21>C21,1,0)) -> 0 | CO21: =IF(AND($B21>0,OR(L21="")),1,IF(L21>$B21,1,0)) -> 0 | CP21: =IF(AND($B21>0,OR(M21="")),1,IF(M21>$B21,1,0)) -> 0 | CQ21: =IF(AND($B21>0,OR(N21="")),1,IF(N21>$B21,1,0)) -> 0 | CR21: =IF(AND($B21>0,OR(O21="")),1,IF(O21>$B21,1,0)) -> 0 | CS21: =IF(AND($B21>0,OR(P21="")),1,IF(P21>$B21,1,0)) -> 0 | CT21: =IF(AND($B21>0,OR(Q21="")),1,IF(Q21>$B21,1,0)) -> 0 | CU21: =IF(AND($D21>0,OR(R21="")),1,IF(R21>$D21,1,0)) -> 0
A22: Infraestructura condiciones salas de espera, box de atención o sala de hospitalización | B22: =SUM(C22:D22) -> 22 | C22: =SUM(ENERO:DICIEMBRE!C22) -> 5 | D22: =SUM(ENERO:DICIEMBRE!D22) -> 17 | E22: =SUM(ENERO:DICIEMBRE!E22) -> 15 | F22: =SUM(ENERO:DICIEMBRE!F22) -> 3 | G22: =SUM(ENERO:DICIEMBRE!G22) -> 1 | H22: =SUM(ENERO:DICIEMBRE!H22) -> 6 | I22: =SUM(ENERO:DICIEMBRE!I22) -> 1 | J22: =SUM(ENERO:DICIEMBRE!J22) -> 0 | ... R22: =SUM(ENERO:DICIEMBRE!R22) -> 0 | S22: =CA22&CB22&CC22&CD22&CE22&CF22&CG22&CH22&CI22 | CA22: =IF(AND(D22>0,J22=""),"*No olvide digitar el campo TRANS Masculino (Digite CERO si no tiene).", IF(J22>D22," * El Número de TRANS Masculino no puede superar el Total Mujeres. ","")) | CB22: =IF(AND(C22>0,OR(K22=""))," *No olvide digitar el campo TRANS Femenino (Digite CERO si no tiene).",IF(K22>$C22," * El Número de TRANS Femenino no puede superar el Total Hombres. ","")) | CC22: =IF(AND($B22>0,OR(L22=""))," *No olvide digitar el campo "&L$9&""&". Digite CERO si no tiene.", IF(L22>$B22," * La variable "&L$9&""&" no puede superar el Total Ambos Sexos. ","")) | CD22: =IF(AND($B22>0,OR(M22=""))," *No olvide digitar el campo "&M$9&""&". Digite CERO si no tiene.", IF(M22>$B22," * La variable "&M$9&""&" no puede superar el Total Ambos Sexos. ","")) | CE22: =IF(AND($B22>0,OR(N22=""))," *No olvide digitar el campo "&N$9&""&". Digite CERO si no tiene.", IF(N22>$B22," * La variable "&N$9&""&" no puede superar el Total Ambos Sexos. ","")) | CF22: =IF(AND($B22>0,OR(O22=""))," *No olvide digitar el campo "&O$9&""&". Digite CERO si no tiene.", IF(O22>$B22," * La variable "&O$9&""&" no puede superar el Total Ambos Sexos. ","")) | CG22: =IF(AND($B22>0,OR(P22=""))," *No olvide digitar el campo "&P$9&""&". Digite CERO si no tiene.", IF(P22>$B22," * La variable "&P$9&""&" no puede superar el Total Ambos Sexos. ","")) | CH22: =IF(AND($B22>0,OR(Q22=""))," *No olvide digitar el campo "&Q$9&""&". Niños, niñas y adolescentes. Digite CERO si no tiene.", IF(Q22>$B22," * La variable "&Q$9&""&" no puede superar el Total Ambos Sexos. ","")) | CI22: =IF(AND($D22>0,OR(R22=""))," *No olvide digitar el campo "&Q$9&""&" Gestantes. Digite CERO si no tiene.", IF(R22>$D22," * La variable "&Q$9&""&" no puede superar el Total Mujeres. ","")) | CM22: =IF(AND(D22>0,OR(J22="")),1,IF(J22>D22,1,0)) -> 0 | CN22: =IF(AND(C22>0,OR(K22="")),1,IF(K22>C22,1,0)) -> 0 | CO22: =IF(AND($B22>0,OR(L22="")),1,IF(L22>$B22,1,0)) -> 0 | CP22: =IF(AND($B22>0,OR(M22="")),1,IF(M22>$B22,1,0)) -> 0 | CQ22: =IF(AND($B22>0,OR(N22="")),1,IF(N22>$B22,1,0)) -> 0 | CR22: =IF(AND($B22>0,OR(O22="")),1,IF(O22>$B22,1,0)) -> 0 | CS22: =IF(AND($B22>0,OR(P22="")),1,IF(P22>$B22,1,0)) -> 0 | CT22: =IF(AND($B22>0,OR(Q22="")),1,IF(Q22>$B22,1,0)) -> 0 | CU22: =IF(AND($D22>0,OR(R22="")),1,IF(R22>$D22,1,0)) -> 0
A23: Infraestructura accesibilidad universal | B23: =SUM(C23:D23) -> 3 | C23: =SUM(ENERO:DICIEMBRE!C23) -> 0 | D23: =SUM(ENERO:DICIEMBRE!D23) -> 3 | E23: =SUM(ENERO:DICIEMBRE!E23) -> 3 | F23: =SUM(ENERO:DICIEMBRE!F23) -> 0 | G23: =SUM(ENERO:DICIEMBRE!G23) -> 0 | H23: =SUM(ENERO:DICIEMBRE!H23) -> 0 | I23: =SUM(ENERO:DICIEMBRE!I23) -> 0 | J23: =SUM(ENERO:DICIEMBRE!J23) -> 0 | ... R23: =SUM(ENERO:DICIEMBRE!R23) -> 0 | S23: =CA23&CB23&CC23&CD23&CE23&CF23&CG23&CH23&CI23 | CA23: =IF(AND(D23>0,J23=""),"*No olvide digitar el campo TRANS Masculino (Digite CERO si no tiene).", IF(J23>D23," * El Número de TRANS Masculino no puede superar el Total Mujeres. ","")) | CB23: =IF(AND(C23>0,OR(K23=""))," *No olvide digitar el campo TRANS Femenino (Digite CERO si no tiene).",IF(K23>$C23," * El Número de TRANS Femenino no puede superar el Total Hombres. ","")) | CC23: =IF(AND($B23>0,OR(L23=""))," *No olvide digitar el campo "&L$9&""&". Digite CERO si no tiene.", IF(L23>$B23," * La variable "&L$9&""&" no puede superar el Total Ambos Sexos. ","")) | CD23: =IF(AND($B23>0,OR(M23=""))," *No olvide digitar el campo "&M$9&""&". Digite CERO si no tiene.", IF(M23>$B23," * La variable "&M$9&""&" no puede superar el Total Ambos Sexos. ","")) | CE23: =IF(AND($B23>0,OR(N23=""))," *No olvide digitar el campo "&N$9&""&". Digite CERO si no tiene.", IF(N23>$B23," * La variable "&N$9&""&" no puede superar el Total Ambos Sexos. ","")) | CF23: =IF(AND($B23>0,OR(O23=""))," *No olvide digitar el campo "&O$9&""&". Digite CERO si no tiene.", IF(O23>$B23," * La variable "&O$9&""&" no puede superar el Total Ambos Sexos. ","")) | CG23: =IF(AND($B23>0,OR(P23=""))," *No olvide digitar el campo "&P$9&""&". Digite CERO si no tiene.", IF(P23>$B23," * La variable "&P$9&""&" no puede superar el Total Ambos Sexos. ","")) | CH23: =IF(AND($B23>0,OR(Q23=""))," *No olvide digitar el campo "&Q$9&""&". Niños, niñas y adolescentes. Digite CERO si no tiene.", IF(Q23>$B23," * La variable "&Q$9&""&" no puede superar el Total Ambos Sexos. ","")) | CI23: =IF(AND($D23>0,OR(R23=""))," *No olvide digitar el campo "&Q$9&""&" Gestantes. Digite CERO si no tiene.", IF(R23>$D23," * La variable "&Q$9&""&" no puede superar el Total Mujeres. ","")) | CM23: =IF(AND(D23>0,OR(J23="")),1,IF(J23>D23,1,0)) -> 0 | CN23: =IF(AND(C23>0,OR(K23="")),1,IF(K23>C23,1,0)) -> 0 | CO23: =IF(AND($B23>0,OR(L23="")),1,IF(L23>$B23,1,0)) -> 0 | CP23: =IF(AND($B23>0,OR(M23="")),1,IF(M23>$B23,1,0)) -> 0 | CQ23: =IF(AND($B23>0,OR(N23="")),1,IF(N23>$B23,1,0)) -> 0 | CR23: =IF(AND($B23>0,OR(O23="")),1,IF(O23>$B23,1,0)) -> 0 | CS23: =IF(AND($B23>0,OR(P23="")),1,IF(P23>$B23,1,0)) -> 0 | CT23: =IF(AND($B23>0,OR(Q23="")),1,IF(Q23>$B23,1,0)) -> 0 | CU23: =IF(AND($D23>0,OR(R23="")),1,IF(R23>$D23,1,0)) -> 0
... A51: Incumplimiento de garantías FOFAR | B51: =SUM(C51:D51) -> 0 | C51: =SUM(ENERO:DICIEMBRE!C51) -> 0 | D51: =SUM(ENERO:DICIEMBRE!D51) -> 0 | E51: =SUM(ENERO:DICIEMBRE!E51) -> 0 | F51: =SUM(ENERO:DICIEMBRE!F51) -> 0 | G51: =SUM(ENERO:DICIEMBRE!G51) -> 0 | H51: =SUM(ENERO:DICIEMBRE!H51) -> 0 | I51: =SUM(ENERO:DICIEMBRE!I51) -> 0 | J51: =SUM(ENERO:DICIEMBRE!J51) -> 0 | ... R51: =SUM(ENERO:DICIEMBRE!R51) -> 0 | S51: =CA51&CB51&CC51&CD51&CE51&CF51&CG51&CH51&CI51 | CA51: =IF(AND(D51>0,J51=""),"*No olvide digitar el campo TRANS Masculino (Digite CERO si no tiene).", IF(J51>D51," * El Número de TRANS Masculino no puede superar el Total Mujeres. ","")) | CB51: =IF(AND(C51>0,OR(K51=""))," *No olvide digitar el campo TRANS Femenino (Digite CERO si no tiene).",IF(K51>$C51," * El Número de TRANS Femenino no puede superar el Total Hombres. ","")) | CC51: =IF(AND($B51>0,OR(L51=""))," *No olvide digitar el campo "&L$9&""&". Digite CERO si no tiene.", IF(L51>$B51," * La variable "&L$9&""&" no puede superar el Total Ambos Sexos. ","")) | CD51: =IF(AND($B51>0,OR(M51=""))," *No olvide digitar el campo "&M$9&""&". Digite CERO si no tiene.", IF(M51>$B51," * La variable "&M$9&""&" no puede superar el Total Ambos Sexos. ","")) | CE51: =IF(AND($B51>0,OR(N51=""))," *No olvide digitar el campo "&N$9&""&". Digite CERO si no tiene.", IF(N51>$B51," * La variable "&N$9&""&" no puede superar el Total Ambos Sexos. ","")) | CF51: =IF(AND($B51>0,OR(O51=""))," *No olvide digitar el campo "&O$9&""&". Digite CERO si no tiene.", IF(O51>$B51," * La variable "&O$9&""&" no puede superar el Total Ambos Sexos. ","")) | CG51: =IF(AND($B51>0,OR(P51=""))," *No olvide digitar el campo "&P$9&""&". Digite CERO si no tiene.", IF(P51>$B51," * La variable "&P$9&""&" no puede superar el Total Ambos Sexos. ","")) | CH51: =IF(AND($B51>0,OR(Q51=""))," *No olvide digitar el campo "&Q$9&""&". Niños, niñas y adolescentes. Digite CERO si no tiene.", IF(Q51>$B51," * La variable "&Q$9&""&" no puede superar el Total Ambos Sexos. ","")) | CI51: =IF(AND($D51>0,OR(R51=""))," *No olvide digitar el campo "&Q$9&""&" Gestantes. Digite CERO si no tiene.", IF(R51>$D51," * La variable "&Q$9&""&" no puede superar el Total Mujeres. ","")) | CM51: =IF(AND(D51>0,OR(J51="")),1,IF(J51>D51,1,0)) -> 0 | CN51: =IF(AND(C51>0,OR(K51="")),1,IF(K51>C51,1,0)) -> 0 | CO51: =IF(AND($B51>0,OR(L51="")),1,IF(L51>$B51,1,0)) -> 0 | CP51: =IF(AND($B51>0,OR(M51="")),1,IF(M51>$B51,1,0)) -> 0 | CQ51: =IF(AND($B51>0,OR(N51="")),1,IF(N51>$B51,1,0)) -> 0 | CR51: =IF(AND($B51>0,OR(O51="")),1,IF(O51>$B51,1,0)) -> 0 | CS51: =IF(AND($B51>0,OR(P51="")),1,IF(P51>$B51,1,0)) -> 0 | CT51: =IF(AND($B51>0,OR(Q51="")),1,IF(Q51>$B51,1,0)) -> 0 | CU51: =IF(AND($D51>0,OR(R51="")),1,IF(R51>$D51,1,0)) -> 0
A52: TOTAL CONSULTAS, FELICITACIONES O SUGERENCIAS | B52: =SUM(B53:B57) -> 58816 | C52: =SUM(C53:C57) -> 17104 | D52: =SUM(D53:D57) -> 41712 | J52: =SUM(J53:J57) -> 0 | K52: =SUM(K53:K57) -> 0 | L52: =SUM(L53:L57) -> 0 | M52: =SUM(M53:M57) -> 0 | N52: =SUM(N53:N57) -> 0 | O52: =SUM(O53:O57) -> 0 | P52: =SUM(P53:P57) -> 0 | Q52: =SUM(Q53:Q57) -> 0 | R52: =SUM(R53:R57) -> 0
A53: Consultas | B53: =SUM(C53:D53) -> 57653 | C53: =SUM(ENERO:DICIEMBRE!C53) -> 16787 | D53: =SUM(ENERO:DICIEMBRE!D53) -> 40866 | E53: =SUM(ENERO:DICIEMBRE!E53) -> 0 | F53: =SUM(ENERO:DICIEMBRE!F53) -> 0 | G53: =SUM(ENERO:DICIEMBRE!G53) -> 0 | H53: =SUM(ENERO:DICIEMBRE!H53) -> 0 | I53: =SUM(ENERO:DICIEMBRE!I53) -> 0 | J53: =SUM(ENERO:DICIEMBRE!J53) -> 0 | ... R53: =SUM(ENERO:DICIEMBRE!R53) -> 0 | S53: =CA53&CB53&CC53&CD53&CE53&CF53&CG53&CH53&CI53 | CA53: =IF(AND(D53>0,J53=""),"*No olvide digitar el campo TRANS Masculino (Digite CERO si no tiene).", IF(J53>D53," * El Número de TRANS Masculino no puede superar el Total Mujeres. ","")) | CB53: =IF(AND(C53>0,OR(K53=""))," *No olvide digitar el campo TRANS Femenino (Digite CERO si no tiene).",IF(K53>$C53," * El Número de TRANS Femenino no puede superar el Total Hombres. ","")) | CC53: =IF(AND($B53>0,OR(L53=""))," *No olvide digitar el campo "&L$9&""&". Digite CERO si no tiene.", IF(L53>$B53," * La variable "&L$9&""&" no puede superar el Total Ambos Sexos. ","")) | CD53: =IF(AND($B53>0,OR(M53=""))," *No olvide digitar el campo "&M$9&""&". Digite CERO si no tiene.", IF(M53>$B53," * La variable "&M$9&""&" no puede superar el Total Ambos Sexos. ","")) | CE53: =IF(AND($B53>0,OR(N53=""))," *No olvide digitar el campo "&N$9&""&". Digite CERO si no tiene.", IF(N53>$B53," * La variable "&N$9&""&" no puede superar el Total Ambos Sexos. ","")) | CF53: =IF(AND($B53>0,OR(O53=""))," *No olvide digitar el campo "&O$9&""&". Digite CERO si no tiene.", IF(O53>$B53," * La variable "&O$9&""&" no puede superar el Total Ambos Sexos. ","")) | CG53: =IF(AND($B53>0,OR(P53=""))," *No olvide digitar el campo "&P$9&""&". Digite CERO si no tiene.", IF(P53>$B53," * La variable "&P$9&""&" no puede superar el Total Ambos Sexos. ","")) | CH53: =IF(AND($B53>0,OR(Q53=""))," *No olvide digitar el campo "&Q$9&""&". Niños, niñas y adolescentes. Digite CERO si no tiene.", IF(Q53>$B53," * La variable "&Q$9&""&" no puede superar el Total Ambos Sexos. ","")) | CI53: =IF(AND($D53>0,OR(R53=""))," *No olvide digitar el campo "&Q$9&""&" Gestantes. Digite CERO si no tiene.", IF(R53>$D53," * La variable "&Q$9&""&" no puede superar el Total Mujeres. ","")) | CM53: =IF(AND(D53>0,OR(J53="")),1,IF(J53>D53,1,0)) -> 0 | CN53: =IF(AND(C53>0,OR(K53="")),1,IF(K53>C53,1,0)) -> 0 | CO53: =IF(AND($B53>0,OR(L53="")),1,IF(L53>$B53,1,0)) -> 0 | CP53: =IF(AND($B53>0,OR(M53="")),1,IF(M53>$B53,1,0)) -> 0 | CQ53: =IF(AND($B53>0,OR(N53="")),1,IF(N53>$B53,1,0)) -> 0 | CR53: =IF(AND($B53>0,OR(O53="")),1,IF(O53>$B53,1,0)) -> 0 | CS53: =IF(AND($B53>0,OR(P53="")),1,IF(P53>$B53,1,0)) -> 0 | CT53: =IF(AND($B53>0,OR(Q53="")),1,IF(Q53>$B53,1,0)) -> 0 | CU53: =IF(AND($D53>0,OR(R53="")),1,IF(R53>$D53,1,0)) -> 0
A54: Sugerencias | B54: =SUM(C54:D54) -> 50 | C54: =SUM(ENERO:DICIEMBRE!C54) -> 9 | D54: =SUM(ENERO:DICIEMBRE!D54) -> 41 | E54: =SUM(ENERO:DICIEMBRE!E54) -> 0 | F54: =SUM(ENERO:DICIEMBRE!F54) -> 0 | G54: =SUM(ENERO:DICIEMBRE!G54) -> 0 | H54: =SUM(ENERO:DICIEMBRE!H54) -> 0 | I54: =SUM(ENERO:DICIEMBRE!I54) -> 0 | J54: =SUM(ENERO:DICIEMBRE!J54) -> 0 | ... R54: =SUM(ENERO:DICIEMBRE!R54) -> 0 | S54: =CA54&CB54&CC54&CD54&CE54&CF54&CG54&CH54&CI54 | CA54: =IF(AND(D54>0,J54=""),"*No olvide digitar el campo TRANS Masculino (Digite CERO si no tiene).", IF(J54>D54," * El Número de TRANS Masculino no puede superar el Total Mujeres. ","")) | CB54: =IF(AND(C54>0,OR(K54=""))," *No olvide digitar el campo TRANS Femenino (Digite CERO si no tiene).",IF(K54>$C54," * El Número de TRANS Femenino no puede superar el Total Hombres. ","")) | CC54: =IF(AND($B54>0,OR(L54=""))," *No olvide digitar el campo "&L$9&""&". Digite CERO si no tiene.", IF(L54>$B54," * La variable "&L$9&""&" no puede superar el Total Ambos Sexos. ","")) | CD54: =IF(AND($B54>0,OR(M54=""))," *No olvide digitar el campo "&M$9&""&". Digite CERO si no tiene.", IF(M54>$B54," * La variable "&M$9&""&" no puede superar el Total Ambos Sexos. ","")) | CE54: =IF(AND($B54>0,OR(N54=""))," *No olvide digitar el campo "&N$9&""&". Digite CERO si no tiene.", IF(N54>$B54," * La variable "&N$9&""&" no puede superar el Total Ambos Sexos. ","")) | CF54: =IF(AND($B54>0,OR(O54=""))," *No olvide digitar el campo "&O$9&""&". Digite CERO si no tiene.", IF(O54>$B54," * La variable "&O$9&""&" no puede superar el Total Ambos Sexos. ","")) | CG54: =IF(AND($B54>0,OR(P54=""))," *No olvide digitar el campo "&P$9&""&". Digite CERO si no tiene.", IF(P54>$B54," * La variable "&P$9&""&" no puede superar el Total Ambos Sexos. ","")) | CH54: =IF(AND($B54>0,OR(Q54=""))," *No olvide digitar el campo "&Q$9&""&". Niños, niñas y adolescentes. Digite CERO si no tiene.", IF(Q54>$B54," * La variable "&Q$9&""&" no puede superar el Total Ambos Sexos. ","")) | CI54: =IF(AND($D54>0,OR(R54=""))," *No olvide digitar el campo "&Q$9&""&" Gestantes. Digite CERO si no tiene.", IF(R54>$D54," * La variable "&Q$9&""&" no puede superar el Total Mujeres. ","")) | CM54: =IF(AND(D54>0,OR(J54="")),1,IF(J54>D54,1,0)) -> 0 | CN54: =IF(AND(C54>0,OR(K54="")),1,IF(K54>C54,1,0)) -> 0 | CO54: =IF(AND($B54>0,OR(L54="")),1,IF(L54>$B54,1,0)) -> 0 | CP54: =IF(AND($B54>0,OR(M54="")),1,IF(M54>$B54,1,0)) -> 0 | CQ54: =IF(AND($B54>0,OR(N54="")),1,IF(N54>$B54,1,0)) -> 0 | CR54: =IF(AND($B54>0,OR(O54="")),1,IF(O54>$B54,1,0)) -> 0 | CS54: =IF(AND($B54>0,OR(P54="")),1,IF(P54>$B54,1,0)) -> 0 | CT54: =IF(AND($B54>0,OR(Q54="")),1,IF(Q54>$B54,1,0)) -> 0 | CU54: =IF(AND($D54>0,OR(R54="")),1,IF(R54>$D54,1,0)) -> 0
A55: Felicitaciones | B55: =SUM(C55:D55) -> 763 | C55: =SUM(ENERO:DICIEMBRE!C55) -> 193 | D55: =SUM(ENERO:DICIEMBRE!D55) -> 570 | E55: =SUM(ENERO:DICIEMBRE!E55) -> 0 | F55: =SUM(ENERO:DICIEMBRE!F55) -> 0 | G55: =SUM(ENERO:DICIEMBRE!G55) -> 0 | H55: =SUM(ENERO:DICIEMBRE!H55) -> 0 | I55: =SUM(ENERO:DICIEMBRE!I55) -> 0 | J55: =SUM(ENERO:DICIEMBRE!J55) -> 0 | ... R55: =SUM(ENERO:DICIEMBRE!R55) -> 0 | S55: =CA55&CB55&CC55&CD55&CE55&CF55&CG55&CH55&CI55 | CA55: =IF(AND(D55>0,J55=""),"*No olvide digitar el campo TRANS Masculino (Digite CERO si no tiene).", IF(J55>D55," * El Número de TRANS Masculino no puede superar el Total Mujeres. ","")) | CB55: =IF(AND(C55>0,OR(K55=""))," *No olvide digitar el campo TRANS Femenino (Digite CERO si no tiene).",IF(K55>$C55," * El Número de TRANS Femenino no puede superar el Total Hombres. ","")) | CC55: =IF(AND($B55>0,OR(L55=""))," *No olvide digitar el campo "&L$9&""&". Digite CERO si no tiene.", IF(L55>$B55," * La variable "&L$9&""&" no puede superar el Total Ambos Sexos. ","")) | CD55: =IF(AND($B55>0,OR(M55=""))," *No olvide digitar el campo "&M$9&""&". Digite CERO si no tiene.", IF(M55>$B55," * La variable "&M$9&""&" no puede superar el Total Ambos Sexos. ","")) | CE55: =IF(AND($B55>0,OR(N55=""))," *No olvide digitar el campo "&N$9&""&". Digite CERO si no tiene.", IF(N55>$B55," * La variable "&N$9&""&" no puede superar el Total Ambos Sexos. ","")) | CF55: =IF(AND($B55>0,OR(O55=""))," *No olvide digitar el campo "&O$9&""&". Digite CERO si no tiene.", IF(O55>$B55," * La variable "&O$9&""&" no puede superar el Total Ambos Sexos. ","")) | CG55: =IF(AND($B55>0,OR(P55=""))," *No olvide digitar el campo "&P$9&""&". Digite CERO si no tiene.", IF(P55>$B55," * La variable "&P$9&""&" no puede superar el Total Ambos Sexos. ","")) | CH55: =IF(AND($B55>0,OR(Q55=""))," *No olvide digitar el campo "&Q$9&""&". Niños, niñas y adolescentes. Digite CERO si no tiene.", IF(Q55>$B55," * La variable "&Q$9&""&" no puede superar el Total Ambos Sexos. ","")) | CI55: =IF(AND($D55>0,OR(R55=""))," *No olvide digitar el campo "&Q$9&""&" Gestantes. Digite CERO si no tiene.", IF(R55>$D55," * La variable "&Q$9&""&" no puede superar el Total Mujeres. ","")) | CM55: =IF(AND(D55>0,OR(J55="")),1,IF(J55>D55,1,0)) -> 0 | CN55: =IF(AND(C55>0,OR(K55="")),1,IF(K55>C55,1,0)) -> 0 | CO55: =IF(AND($B55>0,OR(L55="")),1,IF(L55>$B55,1,0)) -> 0 | CP55: =IF(AND($B55>0,OR(M55="")),1,IF(M55>$B55,1,0)) -> 0 | CQ55: =IF(AND($B55>0,OR(N55="")),1,IF(N55>$B55,1,0)) -> 0 | CR55: =IF(AND($B55>0,OR(O55="")),1,IF(O55>$B55,1,0)) -> 0 | CS55: =IF(AND($B55>0,OR(P55="")),1,IF(P55>$B55,1,0)) -> 0 | CT55: =IF(AND($B55>0,OR(Q55="")),1,IF(Q55>$B55,1,0)) -> 0 | CU55: =IF(AND($D55>0,OR(R55="")),1,IF(R55>$D55,1,0)) -> 0
A56: Solicitudes | B56: =SUM(C56:D56) -> 223 | C56: =SUM(ENERO:DICIEMBRE!C56) -> 71 | D56: =SUM(ENERO:DICIEMBRE!D56) -> 152 | E56: =SUM(ENERO:DICIEMBRE!E56) -> 0 | F56: =SUM(ENERO:DICIEMBRE!F56) -> 0 | G56: =SUM(ENERO:DICIEMBRE!G56) -> 0 | H56: =SUM(ENERO:DICIEMBRE!H56) -> 0 | I56: =SUM(ENERO:DICIEMBRE!I56) -> 0 | J56: =SUM(ENERO:DICIEMBRE!J56) -> 0 | ... R56: =SUM(ENERO:DICIEMBRE!R56) -> 0 | S56: =CA56&CB56&CC56&CD56&CE56&CF56&CG56&CH56&CI56 | CA56: =IF(AND(D56>0,J56=""),"*No olvide digitar el campo TRANS Masculino (Digite CERO si no tiene).", IF(J56>D56," * El Número de TRANS Masculino no puede superar el Total Mujeres. ","")) | CB56: =IF(AND(C56>0,OR(K56=""))," *No olvide digitar el campo TRANS Femenino (Digite CERO si no tiene).",IF(K56>$C56," * El Número de TRANS Femenino no puede superar el Total Hombres. ","")) | CC56: =IF(AND($B56>0,OR(L56=""))," *No olvide digitar el campo "&L$9&""&". Digite CERO si no tiene.", IF(L56>$B56," * La variable "&L$9&""&" no puede superar el Total Ambos Sexos. ","")) | CD56: =IF(AND($B56>0,OR(M56=""))," *No olvide digitar el campo "&M$9&""&". Digite CERO si no tiene.", IF(M56>$B56," * La variable "&M$9&""&" no puede superar el Total Ambos Sexos. ","")) | CE56: =IF(AND($B56>0,OR(N56=""))," *No olvide digitar el campo "&N$9&""&". Digite CERO si no tiene.", IF(N56>$B56," * La variable "&N$9&""&" no puede superar el Total Ambos Sexos. ","")) | CF56: =IF(AND($B56>0,OR(O56=""))," *No olvide digitar el campo "&O$9&""&". Digite CERO si no tiene.", IF(O56>$B56," * La variable "&O$9&""&" no puede superar el Total Ambos Sexos. ","")) | CG56: =IF(AND($B56>0,OR(P56=""))," *No olvide digitar el campo "&P$9&""&". Digite CERO si no tiene.", IF(P56>$B56," * La variable "&P$9&""&" no puede superar el Total Ambos Sexos. ","")) | CH56: =IF(AND($B56>0,OR(Q56=""))," *No olvide digitar el campo "&Q$9&""&". Niños, niñas y adolescentes. Digite CERO si no tiene.", IF(Q56>$B56," * La variable "&Q$9&""&" no puede superar el Total Ambos Sexos. ","")) | CI56: =IF(AND($D56>0,OR(R56=""))," *No olvide digitar el campo "&Q$9&""&" Gestantes. Digite CERO si no tiene.", IF(R56>$D56," * La variable "&Q$9&""&" no puede superar el Total Mujeres. ","")) | CM56: =IF(AND(D56>0,OR(J56="")),1,IF(J56>D56,1,0)) -> 0 | CN56: =IF(AND(C56>0,OR(K56="")),1,IF(K56>C56,1,0)) -> 0 | CO56: =IF(AND($B56>0,OR(L56="")),1,IF(L56>$B56,1,0)) -> 0 | CP56: =IF(AND($B56>0,OR(M56="")),1,IF(M56>$B56,1,0)) -> 0 | CQ56: =IF(AND($B56>0,OR(N56="")),1,IF(N56>$B56,1,0)) -> 0 | CR56: =IF(AND($B56>0,OR(O56="")),1,IF(O56>$B56,1,0)) -> 0 | CS56: =IF(AND($B56>0,OR(P56="")),1,IF(P56>$B56,1,0)) -> 0 | CT56: =IF(AND($B56>0,OR(Q56="")),1,IF(Q56>$B56,1,0)) -> 0 | CU56: =IF(AND($D56>0,OR(R56="")),1,IF(R56>$D56,1,0)) -> 0
A57: Solicitudes Ley 20.285 (Ley de Transparencia) | B57: =SUM(C57:D57) -> 127 | C57: =SUM(ENERO:DICIEMBRE!C57) -> 44 | D57: =SUM(ENERO:DICIEMBRE!D57) -> 83 | E57: =SUM(ENERO:DICIEMBRE!E57) -> 0 | F57: =SUM(ENERO:DICIEMBRE!F57) -> 0 | G57: =SUM(ENERO:DICIEMBRE!G57) -> 0 | H57: =SUM(ENERO:DICIEMBRE!H57) -> 0 | I57: =SUM(ENERO:DICIEMBRE!I57) -> 0 | J57: =SUM(ENERO:DICIEMBRE!J57) -> 0 | ... R57: =SUM(ENERO:DICIEMBRE!R57) -> 0 | S57: =CA57&CB57&CC57&CD57&CE57&CF57&CG57&CH57&CI57 | CA57: =IF(AND(D57>0,J57=""),"*No olvide digitar el campo TRANS Masculino (Digite CERO si no tiene).", IF(J57>D57," * El Número de TRANS Masculino no puede superar el Total Mujeres. ","")) | CB57: =IF(AND(C57>0,OR(K57=""))," *No olvide digitar el campo TRANS Femenino (Digite CERO si no tiene).",IF(K57>$C57," * El Número de TRANS Femenino no puede superar el Total Hombres. ","")) | CC57: =IF(AND($B57>0,OR(L57=""))," *No olvide digitar el campo "&L$9&""&". Digite CERO si no tiene.", IF(L57>$B57," * La variable "&L$9&""&" no puede superar el Total Ambos Sexos. ","")) | CD57: =IF(AND($B57>0,OR(M57=""))," *No olvide digitar el campo "&M$9&""&". Digite CERO si no tiene.", IF(M57>$B57," * La variable "&M$9&""&" no puede superar el Total Ambos Sexos. ","")) | CE57: =IF(AND($B57>0,OR(N57=""))," *No olvide digitar el campo "&N$9&""&". Digite CERO si no tiene.", IF(N57>$B57," * La variable "&N$9&""&" no puede superar el Total Ambos Sexos. ","")) | CF57: =IF(AND($B57>0,OR(O57=""))," *No olvide digitar el campo "&O$9&""&". Digite CERO si no tiene.", IF(O57>$B57," * La variable "&O$9&""&" no puede superar el Total Ambos Sexos. ","")) | CG57: =IF(AND($B57>0,OR(P57=""))," *No olvide digitar el campo "&P$9&""&". Digite CERO si no tiene.", IF(P57>$B57," * La variable "&P$9&""&" no puede superar el Total Ambos Sexos. ","")) | CH57: =IF(AND($B57>0,OR(Q57=""))," *No olvide digitar el campo "&Q$9&""&". Niños, niñas y adolescentes. Digite CERO si no tiene.", IF(Q57>$B57," * La variable "&Q$9&""&" no puede superar el Total Ambos Sexos. ","")) | CI57: =IF(AND($D57>0,OR(R57=""))," *No olvide digitar el campo "&Q$9&""&" Gestantes. Digite CERO si no tiene.", IF(R57>$D57," * La variable "&Q$9&""&" no puede superar el Total Mujeres. ","")) | CM57: =IF(AND(D57>0,OR(J57="")),1,IF(J57>D57,1,0)) -> 0 | CN57: =IF(AND(C57>0,OR(K57="")),1,IF(K57>C57,1,0)) -> 0 | CO57: =IF(AND($B57>0,OR(L57="")),1,IF(L57>$B57,1,0)) -> 0 | CP57: =IF(AND($B57>0,OR(M57="")),1,IF(M57>$B57,1,0)) -> 0 | CQ57: =IF(AND($B57>0,OR(N57="")),1,IF(N57>$B57,1,0)) -> 0 | CR57: =IF(AND($B57>0,OR(O57="")),1,IF(O57>$B57,1,0)) -> 0 | CS57: =IF(AND($B57>0,OR(P57="")),1,IF(P57>$B57,1,0)) -> 0 | CT57: =IF(AND($B57>0,OR(Q57="")),1,IF(Q57>$B57,1,0)) -> 0 | CU57: =IF(AND($D57>0,OR(R57="")),1,IF(R57>$D57,1,0)) -> 0
A58: SECCIÓN B: ACTIVIDADES DE PARTICIPACIÓN SOCIAL
A59: SECCIÓN B.1: ACTIVIDADES SEGÚN INSTANCIAS DE PARTICIPACIÓN SOCIAL
A60: TIPO DE ACTIVIDADES | B60: TOTAL | C60: INSTANCIAS DE PARTICIPACIÓN SOCIAL | M60: Uso de TICS y/o Redes Sociales | N60: PARTICIPANTES
C61: Consejos de la Sociedad Civil (COSOC) | D61: Instancias de participación de Adolescentes y Jóvenes | E61: Consejos Consultivos de Usuarios | F61: Consejo de Desarrollo Local | G61: Consejo de Integración de la Red Asistencial (CIRA) | H61: Comités o Mesas de Trabajo | I61: Cabildos Ciudadanos Territoriales y Sectoriales | J61: Instancias de Participación Indígena en Salud | K61: Consejo Interreligioso | L61: Otras Instancias de participación | N61: Total Ambos Sexos | O61: Hombres | P61: Mujeres | Q61: Trans Masculino | R61: Trans Femenina | S61: No Binarie | T61: No revelado | U61: Pueblos Originarios | V61: Migrantes | W61: PRAIS
A62: Administración y/o gestión | B62: =SUM(C62:L62) -> 0 | C62: =SUM(ENERO:DICIEMBRE!C62) -> 0 | D62: =SUM(ENERO:DICIEMBRE!D62) -> 0 | E62: =SUM(ENERO:DICIEMBRE!E62) -> 0 | F62: =SUM(ENERO:DICIEMBRE!F62) -> 0 | G62: =SUM(ENERO:DICIEMBRE!G62) -> 0 | H62: =SUM(ENERO:DICIEMBRE!H62) -> 0 | I62: =SUM(ENERO:DICIEMBRE!I62) -> 0 | J62: =SUM(ENERO:DICIEMBRE!J62) -> 0 | ... M62: =SUM(ENERO:DICIEMBRE!M62) -> 0 | N62: =SUM(O62:P62) -> 0 | O62: =SUM(ENERO:DICIEMBRE!O62) -> 0 | P62: =SUM(ENERO:DICIEMBRE!P62) -> 0 | Q62: =SUM(ENERO:DICIEMBRE!Q62) -> 0 | R62: =SUM(ENERO:DICIEMBRE!R62) -> 0 | S62: =SUM(ENERO:DICIEMBRE!S62) -> 0 | T62: =SUM(ENERO:DICIEMBRE!T62) -> 0 | U62: =SUM(ENERO:DICIEMBRE!U62) -> 0 | V62: =SUM(ENERO:DICIEMBRE!V62) -> 0 | W62: =SUM(ENERO:DICIEMBRE!W62) -> 0 | X62: =CA62&CB62&CC62&CD62&CE62&CF62&CG62 | CA62: =IF(AND(P62>0,Q62=""),"*No olvide digitar el campo "&Q$61&""&". Digite CERO si no tiene.", IF(Q62>P62," * El Número de "&Q$61&""&" no puede superar el Total Mujeres. ","")) | CB62: =IF(AND(O62>0,R62=""),"*No olvide digitar el campo "&R$61&""&". Digite CERO si no tiene.", IF(R62>O62," * El Número de "&R$61&""&" no puede superar el Total hOMBRES. ","")) | CC62: =IF(AND($N62>0,S62=""),"*No olvide digitar el campo "&S$61&""&". Digite CERO si no tiene.", IF(S62>$N62," * La variable "&S$61&""&" no puede superar el Total Ambos Sexos. ","")) | CD62: =IF(AND($N62>0,T62=""),"*No olvide digitar el campo "&T$61&""&". Digite CERO si no tiene.", IF(T62>$N62," * La variable "&T$61&""&" no puede superar el Total Ambos Sexos. ","")) | CE62: =IF(AND($N62>0,U62=""),"*No olvide digitar el campo "&U$61&""&". Digite CERO si no tiene.", IF(U62>$N62," * La variable "&U$61&""&" no puede superar el Total Ambos Sexos. ","")) | CF62: =IF(AND($N62>0,V62=""),"*No olvide digitar el campo "&V$61&""&". Digite CERO si no tiene.", IF(V62>$N62," * La variable "&V$61&""&" no puede superar el Total Ambos Sexos. ","")) | CG62: =IF(AND($N62>0,W62=""),"*No olvide digitar el campo "&W$61&""&". Digite CERO si no tiene.", IF(W62>$N62," * La variable "&W$61&""&" no puede superar el Total Ambos Sexos. ","")) | CM62: =IF(AND(P62>0,OR(Q62="")),1,IF(Q62>P62,1,0)) -> 0 | CN62: =IF(AND(O62>0,OR(R62="")),1,IF(R62>O62,1,0)) -> 0 | CO62: =IF(AND($N62>0,OR(S62="")),1,IF(S62>$N62,1,0)) -> 0 | CP62: =IF(AND($N62>0,OR(T62="")),1,IF(T62>$N62,1,0)) -> 0 | CQ62: =IF(AND($N62>0,OR(U62="")),1,IF(U62>$N62,1,0)) -> 0 | CR62: =IF(AND($N62>0,OR(V62="")),1,IF(V62>$N62,1,0)) -> 0 | CS62: =IF(AND($N62>0,OR(W62="")),1,IF(W62>$N62,1,0)) -> 0
A63: Entrevistas | B63: =SUM(C63:L63) -> 0 | C63: =SUM(ENERO:DICIEMBRE!C63) -> 0 | D63: =SUM(ENERO:DICIEMBRE!D63) -> 0 | E63: =SUM(ENERO:DICIEMBRE!E63) -> 0 | F63: =SUM(ENERO:DICIEMBRE!F63) -> 0 | G63: =SUM(ENERO:DICIEMBRE!G63) -> 0 | H63: =SUM(ENERO:DICIEMBRE!H63) -> 0 | I63: =SUM(ENERO:DICIEMBRE!I63) -> 0 | J63: =SUM(ENERO:DICIEMBRE!J63) -> 0 | ... M63: =SUM(ENERO:DICIEMBRE!M63) -> 0 | N63: =SUM(O63:P63) -> 0 | O63: =SUM(ENERO:DICIEMBRE!O63) -> 0 | P63: =SUM(ENERO:DICIEMBRE!P63) -> 0 | Q63: =SUM(ENERO:DICIEMBRE!Q63) -> 0 | R63: =SUM(ENERO:DICIEMBRE!R63) -> 0 | S63: =SUM(ENERO:DICIEMBRE!S63) -> 0 | T63: =SUM(ENERO:DICIEMBRE!T63) -> 0 | U63: =SUM(ENERO:DICIEMBRE!U63) -> 0 | V63: =SUM(ENERO:DICIEMBRE!V63) -> 0 | W63: =SUM(ENERO:DICIEMBRE!W63) -> 0 | X63: =CA63&CB63&CC63&CD63&CE63&CF63&CG63 | CA63: =IF(AND(P63>0,Q63=""),"*No olvide digitar el campo "&Q$61&""&". Digite CERO si no tiene.", IF(Q63>P63," * El Número de "&Q$61&""&" no puede superar el Total Mujeres. ","")) | CB63: =IF(AND(O63>0,R63=""),"*No olvide digitar el campo "&R$61&""&". Digite CERO si no tiene.", IF(R63>O63," * El Número de "&R$61&""&" no puede superar el Total hOMBRES. ","")) | CC63: =IF(AND($N63>0,S63=""),"*No olvide digitar el campo "&S$61&""&". Digite CERO si no tiene.", IF(S63>$N63," * La variable "&S$61&""&" no puede superar el Total Ambos Sexos. ","")) | CD63: =IF(AND($N63>0,T63=""),"*No olvide digitar el campo "&T$61&""&". Digite CERO si no tiene.", IF(T63>$N63," * La variable "&T$61&""&" no puede superar el Total Ambos Sexos. ","")) | CE63: =IF(AND($N63>0,U63=""),"*No olvide digitar el campo "&U$61&""&". Digite CERO si no tiene.", IF(U63>$N63," * La variable "&U$61&""&" no puede superar el Total Ambos Sexos. ","")) | CF63: =IF(AND($N63>0,V63=""),"*No olvide digitar el campo "&V$61&""&". Digite CERO si no tiene.", IF(V63>$N63," * La variable "&V$61&""&" no puede superar el Total Ambos Sexos. ","")) | CG63: =IF(AND($N63>0,W63=""),"*No olvide digitar el campo "&W$61&""&". Digite CERO si no tiene.", IF(W63>$N63," * La variable "&W$61&""&" no puede superar el Total Ambos Sexos. ","")) | CM63: =IF(AND(P63>0,OR(Q63="")),1,IF(Q63>P63,1,0)) -> 0 | CN63: =IF(AND(O63>0,OR(R63="")),1,IF(R63>O63,1,0)) -> 0 | CO63: =IF(AND($N63>0,OR(S63="")),1,IF(S63>$N63,1,0)) -> 0 | CP63: =IF(AND($N63>0,OR(T63="")),1,IF(T63>$N63,1,0)) -> 0 | CQ63: =IF(AND($N63>0,OR(U63="")),1,IF(U63>$N63,1,0)) -> 0 | CR63: =IF(AND($N63>0,OR(V63="")),1,IF(V63>$N63,1,0)) -> 0 | CS63: =IF(AND($N63>0,OR(W63="")),1,IF(W63>$N63,1,0)) -> 0
A64: Reuniones con el intrasector | B64: =SUM(C64:L64) -> 4 | C64: =SUM(ENERO:DICIEMBRE!C64) -> 0 | D64: =SUM(ENERO:DICIEMBRE!D64) -> 0 | E64: =SUM(ENERO:DICIEMBRE!E64) -> 3 | F64: =SUM(ENERO:DICIEMBRE!F64) -> 0 | G64: =SUM(ENERO:DICIEMBRE!G64) -> 0 | H64: =SUM(ENERO:DICIEMBRE!H64) -> 0 | I64: =SUM(ENERO:DICIEMBRE!I64) -> 0 | J64: =SUM(ENERO:DICIEMBRE!J64) -> 0 | ... M64: =SUM(ENERO:DICIEMBRE!M64) -> 0 | N64: =SUM(O64:P64) -> 65 | O64: =SUM(ENERO:DICIEMBRE!O64) -> 24 | P64: =SUM(ENERO:DICIEMBRE!P64) -> 41 | Q64: =SUM(ENERO:DICIEMBRE!Q64) -> 0 | R64: =SUM(ENERO:DICIEMBRE!R64) -> 0 | S64: =SUM(ENERO:DICIEMBRE!S64) -> 0 | T64: =SUM(ENERO:DICIEMBRE!T64) -> 0 | U64: =SUM(ENERO:DICIEMBRE!U64) -> 0 | V64: =SUM(ENERO:DICIEMBRE!V64) -> 0 | W64: =SUM(ENERO:DICIEMBRE!W64) -> 0 | X64: =CA64&CB64&CC64&CD64&CE64&CF64&CG64 | CA64: =IF(AND(P64>0,Q64=""),"*No olvide digitar el campo "&Q$61&""&". Digite CERO si no tiene.", IF(Q64>P64," * El Número de "&Q$61&""&" no puede superar el Total Mujeres. ","")) | CB64: =IF(AND(O64>0,R64=""),"*No olvide digitar el campo "&R$61&""&". Digite CERO si no tiene.", IF(R64>O64," * El Número de "&R$61&""&" no puede superar el Total hOMBRES. ","")) | CC64: =IF(AND($N64>0,S64=""),"*No olvide digitar el campo "&S$61&""&". Digite CERO si no tiene.", IF(S64>$N64," * La variable "&S$61&""&" no puede superar el Total Ambos Sexos. ","")) | CD64: =IF(AND($N64>0,T64=""),"*No olvide digitar el campo "&T$61&""&". Digite CERO si no tiene.", IF(T64>$N64," * La variable "&T$61&""&" no puede superar el Total Ambos Sexos. ","")) | CE64: =IF(AND($N64>0,U64=""),"*No olvide digitar el campo "&U$61&""&". Digite CERO si no tiene.", IF(U64>$N64," * La variable "&U$61&""&" no puede superar el Total Ambos Sexos. ","")) | CF64: =IF(AND($N64>0,V64=""),"*No olvide digitar el campo "&V$61&""&". Digite CERO si no tiene.", IF(V64>$N64," * La variable "&V$61&""&" no puede superar el Total Ambos Sexos. ","")) | CG64: =IF(AND($N64>0,W64=""),"*No olvide digitar el campo "&W$61&""&". Digite CERO si no tiene.", IF(W64>$N64," * La variable "&W$61&""&" no puede superar el Total Ambos Sexos. ","")) | CM64: =IF(AND(P64>0,OR(Q64="")),1,IF(Q64>P64,1,0)) -> 0 | CN64: =IF(AND(O64>0,OR(R64="")),1,IF(R64>O64,1,0)) -> 0 | CO64: =IF(AND($N64>0,OR(S64="")),1,IF(S64>$N64,1,0)) -> 0 | CP64: =IF(AND($N64>0,OR(T64="")),1,IF(T64>$N64,1,0)) -> 0 | CQ64: =IF(AND($N64>0,OR(U64="")),1,IF(U64>$N64,1,0)) -> 0 | CR64: =IF(AND($N64>0,OR(V64="")),1,IF(V64>$N64,1,0)) -> 0 | CS64: =IF(AND($N64>0,OR(W64="")),1,IF(W64>$N64,1,0)) -> 0
A65: Reuniones con el intersector | B65: =SUM(C65:L65) -> 8 | C65: =SUM(ENERO:DICIEMBRE!C65) -> 0 | D65: =SUM(ENERO:DICIEMBRE!D65) -> 0 | E65: =SUM(ENERO:DICIEMBRE!E65) -> 3 | F65: =SUM(ENERO:DICIEMBRE!F65) -> 0 | G65: =SUM(ENERO:DICIEMBRE!G65) -> 0 | H65: =SUM(ENERO:DICIEMBRE!H65) -> 1 | I65: =SUM(ENERO:DICIEMBRE!I65) -> 0 | J65: =SUM(ENERO:DICIEMBRE!J65) -> 1 | ... M65: =SUM(ENERO:DICIEMBRE!M65) -> 0 | N65: =SUM(O65:P65) -> 390 | O65: =SUM(ENERO:DICIEMBRE!O65) -> 77 | P65: =SUM(ENERO:DICIEMBRE!P65) -> 313 | Q65: =SUM(ENERO:DICIEMBRE!Q65) -> 0 | R65: =SUM(ENERO:DICIEMBRE!R65) -> 0 | S65: =SUM(ENERO:DICIEMBRE!S65) -> 0 | T65: =SUM(ENERO:DICIEMBRE!T65) -> 0 | U65: =SUM(ENERO:DICIEMBRE!U65) -> 2 | V65: =SUM(ENERO:DICIEMBRE!V65) -> 0 | W65: =SUM(ENERO:DICIEMBRE!W65) -> 0 | X65: =CA65&CB65&CC65&CD65&CE65&CF65&CG65 | CA65: =IF(AND(P65>0,Q65=""),"*No olvide digitar el campo "&Q$61&""&". Digite CERO si no tiene.", IF(Q65>P65," * El Número de "&Q$61&""&" no puede superar el Total Mujeres. ","")) | CB65: =IF(AND(O65>0,R65=""),"*No olvide digitar el campo "&R$61&""&". Digite CERO si no tiene.", IF(R65>O65," * El Número de "&R$61&""&" no puede superar el Total hOMBRES. ","")) | CC65: =IF(AND($N65>0,S65=""),"*No olvide digitar el campo "&S$61&""&". Digite CERO si no tiene.", IF(S65>$N65," * La variable "&S$61&""&" no puede superar el Total Ambos Sexos. ","")) | CD65: =IF(AND($N65>0,T65=""),"*No olvide digitar el campo "&T$61&""&". Digite CERO si no tiene.", IF(T65>$N65," * La variable "&T$61&""&" no puede superar el Total Ambos Sexos. ","")) | CE65: =IF(AND($N65>0,U65=""),"*No olvide digitar el campo "&U$61&""&". Digite CERO si no tiene.", IF(U65>$N65," * La variable "&U$61&""&" no puede superar el Total Ambos Sexos. ","")) | CF65: =IF(AND($N65>0,V65=""),"*No olvide digitar el campo "&V$61&""&". Digite CERO si no tiene.", IF(V65>$N65," * La variable "&V$61&""&" no puede superar el Total Ambos Sexos. ","")) | CG65: =IF(AND($N65>0,W65=""),"*No olvide digitar el campo "&W$61&""&". Digite CERO si no tiene.", IF(W65>$N65," * La variable "&W$61&""&" no puede superar el Total Ambos Sexos. ","")) | CM65: =IF(AND(P65>0,OR(Q65="")),1,IF(Q65>P65,1,0)) -> 0 | CN65: =IF(AND(O65>0,OR(R65="")),1,IF(R65>O65,1,0)) -> 0 | CO65: =IF(AND($N65>0,OR(S65="")),1,IF(S65>$N65,1,0)) -> 0 | CP65: =IF(AND($N65>0,OR(T65="")),1,IF(T65>$N65,1,0)) -> 0 | CQ65: =IF(AND($N65>0,OR(U65="")),1,IF(U65>$N65,1,0)) -> 0 | CR65: =IF(AND($N65>0,OR(V65="")),1,IF(V65>$N65,1,0)) -> 0 | CS65: =IF(AND($N65>0,OR(W65="")),1,IF(W65>$N65,1,0)) -> 0
A66: Asesoría técnica | B66: =SUM(C66:L66) -> 0 | C66: =SUM(ENERO:DICIEMBRE!C66) -> 0 | D66: =SUM(ENERO:DICIEMBRE!D66) -> 0 | E66: =SUM(ENERO:DICIEMBRE!E66) -> 0 | F66: =SUM(ENERO:DICIEMBRE!F66) -> 0 | G66: =SUM(ENERO:DICIEMBRE!G66) -> 0 | H66: =SUM(ENERO:DICIEMBRE!H66) -> 0 | I66: =SUM(ENERO:DICIEMBRE!I66) -> 0 | J66: =SUM(ENERO:DICIEMBRE!J66) -> 0 | ... M66: =SUM(ENERO:DICIEMBRE!M66) -> 0 | N66: =SUM(O66:P66) -> 0 | O66: =SUM(ENERO:DICIEMBRE!O66) -> 0 | P66: =SUM(ENERO:DICIEMBRE!P66) -> 0 | Q66: =SUM(ENERO:DICIEMBRE!Q66) -> 0 | R66: =SUM(ENERO:DICIEMBRE!R66) -> 0 | S66: =SUM(ENERO:DICIEMBRE!S66) -> 0 | T66: =SUM(ENERO:DICIEMBRE!T66) -> 0 | U66: =SUM(ENERO:DICIEMBRE!U66) -> 0 | V66: =SUM(ENERO:DICIEMBRE!V66) -> 0 | W66: =SUM(ENERO:DICIEMBRE!W66) -> 0 | X66: =CA66&CB66&CC66&CD66&CE66&CF66&CG66 | CA66: =IF(AND(P66>0,Q66=""),"*No olvide digitar el campo "&Q$61&""&". Digite CERO si no tiene.", IF(Q66>P66," * El Número de "&Q$61&""&" no puede superar el Total Mujeres. ","")) | CB66: =IF(AND(O66>0,R66=""),"*No olvide digitar el campo "&R$61&""&". Digite CERO si no tiene.", IF(R66>O66," * El Número de "&R$61&""&" no puede superar el Total hOMBRES. ","")) | CC66: =IF(AND($N66>0,S66=""),"*No olvide digitar el campo "&S$61&""&". Digite CERO si no tiene.", IF(S66>$N66," * La variable "&S$61&""&" no puede superar el Total Ambos Sexos. ","")) | CD66: =IF(AND($N66>0,T66=""),"*No olvide digitar el campo "&T$61&""&". Digite CERO si no tiene.", IF(T66>$N66," * La variable "&T$61&""&" no puede superar el Total Ambos Sexos. ","")) | CE66: =IF(AND($N66>0,U66=""),"*No olvide digitar el campo "&U$61&""&". Digite CERO si no tiene.", IF(U66>$N66," * La variable "&U$61&""&" no puede superar el Total Ambos Sexos. ","")) | CF66: =IF(AND($N66>0,V66=""),"*No olvide digitar el campo "&V$61&""&". Digite CERO si no tiene.", IF(V66>$N66," * La variable "&V$61&""&" no puede superar el Total Ambos Sexos. ","")) | CG66: =IF(AND($N66>0,W66=""),"*No olvide digitar el campo "&W$61&""&". Digite CERO si no tiene.", IF(W66>$N66," * La variable "&W$61&""&" no puede superar el Total Ambos Sexos. ","")) | CM66: =IF(AND(P66>0,OR(Q66="")),1,IF(Q66>P66,1,0)) -> 0 | CN66: =IF(AND(O66>0,OR(R66="")),1,IF(R66>O66,1,0)) -> 0 | CO66: =IF(AND($N66>0,OR(S66="")),1,IF(S66>$N66,1,0)) -> 0 | CP66: =IF(AND($N66>0,OR(T66="")),1,IF(T66>$N66,1,0)) -> 0 | CQ66: =IF(AND($N66>0,OR(U66="")),1,IF(U66>$N66,1,0)) -> 0 | CR66: =IF(AND($N66>0,OR(V66="")),1,IF(V66>$N66,1,0)) -> 0 | CS66: =IF(AND($N66>0,OR(W66="")),1,IF(W66>$N66,1,0)) -> 0
A67: Jornadas de intercambio de experiencias | B67: =SUM(C67:L67) -> 0 | C67: =SUM(ENERO:DICIEMBRE!C67) -> 0 | D67: =SUM(ENERO:DICIEMBRE!D67) -> 0 | E67: =SUM(ENERO:DICIEMBRE!E67) -> 0 | F67: =SUM(ENERO:DICIEMBRE!F67) -> 0 | G67: =SUM(ENERO:DICIEMBRE!G67) -> 0 | H67: =SUM(ENERO:DICIEMBRE!H67) -> 0 | I67: =SUM(ENERO:DICIEMBRE!I67) -> 0 | J67: =SUM(ENERO:DICIEMBRE!J67) -> 0 | ... M67: =SUM(ENERO:DICIEMBRE!M67) -> 0 | N67: =SUM(O67:P67) -> 0 | O67: =SUM(ENERO:DICIEMBRE!O67) -> 0 | P67: =SUM(ENERO:DICIEMBRE!P67) -> 0 | Q67: =SUM(ENERO:DICIEMBRE!Q67) -> 0 | R67: =SUM(ENERO:DICIEMBRE!R67) -> 0 | S67: =SUM(ENERO:DICIEMBRE!S67) -> 0 | T67: =SUM(ENERO:DICIEMBRE!T67) -> 0 | U67: =SUM(ENERO:DICIEMBRE!U67) -> 0 | V67: =SUM(ENERO:DICIEMBRE!V67) -> 0 | W67: =SUM(ENERO:DICIEMBRE!W67) -> 0 | X67: =CA67&CB67&CC67&CD67&CE67&CF67&CG67 | CA67: =IF(AND(P67>0,Q67=""),"*No olvide digitar el campo "&Q$61&""&". Digite CERO si no tiene.", IF(Q67>P67," * El Número de "&Q$61&""&" no puede superar el Total Mujeres. ","")) | CB67: =IF(AND(O67>0,R67=""),"*No olvide digitar el campo "&R$61&""&". Digite CERO si no tiene.", IF(R67>O67," * El Número de "&R$61&""&" no puede superar el Total hOMBRES. ","")) | CC67: =IF(AND($N67>0,S67=""),"*No olvide digitar el campo "&S$61&""&". Digite CERO si no tiene.", IF(S67>$N67," * La variable "&S$61&""&" no puede superar el Total Ambos Sexos. ","")) | CD67: =IF(AND($N67>0,T67=""),"*No olvide digitar el campo "&T$61&""&". Digite CERO si no tiene.", IF(T67>$N67," * La variable "&T$61&""&" no puede superar el Total Ambos Sexos. ","")) | CE67: =IF(AND($N67>0,U67=""),"*No olvide digitar el campo "&U$61&""&". Digite CERO si no tiene.", IF(U67>$N67," * La variable "&U$61&""&" no puede superar el Total Ambos Sexos. ","")) | CF67: =IF(AND($N67>0,V67=""),"*No olvide digitar el campo "&V$61&""&". Digite CERO si no tiene.", IF(V67>$N67," * La variable "&V$61&""&" no puede superar el Total Ambos Sexos. ","")) | CG67: =IF(AND($N67>0,W67=""),"*No olvide digitar el campo "&W$61&""&". Digite CERO si no tiene.", IF(W67>$N67," * La variable "&W$61&""&" no puede superar el Total Ambos Sexos. ","")) | CM67: =IF(AND(P67>0,OR(Q67="")),1,IF(Q67>P67,1,0)) -> 0 | CN67: =IF(AND(O67>0,OR(R67="")),1,IF(R67>O67,1,0)) -> 0 | CO67: =IF(AND($N67>0,OR(S67="")),1,IF(S67>$N67,1,0)) -> 0 | CP67: =IF(AND($N67>0,OR(T67="")),1,IF(T67>$N67,1,0)) -> 0 | CQ67: =IF(AND($N67>0,OR(U67="")),1,IF(U67>$N67,1,0)) -> 0 | CR67: =IF(AND($N67>0,OR(V67="")),1,IF(V67>$N67,1,0)) -> 0 | CS67: =IF(AND($N67>0,OR(W67="")),1,IF(W67>$N67,1,0)) -> 0
A68: Actividades de difusión y comunicación | B68: =SUM(C68:L68) -> 1 | C68: =SUM(ENERO:DICIEMBRE!C68) -> 0 | D68: =SUM(ENERO:DICIEMBRE!D68) -> 0 | E68: =SUM(ENERO:DICIEMBRE!E68) -> 0 | F68: =SUM(ENERO:DICIEMBRE!F68) -> 0 | G68: =SUM(ENERO:DICIEMBRE!G68) -> 0 | H68: =SUM(ENERO:DICIEMBRE!H68) -> 0 | I68: =SUM(ENERO:DICIEMBRE!I68) -> 0 | J68: =SUM(ENERO:DICIEMBRE!J68) -> 1 | ... M68: =SUM(ENERO:DICIEMBRE!M68) -> 0 | N68: =SUM(O68:P68) -> 19 | O68: =SUM(ENERO:DICIEMBRE!O68) -> 0 | P68: =SUM(ENERO:DICIEMBRE!P68) -> 19 | Q68: =SUM(ENERO:DICIEMBRE!Q68) -> 0 | R68: =SUM(ENERO:DICIEMBRE!R68) -> 0 | S68: =SUM(ENERO:DICIEMBRE!S68) -> 0 | T68: =SUM(ENERO:DICIEMBRE!T68) -> 0 | U68: =SUM(ENERO:DICIEMBRE!U68) -> 0 | V68: =SUM(ENERO:DICIEMBRE!V68) -> 0 | W68: =SUM(ENERO:DICIEMBRE!W68) -> 0 | X68: =CA68&CB68&CC68&CD68&CE68&CF68&CG68 | CA68: =IF(AND(P68>0,Q68=""),"*No olvide digitar el campo "&Q$61&""&". Digite CERO si no tiene.", IF(Q68>P68," * El Número de "&Q$61&""&" no puede superar el Total Mujeres. ","")) | CB68: =IF(AND(O68>0,R68=""),"*No olvide digitar el campo "&R$61&""&". Digite CERO si no tiene.", IF(R68>O68," * El Número de "&R$61&""&" no puede superar el Total hOMBRES. ","")) | CC68: =IF(AND($N68>0,S68=""),"*No olvide digitar el campo "&S$61&""&". Digite CERO si no tiene.", IF(S68>$N68," * La variable "&S$61&""&" no puede superar el Total Ambos Sexos. ","")) | CD68: =IF(AND($N68>0,T68=""),"*No olvide digitar el campo "&T$61&""&". Digite CERO si no tiene.", IF(T68>$N68," * La variable "&T$61&""&" no puede superar el Total Ambos Sexos. ","")) | CE68: =IF(AND($N68>0,U68=""),"*No olvide digitar el campo "&U$61&""&". Digite CERO si no tiene.", IF(U68>$N68," * La variable "&U$61&""&" no puede superar el Total Ambos Sexos. ","")) | CF68: =IF(AND($N68>0,V68=""),"*No olvide digitar el campo "&V$61&""&". Digite CERO si no tiene.", IF(V68>$N68," * La variable "&V$61&""&" no puede superar el Total Ambos Sexos. ","")) | CG68: =IF(AND($N68>0,W68=""),"*No olvide digitar el campo "&W$61&""&". Digite CERO si no tiene.", IF(W68>$N68," * La variable "&W$61&""&" no puede superar el Total Ambos Sexos. ","")) | CM68: =IF(AND(P68>0,OR(Q68="")),1,IF(Q68>P68,1,0)) -> 0 | CN68: =IF(AND(O68>0,OR(R68="")),1,IF(R68>O68,1,0)) -> 0 | CO68: =IF(AND($N68>0,OR(S68="")),1,IF(S68>$N68,1,0)) -> 0 | CP68: =IF(AND($N68>0,OR(T68="")),1,IF(T68>$N68,1,0)) -> 0 | CQ68: =IF(AND($N68>0,OR(U68="")),1,IF(U68>$N68,1,0)) -> 0 | CR68: =IF(AND($N68>0,OR(V68="")),1,IF(V68>$N68,1,0)) -> 0 | CS68: =IF(AND($N68>0,OR(W68="")),1,IF(W68>$N68,1,0)) -> 0
A69: Educación y capacitación comunitaria | B69: =SUM(C69:L69) -> 0 | C69: =SUM(ENERO:DICIEMBRE!C69) -> 0 | D69: =SUM(ENERO:DICIEMBRE!D69) -> 0 | E69: =SUM(ENERO:DICIEMBRE!E69) -> 0 | F69: =SUM(ENERO:DICIEMBRE!F69) -> 0 | G69: =SUM(ENERO:DICIEMBRE!G69) -> 0 | H69: =SUM(ENERO:DICIEMBRE!H69) -> 0 | I69: =SUM(ENERO:DICIEMBRE!I69) -> 0 | J69: =SUM(ENERO:DICIEMBRE!J69) -> 0 | ... M69: =SUM(ENERO:DICIEMBRE!M69) -> 0 | N69: =SUM(O69:P69) -> 0 | O69: =SUM(ENERO:DICIEMBRE!O69) -> 0 | P69: =SUM(ENERO:DICIEMBRE!P69) -> 0 | Q69: =SUM(ENERO:DICIEMBRE!Q69) -> 0 | R69: =SUM(ENERO:DICIEMBRE!R69) -> 0 | S69: =SUM(ENERO:DICIEMBRE!S69) -> 0 | T69: =SUM(ENERO:DICIEMBRE!T69) -> 0 | U69: =SUM(ENERO:DICIEMBRE!U69) -> 0 | V69: =SUM(ENERO:DICIEMBRE!V69) -> 0 | W69: =SUM(ENERO:DICIEMBRE!W69) -> 0 | X69: =CA69&CB69&CC69&CD69&CE69&CF69&CG69 | CA69: =IF(AND(P69>0,Q69=""),"*No olvide digitar el campo "&Q$61&""&". Digite CERO si no tiene.", IF(Q69>P69," * El Número de "&Q$61&""&" no puede superar el Total Mujeres. ","")) | CB69: =IF(AND(O69>0,R69=""),"*No olvide digitar el campo "&R$61&""&". Digite CERO si no tiene.", IF(R69>O69," * El Número de "&R$61&""&" no puede superar el Total hOMBRES. ","")) | CC69: =IF(AND($N69>0,S69=""),"*No olvide digitar el campo "&S$61&""&". Digite CERO si no tiene.", IF(S69>$N69," * La variable "&S$61&""&" no puede superar el Total Ambos Sexos. ","")) | CD69: =IF(AND($N69>0,T69=""),"*No olvide digitar el campo "&T$61&""&". Digite CERO si no tiene.", IF(T69>$N69," * La variable "&T$61&""&" no puede superar el Total Ambos Sexos. ","")) | CE69: =IF(AND($N69>0,U69=""),"*No olvide digitar el campo "&U$61&""&". Digite CERO si no tiene.", IF(U69>$N69," * La variable "&U$61&""&" no puede superar el Total Ambos Sexos. ","")) | CF69: =IF(AND($N69>0,V69=""),"*No olvide digitar el campo "&V$61&""&". Digite CERO si no tiene.", IF(V69>$N69," * La variable "&V$61&""&" no puede superar el Total Ambos Sexos. ","")) | CG69: =IF(AND($N69>0,W69=""),"*No olvide digitar el campo "&W$61&""&". Digite CERO si no tiene.", IF(W69>$N69," * La variable "&W$61&""&" no puede superar el Total Ambos Sexos. ","")) | CM69: =IF(AND(P69>0,OR(Q69="")),1,IF(Q69>P69,1,0)) -> 0 | CN69: =IF(AND(O69>0,OR(R69="")),1,IF(R69>O69,1,0)) -> 0 | CO69: =IF(AND($N69>0,OR(S69="")),1,IF(S69>$N69,1,0)) -> 0 | CP69: =IF(AND($N69>0,OR(T69="")),1,IF(T69>$N69,1,0)) -> 0 | CQ69: =IF(AND($N69>0,OR(U69="")),1,IF(U69>$N69,1,0)) -> 0 | CR69: =IF(AND($N69>0,OR(V69="")),1,IF(V69>$N69,1,0)) -> 0 | CS69: =IF(AND($N69>0,OR(W69="")),1,IF(W69>$N69,1,0)) -> 0
A70: Eventos masivos (asambleas, cabildos, otros) | B70: =SUM(C70:L70) -> 0 | C70: =SUM(ENERO:DICIEMBRE!C70) -> 0 | D70: =SUM(ENERO:DICIEMBRE!D70) -> 0 | E70: =SUM(ENERO:DICIEMBRE!E70) -> 0 | F70: =SUM(ENERO:DICIEMBRE!F70) -> 0 | G70: =SUM(ENERO:DICIEMBRE!G70) -> 0 | H70: =SUM(ENERO:DICIEMBRE!H70) -> 0 | I70: =SUM(ENERO:DICIEMBRE!I70) -> 0 | J70: =SUM(ENERO:DICIEMBRE!J70) -> 0 | ... M70: =SUM(ENERO:DICIEMBRE!M70) -> 0 | N70: =SUM(O70:P70) -> 0 | O70: =SUM(ENERO:DICIEMBRE!O70) -> 0 | P70: =SUM(ENERO:DICIEMBRE!P70) -> 0 | Q70: =SUM(ENERO:DICIEMBRE!Q70) -> 0 | R70: =SUM(ENERO:DICIEMBRE!R70) -> 0 | S70: =SUM(ENERO:DICIEMBRE!S70) -> 0 | T70: =SUM(ENERO:DICIEMBRE!T70) -> 0 | U70: =SUM(ENERO:DICIEMBRE!U70) -> 0 | V70: =SUM(ENERO:DICIEMBRE!V70) -> 0 | W70: =SUM(ENERO:DICIEMBRE!W70) -> 0 | X70: =CA70&CB70&CC70&CD70&CE70&CF70&CG70 | CA70: =IF(AND(P70>0,Q70=""),"*No olvide digitar el campo "&Q$61&""&". Digite CERO si no tiene.", IF(Q70>P70," * El Número de "&Q$61&""&" no puede superar el Total Mujeres. ","")) | CB70: =IF(AND(O70>0,R70=""),"*No olvide digitar el campo "&R$61&""&". Digite CERO si no tiene.", IF(R70>O70," * El Número de "&R$61&""&" no puede superar el Total hOMBRES. ","")) | CC70: =IF(AND($N70>0,S70=""),"*No olvide digitar el campo "&S$61&""&". Digite CERO si no tiene.", IF(S70>$N70," * La variable "&S$61&""&" no puede superar el Total Ambos Sexos. ","")) | CD70: =IF(AND($N70>0,T70=""),"*No olvide digitar el campo "&T$61&""&". Digite CERO si no tiene.", IF(T70>$N70," * La variable "&T$61&""&" no puede superar el Total Ambos Sexos. ","")) | CE70: =IF(AND($N70>0,U70=""),"*No olvide digitar el campo "&U$61&""&". Digite CERO si no tiene.", IF(U70>$N70," * La variable "&U$61&""&" no puede superar el Total Ambos Sexos. ","")) | CF70: =IF(AND($N70>0,V70=""),"*No olvide digitar el campo "&V$61&""&". Digite CERO si no tiene.", IF(V70>$N70," * La variable "&V$61&""&" no puede superar el Total Ambos Sexos. ","")) | CG70: =IF(AND($N70>0,W70=""),"*No olvide digitar el campo "&W$61&""&". Digite CERO si no tiene.", IF(W70>$N70," * La variable "&W$61&""&" no puede superar el Total Ambos Sexos. ","")) | CM70: =IF(AND(P70>0,OR(Q70="")),1,IF(Q70>P70,1,0)) -> 0 | CN70: =IF(AND(O70>0,OR(R70="")),1,IF(R70>O70,1,0)) -> 0 | CO70: =IF(AND($N70>0,OR(S70="")),1,IF(S70>$N70,1,0)) -> 0 | CP70: =IF(AND($N70>0,OR(T70="")),1,IF(T70>$N70,1,0)) -> 0 | CQ70: =IF(AND($N70>0,OR(U70="")),1,IF(U70>$N70,1,0)) -> 0 | CR70: =IF(AND($N70>0,OR(V70="")),1,IF(V70>$N70,1,0)) -> 0 | CS70: =IF(AND($N70>0,OR(W70="")),1,IF(W70>$N70,1,0)) -> 0
A71: Pasantías | B71: =SUM(C71:L71) -> 0 | C71: =SUM(ENERO:DICIEMBRE!C71) -> 0 | D71: =SUM(ENERO:DICIEMBRE!D71) -> 0 | E71: =SUM(ENERO:DICIEMBRE!E71) -> 0 | F71: =SUM(ENERO:DICIEMBRE!F71) -> 0 | G71: =SUM(ENERO:DICIEMBRE!G71) -> 0 | H71: =SUM(ENERO:DICIEMBRE!H71) -> 0 | I71: =SUM(ENERO:DICIEMBRE!I71) -> 0 | J71: =SUM(ENERO:DICIEMBRE!J71) -> 0 | ... M71: =SUM(ENERO:DICIEMBRE!M71) -> 0 | N71: =SUM(O71:P71) -> 0 | O71: =SUM(ENERO:DICIEMBRE!O71) -> 0 | P71: =SUM(ENERO:DICIEMBRE!P71) -> 0 | Q71: =SUM(ENERO:DICIEMBRE!Q71) -> 0 | R71: =SUM(ENERO:DICIEMBRE!R71) -> 0 | S71: =SUM(ENERO:DICIEMBRE!S71) -> 0 | T71: =SUM(ENERO:DICIEMBRE!T71) -> 0 | U71: =SUM(ENERO:DICIEMBRE!U71) -> 0 | V71: =SUM(ENERO:DICIEMBRE!V71) -> 0 | W71: =SUM(ENERO:DICIEMBRE!W71) -> 0 | X71: =CA71&CB71&CC71&CD71&CE71&CF71&CG71 | CA71: =IF(AND(P71>0,Q71=""),"*No olvide digitar el campo "&Q$61&""&". Digite CERO si no tiene.", IF(Q71>P71," * El Número de "&Q$61&""&" no puede superar el Total Mujeres. ","")) | CB71: =IF(AND(O71>0,R71=""),"*No olvide digitar el campo "&R$61&""&". Digite CERO si no tiene.", IF(R71>O71," * El Número de "&R$61&""&" no puede superar el Total hOMBRES. ","")) | CC71: =IF(AND($N71>0,S71=""),"*No olvide digitar el campo "&S$61&""&". Digite CERO si no tiene.", IF(S71>$N71," * La variable "&S$61&""&" no puede superar el Total Ambos Sexos. ","")) | CD71: =IF(AND($N71>0,T71=""),"*No olvide digitar el campo "&T$61&""&". Digite CERO si no tiene.", IF(T71>$N71," * La variable "&T$61&""&" no puede superar el Total Ambos Sexos. ","")) | CE71: =IF(AND($N71>0,U71=""),"*No olvide digitar el campo "&U$61&""&". Digite CERO si no tiene.", IF(U71>$N71," * La variable "&U$61&""&" no puede superar el Total Ambos Sexos. ","")) | CF71: =IF(AND($N71>0,V71=""),"*No olvide digitar el campo "&V$61&""&". Digite CERO si no tiene.", IF(V71>$N71," * La variable "&V$61&""&" no puede superar el Total Ambos Sexos. ","")) | CG71: =IF(AND($N71>0,W71=""),"*No olvide digitar el campo "&W$61&""&". Digite CERO si no tiene.", IF(W71>$N71," * La variable "&W$61&""&" no puede superar el Total Ambos Sexos. ","")) | CM71: =IF(AND(P71>0,OR(Q71="")),1,IF(Q71>P71,1,0)) -> 0 | CN71: =IF(AND(O71>0,OR(R71="")),1,IF(R71>O71,1,0)) -> 0 | CO71: =IF(AND($N71>0,OR(S71="")),1,IF(S71>$N71,1,0)) -> 0 | CP71: =IF(AND($N71>0,OR(T71="")),1,IF(T71>$N71,1,0)) -> 0 | CQ71: =IF(AND($N71>0,OR(U71="")),1,IF(U71>$N71,1,0)) -> 0 | CR71: =IF(AND($N71>0,OR(V71="")),1,IF(V71>$N71,1,0)) -> 0 | CS71: =IF(AND($N71>0,OR(W71="")),1,IF(W71>$N71,1,0)) -> 0
A72: Comunidades de aprendizaje | B72: =SUM(C72:L72) -> 0 | C72: =SUM(ENERO:DICIEMBRE!C72) -> 0 | D72: =SUM(ENERO:DICIEMBRE!D72) -> 0 | E72: =SUM(ENERO:DICIEMBRE!E72) -> 0 | F72: =SUM(ENERO:DICIEMBRE!F72) -> 0 | G72: =SUM(ENERO:DICIEMBRE!G72) -> 0 | H72: =SUM(ENERO:DICIEMBRE!H72) -> 0 | I72: =SUM(ENERO:DICIEMBRE!I72) -> 0 | J72: =SUM(ENERO:DICIEMBRE!J72) -> 0 | ... M72: =SUM(ENERO:DICIEMBRE!M72) -> 0 | N72: =SUM(O72:P72) -> 0 | O72: =SUM(ENERO:DICIEMBRE!O72) -> 0 | P72: =SUM(ENERO:DICIEMBRE!P72) -> 0 | Q72: =SUM(ENERO:DICIEMBRE!Q72) -> 0 | R72: =SUM(ENERO:DICIEMBRE!R72) -> 0 | S72: =SUM(ENERO:DICIEMBRE!S72) -> 0 | T72: =SUM(ENERO:DICIEMBRE!T72) -> 0 | U72: =SUM(ENERO:DICIEMBRE!U72) -> 0 | V72: =SUM(ENERO:DICIEMBRE!V72) -> 0 | W72: =SUM(ENERO:DICIEMBRE!W72) -> 0 | X72: =CA72&CB72&CC72&CD72&CE72&CF72&CG72 | CA72: =IF(AND(P72>0,Q72=""),"*No olvide digitar el campo "&Q$61&""&". Digite CERO si no tiene.", IF(Q72>P72," * El Número de "&Q$61&""&" no puede superar el Total Mujeres. ","")) | CB72: =IF(AND(O72>0,R72=""),"*No olvide digitar el campo "&R$61&""&". Digite CERO si no tiene.", IF(R72>O72," * El Número de "&R$61&""&" no puede superar el Total hOMBRES. ","")) | CC72: =IF(AND($N72>0,S72=""),"*No olvide digitar el campo "&S$61&""&". Digite CERO si no tiene.", IF(S72>$N72," * La variable "&S$61&""&" no puede superar el Total Ambos Sexos. ","")) | CD72: =IF(AND($N72>0,T72=""),"*No olvide digitar el campo "&T$61&""&". Digite CERO si no tiene.", IF(T72>$N72," * La variable "&T$61&""&" no puede superar el Total Ambos Sexos. ","")) | CE72: =IF(AND($N72>0,U72=""),"*No olvide digitar el campo "&U$61&""&". Digite CERO si no tiene.", IF(U72>$N72," * La variable "&U$61&""&" no puede superar el Total Ambos Sexos. ","")) | CF72: =IF(AND($N72>0,V72=""),"*No olvide digitar el campo "&V$61&""&". Digite CERO si no tiene.", IF(V72>$N72," * La variable "&V$61&""&" no puede superar el Total Ambos Sexos. ","")) | CG72: =IF(AND($N72>0,W72=""),"*No olvide digitar el campo "&W$61&""&". Digite CERO si no tiene.", IF(W72>$N72," * La variable "&W$61&""&" no puede superar el Total Ambos Sexos. ","")) | CM72: =IF(AND(P72>0,OR(Q72="")),1,IF(Q72>P72,1,0)) -> 0 | CN72: =IF(AND(O72>0,OR(R72="")),1,IF(R72>O72,1,0)) -> 0 | CO72: =IF(AND($N72>0,OR(S72="")),1,IF(S72>$N72,1,0)) -> 0 | CP72: =IF(AND($N72>0,OR(T72="")),1,IF(T72>$N72,1,0)) -> 0 | CQ72: =IF(AND($N72>0,OR(U72="")),1,IF(U72>$N72,1,0)) -> 0 | CR72: =IF(AND($N72>0,OR(V72="")),1,IF(V72>$N72,1,0)) -> 0 | CS72: =IF(AND($N72>0,OR(W72="")),1,IF(W72>$N72,1,0)) -> 0
A73: Mentorías | B73: =SUM(C73:L73) -> 0 | C73: =SUM(ENERO:DICIEMBRE!C73) -> 0 | D73: =SUM(ENERO:DICIEMBRE!D73) -> 0 | E73: =SUM(ENERO:DICIEMBRE!E73) -> 0 | F73: =SUM(ENERO:DICIEMBRE!F73) -> 0 | G73: =SUM(ENERO:DICIEMBRE!G73) -> 0 | H73: =SUM(ENERO:DICIEMBRE!H73) -> 0 | I73: =SUM(ENERO:DICIEMBRE!I73) -> 0 | J73: =SUM(ENERO:DICIEMBRE!J73) -> 0 | ... M73: =SUM(ENERO:DICIEMBRE!M73) -> 0 | N73: =SUM(O73:P73) -> 0 | O73: =SUM(ENERO:DICIEMBRE!O73) -> 0 | P73: =SUM(ENERO:DICIEMBRE!P73) -> 0 | Q73: =SUM(ENERO:DICIEMBRE!Q73) -> 0 | R73: =SUM(ENERO:DICIEMBRE!R73) -> 0 | S73: =SUM(ENERO:DICIEMBRE!S73) -> 0 | T73: =SUM(ENERO:DICIEMBRE!T73) -> 0 | U73: =SUM(ENERO:DICIEMBRE!U73) -> 0 | V73: =SUM(ENERO:DICIEMBRE!V73) -> 0 | W73: =SUM(ENERO:DICIEMBRE!W73) -> 0 | X73: =CA73&CB73&CC73&CD73&CE73&CF73&CG73 | CA73: =IF(AND(P73>0,Q73=""),"*No olvide digitar el campo "&Q$61&""&". Digite CERO si no tiene.", IF(Q73>P73," * El Número de "&Q$61&""&" no puede superar el Total Mujeres. ","")) | CB73: =IF(AND(O73>0,R73=""),"*No olvide digitar el campo "&R$61&""&". Digite CERO si no tiene.", IF(R73>O73," * El Número de "&R$61&""&" no puede superar el Total hOMBRES. ","")) | CC73: =IF(AND($N73>0,S73=""),"*No olvide digitar el campo "&S$61&""&". Digite CERO si no tiene.", IF(S73>$N73," * La variable "&S$61&""&" no puede superar el Total Ambos Sexos. ","")) | CD73: =IF(AND($N73>0,T73=""),"*No olvide digitar el campo "&T$61&""&". Digite CERO si no tiene.", IF(T73>$N73," * La variable "&T$61&""&" no puede superar el Total Ambos Sexos. ","")) | CE73: =IF(AND($N73>0,U73=""),"*No olvide digitar el campo "&U$61&""&". Digite CERO si no tiene.", IF(U73>$N73," * La variable "&U$61&""&" no puede superar el Total Ambos Sexos. ","")) | CF73: =IF(AND($N73>0,V73=""),"*No olvide digitar el campo "&V$61&""&". Digite CERO si no tiene.", IF(V73>$N73," * La variable "&V$61&""&" no puede superar el Total Ambos Sexos. ","")) | CG73: =IF(AND($N73>0,W73=""),"*No olvide digitar el campo "&W$61&""&". Digite CERO si no tiene.", IF(W73>$N73," * La variable "&W$61&""&" no puede superar el Total Ambos Sexos. ","")) | CM73: =IF(AND(P73>0,OR(Q73="")),1,IF(Q73>P73,1,0)) -> 0 | CN73: =IF(AND(O73>0,OR(R73="")),1,IF(R73>O73,1,0)) -> 0 | CO73: =IF(AND($N73>0,OR(S73="")),1,IF(S73>$N73,1,0)) -> 0 | CP73: =IF(AND($N73>0,OR(T73="")),1,IF(T73>$N73,1,0)) -> 0 | CQ73: =IF(AND($N73>0,OR(U73="")),1,IF(U73>$N73,1,0)) -> 0 | CR73: =IF(AND($N73>0,OR(V73="")),1,IF(V73>$N73,1,0)) -> 0 | CS73: =IF(AND($N73>0,OR(W73="")),1,IF(W73>$N73,1,0)) -> 0
A74: TOTAL | B74: =SUM(C74:L74) -> 13 | C74: =SUM(C62:C73) -> 0 | D74: =SUM(D62:D73) -> 0 | E74: =SUM(E62:E73) -> 6 | F74: =SUM(F62:F73) -> 0 | G74: =SUM(G62:G73) -> 0 | H74: =SUM(H62:H73) -> 1 | I74: =SUM(I62:I73) -> 0 | J74: =SUM(J62:J73) -> 2 | ... M74: =SUM(M62:M73) -> 0 | N74: =SUM(O74:P74) -> 474 | O74: =SUM(O62:O73) -> 101 | P74: =SUM(P62:P73) -> 373 | Q74: =SUM(Q62:Q73) -> 0 | R74: =SUM(R62:R73) -> 0 | S74: =SUM(S62:S73) -> 0 | T74: =SUM(T62:T73) -> 0 | U74: =SUM(U62:U73) -> 2 | V74: =SUM(V62:V73) -> 0 | W74: =SUM(W62:W73) -> 0
A75: SECCIÓN B.2: TOTAL DE SESIONES SEGÚN LÍNEAS DE ACCIÓN Y PARTICIPANTES
A76: LÍNEAS DE ACCIÓN | B76: N° DE SESIONES | C76: PARTICIPANTES | M76: REPRESENTANTES
C77: Total Ambos Sexos | D77: Hombres | E77: Mujeres | F77: Trans Masculino | G77: Trans Femenina | H77: No binarie | I77: No revelado | J77: Pueblos Originarios | K77: Migrantes | L77: PRAIS | M77: Consejos de la Sociedad Civil (COSOC) | N77: Consejos Consultivos de Usuarios | O77: Consejo de Desarrollo Local (CDL) | P77: Organizaciones sociales | Q77: Instancias de Participación Indígena | R77: Consejo Interreligioso
A78: Cuentas públicas participativas | B78: =SUM(ENERO:DICIEMBRE!B78) -> 1 | C78: =SUM(D78:E78) -> 76 | D78: =SUM(ENERO:DICIEMBRE!D78) -> 23 | E78: =SUM(ENERO:DICIEMBRE!E78) -> 53 | F78: =SUM(ENERO:DICIEMBRE!F78) -> 0 | G78: =SUM(ENERO:DICIEMBRE!G78) -> 0 | H78: =SUM(ENERO:DICIEMBRE!H78) -> 0 | I78: =SUM(ENERO:DICIEMBRE!I78) -> 0 | J78: =SUM(ENERO:DICIEMBRE!J78) -> 0 | K78: =SUM(ENERO:DICIEMBRE!K78) -> 0 | ... R78: =SUM(ENERO:DICIEMBRE!R78) -> 0 | S78: =CA78&CB78&CC78&CD78&CE78&CF78&CG78 | CA78: =IF(AND(E78>0,F78=""),"*No olvide digitar el campo "&F$77&""&". Digite CERO si no tiene.", IF(F78>E78," * El Número de "&F$77&""&" no puede superar el Total Mujeres. ","")) | CB78: =IF(AND(D78>0,G78=""),"*No olvide digitar el campo "&G$77&""&". Digite CERO si no tiene.", IF(G78>D78," * El Número de "&G$77&""&" no puede superar el Total Hombres. ","")) | CC78: =IF(AND($C78>0,H78=""),"*No olvide digitar el campo "&H$77&""&". Digite CERO si no tiene.", IF(H78>$C78," * La variable "&H$77&""&" no puede superar el Total Ambos Sexos. ","")) | CD78: =IF(AND($C78>0,I78=""),"*No olvide digitar el campo "&I$77&""&". Digite CERO si no tiene.", IF(I78>$C78," * La variable "&I$77&""&" no puede superar el Total Ambos Sexos. ","")) | CE78: =IF(AND($C78>0,J78=""),"*No olvide digitar el campo "&J$77&""&". Digite CERO si no tiene.", IF(J78>$C78," * La variable "&J$77&""&" no puede superar el Total Ambos Sexos. ","")) | CF78: =IF(AND($C78>0,K78=""),"*No olvide digitar el campo "&K$77&""&". Digite CERO si no tiene.", IF(K78>$C78," * La variable "&K$77&""&" no puede superar el Total Ambos Sexos. ","")) | CG78: =IF(AND($C78>0,L78=""),"*No olvide digitar el campo "&L$77&""&". Digite CERO si no tiene.", IF(L78>$C78," * La variable "&L$77&""&" no puede superar el Total Ambos Sexos. ","")) | CM78: =IF(AND(E78>0,OR(F78="")),1,IF(F78>E78,1,0)) -> 0 | CN78: =IF(AND(D78>0,OR(G78="")),1,IF(G78>D78,1,0)) -> 0 | CO78: =IF(AND($C78>0,OR(H78="")),1,IF(H78>$C78,1,0)) -> 0 | CP78: =IF(AND($C78>0,OR(I78="")),1,IF(I78>$C78,1,0)) -> 0 | CQ78: =IF(AND($C78>0,OR(J78="")),1,IF(J78>$C78,1,0)) -> 0 | CR78: =IF(AND($C78>0,OR(K78="")),1,IF(K78>$C78,1,0)) -> 0 | CS78: =IF(AND($C78>0,OR(L78="")),1,IF(L78>$C78,1,0)) -> 0
A79: Presupuestos participativos | B79: =SUM(ENERO:DICIEMBRE!B79) -> 1 | C79: =SUM(D79:E79) -> 138 | D79: =SUM(ENERO:DICIEMBRE!D79) -> 36 | E79: =SUM(ENERO:DICIEMBRE!E79) -> 102 | F79: =SUM(ENERO:DICIEMBRE!F79) -> 0 | G79: =SUM(ENERO:DICIEMBRE!G79) -> 0 | H79: =SUM(ENERO:DICIEMBRE!H79) -> 0 | I79: =SUM(ENERO:DICIEMBRE!I79) -> 0 | J79: =SUM(ENERO:DICIEMBRE!J79) -> 0 | K79: =SUM(ENERO:DICIEMBRE!K79) -> 0 | ... R79: =SUM(ENERO:DICIEMBRE!R79) -> 0 | S79: =CA79&CB79&CC79&CD79&CE79&CF79&CG79 | CA79: =IF(AND(E79>0,F79=""),"*No olvide digitar el campo "&F$77&""&". Digite CERO si no tiene.", IF(F79>E79," * El Número de "&F$77&""&" no puede superar el Total Mujeres. ","")) | CB79: =IF(AND(D79>0,G79=""),"*No olvide digitar el campo "&G$77&""&". Digite CERO si no tiene.", IF(G79>D79," * El Número de "&G$77&""&" no puede superar el Total Hombres. ","")) | CC79: =IF(AND($C79>0,H79=""),"*No olvide digitar el campo "&H$77&""&". Digite CERO si no tiene.", IF(H79>$C79," * La variable "&H$77&""&" no puede superar el Total Ambos Sexos. ","")) | CD79: =IF(AND($C79>0,I79=""),"*No olvide digitar el campo "&I$77&""&". Digite CERO si no tiene.", IF(I79>$C79," * La variable "&I$77&""&" no puede superar el Total Ambos Sexos. ","")) | CE79: =IF(AND($C79>0,J79=""),"*No olvide digitar el campo "&J$77&""&". Digite CERO si no tiene.", IF(J79>$C79," * La variable "&J$77&""&" no puede superar el Total Ambos Sexos. ","")) | CF79: =IF(AND($C79>0,K79=""),"*No olvide digitar el campo "&K$77&""&". Digite CERO si no tiene.", IF(K79>$C79," * La variable "&K$77&""&" no puede superar el Total Ambos Sexos. ","")) | CG79: =IF(AND($C79>0,L79=""),"*No olvide digitar el campo "&L$77&""&". Digite CERO si no tiene.", IF(L79>$C79," * La variable "&L$77&""&" no puede superar el Total Ambos Sexos. ","")) | CM79: =IF(AND(E79>0,OR(F79="")),1,IF(F79>E79,1,0)) -> 0 | CN79: =IF(AND(D79>0,OR(G79="")),1,IF(G79>D79,1,0)) -> 0 | CO79: =IF(AND($C79>0,OR(H79="")),1,IF(H79>$C79,1,0)) -> 0 | CP79: =IF(AND($C79>0,OR(I79="")),1,IF(I79>$C79,1,0)) -> 0 | CQ79: =IF(AND($C79>0,OR(J79="")),1,IF(J79>$C79,1,0)) -> 0 | CR79: =IF(AND($C79>0,OR(K79="")),1,IF(K79>$C79,1,0)) -> 0 | CS79: =IF(AND($C79>0,OR(L79="")),1,IF(L79>$C79,1,0)) -> 0
A80: Consultas y/o Diálogos ciudadanos | B80: =SUM(ENERO:DICIEMBRE!B80) -> 0 | C80: =SUM(D80:E80) -> 0 | D80: =SUM(ENERO:DICIEMBRE!D80) -> 0 | E80: =SUM(ENERO:DICIEMBRE!E80) -> 0 | F80: =SUM(ENERO:DICIEMBRE!F80) -> 0 | G80: =SUM(ENERO:DICIEMBRE!G80) -> 0 | H80: =SUM(ENERO:DICIEMBRE!H80) -> 0 | I80: =SUM(ENERO:DICIEMBRE!I80) -> 0 | J80: =SUM(ENERO:DICIEMBRE!J80) -> 0 | K80: =SUM(ENERO:DICIEMBRE!K80) -> 0 | ... R80: =SUM(ENERO:DICIEMBRE!R80) -> 0 | S80: =CA80&CB80&CC80&CD80&CE80&CF80&CG80 | CA80: =IF(AND(E80>0,F80=""),"*No olvide digitar el campo "&F$77&""&". Digite CERO si no tiene.", IF(F80>E80," * El Número de "&F$77&""&" no puede superar el Total Mujeres. ","")) | CB80: =IF(AND(D80>0,G80=""),"*No olvide digitar el campo "&G$77&""&". Digite CERO si no tiene.", IF(G80>D80," * El Número de "&G$77&""&" no puede superar el Total Hombres. ","")) | CC80: =IF(AND($C80>0,H80=""),"*No olvide digitar el campo "&H$77&""&". Digite CERO si no tiene.", IF(H80>$C80," * La variable "&H$77&""&" no puede superar el Total Ambos Sexos. ","")) | CD80: =IF(AND($C80>0,I80=""),"*No olvide digitar el campo "&I$77&""&". Digite CERO si no tiene.", IF(I80>$C80," * La variable "&I$77&""&" no puede superar el Total Ambos Sexos. ","")) | CE80: =IF(AND($C80>0,J80=""),"*No olvide digitar el campo "&J$77&""&". Digite CERO si no tiene.", IF(J80>$C80," * La variable "&J$77&""&" no puede superar el Total Ambos Sexos. ","")) | CF80: =IF(AND($C80>0,K80=""),"*No olvide digitar el campo "&K$77&""&". Digite CERO si no tiene.", IF(K80>$C80," * La variable "&K$77&""&" no puede superar el Total Ambos Sexos. ","")) | CG80: =IF(AND($C80>0,L80=""),"*No olvide digitar el campo "&L$77&""&". Digite CERO si no tiene.", IF(L80>$C80," * La variable "&L$77&""&" no puede superar el Total Ambos Sexos. ","")) | CM80: =IF(AND(E80>0,OR(F80="")),1,IF(F80>E80,1,0)) -> 0 | CN80: =IF(AND(D80>0,OR(G80="")),1,IF(G80>D80,1,0)) -> 0 | CO80: =IF(AND($C80>0,OR(H80="")),1,IF(H80>$C80,1,0)) -> 0 | CP80: =IF(AND($C80>0,OR(I80="")),1,IF(I80>$C80,1,0)) -> 0 | CQ80: =IF(AND($C80>0,OR(J80="")),1,IF(J80>$C80,1,0)) -> 0 | CR80: =IF(AND($C80>0,OR(K80="")),1,IF(K80>$C80,1,0)) -> 0 | CS80: =IF(AND($C80>0,OR(L80="")),1,IF(L80>$C80,1,0)) -> 0
A81: Participación en Proyectos de Inversión | B81: =SUM(ENERO:DICIEMBRE!B81) -> 0 | C81: =SUM(D81:E81) -> 0 | D81: =SUM(ENERO:DICIEMBRE!D81) -> 0 | E81: =SUM(ENERO:DICIEMBRE!E81) -> 0 | F81: =SUM(ENERO:DICIEMBRE!F81) -> 0 | G81: =SUM(ENERO:DICIEMBRE!G81) -> 0 | H81: =SUM(ENERO:DICIEMBRE!H81) -> 0 | I81: =SUM(ENERO:DICIEMBRE!I81) -> 0 | J81: =SUM(ENERO:DICIEMBRE!J81) -> 0 | K81: =SUM(ENERO:DICIEMBRE!K81) -> 0 | ... R81: =SUM(ENERO:DICIEMBRE!R81) -> 0 | S81: =CA81&CB81&CC81&CD81&CE81&CF81&CG81 | CA81: =IF(AND(E81>0,F81=""),"*No olvide digitar el campo "&F$77&""&". Digite CERO si no tiene.", IF(F81>E81," * El Número de "&F$77&""&" no puede superar el Total Mujeres. ","")) | CB81: =IF(AND(D81>0,G81=""),"*No olvide digitar el campo "&G$77&""&". Digite CERO si no tiene.", IF(G81>D81," * El Número de "&G$77&""&" no puede superar el Total Hombres. ","")) | CC81: =IF(AND($C81>0,H81=""),"*No olvide digitar el campo "&H$77&""&". Digite CERO si no tiene.", IF(H81>$C81," * La variable "&H$77&""&" no puede superar el Total Ambos Sexos. ","")) | CD81: =IF(AND($C81>0,I81=""),"*No olvide digitar el campo "&I$77&""&". Digite CERO si no tiene.", IF(I81>$C81," * La variable "&I$77&""&" no puede superar el Total Ambos Sexos. ","")) | CE81: =IF(AND($C81>0,J81=""),"*No olvide digitar el campo "&J$77&""&". Digite CERO si no tiene.", IF(J81>$C81," * La variable "&J$77&""&" no puede superar el Total Ambos Sexos. ","")) | CF81: =IF(AND($C81>0,K81=""),"*No olvide digitar el campo "&K$77&""&". Digite CERO si no tiene.", IF(K81>$C81," * La variable "&K$77&""&" no puede superar el Total Ambos Sexos. ","")) | CG81: =IF(AND($C81>0,L81=""),"*No olvide digitar el campo "&L$77&""&". Digite CERO si no tiene.", IF(L81>$C81," * La variable "&L$77&""&" no puede superar el Total Ambos Sexos. ","")) | CM81: =IF(AND(E81>0,OR(F81="")),1,IF(F81>E81,1,0)) -> 0 | CN81: =IF(AND(D81>0,OR(G81="")),1,IF(G81>D81,1,0)) -> 0 | CO81: =IF(AND($C81>0,OR(H81="")),1,IF(H81>$C81,1,0)) -> 0 | CP81: =IF(AND($C81>0,OR(I81="")),1,IF(I81>$C81,1,0)) -> 0 | CQ81: =IF(AND($C81>0,OR(J81="")),1,IF(J81>$C81,1,0)) -> 0 | CR81: =IF(AND($C81>0,OR(K81="")),1,IF(K81>$C81,1,0)) -> 0 | CS81: =IF(AND($C81>0,OR(L81="")),1,IF(L81>$C81,1,0)) -> 0
A82: Apoyo al Voluntariado | B82: =SUM(ENERO:DICIEMBRE!B82) -> 0 | C82: =SUM(D82:E82) -> 0 | D82: =SUM(ENERO:DICIEMBRE!D82) -> 0 | E82: =SUM(ENERO:DICIEMBRE!E82) -> 0 | F82: =SUM(ENERO:DICIEMBRE!F82) -> 0 | G82: =SUM(ENERO:DICIEMBRE!G82) -> 0 | H82: =SUM(ENERO:DICIEMBRE!H82) -> 0 | I82: =SUM(ENERO:DICIEMBRE!I82) -> 0 | J82: =SUM(ENERO:DICIEMBRE!J82) -> 0 | K82: =SUM(ENERO:DICIEMBRE!K82) -> 0 | ... R82: =SUM(ENERO:DICIEMBRE!R82) -> 0 | S82: =CA82&CB82&CC82&CD82&CE82&CF82&CG82 | CA82: =IF(AND(E82>0,F82=""),"*No olvide digitar el campo "&F$77&""&". Digite CERO si no tiene.", IF(F82>E82," * El Número de "&F$77&""&" no puede superar el Total Mujeres. ","")) | CB82: =IF(AND(D82>0,G82=""),"*No olvide digitar el campo "&G$77&""&". Digite CERO si no tiene.", IF(G82>D82," * El Número de "&G$77&""&" no puede superar el Total Hombres. ","")) | CC82: =IF(AND($C82>0,H82=""),"*No olvide digitar el campo "&H$77&""&". Digite CERO si no tiene.", IF(H82>$C82," * La variable "&H$77&""&" no puede superar el Total Ambos Sexos. ","")) | CD82: =IF(AND($C82>0,I82=""),"*No olvide digitar el campo "&I$77&""&". Digite CERO si no tiene.", IF(I82>$C82," * La variable "&I$77&""&" no puede superar el Total Ambos Sexos. ","")) | CE82: =IF(AND($C82>0,J82=""),"*No olvide digitar el campo "&J$77&""&". Digite CERO si no tiene.", IF(J82>$C82," * La variable "&J$77&""&" no puede superar el Total Ambos Sexos. ","")) | CF82: =IF(AND($C82>0,K82=""),"*No olvide digitar el campo "&K$77&""&". Digite CERO si no tiene.", IF(K82>$C82," * La variable "&K$77&""&" no puede superar el Total Ambos Sexos. ","")) | CG82: =IF(AND($C82>0,L82=""),"*No olvide digitar el campo "&L$77&""&". Digite CERO si no tiene.", IF(L82>$C82," * La variable "&L$77&""&" no puede superar el Total Ambos Sexos. ","")) | CM82: =IF(AND(E82>0,OR(F82="")),1,IF(F82>E82,1,0)) -> 0 | CN82: =IF(AND(D82>0,OR(G82="")),1,IF(G82>D82,1,0)) -> 0 | CO82: =IF(AND($C82>0,OR(H82="")),1,IF(H82>$C82,1,0)) -> 0 | CP82: =IF(AND($C82>0,OR(I82="")),1,IF(I82>$C82,1,0)) -> 0 | CQ82: =IF(AND($C82>0,OR(J82="")),1,IF(J82>$C82,1,0)) -> 0 | CR82: =IF(AND($C82>0,OR(K82="")),1,IF(K82>$C82,1,0)) -> 0 | CS82: =IF(AND($C82>0,OR(L82="")),1,IF(L82>$C82,1,0)) -> 0
A83: Diagnóstico Participativo | B83: =SUM(ENERO:DICIEMBRE!B83) -> 0 | C83: =SUM(D83:E83) -> 0 | D83: =SUM(ENERO:DICIEMBRE!D83) -> 0 | E83: =SUM(ENERO:DICIEMBRE!E83) -> 0 | F83: =SUM(ENERO:DICIEMBRE!F83) -> 0 | G83: =SUM(ENERO:DICIEMBRE!G83) -> 0 | H83: =SUM(ENERO:DICIEMBRE!H83) -> 0 | I83: =SUM(ENERO:DICIEMBRE!I83) -> 0 | J83: =SUM(ENERO:DICIEMBRE!J83) -> 0 | K83: =SUM(ENERO:DICIEMBRE!K83) -> 0 | ... R83: =SUM(ENERO:DICIEMBRE!R83) -> 0 | S83: =CA83&CB83&CC83&CD83&CE83&CF83&CG83 | CA83: =IF(AND(E83>0,F83=""),"*No olvide digitar el campo "&F$77&""&". Digite CERO si no tiene.", IF(F83>E83," * El Número de "&F$77&""&" no puede superar el Total Mujeres. ","")) | CB83: =IF(AND(D83>0,G83=""),"*No olvide digitar el campo "&G$77&""&". Digite CERO si no tiene.", IF(G83>D83," * El Número de "&G$77&""&" no puede superar el Total Hombres. ","")) | CC83: =IF(AND($C83>0,H83=""),"*No olvide digitar el campo "&H$77&""&". Digite CERO si no tiene.", IF(H83>$C83," * La variable "&H$77&""&" no puede superar el Total Ambos Sexos. ","")) | CD83: =IF(AND($C83>0,I83=""),"*No olvide digitar el campo "&I$77&""&". Digite CERO si no tiene.", IF(I83>$C83," * La variable "&I$77&""&" no puede superar el Total Ambos Sexos. ","")) | CE83: =IF(AND($C83>0,J83=""),"*No olvide digitar el campo "&J$77&""&". Digite CERO si no tiene.", IF(J83>$C83," * La variable "&J$77&""&" no puede superar el Total Ambos Sexos. ","")) | CF83: =IF(AND($C83>0,K83=""),"*No olvide digitar el campo "&K$77&""&". Digite CERO si no tiene.", IF(K83>$C83," * La variable "&K$77&""&" no puede superar el Total Ambos Sexos. ","")) | CG83: =IF(AND($C83>0,L83=""),"*No olvide digitar el campo "&L$77&""&". Digite CERO si no tiene.", IF(L83>$C83," * La variable "&L$77&""&" no puede superar el Total Ambos Sexos. ","")) | CM83: =IF(AND(E83>0,OR(F83="")),1,IF(F83>E83,1,0)) -> 0 | CN83: =IF(AND(D83>0,OR(G83="")),1,IF(G83>D83,1,0)) -> 0 | CO83: =IF(AND($C83>0,OR(H83="")),1,IF(H83>$C83,1,0)) -> 0 | CP83: =IF(AND($C83>0,OR(I83="")),1,IF(I83>$C83,1,0)) -> 0 | CQ83: =IF(AND($C83>0,OR(J83="")),1,IF(J83>$C83,1,0)) -> 0 | CR83: =IF(AND($C83>0,OR(K83="")),1,IF(K83>$C83,1,0)) -> 0 | CS83: =IF(AND($C83>0,OR(L83="")),1,IF(L83>$C83,1,0)) -> 0
A84: Planificación Participativa | B84: =SUM(ENERO:DICIEMBRE!B84) -> 0 | C84: =SUM(D84:E84) -> 0 | D84: =SUM(ENERO:DICIEMBRE!D84) -> 0 | E84: =SUM(ENERO:DICIEMBRE!E84) -> 0 | F84: =SUM(ENERO:DICIEMBRE!F84) -> 0 | G84: =SUM(ENERO:DICIEMBRE!G84) -> 0 | H84: =SUM(ENERO:DICIEMBRE!H84) -> 0 | I84: =SUM(ENERO:DICIEMBRE!I84) -> 0 | J84: =SUM(ENERO:DICIEMBRE!J84) -> 0 | K84: =SUM(ENERO:DICIEMBRE!K84) -> 0 | ... R84: =SUM(ENERO:DICIEMBRE!R84) -> 0 | S84: =CA84&CB84&CC84&CD84&CE84&CF84&CG84 | CA84: =IF(AND(E84>0,F84=""),"*No olvide digitar el campo "&F$77&""&". Digite CERO si no tiene.", IF(F84>E84," * El Número de "&F$77&""&" no puede superar el Total Mujeres. ","")) | CB84: =IF(AND(D84>0,G84=""),"*No olvide digitar el campo "&G$77&""&". Digite CERO si no tiene.", IF(G84>D84," * El Número de "&G$77&""&" no puede superar el Total Hombres. ","")) | CC84: =IF(AND($C84>0,H84=""),"*No olvide digitar el campo "&H$77&""&". Digite CERO si no tiene.", IF(H84>$C84," * La variable "&H$77&""&" no puede superar el Total Ambos Sexos. ","")) | CD84: =IF(AND($C84>0,I84=""),"*No olvide digitar el campo "&I$77&""&". Digite CERO si no tiene.", IF(I84>$C84," * La variable "&I$77&""&" no puede superar el Total Ambos Sexos. ","")) | CE84: =IF(AND($C84>0,J84=""),"*No olvide digitar el campo "&J$77&""&". Digite CERO si no tiene.", IF(J84>$C84," * La variable "&J$77&""&" no puede superar el Total Ambos Sexos. ","")) | CF84: =IF(AND($C84>0,K84=""),"*No olvide digitar el campo "&K$77&""&". Digite CERO si no tiene.", IF(K84>$C84," * La variable "&K$77&""&" no puede superar el Total Ambos Sexos. ","")) | CG84: =IF(AND($C84>0,L84=""),"*No olvide digitar el campo "&L$77&""&". Digite CERO si no tiene.", IF(L84>$C84," * La variable "&L$77&""&" no puede superar el Total Ambos Sexos. ","")) | CM84: =IF(AND(E84>0,OR(F84="")),1,IF(F84>E84,1,0)) -> 0 | CN84: =IF(AND(D84>0,OR(G84="")),1,IF(G84>D84,1,0)) -> 0 | CO84: =IF(AND($C84>0,OR(H84="")),1,IF(H84>$C84,1,0)) -> 0 | CP84: =IF(AND($C84>0,OR(I84="")),1,IF(I84>$C84,1,0)) -> 0 | CQ84: =IF(AND($C84>0,OR(J84="")),1,IF(J84>$C84,1,0)) -> 0 | CR84: =IF(AND($C84>0,OR(K84="")),1,IF(K84>$C84,1,0)) -> 0 | CS84: =IF(AND($C84>0,OR(L84="")),1,IF(L84>$C84,1,0)) -> 0
A85: Ejecución Participativa | B85: =SUM(ENERO:DICIEMBRE!B85) -> 0 | C85: =SUM(D85:E85) -> 0 | D85: =SUM(ENERO:DICIEMBRE!D85) -> 0 | E85: =SUM(ENERO:DICIEMBRE!E85) -> 0 | F85: =SUM(ENERO:DICIEMBRE!F85) -> 0 | G85: =SUM(ENERO:DICIEMBRE!G85) -> 0 | H85: =SUM(ENERO:DICIEMBRE!H85) -> 0 | I85: =SUM(ENERO:DICIEMBRE!I85) -> 0 | J85: =SUM(ENERO:DICIEMBRE!J85) -> 0 | K85: =SUM(ENERO:DICIEMBRE!K85) -> 0 | ... R85: =SUM(ENERO:DICIEMBRE!R85) -> 0 | S85: =CA85&CB85&CC85&CD85&CE85&CF85&CG85 | CA85: =IF(AND(E85>0,F85=""),"*No olvide digitar el campo "&F$77&""&". Digite CERO si no tiene.", IF(F85>E85," * El Número de "&F$77&""&" no puede superar el Total Mujeres. ","")) | CB85: =IF(AND(D85>0,G85=""),"*No olvide digitar el campo "&G$77&""&". Digite CERO si no tiene.", IF(G85>D85," * El Número de "&G$77&""&" no puede superar el Total Hombres. ","")) | CC85: =IF(AND($C85>0,H85=""),"*No olvide digitar el campo "&H$77&""&". Digite CERO si no tiene.", IF(H85>$C85," * La variable "&H$77&""&" no puede superar el Total Ambos Sexos. ","")) | CD85: =IF(AND($C85>0,I85=""),"*No olvide digitar el campo "&I$77&""&". Digite CERO si no tiene.", IF(I85>$C85," * La variable "&I$77&""&" no puede superar el Total Ambos Sexos. ","")) | CE85: =IF(AND($C85>0,J85=""),"*No olvide digitar el campo "&J$77&""&". Digite CERO si no tiene.", IF(J85>$C85," * La variable "&J$77&""&" no puede superar el Total Ambos Sexos. ","")) | CF85: =IF(AND($C85>0,K85=""),"*No olvide digitar el campo "&K$77&""&". Digite CERO si no tiene.", IF(K85>$C85," * La variable "&K$77&""&" no puede superar el Total Ambos Sexos. ","")) | CG85: =IF(AND($C85>0,L85=""),"*No olvide digitar el campo "&L$77&""&". Digite CERO si no tiene.", IF(L85>$C85," * La variable "&L$77&""&" no puede superar el Total Ambos Sexos. ","")) | CM85: =IF(AND(E85>0,OR(F85="")),1,IF(F85>E85,1,0)) -> 0 | CN85: =IF(AND(D85>0,OR(G85="")),1,IF(G85>D85,1,0)) -> 0 | CO85: =IF(AND($C85>0,OR(H85="")),1,IF(H85>$C85,1,0)) -> 0 | CP85: =IF(AND($C85>0,OR(I85="")),1,IF(I85>$C85,1,0)) -> 0 | CQ85: =IF(AND($C85>0,OR(J85="")),1,IF(J85>$C85,1,0)) -> 0 | CR85: =IF(AND($C85>0,OR(K85="")),1,IF(K85>$C85,1,0)) -> 0 | CS85: =IF(AND($C85>0,OR(L85="")),1,IF(L85>$C85,1,0)) -> 0
A86: Monitoreo y/o Evaluación Participativa | B86: =SUM(ENERO:DICIEMBRE!B86) -> 0 | C86: =SUM(D86:E86) -> 0 | D86: =SUM(ENERO:DICIEMBRE!D86) -> 0 | E86: =SUM(ENERO:DICIEMBRE!E86) -> 0 | F86: =SUM(ENERO:DICIEMBRE!F86) -> 0 | G86: =SUM(ENERO:DICIEMBRE!G86) -> 0 | H86: =SUM(ENERO:DICIEMBRE!H86) -> 0 | I86: =SUM(ENERO:DICIEMBRE!I86) -> 0 | J86: =SUM(ENERO:DICIEMBRE!J86) -> 0 | K86: =SUM(ENERO:DICIEMBRE!K86) -> 0 | ... R86: =SUM(ENERO:DICIEMBRE!R86) -> 0 | S86: =CA86&CB86&CC86&CD86&CE86&CF86&CG86 | CA86: =IF(AND(E86>0,F86=""),"*No olvide digitar el campo "&F$77&""&". Digite CERO si no tiene.", IF(F86>E86," * El Número de "&F$77&""&" no puede superar el Total Mujeres. ","")) | CB86: =IF(AND(D86>0,G86=""),"*No olvide digitar el campo "&G$77&""&". Digite CERO si no tiene.", IF(G86>D86," * El Número de "&G$77&""&" no puede superar el Total Hombres. ","")) | CC86: =IF(AND($C86>0,H86=""),"*No olvide digitar el campo "&H$77&""&". Digite CERO si no tiene.", IF(H86>$C86," * La variable "&H$77&""&" no puede superar el Total Ambos Sexos. ","")) | CD86: =IF(AND($C86>0,I86=""),"*No olvide digitar el campo "&I$77&""&". Digite CERO si no tiene.", IF(I86>$C86," * La variable "&I$77&""&" no puede superar el Total Ambos Sexos. ","")) | CE86: =IF(AND($C86>0,J86=""),"*No olvide digitar el campo "&J$77&""&". Digite CERO si no tiene.", IF(J86>$C86," * La variable "&J$77&""&" no puede superar el Total Ambos Sexos. ","")) | CF86: =IF(AND($C86>0,K86=""),"*No olvide digitar el campo "&K$77&""&". Digite CERO si no tiene.", IF(K86>$C86," * La variable "&K$77&""&" no puede superar el Total Ambos Sexos. ","")) | CG86: =IF(AND($C86>0,L86=""),"*No olvide digitar el campo "&L$77&""&". Digite CERO si no tiene.", IF(L86>$C86," * La variable "&L$77&""&" no puede superar el Total Ambos Sexos. ","")) | CM86: =IF(AND(E86>0,OR(F86="")),1,IF(F86>E86,1,0)) -> 0 | CN86: =IF(AND(D86>0,OR(G86="")),1,IF(G86>D86,1,0)) -> 0 | CO86: =IF(AND($C86>0,OR(H86="")),1,IF(H86>$C86,1,0)) -> 0 | CP86: =IF(AND($C86>0,OR(I86="")),1,IF(I86>$C86,1,0)) -> 0 | CQ86: =IF(AND($C86>0,OR(J86="")),1,IF(J86>$C86,1,0)) -> 0 | CR86: =IF(AND($C86>0,OR(K86="")),1,IF(K86>$C86,1,0)) -> 0 | CS86: =IF(AND($C86>0,OR(L86="")),1,IF(L86>$C86,1,0)) -> 0
A87: Sistematización Participativa | B87: =SUM(ENERO:DICIEMBRE!B87) -> 0 | C87: =SUM(D87:E87) -> 0 | D87: =SUM(ENERO:DICIEMBRE!D87) -> 0 | E87: =SUM(ENERO:DICIEMBRE!E87) -> 0 | F87: =SUM(ENERO:DICIEMBRE!F87) -> 0 | G87: =SUM(ENERO:DICIEMBRE!G87) -> 0 | H87: =SUM(ENERO:DICIEMBRE!H87) -> 0 | I87: =SUM(ENERO:DICIEMBRE!I87) -> 0 | J87: =SUM(ENERO:DICIEMBRE!J87) -> 0 | K87: =SUM(ENERO:DICIEMBRE!K87) -> 0 | ... R87: =SUM(ENERO:DICIEMBRE!R87) -> 0 | S87: =CA87&CB87&CC87&CD87&CE87&CF87&CG87 | CA87: =IF(AND(E87>0,F87=""),"*No olvide digitar el campo "&F$77&""&". Digite CERO si no tiene.", IF(F87>E87," * El Número de "&F$77&""&" no puede superar el Total Mujeres. ","")) | CB87: =IF(AND(D87>0,G87=""),"*No olvide digitar el campo "&G$77&""&". Digite CERO si no tiene.", IF(G87>D87," * El Número de "&G$77&""&" no puede superar el Total Hombres. ","")) | CC87: =IF(AND($C87>0,H87=""),"*No olvide digitar el campo "&H$77&""&". Digite CERO si no tiene.", IF(H87>$C87," * La variable "&H$77&""&" no puede superar el Total Ambos Sexos. ","")) | CD87: =IF(AND($C87>0,I87=""),"*No olvide digitar el campo "&I$77&""&". Digite CERO si no tiene.", IF(I87>$C87," * La variable "&I$77&""&" no puede superar el Total Ambos Sexos. ","")) | CE87: =IF(AND($C87>0,J87=""),"*No olvide digitar el campo "&J$77&""&". Digite CERO si no tiene.", IF(J87>$C87," * La variable "&J$77&""&" no puede superar el Total Ambos Sexos. ","")) | CF87: =IF(AND($C87>0,K87=""),"*No olvide digitar el campo "&K$77&""&". Digite CERO si no tiene.", IF(K87>$C87," * La variable "&K$77&""&" no puede superar el Total Ambos Sexos. ","")) | CG87: =IF(AND($C87>0,L87=""),"*No olvide digitar el campo "&L$77&""&". Digite CERO si no tiene.", IF(L87>$C87," * La variable "&L$77&""&" no puede superar el Total Ambos Sexos. ","")) | CM87: =IF(AND(E87>0,OR(F87="")),1,IF(F87>E87,1,0)) -> 0 | CN87: =IF(AND(D87>0,OR(G87="")),1,IF(G87>D87,1,0)) -> 0 | CO87: =IF(AND($C87>0,OR(H87="")),1,IF(H87>$C87,1,0)) -> 0 | CP87: =IF(AND($C87>0,OR(I87="")),1,IF(I87>$C87,1,0)) -> 0 | CQ87: =IF(AND($C87>0,OR(J87="")),1,IF(J87>$C87,1,0)) -> 0 | CR87: =IF(AND($C87>0,OR(K87="")),1,IF(K87>$C87,1,0)) -> 0 | CS87: =IF(AND($C87>0,OR(L87="")),1,IF(L87>$C87,1,0)) -> 0
A88: Capacitación y/o Formación de equipos y directivos de salud | B88: =SUM(ENERO:DICIEMBRE!B88) -> 2 | C88: =SUM(D88:E88) -> 29 | D88: =SUM(ENERO:DICIEMBRE!D88) -> 8 | E88: =SUM(ENERO:DICIEMBRE!E88) -> 21 | F88: =SUM(ENERO:DICIEMBRE!F88) -> 0 | G88: =SUM(ENERO:DICIEMBRE!G88) -> 0 | H88: =SUM(ENERO:DICIEMBRE!H88) -> 0 | I88: =SUM(ENERO:DICIEMBRE!I88) -> 0 | J88: =SUM(ENERO:DICIEMBRE!J88) -> 20 | K88: =SUM(ENERO:DICIEMBRE!K88) -> 0 | ... R88: =SUM(ENERO:DICIEMBRE!R88) -> 0 | S88: =CA88&CB88&CC88&CD88&CE88&CF88&CG88 | CA88: =IF(AND(E88>0,F88=""),"*No olvide digitar el campo "&F$77&""&". Digite CERO si no tiene.", IF(F88>E88," * El Número de "&F$77&""&" no puede superar el Total Mujeres. ","")) | CB88: =IF(AND(D88>0,G88=""),"*No olvide digitar el campo "&G$77&""&". Digite CERO si no tiene.", IF(G88>D88," * El Número de "&G$77&""&" no puede superar el Total Hombres. ","")) | CC88: =IF(AND($C88>0,H88=""),"*No olvide digitar el campo "&H$77&""&". Digite CERO si no tiene.", IF(H88>$C88," * La variable "&H$77&""&" no puede superar el Total Ambos Sexos. ","")) | CD88: =IF(AND($C88>0,I88=""),"*No olvide digitar el campo "&I$77&""&". Digite CERO si no tiene.", IF(I88>$C88," * La variable "&I$77&""&" no puede superar el Total Ambos Sexos. ","")) | CE88: =IF(AND($C88>0,J88=""),"*No olvide digitar el campo "&J$77&""&". Digite CERO si no tiene.", IF(J88>$C88," * La variable "&J$77&""&" no puede superar el Total Ambos Sexos. ","")) | CF88: =IF(AND($C88>0,K88=""),"*No olvide digitar el campo "&K$77&""&". Digite CERO si no tiene.", IF(K88>$C88," * La variable "&K$77&""&" no puede superar el Total Ambos Sexos. ","")) | CG88: =IF(AND($C88>0,L88=""),"*No olvide digitar el campo "&L$77&""&". Digite CERO si no tiene.", IF(L88>$C88," * La variable "&L$77&""&" no puede superar el Total Ambos Sexos. ","")) | CM88: =IF(AND(E88>0,OR(F88="")),1,IF(F88>E88,1,0)) -> 0 | CN88: =IF(AND(D88>0,OR(G88="")),1,IF(G88>D88,1,0)) -> 0 | CO88: =IF(AND($C88>0,OR(H88="")),1,IF(H88>$C88,1,0)) -> 0 | CP88: =IF(AND($C88>0,OR(I88="")),1,IF(I88>$C88,1,0)) -> 0 | CQ88: =IF(AND($C88>0,OR(J88="")),1,IF(J88>$C88,1,0)) -> 0 | CR88: =IF(AND($C88>0,OR(K88="")),1,IF(K88>$C88,1,0)) -> 0 | CS88: =IF(AND($C88>0,OR(L88="")),1,IF(L88>$C88,1,0)) -> 0
A89: Capacitación y/o Formación de Dirigentes, Comunidad y representantes de la Sociedad Civil | B89: =SUM(ENERO:DICIEMBRE!B89) -> 0 | C89: =SUM(D89:E89) -> 0 | D89: =SUM(ENERO:DICIEMBRE!D89) -> 0 | E89: =SUM(ENERO:DICIEMBRE!E89) -> 0 | F89: =SUM(ENERO:DICIEMBRE!F89) -> 0 | G89: =SUM(ENERO:DICIEMBRE!G89) -> 0 | H89: =SUM(ENERO:DICIEMBRE!H89) -> 0 | I89: =SUM(ENERO:DICIEMBRE!I89) -> 0 | J89: =SUM(ENERO:DICIEMBRE!J89) -> 0 | K89: =SUM(ENERO:DICIEMBRE!K89) -> 0 | ... R89: =SUM(ENERO:DICIEMBRE!R89) -> 0 | S89: =CA89&CB89&CC89&CD89&CE89&CF89&CG89 | CA89: =IF(AND(E89>0,F89=""),"*No olvide digitar el campo "&F$77&""&". Digite CERO si no tiene.", IF(F89>E89," * El Número de "&F$77&""&" no puede superar el Total Mujeres. ","")) | CB89: =IF(AND(D89>0,G89=""),"*No olvide digitar el campo "&G$77&""&". Digite CERO si no tiene.", IF(G89>D89," * El Número de "&G$77&""&" no puede superar el Total Hombres. ","")) | CC89: =IF(AND($C89>0,H89=""),"*No olvide digitar el campo "&H$77&""&". Digite CERO si no tiene.", IF(H89>$C89," * La variable "&H$77&""&" no puede superar el Total Ambos Sexos. ","")) | CD89: =IF(AND($C89>0,I89=""),"*No olvide digitar el campo "&I$77&""&". Digite CERO si no tiene.", IF(I89>$C89," * La variable "&I$77&""&" no puede superar el Total Ambos Sexos. ","")) | CE89: =IF(AND($C89>0,J89=""),"*No olvide digitar el campo "&J$77&""&". Digite CERO si no tiene.", IF(J89>$C89," * La variable "&J$77&""&" no puede superar el Total Ambos Sexos. ","")) | CF89: =IF(AND($C89>0,K89=""),"*No olvide digitar el campo "&K$77&""&". Digite CERO si no tiene.", IF(K89>$C89," * La variable "&K$77&""&" no puede superar el Total Ambos Sexos. ","")) | CG89: =IF(AND($C89>0,L89=""),"*No olvide digitar el campo "&L$77&""&". Digite CERO si no tiene.", IF(L89>$C89," * La variable "&L$77&""&" no puede superar el Total Ambos Sexos. ","")) | CM89: =IF(AND(E89>0,OR(F89="")),1,IF(F89>E89,1,0)) -> 0 | CN89: =IF(AND(D89>0,OR(G89="")),1,IF(G89>D89,1,0)) -> 0 | CO89: =IF(AND($C89>0,OR(H89="")),1,IF(H89>$C89,1,0)) -> 0 | CP89: =IF(AND($C89>0,OR(I89="")),1,IF(I89>$C89,1,0)) -> 0 | CQ89: =IF(AND($C89>0,OR(J89="")),1,IF(J89>$C89,1,0)) -> 0 | CR89: =IF(AND($C89>0,OR(K89="")),1,IF(K89>$C89,1,0)) -> 0 | CS89: =IF(AND($C89>0,OR(L89="")),1,IF(L89>$C89,1,0)) -> 0
... A91: Actividades con migrantes | B91: =SUM(ENERO:DICIEMBRE!B91) -> 2 | C91: =SUM(D91:E91) -> 53 | D91: =SUM(ENERO:DICIEMBRE!D91) -> 21 | E91: =SUM(ENERO:DICIEMBRE!E91) -> 32 | F91: =SUM(ENERO:DICIEMBRE!F91) -> 0 | G91: =SUM(ENERO:DICIEMBRE!G91) -> 0 | H91: =SUM(ENERO:DICIEMBRE!H91) -> 0 | I91: =SUM(ENERO:DICIEMBRE!I91) -> 0 | J91: =SUM(ENERO:DICIEMBRE!J91) -> 0 | K91: =SUM(ENERO:DICIEMBRE!K91) -> 23 | ... R91: =SUM(ENERO:DICIEMBRE!R91) -> 0 | S91: =CA91&CB91&CC91&CD91&CE91&CF91&CG91 | CA91: =IF(AND(E91>0,F91=""),"*No olvide digitar el campo "&F$77&""&". Digite CERO si no tiene.", IF(F91>E91," * El Número de "&F$77&""&" no puede superar el Total Mujeres. ","")) | CB91: =IF(AND(D91>0,G91=""),"*No olvide digitar el campo "&G$77&""&". Digite CERO si no tiene.", IF(G91>D91," * El Número de "&G$77&""&" no puede superar el Total Hombres. ","")) | CC91: =IF(AND($C91>0,H91=""),"*No olvide digitar el campo "&H$77&""&". Digite CERO si no tiene.", IF(H91>$C91," * La variable "&H$77&""&" no puede superar el Total Ambos Sexos. ","")) | CD91: =IF(AND($C91>0,I91=""),"*No olvide digitar el campo "&I$77&""&". Digite CERO si no tiene.", IF(I91>$C91," * La variable "&I$77&""&" no puede superar el Total Ambos Sexos. ","")) | CE91: =IF(AND($C91>0,J91=""),"*No olvide digitar el campo "&J$77&""&". Digite CERO si no tiene.", IF(J91>$C91," * La variable "&J$77&""&" no puede superar el Total Ambos Sexos. ","")) | CF91: =IF(AND($C91>0,K91=""),"*No olvide digitar el campo "&K$77&""&". Digite CERO si no tiene.", IF(K91>$C91," * La variable "&K$77&""&" no puede superar el Total Ambos Sexos. ","")) | CG91: =IF(AND($C91>0,L91=""),"*No olvide digitar el campo "&L$77&""&". Digite CERO si no tiene.", IF(L91>$C91," * La variable "&L$77&""&" no puede superar el Total Ambos Sexos. ","")) | CM91: =IF(AND(E91>0,OR(F91="")),1,IF(F91>E91,1,0)) -> 0 | CN91: =IF(AND(D91>0,OR(G91="")),1,IF(G91>D91,1,0)) -> 0 | CO91: =IF(AND($C91>0,OR(H91="")),1,IF(H91>$C91,1,0)) -> 0 | CP91: =IF(AND($C91>0,OR(I91="")),1,IF(I91>$C91,1,0)) -> 0 | CQ91: =IF(AND($C91>0,OR(J91="")),1,IF(J91>$C91,1,0)) -> 0 | CR91: =IF(AND($C91>0,OR(K91="")),1,IF(K91>$C91,1,0)) -> 0 | CS91: =IF(AND($C91>0,OR(L91="")),1,IF(L91>$C91,1,0)) -> 0
A92: TOTAL | B92: =SUM(B78:B91) -> 9 | C92: =SUM(C78:C91) -> 827 | D92: =SUM(D78:D91) -> 322 | E92: =SUM(E78:E91) -> 505 | F92: =SUM(F78:F91) -> 0 | G92: =SUM(G78:G91) -> 0 | H92: =SUM(H78:H91) -> 0 | I92: =SUM(I78:I91) -> 0 | ... R92: =SUM(R78:R91) -> 0
A93: SECCIÓN C: ACTIVIDADES DE SATISFACCIÓN USUARIA Y HUMANIZACIÓN DE LA ATENCIÓN
A94: SECCIÓN C.1: ACTIVIDADES DE GESTIÓN DE LA SATISFACCIÓN USUARIA Y HUMANIZACIÓN DE LA ATENCIÓN
A95: TIPO DE ACTIVIDADES | B95: TOTAL | C95: Comités Gestión Usuaria: Análisis de reclamos | D95: Comités Gestión Usuaria: Planes de mejora | E95: Medición de Satisfacción Usuaria | F95: Acompañamiento Espiritual | G95: Asistencia Religiosa | H95: Asistencia Espiritual Indígena | I95: Hospital Amigo | J95: Uso de TICS y/o Redes Sociales | K95: PARTICIPANTES
K96: Total Ambos Sexos | L96: Hombres | M96: Mujeres | N96: Trans Masculino | O96: Trans Femenina | P96: No Binarie | Q96: No revelado | R96: Pueblos Originarios | S96: Migrantes | T96: PRAIS
A97: Administración y gestión | B97: =SUM(C97:I97) -> 0 | C97: =SUM(ENERO:DICIEMBRE!C97) -> 0 | D97: =SUM(ENERO:DICIEMBRE!D97) -> 0 | E97: =SUM(ENERO:DICIEMBRE!E97) -> 0 | F97: =SUM(ENERO:DICIEMBRE!F97) -> 0 | G97: =SUM(ENERO:DICIEMBRE!G97) -> 0 | H97: =SUM(ENERO:DICIEMBRE!H97) -> 0 | I97: =SUM(ENERO:DICIEMBRE!I97) -> 0 | J97: =SUM(ENERO:DICIEMBRE!J97) -> 0 | K97: =SUM(L97:M97) -> 0 | L97: =SUM(ENERO:DICIEMBRE!L97) -> 0 | M97: =SUM(ENERO:DICIEMBRE!M97) -> 0 | N97: =SUM(ENERO:DICIEMBRE!N97) -> 0 | O97: =SUM(ENERO:DICIEMBRE!O97) -> 0 | P97: =SUM(ENERO:DICIEMBRE!P97) -> 0 | Q97: =SUM(ENERO:DICIEMBRE!Q97) -> 0 | R97: =SUM(ENERO:DICIEMBRE!R97) -> 0 | S97: =SUM(ENERO:DICIEMBRE!S97) -> 0 | T97: =SUM(ENERO:DICIEMBRE!T97) -> 0 | U97: =CA97&CB97&CC97&CD97&CE97&CF97&CG97 | CA97: =IF(AND(M97>0,N97=""),"*No olvide digitar el campo "&N$96&""&". Digite CERO si no tiene.", IF(N97>M97," * El Número de "&N$96&""&" no puede superar el Total Mujeres. ","")) | CB97: =IF(AND(L97>0,O97=""),"*No olvide digitar el campo "&O$96&""&". Digite CERO si no tiene.", IF(O97>L97," * El Número de "&O$96&""&" no puede superar el Total Hombres. ","")) | CC97: =IF(AND($K97>0,P97=""),"*No olvide digitar el campo "&P$96&""&". Digite CERO si no tiene.", IF(P97>$K97," * La variable "&P$96&""&" no puede superar el Total Ambos Sexos. ","")) | CD97: =IF(AND($K97>0,Q97=""),"*No olvide digitar el campo "&Q$96&""&". Digite CERO si no tiene.", IF(Q97>$K97," * La variable "&Q$96&""&" no puede superar el Total Ambos Sexos. ","")) | CE97: =IF(AND($K97>0,R97=""),"*No olvide digitar el campo "&R$96&""&". Digite CERO si no tiene.", IF(R97>$K97," * La variable "&R$96&""&" no puede superar el Total Ambos Sexos. ","")) | CF97: =IF(AND($K97>0,S97=""),"*No olvide digitar el campo "&S$96&""&". Digite CERO si no tiene.", IF(S97>$K97," * La variable "&S$96&""&" no puede superar el Total Ambos Sexos. ","")) | CG97: =IF(AND($K97>0,T97=""),"*No olvide digitar el campo "&T$96&""&". Digite CERO si no tiene.", IF(T97>$K97," * La variable "&T$96&""&" no puede superar el Total Ambos Sexos. ","")) | CM97: =IF(AND(M97>0,OR(N97="")),1,IF(N97>M97,1,0)) -> 0 | CN97: =IF(AND(L97>0,OR(O97="")),1,IF(O97>L97,1,0)) -> 0 | CO97: =IF(AND($K97>0,OR(P97="")),1,IF(P97>$K97,1,0)) -> 0 | CP97: =IF(AND($K97>0,OR(Q97="")),1,IF(Q97>$K97,1,0)) -> 0 | CQ97: =IF(AND($K97>0,OR(R97="")),1,IF(R97>$K97,1,0)) -> 0 | CR97: =IF(AND($K97>0,OR(S97="")),1,IF(S97>$K97,1,0)) -> 0 | CS97: =IF(AND($K97>0,OR(T97="")),1,IF(T97>$K97,1,0)) -> 0
A98: Entrevistas | B98: =SUM(C98:I98) -> 0 | C98: =SUM(ENERO:DICIEMBRE!C98) -> 0 | D98: =SUM(ENERO:DICIEMBRE!D98) -> 0 | E98: =SUM(ENERO:DICIEMBRE!E98) -> 0 | F98: =SUM(ENERO:DICIEMBRE!F98) -> 0 | G98: =SUM(ENERO:DICIEMBRE!G98) -> 0 | H98: =SUM(ENERO:DICIEMBRE!H98) -> 0 | I98: =SUM(ENERO:DICIEMBRE!I98) -> 0 | J98: =SUM(ENERO:DICIEMBRE!J98) -> 0 | K98: =SUM(L98:M98) -> 0 | L98: =SUM(ENERO:DICIEMBRE!L98) -> 0 | M98: =SUM(ENERO:DICIEMBRE!M98) -> 0 | N98: =SUM(ENERO:DICIEMBRE!N98) -> 0 | O98: =SUM(ENERO:DICIEMBRE!O98) -> 0 | P98: =SUM(ENERO:DICIEMBRE!P98) -> 0 | Q98: =SUM(ENERO:DICIEMBRE!Q98) -> 0 | R98: =SUM(ENERO:DICIEMBRE!R98) -> 0 | S98: =SUM(ENERO:DICIEMBRE!S98) -> 0 | T98: =SUM(ENERO:DICIEMBRE!T98) -> 0 | U98: =CA98&CB98&CC98&CD98&CE98&CF98&CG98 | CA98: =IF(AND(M98>0,N98=""),"*No olvide digitar el campo "&N$96&""&". Digite CERO si no tiene.", IF(N98>M98," * El Número de "&N$96&""&" no puede superar el Total Mujeres. ","")) | CB98: =IF(AND(L98>0,O98=""),"*No olvide digitar el campo "&O$96&""&". Digite CERO si no tiene.", IF(O98>L98," * El Número de "&O$96&""&" no puede superar el Total Hombres. ","")) | CC98: =IF(AND($K98>0,P98=""),"*No olvide digitar el campo "&P$96&""&". Digite CERO si no tiene.", IF(P98>$K98," * La variable "&P$96&""&" no puede superar el Total Ambos Sexos. ","")) | CD98: =IF(AND($K98>0,Q98=""),"*No olvide digitar el campo "&Q$96&""&". Digite CERO si no tiene.", IF(Q98>$K98," * La variable "&Q$96&""&" no puede superar el Total Ambos Sexos. ","")) | CE98: =IF(AND($K98>0,R98=""),"*No olvide digitar el campo "&R$96&""&". Digite CERO si no tiene.", IF(R98>$K98," * La variable "&R$96&""&" no puede superar el Total Ambos Sexos. ","")) | CF98: =IF(AND($K98>0,S98=""),"*No olvide digitar el campo "&S$96&""&". Digite CERO si no tiene.", IF(S98>$K98," * La variable "&S$96&""&" no puede superar el Total Ambos Sexos. ","")) | CG98: =IF(AND($K98>0,T98=""),"*No olvide digitar el campo "&T$96&""&". Digite CERO si no tiene.", IF(T98>$K98," * La variable "&T$96&""&" no puede superar el Total Ambos Sexos. ","")) | CM98: =IF(AND(M98>0,OR(N98="")),1,IF(N98>M98,1,0)) -> 0 | CN98: =IF(AND(L98>0,OR(O98="")),1,IF(O98>L98,1,0)) -> 0 | CO98: =IF(AND($K98>0,OR(P98="")),1,IF(P98>$K98,1,0)) -> 0 | CP98: =IF(AND($K98>0,OR(Q98="")),1,IF(Q98>$K98,1,0)) -> 0 | CQ98: =IF(AND($K98>0,OR(R98="")),1,IF(R98>$K98,1,0)) -> 0 | CR98: =IF(AND($K98>0,OR(S98="")),1,IF(S98>$K98,1,0)) -> 0 | CS98: =IF(AND($K98>0,OR(T98="")),1,IF(T98>$K98,1,0)) -> 0
A99: Reuniones intrasector | B99: =SUM(C99:I99) -> 3 | C99: =SUM(ENERO:DICIEMBRE!C99) -> 1 | D99: =SUM(ENERO:DICIEMBRE!D99) -> 0 | E99: =SUM(ENERO:DICIEMBRE!E99) -> 0 | F99: =SUM(ENERO:DICIEMBRE!F99) -> 2 | G99: =SUM(ENERO:DICIEMBRE!G99) -> 0 | H99: =SUM(ENERO:DICIEMBRE!H99) -> 0 | I99: =SUM(ENERO:DICIEMBRE!I99) -> 0 | J99: =SUM(ENERO:DICIEMBRE!J99) -> 0 | K99: =SUM(L99:M99) -> 21 | L99: =SUM(ENERO:DICIEMBRE!L99) -> 5 | M99: =SUM(ENERO:DICIEMBRE!M99) -> 16 | N99: =SUM(ENERO:DICIEMBRE!N99) -> 0 | O99: =SUM(ENERO:DICIEMBRE!O99) -> 0 | P99: =SUM(ENERO:DICIEMBRE!P99) -> 0 | Q99: =SUM(ENERO:DICIEMBRE!Q99) -> 0 | R99: =SUM(ENERO:DICIEMBRE!R99) -> 0 | S99: =SUM(ENERO:DICIEMBRE!S99) -> 0 | T99: =SUM(ENERO:DICIEMBRE!T99) -> 0 | U99: =CA99&CB99&CC99&CD99&CE99&CF99&CG99 | CA99: =IF(AND(M99>0,N99=""),"*No olvide digitar el campo "&N$96&""&". Digite CERO si no tiene.", IF(N99>M99," * El Número de "&N$96&""&" no puede superar el Total Mujeres. ","")) | CB99: =IF(AND(L99>0,O99=""),"*No olvide digitar el campo "&O$96&""&". Digite CERO si no tiene.", IF(O99>L99," * El Número de "&O$96&""&" no puede superar el Total Hombres. ","")) | CC99: =IF(AND($K99>0,P99=""),"*No olvide digitar el campo "&P$96&""&". Digite CERO si no tiene.", IF(P99>$K99," * La variable "&P$96&""&" no puede superar el Total Ambos Sexos. ","")) | CD99: =IF(AND($K99>0,Q99=""),"*No olvide digitar el campo "&Q$96&""&". Digite CERO si no tiene.", IF(Q99>$K99," * La variable "&Q$96&""&" no puede superar el Total Ambos Sexos. ","")) | CE99: =IF(AND($K99>0,R99=""),"*No olvide digitar el campo "&R$96&""&". Digite CERO si no tiene.", IF(R99>$K99," * La variable "&R$96&""&" no puede superar el Total Ambos Sexos. ","")) | CF99: =IF(AND($K99>0,S99=""),"*No olvide digitar el campo "&S$96&""&". Digite CERO si no tiene.", IF(S99>$K99," * La variable "&S$96&""&" no puede superar el Total Ambos Sexos. ","")) | CG99: =IF(AND($K99>0,T99=""),"*No olvide digitar el campo "&T$96&""&". Digite CERO si no tiene.", IF(T99>$K99," * La variable "&T$96&""&" no puede superar el Total Ambos Sexos. ","")) | CM99: =IF(AND(M99>0,OR(N99="")),1,IF(N99>M99,1,0)) -> 0 | CN99: =IF(AND(L99>0,OR(O99="")),1,IF(O99>L99,1,0)) -> 0 | CO99: =IF(AND($K99>0,OR(P99="")),1,IF(P99>$K99,1,0)) -> 0 | CP99: =IF(AND($K99>0,OR(Q99="")),1,IF(Q99>$K99,1,0)) -> 0 | CQ99: =IF(AND($K99>0,OR(R99="")),1,IF(R99>$K99,1,0)) -> 0 | CR99: =IF(AND($K99>0,OR(S99="")),1,IF(S99>$K99,1,0)) -> 0 | CS99: =IF(AND($K99>0,OR(T99="")),1,IF(T99>$K99,1,0)) -> 0
A100: Reuniones intersector | B100: =SUM(C100:I100) -> 1 | C100: =SUM(ENERO:DICIEMBRE!C100) -> 0 | D100: =SUM(ENERO:DICIEMBRE!D100) -> 0 | E100: =SUM(ENERO:DICIEMBRE!E100) -> 0 | F100: =SUM(ENERO:DICIEMBRE!F100) -> 1 | G100: =SUM(ENERO:DICIEMBRE!G100) -> 0 | H100: =SUM(ENERO:DICIEMBRE!H100) -> 0 | I100: =SUM(ENERO:DICIEMBRE!I100) -> 0 | J100: =SUM(ENERO:DICIEMBRE!J100) -> 0 | K100: =SUM(L100:M100) -> 55 | L100: =SUM(ENERO:DICIEMBRE!L100) -> 11 | M100: =SUM(ENERO:DICIEMBRE!M100) -> 44 | N100: =SUM(ENERO:DICIEMBRE!N100) -> 0 | O100: =SUM(ENERO:DICIEMBRE!O100) -> 0 | P100: =SUM(ENERO:DICIEMBRE!P100) -> 0 | Q100: =SUM(ENERO:DICIEMBRE!Q100) -> 0 | R100: =SUM(ENERO:DICIEMBRE!R100) -> 2 | S100: =SUM(ENERO:DICIEMBRE!S100) -> 2 | T100: =SUM(ENERO:DICIEMBRE!T100) -> 0 | U100: =CA100&CB100&CC100&CD100&CE100&CF100&CG100 | CA100: =IF(AND(M100>0,N100=""),"*No olvide digitar el campo "&N$96&""&". Digite CERO si no tiene.", IF(N100>M100," * El Número de "&N$96&""&" no puede superar el Total Mujeres. ","")) | CB100: =IF(AND(L100>0,O100=""),"*No olvide digitar el campo "&O$96&""&". Digite CERO si no tiene.", IF(O100>L100," * El Número de "&O$96&""&" no puede superar el Total Hombres. ","")) | CC100: =IF(AND($K100>0,P100=""),"*No olvide digitar el campo "&P$96&""&". Digite CERO si no tiene.", IF(P100>$K100," * La variable "&P$96&""&" no puede superar el Total Ambos Sexos. ","")) | CD100: =IF(AND($K100>0,Q100=""),"*No olvide digitar el campo "&Q$96&""&". Digite CERO si no tiene.", IF(Q100>$K100," * La variable "&Q$96&""&" no puede superar el Total Ambos Sexos. ","")) | CE100: =IF(AND($K100>0,R100=""),"*No olvide digitar el campo "&R$96&""&". Digite CERO si no tiene.", IF(R100>$K100," * La variable "&R$96&""&" no puede superar el Total Ambos Sexos. ","")) | CF100: =IF(AND($K100>0,S100=""),"*No olvide digitar el campo "&S$96&""&". Digite CERO si no tiene.", IF(S100>$K100," * La variable "&S$96&""&" no puede superar el Total Ambos Sexos. ","")) | CG100: =IF(AND($K100>0,T100=""),"*No olvide digitar el campo "&T$96&""&". Digite CERO si no tiene.", IF(T100>$K100," * La variable "&T$96&""&" no puede superar el Total Ambos Sexos. ","")) | CM100: =IF(AND(M100>0,OR(N100="")),1,IF(N100>M100,1,0)) -> 0 | CN100: =IF(AND(L100>0,OR(O100="")),1,IF(O100>L100,1,0)) -> 0 | CO100: =IF(AND($K100>0,OR(P100="")),1,IF(P100>$K100,1,0)) -> 0 | CP100: =IF(AND($K100>0,OR(Q100="")),1,IF(Q100>$K100,1,0)) -> 0 | CQ100: =IF(AND($K100>0,OR(R100="")),1,IF(R100>$K100,1,0)) -> 0 | CR100: =IF(AND($K100>0,OR(S100="")),1,IF(S100>$K100,1,0)) -> 0 | CS100: =IF(AND($K100>0,OR(T100="")),1,IF(T100>$K100,1,0)) -> 0
A101: Asesoría técnica | B101: =SUM(C101:I101) -> 0 | C101: =SUM(ENERO:DICIEMBRE!C101) -> 0 | D101: =SUM(ENERO:DICIEMBRE!D101) -> 0 | E101: =SUM(ENERO:DICIEMBRE!E101) -> 0 | F101: =SUM(ENERO:DICIEMBRE!F101) -> 0 | G101: =SUM(ENERO:DICIEMBRE!G101) -> 0 | H101: =SUM(ENERO:DICIEMBRE!H101) -> 0 | I101: =SUM(ENERO:DICIEMBRE!I101) -> 0 | J101: =SUM(ENERO:DICIEMBRE!J101) -> 0 | K101: =SUM(L101:M101) -> 0 | L101: =SUM(ENERO:DICIEMBRE!L101) -> 0 | M101: =SUM(ENERO:DICIEMBRE!M101) -> 0 | N101: =SUM(ENERO:DICIEMBRE!N101) -> 0 | O101: =SUM(ENERO:DICIEMBRE!O101) -> 0 | P101: =SUM(ENERO:DICIEMBRE!P101) -> 0 | Q101: =SUM(ENERO:DICIEMBRE!Q101) -> 0 | R101: =SUM(ENERO:DICIEMBRE!R101) -> 0 | S101: =SUM(ENERO:DICIEMBRE!S101) -> 0 | T101: =SUM(ENERO:DICIEMBRE!T101) -> 0 | U101: =CA101&CB101&CC101&CD101&CE101&CF101&CG101 | CA101: =IF(AND(M101>0,N101=""),"*No olvide digitar el campo "&N$96&""&". Digite CERO si no tiene.", IF(N101>M101," * El Número de "&N$96&""&" no puede superar el Total Mujeres. ","")) | CB101: =IF(AND(L101>0,O101=""),"*No olvide digitar el campo "&O$96&""&". Digite CERO si no tiene.", IF(O101>L101," * El Número de "&O$96&""&" no puede superar el Total Hombres. ","")) | CC101: =IF(AND($K101>0,P101=""),"*No olvide digitar el campo "&P$96&""&". Digite CERO si no tiene.", IF(P101>$K101," * La variable "&P$96&""&" no puede superar el Total Ambos Sexos. ","")) | CD101: =IF(AND($K101>0,Q101=""),"*No olvide digitar el campo "&Q$96&""&". Digite CERO si no tiene.", IF(Q101>$K101," * La variable "&Q$96&""&" no puede superar el Total Ambos Sexos. ","")) | CE101: =IF(AND($K101>0,R101=""),"*No olvide digitar el campo "&R$96&""&". Digite CERO si no tiene.", IF(R101>$K101," * La variable "&R$96&""&" no puede superar el Total Ambos Sexos. ","")) | CF101: =IF(AND($K101>0,S101=""),"*No olvide digitar el campo "&S$96&""&". Digite CERO si no tiene.", IF(S101>$K101," * La variable "&S$96&""&" no puede superar el Total Ambos Sexos. ","")) | CG101: =IF(AND($K101>0,T101=""),"*No olvide digitar el campo "&T$96&""&". Digite CERO si no tiene.", IF(T101>$K101," * La variable "&T$96&""&" no puede superar el Total Ambos Sexos. ","")) | CM101: =IF(AND(M101>0,OR(N101="")),1,IF(N101>M101,1,0)) -> 0 | CN101: =IF(AND(L101>0,OR(O101="")),1,IF(O101>L101,1,0)) -> 0 | CO101: =IF(AND($K101>0,OR(P101="")),1,IF(P101>$K101,1,0)) -> 0 | CP101: =IF(AND($K101>0,OR(Q101="")),1,IF(Q101>$K101,1,0)) -> 0 | CQ101: =IF(AND($K101>0,OR(R101="")),1,IF(R101>$K101,1,0)) -> 0 | CR101: =IF(AND($K101>0,OR(S101="")),1,IF(S101>$K101,1,0)) -> 0 | CS101: =IF(AND($K101>0,OR(T101="")),1,IF(T101>$K101,1,0)) -> 0
A102: Jornadas de intercambio de experiencias | B102: =SUM(C102:I102) -> 0 | C102: =SUM(ENERO:DICIEMBRE!C102) -> 0 | D102: =SUM(ENERO:DICIEMBRE!D102) -> 0 | E102: =SUM(ENERO:DICIEMBRE!E102) -> 0 | F102: =SUM(ENERO:DICIEMBRE!F102) -> 0 | G102: =SUM(ENERO:DICIEMBRE!G102) -> 0 | H102: =SUM(ENERO:DICIEMBRE!H102) -> 0 | I102: =SUM(ENERO:DICIEMBRE!I102) -> 0 | J102: =SUM(ENERO:DICIEMBRE!J102) -> 0 | K102: =SUM(L102:M102) -> 0 | L102: =SUM(ENERO:DICIEMBRE!L102) -> 0 | M102: =SUM(ENERO:DICIEMBRE!M102) -> 0 | N102: =SUM(ENERO:DICIEMBRE!N102) -> 0 | O102: =SUM(ENERO:DICIEMBRE!O102) -> 0 | P102: =SUM(ENERO:DICIEMBRE!P102) -> 0 | Q102: =SUM(ENERO:DICIEMBRE!Q102) -> 0 | R102: =SUM(ENERO:DICIEMBRE!R102) -> 0 | S102: =SUM(ENERO:DICIEMBRE!S102) -> 0 | T102: =SUM(ENERO:DICIEMBRE!T102) -> 0 | U102: =CA102&CB102&CC102&CD102&CE102&CF102&CG102 | CA102: =IF(AND(M102>0,N102=""),"*No olvide digitar el campo "&N$96&""&". Digite CERO si no tiene.", IF(N102>M102," * El Número de "&N$96&""&" no puede superar el Total Mujeres. ","")) | CB102: =IF(AND(L102>0,O102=""),"*No olvide digitar el campo "&O$96&""&". Digite CERO si no tiene.", IF(O102>L102," * El Número de "&O$96&""&" no puede superar el Total Hombres. ","")) | CC102: =IF(AND($K102>0,P102=""),"*No olvide digitar el campo "&P$96&""&". Digite CERO si no tiene.", IF(P102>$K102," * La variable "&P$96&""&" no puede superar el Total Ambos Sexos. ","")) | CD102: =IF(AND($K102>0,Q102=""),"*No olvide digitar el campo "&Q$96&""&". Digite CERO si no tiene.", IF(Q102>$K102," * La variable "&Q$96&""&" no puede superar el Total Ambos Sexos. ","")) | CE102: =IF(AND($K102>0,R102=""),"*No olvide digitar el campo "&R$96&""&". Digite CERO si no tiene.", IF(R102>$K102," * La variable "&R$96&""&" no puede superar el Total Ambos Sexos. ","")) | CF102: =IF(AND($K102>0,S102=""),"*No olvide digitar el campo "&S$96&""&". Digite CERO si no tiene.", IF(S102>$K102," * La variable "&S$96&""&" no puede superar el Total Ambos Sexos. ","")) | CG102: =IF(AND($K102>0,T102=""),"*No olvide digitar el campo "&T$96&""&". Digite CERO si no tiene.", IF(T102>$K102," * La variable "&T$96&""&" no puede superar el Total Ambos Sexos. ","")) | CM102: =IF(AND(M102>0,OR(N102="")),1,IF(N102>M102,1,0)) -> 0 | CN102: =IF(AND(L102>0,OR(O102="")),1,IF(O102>L102,1,0)) -> 0 | CO102: =IF(AND($K102>0,OR(P102="")),1,IF(P102>$K102,1,0)) -> 0 | CP102: =IF(AND($K102>0,OR(Q102="")),1,IF(Q102>$K102,1,0)) -> 0 | CQ102: =IF(AND($K102>0,OR(R102="")),1,IF(R102>$K102,1,0)) -> 0 | CR102: =IF(AND($K102>0,OR(S102="")),1,IF(S102>$K102,1,0)) -> 0 | CS102: =IF(AND($K102>0,OR(T102="")),1,IF(T102>$K102,1,0)) -> 0
A103: Actividades de difusión y comunicación | B103: =SUM(C103:I103) -> 0 | C103: =SUM(ENERO:DICIEMBRE!C103) -> 0 | D103: =SUM(ENERO:DICIEMBRE!D103) -> 0 | E103: =SUM(ENERO:DICIEMBRE!E103) -> 0 | F103: =SUM(ENERO:DICIEMBRE!F103) -> 0 | G103: =SUM(ENERO:DICIEMBRE!G103) -> 0 | H103: =SUM(ENERO:DICIEMBRE!H103) -> 0 | I103: =SUM(ENERO:DICIEMBRE!I103) -> 0 | J103: =SUM(ENERO:DICIEMBRE!J103) -> 0 | K103: =SUM(L103:M103) -> 0 | L103: =SUM(ENERO:DICIEMBRE!L103) -> 0 | M103: =SUM(ENERO:DICIEMBRE!M103) -> 0 | N103: =SUM(ENERO:DICIEMBRE!N103) -> 0 | O103: =SUM(ENERO:DICIEMBRE!O103) -> 0 | P103: =SUM(ENERO:DICIEMBRE!P103) -> 0 | Q103: =SUM(ENERO:DICIEMBRE!Q103) -> 0 | R103: =SUM(ENERO:DICIEMBRE!R103) -> 0 | S103: =SUM(ENERO:DICIEMBRE!S103) -> 0 | T103: =SUM(ENERO:DICIEMBRE!T103) -> 0 | U103: =CA103&CB103&CC103&CD103&CE103&CF103&CG103 | CA103: =IF(AND(M103>0,N103=""),"*No olvide digitar el campo "&N$96&""&". Digite CERO si no tiene.", IF(N103>M103," * El Número de "&N$96&""&" no puede superar el Total Mujeres. ","")) | CB103: =IF(AND(L103>0,O103=""),"*No olvide digitar el campo "&O$96&""&". Digite CERO si no tiene.", IF(O103>L103," * El Número de "&O$96&""&" no puede superar el Total Hombres. ","")) | CC103: =IF(AND($K103>0,P103=""),"*No olvide digitar el campo "&P$96&""&". Digite CERO si no tiene.", IF(P103>$K103," * La variable "&P$96&""&" no puede superar el Total Ambos Sexos. ","")) | CD103: =IF(AND($K103>0,Q103=""),"*No olvide digitar el campo "&Q$96&""&". Digite CERO si no tiene.", IF(Q103>$K103," * La variable "&Q$96&""&" no puede superar el Total Ambos Sexos. ","")) | CE103: =IF(AND($K103>0,R103=""),"*No olvide digitar el campo "&R$96&""&". Digite CERO si no tiene.", IF(R103>$K103," * La variable "&R$96&""&" no puede superar el Total Ambos Sexos. ","")) | CF103: =IF(AND($K103>0,S103=""),"*No olvide digitar el campo "&S$96&""&". Digite CERO si no tiene.", IF(S103>$K103," * La variable "&S$96&""&" no puede superar el Total Ambos Sexos. ","")) | CG103: =IF(AND($K103>0,T103=""),"*No olvide digitar el campo "&T$96&""&". Digite CERO si no tiene.", IF(T103>$K103," * La variable "&T$96&""&" no puede superar el Total Ambos Sexos. ","")) | CM103: =IF(AND(M103>0,OR(N103="")),1,IF(N103>M103,1,0)) -> 0 | CN103: =IF(AND(L103>0,OR(O103="")),1,IF(O103>L103,1,0)) -> 0 | CO103: =IF(AND($K103>0,OR(P103="")),1,IF(P103>$K103,1,0)) -> 0 | CP103: =IF(AND($K103>0,OR(Q103="")),1,IF(Q103>$K103,1,0)) -> 0 | CQ103: =IF(AND($K103>0,OR(R103="")),1,IF(R103>$K103,1,0)) -> 0 | CR103: =IF(AND($K103>0,OR(S103="")),1,IF(S103>$K103,1,0)) -> 0 | CS103: =IF(AND($K103>0,OR(T103="")),1,IF(T103>$K103,1,0)) -> 0
A104: Educación y capacitación comunitaria | B104: =SUM(C104:I104) -> 0 | C104: =SUM(ENERO:DICIEMBRE!C104) -> 0 | D104: =SUM(ENERO:DICIEMBRE!D104) -> 0 | E104: =SUM(ENERO:DICIEMBRE!E104) -> 0 | F104: =SUM(ENERO:DICIEMBRE!F104) -> 0 | G104: =SUM(ENERO:DICIEMBRE!G104) -> 0 | H104: =SUM(ENERO:DICIEMBRE!H104) -> 0 | I104: =SUM(ENERO:DICIEMBRE!I104) -> 0 | J104: =SUM(ENERO:DICIEMBRE!J104) -> 0 | K104: =SUM(L104:M104) -> 0 | L104: =SUM(ENERO:DICIEMBRE!L104) -> 0 | M104: =SUM(ENERO:DICIEMBRE!M104) -> 0 | N104: =SUM(ENERO:DICIEMBRE!N104) -> 0 | O104: =SUM(ENERO:DICIEMBRE!O104) -> 0 | P104: =SUM(ENERO:DICIEMBRE!P104) -> 0 | Q104: =SUM(ENERO:DICIEMBRE!Q104) -> 0 | R104: =SUM(ENERO:DICIEMBRE!R104) -> 0 | S104: =SUM(ENERO:DICIEMBRE!S104) -> 0 | T104: =SUM(ENERO:DICIEMBRE!T104) -> 0 | U104: =CA104&CB104&CC104&CD104&CE104&CF104&CG104 | CA104: =IF(AND(M104>0,N104=""),"*No olvide digitar el campo "&N$96&""&". Digite CERO si no tiene.", IF(N104>M104," * El Número de "&N$96&""&" no puede superar el Total Mujeres. ","")) | CB104: =IF(AND(L104>0,O104=""),"*No olvide digitar el campo "&O$96&""&". Digite CERO si no tiene.", IF(O104>L104," * El Número de "&O$96&""&" no puede superar el Total Hombres. ","")) | CC104: =IF(AND($K104>0,P104=""),"*No olvide digitar el campo "&P$96&""&". Digite CERO si no tiene.", IF(P104>$K104," * La variable "&P$96&""&" no puede superar el Total Ambos Sexos. ","")) | CD104: =IF(AND($K104>0,Q104=""),"*No olvide digitar el campo "&Q$96&""&". Digite CERO si no tiene.", IF(Q104>$K104," * La variable "&Q$96&""&" no puede superar el Total Ambos Sexos. ","")) | CE104: =IF(AND($K104>0,R104=""),"*No olvide digitar el campo "&R$96&""&". Digite CERO si no tiene.", IF(R104>$K104," * La variable "&R$96&""&" no puede superar el Total Ambos Sexos. ","")) | CF104: =IF(AND($K104>0,S104=""),"*No olvide digitar el campo "&S$96&""&". Digite CERO si no tiene.", IF(S104>$K104," * La variable "&S$96&""&" no puede superar el Total Ambos Sexos. ","")) | CG104: =IF(AND($K104>0,T104=""),"*No olvide digitar el campo "&T$96&""&". Digite CERO si no tiene.", IF(T104>$K104," * La variable "&T$96&""&" no puede superar el Total Ambos Sexos. ","")) | CM104: =IF(AND(M104>0,OR(N104="")),1,IF(N104>M104,1,0)) -> 0 | CN104: =IF(AND(L104>0,OR(O104="")),1,IF(O104>L104,1,0)) -> 0 | CO104: =IF(AND($K104>0,OR(P104="")),1,IF(P104>$K104,1,0)) -> 0 | CP104: =IF(AND($K104>0,OR(Q104="")),1,IF(Q104>$K104,1,0)) -> 0 | CQ104: =IF(AND($K104>0,OR(R104="")),1,IF(R104>$K104,1,0)) -> 0 | CR104: =IF(AND($K104>0,OR(S104="")),1,IF(S104>$K104,1,0)) -> 0 | CS104: =IF(AND($K104>0,OR(T104="")),1,IF(T104>$K104,1,0)) -> 0
A105: Eventos masivos (asambleas, cabildos, otros) | B105: =SUM(C105:I105) -> 0 | C105: =SUM(ENERO:DICIEMBRE!C105) -> 0 | D105: =SUM(ENERO:DICIEMBRE!D105) -> 0 | E105: =SUM(ENERO:DICIEMBRE!E105) -> 0 | F105: =SUM(ENERO:DICIEMBRE!F105) -> 0 | G105: =SUM(ENERO:DICIEMBRE!G105) -> 0 | H105: =SUM(ENERO:DICIEMBRE!H105) -> 0 | I105: =SUM(ENERO:DICIEMBRE!I105) -> 0 | J105: =SUM(ENERO:DICIEMBRE!J105) -> 0 | K105: =SUM(L105:M105) -> 0 | L105: =SUM(ENERO:DICIEMBRE!L105) -> 0 | M105: =SUM(ENERO:DICIEMBRE!M105) -> 0 | N105: =SUM(ENERO:DICIEMBRE!N105) -> 0 | O105: =SUM(ENERO:DICIEMBRE!O105) -> 0 | P105: =SUM(ENERO:DICIEMBRE!P105) -> 0 | Q105: =SUM(ENERO:DICIEMBRE!Q105) -> 0 | R105: =SUM(ENERO:DICIEMBRE!R105) -> 0 | S105: =SUM(ENERO:DICIEMBRE!S105) -> 0 | T105: =SUM(ENERO:DICIEMBRE!T105) -> 0 | U105: =CA105&CB105&CC105&CD105&CE105&CF105&CG105 | CA105: =IF(AND(M105>0,N105=""),"*No olvide digitar el campo "&N$96&""&". Digite CERO si no tiene.", IF(N105>M105," * El Número de "&N$96&""&" no puede superar el Total Mujeres. ","")) | CB105: =IF(AND(L105>0,O105=""),"*No olvide digitar el campo "&O$96&""&". Digite CERO si no tiene.", IF(O105>L105," * El Número de "&O$96&""&" no puede superar el Total Hombres. ","")) | CC105: =IF(AND($K105>0,P105=""),"*No olvide digitar el campo "&P$96&""&". Digite CERO si no tiene.", IF(P105>$K105," * La variable "&P$96&""&" no puede superar el Total Ambos Sexos. ","")) | CD105: =IF(AND($K105>0,Q105=""),"*No olvide digitar el campo "&Q$96&""&". Digite CERO si no tiene.", IF(Q105>$K105," * La variable "&Q$96&""&" no puede superar el Total Ambos Sexos. ","")) | CE105: =IF(AND($K105>0,R105=""),"*No olvide digitar el campo "&R$96&""&". Digite CERO si no tiene.", IF(R105>$K105," * La variable "&R$96&""&" no puede superar el Total Ambos Sexos. ","")) | CF105: =IF(AND($K105>0,S105=""),"*No olvide digitar el campo "&S$96&""&". Digite CERO si no tiene.", IF(S105>$K105," * La variable "&S$96&""&" no puede superar el Total Ambos Sexos. ","")) | CG105: =IF(AND($K105>0,T105=""),"*No olvide digitar el campo "&T$96&""&". Digite CERO si no tiene.", IF(T105>$K105," * La variable "&T$96&""&" no puede superar el Total Ambos Sexos. ","")) | CM105: =IF(AND(M105>0,OR(N105="")),1,IF(N105>M105,1,0)) -> 0 | CN105: =IF(AND(L105>0,OR(O105="")),1,IF(O105>L105,1,0)) -> 0 | CO105: =IF(AND($K105>0,OR(P105="")),1,IF(P105>$K105,1,0)) -> 0 | CP105: =IF(AND($K105>0,OR(Q105="")),1,IF(Q105>$K105,1,0)) -> 0 | CQ105: =IF(AND($K105>0,OR(R105="")),1,IF(R105>$K105,1,0)) -> 0 | CR105: =IF(AND($K105>0,OR(S105="")),1,IF(S105>$K105,1,0)) -> 0 | CS105: =IF(AND($K105>0,OR(T105="")),1,IF(T105>$K105,1,0)) -> 0
A106: Pasantías | B106: =SUM(C106:I106) -> 0 | C106: =SUM(ENERO:DICIEMBRE!C106) -> 0 | D106: =SUM(ENERO:DICIEMBRE!D106) -> 0 | E106: =SUM(ENERO:DICIEMBRE!E106) -> 0 | F106: =SUM(ENERO:DICIEMBRE!F106) -> 0 | G106: =SUM(ENERO:DICIEMBRE!G106) -> 0 | H106: =SUM(ENERO:DICIEMBRE!H106) -> 0 | I106: =SUM(ENERO:DICIEMBRE!I106) -> 0 | J106: =SUM(ENERO:DICIEMBRE!J106) -> 0 | K106: =SUM(L106:M106) -> 0 | L106: =SUM(ENERO:DICIEMBRE!L106) -> 0 | M106: =SUM(ENERO:DICIEMBRE!M106) -> 0 | N106: =SUM(ENERO:DICIEMBRE!N106) -> 0 | O106: =SUM(ENERO:DICIEMBRE!O106) -> 0 | P106: =SUM(ENERO:DICIEMBRE!P106) -> 0 | Q106: =SUM(ENERO:DICIEMBRE!Q106) -> 0 | R106: =SUM(ENERO:DICIEMBRE!R106) -> 0 | S106: =SUM(ENERO:DICIEMBRE!S106) -> 0 | T106: =SUM(ENERO:DICIEMBRE!T106) -> 0 | U106: =CA106&CB106&CC106&CD106&CE106&CF106&CG106 | CA106: =IF(AND(M106>0,N106=""),"*No olvide digitar el campo "&N$96&""&". Digite CERO si no tiene.", IF(N106>M106," * El Número de "&N$96&""&" no puede superar el Total Mujeres. ","")) | CB106: =IF(AND(L106>0,O106=""),"*No olvide digitar el campo "&O$96&""&". Digite CERO si no tiene.", IF(O106>L106," * El Número de "&O$96&""&" no puede superar el Total Hombres. ","")) | CC106: =IF(AND($K106>0,P106=""),"*No olvide digitar el campo "&P$96&""&". Digite CERO si no tiene.", IF(P106>$K106," * La variable "&P$96&""&" no puede superar el Total Ambos Sexos. ","")) | CD106: =IF(AND($K106>0,Q106=""),"*No olvide digitar el campo "&Q$96&""&". Digite CERO si no tiene.", IF(Q106>$K106," * La variable "&Q$96&""&" no puede superar el Total Ambos Sexos. ","")) | CE106: =IF(AND($K106>0,R106=""),"*No olvide digitar el campo "&R$96&""&". Digite CERO si no tiene.", IF(R106>$K106," * La variable "&R$96&""&" no puede superar el Total Ambos Sexos. ","")) | CF106: =IF(AND($K106>0,S106=""),"*No olvide digitar el campo "&S$96&""&". Digite CERO si no tiene.", IF(S106>$K106," * La variable "&S$96&""&" no puede superar el Total Ambos Sexos. ","")) | CG106: =IF(AND($K106>0,T106=""),"*No olvide digitar el campo "&T$96&""&". Digite CERO si no tiene.", IF(T106>$K106," * La variable "&T$96&""&" no puede superar el Total Ambos Sexos. ","")) | CM106: =IF(AND(M106>0,OR(N106="")),1,IF(N106>M106,1,0)) -> 0 | CN106: =IF(AND(L106>0,OR(O106="")),1,IF(O106>L106,1,0)) -> 0 | CO106: =IF(AND($K106>0,OR(P106="")),1,IF(P106>$K106,1,0)) -> 0 | CP106: =IF(AND($K106>0,OR(Q106="")),1,IF(Q106>$K106,1,0)) -> 0 | CQ106: =IF(AND($K106>0,OR(R106="")),1,IF(R106>$K106,1,0)) -> 0 | CR106: =IF(AND($K106>0,OR(S106="")),1,IF(S106>$K106,1,0)) -> 0 | CS106: =IF(AND($K106>0,OR(T106="")),1,IF(T106>$K106,1,0)) -> 0
A107: Comunidades de aprendizaje | B107: =SUM(C107:I107) -> 0 | C107: =SUM(ENERO:DICIEMBRE!C107) -> 0 | D107: =SUM(ENERO:DICIEMBRE!D107) -> 0 | E107: =SUM(ENERO:DICIEMBRE!E107) -> 0 | F107: =SUM(ENERO:DICIEMBRE!F107) -> 0 | G107: =SUM(ENERO:DICIEMBRE!G107) -> 0 | H107: =SUM(ENERO:DICIEMBRE!H107) -> 0 | I107: =SUM(ENERO:DICIEMBRE!I107) -> 0 | J107: =SUM(ENERO:DICIEMBRE!J107) -> 0 | K107: =SUM(L107:M107) -> 0 | L107: =SUM(ENERO:DICIEMBRE!L107) -> 0 | M107: =SUM(ENERO:DICIEMBRE!M107) -> 0 | N107: =SUM(ENERO:DICIEMBRE!N107) -> 0 | O107: =SUM(ENERO:DICIEMBRE!O107) -> 0 | P107: =SUM(ENERO:DICIEMBRE!P107) -> 0 | Q107: =SUM(ENERO:DICIEMBRE!Q107) -> 0 | R107: =SUM(ENERO:DICIEMBRE!R107) -> 0 | S107: =SUM(ENERO:DICIEMBRE!S107) -> 0 | T107: =SUM(ENERO:DICIEMBRE!T107) -> 0 | U107: =CA107&CB107&CC107&CD107&CE107&CF107&CG107 | CA107: =IF(AND(M107>0,N107=""),"*No olvide digitar el campo "&N$96&""&". Digite CERO si no tiene.", IF(N107>M107," * El Número de "&N$96&""&" no puede superar el Total Mujeres. ","")) | CB107: =IF(AND(L107>0,O107=""),"*No olvide digitar el campo "&O$96&""&". Digite CERO si no tiene.", IF(O107>L107," * El Número de "&O$96&""&" no puede superar el Total Hombres. ","")) | CC107: =IF(AND($K107>0,P107=""),"*No olvide digitar el campo "&P$96&""&". Digite CERO si no tiene.", IF(P107>$K107," * La variable "&P$96&""&" no puede superar el Total Ambos Sexos. ","")) | CD107: =IF(AND($K107>0,Q107=""),"*No olvide digitar el campo "&Q$96&""&". Digite CERO si no tiene.", IF(Q107>$K107," * La variable "&Q$96&""&" no puede superar el Total Ambos Sexos. ","")) | CE107: =IF(AND($K107>0,R107=""),"*No olvide digitar el campo "&R$96&""&". Digite CERO si no tiene.", IF(R107>$K107," * La variable "&R$96&""&" no puede superar el Total Ambos Sexos. ","")) | CF107: =IF(AND($K107>0,S107=""),"*No olvide digitar el campo "&S$96&""&". Digite CERO si no tiene.", IF(S107>$K107," * La variable "&S$96&""&" no puede superar el Total Ambos Sexos. ","")) | CG107: =IF(AND($K107>0,T107=""),"*No olvide digitar el campo "&T$96&""&". Digite CERO si no tiene.", IF(T107>$K107," * La variable "&T$96&""&" no puede superar el Total Ambos Sexos. ","")) | CM107: =IF(AND(M107>0,OR(N107="")),1,IF(N107>M107,1,0)) -> 0 | CN107: =IF(AND(L107>0,OR(O107="")),1,IF(O107>L107,1,0)) -> 0 | CO107: =IF(AND($K107>0,OR(P107="")),1,IF(P107>$K107,1,0)) -> 0 | CP107: =IF(AND($K107>0,OR(Q107="")),1,IF(Q107>$K107,1,0)) -> 0 | CQ107: =IF(AND($K107>0,OR(R107="")),1,IF(R107>$K107,1,0)) -> 0 | CR107: =IF(AND($K107>0,OR(S107="")),1,IF(S107>$K107,1,0)) -> 0 | CS107: =IF(AND($K107>0,OR(T107="")),1,IF(T107>$K107,1,0)) -> 0
A108: Mentorías | B108: =SUM(C108:I108) -> 0 | C108: =SUM(ENERO:DICIEMBRE!C108) -> 0 | D108: =SUM(ENERO:DICIEMBRE!D108) -> 0 | E108: =SUM(ENERO:DICIEMBRE!E108) -> 0 | F108: =SUM(ENERO:DICIEMBRE!F108) -> 0 | G108: =SUM(ENERO:DICIEMBRE!G108) -> 0 | H108: =SUM(ENERO:DICIEMBRE!H108) -> 0 | I108: =SUM(ENERO:DICIEMBRE!I108) -> 0 | J108: =SUM(ENERO:DICIEMBRE!J108) -> 0 | K108: =SUM(L108:M108) -> 0 | L108: =SUM(ENERO:DICIEMBRE!L108) -> 0 | M108: =SUM(ENERO:DICIEMBRE!M108) -> 0 | N108: =SUM(ENERO:DICIEMBRE!N108) -> 0 | O108: =SUM(ENERO:DICIEMBRE!O108) -> 0 | P108: =SUM(ENERO:DICIEMBRE!P108) -> 0 | Q108: =SUM(ENERO:DICIEMBRE!Q108) -> 0 | R108: =SUM(ENERO:DICIEMBRE!R108) -> 0 | S108: =SUM(ENERO:DICIEMBRE!S108) -> 0 | T108: =SUM(ENERO:DICIEMBRE!T108) -> 0 | U108: =CA108&CB108&CC108&CD108&CE108&CF108&CG108 | CA108: =IF(AND(M108>0,N108=""),"*No olvide digitar el campo "&N$96&""&". Digite CERO si no tiene.", IF(N108>M108," * El Número de "&N$96&""&" no puede superar el Total Mujeres. ","")) | CB108: =IF(AND(L108>0,O108=""),"*No olvide digitar el campo "&O$96&""&". Digite CERO si no tiene.", IF(O108>L108," * El Número de "&O$96&""&" no puede superar el Total Hombres. ","")) | CC108: =IF(AND($K108>0,P108=""),"*No olvide digitar el campo "&P$96&""&". Digite CERO si no tiene.", IF(P108>$K108," * La variable "&P$96&""&" no puede superar el Total Ambos Sexos. ","")) | CD108: =IF(AND($K108>0,Q108=""),"*No olvide digitar el campo "&Q$96&""&". Digite CERO si no tiene.", IF(Q108>$K108," * La variable "&Q$96&""&" no puede superar el Total Ambos Sexos. ","")) | CE108: =IF(AND($K108>0,R108=""),"*No olvide digitar el campo "&R$96&""&". Digite CERO si no tiene.", IF(R108>$K108," * La variable "&R$96&""&" no puede superar el Total Ambos Sexos. ","")) | CF108: =IF(AND($K108>0,S108=""),"*No olvide digitar el campo "&S$96&""&". Digite CERO si no tiene.", IF(S108>$K108," * La variable "&S$96&""&" no puede superar el Total Ambos Sexos. ","")) | CG108: =IF(AND($K108>0,T108=""),"*No olvide digitar el campo "&T$96&""&". Digite CERO si no tiene.", IF(T108>$K108," * La variable "&T$96&""&" no puede superar el Total Ambos Sexos. ","")) | CM108: =IF(AND(M108>0,OR(N108="")),1,IF(N108>M108,1,0)) -> 0 | CN108: =IF(AND(L108>0,OR(O108="")),1,IF(O108>L108,1,0)) -> 0 | CO108: =IF(AND($K108>0,OR(P108="")),1,IF(P108>$K108,1,0)) -> 0 | CP108: =IF(AND($K108>0,OR(Q108="")),1,IF(Q108>$K108,1,0)) -> 0 | CQ108: =IF(AND($K108>0,OR(R108="")),1,IF(R108>$K108,1,0)) -> 0 | CR108: =IF(AND($K108>0,OR(S108="")),1,IF(S108>$K108,1,0)) -> 0 | CS108: =IF(AND($K108>0,OR(T108="")),1,IF(T108>$K108,1,0)) -> 0
A109: TOTAL | B109: =SUM(B97:B108) -> 4 | C109: =SUM(C97:C108) -> 1 | D109: =SUM(D97:D108) -> 0 | E109: =SUM(E97:E108) -> 0 | F109: =SUM(F97:F108) -> 3 | G109: =SUM(G97:G108) -> 0 | H109: =SUM(H97:H108) -> 0 | I109: =SUM(I97:I108) -> 0 | ... T109: =SUM(T97:T108) -> 0
A110: SECCIÓN C.2: TOTAL DE SESIONES SEGÚN LÍNEAS DE ACCIÓN Y PARTICIPANTES
A111: LÍNEAS DE ACCIÓN | B111: N° DE SESIONES | C111: PARTICIPANTES | M111: REPRESENTANTES
C112: Total Ambos Sexos | D112: Hombres | E112: Mujeres | F112: Trans Masculino | G112: Trans Femenina | H112: No binarie | I112: No revelado | J112: Pueblos Originarios | K112: Migrantes | L112: PRAIS | M112: Consejos de la Sociedad Civil (COSOC) | N112: Consejos Consultivos de Usuarios | O112: Consejo de Desarrollo Local (CDL) | P112: Organizaciones sociales | Q112: Instancias de Participación Indígena | R112: Consejo Interreligioso
A113: Consultas y/o Diálogos ciudadanos | B113: =SUM(ENERO:DICIEMBRE!B113) -> 0 | C113: =SUM(D113:E113) -> 0 | D113: =SUM(ENERO:DICIEMBRE!D113) -> 0 | E113: =SUM(ENERO:DICIEMBRE!E113) -> 0 | F113: =SUM(ENERO:DICIEMBRE!F113) -> 0 | G113: =SUM(ENERO:DICIEMBRE!G113) -> 0 | H113: =SUM(ENERO:DICIEMBRE!H113) -> 0 | I113: =SUM(ENERO:DICIEMBRE!I113) -> 0 | J113: =SUM(ENERO:DICIEMBRE!J113) -> 0 | K113: =SUM(ENERO:DICIEMBRE!K113) -> 0 | ... R113: =SUM(ENERO:DICIEMBRE!R113) -> 0 | CA113: =IF(AND(E113>0,F113=""),"*No olvide digitar el campo "&F$112&""&". Digite CERO si no tiene.", IF(F113>E113," * El Número de "&F$112&""&" no puede superar el Total Mujeres. ","")) | CB113: =IF(AND(D113>0,G113=""),"*No olvide digitar el campo "&G$112&""&". Digite CERO si no tiene.", IF(G113>D113," * El Número de "&G$112&""&" no puede superar el Total Hombres. ","")) | CC113: =IF(AND($C113>0,H113=""),"*No olvide digitar el campo "&H$112&""&". Digite CERO si no tiene.", IF(H113>$C113," * La variable "&H$112&""&" no puede superar el Total Ambos Sexos. ","")) | CD113: =IF(AND($C113>0,I113=""),"*No olvide digitar el campo "&I$112&""&". Digite CERO si no tiene.", IF(I113>$C113," * La variable "&I$112&""&" no puede superar el Total Ambos Sexos. ","")) | CE113: =IF(AND($C113>0,J113=""),"*No olvide digitar el campo "&J$112&""&". Digite CERO si no tiene.", IF(J113>$C113," * La variable "&J$112&""&" no puede superar el Total Ambos Sexos. ","")) | CF113: =IF(AND($C113>0,K113=""),"*No olvide digitar el campo "&K$112&""&". Digite CERO si no tiene.", IF(K113>$C113," * La variable "&K$112&""&" no puede superar el Total Ambos Sexos. ","")) | CG113: =IF(AND($C113>0,L113=""),"*No olvide digitar el campo "&L$112&""&". Digite CERO si no tiene.", IF(L113>$C113," * La variable "&L$112&""&" no puede superar el Total Ambos Sexos. ","")) | CM113: =IF(AND(E113>0,OR(F113="")),1,IF(F113>E113,1,0)) -> 0 | CN113: =IF(AND(D113>0,OR(G113="")),1,IF(G113>D113,1,0)) -> 0 | CO113: =IF(AND($C113>0,OR(H113="")),1,IF(H113>$C113,1,0)) -> 0 | CP113: =IF(AND($C113>0,OR(I113="")),1,IF(I113>$C113,1,0)) -> 0 | CQ113: =IF(AND($C113>0,OR(J113="")),1,IF(J113>$C113,1,0)) -> 0 | CR113: =IF(AND($C113>0,OR(K113="")),1,IF(K113>$C113,1,0)) -> 0 | CS113: =IF(AND($C113>0,OR(L113="")),1,IF(L113>$C113,1,0)) -> 0
A114: Diagnóstico Participativo | B114: =SUM(ENERO:DICIEMBRE!B114) -> 0 | C114: =SUM(D114:E114) -> 0 | D114: =SUM(ENERO:DICIEMBRE!D114) -> 0 | E114: =SUM(ENERO:DICIEMBRE!E114) -> 0 | F114: =SUM(ENERO:DICIEMBRE!F114) -> 0 | G114: =SUM(ENERO:DICIEMBRE!G114) -> 0 | H114: =SUM(ENERO:DICIEMBRE!H114) -> 0 | I114: =SUM(ENERO:DICIEMBRE!I114) -> 0 | J114: =SUM(ENERO:DICIEMBRE!J114) -> 0 | K114: =SUM(ENERO:DICIEMBRE!K114) -> 0 | ... R114: =SUM(ENERO:DICIEMBRE!R114) -> 0 | CA114: =IF(AND(E114>0,F114=""),"*No olvide digitar el campo "&F$112&""&". Digite CERO si no tiene.", IF(F114>E114," * El Número de "&F$112&""&" no puede superar el Total Mujeres. ","")) | CB114: =IF(AND(D114>0,G114=""),"*No olvide digitar el campo "&G$112&""&". Digite CERO si no tiene.", IF(G114>D114," * El Número de "&G$112&""&" no puede superar el Total Hombres. ","")) | CC114: =IF(AND($C114>0,H114=""),"*No olvide digitar el campo "&H$112&""&". Digite CERO si no tiene.", IF(H114>$C114," * La variable "&H$112&""&" no puede superar el Total Ambos Sexos. ","")) | CD114: =IF(AND($C114>0,I114=""),"*No olvide digitar el campo "&I$112&""&". Digite CERO si no tiene.", IF(I114>$C114," * La variable "&I$112&""&" no puede superar el Total Ambos Sexos. ","")) | CE114: =IF(AND($C114>0,J114=""),"*No olvide digitar el campo "&J$112&""&". Digite CERO si no tiene.", IF(J114>$C114," * La variable "&J$112&""&" no puede superar el Total Ambos Sexos. ","")) | CF114: =IF(AND($C114>0,K114=""),"*No olvide digitar el campo "&K$112&""&". Digite CERO si no tiene.", IF(K114>$C114," * La variable "&K$112&""&" no puede superar el Total Ambos Sexos. ","")) | CG114: =IF(AND($C114>0,L114=""),"*No olvide digitar el campo "&L$112&""&". Digite CERO si no tiene.", IF(L114>$C114," * La variable "&L$112&""&" no puede superar el Total Ambos Sexos. ","")) | CM114: =IF(AND(E114>0,OR(F114="")),1,IF(F114>E114,1,0)) -> 0 | CN114: =IF(AND(D114>0,OR(G114="")),1,IF(G114>D114,1,0)) -> 0 | CO114: =IF(AND($C114>0,OR(H114="")),1,IF(H114>$C114,1,0)) -> 0 | CP114: =IF(AND($C114>0,OR(I114="")),1,IF(I114>$C114,1,0)) -> 0 | CQ114: =IF(AND($C114>0,OR(J114="")),1,IF(J114>$C114,1,0)) -> 0 | CR114: =IF(AND($C114>0,OR(K114="")),1,IF(K114>$C114,1,0)) -> 0 | CS114: =IF(AND($C114>0,OR(L114="")),1,IF(L114>$C114,1,0)) -> 0
A115: Planificación Participativa | B115: =SUM(ENERO:DICIEMBRE!B115) -> 0 | C115: =SUM(D115:E115) -> 0 | D115: =SUM(ENERO:DICIEMBRE!D115) -> 0 | E115: =SUM(ENERO:DICIEMBRE!E115) -> 0 | F115: =SUM(ENERO:DICIEMBRE!F115) -> 0 | G115: =SUM(ENERO:DICIEMBRE!G115) -> 0 | H115: =SUM(ENERO:DICIEMBRE!H115) -> 0 | I115: =SUM(ENERO:DICIEMBRE!I115) -> 0 | J115: =SUM(ENERO:DICIEMBRE!J115) -> 0 | K115: =SUM(ENERO:DICIEMBRE!K115) -> 0 | ... R115: =SUM(ENERO:DICIEMBRE!R115) -> 0 | CA115: =IF(AND(E115>0,F115=""),"*No olvide digitar el campo "&F$112&""&". Digite CERO si no tiene.", IF(F115>E115," * El Número de "&F$112&""&" no puede superar el Total Mujeres. ","")) | CB115: =IF(AND(D115>0,G115=""),"*No olvide digitar el campo "&G$112&""&". Digite CERO si no tiene.", IF(G115>D115," * El Número de "&G$112&""&" no puede superar el Total Hombres. ","")) | CC115: =IF(AND($C115>0,H115=""),"*No olvide digitar el campo "&H$112&""&". Digite CERO si no tiene.", IF(H115>$C115," * La variable "&H$112&""&" no puede superar el Total Ambos Sexos. ","")) | CD115: =IF(AND($C115>0,I115=""),"*No olvide digitar el campo "&I$112&""&". Digite CERO si no tiene.", IF(I115>$C115," * La variable "&I$112&""&" no puede superar el Total Ambos Sexos. ","")) | CE115: =IF(AND($C115>0,J115=""),"*No olvide digitar el campo "&J$112&""&". Digite CERO si no tiene.", IF(J115>$C115," * La variable "&J$112&""&" no puede superar el Total Ambos Sexos. ","")) | CF115: =IF(AND($C115>0,K115=""),"*No olvide digitar el campo "&K$112&""&". Digite CERO si no tiene.", IF(K115>$C115," * La variable "&K$112&""&" no puede superar el Total Ambos Sexos. ","")) | CG115: =IF(AND($C115>0,L115=""),"*No olvide digitar el campo "&L$112&""&". Digite CERO si no tiene.", IF(L115>$C115," * La variable "&L$112&""&" no puede superar el Total Ambos Sexos. ","")) | CM115: =IF(AND(E115>0,OR(F115="")),1,IF(F115>E115,1,0)) -> 0 | CN115: =IF(AND(D115>0,OR(G115="")),1,IF(G115>D115,1,0)) -> 0 | CO115: =IF(AND($C115>0,OR(H115="")),1,IF(H115>$C115,1,0)) -> 0 | CP115: =IF(AND($C115>0,OR(I115="")),1,IF(I115>$C115,1,0)) -> 0 | CQ115: =IF(AND($C115>0,OR(J115="")),1,IF(J115>$C115,1,0)) -> 0 | CR115: =IF(AND($C115>0,OR(K115="")),1,IF(K115>$C115,1,0)) -> 0 | CS115: =IF(AND($C115>0,OR(L115="")),1,IF(L115>$C115,1,0)) -> 0
A116: Ejecución Participativa | B116: =SUM(ENERO:DICIEMBRE!B116) -> 0 | C116: =SUM(D116:E116) -> 0 | D116: =SUM(ENERO:DICIEMBRE!D116) -> 0 | E116: =SUM(ENERO:DICIEMBRE!E116) -> 0 | F116: =SUM(ENERO:DICIEMBRE!F116) -> 0 | G116: =SUM(ENERO:DICIEMBRE!G116) -> 0 | H116: =SUM(ENERO:DICIEMBRE!H116) -> 0 | I116: =SUM(ENERO:DICIEMBRE!I116) -> 0 | J116: =SUM(ENERO:DICIEMBRE!J116) -> 0 | K116: =SUM(ENERO:DICIEMBRE!K116) -> 0 | ... R116: =SUM(ENERO:DICIEMBRE!R116) -> 0 | CA116: =IF(AND(E116>0,F116=""),"*No olvide digitar el campo "&F$112&""&". Digite CERO si no tiene.", IF(F116>E116," * El Número de "&F$112&""&" no puede superar el Total Mujeres. ","")) | CB116: =IF(AND(D116>0,G116=""),"*No olvide digitar el campo "&G$112&""&". Digite CERO si no tiene.", IF(G116>D116," * El Número de "&G$112&""&" no puede superar el Total Hombres. ","")) | CC116: =IF(AND($C116>0,H116=""),"*No olvide digitar el campo "&H$112&""&". Digite CERO si no tiene.", IF(H116>$C116," * La variable "&H$112&""&" no puede superar el Total Ambos Sexos. ","")) | CD116: =IF(AND($C116>0,I116=""),"*No olvide digitar el campo "&I$112&""&". Digite CERO si no tiene.", IF(I116>$C116," * La variable "&I$112&""&" no puede superar el Total Ambos Sexos. ","")) | CE116: =IF(AND($C116>0,J116=""),"*No olvide digitar el campo "&J$112&""&". Digite CERO si no tiene.", IF(J116>$C116," * La variable "&J$112&""&" no puede superar el Total Ambos Sexos. ","")) | CF116: =IF(AND($C116>0,K116=""),"*No olvide digitar el campo "&K$112&""&". Digite CERO si no tiene.", IF(K116>$C116," * La variable "&K$112&""&" no puede superar el Total Ambos Sexos. ","")) | CG116: =IF(AND($C116>0,L116=""),"*No olvide digitar el campo "&L$112&""&". Digite CERO si no tiene.", IF(L116>$C116," * La variable "&L$112&""&" no puede superar el Total Ambos Sexos. ","")) | CM116: =IF(AND(E116>0,OR(F116="")),1,IF(F116>E116,1,0)) -> 0 | CN116: =IF(AND(D116>0,OR(G116="")),1,IF(G116>D116,1,0)) -> 0 | CO116: =IF(AND($C116>0,OR(H116="")),1,IF(H116>$C116,1,0)) -> 0 | CP116: =IF(AND($C116>0,OR(I116="")),1,IF(I116>$C116,1,0)) -> 0 | CQ116: =IF(AND($C116>0,OR(J116="")),1,IF(J116>$C116,1,0)) -> 0 | CR116: =IF(AND($C116>0,OR(K116="")),1,IF(K116>$C116,1,0)) -> 0 | CS116: =IF(AND($C116>0,OR(L116="")),1,IF(L116>$C116,1,0)) -> 0
A117: Monitoreo y/o Evaluación Participativa | B117: =SUM(ENERO:DICIEMBRE!B117) -> 0 | C117: =SUM(D117:E117) -> 0 | D117: =SUM(ENERO:DICIEMBRE!D117) -> 0 | E117: =SUM(ENERO:DICIEMBRE!E117) -> 0 | F117: =SUM(ENERO:DICIEMBRE!F117) -> 0 | G117: =SUM(ENERO:DICIEMBRE!G117) -> 0 | H117: =SUM(ENERO:DICIEMBRE!H117) -> 0 | I117: =SUM(ENERO:DICIEMBRE!I117) -> 0 | J117: =SUM(ENERO:DICIEMBRE!J117) -> 0 | K117: =SUM(ENERO:DICIEMBRE!K117) -> 0 | ... R117: =SUM(ENERO:DICIEMBRE!R117) -> 0 | CA117: =IF(AND(E117>0,F117=""),"*No olvide digitar el campo "&F$112&""&". Digite CERO si no tiene.", IF(F117>E117," * El Número de "&F$112&""&" no puede superar el Total Mujeres. ","")) | CB117: =IF(AND(D117>0,G117=""),"*No olvide digitar el campo "&G$112&""&". Digite CERO si no tiene.", IF(G117>D117," * El Número de "&G$112&""&" no puede superar el Total Hombres. ","")) | CC117: =IF(AND($C117>0,H117=""),"*No olvide digitar el campo "&H$112&""&". Digite CERO si no tiene.", IF(H117>$C117," * La variable "&H$112&""&" no puede superar el Total Ambos Sexos. ","")) | CD117: =IF(AND($C117>0,I117=""),"*No olvide digitar el campo "&I$112&""&". Digite CERO si no tiene.", IF(I117>$C117," * La variable "&I$112&""&" no puede superar el Total Ambos Sexos. ","")) | CE117: =IF(AND($C117>0,J117=""),"*No olvide digitar el campo "&J$112&""&". Digite CERO si no tiene.", IF(J117>$C117," * La variable "&J$112&""&" no puede superar el Total Ambos Sexos. ","")) | CF117: =IF(AND($C117>0,K117=""),"*No olvide digitar el campo "&K$112&""&". Digite CERO si no tiene.", IF(K117>$C117," * La variable "&K$112&""&" no puede superar el Total Ambos Sexos. ","")) | CG117: =IF(AND($C117>0,L117=""),"*No olvide digitar el campo "&L$112&""&". Digite CERO si no tiene.", IF(L117>$C117," * La variable "&L$112&""&" no puede superar el Total Ambos Sexos. ","")) | CM117: =IF(AND(E117>0,OR(F117="")),1,IF(F117>E117,1,0)) -> 0 | CN117: =IF(AND(D117>0,OR(G117="")),1,IF(G117>D117,1,0)) -> 0 | CO117: =IF(AND($C117>0,OR(H117="")),1,IF(H117>$C117,1,0)) -> 0 | CP117: =IF(AND($C117>0,OR(I117="")),1,IF(I117>$C117,1,0)) -> 0 | CQ117: =IF(AND($C117>0,OR(J117="")),1,IF(J117>$C117,1,0)) -> 0 | CR117: =IF(AND($C117>0,OR(K117="")),1,IF(K117>$C117,1,0)) -> 0 | CS117: =IF(AND($C117>0,OR(L117="")),1,IF(L117>$C117,1,0)) -> 0
A118: Sistematización Participativa | B118: =SUM(ENERO:DICIEMBRE!B118) -> 0 | C118: =SUM(D118:E118) -> 0 | D118: =SUM(ENERO:DICIEMBRE!D118) -> 0 | E118: =SUM(ENERO:DICIEMBRE!E118) -> 0 | F118: =SUM(ENERO:DICIEMBRE!F118) -> 0 | G118: =SUM(ENERO:DICIEMBRE!G118) -> 0 | H118: =SUM(ENERO:DICIEMBRE!H118) -> 0 | I118: =SUM(ENERO:DICIEMBRE!I118) -> 0 | J118: =SUM(ENERO:DICIEMBRE!J118) -> 0 | K118: =SUM(ENERO:DICIEMBRE!K118) -> 0 | ... R118: =SUM(ENERO:DICIEMBRE!R118) -> 0 | CA118: =IF(AND(E118>0,F118=""),"*No olvide digitar el campo "&F$112&""&". Digite CERO si no tiene.", IF(F118>E118," * El Número de "&F$112&""&" no puede superar el Total Mujeres. ","")) | CB118: =IF(AND(D118>0,G118=""),"*No olvide digitar el campo "&G$112&""&". Digite CERO si no tiene.", IF(G118>D118," * El Número de "&G$112&""&" no puede superar el Total Hombres. ","")) | CC118: =IF(AND($C118>0,H118=""),"*No olvide digitar el campo "&H$112&""&". Digite CERO si no tiene.", IF(H118>$C118," * La variable "&H$112&""&" no puede superar el Total Ambos Sexos. ","")) | CD118: =IF(AND($C118>0,I118=""),"*No olvide digitar el campo "&I$112&""&". Digite CERO si no tiene.", IF(I118>$C118," * La variable "&I$112&""&" no puede superar el Total Ambos Sexos. ","")) | CE118: =IF(AND($C118>0,J118=""),"*No olvide digitar el campo "&J$112&""&". Digite CERO si no tiene.", IF(J118>$C118," * La variable "&J$112&""&" no puede superar el Total Ambos Sexos. ","")) | CF118: =IF(AND($C118>0,K118=""),"*No olvide digitar el campo "&K$112&""&". Digite CERO si no tiene.", IF(K118>$C118," * La variable "&K$112&""&" no puede superar el Total Ambos Sexos. ","")) | CG118: =IF(AND($C118>0,L118=""),"*No olvide digitar el campo "&L$112&""&". Digite CERO si no tiene.", IF(L118>$C118," * La variable "&L$112&""&" no puede superar el Total Ambos Sexos. ","")) | CM118: =IF(AND(E118>0,OR(F118="")),1,IF(F118>E118,1,0)) -> 0 | CN118: =IF(AND(D118>0,OR(G118="")),1,IF(G118>D118,1,0)) -> 0 | CO118: =IF(AND($C118>0,OR(H118="")),1,IF(H118>$C118,1,0)) -> 0 | CP118: =IF(AND($C118>0,OR(I118="")),1,IF(I118>$C118,1,0)) -> 0 | CQ118: =IF(AND($C118>0,OR(J118="")),1,IF(J118>$C118,1,0)) -> 0 | CR118: =IF(AND($C118>0,OR(K118="")),1,IF(K118>$C118,1,0)) -> 0 | CS118: =IF(AND($C118>0,OR(L118="")),1,IF(L118>$C118,1,0)) -> 0
A119: Capacitación y/o Formación de equipos y directivos de salud | B119: =SUM(ENERO:DICIEMBRE!B119) -> 0 | C119: =SUM(D119:E119) -> 0 | D119: =SUM(ENERO:DICIEMBRE!D119) -> 0 | E119: =SUM(ENERO:DICIEMBRE!E119) -> 0 | F119: =SUM(ENERO:DICIEMBRE!F119) -> 0 | G119: =SUM(ENERO:DICIEMBRE!G119) -> 0 | H119: =SUM(ENERO:DICIEMBRE!H119) -> 0 | I119: =SUM(ENERO:DICIEMBRE!I119) -> 0 | J119: =SUM(ENERO:DICIEMBRE!J119) -> 0 | K119: =SUM(ENERO:DICIEMBRE!K119) -> 0 | ... R119: =SUM(ENERO:DICIEMBRE!R119) -> 0 | CA119: =IF(AND(E119>0,F119=""),"*No olvide digitar el campo "&F$112&""&". Digite CERO si no tiene.", IF(F119>E119," * El Número de "&F$112&""&" no puede superar el Total Mujeres. ","")) | CB119: =IF(AND(D119>0,G119=""),"*No olvide digitar el campo "&G$112&""&". Digite CERO si no tiene.", IF(G119>D119," * El Número de "&G$112&""&" no puede superar el Total Hombres. ","")) | CC119: =IF(AND($C119>0,H119=""),"*No olvide digitar el campo "&H$112&""&". Digite CERO si no tiene.", IF(H119>$C119," * La variable "&H$112&""&" no puede superar el Total Ambos Sexos. ","")) | CD119: =IF(AND($C119>0,I119=""),"*No olvide digitar el campo "&I$112&""&". Digite CERO si no tiene.", IF(I119>$C119," * La variable "&I$112&""&" no puede superar el Total Ambos Sexos. ","")) | CE119: =IF(AND($C119>0,J119=""),"*No olvide digitar el campo "&J$112&""&". Digite CERO si no tiene.", IF(J119>$C119," * La variable "&J$112&""&" no puede superar el Total Ambos Sexos. ","")) | CF119: =IF(AND($C119>0,K119=""),"*No olvide digitar el campo "&K$112&""&". Digite CERO si no tiene.", IF(K119>$C119," * La variable "&K$112&""&" no puede superar el Total Ambos Sexos. ","")) | CG119: =IF(AND($C119>0,L119=""),"*No olvide digitar el campo "&L$112&""&". Digite CERO si no tiene.", IF(L119>$C119," * La variable "&L$112&""&" no puede superar el Total Ambos Sexos. ","")) | CM119: =IF(AND(E119>0,OR(F119="")),1,IF(F119>E119,1,0)) -> 0 | CN119: =IF(AND(D119>0,OR(G119="")),1,IF(G119>D119,1,0)) -> 0 | CO119: =IF(AND($C119>0,OR(H119="")),1,IF(H119>$C119,1,0)) -> 0 | CP119: =IF(AND($C119>0,OR(I119="")),1,IF(I119>$C119,1,0)) -> 0 | CQ119: =IF(AND($C119>0,OR(J119="")),1,IF(J119>$C119,1,0)) -> 0 | CR119: =IF(AND($C119>0,OR(K119="")),1,IF(K119>$C119,1,0)) -> 0 | CS119: =IF(AND($C119>0,OR(L119="")),1,IF(L119>$C119,1,0)) -> 0
A120: Capacitación y/o Formación de Dirigentes, Comunidad y representantes de la Sociedad Civil | B120: =SUM(ENERO:DICIEMBRE!B120) -> 0 | C120: =SUM(D120:E120) -> 0 | D120: =SUM(ENERO:DICIEMBRE!D120) -> 0 | E120: =SUM(ENERO:DICIEMBRE!E120) -> 0 | F120: =SUM(ENERO:DICIEMBRE!F120) -> 0 | G120: =SUM(ENERO:DICIEMBRE!G120) -> 0 | H120: =SUM(ENERO:DICIEMBRE!H120) -> 0 | I120: =SUM(ENERO:DICIEMBRE!I120) -> 0 | J120: =SUM(ENERO:DICIEMBRE!J120) -> 0 | K120: =SUM(ENERO:DICIEMBRE!K120) -> 0 | ... R120: =SUM(ENERO:DICIEMBRE!R120) -> 0 | CA120: =IF(AND(E120>0,F120=""),"*No olvide digitar el campo "&F$112&""&". Digite CERO si no tiene.", IF(F120>E120," * El Número de "&F$112&""&" no puede superar el Total Mujeres. ","")) | CB120: =IF(AND(D120>0,G120=""),"*No olvide digitar el campo "&G$112&""&". Digite CERO si no tiene.", IF(G120>D120," * El Número de "&G$112&""&" no puede superar el Total Hombres. ","")) | CC120: =IF(AND($C120>0,H120=""),"*No olvide digitar el campo "&H$112&""&". Digite CERO si no tiene.", IF(H120>$C120," * La variable "&H$112&""&" no puede superar el Total Ambos Sexos. ","")) | CD120: =IF(AND($C120>0,I120=""),"*No olvide digitar el campo "&I$112&""&". Digite CERO si no tiene.", IF(I120>$C120," * La variable "&I$112&""&" no puede superar el Total Ambos Sexos. ","")) | CE120: =IF(AND($C120>0,J120=""),"*No olvide digitar el campo "&J$112&""&". Digite CERO si no tiene.", IF(J120>$C120," * La variable "&J$112&""&" no puede superar el Total Ambos Sexos. ","")) | CF120: =IF(AND($C120>0,K120=""),"*No olvide digitar el campo "&K$112&""&". Digite CERO si no tiene.", IF(K120>$C120," * La variable "&K$112&""&" no puede superar el Total Ambos Sexos. ","")) | CG120: =IF(AND($C120>0,L120=""),"*No olvide digitar el campo "&L$112&""&". Digite CERO si no tiene.", IF(L120>$C120," * La variable "&L$112&""&" no puede superar el Total Ambos Sexos. ","")) | CM120: =IF(AND(E120>0,OR(F120="")),1,IF(F120>E120,1,0)) -> 0 | CN120: =IF(AND(D120>0,OR(G120="")),1,IF(G120>D120,1,0)) -> 0 | CO120: =IF(AND($C120>0,OR(H120="")),1,IF(H120>$C120,1,0)) -> 0 | CP120: =IF(AND($C120>0,OR(I120="")),1,IF(I120>$C120,1,0)) -> 0 | CQ120: =IF(AND($C120>0,OR(J120="")),1,IF(J120>$C120,1,0)) -> 0 | CR120: =IF(AND($C120>0,OR(K120="")),1,IF(K120>$C120,1,0)) -> 0 | CS120: =IF(AND($C120>0,OR(L120="")),1,IF(L120>$C120,1,0)) -> 0
A121: Actividades con pueblos originarios | B121: =SUM(ENERO:DICIEMBRE!B121) -> 1 | C121: =SUM(D121:E121) -> 4 | D121: =SUM(ENERO:DICIEMBRE!D121) -> 1 | E121: =SUM(ENERO:DICIEMBRE!E121) -> 3 | F121: =SUM(ENERO:DICIEMBRE!F121) -> 0 | G121: =SUM(ENERO:DICIEMBRE!G121) -> 0 | H121: =SUM(ENERO:DICIEMBRE!H121) -> 0 | I121: =SUM(ENERO:DICIEMBRE!I121) -> 0 | J121: =SUM(ENERO:DICIEMBRE!J121) -> 2 | K121: =SUM(ENERO:DICIEMBRE!K121) -> 0 | ... R121: =SUM(ENERO:DICIEMBRE!R121) -> 0 | CA121: =IF(AND(E121>0,F121=""),"*No olvide digitar el campo "&F$112&""&". Digite CERO si no tiene.", IF(F121>E121," * El Número de "&F$112&""&" no puede superar el Total Mujeres. ","")) | CB121: =IF(AND(D121>0,G121=""),"*No olvide digitar el campo "&G$112&""&". Digite CERO si no tiene.", IF(G121>D121," * El Número de "&G$112&""&" no puede superar el Total Hombres. ","")) | CC121: =IF(AND($C121>0,H121=""),"*No olvide digitar el campo "&H$112&""&". Digite CERO si no tiene.", IF(H121>$C121," * La variable "&H$112&""&" no puede superar el Total Ambos Sexos. ","")) | CD121: =IF(AND($C121>0,I121=""),"*No olvide digitar el campo "&I$112&""&". Digite CERO si no tiene.", IF(I121>$C121," * La variable "&I$112&""&" no puede superar el Total Ambos Sexos. ","")) | CE121: =IF(AND($C121>0,J121=""),"*No olvide digitar el campo "&J$112&""&". Digite CERO si no tiene.", IF(J121>$C121," * La variable "&J$112&""&" no puede superar el Total Ambos Sexos. ","")) | CF121: =IF(AND($C121>0,K121=""),"*No olvide digitar el campo "&K$112&""&". Digite CERO si no tiene.", IF(K121>$C121," * La variable "&K$112&""&" no puede superar el Total Ambos Sexos. ","")) | CG121: =IF(AND($C121>0,L121=""),"*No olvide digitar el campo "&L$112&""&". Digite CERO si no tiene.", IF(L121>$C121," * La variable "&L$112&""&" no puede superar el Total Ambos Sexos. ","")) | CM121: =IF(AND(E121>0,OR(F121="")),1,IF(F121>E121,1,0)) -> 0 | CN121: =IF(AND(D121>0,OR(G121="")),1,IF(G121>D121,1,0)) -> 0 | CO121: =IF(AND($C121>0,OR(H121="")),1,IF(H121>$C121,1,0)) -> 0 | CP121: =IF(AND($C121>0,OR(I121="")),1,IF(I121>$C121,1,0)) -> 0 | CQ121: =IF(AND($C121>0,OR(J121="")),1,IF(J121>$C121,1,0)) -> 0 | CR121: =IF(AND($C121>0,OR(K121="")),1,IF(K121>$C121,1,0)) -> 0 | CS121: =IF(AND($C121>0,OR(L121="")),1,IF(L121>$C121,1,0)) -> 0
A122: Actividades con migrantes | B122: =SUM(ENERO:DICIEMBRE!B122) -> 0 | C122: =SUM(D122:E122) -> 0 | D122: =SUM(ENERO:DICIEMBRE!D122) -> 0 | E122: =SUM(ENERO:DICIEMBRE!E122) -> 0 | F122: =SUM(ENERO:DICIEMBRE!F122) -> 0 | G122: =SUM(ENERO:DICIEMBRE!G122) -> 0 | H122: =SUM(ENERO:DICIEMBRE!H122) -> 0 | I122: =SUM(ENERO:DICIEMBRE!I122) -> 0 | J122: =SUM(ENERO:DICIEMBRE!J122) -> 0 | K122: =SUM(ENERO:DICIEMBRE!K122) -> 0 | ... R122: =SUM(ENERO:DICIEMBRE!R122) -> 0 | CA122: =IF(AND(E122>0,F122=""),"*No olvide digitar el campo "&F$112&""&". Digite CERO si no tiene.", IF(F122>E122," * El Número de "&F$112&""&" no puede superar el Total Mujeres. ","")) | CB122: =IF(AND(D122>0,G122=""),"*No olvide digitar el campo "&G$112&""&". Digite CERO si no tiene.", IF(G122>D122," * El Número de "&G$112&""&" no puede superar el Total Hombres. ","")) | CC122: =IF(AND($C122>0,H122=""),"*No olvide digitar el campo "&H$112&""&". Digite CERO si no tiene.", IF(H122>$C122," * La variable "&H$112&""&" no puede superar el Total Ambos Sexos. ","")) | CD122: =IF(AND($C122>0,I122=""),"*No olvide digitar el campo "&I$112&""&". Digite CERO si no tiene.", IF(I122>$C122," * La variable "&I$112&""&" no puede superar el Total Ambos Sexos. ","")) | CE122: =IF(AND($C122>0,J122=""),"*No olvide digitar el campo "&J$112&""&". Digite CERO si no tiene.", IF(J122>$C122," * La variable "&J$112&""&" no puede superar el Total Ambos Sexos. ","")) | CF122: =IF(AND($C122>0,K122=""),"*No olvide digitar el campo "&K$112&""&". Digite CERO si no tiene.", IF(K122>$C122," * La variable "&K$112&""&" no puede superar el Total Ambos Sexos. ","")) | CG122: =IF(AND($C122>0,L122=""),"*No olvide digitar el campo "&L$112&""&". Digite CERO si no tiene.", IF(L122>$C122," * La variable "&L$112&""&" no puede superar el Total Ambos Sexos. ","")) | CM122: =IF(AND(E122>0,OR(F122="")),1,IF(F122>E122,1,0)) -> 0 | CN122: =IF(AND(D122>0,OR(G122="")),1,IF(G122>D122,1,0)) -> 0 | CO122: =IF(AND($C122>0,OR(H122="")),1,IF(H122>$C122,1,0)) -> 0 | CP122: =IF(AND($C122>0,OR(I122="")),1,IF(I122>$C122,1,0)) -> 0 | CQ122: =IF(AND($C122>0,OR(J122="")),1,IF(J122>$C122,1,0)) -> 0 | CR122: =IF(AND($C122>0,OR(K122="")),1,IF(K122>$C122,1,0)) -> 0 | CS122: =IF(AND($C122>0,OR(L122="")),1,IF(L122>$C122,1,0)) -> 0
A123: TOTAL | B123: =SUM(B113:B122) -> 1 | C123: =SUM(C113:C122) -> 4 | D123: =SUM(D113:D122) -> 1 | E123: =SUM(E113:E122) -> 3 | F123: =SUM(F113:F122) -> 0 | G123: =SUM(G113:G122) -> 0 | H123: =SUM(H113:H122) -> 0 | I123: =SUM(I113:I122) -> 0 | ... R123: =SUM(R113:R122) -> 0
A200: =SUM(B12:B51,B53:B57,B62:B73,B78:C91,B97:B108,B113:C122) -> 61182 | B200: =SUM(CM12:CU122) -> 0

Sheet ENERO
A1: SERVICIO DE SALUD
A2: =CONCATENATE("COMUNA: ",[2]NOMBRE!B2, " (",[2]NOMBRE!C2,[2]NOMBRE!D2,[2]NOMBRE!E2,[2]NOMBRE!F2,[2]NOMBRE!G2,")") -> COMUNA: LINARES (07401)
A3: =CONCATENATE("ESTABLECIMIENTO/ESTRATEGIA: ", [2]NOMBRE!B3, " (",[2]NOMBRE!C3,[2]NOMBRE!D3,[2]NOMBRE!E3,[2]NOMBRE!F3,[2]NOMBRE!G3,[2]NOMBRE!H3,")") -> ESTABLECIMIENTO/ESTRATEGIA: HOSPITAL PRESIDENTE CARLOS IBAÑEZ DEL CAMPO (116108)
A4: =CONCATENATE("MES: ",[2]NOMBRE!B6, " (",[2]NOMBRE!C6,[2]NOMBRE!D6,")") -> MES: ENERO (01)
A5: =CONCATENATE("AÑO: ",[2]NOMBRE!B7) -> AÑO: 2025
A6: REM-A19b. ACTIVIDADES DE PARTICIPACIÓN SOCIAL
A8: SECCIÓN A: ATENCIÓN OFICINAS DE INFORMACIONES (SISTEMA INTEGRAL DE ATENCIÓN A USUARIOS)
A9: TIPO DE ATENCION | B9: Nº DE ATENCIONES EN EL MES | E9: Respuestas del Mes Dentro de Plazos Legales (15 días Hábiles) | G9: Reclamos Respondidos Fuera de Plazos Legales | H9: Reclamos Pendientes | J9: TRANS | L9: No Binarie | M9: No revelado | N9: Pueblos Originarios | O9: Migrantes | P9: PRAIS | Q9: N° DE ATENCIONES EN EL MES (Ley Mila)
B10: TOTAL AMBOS SEXOS | C10: Hombres | D10: Mujeres | E10: Reclamos generados en el mes | F10: Reclamos generados en el mes anterior | H10: Respuestas pendientes dentro del plazo legal | I10: Respuestas pendientes fuera del plazo legal | J10: Masculino | K10: Femenina | Q10: Niños, niñas y adolescentes | R10: Gestantes
A11: TOTAL DE RECLAMOS | B11: =SUM(C11:D11) -> 135 | C11: =SUM(C12:C51) -> 30 | D11: =SUM(D12:D51) -> 105 | E11: =SUM(E12:E51) -> 125 | F11: =SUM(F12:F51) -> 18 | G11: =SUM(G12:G51) -> 1 | H11: =SUM(H12:H51) -> 10 | I11: =SUM(I12:I51) -> 0 | J11: =SUM(J12:J51) -> 0 | ... R11: =SUM(R12:R51) -> 0
A12: Trato no amable, digno ni respetuoso | B12: =SUM(C12:D12) -> 5 | C12: 1 | D12: 4 | E12: 4 | F12: 0 | G12: 0 | H12: 1 | I12: 0 | J12: 0 | K12: 0 | L12: 0 | M12: 0 | N12: 0 | O12: 0 | P12: 0 | Q12: 0 | R12: 0 | S12: =CA12&CB12&CC12&CD12&CE12&CF12&CG12&CH12&CI12 | CA12: =IF(AND(D12>0,J12=""),"*No olvide digitar el campo TRANS Masculino (Digite CERO si no tiene).", IF(J12>D12," * El Número de TRANS Masculino no puede superar el Total Mujeres. ","")) | CB12: =IF(AND(C12>0,OR(K12=""))," *No olvide digitar el campo TRANS Femenino (Digite CERO si no tiene).",IF(K12>$C12," * El Número de TRANS Femenino no puede superar el Total Hombres. ","")) | CC12: =IF(AND($B12>0,OR(L12=""))," *No olvide digitar el campo "&L$9&""&". Digite CERO si no tiene.", IF(L12>$B12," * La variable "&L$9&""&" no puede superar el Total Ambos Sexos. ","")) | CD12: =IF(AND($B12>0,OR(M12=""))," *No olvide digitar el campo "&M$9&""&". Digite CERO si no tiene.", IF(M12>$B12," * La variable "&M$9&""&" no puede superar el Total Ambos Sexos. ","")) | CE12: =IF(AND($B12>0,OR(N12=""))," *No olvide digitar el campo "&N$9&""&". Digite CERO si no tiene.", IF(N12>$B12," * La variable "&N$9&""&" no puede superar el Total Ambos Sexos. ","")) | CF12: =IF(AND($B12>0,OR(O12=""))," *No olvide digitar el campo "&O$9&""&". Digite CERO si no tiene.", IF(O12>$B12," * La variable "&O$9&""&" no puede superar el Total Ambos Sexos. ","")) | CG12: =IF(AND($B12>0,OR(P12=""))," *No olvide digitar el campo "&P$9&""&". Digite CERO si no tiene.", IF(P12>$B12," * La variable "&P$9&""&" no puede superar el Total Ambos Sexos. ","")) | CH12: =IF(AND($B12>0,OR(Q12=""))," *No olvide digitar el campo "&Q$9&""&". Niños, niñas y adolescentes. Digite CERO si no tiene.", IF(Q12>$B12," * La variable "&Q$9&""&" no puede superar el Total Ambos Sexos. ","")) | CI12: =IF(AND($D12>0,OR(R12=""))," *No olvide digitar el campo "&Q$9&""&" Gestantes. Digite CERO si no tiene.", IF(R12>$D12," * La variable "&Q$9&""&" no puede superar el Total Mujeres. ","")) | CM12: =IF(AND(D12>0,OR(J12="")),1,IF(J12>D12,1,0)) -> 0 | CN12: =IF(AND(C12>0,OR(K12="")),1,IF(K12>C12,1,0)) -> 0 | CO12: =IF(AND($B12>0,OR(L12="")),1,IF(L12>$B12,1,0)) -> 0 | CP12: =IF(AND($B12>0,OR(M12="")),1,IF(M12>$B12,1,0)) -> 0 | CQ12: =IF(AND($B12>0,OR(N12="")),1,IF(N12>$B12,1,0)) -> 0 | CR12: =IF(AND($B12>0,OR(O12="")),1,IF(O12>$B12,1,0)) -> 0 | CS12: =IF(AND($B12>0,OR(P12="")),1,IF(P12>$B12,1,0)) -> 0 | CT12: =IF(AND($B12>0,OR(Q12="")),1,IF(Q12>$B12,1,0)) -> 0 | CU12: =IF(AND($D12>0,OR(R12="")),1,IF(R12>$D12,1,0)) -> 0
A13: Trato discriminatorio | B13: =SUM(C13:D13) -> 0 | C13: 0 | D13: 0 | E13: 0 | F13: 0 | G13: 0 | H13: 0 | I13: 0 | J13: 0 | K13: 0 | L13: 0 | M13: 0 | N13: 0 | O13: 0 | P13: 0 | Q13: 0 | R13: 0 | S13: =CA13&CB13&CC13&CD13&CE13&CF13&CG13&CH13&CI13 | CA13: =IF(AND(D13>0,J13=""),"*No olvide digitar el campo TRANS Masculino (Digite CERO si no tiene).", IF(J13>D13," * El Número de TRANS Masculino no puede superar el Total Mujeres. ","")) | CB13: =IF(AND(C13>0,OR(K13=""))," *No olvide digitar el campo TRANS Femenino (Digite CERO si no tiene).",IF(K13>$C13," * El Número de TRANS Femenino no puede superar el Total Hombres. ","")) | CC13: =IF(AND($B13>0,OR(L13=""))," *No olvide digitar el campo "&L$9&""&". Digite CERO si no tiene.", IF(L13>$B13," * La variable "&L$9&""&" no puede superar el Total Ambos Sexos. ","")) | CD13: =IF(AND($B13>0,OR(M13=""))," *No olvide digitar el campo "&M$9&""&". Digite CERO si no tiene.", IF(M13>$B13," * La variable "&M$9&""&" no puede superar el Total Ambos Sexos. ","")) | CE13: =IF(AND($B13>0,OR(N13=""))," *No olvide digitar el campo "&N$9&""&". Digite CERO si no tiene.", IF(N13>$B13," * La variable "&N$9&""&" no puede superar el Total Ambos Sexos. ","")) | CF13: =IF(AND($B13>0,OR(O13=""))," *No olvide digitar el campo "&O$9&""&". Digite CERO si no tiene.", IF(O13>$B13," * La variable "&O$9&""&" no puede superar el Total Ambos Sexos. ","")) | CG13: =IF(AND($B13>0,OR(P13=""))," *No olvide digitar el campo "&P$9&""&". Digite CERO si no tiene.", IF(P13>$B13," * La variable "&P$9&""&" no puede superar el Total Ambos Sexos. ","")) | CH13: =IF(AND($B13>0,OR(Q13=""))," *No olvide digitar el campo "&Q$9&""&". Niños, niñas y adolescentes. Digite CERO si no tiene.", IF(Q13>$B13," * La variable "&Q$9&""&" no puede superar el Total Ambos Sexos. ","")) | CI13: =IF(AND($D13>0,OR(R13=""))," *No olvide digitar el campo "&Q$9&""&" Gestantes. Digite CERO si no tiene.", IF(R13>$D13," * La variable "&Q$9&""&" no puede superar el Total Mujeres. ","")) | CM13: =IF(AND(D13>0,OR(J13="")),1,IF(J13>D13,1,0)) -> 0 | CN13: =IF(AND(C13>0,OR(K13="")),1,IF(K13>C13,1,0)) -> 0 | CO13: =IF(AND($B13>0,OR(L13="")),1,IF(L13>$B13,1,0)) -> 0 | CP13: =IF(AND($B13>0,OR(M13="")),1,IF(M13>$B13,1,0)) -> 0 | CQ13: =IF(AND($B13>0,OR(N13="")),1,IF(N13>$B13,1,0)) -> 0 | CR13: =IF(AND($B13>0,OR(O13="")),1,IF(O13>$B13,1,0)) -> 0 | CS13: =IF(AND($B13>0,OR(P13="")),1,IF(P13>$B13,1,0)) -> 0 | CT13: =IF(AND($B13>0,OR(Q13="")),1,IF(Q13>$B13,1,0)) -> 0 | CU13: =IF(AND($D13>0,OR(R13="")),1,IF(R13>$D13,1,0)) -> 0
A14: Trato con falta de privacidad | B14: =SUM(C14:D14) -> 0 | C14: 0 | D14: 0 | E14: 0 | F14: 0 | G14: 0 | H14: 0 | I14: 0 | J14: 0 | K14: 0 | L14: 0 | M14: 0 | N14: 0 | O14: 0 | P14: 0 | Q14: 0 | R14: 0 | S14: =CA14&CB14&CC14&CD14&CE14&CF14&CG14&CH14&CI14 | CA14: =IF(AND(D14>0,J14=""),"*No olvide digitar el campo TRANS Masculino (Digite CERO si no tiene).", IF(J14>D14," * El Número de TRANS Masculino no puede superar el Total Mujeres. ","")) | CB14: =IF(AND(C14>0,OR(K14=""))," *No olvide digitar el campo TRANS Femenino (Digite CERO si no tiene).",IF(K14>$C14," * El Número de TRANS Femenino no puede superar el Total Hombres. ","")) | CC14: =IF(AND($B14>0,OR(L14=""))," *No olvide digitar el campo "&L$9&""&". Digite CERO si no tiene.", IF(L14>$B14," * La variable "&L$9&""&" no puede superar el Total Ambos Sexos. ","")) | CD14: =IF(AND($B14>0,OR(M14=""))," *No olvide digitar el campo "&M$9&""&". Digite CERO si no tiene.", IF(M14>$B14," * La variable "&M$9&""&" no puede superar el Total Ambos Sexos. ","")) | CE14: =IF(AND($B14>0,OR(N14=""))," *No olvide digitar el campo "&N$9&""&". Digite CERO si no tiene.", IF(N14>$B14," * La variable "&N$9&""&" no puede superar el Total Ambos Sexos. ","")) | CF14: =IF(AND($B14>0,OR(O14=""))," *No olvide digitar el campo "&O$9&""&". Digite CERO si no tiene.", IF(O14>$B14," * La variable "&O$9&""&" no puede superar el Total Ambos Sexos. ","")) | CG14: =IF(AND($B14>0,OR(P14=""))," *No olvide digitar el campo "&P$9&""&". Digite CERO si no tiene.", IF(P14>$B14," * La variable "&P$9&""&" no puede superar el Total Ambos Sexos. ","")) | CH14: =IF(AND($B14>0,OR(Q14=""))," *No olvide digitar el campo "&Q$9&""&". Niños, niñas y adolescentes. Digite CERO si no tiene.", IF(Q14>$B14," * La variable "&Q$9&""&" no puede superar el Total Ambos Sexos. ","")) | CI14: =IF(AND($D14>0,OR(R14=""))," *No olvide digitar el campo "&Q$9&""&" Gestantes. Digite CERO si no tiene.", IF(R14>$D14," * La variable "&Q$9&""&" no puede superar el Total Mujeres. ","")) | CM14: =IF(AND(D14>0,OR(J14="")),1,IF(J14>D14,1,0)) -> 0 | CN14: =IF(AND(C14>0,OR(K14="")),1,IF(K14>C14,1,0)) -> 0 | CO14: =IF(AND($B14>0,OR(L14="")),1,IF(L14>$B14,1,0)) -> 0 | CP14: =IF(AND($B14>0,OR(M14="")),1,IF(M14>$B14,1,0)) -> 0 | CQ14: =IF(AND($B14>0,OR(N14="")),1,IF(N14>$B14,1,0)) -> 0 | CR14: =IF(AND($B14>0,OR(O14="")),1,IF(O14>$B14,1,0)) -> 0 | CS14: =IF(AND($B14>0,OR(P14="")),1,IF(P14>$B14,1,0)) -> 0 | CT14: =IF(AND($B14>0,OR(Q14="")),1,IF(Q14>$B14,1,0)) -> 0 | CU14: =IF(AND($D14>0,OR(R14="")),1,IF(R14>$D14,1,0)) -> 0
A15: Trato con falta de confidencialidad | B15: =SUM(C15:D15) -> 0 | C15: 0 | D15: 0 | E15: 0 | F15: 0 | G15: 0 | H15: 0 | I15: 0 | J15: 0 | K15: 0 | L15: 0 | M15: 0 | N15: 0 | O15: 0 | P15: 0 | Q15: 0 | R15: 0 | S15: =CA15&CB15&CC15&CD15&CE15&CF15&CG15&CH15&CI15 | CA15: =IF(AND(D15>0,J15=""),"*No olvide digitar el campo TRANS Masculino (Digite CERO si no tiene).", IF(J15>D15," * El Número de TRANS Masculino no puede superar el Total Mujeres. ","")) | CB15: =IF(AND(C15>0,OR(K15=""))," *No olvide digitar el campo TRANS Femenino (Digite CERO si no tiene).",IF(K15>$C15," * El Número de TRANS Femenino no puede superar el Total Hombres. ","")) | CC15: =IF(AND($B15>0,OR(L15=""))," *No olvide digitar el campo "&L$9&""&". Digite CERO si no tiene.", IF(L15>$B15," * La variable "&L$9&""&" no puede superar el Total Ambos Sexos. ","")) | CD15: =IF(AND($B15>0,OR(M15=""))," *No olvide digitar el campo "&M$9&""&". Digite CERO si no tiene.", IF(M15>$B15," * La variable "&M$9&""&" no puede superar el Total Ambos Sexos. ","")) | CE15: =IF(AND($B15>0,OR(N15=""))," *No olvide digitar el campo "&N$9&""&". Digite CERO si no tiene.", IF(N15>$B15," * La variable "&N$9&""&" no puede superar el Total Ambos Sexos. ","")) | CF15: =IF(AND($B15>0,OR(O15=""))," *No olvide digitar el campo "&O$9&""&". Digite CERO si no tiene.", IF(O15>$B15," * La variable "&O$9&""&" no puede superar el Total Ambos Sexos. ","")) | CG15: =IF(AND($B15>0,OR(P15=""))," *No olvide digitar el campo "&P$9&""&". Digite CERO si no tiene.", IF(P15>$B15," * La variable "&P$9&""&" no puede superar el Total Ambos Sexos. ","")) | CH15: =IF(AND($B15>0,OR(Q15=""))," *No olvide digitar el campo "&Q$9&""&". Niños, niñas y adolescentes. Digite CERO si no tiene.", IF(Q15>$B15," * La variable "&Q$9&""&" no puede superar el Total Ambos Sexos. ","")) | CI15: =IF(AND($D15>0,OR(R15=""))," *No olvide digitar el campo "&Q$9&""&" Gestantes. Digite CERO si no tiene.", IF(R15>$D15," * La variable "&Q$9&""&" no puede superar el Total Mujeres. ","")) | CM15: =IF(AND(D15>0,OR(J15="")),1,IF(J15>D15,1,0)) -> 0 | CN15: =IF(AND(C15>0,OR(K15="")),1,IF(K15>C15,1,0)) -> 0 | CO15: =IF(AND($B15>0,OR(L15="")),1,IF(L15>$B15,1,0)) -> 0 | CP15: =IF(AND($B15>0,OR(M15="")),1,IF(M15>$B15,1,0)) -> 0 | CQ15: =IF(AND($B15>0,OR(N15="")),1,IF(N15>$B15,1,0)) -> 0 | CR15: =IF(AND($B15>0,OR(O15="")),1,IF(O15>$B15,1,0)) -> 0 | CS15: =IF(AND($B15>0,OR(P15="")),1,IF(P15>$B15,1,0)) -> 0 | CT15: =IF(AND($B15>0,OR(Q15="")),1,IF(Q15>$B15,1,0)) -> 0 | CU15: =IF(AND($D15>0,OR(R15="")),1,IF(R15>$D15,1,0)) -> 0
A16: Trato sin pertinencia cultural en la atención | B16: =SUM(C16:D16) -> 0 | C16: 0 | D16: 0 | E16: 0 | F16: 0 | G16: 0 | H16: 0 | I16: 0 | J16: 0 | K16: 0 | L16: 0 | M16: 0 | N16: 0 | O16: 0 | P16: 0 | Q16: 0 | R16: 0 | S16: =CA16&CB16&CC16&CD16&CE16&CF16&CG16&CH16&CI16 | CA16: =IF(AND(D16>0,J16=""),"*No olvide digitar el campo TRANS Masculino (Digite CERO si no tiene).", IF(J16>D16," * El Número de TRANS Masculino no puede superar el Total Mujeres. ","")) | CB16: =IF(AND(C16>0,OR(K16=""))," *No olvide digitar el campo TRANS Femenino (Digite CERO si no tiene).",IF(K16>$C16," * El Número de TRANS Femenino no puede superar el Total Hombres. ","")) | CC16: =IF(AND($B16>0,OR(L16=""))," *No olvide digitar el campo "&L$9&""&". Digite CERO si no tiene.", IF(L16>$B16," * La variable "&L$9&""&" no puede superar el Total Ambos Sexos. ","")) | CD16: =IF(AND($B16>0,OR(M16=""))," *No olvide digitar el campo "&M$9&""&". Digite CERO si no tiene.", IF(M16>$B16," * La variable "&M$9&""&" no puede superar el Total Ambos Sexos. ","")) | CE16: =IF(AND($B16>0,OR(N16=""))," *No olvide digitar el campo "&N$9&""&". Digite CERO si no tiene.", IF(N16>$B16," * La variable "&N$9&""&" no puede superar el Total Ambos Sexos. ","")) | CF16: =IF(AND($B16>0,OR(O16=""))," *No olvide digitar el campo "&O$9&""&". Digite CERO si no tiene.", IF(O16>$B16," * La variable "&O$9&""&" no puede superar el Total Ambos Sexos. ","")) | CG16: =IF(AND($B16>0,OR(P16=""))," *No olvide digitar el campo "&P$9&""&". Digite CERO si no tiene.", IF(P16>$B16," * La variable "&P$9&""&" no puede superar el Total Ambos Sexos. ","")) | CH16: =IF(AND($B16>0,OR(Q16=""))," *No olvide digitar el campo "&Q$9&""&". Niños, niñas y adolescentes. Digite CERO si no tiene.", IF(Q16>$B16," * La variable "&Q$9&""&" no puede superar el Total Ambos Sexos. ","")) | CI16: =IF(AND($D16>0,OR(R16=""))," *No olvide digitar el campo "&Q$9&""&" Gestantes. Digite CERO si no tiene.", IF(R16>$D16," * La variable "&Q$9&""&" no puede superar el Total Mujeres. ","")) | CM16: =IF(AND(D16>0,OR(J16="")),1,IF(J16>D16,1,0)) -> 0 | CN16: =IF(AND(C16>0,OR(K16="")),1,IF(K16>C16,1,0)) -> 0 | CO16: =IF(AND($B16>0,OR(L16="")),1,IF(L16>$B16,1,0)) -> 0 | CP16: =IF(AND($B16>0,OR(M16="")),1,IF(M16>$B16,1,0)) -> 0 | CQ16: =IF(AND($B16>0,OR(N16="")),1,IF(N16>$B16,1,0)) -> 0 | CR16: =IF(AND($B16>0,OR(O16="")),1,IF(O16>$B16,1,0)) -> 0 | CS16: =IF(AND($B16>0,OR(P16="")),1,IF(P16>$B16,1,0)) -> 0 | CT16: =IF(AND($B16>0,OR(Q16="")),1,IF(Q16>$B16,1,0)) -> 0 | CU16: =IF(AND($D16>0,OR(R16="")),1,IF(R16>$D16,1,0)) -> 0
A17: Trato sin condiciones para el acompañamiento | B17: =SUM(C17:D17) -> 0 | C17: 0 | D17: 0 | E17: 0 | F17: 0 | G17: 0 | H17: 0 | I17: 0 | J17: 0 | K17: 0 | L17: 0 | M17: 0 | N17: 0 | O17: 0 | P17: 0 | Q17: 0 | R17: 0 | S17: =CA17&CB17&CC17&CD17&CE17&CF17&CG17&CH17&CI17 | CA17: =IF(AND(D17>0,J17=""),"*No olvide digitar el campo TRANS Masculino (Digite CERO si no tiene).", IF(J17>D17," * El Número de TRANS Masculino no puede superar el Total Mujeres. ","")) | CB17: =IF(AND(C17>0,OR(K17=""))," *No olvide digitar el campo TRANS Femenino (Digite CERO si no tiene).",IF(K17>$C17," * El Número de TRANS Femenino no puede superar el Total Hombres. ","")) | CC17: =IF(AND($B17>0,OR(L17=""))," *No olvide digitar el campo "&L$9&""&". Digite CERO si no tiene.", IF(L17>$B17," * La variable "&L$9&""&" no puede superar el Total Ambos Sexos. ","")) | CD17: =IF(AND($B17>0,OR(M17=""))," *No olvide digitar el campo "&M$9&""&". Digite CERO si no tiene.", IF(M17>$B17," * La variable "&M$9&""&" no puede superar el Total Ambos Sexos. ","")) | CE17: =IF(AND($B17>0,OR(N17=""))," *No olvide digitar el campo "&N$9&""&". Digite CERO si no tiene.", IF(N17>$B17," * La variable "&N$9&""&" no puede superar el Total Ambos Sexos. ","")) | CF17: =IF(AND($B17>0,OR(O17=""))," *No olvide digitar el campo "&O$9&""&". Digite CERO si no tiene.", IF(O17>$B17," * La variable "&O$9&""&" no puede superar el Total Ambos Sexos. ","")) | CG17: =IF(AND($B17>0,OR(P17=""))," *No olvide digitar el campo "&P$9&""&". Digite CERO si no tiene.", IF(P17>$B17," * La variable "&P$9&""&" no puede superar el Total Ambos Sexos. ","")) | CH17: =IF(AND($B17>0,OR(Q17=""))," *No olvide digitar el campo "&Q$9&""&". Niños, niñas y adolescentes. Digite CERO si no tiene.", IF(Q17>$B17," * La variable "&Q$9&""&" no puede superar el Total Ambos Sexos. ","")) | CI17: =IF(AND($D17>0,OR(R17=""))," *No olvide digitar el campo "&Q$9&""&" Gestantes. Digite CERO si no tiene.", IF(R17>$D17," * La variable "&Q$9&""&" no puede superar el Total Mujeres. ","")) | CM17: =IF(AND(D17>0,OR(J17="")),1,IF(J17>D17,1,0)) -> 0 | CN17: =IF(AND(C17>0,OR(K17="")),1,IF(K17>C17,1,0)) -> 0 | CO17: =IF(AND($B17>0,OR(L17="")),1,IF(L17>$B17,1,0)) -> 0 | CP17: =IF(AND($B17>0,OR(M17="")),1,IF(M17>$B17,1,0)) -> 0 | CQ17: =IF(AND($B17>0,OR(N17="")),1,IF(N17>$B17,1,0)) -> 0 | CR17: =IF(AND($B17>0,OR(O17="")),1,IF(O17>$B17,1,0)) -> 0 | CS17: =IF(AND($B17>0,OR(P17="")),1,IF(P17>$B17,1,0)) -> 0 | CT17: =IF(AND($B17>0,OR(Q17="")),1,IF(Q17>$B17,1,0)) -> 0 | CU17: =IF(AND($D17>0,OR(R17="")),1,IF(R17>$D17,1,0)) -> 0
A18: Competencia técnica diagnóstico | B18: =SUM(C18:D18) -> 16 | C18: 4 | D18: 12 | E18: 16 | F18: 1 | G18: 0 | H18: 0 | I18: 0 | J18: 0 | K18: 0 | L18: 0 | M18: 0 | N18: 0 | O18: 0 | P18: 0 | Q18: 0 | R18: 0 | S18: =CA18&CB18&CC18&CD18&CE18&CF18&CG18&CH18&CI18 | CA18: =IF(AND(D18>0,J18=""),"*No olvide digitar el campo TRANS Masculino (Digite CERO si no tiene).", IF(J18>D18," * El Número de TRANS Masculino no puede superar el Total Mujeres. ","")) | CB18: =IF(AND(C18>0,OR(K18=""))," *No olvide digitar el campo TRANS Femenino (Digite CERO si no tiene).",IF(K18>$C18," * El Número de TRANS Femenino no puede superar el Total Hombres. ","")) | CC18: =IF(AND($B18>0,OR(L18=""))," *No olvide digitar el campo "&L$9&""&". Digite CERO si no tiene.", IF(L18>$B18," * La variable "&L$9&""&" no puede superar el Total Ambos Sexos. ","")) | CD18: =IF(AND($B18>0,OR(M18=""))," *No olvide digitar el campo "&M$9&""&". Digite CERO si no tiene.", IF(M18>$B18," * La variable "&M$9&""&" no puede superar el Total Ambos Sexos. ","")) | CE18: =IF(AND($B18>0,OR(N18=""))," *No olvide digitar el campo "&N$9&""&". Digite CERO si no tiene.", IF(N18>$B18," * La variable "&N$9&""&" no puede superar el Total Ambos Sexos. ","")) | CF18: =IF(AND($B18>0,OR(O18=""))," *No olvide digitar el campo "&O$9&""&". Digite CERO si no tiene.", IF(O18>$B18," * La variable "&O$9&""&" no puede superar el Total Ambos Sexos. ","")) | CG18: =IF(AND($B18>0,OR(P18=""))," *No olvide digitar el campo "&P$9&""&". Digite CERO si no tiene.", IF(P18>$B18," * La variable "&P$9&""&" no puede superar el Total Ambos Sexos. ","")) | CH18: =IF(AND($B18>0,OR(Q18=""))," *No olvide digitar el campo "&Q$9&""&". Niños, niñas y adolescentes. Digite CERO si no tiene.", IF(Q18>$B18," * La variable "&Q$9&""&" no puede superar el Total Ambos Sexos. ","")) | CI18: =IF(AND($D18>0,OR(R18=""))," *No olvide digitar el campo "&Q$9&""&" Gestantes. Digite CERO si no tiene.", IF(R18>$D18," * La variable "&Q$9&""&" no puede superar el Total Mujeres. ","")) | CM18: =IF(AND(D18>0,OR(J18="")),1,IF(J18>D18,1,0)) -> 0 | CN18: =IF(AND(C18>0,OR(K18="")),1,IF(K18>C18,1,0)) -> 0 | CO18: =IF(AND($B18>0,OR(L18="")),1,IF(L18>$B18,1,0)) -> 0 | CP18: =IF(AND($B18>0,OR(M18="")),1,IF(M18>$B18,1,0)) -> 0 | CQ18: =IF(AND($B18>0,OR(N18="")),1,IF(N18>$B18,1,0)) -> 0 | CR18: =IF(AND($B18>0,OR(O18="")),1,IF(O18>$B18,1,0)) -> 0 | CS18: =IF(AND($B18>0,OR(P18="")),1,IF(P18>$B18,1,0)) -> 0 | CT18: =IF(AND($B18>0,OR(Q18="")),1,IF(Q18>$B18,1,0)) -> 0 | CU18: =IF(AND($D18>0,OR(R18="")),1,IF(R18>$D18,1,0)) -> 0
A19: Competencia técnica tratamiento farmacológico / clínico / cirugía | B19: =SUM(C19:D19) -> 0 | C19: 0 | D19: 0 | E19: 0 | F19: 0 | G19: 0 | H19: 0 | I19: 0 | J19: 0 | K19: 0 | L19: 0 | M19: 0 | N19: 0 | O19: 0 | P19: 0 | Q19: 0 | R19: 0 | S19: =CA19&CB19&CC19&CD19&CE19&CF19&CG19&CH19&CI19 | CA19: =IF(AND(D19>0,J19=""),"*No olvide digitar el campo TRANS Masculino (Digite CERO si no tiene).", IF(J19>D19," * El Número de TRANS Masculino no puede superar el Total Mujeres. ","")) | CB19: =IF(AND(C19>0,OR(K19=""))," *No olvide digitar el campo TRANS Femenino (Digite CERO si no tiene).",IF(K19>$C19," * El Número de TRANS Femenino no puede superar el Total Hombres. ","")) | CC19: =IF(AND($B19>0,OR(L19=""))," *No olvide digitar el campo "&L$9&""&". Digite CERO si no tiene.", IF(L19>$B19," * La variable "&L$9&""&" no puede superar el Total Ambos Sexos. ","")) | CD19: =IF(AND($B19>0,OR(M19=""))," *No olvide digitar el campo "&M$9&""&". Digite CERO si no tiene.", IF(M19>$B19," * La variable "&M$9&""&" no puede superar el Total Ambos Sexos. ","")) | CE19: =IF(AND($B19>0,OR(N19=""))," *No olvide digitar el campo "&N$9&""&". Digite CERO si no tiene.", IF(N19>$B19," * La variable "&N$9&""&" no puede superar el Total Ambos Sexos. ","")) | CF19: =IF(AND($B19>0,OR(O19=""))," *No olvide digitar el campo "&O$9&""&". Digite CERO si no tiene.", IF(O19>$B19," * La variable "&O$9&""&" no puede superar el Total Ambos Sexos. ","")) | CG19: =IF(AND($B19>0,OR(P19=""))," *No olvide digitar el campo "&P$9&""&". Digite CERO si no tiene.", IF(P19>$B19," * La variable "&P$9&""&" no puede superar el Total Ambos Sexos. ","")) | CH19: =IF(AND($B19>0,OR(Q19=""))," *No olvide digitar el campo "&Q$9&""&". Niños, niñas y adolescentes. Digite CERO si no tiene.", IF(Q19>$B19," * La variable "&Q$9&""&" no puede superar el Total Ambos Sexos. ","")) | CI19: =IF(AND($D19>0,OR(R19=""))," *No olvide digitar el campo "&Q$9&""&" Gestantes. Digite CERO si no tiene.", IF(R19>$D19," * La variable "&Q$9&""&" no puede superar el Total Mujeres. ","")) | CM19: =IF(AND(D19>0,OR(J19="")),1,IF(J19>D19,1,0)) -> 0 | CN19: =IF(AND(C19>0,OR(K19="")),1,IF(K19>C19,1,0)) -> 0 | CO19: =IF(AND($B19>0,OR(L19="")),1,IF(L19>$B19,1,0)) -> 0 | CP19: =IF(AND($B19>0,OR(M19="")),1,IF(M19>$B19,1,0)) -> 0 | CQ19: =IF(AND($B19>0,OR(N19="")),1,IF(N19>$B19,1,0)) -> 0 | CR19: =IF(AND($B19>0,OR(O19="")),1,IF(O19>$B19,1,0)) -> 0 | CS19: =IF(AND($B19>0,OR(P19="")),1,IF(P19>$B19,1,0)) -> 0 | CT19: =IF(AND($B19>0,OR(Q19="")),1,IF(Q19>$B19,1,0)) -> 0 | CU19: =IF(AND($D19>0,OR(R19="")),1,IF(R19>$D19,1,0)) -> 0
A20: Eventos adversos | B20: =SUM(C20:D20) -> 0 | C20: 0 | D20: 0 | E20: 0 | F20: 0 | G20: 0 | H20: 0 | I20: 0 | J20: 0 | K20: 0 | L20: 0 | M20: 0 | N20: 0 | O20: 0 | P20: 0 | Q20: 0 | R20: 0 | S20: =CA20&CB20&CC20&CD20&CE20&CF20&CG20&CH20&CI20 | CA20: =IF(AND(D20>0,J20=""),"*No olvide digitar el campo TRANS Masculino (Digite CERO si no tiene).", IF(J20>D20," * El Número de TRANS Masculino no puede superar el Total Mujeres. ","")) | CB20: =IF(AND(C20>0,OR(K20=""))," *No olvide digitar el campo TRANS Femenino (Digite CERO si no tiene).",IF(K20>$C20," * El Número de TRANS Femenino no puede superar el Total Hombres. ","")) | CC20: =IF(AND($B20>0,OR(L20=""))," *No olvide digitar el campo "&L$9&""&". Digite CERO si no tiene.", IF(L20>$B20," * La variable "&L$9&""&" no puede superar el Total Ambos Sexos. ","")) | CD20: =IF(AND($B20>0,OR(M20=""))," *No olvide digitar el campo "&M$9&""&". Digite CERO si no tiene.", IF(M20>$B20," * La variable "&M$9&""&" no puede superar el Total Ambos Sexos. ","")) | CE20: =IF(AND($B20>0,OR(N20=""))," *No olvide digitar el campo "&N$9&""&". Digite CERO si no tiene.", IF(N20>$B20," * La variable "&N$9&""&" no puede superar el Total Ambos Sexos. ","")) | CF20: =IF(AND($B20>0,OR(O20=""))," *No olvide digitar el campo "&O$9&""&". Digite CERO si no tiene.", IF(O20>$B20," * La variable "&O$9&""&" no puede superar el Total Ambos Sexos. ","")) | CG20: =IF(AND($B20>0,OR(P20=""))," *No olvide digitar el campo "&P$9&""&". Digite CERO si no tiene.", IF(P20>$B20," * La variable "&P$9&""&" no puede superar el Total Ambos Sexos. ","")) | CH20: =IF(AND($B20>0,OR(Q20=""))," *No olvide digitar el campo "&Q$9&""&". Niños, niñas y adolescentes. Digite CERO si no tiene.", IF(Q20>$B20," * La variable "&Q$9&""&" no puede superar el Total Ambos Sexos. ","")) | CI20: =IF(AND($D20>0,OR(R20=""))," *No olvide digitar el campo "&Q$9&""&" Gestantes. Digite CERO si no tiene.", IF(R20>$D20," * La variable "&Q$9&""&" no puede superar el Total Mujeres. ","")) | CM20: =IF(AND(D20>0,OR(J20="")),1,IF(J20>D20,1,0)) -> 0 | CN20: =IF(AND(C20>0,OR(K20="")),1,IF(K20>C20,1,0)) -> 0 | CO20: =IF(AND($B20>0,OR(L20="")),1,IF(L20>$B20,1,0)) -> 0 | CP20: =IF(AND($B20>0,OR(M20="")),1,IF(M20>$B20,1,0)) -> 0 | CQ20: =IF(AND($B20>0,OR(N20="")),1,IF(N20>$B20,1,0)) -> 0 | CR20: =IF(AND($B20>0,OR(O20="")),1,IF(O20>$B20,1,0)) -> 0 | CS20: =IF(AND($B20>0,OR(P20="")),1,IF(P20>$B20,1,0)) -> 0 | CT20: =IF(AND($B20>0,OR(Q20="")),1,IF(Q20>$B20,1,0)) -> 0 | CU20: =IF(AND($D20>0,OR(R20="")),1,IF(R20>$D20,1,0)) -> 0
A21: Infraestructura baños públicos | B21: =SUM(C21:D21) -> 5 | C21: 0 | D21: 5 | E21: 4 | F21: 0 | G21: 0 | H21: 1 | I21: 0 | J21: 0 | K21: 0 | L21: 0 | M21: 0 | N21: 0 | O21: 0 | P21: 0 | Q21: 0 | R21: 0 | S21: =CA21&CB21&CC21&CD21&CE21&CF21&CG21&CH21&CI21 | CA21: =IF(AND(D21>0,J21=""),"*No olvide digitar el campo TRANS Masculino (Digite CERO si no tiene).", IF(J21>D21," * El Número de TRANS Masculino no puede superar el Total Mujeres. ","")) | CB21: =IF(AND(C21>0,OR(K21=""))," *No olvide digitar el campo TRANS Femenino (Digite CERO si no tiene).",IF(K21>$C21," * El Número de TRANS Femenino no puede superar el Total Hombres. ","")) | CC21: =IF(AND($B21>0,OR(L21=""))," *No olvide digitar el campo "&L$9&""&". Digite CERO si no tiene.", IF(L21>$B21," * La variable "&L$9&""&" no puede superar el Total Ambos Sexos. ","")) | CD21: =IF(AND($B21>0,OR(M21=""))," *No olvide digitar el campo "&M$9&""&". Digite CERO si no tiene.", IF(M21>$B21," * La variable "&M$9&""&" no puede superar el Total Ambos Sexos. ","")) | CE21: =IF(AND($B21>0,OR(N21=""))," *No olvide digitar el campo "&N$9&""&". Digite CERO si no tiene.", IF(N21>$B21," * La variable "&N$9&""&" no puede superar el Total Ambos Sexos. ","")) | CF21: =IF(AND($B21>0,OR(O21=""))," *No olvide digitar el campo "&O$9&""&". Digite CERO si no tiene.", IF(O21>$B21," * La variable "&O$9&""&" no puede superar el Total Ambos Sexos. ","")) | CG21: =IF(AND($B21>0,OR(P21=""))," *No olvide digitar el campo "&P$9&""&". Digite CERO si no tiene.", IF(P21>$B21," * La variable "&P$9&""&" no puede superar el Total Ambos Sexos. ","")) | CH21: =IF(AND($B21>0,OR(Q21=""))," *No olvide digitar el campo "&Q$9&""&". Niños, niñas y adolescentes. Digite CERO si no tiene.", IF(Q21>$B21," * La variable "&Q$9&""&" no puede superar el Total Ambos Sexos. ","")) | CI21: =IF(AND($D21>0,OR(R21=""))," *No olvide digitar el campo "&Q$9&""&" Gestantes. Digite CERO si no tiene.", IF(R21>$D21," * La variable "&Q$9&""&" no puede superar el Total Mujeres. ","")) | CM21: =IF(AND(D21>0,OR(J21="")),1,IF(J21>D21,1,0)) -> 0 | CN21: =IF(AND(C21>0,OR(K21="")),1,IF(K21>C21,1,0)) -> 0 | CO21: =IF(AND($B21>0,OR(L21="")),1,IF(L21>$B21,1,0)) -> 0 | CP21: =IF(AND($B21>0,OR(M21="")),1,IF(M21>$B21,1,0)) -> 0 | CQ21: =IF(AND($B21>0,OR(N21="")),1,IF(N21>$B21,1,0)) -> 0 | CR21: =IF(AND($B21>0,OR(O21="")),1,IF(O21>$B21,1,0)) -> 0 | CS21: =IF(AND($B21>0,OR(P21="")),1,IF(P21>$B21,1,0)) -> 0 | CT21: =IF(AND($B21>0,OR(Q21="")),1,IF(Q21>$B21,1,0)) -> 0 | CU21: =IF(AND($D21>0,OR(R21="")),1,IF(R21>$D21,1,0)) -> 0
A22: Infraestructura condiciones salas de espera, box de atención o sala de hospitalización | B22: =SUM(C22:D22) -> 0 | C22: 0 | D22: 0 | E22: 0 | F22: 0 | G22: 0 | H22: 0 | I22: 0 | J22: 0 | K22: 0 | L22: 0 | M22: 0 | N22: 0 | O22: 0 | P22: 0 | Q22: 0 | R22: 0 | S22: =CA22&CB22&CC22&CD22&CE22&CF22&CG22&CH22&CI22 | CA22: =IF(AND(D22>0,J22=""),"*No olvide digitar el campo TRANS Masculino (Digite CERO si no tiene).", IF(J22>D22," * El Número de TRANS Masculino no puede superar el Total Mujeres. ","")) | CB22: =IF(AND(C22>0,OR(K22=""))," *No olvide digitar el campo TRANS Femenino (Digite CERO si no tiene).",IF(K22>$C22," * El Número de TRANS Femenino no puede superar el Total Hombres. ","")) | CC22: =IF(AND($B22>0,OR(L22=""))," *No olvide digitar el campo "&L$9&""&". Digite CERO si no tiene.", IF(L22>$B22," * La variable "&L$9&""&" no puede superar el Total Ambos Sexos. ","")) | CD22: =IF(AND($B22>0,OR(M22=""))," *No olvide digitar el campo "&M$9&""&". Digite CERO si no tiene.", IF(M22>$B22," * La variable "&M$9&""&" no puede superar el Total Ambos Sexos. ","")) | CE22: =IF(AND($B22>0,OR(N22=""))," *No olvide digitar el campo "&N$9&""&". Digite CERO si no tiene.", IF(N22>$B22," * La variable "&N$9&""&" no puede superar el Total Ambos Sexos. ","")) | CF22: =IF(AND($B22>0,OR(O22=""))," *No olvide digitar el campo "&O$9&""&". Digite CERO si no tiene.", IF(O22>$B22," * La variable "&O$9&""&" no puede superar el Total Ambos Sexos. ","")) | CG22: =IF(AND($B22>0,OR(P22=""))," *No olvide digitar el campo "&P$9&""&". Digite CERO si no tiene.", IF(P22>$B22," * La variable "&P$9&""&" no puede superar el Total Ambos Sexos. ","")) | CH22: =IF(AND($B22>0,OR(Q22=""))," *No olvide digitar el campo "&Q$9&""&". Niños, niñas y adolescentes. Digite CERO si no tiene.", IF(Q22>$B22," * La variable "&Q$9&""&" no puede superar el Total Ambos Sexos. ","")) | CI22: =IF(AND($D22>0,OR(R22=""))," *No olvide digitar el campo "&Q$9&""&" Gestantes. Digite CERO si no tiene.", IF(R22>$D22," * La variable "&Q$9&""&" no puede superar el Total Mujeres. ","")) | CM22: =IF(AND(D22>0,OR(J22="")),1,IF(J22>D22,1,0)) -> 0 | CN22: =IF(AND(C22>0,OR(K22="")),1,IF(K22>C22,1,0)) -> 0 | CO22: =IF(AND($B22>0,OR(L22="")),1,IF(L22>$B22,1,0)) -> 0 | CP22: =IF(AND($B22>0,OR(M22="")),1,IF(M22>$B22,1,0)) -> 0 | CQ22: =IF(AND($B22>0,OR(N22="")),1,IF(N22>$B22,1,0)) -> 0 | CR22: =IF(AND($B22>0,OR(O22="")),1,IF(O22>$B22,1,0)) -> 0 | CS22: =IF(AND($B22>0,OR(P22="")),1,IF(P22>$B22,1,0)) -> 0 | CT22: =IF(AND($B22>0,OR(Q22="")),1,IF(Q22>$B22,1,0)) -> 0 | CU22: =IF(AND($D22>0,OR(R22="")),1,IF(R22>$D22,1,0)) -> 0
