Workbook

Sheet CONSOLIDADO
A1: SERVICIO DE SALUD
A2: =CONCATENATE("COMUNA: ",[1]NOMBRE!B2, " (",[1]NOMBRE!C2,[1]NOMBRE!D2,[1]NOMBRE!E2,[1]NOMBRE!F2,[1]NOMBRE!G2,")") -> COMUNA: 0 (00000)
A3: =CONCATENATE("ESTABLECIMIENTO/ESTRATEGIA: ", [1]NOMBRE!B3, " (",[1]NOMBRE!C3,[1]NOMBRE!D3,[1]NOMBRE!E3,[1]NOMBRE!F3,[1]NOMBRE!G3,[1]NOMBRE!H3,")") -> ESTABLECIMIENTO/ESTRATEGIA: 0 (000000)
A4: =CONCATENATE("MES: ",[1]NOMBRE!B6, " (",[1]NOMBRE!C6,[1]NOMBRE!D6,")") -> MES: 0 (00)
A5: =CONCATENATE("AÑO: ",[1]NOMBRE!B7) -> AÑO: 2025
A6: REM-19a. ACTIVIDADES DE PROMOCIÓN Y PREVENCIÓN DE LA SALUD
A8: SECCIÓN A: CONSEJERÍAS
A9: SECCIÓN A.1: CONSEJERÍAS INDIVIDUALES
A10: ÁREAS TEMÁTICAS | B10: PROFESIONAL | C10: TOTAL | F10: RANGO ETARIO Y SEXO | AN10: Espacios Amigables/ adolescentes | AO10: TRANS | AQ10: Pueblos Originarios | AR10: Migrantes | AS10: 14-18 años | AT10: Niños, Niñas, Adolescentes y Jóvenes SENAME | AU10: Niños, niñas, Adolescentes y Jóvenes Mejor Niñez
F11: 0 - 4 años | H11: 5 - 9 años | J11: 10 - 14 años | L11: 15-19 años | N11: 20-24 años | P11: 25-29 años | R11: 30-34 años | T11: 35-39 años | V11: 40-44 años | X11: 45-49 años | Z11: 50-54 años | AB11: 55-59 años | AD11: 60-64 años | AF11: 65-69 años | AH11: 70-74 años | AJ11: 75- 79 años | AL11: 80 y más años
C12: Ambos Sexos | D12: Hombres | E12: Mujeres | F12: Hombres | G12: Mujeres | H12: Hombres | I12: Mujeres | J12: Hombres | K12: Mujeres | L12: Hombres | M12: Mujeres | N12: Hombres | O12: Mujeres | P12: Hombres | Q12: Mujeres | R12: Hombres | S12: Mujeres | T12: Hombres | U12: Mujeres | V12: Hombres | W12: Mujeres | X12: Hombres | Y12: Mujeres | Z12: Hombres | AA12: Mujeres | AB12: Hombres | AC12: Mujeres | AD12: Hombres | AE12: Mujeres | AF12: Hombres | AG12: Mujeres | AH12: Hombres | AI12: Mujeres | AJ12: Hombres | AK12: Mujeres | AL12: Hombres | AM12: Mujeres | AO12: Masculino | AP12: Femenina
A13: Actividad física | B13: Médico/a | C13: =SUM(D13+E13) -> 754 | D13: =+F13+H13+J13+L13+N13+P13+R13+T13+V13+X13+Z13+AB13+AD13+AF13+AH13+AJ13+AL13 -> 552 | E13: =+G13+I13+K13+M13+O13+Q13+S13+U13+W13+Y13+AA13+AC13+AE13+AG13+AI13+AK13+AM13 -> 202 | F13: =SUM(ENERO:DICIEMBRE!F13) -> 0 | G13: =SUM(ENERO:DICIEMBRE!G13) -> 0 | H13: =SUM(ENERO:DICIEMBRE!H13) -> 0 | I13: =SUM(ENERO:DICIEMBRE!I13) -> 0 | J13: =SUM(ENERO:DICIEMBRE!J13) -> 0 | K13: =SUM(ENERO:DICIEMBRE!K13) -> 0 | L13: =SUM(ENERO:DICIEMBRE!L13) -> 3 | M13: =SUM(ENERO:DICIEMBRE!M13) -> 0 | ... AU13: =SUM(ENERO:DICIEMBRE!AU13) -> 0 | AV13: =$CA13&$CB13&CC13&CD13&CE13&CG13&CH13 | CA13: =IF(AND($C13<>0,AN13=""),"* No olvide ingresar la columna Espacios Amigables /adolescentes (Digite CERO si no tiene). ",IF(AN13>$C13,"* El Número de Espacios Amigables no puede superar el Total. ","")) | CB13: =IF(AND(E13>0,OR(AO13="")),"No olvide digitar los campos *TRANS Masculino (Digite CERO si no tiene).",IF(AO13>E13,"* El Número de TRANS Masculino no puede superar el Total Mujeres. ","")) | CC13: =IF(AND(D13>0,OR(AP13="")),"No olvide digitar los campos *TRANS Femenino (Digite CERO si no tiene).",IF(AP13>$D13,"* El Número de TRANS Femenino no puede superar el Total Hombres. ","")) | CD13: =IF(AND($C13<>0,AQ13=""),"* No olvide ingresar la columna Pueblos Originarios (Digite CERO si no tiene). ",IF(AQ13>$C13,"* El Número de Pueblos Originarios no puede superar el Total. ","")) | CE13: =IF(AND($C13<>0,AR13=""),"* No olvide ingresar la columna Migrantes (Digite CERO si no tiene). ",IF(AR13>$C13,"* El Número de Migrantes no puede superar el Total. ","")) | CG13: =IF(AND($C13<>0,AT13=""),"* No olvide ingresar la columna Niños, Niñas, Adolescentes y Jóvenes SENAME (Digite CERO si no tiene). ",IF(AT13>$C13,"* El Número de Niños, Niñas, Adolescentes y Jóvenes SENAME no puede superar el Total. ","")) | CH13: =IF(AND($C13<>0,AU13=""),"* No olvide ingresar la columna Niños, Niñas, Adolescentes y Jóvenes Mejor Niñez (Digite CERO si no tiene). ",IF(AU13>$C13,"* El Número de Niños, Niñas, Adolescentes y Jóvenes Mejor Niñez no puede superar el Total. ","")) | CJ13: =IF(AND($C13<>0,AN13=""),1,IF(AN13>$C13,1,0)) -> 0 | CK13: =IF(AND(E13>0,OR(AO13="")),1,IF(AO13>E13,1,0)) -> 0 | CL13: =IF(AND(D13>0,OR(AP13="")),1,IF(AP13>D13,1,0)) -> 0 | CM13: =IF(AND($C13<>0,AQ13=""),1,IF(AQ13>$C13,1,0)) -> 0 | CN13: =IF(AND($C13<>0,AR13=""),1,IF(AR13>$C13,1,0)) -> 0 | CP13: =IF(AND($C13<>0,AT13=""),1,IF(AT13>$C13,1,0)) -> 0 | CQ13: =IF(AND($C13<>0,AU13=""),1,IF(AU13>$C13,1,0)) -> 0
B14: Enfermera/o | C14: =SUM(D14+E14) -> 0 | D14: =+F14+H14+J14+L14+N14+P14+R14+T14+V14+X14+Z14+AB14+AD14+AF14+AH14+AJ14+AL14 -> 0 | E14: =+G14+I14+K14+M14+O14+Q14+S14+U14+W14+Y14+AA14+AC14+AE14+AG14+AI14+AK14+AM14 -> 0 | F14: =SUM(ENERO:DICIEMBRE!F14) -> 0 | G14: =SUM(ENERO:DICIEMBRE!G14) -> 0 | H14: =SUM(ENERO:DICIEMBRE!H14) -> 0 | I14: =SUM(ENERO:DICIEMBRE!I14) -> 0 | J14: =SUM(ENERO:DICIEMBRE!J14) -> 0 | K14: =SUM(ENERO:DICIEMBRE!K14) -> 0 | L14: =SUM(ENERO:DICIEMBRE!L14) -> 0 | M14: =SUM(ENERO:DICIEMBRE!M14) -> 0 | ... AU14: =SUM(ENERO:DICIEMBRE!AU14) -> 0 | AV14: =$CA14&$CB14&CC14&CD14&CE14&CG14&CH14 | CA14: =IF(AND($C14<>0,AN14=""),"* No olvide ingresar la columna Espacios Amigables /adolescentes (Digite CERO si no tiene). ",IF(AN14>$C14,"* El Número de Espacios Amigables no puede superar el Total. ","")) | CB14: =IF(AND(E14>0,OR(AO14="")),"No olvide digitar los campos *TRANS Masculino (Digite CERO si no tiene).",IF(AO14>E14,"* El Número de TRANS Masculino no puede superar el Total Mujeres. ","")) | CC14: =IF(AND(D14>0,OR(AP14="")),"No olvide digitar los campos *TRANS Femenino (Digite CERO si no tiene).",IF(AP14>$D14,"* El Número de TRANS Femenino no puede superar el Total Hombres. ","")) | CD14: =IF(AND($C14<>0,AQ14=""),"* No olvide ingresar la columna Pueblos Originarios (Digite CERO si no tiene). ",IF(AQ14>$C14,"* El Número de Pueblos Originarios no puede superar el Total. ","")) | CE14: =IF(AND($C14<>0,AR14=""),"* No olvide ingresar la columna Migrantes (Digite CERO si no tiene). ",IF(AR14>$C14,"* El Número de Migrantes no puede superar el Total. ","")) | CG14: =IF(AND($C14<>0,AT14=""),"* No olvide ingresar la columna Niños, Niñas, Adolescentes y Jóvenes SENAME (Digite CERO si no tiene). ",IF(AT14>$C14,"* El Número de Niños, Niñas, Adolescentes y Jóvenes SENAME no puede superar el Total. ","")) | CH14: =IF(AND($C14<>0,AU14=""),"* No olvide ingresar la columna Niños, Niñas, Adolescentes y Jóvenes Mejor Niñez (Digite CERO si no tiene). ",IF(AU14>$C14,"* El Número de Niños, Niñas, Adolescentes y Jóvenes Mejor Niñez no puede superar el Total. ","")) | CJ14: =IF(AND($C14<>0,AN14=""),1,IF(AN14>$C14,1,0)) -> 0 | CK14: =IF(AND(E14>0,OR(AO14="")),1,IF(AO14>E14,1,0)) -> 0 | CL14: =IF(AND(D14>0,OR(AP14="")),1,IF(AP14>D14,1,0)) -> 0 | CM14: =IF(AND($C14<>0,AQ14=""),1,IF(AQ14>$C14,1,0)) -> 0 | CN14: =IF(AND($C14<>0,AR14=""),1,IF(AR14>$C14,1,0)) -> 0 | CP14: =IF(AND($C14<>0,AT14=""),1,IF(AT14>$C14,1,0)) -> 0 | CQ14: =IF(AND($C14<>0,AU14=""),1,IF(AU14>$C14,1,0)) -> 0
B15: Matrona/ón | C15: =SUM(D15+E15) -> 2046 | D15: =+F15+H15+J15+L15+N15+P15+R15+T15+V15+X15+Z15+AB15+AD15+AF15+AH15+AJ15+AL15 -> 1513 | E15: =+G15+I15+K15+M15+O15+Q15+S15+U15+W15+Y15+AA15+AC15+AE15+AG15+AI15+AK15+AM15 -> 533 | F15: =SUM(ENERO:DICIEMBRE!F15) -> 0 | G15: =SUM(ENERO:DICIEMBRE!G15) -> 0 | H15: =SUM(ENERO:DICIEMBRE!H15) -> 0 | I15: =SUM(ENERO:DICIEMBRE!I15) -> 0 | J15: =SUM(ENERO:DICIEMBRE!J15) -> 0 | K15: =SUM(ENERO:DICIEMBRE!K15) -> 0 | L15: =SUM(ENERO:DICIEMBRE!L15) -> 5 | M15: =SUM(ENERO:DICIEMBRE!M15) -> 2 | ... AU15: =SUM(ENERO:DICIEMBRE!AU15) -> 0 | AV15: =$CA15&$CB15&CC15&CD15&CE15&CG15&CH15 | CA15: =IF(AND($C15<>0,AN15=""),"* No olvide ingresar la columna Espacios Amigables /adolescentes (Digite CERO si no tiene). ",IF(AN15>$C15,"* El Número de Espacios Amigables no puede superar el Total. ","")) | CB15: =IF(AND(E15>0,OR(AO15="")),"No olvide digitar los campos *TRANS Masculino (Digite CERO si no tiene).",IF(AO15>E15,"* El Número de TRANS Masculino no puede superar el Total Mujeres. ","")) | CC15: =IF(AND(D15>0,OR(AP15="")),"No olvide digitar los campos *TRANS Femenino (Digite CERO si no tiene).",IF(AP15>$D15,"* El Número de TRANS Femenino no puede superar el Total Hombres. ","")) | CD15: =IF(AND($C15<>0,AQ15=""),"* No olvide ingresar la columna Pueblos Originarios (Digite CERO si no tiene). ",IF(AQ15>$C15,"* El Número de Pueblos Originarios no puede superar el Total. ","")) | CE15: =IF(AND($C15<>0,AR15=""),"* No olvide ingresar la columna Migrantes (Digite CERO si no tiene). ",IF(AR15>$C15,"* El Número de Migrantes no puede superar el Total. ","")) | CG15: =IF(AND($C15<>0,AT15=""),"* No olvide ingresar la columna Niños, Niñas, Adolescentes y Jóvenes SENAME (Digite CERO si no tiene). ",IF(AT15>$C15,"* El Número de Niños, Niñas, Adolescentes y Jóvenes SENAME no puede superar el Total. ","")) | CH15: =IF(AND($C15<>0,AU15=""),"* No olvide ingresar la columna Niños, Niñas, Adolescentes y Jóvenes Mejor Niñez (Digite CERO si no tiene). ",IF(AU15>$C15,"* El Número de Niños, Niñas, Adolescentes y Jóvenes Mejor Niñez no puede superar el Total. ","")) | CJ15: =IF(AND($C15<>0,AN15=""),1,IF(AN15>$C15,1,0)) -> 0 | CK15: =IF(AND(E15>0,OR(AO15="")),1,IF(AO15>E15,1,0)) -> 0 | CL15: =IF(AND(D15>0,OR(AP15="")),1,IF(AP15>D15,1,0)) -> 0 | CM15: =IF(AND($C15<>0,AQ15=""),1,IF(AQ15>$C15,1,0)) -> 0 | CN15: =IF(AND($C15<>0,AR15=""),1,IF(AR15>$C15,1,0)) -> 0 | CP15: =IF(AND($C15<>0,AT15=""),1,IF(AT15>$C15,1,0)) -> 0 | CQ15: =IF(AND($C15<>0,AU15=""),1,IF(AU15>$C15,1,0)) -> 0
B16: Nutricionista | C16: =SUM(D16+E16) -> 0 | D16: =+F16+H16+J16+L16+N16+P16+R16+T16+V16+X16+Z16+AB16+AD16+AF16+AH16+AJ16+AL16 -> 0 | E16: =+G16+I16+K16+M16+O16+Q16+S16+U16+W16+Y16+AA16+AC16+AE16+AG16+AI16+AK16+AM16 -> 0 | F16: =SUM(ENERO:DICIEMBRE!F16) -> 0 | G16: =SUM(ENERO:DICIEMBRE!G16) -> 0 | H16: =SUM(ENERO:DICIEMBRE!H16) -> 0 | I16: =SUM(ENERO:DICIEMBRE!I16) -> 0 | J16: =SUM(ENERO:DICIEMBRE!J16) -> 0 | K16: =SUM(ENERO:DICIEMBRE!K16) -> 0 | L16: =SUM(ENERO:DICIEMBRE!L16) -> 0 | M16: =SUM(ENERO:DICIEMBRE!M16) -> 0 | ... AU16: =SUM(ENERO:DICIEMBRE!AU16) -> 0 | AV16: =$CA16&$CB16&CC16&CD16&CE16&CG16&CH16 | CA16: =IF(AND($C16<>0,AN16=""),"* No olvide ingresar la columna Espacios Amigables /adolescentes (Digite CERO si no tiene). ",IF(AN16>$C16,"* El Número de Espacios Amigables no puede superar el Total. ","")) | CB16: =IF(AND(E16>0,OR(AO16="")),"No olvide digitar los campos *TRANS Masculino (Digite CERO si no tiene).",IF(AO16>E16,"* El Número de TRANS Masculino no puede superar el Total Mujeres. ","")) | CC16: =IF(AND(D16>0,OR(AP16="")),"No olvide digitar los campos *TRANS Femenino (Digite CERO si no tiene).",IF(AP16>$D16,"* El Número de TRANS Femenino no puede superar el Total Hombres. ","")) | CD16: =IF(AND($C16<>0,AQ16=""),"* No olvide ingresar la columna Pueblos Originarios (Digite CERO si no tiene). ",IF(AQ16>$C16,"* El Número de Pueblos Originarios no puede superar el Total. ","")) | CE16: =IF(AND($C16<>0,AR16=""),"* No olvide ingresar la columna Migrantes (Digite CERO si no tiene). ",IF(AR16>$C16,"* El Número de Migrantes no puede superar el Total. ","")) | CG16: =IF(AND($C16<>0,AT16=""),"* No olvide ingresar la columna Niños, Niñas, Adolescentes y Jóvenes SENAME (Digite CERO si no tiene). ",IF(AT16>$C16,"* El Número de Niños, Niñas, Adolescentes y Jóvenes SENAME no puede superar el Total. ","")) | CH16: =IF(AND($C16<>0,AU16=""),"* No olvide ingresar la columna Niños, Niñas, Adolescentes y Jóvenes Mejor Niñez (Digite CERO si no tiene). ",IF(AU16>$C16,"* El Número de Niños, Niñas, Adolescentes y Jóvenes Mejor Niñez no puede superar el Total. ","")) | CJ16: =IF(AND($C16<>0,AN16=""),1,IF(AN16>$C16,1,0)) -> 0 | CK16: =IF(AND(E16>0,OR(AO16="")),1,IF(AO16>E16,1,0)) -> 0 | CL16: =IF(AND(D16>0,OR(AP16="")),1,IF(AP16>D16,1,0)) -> 0 | CM16: =IF(AND($C16<>0,AQ16=""),1,IF(AQ16>$C16,1,0)) -> 0 | CN16: =IF(AND($C16<>0,AR16=""),1,IF(AR16>$C16,1,0)) -> 0 | CP16: =IF(AND($C16<>0,AT16=""),1,IF(AT16>$C16,1,0)) -> 0 | CQ16: =IF(AND($C16<>0,AU16=""),1,IF(AU16>$C16,1,0)) -> 0
B17: Trabajador/a Social | C17: =SUM(D17+E17) -> 0 | D17: =+F17+H17+J17+L17+N17+P17+R17+T17+V17+X17+Z17+AB17+AD17+AF17+AH17+AJ17+AL17 -> 0 | E17: =+G17+I17+K17+M17+O17+Q17+S17+U17+W17+Y17+AA17+AC17+AE17+AG17+AI17+AK17+AM17 -> 0 | F17: =SUM(ENERO:DICIEMBRE!F17) -> 0 | G17: =SUM(ENERO:DICIEMBRE!G17) -> 0 | H17: =SUM(ENERO:DICIEMBRE!H17) -> 0 | I17: =SUM(ENERO:DICIEMBRE!I17) -> 0 | J17: =SUM(ENERO:DICIEMBRE!J17) -> 0 | K17: =SUM(ENERO:DICIEMBRE!K17) -> 0 | L17: =SUM(ENERO:DICIEMBRE!L17) -> 0 | M17: =SUM(ENERO:DICIEMBRE!M17) -> 0 | ... AU17: =SUM(ENERO:DICIEMBRE!AU17) -> 0 | AV17: =$CA17&$CB17&CC17&CD17&CE17&CG17&CH17 | CA17: =IF(AND($C17<>0,AN17=""),"* No olvide ingresar la columna Espacios Amigables /adolescentes (Digite CERO si no tiene). ",IF(AN17>$C17,"* El Número de Espacios Amigables no puede superar el Total. ","")) | CB17: =IF(AND(E17>0,OR(AO17="")),"No olvide digitar los campos *TRANS Masculino (Digite CERO si no tiene).",IF(AO17>E17,"* El Número de TRANS Masculino no puede superar el Total Mujeres. ","")) | CC17: =IF(AND(D17>0,OR(AP17="")),"No olvide digitar los campos *TRANS Femenino (Digite CERO si no tiene).",IF(AP17>$D17,"* El Número de TRANS Femenino no puede superar el Total Hombres. ","")) | CD17: =IF(AND($C17<>0,AQ17=""),"* No olvide ingresar la columna Pueblos Originarios (Digite CERO si no tiene). ",IF(AQ17>$C17,"* El Número de Pueblos Originarios no puede superar el Total. ","")) | CE17: =IF(AND($C17<>0,AR17=""),"* No olvide ingresar la columna Migrantes (Digite CERO si no tiene). ",IF(AR17>$C17,"* El Número de Migrantes no puede superar el Total. ","")) | CG17: =IF(AND($C17<>0,AT17=""),"* No olvide ingresar la columna Niños, Niñas, Adolescentes y Jóvenes SENAME (Digite CERO si no tiene). ",IF(AT17>$C17,"* El Número de Niños, Niñas, Adolescentes y Jóvenes SENAME no puede superar el Total. ","")) | CH17: =IF(AND($C17<>0,AU17=""),"* No olvide ingresar la columna Niños, Niñas, Adolescentes y Jóvenes Mejor Niñez (Digite CERO si no tiene). ",IF(AU17>$C17,"* El Número de Niños, Niñas, Adolescentes y Jóvenes Mejor Niñez no puede superar el Total. ","")) | CJ17: =IF(AND($C17<>0,AN17=""),1,IF(AN17>$C17,1,0)) -> 0 | CK17: =IF(AND(E17>0,OR(AO17="")),1,IF(AO17>E17,1,0)) -> 0 | CL17: =IF(AND(D17>0,OR(AP17="")),1,IF(AP17>D17,1,0)) -> 0 | CM17: =IF(AND($C17<>0,AQ17=""),1,IF(AQ17>$C17,1,0)) -> 0 | CN17: =IF(AND($C17<>0,AR17=""),1,IF(AR17>$C17,1,0)) -> 0 | CP17: =IF(AND($C17<>0,AT17=""),1,IF(AT17>$C17,1,0)) -> 0 | CQ17: =IF(AND($C17<>0,AU17=""),1,IF(AU17>$C17,1,0)) -> 0
B18: Psicólogo/a | C18: =SUM(D18+E18) -> 0 | D18: =+F18+H18+J18+L18+N18+P18+R18+T18+V18+X18+Z18+AB18+AD18+AF18+AH18+AJ18+AL18 -> 0 | E18: =+G18+I18+K18+M18+O18+Q18+S18+U18+W18+Y18+AA18+AC18+AE18+AG18+AI18+AK18+AM18 -> 0 | F18: =SUM(ENERO:DICIEMBRE!F18) -> 0 | G18: =SUM(ENERO:DICIEMBRE!G18) -> 0 | H18: =SUM(ENERO:DICIEMBRE!H18) -> 0 | I18: =SUM(ENERO:DICIEMBRE!I18) -> 0 | J18: =SUM(ENERO:DICIEMBRE!J18) -> 0 | K18: =SUM(ENERO:DICIEMBRE!K18) -> 0 | L18: =SUM(ENERO:DICIEMBRE!L18) -> 0 | M18: =SUM(ENERO:DICIEMBRE!M18) -> 0 | ... AU18: =SUM(ENERO:DICIEMBRE!AU18) -> 0 | AV18: =$CA18&$CB18&CC18&CD18&CE18&CG18&CH18 | CA18: =IF(AND($C18<>0,AN18=""),"* No olvide ingresar la columna Espacios Amigables /adolescentes (Digite CERO si no tiene). ",IF(AN18>$C18,"* El Número de Espacios Amigables no puede superar el Total. ","")) | CB18: =IF(AND(E18>0,OR(AO18="")),"No olvide digitar los campos *TRANS Masculino (Digite CERO si no tiene).",IF(AO18>E18,"* El Número de TRANS Masculino no puede superar el Total Mujeres. ","")) | CC18: =IF(AND(D18>0,OR(AP18="")),"No olvide digitar los campos *TRANS Femenino (Digite CERO si no tiene).",IF(AP18>$D18,"* El Número de TRANS Femenino no puede superar el Total Hombres. ","")) | CD18: =IF(AND($C18<>0,AQ18=""),"* No olvide ingresar la columna Pueblos Originarios (Digite CERO si no tiene). ",IF(AQ18>$C18,"* El Número de Pueblos Originarios no puede superar el Total. ","")) | CE18: =IF(AND($C18<>0,AR18=""),"* No olvide ingresar la columna Migrantes (Digite CERO si no tiene). ",IF(AR18>$C18,"* El Número de Migrantes no puede superar el Total. ","")) | CG18: =IF(AND($C18<>0,AT18=""),"* No olvide ingresar la columna Niños, Niñas, Adolescentes y Jóvenes SENAME (Digite CERO si no tiene). ",IF(AT18>$C18,"* El Número de Niños, Niñas, Adolescentes y Jóvenes SENAME no puede superar el Total. ","")) | CH18: =IF(AND($C18<>0,AU18=""),"* No olvide ingresar la columna Niños, Niñas, Adolescentes y Jóvenes Mejor Niñez (Digite CERO si no tiene). ",IF(AU18>$C18,"* El Número de Niños, Niñas, Adolescentes y Jóvenes Mejor Niñez no puede superar el Total. ","")) | CJ18: =IF(AND($C18<>0,AN18=""),1,IF(AN18>$C18,1,0)) -> 0 | CK18: =IF(AND(E18>0,OR(AO18="")),1,IF(AO18>E18,1,0)) -> 0 | CL18: =IF(AND(D18>0,OR(AP18="")),1,IF(AP18>D18,1,0)) -> 0 | CM18: =IF(AND($C18<>0,AQ18=""),1,IF(AQ18>$C18,1,0)) -> 0 | CN18: =IF(AND($C18<>0,AR18=""),1,IF(AR18>$C18,1,0)) -> 0 | CP18: =IF(AND($C18<>0,AT18=""),1,IF(AT18>$C18,1,0)) -> 0 | CQ18: =IF(AND($C18<>0,AU18=""),1,IF(AU18>$C18,1,0)) -> 0
B19: Kinesiólogo/a | C19: =SUM(D19+E19) -> 0 | D19: =+F19+H19+J19+L19+N19+P19+R19+T19+V19+X19+Z19+AB19+AD19+AF19+AH19+AJ19+AL19 -> 0 | E19: =+G19+I19+K19+M19+O19+Q19+S19+U19+W19+Y19+AA19+AC19+AE19+AG19+AI19+AK19+AM19 -> 0 | F19: =SUM(ENERO:DICIEMBRE!F19) -> 0 | G19: =SUM(ENERO:DICIEMBRE!G19) -> 0 | H19: =SUM(ENERO:DICIEMBRE!H19) -> 0 | I19: =SUM(ENERO:DICIEMBRE!I19) -> 0 | J19: =SUM(ENERO:DICIEMBRE!J19) -> 0 | K19: =SUM(ENERO:DICIEMBRE!K19) -> 0 | L19: =SUM(ENERO:DICIEMBRE!L19) -> 0 | M19: =SUM(ENERO:DICIEMBRE!M19) -> 0 | ... AU19: =SUM(ENERO:DICIEMBRE!AU19) -> 0 | AV19: =$CA19&$CB19&CC19&CD19&CE19&CG19&CH19 | CA19: =IF(AND($C19<>0,AN19=""),"* No olvide ingresar la columna Espacios Amigables /adolescentes (Digite CERO si no tiene). ",IF(AN19>$C19,"* El Número de Espacios Amigables no puede superar el Total. ","")) | CB19: =IF(AND(E19>0,OR(AO19="")),"No olvide digitar los campos *TRANS Masculino (Digite CERO si no tiene).",IF(AO19>E19,"* El Número de TRANS Masculino no puede superar el Total Mujeres. ","")) | CC19: =IF(AND(D19>0,OR(AP19="")),"No olvide digitar los campos *TRANS Femenino (Digite CERO si no tiene).",IF(AP19>$D19,"* El Número de TRANS Femenino no puede superar el Total Hombres. ","")) | CD19: =IF(AND($C19<>0,AQ19=""),"* No olvide ingresar la columna Pueblos Originarios (Digite CERO si no tiene). ",IF(AQ19>$C19,"* El Número de Pueblos Originarios no puede superar el Total. ","")) | CE19: =IF(AND($C19<>0,AR19=""),"* No olvide ingresar la columna Migrantes (Digite CERO si no tiene). ",IF(AR19>$C19,"* El Número de Migrantes no puede superar el Total. ","")) | CG19: =IF(AND($C19<>0,AT19=""),"* No olvide ingresar la columna Niños, Niñas, Adolescentes y Jóvenes SENAME (Digite CERO si no tiene). ",IF(AT19>$C19,"* El Número de Niños, Niñas, Adolescentes y Jóvenes SENAME no puede superar el Total. ","")) | CH19: =IF(AND($C19<>0,AU19=""),"* No olvide ingresar la columna Niños, Niñas, Adolescentes y Jóvenes Mejor Niñez (Digite CERO si no tiene). ",IF(AU19>$C19,"* El Número de Niños, Niñas, Adolescentes y Jóvenes Mejor Niñez no puede superar el Total. ","")) | CJ19: =IF(AND($C19<>0,AN19=""),1,IF(AN19>$C19,1,0)) -> 0 | CK19: =IF(AND(E19>0,OR(AO19="")),1,IF(AO19>E19,1,0)) -> 0 | CL19: =IF(AND(D19>0,OR(AP19="")),1,IF(AP19>D19,1,0)) -> 0 | CM19: =IF(AND($C19<>0,AQ19=""),1,IF(AQ19>$C19,1,0)) -> 0 | CN19: =IF(AND($C19<>0,AR19=""),1,IF(AR19>$C19,1,0)) -> 0 | CP19: =IF(AND($C19<>0,AT19=""),1,IF(AT19>$C19,1,0)) -> 0 | CQ19: =IF(AND($C19<>0,AU19=""),1,IF(AU19>$C19,1,0)) -> 0
B20: Terapeuta ocupacional | C20: =SUM(D20+E20) -> 0 | D20: =+F20+H20+J20+L20+N20+P20+R20+T20+V20+X20+Z20+AB20+AD20+AF20+AH20+AJ20+AL20 -> 0 | E20: =+G20+I20+K20+M20+O20+Q20+S20+U20+W20+Y20+AA20+AC20+AE20+AG20+AI20+AK20+AM20 -> 0 | F20: =SUM(ENERO:DICIEMBRE!F20) -> 0 | G20: =SUM(ENERO:DICIEMBRE!G20) -> 0 | H20: =SUM(ENERO:DICIEMBRE!H20) -> 0 | I20: =SUM(ENERO:DICIEMBRE!I20) -> 0 | J20: =SUM(ENERO:DICIEMBRE!J20) -> 0 | K20: =SUM(ENERO:DICIEMBRE!K20) -> 0 | L20: =SUM(ENERO:DICIEMBRE!L20) -> 0 | M20: =SUM(ENERO:DICIEMBRE!M20) -> 0 | ... AU20: =SUM(ENERO:DICIEMBRE!AU20) -> 0 | AV20: =$CA20&$CB20&CC20&CD20&CE20&CG20&CH20 | CA20: =IF(AND($C20<>0,AN20=""),"* No olvide ingresar la columna Espacios Amigables /adolescentes (Digite CERO si no tiene). ",IF(AN20>$C20,"* El Número de Espacios Amigables no puede superar el Total. ","")) | CB20: =IF(AND(E20>0,OR(AO20="")),"No olvide digitar los campos *TRANS Masculino (Digite CERO si no tiene).",IF(AO20>E20,"* El Número de TRANS Masculino no puede superar el Total Mujeres. ","")) | CC20: =IF(AND(D20>0,OR(AP20="")),"No olvide digitar los campos *TRANS Femenino (Digite CERO si no tiene).",IF(AP20>$D20,"* El Número de TRANS Femenino no puede superar el Total Hombres. ","")) | CD20: =IF(AND($C20<>0,AQ20=""),"* No olvide ingresar la columna Pueblos Originarios (Digite CERO si no tiene). ",IF(AQ20>$C20,"* El Número de Pueblos Originarios no puede superar el Total. ","")) | CE20: =IF(AND($C20<>0,AR20=""),"* No olvide ingresar la columna Migrantes (Digite CERO si no tiene). ",IF(AR20>$C20,"* El Número de Migrantes no puede superar el Total. ","")) | CG20: =IF(AND($C20<>0,AT20=""),"* No olvide ingresar la columna Niños, Niñas, Adolescentes y Jóvenes SENAME (Digite CERO si no tiene). ",IF(AT20>$C20,"* El Número de Niños, Niñas, Adolescentes y Jóvenes SENAME no puede superar el Total. ","")) | CH20: =IF(AND($C20<>0,AU20=""),"* No olvide ingresar la columna Niños, Niñas, Adolescentes y Jóvenes Mejor Niñez (Digite CERO si no tiene). ",IF(AU20>$C20,"* El Número de Niños, Niñas, Adolescentes y Jóvenes Mejor Niñez no puede superar el Total. ","")) | CJ20: =IF(AND($C20<>0,AN20=""),1,IF(AN20>$C20,1,0)) -> 0 | CK20: =IF(AND(E20>0,OR(AO20="")),1,IF(AO20>E20,1,0)) -> 0 | CL20: =IF(AND(D20>0,OR(AP20="")),1,IF(AP20>D20,1,0)) -> 0 | CM20: =IF(AND($C20<>0,AQ20=""),1,IF(AQ20>$C20,1,0)) -> 0 | CN20: =IF(AND($C20<>0,AR20=""),1,IF(AR20>$C20,1,0)) -> 0 | CP20: =IF(AND($C20<>0,AT20=""),1,IF(AT20>$C20,1,0)) -> 0 | CQ20: =IF(AND($C20<>0,AU20=""),1,IF(AU20>$C20,1,0)) -> 0
B21: Otro profesional | C21: =SUM(D21+E21) -> 0 | D21: =+F21+H21+J21+L21+N21+P21+R21+T21+V21+X21+Z21+AB21+AD21+AF21+AH21+AJ21+AL21 -> 0 | E21: =+G21+I21+K21+M21+O21+Q21+S21+U21+W21+Y21+AA21+AC21+AE21+AG21+AI21+AK21+AM21 -> 0 | F21: =SUM(ENERO:DICIEMBRE!F21) -> 0 | G21: =SUM(ENERO:DICIEMBRE!G21) -> 0 | H21: =SUM(ENERO:DICIEMBRE!H21) -> 0 | I21: =SUM(ENERO:DICIEMBRE!I21) -> 0 | J21: =SUM(ENERO:DICIEMBRE!J21) -> 0 | K21: =SUM(ENERO:DICIEMBRE!K21) -> 0 | L21: =SUM(ENERO:DICIEMBRE!L21) -> 0 | M21: =SUM(ENERO:DICIEMBRE!M21) -> 0 | ... AU21: =SUM(ENERO:DICIEMBRE!AU21) -> 0 | AV21: =$CA21&$CB21&CC21&CD21&CE21&CG21&CH21 | CA21: =IF(AND($C21<>0,AN21=""),"* No olvide ingresar la columna Espacios Amigables /adolescentes (Digite CERO si no tiene). ",IF(AN21>$C21,"* El Número de Espacios Amigables no puede superar el Total. ","")) | CB21: =IF(AND(E21>0,OR(AO21="")),"No olvide digitar los campos *TRANS Masculino (Digite CERO si no tiene).",IF(AO21>E21,"* El Número de TRANS Masculino no puede superar el Total Mujeres. ","")) | CC21: =IF(AND(D21>0,OR(AP21="")),"No olvide digitar los campos *TRANS Femenino (Digite CERO si no tiene).",IF(AP21>$D21,"* El Número de TRANS Femenino no puede superar el Total Hombres. ","")) | CD21: =IF(AND($C21<>0,AQ21=""),"* No olvide ingresar la columna Pueblos Originarios (Digite CERO si no tiene). ",IF(AQ21>$C21,"* El Número de Pueblos Originarios no puede superar el Total. ","")) | CE21: =IF(AND($C21<>0,AR21=""),"* No olvide ingresar la columna Migrantes (Digite CERO si no tiene). ",IF(AR21>$C21,"* El Número de Migrantes no puede superar el Total. ","")) | CG21: =IF(AND($C21<>0,AT21=""),"* No olvide ingresar la columna Niños, Niñas, Adolescentes y Jóvenes SENAME (Digite CERO si no tiene). ",IF(AT21>$C21,"* El Número de Niños, Niñas, Adolescentes y Jóvenes SENAME no puede superar el Total. ","")) | CH21: =IF(AND($C21<>0,AU21=""),"* No olvide ingresar la columna Niños, Niñas, Adolescentes y Jóvenes Mejor Niñez (Digite CERO si no tiene). ",IF(AU21>$C21,"* El Número de Niños, Niñas, Adolescentes y Jóvenes Mejor Niñez no puede superar el Total. ","")) | CJ21: =IF(AND($C21<>0,AN21=""),1,IF(AN21>$C21,1,0)) -> 0 | CK21: =IF(AND(E21>0,OR(AO21="")),1,IF(AO21>E21,1,0)) -> 0 | CL21: =IF(AND(D21>0,OR(AP21="")),1,IF(AP21>D21,1,0)) -> 0 | CM21: =IF(AND($C21<>0,AQ21=""),1,IF(AQ21>$C21,1,0)) -> 0 | CN21: =IF(AND($C21<>0,AR21=""),1,IF(AR21>$C21,1,0)) -> 0 | CP21: =IF(AND($C21<>0,AT21=""),1,IF(AT21>$C21,1,0)) -> 0 | CQ21: =IF(AND($C21<>0,AU21=""),1,IF(AU21>$C21,1,0)) -> 0
B22: Facilitador/a intercultural | C22: =SUM(D22+E22) -> 0 | D22: =+F22+H22+J22+L22+N22+P22+R22+T22+V22+X22+Z22+AB22+AD22+AF22+AH22+AJ22+AL22 -> 0 | E22: =+G22+I22+K22+M22+O22+Q22+S22+U22+W22+Y22+AA22+AC22+AE22+AG22+AI22+AK22+AM22 -> 0 | F22: =SUM(ENERO:DICIEMBRE!F22) -> 0 | G22: =SUM(ENERO:DICIEMBRE!G22) -> 0 | H22: =SUM(ENERO:DICIEMBRE!H22) -> 0 | I22: =SUM(ENERO:DICIEMBRE!I22) -> 0 | J22: =SUM(ENERO:DICIEMBRE!J22) -> 0 | K22: =SUM(ENERO:DICIEMBRE!K22) -> 0 | L22: =SUM(ENERO:DICIEMBRE!L22) -> 0 | M22: =SUM(ENERO:DICIEMBRE!M22) -> 0 | ... AU22: =SUM(ENERO:DICIEMBRE!AU22) -> 0 | AV22: =$CA22&$CB22&CC22&CD22&CE22&CG22&CH22 | CA22: =IF(AND($C22<>0,AN22=""),"* No olvide ingresar la columna Espacios Amigables /adolescentes (Digite CERO si no tiene). ",IF(AN22>$C22,"* El Número de Espacios Amigables no puede superar el Total. ","")) | CB22: =IF(AND(E22>0,OR(AO22="")),"No olvide digitar los campos *TRANS Masculino (Digite CERO si no tiene).",IF(AO22>E22,"* El Número de TRANS Masculino no puede superar el Total Mujeres. ","")) | CC22: =IF(AND(D22>0,OR(AP22="")),"No olvide digitar los campos *TRANS Femenino (Digite CERO si no tiene).",IF(AP22>$D22,"* El Número de TRANS Femenino no puede superar el Total Hombres. ","")) | CD22: =IF(AND($C22<>0,AQ22=""),"* No olvide ingresar la columna Pueblos Originarios (Digite CERO si no tiene). ",IF(AQ22>$C22,"* El Número de Pueblos Originarios no puede superar el Total. ","")) | CE22: =IF(AND($C22<>0,AR22=""),"* No olvide ingresar la columna Migrantes (Digite CERO si no tiene). ",IF(AR22>$C22,"* El Número de Migrantes no puede superar el Total. ","")) | CG22: =IF(AND($C22<>0,AT22=""),"* No olvide ingresar la columna Niños, Niñas, Adolescentes y Jóvenes SENAME (Digite CERO si no tiene). ",IF(AT22>$C22,"* El Número de Niños, Niñas, Adolescentes y Jóvenes SENAME no puede superar el Total. ","")) | CH22: =IF(AND($C22<>0,AU22=""),"* No olvide ingresar la columna Niños, Niñas, Adolescentes y Jóvenes Mejor Niñez (Digite CERO si no tiene). ",IF(AU22>$C22,"* El Número de Niños, Niñas, Adolescentes y Jóvenes Mejor Niñez no puede superar el Total. ","")) | CJ22: =IF(AND($C22<>0,AN22=""),1,IF(AN22>$C22,1,0)) -> 0 | CK22: =IF(AND(E22>0,OR(AO22="")),1,IF(AO22>E22,1,0)) -> 0 | CL22: =IF(AND(D22>0,OR(AP22="")),1,IF(AP22>D22,1,0)) -> 0 | CM22: =IF(AND($C22<>0,AQ22=""),1,IF(AQ22>$C22,1,0)) -> 0 | CN22: =IF(AND($C22<>0,AR22=""),1,IF(AR22>$C22,1,0)) -> 0 | CP22: =IF(AND($C22<>0,AT22=""),1,IF(AT22>$C22,1,0)) -> 0 | CQ22: =IF(AND($C22<>0,AU22=""),1,IF(AU22>$C22,1,0)) -> 0
B23: Técnico en Enfermería | C23: =SUM(D23+E23) -> 0 | D23: =+F23+H23+J23+L23+N23+P23+R23+T23+V23+X23+Z23+AB23+AD23+AF23+AH23+AJ23+AL23 -> 0 | E23: =+G23+I23+K23+M23+O23+Q23+S23+U23+W23+Y23+AA23+AC23+AE23+AG23+AI23+AK23+AM23 -> 0 | F23: =SUM(ENERO:DICIEMBRE!F23) -> 0 | G23: =SUM(ENERO:DICIEMBRE!G23) -> 0 | H23: =SUM(ENERO:DICIEMBRE!H23) -> 0 | I23: =SUM(ENERO:DICIEMBRE!I23) -> 0 | J23: =SUM(ENERO:DICIEMBRE!J23) -> 0 | K23: =SUM(ENERO:DICIEMBRE!K23) -> 0 | L23: =SUM(ENERO:DICIEMBRE!L23) -> 0 | M23: =SUM(ENERO:DICIEMBRE!M23) -> 0 | ... AU23: =SUM(ENERO:DICIEMBRE!AU23) -> 0 | AV23: =$CA23&$CB23&CC23&CD23&CE23&CG23&CH23 | CA23: =IF(AND($C23<>0,AN23=""),"* No olvide ingresar la columna Espacios Amigables /adolescentes (Digite CERO si no tiene). ",IF(AN23>$C23,"* El Número de Espacios Amigables no puede superar el Total. ","")) | CB23: =IF(AND(E23>0,OR(AO23="")),"No olvide digitar los campos *TRANS Masculino (Digite CERO si no tiene).",IF(AO23>E23,"* El Número de TRANS Masculino no puede superar el Total Mujeres. ","")) | CC23: =IF(AND(D23>0,OR(AP23="")),"No olvide digitar los campos *TRANS Femenino (Digite CERO si no tiene).",IF(AP23>$D23,"* El Número de TRANS Femenino no puede superar el Total Hombres. ","")) | CD23: =IF(AND($C23<>0,AQ23=""),"* No olvide ingresar la columna Pueblos Originarios (Digite CERO si no tiene). ",IF(AQ23>$C23,"* El Número de Pueblos Originarios no puede superar el Total. ","")) | CE23: =IF(AND($C23<>0,AR23=""),"* No olvide ingresar la columna Migrantes (Digite CERO si no tiene). ",IF(AR23>$C23,"* El Número de Migrantes no puede superar el Total. ","")) | CG23: =IF(AND($C23<>0,AT23=""),"* No olvide ingresar la columna Niños, Niñas, Adolescentes y Jóvenes SENAME (Digite CERO si no tiene). ",IF(AT23>$C23,"* El Número de Niños, Niñas, Adolescentes y Jóvenes SENAME no puede superar el Total. ","")) | CH23: =IF(AND($C23<>0,AU23=""),"* No olvide ingresar la columna Niños, Niñas, Adolescentes y Jóvenes Mejor Niñez (Digite CERO si no tiene). ",IF(AU23>$C23,"* El Número de Niños, Niñas, Adolescentes y Jóvenes Mejor Niñez no puede superar el Total. ","")) | CJ23: =IF(AND($C23<>0,AN23=""),1,IF(AN23>$C23,1,0)) -> 0 | CK23: =IF(AND(E23>0,OR(AO23="")),1,IF(AO23>E23,1,0)) -> 0 | CL23: =IF(AND(D23>0,OR(AP23="")),1,IF(AP23>D23,1,0)) -> 0 | CM23: =IF(AND($C23<>0,AQ23=""),1,IF(AQ23>$C23,1,0)) -> 0 | CN23: =IF(AND($C23<>0,AR23=""),1,IF(AR23>$C23,1,0)) -> 0 | CP23: =IF(AND($C23<>0,AT23=""),1,IF(AT23>$C23,1,0)) -> 0 | CQ23: =IF(AND($C23<>0,AU23=""),1,IF(AU23>$C23,1,0)) -> 0
A24: Alimentación saludable | B24: Médico/a | C24: =SUM(D24+E24) -> 755 | D24: =+F24+H24+J24+L24+N24+P24+R24+T24+V24+X24+Z24+AB24+AD24+AF24+AH24+AJ24+AL24 -> 553 | E24: =+G24+I24+K24+M24+O24+Q24+S24+U24+W24+Y24+AA24+AC24+AE24+AG24+AI24+AK24+AM24 -> 202 | F24: =SUM(ENERO:DICIEMBRE!F24) -> 0 | G24: =SUM(ENERO:DICIEMBRE!G24) -> 0 | H24: =SUM(ENERO:DICIEMBRE!H24) -> 0 | I24: =SUM(ENERO:DICIEMBRE!I24) -> 0 | J24: =SUM(ENERO:DICIEMBRE!J24) -> 0 | K24: =SUM(ENERO:DICIEMBRE!K24) -> 0 | L24: =SUM(ENERO:DICIEMBRE!L24) -> 3 | M24: =SUM(ENERO:DICIEMBRE!M24) -> 0 | ... AU24: =SUM(ENERO:DICIEMBRE!AU24) -> 0 | AV24: =$CA24&$CB24&CC24&CD24&CE24&CG24&CH24 | CA24: =IF(AND($C24<>0,AN24=""),"* No olvide ingresar la columna Espacios Amigables /adolescentes (Digite CERO si no tiene). ",IF(AN24>$C24,"* El Número de Espacios Amigables no puede superar el Total. ","")) | CB24: =IF(AND(E24>0,OR(AO24="")),"No olvide digitar los campos *TRANS Masculino (Digite CERO si no tiene).",IF(AO24>E24,"* El Número de TRANS Masculino no puede superar el Total Mujeres. ","")) | CC24: =IF(AND(D24>0,OR(AP24="")),"No olvide digitar los campos *TRANS Femenino (Digite CERO si no tiene).",IF(AP24>$D24,"* El Número de TRANS Femenino no puede superar el Total Hombres. ","")) | CD24: =IF(AND($C24<>0,AQ24=""),"* No olvide ingresar la columna Pueblos Originarios (Digite CERO si no tiene). ",IF(AQ24>$C24,"* El Número de Pueblos Originarios no puede superar el Total. ","")) | CE24: =IF(AND($C24<>0,AR24=""),"* No olvide ingresar la columna Migrantes (Digite CERO si no tiene). ",IF(AR24>$C24,"* El Número de Migrantes no puede superar el Total. ","")) | CG24: =IF(AND($C24<>0,AT24=""),"* No olvide ingresar la columna Niños, Niñas, Adolescentes y Jóvenes SENAME (Digite CERO si no tiene). ",IF(AT24>$C24,"* El Número de Niños, Niñas, Adolescentes y Jóvenes SENAME no puede superar el Total. ","")) | CH24: =IF(AND($C24<>0,AU24=""),"* No olvide ingresar la columna Niños, Niñas, Adolescentes y Jóvenes Mejor Niñez (Digite CERO si no tiene). ",IF(AU24>$C24,"* El Número de Niños, Niñas, Adolescentes y Jóvenes Mejor Niñez no puede superar el Total. ","")) | CJ24: =IF(AND($C24<>0,AN24=""),1,IF(AN24>$C24,1,0)) -> 0 | CK24: =IF(AND(E24>0,OR(AO24="")),1,IF(AO24>E24,1,0)) -> 0 | CL24: =IF(AND(D24>0,OR(AP24="")),1,IF(AP24>D24,1,0)) -> 0 | CM24: =IF(AND($C24<>0,AQ24=""),1,IF(AQ24>$C24,1,0)) -> 0 | CN24: =IF(AND($C24<>0,AR24=""),1,IF(AR24>$C24,1,0)) -> 0 | CP24: =IF(AND($C24<>0,AT24=""),1,IF(AT24>$C24,1,0)) -> 0 | CQ24: =IF(AND($C24<>0,AU24=""),1,IF(AU24>$C24,1,0)) -> 0
B25: Enfermera/o | C25: =SUM(D25+E25) -> 0 | D25: =+F25+H25+J25+L25+N25+P25+R25+T25+V25+X25+Z25+AB25+AD25+AF25+AH25+AJ25+AL25 -> 0 | E25: =+G25+I25+K25+M25+O25+Q25+S25+U25+W25+Y25+AA25+AC25+AE25+AG25+AI25+AK25+AM25 -> 0 | F25: =SUM(ENERO:DICIEMBRE!F25) -> 0 | G25: =SUM(ENERO:DICIEMBRE!G25) -> 0 | H25: =SUM(ENERO:DICIEMBRE!H25) -> 0 | I25: =SUM(ENERO:DICIEMBRE!I25) -> 0 | J25: =SUM(ENERO:DICIEMBRE!J25) -> 0 | K25: =SUM(ENERO:DICIEMBRE!K25) -> 0 | L25: =SUM(ENERO:DICIEMBRE!L25) -> 0 | M25: =SUM(ENERO:DICIEMBRE!M25) -> 0 | ... AU25: =SUM(ENERO:DICIEMBRE!AU25) -> 0 | AV25: =$CA25&$CB25&CC25&CD25&CE25&CG25&CH25 | CA25: =IF(AND($C25<>0,AN25=""),"* No olvide ingresar la columna Espacios Amigables /adolescentes (Digite CERO si no tiene). ",IF(AN25>$C25,"* El Número de Espacios Amigables no puede superar el Total. ","")) | CB25: =IF(AND(E25>0,OR(AO25="")),"No olvide digitar los campos *TRANS Masculino (Digite CERO si no tiene).",IF(AO25>E25,"* El Número de TRANS Masculino no puede superar el Total Mujeres. ","")) | CC25: =IF(AND(D25>0,OR(AP25="")),"No olvide digitar los campos *TRANS Femenino (Digite CERO si no tiene).",IF(AP25>$D25,"* El Número de TRANS Femenino no puede superar el Total Hombres. ","")) | CD25: =IF(AND($C25<>0,AQ25=""),"* No olvide ingresar la columna Pueblos Originarios (Digite CERO si no tiene). ",IF(AQ25>$C25,"* El Número de Pueblos Originarios no puede superar el Total. ","")) | CE25: =IF(AND($C25<>0,AR25=""),"* No olvide ingresar la columna Migrantes (Digite CERO si no tiene). ",IF(AR25>$C25,"* El Número de Migrantes no puede superar el Total. ","")) | CG25: =IF(AND($C25<>0,AT25=""),"* No olvide ingresar la columna Niños, Niñas, Adolescentes y Jóvenes SENAME (Digite CERO si no tiene). ",IF(AT25>$C25,"* El Número de Niños, Niñas, Adolescentes y Jóvenes SENAME no puede superar el Total. ","")) | CH25: =IF(AND($C25<>0,AU25=""),"* No olvide ingresar la columna Niños, Niñas, Adolescentes y Jóvenes Mejor Niñez (Digite CERO si no tiene). ",IF(AU25>$C25,"* El Número de Niños, Niñas, Adolescentes y Jóvenes Mejor Niñez no puede superar el Total. ","")) | CJ25: =IF(AND($C25<>0,AN25=""),1,IF(AN25>$C25,1,0)) -> 0 | CK25: =IF(AND(E25>0,OR(AO25="")),1,IF(AO25>E25,1,0)) -> 0 | CL25: =IF(AND(D25>0,OR(AP25="")),1,IF(AP25>D25,1,0)) -> 0 | CM25: =IF(AND($C25<>0,AQ25=""),1,IF(AQ25>$C25,1,0)) -> 0 | CN25: =IF(AND($C25<>0,AR25=""),1,IF(AR25>$C25,1,0)) -> 0 | CP25: =IF(AND($C25<>0,AT25=""),1,IF(AT25>$C25,1,0)) -> 0 | CQ25: =IF(AND($C25<>0,AU25=""),1,IF(AU25>$C25,1,0)) -> 0
B26: Matrona/ón | C26: =SUM(D26+E26) -> 2046 | D26: =+F26+H26+J26+L26+N26+P26+R26+T26+V26+X26+Z26+AB26+AD26+AF26+AH26+AJ26+AL26 -> 1513 | E26: =+G26+I26+K26+M26+O26+Q26+S26+U26+W26+Y26+AA26+AC26+AE26+AG26+AI26+AK26+AM26 -> 533 | F26: =SUM(ENERO:DICIEMBRE!F26) -> 0 | G26: =SUM(ENERO:DICIEMBRE!G26) -> 0 | H26: =SUM(ENERO:DICIEMBRE!H26) -> 0 | I26: =SUM(ENERO:DICIEMBRE!I26) -> 0 | J26: =SUM(ENERO:DICIEMBRE!J26) -> 0 | K26: =SUM(ENERO:DICIEMBRE!K26) -> 0 | L26: =SUM(ENERO:DICIEMBRE!L26) -> 5 | M26: =SUM(ENERO:DICIEMBRE!M26) -> 2 | ... AU26: =SUM(ENERO:DICIEMBRE!AU26) -> 0 | AV26: =$CA26&$CB26&CC26&CD26&CE26&CG26&CH26 | CA26: =IF(AND($C26<>0,AN26=""),"* No olvide ingresar la columna Espacios Amigables /adolescentes (Digite CERO si no tiene). ",IF(AN26>$C26,"* El Número de Espacios Amigables no puede superar el Total. ","")) | CB26: =IF(AND(E26>0,OR(AO26="")),"No olvide digitar los campos *TRANS Masculino (Digite CERO si no tiene).",IF(AO26>E26,"* El Número de TRANS Masculino no puede superar el Total Mujeres. ","")) | CC26: =IF(AND(D26>0,OR(AP26="")),"No olvide digitar los campos *TRANS Femenino (Digite CERO si no tiene).",IF(AP26>$D26,"* El Número de TRANS Femenino no puede superar el Total Hombres. ","")) | CD26: =IF(AND($C26<>0,AQ26=""),"* No olvide ingresar la columna Pueblos Originarios (Digite CERO si no tiene). ",IF(AQ26>$C26,"* El Número de Pueblos Originarios no puede superar el Total. ","")) | CE26: =IF(AND($C26<>0,AR26=""),"* No olvide ingresar la columna Migrantes (Digite CERO si no tiene). ",IF(AR26>$C26,"* El Número de Migrantes no puede superar el Total. ","")) | CG26: =IF(AND($C26<>0,AT26=""),"* No olvide ingresar la columna Niños, Niñas, Adolescentes y Jóvenes SENAME (Digite CERO si no tiene). ",IF(AT26>$C26,"* El Número de Niños, Niñas, Adolescentes y Jóvenes SENAME no puede superar el Total. ","")) | CH26: =IF(AND($C26<>0,AU26=""),"* No olvide ingresar la columna Niños, Niñas, Adolescentes y Jóvenes Mejor Niñez (Digite CERO si no tiene). ",IF(AU26>$C26,"* El Número de Niños, Niñas, Adolescentes y Jóvenes Mejor Niñez no puede superar el Total. ","")) | CJ26: =IF(AND($C26<>0,AN26=""),1,IF(AN26>$C26,1,0)) -> 0 | CK26: =IF(AND(E26>0,OR(AO26="")),1,IF(AO26>E26,1,0)) -> 0 | CL26: =IF(AND(D26>0,OR(AP26="")),1,IF(AP26>D26,1,0)) -> 0 | CM26: =IF(AND($C26<>0,AQ26=""),1,IF(AQ26>$C26,1,0)) -> 0 | CN26: =IF(AND($C26<>0,AR26=""),1,IF(AR26>$C26,1,0)) -> 0 | CP26: =IF(AND($C26<>0,AT26=""),1,IF(AT26>$C26,1,0)) -> 0 | CQ26: =IF(AND($C26<>0,AU26=""),1,IF(AU26>$C26,1,0)) -> 0
B27: Nutricionista | C27: =SUM(D27+E27) -> 0 | D27: =+F27+H27+J27+L27+N27+P27+R27+T27+V27+X27+Z27+AB27+AD27+AF27+AH27+AJ27+AL27 -> 0 | E27: =+G27+I27+K27+M27+O27+Q27+S27+U27+W27+Y27+AA27+AC27+AE27+AG27+AI27+AK27+AM27 -> 0 | F27: =SUM(ENERO:DICIEMBRE!F27) -> 0 | G27: =SUM(ENERO:DICIEMBRE!G27) -> 0 | H27: =SUM(ENERO:DICIEMBRE!H27) -> 0 | I27: =SUM(ENERO:DICIEMBRE!I27) -> 0 | J27: =SUM(ENERO:DICIEMBRE!J27) -> 0 | K27: =SUM(ENERO:DICIEMBRE!K27) -> 0 | L27: =SUM(ENERO:DICIEMBRE!L27) -> 0 | M27: =SUM(ENERO:DICIEMBRE!M27) -> 0 | ... AU27: =SUM(ENERO:DICIEMBRE!AU27) -> 0 | AV27: =$CA27&$CB27&CC27&CD27&CE27&CG27&CH27 | CA27: =IF(AND($C27<>0,AN27=""),"* No olvide ingresar la columna Espacios Amigables /adolescentes (Digite CERO si no tiene). ",IF(AN27>$C27,"* El Número de Espacios Amigables no puede superar el Total. ","")) | CB27: =IF(AND(E27>0,OR(AO27="")),"No olvide digitar los campos *TRANS Masculino (Digite CERO si no tiene).",IF(AO27>E27,"* El Número de TRANS Masculino no puede superar el Total Mujeres. ","")) | CC27: =IF(AND(D27>0,OR(AP27="")),"No olvide digitar los campos *TRANS Femenino (Digite CERO si no tiene).",IF(AP27>$D27,"* El Número de TRANS Femenino no puede superar el Total Hombres. ","")) | CD27: =IF(AND($C27<>0,AQ27=""),"* No olvide ingresar la columna Pueblos Originarios (Digite CERO si no tiene). ",IF(AQ27>$C27,"* El Número de Pueblos Originarios no puede superar el Total. ","")) | CE27: =IF(AND($C27<>0,AR27=""),"* No olvide ingresar la columna Migrantes (Digite CERO si no tiene). ",IF(AR27>$C27,"* El Número de Migrantes no puede superar el Total. ","")) | CG27: =IF(AND($C27<>0,AT27=""),"* No olvide ingresar la columna Niños, Niñas, Adolescentes y Jóvenes SENAME (Digite CERO si no tiene). ",IF(AT27>$C27,"* El Número de Niños, Niñas, Adolescentes y Jóvenes SENAME no puede superar el Total. ","")) | CH27: =IF(AND($C27<>0,AU27=""),"* No olvide ingresar la columna Niños, Niñas, Adolescentes y Jóvenes Mejor Niñez (Digite CERO si no tiene). ",IF(AU27>$C27,"* El Número de Niños, Niñas, Adolescentes y Jóvenes Mejor Niñez no puede superar el Total. ","")) | CJ27: =IF(AND($C27<>0,AN27=""),1,IF(AN27>$C27,1,0)) -> 0 | CK27: =IF(AND(E27>0,OR(AO27="")),1,IF(AO27>E27,1,0)) -> 0 | CL27: =IF(AND(D27>0,OR(AP27="")),1,IF(AP27>D27,1,0)) -> 0 | CM27: =IF(AND($C27<>0,AQ27=""),1,IF(AQ27>$C27,1,0)) -> 0 | CN27: =IF(AND($C27<>0,AR27=""),1,IF(AR27>$C27,1,0)) -> 0 | CP27: =IF(AND($C27<>0,AT27=""),1,IF(AT27>$C27,1,0)) -> 0 | CQ27: =IF(AND($C27<>0,AU27=""),1,IF(AU27>$C27,1,0)) -> 0
B28: Trabajador/a Social | C28: =SUM(D28+E28) -> 0 | D28: =+F28+H28+J28+L28+N28+P28+R28+T28+V28+X28+Z28+AB28+AD28+AF28+AH28+AJ28+AL28 -> 0 | E28: =+G28+I28+K28+M28+O28+Q28+S28+U28+W28+Y28+AA28+AC28+AE28+AG28+AI28+AK28+AM28 -> 0 | F28: =SUM(ENERO:DICIEMBRE!F28) -> 0 | G28: =SUM(ENERO:DICIEMBRE!G28) -> 0 | H28: =SUM(ENERO:DICIEMBRE!H28) -> 0 | I28: =SUM(ENERO:DICIEMBRE!I28) -> 0 | J28: =SUM(ENERO:DICIEMBRE!J28) -> 0 | K28: =SUM(ENERO:DICIEMBRE!K28) -> 0 | L28: =SUM(ENERO:DICIEMBRE!L28) -> 0 | M28: =SUM(ENERO:DICIEMBRE!M28) -> 0 | ... AU28: =SUM(ENERO:DICIEMBRE!AU28) -> 0 | AV28: =$CA28&$CB28&CC28&CD28&CE28&CG28&CH28 | CA28: =IF(AND($C28<>0,AN28=""),"* No olvide ingresar la columna Espacios Amigables /adolescentes (Digite CERO si no tiene). ",IF(AN28>$C28,"* El Número de Espacios Amigables no puede superar el Total. ","")) | CB28: =IF(AND(E28>0,OR(AO28="")),"No olvide digitar los campos *TRANS Masculino (Digite CERO si no tiene).",IF(AO28>E28,"* El Número de TRANS Masculino no puede superar el Total Mujeres. ","")) | CC28: =IF(AND(D28>0,OR(AP28="")),"No olvide digitar los campos *TRANS Femenino (Digite CERO si no tiene).",IF(AP28>$D28,"* El Número de TRANS Femenino no puede superar el Total Hombres. ","")) | CD28: =IF(AND($C28<>0,AQ28=""),"* No olvide ingresar la columna Pueblos Originarios (Digite CERO si no tiene). ",IF(AQ28>$C28,"* El Número de Pueblos Originarios no puede superar el Total. ","")) | CE28: =IF(AND($C28<>0,AR28=""),"* No olvide ingresar la columna Migrantes (Digite CERO si no tiene). ",IF(AR28>$C28,"* El Número de Migrantes no puede superar el Total. ","")) | CG28: =IF(AND($C28<>0,AT28=""),"* No olvide ingresar la columna Niños, Niñas, Adolescentes y Jóvenes SENAME (Digite CERO si no tiene). ",IF(AT28>$C28,"* El Número de Niños, Niñas, Adolescentes y Jóvenes SENAME no puede superar el Total. ","")) | CH28: =IF(AND($C28<>0,AU28=""),"* No olvide ingresar la columna Niños, Niñas, Adolescentes y Jóvenes Mejor Niñez (Digite CERO si no tiene). ",IF(AU28>$C28,"* El Número de Niños, Niñas, Adolescentes y Jóvenes Mejor Niñez no puede superar el Total. ","")) | CJ28: =IF(AND($C28<>0,AN28=""),1,IF(AN28>$C28,1,0)) -> 0 | CK28: =IF(AND(E28>0,OR(AO28="")),1,IF(AO28>E28,1,0)) -> 0 | CL28: =IF(AND(D28>0,OR(AP28="")),1,IF(AP28>D28,1,0)) -> 0 | CM28: =IF(AND($C28<>0,AQ28=""),1,IF(AQ28>$C28,1,0)) -> 0 | CN28: =IF(AND($C28<>0,AR28=""),1,IF(AR28>$C28,1,0)) -> 0 | CP28: =IF(AND($C28<>0,AT28=""),1,IF(AT28>$C28,1,0)) -> 0 | CQ28: =IF(AND($C28<>0,AU28=""),1,IF(AU28>$C28,1,0)) -> 0
B29: Psicólogo/a | C29: =SUM(D29+E29) -> 0 | D29: =+F29+H29+J29+L29+N29+P29+R29+T29+V29+X29+Z29+AB29+AD29+AF29+AH29+AJ29+AL29 -> 0 | E29: =+G29+I29+K29+M29+O29+Q29+S29+U29+W29+Y29+AA29+AC29+AE29+AG29+AI29+AK29+AM29 -> 0 | F29: =SUM(ENERO:DICIEMBRE!F29) -> 0 | G29: =SUM(ENERO:DICIEMBRE!G29) -> 0 | H29: =SUM(ENERO:DICIEMBRE!H29) -> 0 | I29: =SUM(ENERO:DICIEMBRE!I29) -> 0 | J29: =SUM(ENERO:DICIEMBRE!J29) -> 0 | K29: =SUM(ENERO:DICIEMBRE!K29) -> 0 | L29: =SUM(ENERO:DICIEMBRE!L29) -> 0 | M29: =SUM(ENERO:DICIEMBRE!M29) -> 0 | ... AU29: =SUM(ENERO:DICIEMBRE!AU29) -> 0 | AV29: =$CA29&$CB29&CC29&CD29&CE29&CG29&CH29 | CA29: =IF(AND($C29<>0,AN29=""),"* No olvide ingresar la columna Espacios Amigables /adolescentes (Digite CERO si no tiene). ",IF(AN29>$C29,"* El Número de Espacios Amigables no puede superar el Total. ","")) | CB29: =IF(AND(E29>0,OR(AO29="")),"No olvide digitar los campos *TRANS Masculino (Digite CERO si no tiene).",IF(AO29>E29,"* El Número de TRANS Masculino no puede superar el Total Mujeres. ","")) | CC29: =IF(AND(D29>0,OR(AP29="")),"No olvide digitar los campos *TRANS Femenino (Digite CERO si no tiene).",IF(AP29>$D29,"* El Número de TRANS Femenino no puede superar el Total Hombres. ","")) | CD29: =IF(AND($C29<>0,AQ29=""),"* No olvide ingresar la columna Pueblos Originarios (Digite CERO si no tiene). ",IF(AQ29>$C29,"* El Número de Pueblos Originarios no puede superar el Total. ","")) | CE29: =IF(AND($C29<>0,AR29=""),"* No olvide ingresar la columna Migrantes (Digite CERO si no tiene). ",IF(AR29>$C29,"* El Número de Migrantes no puede superar el Total. ","")) | CG29: =IF(AND($C29<>0,AT29=""),"* No olvide ingresar la columna Niños, Niñas, Adolescentes y Jóvenes SENAME (Digite CERO si no tiene). ",IF(AT29>$C29,"* El Número de Niños, Niñas, Adolescentes y Jóvenes SENAME no puede superar el Total. ","")) | CH29: =IF(AND($C29<>0,AU29=""),"* No olvide ingresar la columna Niños, Niñas, Adolescentes y Jóvenes Mejor Niñez (Digite CERO si no tiene). ",IF(AU29>$C29,"* El Número de Niños, Niñas, Adolescentes y Jóvenes Mejor Niñez no puede superar el Total. ","")) | CJ29: =IF(AND($C29<>0,AN29=""),1,IF(AN29>$C29,1,0)) -> 0 | CK29: =IF(AND(E29>0,OR(AO29="")),1,IF(AO29>E29,1,0)) -> 0 | CL29: =IF(AND(D29>0,OR(AP29="")),1,IF(AP29>D29,1,0)) -> 0 | CM29: =IF(AND($C29<>0,AQ29=""),1,IF(AQ29>$C29,1,0)) -> 0 | CN29: =IF(AND($C29<>0,AR29=""),1,IF(AR29>$C29,1,0)) -> 0 | CP29: =IF(AND($C29<>0,AT29=""),1,IF(AT29>$C29,1,0)) -> 0 | CQ29: =IF(AND($C29<>0,AU29=""),1,IF(AU29>$C29,1,0)) -> 0
B30: Kinesiólogo/a | C30: =SUM(D30+E30) -> 0 | D30: =+F30+H30+J30+L30+N30+P30+R30+T30+V30+X30+Z30+AB30+AD30+AF30+AH30+AJ30+AL30 -> 0 | E30: =+G30+I30+K30+M30+O30+Q30+S30+U30+W30+Y30+AA30+AC30+AE30+AG30+AI30+AK30+AM30 -> 0 | F30: =SUM(ENERO:DICIEMBRE!F30) -> 0 | G30: =SUM(ENERO:DICIEMBRE!G30) -> 0 | H30: =SUM(ENERO:DICIEMBRE!H30) -> 0 | I30: =SUM(ENERO:DICIEMBRE!I30) -> 0 | J30: =SUM(ENERO:DICIEMBRE!J30) -> 0 | K30: =SUM(ENERO:DICIEMBRE!K30) -> 0 | L30: =SUM(ENERO:DICIEMBRE!L30) -> 0 | M30: =SUM(ENERO:DICIEMBRE!M30) -> 0 | ... AU30: =SUM(ENERO:DICIEMBRE!AU30) -> 0 | AV30: =$CA30&$CB30&CC30&CD30&CE30&CG30&CH30 | CA30: =IF(AND($C30<>0,AN30=""),"* No olvide ingresar la columna Espacios Amigables /adolescentes (Digite CERO si no tiene). ",IF(AN30>$C30,"* El Número de Espacios Amigables no puede superar el Total. ","")) | CB30: =IF(AND(E30>0,OR(AO30="")),"No olvide digitar los campos *TRANS Masculino (Digite CERO si no tiene).",IF(AO30>E30,"* El Número de TRANS Masculino no puede superar el Total Mujeres. ","")) | CC30: =IF(AND(D30>0,OR(AP30="")),"No olvide digitar los campos *TRANS Femenino (Digite CERO si no tiene).",IF(AP30>$D30,"* El Número de TRANS Femenino no puede superar el Total Hombres. ","")) | CD30: =IF(AND($C30<>0,AQ30=""),"* No olvide ingresar la columna Pueblos Originarios (Digite CERO si no tiene). ",IF(AQ30>$C30,"* El Número de Pueblos Originarios no puede superar el Total. ","")) | CE30: =IF(AND($C30<>0,AR30=""),"* No olvide ingresar la columna Migrantes (Digite CERO si no tiene). ",IF(AR30>$C30,"* El Número de Migrantes no puede superar el Total. ","")) | CG30: =IF(AND($C30<>0,AT30=""),"* No olvide ingresar la columna Niños, Niñas, Adolescentes y Jóvenes SENAME (Digite CERO si no tiene). ",IF(AT30>$C30,"* El Número de Niños, Niñas, Adolescentes y Jóvenes SENAME no puede superar el Total. ","")) | CH30: =IF(AND($C30<>0,AU30=""),"* No olvide ingresar la columna Niños, Niñas, Adolescentes y Jóvenes Mejor Niñez (Digite CERO si no tiene). ",IF(AU30>$C30,"* El Número de Niños, Niñas, Adolescentes y Jóvenes Mejor Niñez no puede superar el Total. ","")) | CJ30: =IF(AND($C30<>0,AN30=""),1,IF(AN30>$C30,1,0)) -> 0 | CK30: =IF(AND(E30>0,OR(AO30="")),1,IF(AO30>E30,1,0)) -> 0 | CL30: =IF(AND(D30>0,OR(AP30="")),1,IF(AP30>D30,1,0)) -> 0 | CM30: =IF(AND($C30<>0,AQ30=""),1,IF(AQ30>$C30,1,0)) -> 0 | CN30: =IF(AND($C30<>0,AR30=""),1,IF(AR30>$C30,1,0)) -> 0 | CP30: =IF(AND($C30<>0,AT30=""),1,IF(AT30>$C30,1,0)) -> 0 | CQ30: =IF(AND($C30<>0,AU30=""),1,IF(AU30>$C30,1,0)) -> 0
B31: Terapeuta ocupacional | C31: =SUM(D31+E31) -> 0 | D31: =+F31+H31+J31+L31+N31+P31+R31+T31+V31+X31+Z31+AB31+AD31+AF31+AH31+AJ31+AL31 -> 0 | E31: =+G31+I31+K31+M31+O31+Q31+S31+U31+W31+Y31+AA31+AC31+AE31+AG31+AI31+AK31+AM31 -> 0 | F31: =SUM(ENERO:DICIEMBRE!F31) -> 0 | G31: =SUM(ENERO:DICIEMBRE!G31) -> 0 | H31: =SUM(ENERO:DICIEMBRE!H31) -> 0 | I31: =SUM(ENERO:DICIEMBRE!I31) -> 0 | J31: =SUM(ENERO:DICIEMBRE!J31) -> 0 | K31: =SUM(ENERO:DICIEMBRE!K31) -> 0 | L31: =SUM(ENERO:DICIEMBRE!L31) -> 0 | M31: =SUM(ENERO:DICIEMBRE!M31) -> 0 | ... AU31: =SUM(ENERO:DICIEMBRE!AU31) -> 0 | AV31: =$CA31&$CB31&CC31&CD31&CE31&CG31&CH31 | CA31: =IF(AND($C31<>0,AN31=""),"* No olvide ingresar la columna Espacios Amigables /adolescentes (Digite CERO si no tiene). ",IF(AN31>$C31,"* El Número de Espacios Amigables no puede superar el Total. ","")) | CB31: =IF(AND(E31>0,OR(AO31="")),"No olvide digitar los campos *TRANS Masculino (Digite CERO si no tiene).",IF(AO31>E31,"* El Número de TRANS Masculino no puede superar el Total Mujeres. ","")) | CC31: =IF(AND(D31>0,OR(AP31="")),"No olvide digitar los campos *TRANS Femenino (Digite CERO si no tiene).",IF(AP31>$D31,"* El Número de TRANS Femenino no puede superar el Total Hombres. ","")) | CD31: =IF(AND($C31<>0,AQ31=""),"* No olvide ingresar la columna Pueblos Originarios (Digite CERO si no tiene). ",IF(AQ31>$C31,"* El Número de Pueblos Originarios no puede superar el Total. ","")) | CE31: =IF(AND($C31<>0,AR31=""),"* No olvide ingresar la columna Migrantes (Digite CERO si no tiene). ",IF(AR31>$C31,"* El Número de Migrantes no puede superar el Total. ","")) | CG31: =IF(AND($C31<>0,AT31=""),"* No olvide ingresar la columna Niños, Niñas, Adolescentes y Jóvenes SENAME (Digite CERO si no tiene). ",IF(AT31>$C31,"* El Número de Niños, Niñas, Adolescentes y Jóvenes SENAME no puede superar el Total. ","")) | CH31: =IF(AND($C31<>0,AU31=""),"* No olvide ingresar la columna Niños, Niñas, Adolescentes y Jóvenes Mejor Niñez (Digite CERO si no tiene). ",IF(AU31>$C31,"* El Número de Niños, Niñas, Adolescentes y Jóvenes Mejor Niñez no puede superar el Total. ","")) | CJ31: =IF(AND($C31<>0,AN31=""),1,IF(AN31>$C31,1,0)) -> 0 | CK31: =IF(AND(E31>0,OR(AO31="")),1,IF(AO31>E31,1,0)) -> 0 | CL31: =IF(AND(D31>0,OR(AP31="")),1,IF(AP31>D31,1,0)) -> 0 | CM31: =IF(AND($C31<>0,AQ31=""),1,IF(AQ31>$C31,1,0)) -> 0 | CN31: =IF(AND($C31<>0,AR31=""),1,IF(AR31>$C31,1,0)) -> 0 | CP31: =IF(AND($C31<>0,AT31=""),1,IF(AT31>$C31,1,0)) -> 0 | CQ31: =IF(AND($C31<>0,AU31=""),1,IF(AU31>$C31,1,0)) -> 0
B32: Otro profesional | C32: =SUM(D32+E32) -> 0 | D32: =+F32+H32+J32+L32+N32+P32+R32+T32+V32+X32+Z32+AB32+AD32+AF32+AH32+AJ32+AL32 -> 0 | E32: =+G32+I32+K32+M32+O32+Q32+S32+U32+W32+Y32+AA32+AC32+AE32+AG32+AI32+AK32+AM32 -> 0 | F32: =SUM(ENERO:DICIEMBRE!F32) -> 0 | G32: =SUM(ENERO:DICIEMBRE!G32) -> 0 | H32: =SUM(ENERO:DICIEMBRE!H32) -> 0 | I32: =SUM(ENERO:DICIEMBRE!I32) -> 0 | J32: =SUM(ENERO:DICIEMBRE!J32) -> 0 | K32: =SUM(ENERO:DICIEMBRE!K32) -> 0 | L32: =SUM(ENERO:DICIEMBRE!L32) -> 0 | M32: =SUM(ENERO:DICIEMBRE!M32) -> 0 | ... AU32: =SUM(ENERO:DICIEMBRE!AU32) -> 0 | AV32: =$CA32&$CB32&CC32&CD32&CE32&CG32&CH32 | CA32: =IF(AND($C32<>0,AN32=""),"* No olvide ingresar la columna Espacios Amigables /adolescentes (Digite CERO si no tiene). ",IF(AN32>$C32,"* El Número de Espacios Amigables no puede superar el Total. ","")) | CB32: =IF(AND(E32>0,OR(AO32="")),"No olvide digitar los campos *TRANS Masculino (Digite CERO si no tiene).",IF(AO32>E32,"* El Número de TRANS Masculino no puede superar el Total Mujeres. ","")) | CC32: =IF(AND(D32>0,OR(AP32="")),"No olvide digitar los campos *TRANS Femenino (Digite CERO si no tiene).",IF(AP32>$D32,"* El Número de TRANS Femenino no puede superar el Total Hombres. ","")) | CD32: =IF(AND($C32<>0,AQ32=""),"* No olvide ingresar la columna Pueblos Originarios (Digite CERO si no tiene). ",IF(AQ32>$C32,"* El Número de Pueblos Originarios no puede superar el Total. ","")) | CE32: =IF(AND($C32<>0,AR32=""),"* No olvide ingresar la columna Migrantes (Digite CERO si no tiene). ",IF(AR32>$C32,"* El Número de Migrantes no puede superar el Total. ","")) | CG32: =IF(AND($C32<>0,AT32=""),"* No olvide ingresar la columna Niños, Niñas, Adolescentes y Jóvenes SENAME (Digite CERO si no tiene). ",IF(AT32>$C32,"* El Número de Niños, Niñas, Adolescentes y Jóvenes SENAME no puede superar el Total. ","")) | CH32: =IF(AND($C32<>0,AU32=""),"* No olvide ingresar la columna Niños, Niñas, Adolescentes y Jóvenes Mejor Niñez (Digite CERO si no tiene). ",IF(AU32>$C32,"* El Número de Niños, Niñas, Adolescentes y Jóvenes Mejor Niñez no puede superar el Total. ","")) | CJ32: =IF(AND($C32<>0,AN32=""),1,IF(AN32>$C32,1,0)) -> 0 | CK32: =IF(AND(E32>0,OR(AO32="")),1,IF(AO32>E32,1,0)) -> 0 | CL32: =IF(AND(D32>0,OR(AP32="")),1,IF(AP32>D32,1,0)) -> 0 | CM32: =IF(AND($C32<>0,AQ32=""),1,IF(AQ32>$C32,1,0)) -> 0 | CN32: =IF(AND($C32<>0,AR32=""),1,IF(AR32>$C32,1,0)) -> 0 | CP32: =IF(AND($C32<>0,AT32=""),1,IF(AT32>$C32,1,0)) -> 0 | CQ32: =IF(AND($C32<>0,AU32=""),1,IF(AU32>$C32,1,0)) -> 0
B33: Facilitador/a intercultural | C33: =SUM(D33+E33) -> 0 | D33: =+F33+H33+J33+L33+N33+P33+R33+T33+V33+X33+Z33+AB33+AD33+AF33+AH33+AJ33+AL33 -> 0 | E33: =+G33+I33+K33+M33+O33+Q33+S33+U33+W33+Y33+AA33+AC33+AE33+AG33+AI33+AK33+AM33 -> 0 | F33: =SUM(ENERO:DICIEMBRE!F33) -> 0 | G33: =SUM(ENERO:DICIEMBRE!G33) -> 0 | H33: =SUM(ENERO:DICIEMBRE!H33) -> 0 | I33: =SUM(ENERO:DICIEMBRE!I33) -> 0 | J33: =SUM(ENERO:DICIEMBRE!J33) -> 0 | K33: =SUM(ENERO:DICIEMBRE!K33) -> 0 | L33: =SUM(ENERO:DICIEMBRE!L33) -> 0 | M33: =SUM(ENERO:DICIEMBRE!M33) -> 0 | ... AU33: =SUM(ENERO:DICIEMBRE!AU33) -> 0 | AV33: =$CA33&$CB33&CC33&CD33&CE33&CG33&CH33 | CA33: =IF(AND($C33<>0,AN33=""),"* No olvide ingresar la columna Espacios Amigables /adolescentes (Digite CERO si no tiene). ",IF(AN33>$C33,"* El Número de Espacios Amigables no puede superar el Total. ","")) | CB33: =IF(AND(E33>0,OR(AO33="")),"No olvide digitar los campos *TRANS Masculino (Digite CERO si no tiene).",IF(AO33>E33,"* El Número de TRANS Masculino no puede superar el Total Mujeres. ","")) | CC33: =IF(AND(D33>0,OR(AP33="")),"No olvide digitar los campos *TRANS Femenino (Digite CERO si no tiene).",IF(AP33>$D33,"* El Número de TRANS Femenino no puede superar el Total Hombres. ","")) | CD33: =IF(AND($C33<>0,AQ33=""),"* No olvide ingresar la columna Pueblos Originarios (Digite CERO si no tiene). ",IF(AQ33>$C33,"* El Número de Pueblos Originarios no puede superar el Total. ","")) | CE33: =IF(AND($C33<>0,AR33=""),"* No olvide ingresar la columna Migrantes (Digite CERO si no tiene). ",IF(AR33>$C33,"* El Número de Migrantes no puede superar el Total. ","")) | CG33: =IF(AND($C33<>0,AT33=""),"* No olvide ingresar la columna Niños, Niñas, Adolescentes y Jóvenes SENAME (Digite CERO si no tiene). ",IF(AT33>$C33,"* El Número de Niños, Niñas, Adolescentes y Jóvenes SENAME no puede superar el Total. ","")) | CH33: =IF(AND($C33<>0,AU33=""),"* No olvide ingresar la columna Niños, Niñas, Adolescentes y Jóvenes Mejor Niñez (Digite CERO si no tiene). ",IF(AU33>$C33,"* El Número de Niños, Niñas, Adolescentes y Jóvenes Mejor Niñez no puede superar el Total. ","")) | CJ33: =IF(AND($C33<>0,AN33=""),1,IF(AN33>$C33,1,0)) -> 0 | CK33: =IF(AND(E33>0,OR(AO33="")),1,IF(AO33>E33,1,0)) -> 0 | CL33: =IF(AND(D33>0,OR(AP33="")),1,IF(AP33>D33,1,0)) -> 0 | CM33: =IF(AND($C33<>0,AQ33=""),1,IF(AQ33>$C33,1,0)) -> 0 | CN33: =IF(AND($C33<>0,AR33=""),1,IF(AR33>$C33,1,0)) -> 0 | CP33: =IF(AND($C33<>0,AT33=""),1,IF(AT33>$C33,1,0)) -> 0 | CQ33: =IF(AND($C33<>0,AU33=""),1,IF(AU33>$C33,1,0)) -> 0
B34: Técnico en Enfermería | C34: =SUM(D34+E34) -> 0 | D34: =+F34+H34+J34+L34+N34+P34+R34+T34+V34+X34+Z34+AB34+AD34+AF34+AH34+AJ34+AL34 -> 0 | E34: =+G34+I34+K34+M34+O34+Q34+S34+U34+W34+Y34+AA34+AC34+AE34+AG34+AI34+AK34+AM34 -> 0 | F34: =SUM(ENERO:DICIEMBRE!F34) -> 0 | G34: =SUM(ENERO:DICIEMBRE!G34) -> 0 | H34: =SUM(ENERO:DICIEMBRE!H34) -> 0 | I34: =SUM(ENERO:DICIEMBRE!I34) -> 0 | J34: =SUM(ENERO:DICIEMBRE!J34) -> 0 | K34: =SUM(ENERO:DICIEMBRE!K34) -> 0 | L34: =SUM(ENERO:DICIEMBRE!L34) -> 0 | M34: =SUM(ENERO:DICIEMBRE!M34) -> 0 | ... AU34: =SUM(ENERO:DICIEMBRE!AU34) -> 0 | AV34: =$CA34&$CB34&CC34&CD34&CE34&CG34&CH34 | CA34: =IF(AND($C34<>0,AN34=""),"* No olvide ingresar la columna Espacios Amigables /adolescentes (Digite CERO si no tiene). ",IF(AN34>$C34,"* El Número de Espacios Amigables no puede superar el Total. ","")) | CB34: =IF(AND(E34>0,OR(AO34="")),"No olvide digitar los campos *TRANS Masculino (Digite CERO si no tiene).",IF(AO34>E34,"* El Número de TRANS Masculino no puede superar el Total Mujeres. ","")) | CC34: =IF(AND(D34>0,OR(AP34="")),"No olvide digitar los campos *TRANS Femenino (Digite CERO si no tiene).",IF(AP34>$D34,"* El Número de TRANS Femenino no puede superar el Total Hombres. ","")) | CD34: =IF(AND($C34<>0,AQ34=""),"* No olvide ingresar la columna Pueblos Originarios (Digite CERO si no tiene). ",IF(AQ34>$C34,"* El Número de Pueblos Originarios no puede superar el Total. ","")) | CE34: =IF(AND($C34<>0,AR34=""),"* No olvide ingresar la columna Migrantes (Digite CERO si no tiene). ",IF(AR34>$C34,"* El Número de Migrantes no puede superar el Total. ","")) | CG34: =IF(AND($C34<>0,AT34=""),"* No olvide ingresar la columna Niños, Niñas, Adolescentes y Jóvenes SENAME (Digite CERO si no tiene). ",IF(AT34>$C34,"* El Número de Niños, Niñas, Adolescentes y Jóvenes SENAME no puede superar el Total. ","")) | CH34: =IF(AND($C34<>0,AU34=""),"* No olvide ingresar la columna Niños, Niñas, Adolescentes y Jóvenes Mejor Niñez (Digite CERO si no tiene). ",IF(AU34>$C34,"* El Número de Niños, Niñas, Adolescentes y Jóvenes Mejor Niñez no puede superar el Total. ","")) | CJ34: =IF(AND($C34<>0,AN34=""),1,IF(AN34>$C34,1,0)) -> 0 | CK34: =IF(AND(E34>0,OR(AO34="")),1,IF(AO34>E34,1,0)) -> 0 | CL34: =IF(AND(D34>0,OR(AP34="")),1,IF(AP34>D34,1,0)) -> 0 | CM34: =IF(AND($C34<>0,AQ34=""),1,IF(AQ34>$C34,1,0)) -> 0 | CN34: =IF(AND($C34<>0,AR34=""),1,IF(AR34>$C34,1,0)) -> 0 | CP34: =IF(AND($C34<>0,AT34=""),1,IF(AT34>$C34,1,0)) -> 0 | CQ34: =IF(AND($C34<>0,AU34=""),1,IF(AU34>$C34,1,0)) -> 0
A35: Tabaquismo | B35: Médico/a | C35: =SUM(D35+E35) -> 755 | D35: =SUM(H35+J35+L35+N35+P35+R35+T35+V35+X35+Z35+AB35+AD35+AF35+AH35+AJ35+AL35) -> 553 | E35: =SUM(I35+K35+M35+O35+Q35+S35+U35+W35+Y35+AA35+AC35+AE35+AG35+AI35+AK35+AM35) -> 202 | F35: =SUM(ENERO:DICIEMBRE!F35) -> 0 | G35: =SUM(ENERO:DICIEMBRE!G35) -> 0 | H35: =SUM(ENERO:DICIEMBRE!H35) -> 0 | I35: =SUM(ENERO:DICIEMBRE!I35) -> 0 | J35: =SUM(ENERO:DICIEMBRE!J35) -> 0 | K35: =SUM(ENERO:DICIEMBRE!K35) -> 0 | L35: =SUM(ENERO:DICIEMBRE!L35) -> 3 | M35: =SUM(ENERO:DICIEMBRE!M35) -> 0 | ... AU35: =SUM(ENERO:DICIEMBRE!AU35) -> 0 | AV35: =$CA35&$CB35&CC35&CD35&CE35&CG35&CH35 | CA35: =IF(AND($C35<>0,AN35=""),"* No olvide ingresar la columna Espacios Amigables /adolescentes (Digite CERO si no tiene). ",IF(AN35>$C35,"* El Número de Espacios Amigables no puede superar el Total. ","")) | CB35: =IF(AND(E35>0,OR(AO35="")),"No olvide digitar los campos *TRANS Masculino (Digite CERO si no tiene).",IF(AO35>E35,"* El Número de TRANS Masculino no puede superar el Total Mujeres. ","")) | CC35: =IF(AND(D35>0,OR(AP35="")),"No olvide digitar los campos *TRANS Femenino (Digite CERO si no tiene).",IF(AP35>$D35,"* El Número de TRANS Femenino no puede superar el Total Hombres. ","")) | CD35: =IF(AND($C35<>0,AQ35=""),"* No olvide ingresar la columna Pueblos Originarios (Digite CERO si no tiene). ",IF(AQ35>$C35,"* El Número de Pueblos Originarios no puede superar el Total. ","")) | CE35: =IF(AND($C35<>0,AR35=""),"* No olvide ingresar la columna Migrantes (Digite CERO si no tiene). ",IF(AR35>$C35,"* El Número de Migrantes no puede superar el Total. ","")) | CG35: =IF(AND($C35<>0,AT35=""),"* No olvide ingresar la columna Niños, Niñas, Adolescentes y Jóvenes SENAME (Digite CERO si no tiene). ",IF(AT35>$C35,"* El Número de Niños, Niñas, Adolescentes y Jóvenes SENAME no puede superar el Total. ","")) | CH35: =IF(AND($C35<>0,AU35=""),"* No olvide ingresar la columna Niños, Niñas, Adolescentes y Jóvenes Mejor Niñez (Digite CERO si no tiene). ",IF(AU35>$C35,"* El Número de Niños, Niñas, Adolescentes y Jóvenes Mejor Niñez no puede superar el Total. ","")) | CJ35: =IF(AND($C35<>0,AN35=""),1,IF(AN35>$C35,1,0)) -> 0 | CK35: =IF(AND(E35>0,OR(AO35="")),1,IF(AO35>E35,1,0)) -> 0 | CL35: =IF(AND(D35>0,OR(AP35="")),1,IF(AP35>D35,1,0)) -> 0 | CM35: =IF(AND($C35<>0,AQ35=""),1,IF(AQ35>$C35,1,0)) -> 0 | CN35: =IF(AND($C35<>0,AR35=""),1,IF(AR35>$C35,1,0)) -> 0 | CP35: =IF(AND($C35<>0,AT35=""),1,IF(AT35>$C35,1,0)) -> 0 | CQ35: =IF(AND($C35<>0,AU35=""),1,IF(AU35>$C35,1,0)) -> 0
B36: Enfermera /o | C36: =SUM(D36+E36) -> 0 | D36: =SUM(H36+J36+L36+N36+P36+R36+T36+V36+X36+Z36+AB36+AD36+AF36+AH36+AJ36+AL36) -> 0 | E36: =SUM(I36+K36+M36+O36+Q36+S36+U36+W36+Y36+AA36+AC36+AE36+AG36+AI36+AK36+AM36) -> 0 | F36: =SUM(ENERO:DICIEMBRE!F36) -> 0 | G36: =SUM(ENERO:DICIEMBRE!G36) -> 0 | H36: =SUM(ENERO:DICIEMBRE!H36) -> 0 | I36: =SUM(ENERO:DICIEMBRE!I36) -> 0 | J36: =SUM(ENERO:DICIEMBRE!J36) -> 0 | K36: =SUM(ENERO:DICIEMBRE!K36) -> 0 | L36: =SUM(ENERO:DICIEMBRE!L36) -> 0 | M36: =SUM(ENERO:DICIEMBRE!M36) -> 0 | ... AU36: =SUM(ENERO:DICIEMBRE!AU36) -> 0 | AV36: =$CA36&$CB36&CC36&CD36&CE36&CG36&CH36 | CA36: =IF(AND($C36<>0,AN36=""),"* No olvide ingresar la columna Espacios Amigables /adolescentes (Digite CERO si no tiene). ",IF(AN36>$C36,"* El Número de Espacios Amigables no puede superar el Total. ","")) | CB36: =IF(AND(E36>0,OR(AO36="")),"No olvide digitar los campos *TRANS Masculino (Digite CERO si no tiene).",IF(AO36>E36,"* El Número de TRANS Masculino no puede superar el Total Mujeres. ","")) | CC36: =IF(AND(D36>0,OR(AP36="")),"No olvide digitar los campos *TRANS Femenino (Digite CERO si no tiene).",IF(AP36>$D36,"* El Número de TRANS Femenino no puede superar el Total Hombres. ","")) | CD36: =IF(AND($C36<>0,AQ36=""),"* No olvide ingresar la columna Pueblos Originarios (Digite CERO si no tiene). ",IF(AQ36>$C36,"* El Número de Pueblos Originarios no puede superar el Total. ","")) | CE36: =IF(AND($C36<>0,AR36=""),"* No olvide ingresar la columna Migrantes (Digite CERO si no tiene). ",IF(AR36>$C36,"* El Número de Migrantes no puede superar el Total. ","")) | CG36: =IF(AND($C36<>0,AT36=""),"* No olvide ingresar la columna Niños, Niñas, Adolescentes y Jóvenes SENAME (Digite CERO si no tiene). ",IF(AT36>$C36,"* El Número de Niños, Niñas, Adolescentes y Jóvenes SENAME no puede superar el Total. ","")) | CH36: =IF(AND($C36<>0,AU36=""),"* No olvide ingresar la columna Niños, Niñas, Adolescentes y Jóvenes Mejor Niñez (Digite CERO si no tiene). ",IF(AU36>$C36,"* El Número de Niños, Niñas, Adolescentes y Jóvenes Mejor Niñez no puede superar el Total. ","")) | CJ36: =IF(AND($C36<>0,AN36=""),1,IF(AN36>$C36,1,0)) -> 0 | CK36: =IF(AND(E36>0,OR(AO36="")),1,IF(AO36>E36,1,0)) -> 0 | CL36: =IF(AND(D36>0,OR(AP36="")),1,IF(AP36>D36,1,0)) -> 0 | CM36: =IF(AND($C36<>0,AQ36=""),1,IF(AQ36>$C36,1,0)) -> 0 | CN36: =IF(AND($C36<>0,AR36=""),1,IF(AR36>$C36,1,0)) -> 0 | CP36: =IF(AND($C36<>0,AT36=""),1,IF(AT36>$C36,1,0)) -> 0 | CQ36: =IF(AND($C36<>0,AU36=""),1,IF(AU36>$C36,1,0)) -> 0
B37: Matrona/ón | C37: =SUM(D37+E37) -> 2046 | D37: =SUM(H37+J37+L37+N37+P37+R37+T37+V37+X37+Z37+AB37+AD37+AF37+AH37+AJ37+AL37) -> 1513 | E37: =SUM(I37+K37+M37+O37+Q37+S37+U37+W37+Y37+AA37+AC37+AE37+AG37+AI37+AK37+AM37) -> 533 | F37: =SUM(ENERO:DICIEMBRE!F37) -> 0 | G37: =SUM(ENERO:DICIEMBRE!G37) -> 0 | H37: =SUM(ENERO:DICIEMBRE!H37) -> 0 | I37: =SUM(ENERO:DICIEMBRE!I37) -> 0 | J37: =SUM(ENERO:DICIEMBRE!J37) -> 0 | K37: =SUM(ENERO:DICIEMBRE!K37) -> 0 | L37: =SUM(ENERO:DICIEMBRE!L37) -> 5 | M37: =SUM(ENERO:DICIEMBRE!M37) -> 2 | ... AU37: =SUM(ENERO:DICIEMBRE!AU37) -> 0 | AV37: =$CA37&$CB37&CC37&CD37&CE37&CG37&CH37 | CA37: =IF(AND($C37<>0,AN37=""),"* No olvide ingresar la columna Espacios Amigables /adolescentes (Digite CERO si no tiene). ",IF(AN37>$C37,"* El Número de Espacios Amigables no puede superar el Total. ","")) | CB37: =IF(AND(E37>0,OR(AO37="")),"No olvide digitar los campos *TRANS Masculino (Digite CERO si no tiene).",IF(AO37>E37,"* El Número de TRANS Masculino no puede superar el Total Mujeres. ","")) | CC37: =IF(AND(D37>0,OR(AP37="")),"No olvide digitar los campos *TRANS Femenino (Digite CERO si no tiene).",IF(AP37>$D37,"* El Número de TRANS Femenino no puede superar el Total Hombres. ","")) | CD37: =IF(AND($C37<>0,AQ37=""),"* No olvide ingresar la columna Pueblos Originarios (Digite CERO si no tiene). ",IF(AQ37>$C37,"* El Número de Pueblos Originarios no puede superar el Total. ","")) | CE37: =IF(AND($C37<>0,AR37=""),"* No olvide ingresar la columna Migrantes (Digite CERO si no tiene). ",IF(AR37>$C37,"* El Número de Migrantes no puede superar el Total. ","")) | CG37: =IF(AND($C37<>0,AT37=""),"* No olvide ingresar la columna Niños, Niñas, Adolescentes y Jóvenes SENAME (Digite CERO si no tiene). ",IF(AT37>$C37,"* El Número de Niños, Niñas, Adolescentes y Jóvenes SENAME no puede superar el Total. ","")) | CH37: =IF(AND($C37<>0,AU37=""),"* No olvide ingresar la columna Niños, Niñas, Adolescentes y Jóvenes Mejor Niñez (Digite CERO si no tiene). ",IF(AU37>$C37,"* El Número de Niños, Niñas, Adolescentes y Jóvenes Mejor Niñez no puede superar el Total. ","")) | CJ37: =IF(AND($C37<>0,AN37=""),1,IF(AN37>$C37,1,0)) -> 0 | CK37: =IF(AND(E37>0,OR(AO37="")),1,IF(AO37>E37,1,0)) -> 0 | CL37: =IF(AND(D37>0,OR(AP37="")),1,IF(AP37>D37,1,0)) -> 0 | CM37: =IF(AND($C37<>0,AQ37=""),1,IF(AQ37>$C37,1,0)) -> 0 | CN37: =IF(AND($C37<>0,AR37=""),1,IF(AR37>$C37,1,0)) -> 0 | CP37: =IF(AND($C37<>0,AT37=""),1,IF(AT37>$C37,1,0)) -> 0 | CQ37: =IF(AND($C37<>0,AU37=""),1,IF(AU37>$C37,1,0)) -> 0
B38: Nutricionista | C38: =SUM(D38+E38) -> 0 | D38: =SUM(H38+J38+L38+N38+P38+R38+T38+V38+X38+Z38+AB38+AD38+AF38+AH38+AJ38+AL38) -> 0 | E38: =SUM(I38+K38+M38+O38+Q38+S38+U38+W38+Y38+AA38+AC38+AE38+AG38+AI38+AK38+AM38) -> 0 | F38: =SUM(ENERO:DICIEMBRE!F38) -> 0 | G38: =SUM(ENERO:DICIEMBRE!G38) -> 0 | H38: =SUM(ENERO:DICIEMBRE!H38) -> 0 | I38: =SUM(ENERO:DICIEMBRE!I38) -> 0 | J38: =SUM(ENERO:DICIEMBRE!J38) -> 0 | K38: =SUM(ENERO:DICIEMBRE!K38) -> 0 | L38: =SUM(ENERO:DICIEMBRE!L38) -> 0 | M38: =SUM(ENERO:DICIEMBRE!M38) -> 0 | ... AU38: =SUM(ENERO:DICIEMBRE!AU38) -> 0 | AV38: =$CA38&$CB38&CC38&CD38&CE38&CG38&CH38 | CA38: =IF(AND($C38<>0,AN38=""),"* No olvide ingresar la columna Espacios Amigables /adolescentes (Digite CERO si no tiene). ",IF(AN38>$C38,"* El Número de Espacios Amigables no puede superar el Total. ","")) | CB38: =IF(AND(E38>0,OR(AO38="")),"No olvide digitar los campos *TRANS Masculino (Digite CERO si no tiene).",IF(AO38>E38,"* El Número de TRANS Masculino no puede superar el Total Mujeres. ","")) | CC38: =IF(AND(D38>0,OR(AP38="")),"No olvide digitar los campos *TRANS Femenino (Digite CERO si no tiene).",IF(AP38>$D38,"* El Número de TRANS Femenino no puede superar el Total Hombres. ","")) | CD38: =IF(AND($C38<>0,AQ38=""),"* No olvide ingresar la columna Pueblos Originarios (Digite CERO si no tiene). ",IF(AQ38>$C38,"* El Número de Pueblos Originarios no puede superar el Total. ","")) | CE38: =IF(AND($C38<>0,AR38=""),"* No olvide ingresar la columna Migrantes (Digite CERO si no tiene). ",IF(AR38>$C38,"* El Número de Migrantes no puede superar el Total. ","")) | CG38: =IF(AND($C38<>0,AT38=""),"* No olvide ingresar la columna Niños, Niñas, Adolescentes y Jóvenes SENAME (Digite CERO si no tiene). ",IF(AT38>$C38,"* El Número de Niños, Niñas, Adolescentes y Jóvenes SENAME no puede superar el Total. ","")) | CH38: =IF(AND($C38<>0,AU38=""),"* No olvide ingresar la columna Niños, Niñas, Adolescentes y Jóvenes Mejor Niñez (Digite CERO si no tiene). ",IF(AU38>$C38,"* El Número de Niños, Niñas, Adolescentes y Jóvenes Mejor Niñez no puede superar el Total. ","")) | CJ38: =IF(AND($C38<>0,AN38=""),1,IF(AN38>$C38,1,0)) -> 0 | CK38: =IF(AND(E38>0,OR(AO38="")),1,IF(AO38>E38,1,0)) -> 0 | CL38: =IF(AND(D38>0,OR(AP38="")),1,IF(AP38>D38,1,0)) -> 0 | CM38: =IF(AND($C38<>0,AQ38=""),1,IF(AQ38>$C38,1,0)) -> 0 | CN38: =IF(AND($C38<>0,AR38=""),1,IF(AR38>$C38,1,0)) -> 0 | CP38: =IF(AND($C38<>0,AT38=""),1,IF(AT38>$C38,1,0)) -> 0 | CQ38: =IF(AND($C38<>0,AU38=""),1,IF(AU38>$C38,1,0)) -> 0
B39: Trabajador/a social | C39: =SUM(D39+E39) -> 0 | D39: =SUM(H39+J39+L39+N39+P39+R39+T39+V39+X39+Z39+AB39+AD39+AF39+AH39+AJ39+AL39) -> 0 | E39: =SUM(I39+K39+M39+O39+Q39+S39+U39+W39+Y39+AA39+AC39+AE39+AG39+AI39+AK39+AM39) -> 0 | F39: =SUM(ENERO:DICIEMBRE!F39) -> 0 | G39: =SUM(ENERO:DICIEMBRE!G39) -> 0 | H39: =SUM(ENERO:DICIEMBRE!H39) -> 0 | I39: =SUM(ENERO:DICIEMBRE!I39) -> 0 | J39: =SUM(ENERO:DICIEMBRE!J39) -> 0 | K39: =SUM(ENERO:DICIEMBRE!K39) -> 0 | L39: =SUM(ENERO:DICIEMBRE!L39) -> 0 | M39: =SUM(ENERO:DICIEMBRE!M39) -> 0 | ... AU39: =SUM(ENERO:DICIEMBRE!AU39) -> 0 | AV39: =$CA39&$CB39&CC39&CD39&CE39&CG39&CH39 | CA39: =IF(AND($C39<>0,AN39=""),"* No olvide ingresar la columna Espacios Amigables /adolescentes (Digite CERO si no tiene). ",IF(AN39>$C39,"* El Número de Espacios Amigables no puede superar el Total. ","")) | CB39: =IF(AND(E39>0,OR(AO39="")),"No olvide digitar los campos *TRANS Masculino (Digite CERO si no tiene).",IF(AO39>E39,"* El Número de TRANS Masculino no puede superar el Total Mujeres. ","")) | CC39: =IF(AND(D39>0,OR(AP39="")),"No olvide digitar los campos *TRANS Femenino (Digite CERO si no tiene).",IF(AP39>$D39,"* El Número de TRANS Femenino no puede superar el Total Hombres. ","")) | CD39: =IF(AND($C39<>0,AQ39=""),"* No olvide ingresar la columna Pueblos Originarios (Digite CERO si no tiene). ",IF(AQ39>$C39,"* El Número de Pueblos Originarios no puede superar el Total. ","")) | CE39: =IF(AND($C39<>0,AR39=""),"* No olvide ingresar la columna Migrantes (Digite CERO si no tiene). ",IF(AR39>$C39,"* El Número de Migrantes no puede superar el Total. ","")) | CG39: =IF(AND($C39<>0,AT39=""),"* No olvide ingresar la columna Niños, Niñas, Adolescentes y Jóvenes SENAME (Digite CERO si no tiene). ",IF(AT39>$C39,"* El Número de Niños, Niñas, Adolescentes y Jóvenes SENAME no puede superar el Total. ","")) | CH39: =IF(AND($C39<>0,AU39=""),"* No olvide ingresar la columna Niños, Niñas, Adolescentes y Jóvenes Mejor Niñez (Digite CERO si no tiene). ",IF(AU39>$C39,"* El Número de Niños, Niñas, Adolescentes y Jóvenes Mejor Niñez no puede superar el Total. ","")) | CJ39: =IF(AND($C39<>0,AN39=""),1,IF(AN39>$C39,1,0)) -> 0 | CK39: =IF(AND(E39>0,OR(AO39="")),1,IF(AO39>E39,1,0)) -> 0 | CL39: =IF(AND(D39>0,OR(AP39="")),1,IF(AP39>D39,1,0)) -> 0 | CM39: =IF(AND($C39<>0,AQ39=""),1,IF(AQ39>$C39,1,0)) -> 0 | CN39: =IF(AND($C39<>0,AR39=""),1,IF(AR39>$C39,1,0)) -> 0 | CP39: =IF(AND($C39<>0,AT39=""),1,IF(AT39>$C39,1,0)) -> 0 | CQ39: =IF(AND($C39<>0,AU39=""),1,IF(AU39>$C39,1,0)) -> 0
B40: Psicólogo /a | C40: =SUM(D40+E40) -> 0 | D40: =SUM(H40+J40+L40+N40+P40+R40+T40+V40+X40+Z40+AB40+AD40+AF40+AH40+AJ40+AL40) -> 0 | E40: =SUM(I40+K40+M40+O40+Q40+S40+U40+W40+Y40+AA40+AC40+AE40+AG40+AI40+AK40+AM40) -> 0 | F40: =SUM(ENERO:DICIEMBRE!F40) -> 0 | G40: =SUM(ENERO:DICIEMBRE!G40) -> 0 | H40: =SUM(ENERO:DICIEMBRE!H40) -> 0 | I40: =SUM(ENERO:DICIEMBRE!I40) -> 0 | J40: =SUM(ENERO:DICIEMBRE!J40) -> 0 | K40: =SUM(ENERO:DICIEMBRE!K40) -> 0 | L40: =SUM(ENERO:DICIEMBRE!L40) -> 0 | M40: =SUM(ENERO:DICIEMBRE!M40) -> 0 | ... AU40: =SUM(ENERO:DICIEMBRE!AU40) -> 0 | AV40: =$CA40&$CB40&CC40&CD40&CE40&CG40&CH40 | CA40: =IF(AND($C40<>0,AN40=""),"* No olvide ingresar la columna Espacios Amigables /adolescentes (Digite CERO si no tiene). ",IF(AN40>$C40,"* El Número de Espacios Amigables no puede superar el Total. ","")) | CB40: =IF(AND(E40>0,OR(AO40="")),"No olvide digitar los campos *TRANS Masculino (Digite CERO si no tiene).",IF(AO40>E40,"* El Número de TRANS Masculino no puede superar el Total Mujeres. ","")) | CC40: =IF(AND(D40>0,OR(AP40="")),"No olvide digitar los campos *TRANS Femenino (Digite CERO si no tiene).",IF(AP40>$D40,"* El Número de TRANS Femenino no puede superar el Total Hombres. ","")) | CD40: =IF(AND($C40<>0,AQ40=""),"* No olvide ingresar la columna Pueblos Originarios (Digite CERO si no tiene). ",IF(AQ40>$C40,"* El Número de Pueblos Originarios no puede superar el Total. ","")) | CE40: =IF(AND($C40<>0,AR40=""),"* No olvide ingresar la columna Migrantes (Digite CERO si no tiene). ",IF(AR40>$C40,"* El Número de Migrantes no puede superar el Total. ","")) | CG40: =IF(AND($C40<>0,AT40=""),"* No olvide ingresar la columna Niños, Niñas, Adolescentes y Jóvenes SENAME (Digite CERO si no tiene). ",IF(AT40>$C40,"* El Número de Niños, Niñas, Adolescentes y Jóvenes SENAME no puede superar el Total. ","")) | CH40: =IF(AND($C40<>0,AU40=""),"* No olvide ingresar la columna Niños, Niñas, Adolescentes y Jóvenes Mejor Niñez (Digite CERO si no tiene). ",IF(AU40>$C40,"* El Número de Niños, Niñas, Adolescentes y Jóvenes Mejor Niñez no puede superar el Total. ","")) | CJ40: =IF(AND($C40<>0,AN40=""),1,IF(AN40>$C40,1,0)) -> 0 | CK40: =IF(AND(E40>0,OR(AO40="")),1,IF(AO40>E40,1,0)) -> 0 | CL40: =IF(AND(D40>0,OR(AP40="")),1,IF(AP40>D40,1,0)) -> 0 | CM40: =IF(AND($C40<>0,AQ40=""),1,IF(AQ40>$C40,1,0)) -> 0 | CN40: =IF(AND($C40<>0,AR40=""),1,IF(AR40>$C40,1,0)) -> 0 | CP40: =IF(AND($C40<>0,AT40=""),1,IF(AT40>$C40,1,0)) -> 0 | CQ40: =IF(AND($C40<>0,AU40=""),1,IF(AU40>$C40,1,0)) -> 0
B41: Kinesiólogo/a | C41: =SUM(D41+E41) -> 0 | D41: =SUM(H41+J41+L41+N41+P41+R41+T41+V41+X41+Z41+AB41+AD41+AF41+AH41+AJ41+AL41) -> 0 | E41: =SUM(I41+K41+M41+O41+Q41+S41+U41+W41+Y41+AA41+AC41+AE41+AG41+AI41+AK41+AM41) -> 0 | F41: =SUM(ENERO:DICIEMBRE!F41) -> 0 | G41: =SUM(ENERO:DICIEMBRE!G41) -> 0 | H41: =SUM(ENERO:DICIEMBRE!H41) -> 0 | I41: =SUM(ENERO:DICIEMBRE!I41) -> 0 | J41: =SUM(ENERO:DICIEMBRE!J41) -> 0 | K41: =SUM(ENERO:DICIEMBRE!K41) -> 0 | L41: =SUM(ENERO:DICIEMBRE!L41) -> 0 | M41: =SUM(ENERO:DICIEMBRE!M41) -> 0 | ... AU41: =SUM(ENERO:DICIEMBRE!AU41) -> 0 | AV41: =$CA41&$CB41&CC41&CD41&CE41&CG41&CH41 | CA41: =IF(AND($C41<>0,AN41=""),"* No olvide ingresar la columna Espacios Amigables /adolescentes (Digite CERO si no tiene). ",IF(AN41>$C41,"* El Número de Espacios Amigables no puede superar el Total. ","")) | CB41: =IF(AND(E41>0,OR(AO41="")),"No olvide digitar los campos *TRANS Masculino (Digite CERO si no tiene).",IF(AO41>E41,"* El Número de TRANS Masculino no puede superar el Total Mujeres. ","")) | CC41: =IF(AND(D41>0,OR(AP41="")),"No olvide digitar los campos *TRANS Femenino (Digite CERO si no tiene).",IF(AP41>$D41,"* El Número de TRANS Femenino no puede superar el Total Hombres. ","")) | CD41: =IF(AND($C41<>0,AQ41=""),"* No olvide ingresar la columna Pueblos Originarios (Digite CERO si no tiene). ",IF(AQ41>$C41,"* El Número de Pueblos Originarios no puede superar el Total. ","")) | CE41: =IF(AND($C41<>0,AR41=""),"* No olvide ingresar la columna Migrantes (Digite CERO si no tiene). ",IF(AR41>$C41,"* El Número de Migrantes no puede superar el Total. ","")) | CG41: =IF(AND($C41<>0,AT41=""),"* No olvide ingresar la columna Niños, Niñas, Adolescentes y Jóvenes SENAME (Digite CERO si no tiene). ",IF(AT41>$C41,"* El Número de Niños, Niñas, Adolescentes y Jóvenes SENAME no puede superar el Total. ","")) | CH41: =IF(AND($C41<>0,AU41=""),"* No olvide ingresar la columna Niños, Niñas, Adolescentes y Jóvenes Mejor Niñez (Digite CERO si no tiene). ",IF(AU41>$C41,"* El Número de Niños, Niñas, Adolescentes y Jóvenes Mejor Niñez no puede superar el Total. ","")) | CJ41: =IF(AND($C41<>0,AN41=""),1,IF(AN41>$C41,1,0)) -> 0 | CK41: =IF(AND(E41>0,OR(AO41="")),1,IF(AO41>E41,1,0)) -> 0 | CL41: =IF(AND(D41>0,OR(AP41="")),1,IF(AP41>D41,1,0)) -> 0 | CM41: =IF(AND($C41<>0,AQ41=""),1,IF(AQ41>$C41,1,0)) -> 0 | CN41: =IF(AND($C41<>0,AR41=""),1,IF(AR41>$C41,1,0)) -> 0 | CP41: =IF(AND($C41<>0,AT41=""),1,IF(AT41>$C41,1,0)) -> 0 | CQ41: =IF(AND($C41<>0,AU41=""),1,IF(AU41>$C41,1,0)) -> 0
B42: Terapeuta ocupacional | C42: =SUM(D42+E42) -> 0 | D42: =SUM(H42+J42+L42+N42+P42+R42+T42+V42+X42+Z42+AB42+AD42+AF42+AH42+AJ42+AL42) -> 0 | E42: =SUM(I42+K42+M42+O42+Q42+S42+U42+W42+Y42+AA42+AC42+AE42+AG42+AI42+AK42+AM42) -> 0 | F42: =SUM(ENERO:DICIEMBRE!F42) -> 0 | G42: =SUM(ENERO:DICIEMBRE!G42) -> 0 | H42: =SUM(ENERO:DICIEMBRE!H42) -> 0 | I42: =SUM(ENERO:DICIEMBRE!I42) -> 0 | J42: =SUM(ENERO:DICIEMBRE!J42) -> 0 | K42: =SUM(ENERO:DICIEMBRE!K42) -> 0 | L42: =SUM(ENERO:DICIEMBRE!L42) -> 0 | M42: =SUM(ENERO:DICIEMBRE!M42) -> 0 | ... AU42: =SUM(ENERO:DICIEMBRE!AU42) -> 0 | AV42: =$CA42&$CB42&CC42&CD42&CE42&CG42&CH42 | CA42: =IF(AND($C42<>0,AN42=""),"* No olvide ingresar la columna Espacios Amigables /adolescentes (Digite CERO si no tiene). ",IF(AN42>$C42,"* El Número de Espacios Amigables no puede superar el Total. ","")) | CB42: =IF(AND(E42>0,OR(AO42="")),"No olvide digitar los campos *TRANS Masculino (Digite CERO si no tiene).",IF(AO42>E42,"* El Número de TRANS Masculino no puede superar el Total Mujeres. ","")) | CC42: =IF(AND(D42>0,OR(AP42="")),"No olvide digitar los campos *TRANS Femenino (Digite CERO si no tiene).",IF(AP42>$D42,"* El Número de TRANS Femenino no puede superar el Total Hombres. ","")) | CD42: =IF(AND($C42<>0,AQ42=""),"* No olvide ingresar la columna Pueblos Originarios (Digite CERO si no tiene). ",IF(AQ42>$C42,"* El Número de Pueblos Originarios no puede superar el Total. ","")) | CE42: =IF(AND($C42<>0,AR42=""),"* No olvide ingresar la columna Migrantes (Digite CERO si no tiene). ",IF(AR42>$C42,"* El Número de Migrantes no puede superar el Total. ","")) | CG42: =IF(AND($C42<>0,AT42=""),"* No olvide ingresar la columna Niños, Niñas, Adolescentes y Jóvenes SENAME (Digite CERO si no tiene). ",IF(AT42>$C42,"* El Número de Niños, Niñas, Adolescentes y Jóvenes SENAME no puede superar el Total. ","")) | CH42: =IF(AND($C42<>0,AU42=""),"* No olvide ingresar la columna Niños, Niñas, Adolescentes y Jóvenes Mejor Niñez (Digite CERO si no tiene). ",IF(AU42>$C42,"* El Número de Niños, Niñas, Adolescentes y Jóvenes Mejor Niñez no puede superar el Total. ","")) | CJ42: =IF(AND($C42<>0,AN42=""),1,IF(AN42>$C42,1,0)) -> 0 | CK42: =IF(AND(E42>0,OR(AO42="")),1,IF(AO42>E42,1,0)) -> 0 | CL42: =IF(AND(D42>0,OR(AP42="")),1,IF(AP42>D42,1,0)) -> 0 | CM42: =IF(AND($C42<>0,AQ42=""),1,IF(AQ42>$C42,1,0)) -> 0 | CN42: =IF(AND($C42<>0,AR42=""),1,IF(AR42>$C42,1,0)) -> 0 | CP42: =IF(AND($C42<>0,AT42=""),1,IF(AT42>$C42,1,0)) -> 0 | CQ42: =IF(AND($C42<>0,AU42=""),1,IF(AU42>$C42,1,0)) -> 0
B43: Otro profesional | C43: =SUM(D43+E43) -> 0 | D43: =SUM(H43+J43+L43+N43+P43+R43+T43+V43+X43+Z43+AB43+AD43+AF43+AH43+AJ43+AL43) -> 0 | E43: =SUM(I43+K43+M43+O43+Q43+S43+U43+W43+Y43+AA43+AC43+AE43+AG43+AI43+AK43+AM43) -> 0 | F43: =SUM(ENERO:DICIEMBRE!F43) -> 0 | G43: =SUM(ENERO:DICIEMBRE!G43) -> 0 | H43: =SUM(ENERO:DICIEMBRE!H43) -> 0 | I43: =SUM(ENERO:DICIEMBRE!I43) -> 0 | J43: =SUM(ENERO:DICIEMBRE!J43) -> 0 | K43: =SUM(ENERO:DICIEMBRE!K43) -> 0 | L43: =SUM(ENERO:DICIEMBRE!L43) -> 0 | M43: =SUM(ENERO:DICIEMBRE!M43) -> 0 | ... AU43: =SUM(ENERO:DICIEMBRE!AU43) -> 0 | AV43: =$CA43&$CB43&CC43&CD43&CE43&CG43&CH43 | CA43: =IF(AND($C43<>0,AN43=""),"* No olvide ingresar la columna Espacios Amigables /adolescentes (Digite CERO si no tiene). ",IF(AN43>$C43,"* El Número de Espacios Amigables no puede superar el Total. ","")) | CB43: =IF(AND(E43>0,OR(AO43="")),"No olvide digitar los campos *TRANS Masculino (Digite CERO si no tiene).",IF(AO43>E43,"* El Número de TRANS Masculino no puede superar el Total Mujeres. ","")) | CC43: =IF(AND(D43>0,OR(AP43="")),"No olvide digitar los campos *TRANS Femenino (Digite CERO si no tiene).",IF(AP43>$D43,"* El Número de TRANS Femenino no puede superar el Total Hombres. ","")) | CD43: =IF(AND($C43<>0,AQ43=""),"* No olvide ingresar la columna Pueblos Originarios (Digite CERO si no tiene). ",IF(AQ43>$C43,"* El Número de Pueblos Originarios no puede superar el Total. ","")) | CE43: =IF(AND($C43<>0,AR43=""),"* No olvide ingresar la columna Migrantes (Digite CERO si no tiene). ",IF(AR43>$C43,"* El Número de Migrantes no puede superar el Total. ","")) | CG43: =IF(AND($C43<>0,AT43=""),"* No olvide ingresar la columna Niños, Niñas, Adolescentes y Jóvenes SENAME (Digite CERO si no tiene). ",IF(AT43>$C43,"* El Número de Niños, Niñas, Adolescentes y Jóvenes SENAME no puede superar el Total. ","")) | CH43: =IF(AND($C43<>0,AU43=""),"* No olvide ingresar la columna Niños, Niñas, Adolescentes y Jóvenes Mejor Niñez (Digite CERO si no tiene). ",IF(AU43>$C43,"* El Número de Niños, Niñas, Adolescentes y Jóvenes Mejor Niñez no puede superar el Total. ","")) | CJ43: =IF(AND($C43<>0,AN43=""),1,IF(AN43>$C43,1,0)) -> 0 | CK43: =IF(AND(E43>0,OR(AO43="")),1,IF(AO43>E43,1,0)) -> 0 | CL43: =IF(AND(D43>0,OR(AP43="")),1,IF(AP43>D43,1,0)) -> 0 | CM43: =IF(AND($C43<>0,AQ43=""),1,IF(AQ43>$C43,1,0)) -> 0 | CN43: =IF(AND($C43<>0,AR43=""),1,IF(AR43>$C43,1,0)) -> 0 | CP43: =IF(AND($C43<>0,AT43=""),1,IF(AT43>$C43,1,0)) -> 0 | CQ43: =IF(AND($C43<>0,AU43=""),1,IF(AU43>$C43,1,0)) -> 0
B44: Facilitador/a intercultural | C44: =SUM(D44+E44) -> 0 | D44: =SUM(H44+J44+L44+N44+P44+R44+T44+V44+X44+Z44+AB44+AD44+AF44+AH44+AJ44+AL44) -> 0 | E44: =SUM(I44+K44+M44+O44+Q44+S44+U44+W44+Y44+AA44+AC44+AE44+AG44+AI44+AK44+AM44) -> 0 | F44: =SUM(ENERO:DICIEMBRE!F44) -> 0 | G44: =SUM(ENERO:DICIEMBRE!G44) -> 0 | H44: =SUM(ENERO:DICIEMBRE!H44) -> 0 | I44: =SUM(ENERO:DICIEMBRE!I44) -> 0 | J44: =SUM(ENERO:DICIEMBRE!J44) -> 0 | K44: =SUM(ENERO:DICIEMBRE!K44) -> 0 | L44: =SUM(ENERO:DICIEMBRE!L44) -> 0 | M44: =SUM(ENERO:DICIEMBRE!M44) -> 0 | ... AU44: =SUM(ENERO:DICIEMBRE!AU44) -> 0 | AV44: =$CA44&$CB44&CC44&CD44&CE44&CG44&CH44 | CA44: =IF(AND($C44<>0,AN44=""),"* No olvide ingresar la columna Espacios Amigables /adolescentes (Digite CERO si no tiene). ",IF(AN44>$C44,"* El Número de Espacios Amigables no puede superar el Total. ","")) | CB44: =IF(AND(E44>0,OR(AO44="")),"No olvide digitar los campos *TRANS Masculino (Digite CERO si no tiene).",IF(AO44>E44,"* El Número de TRANS Masculino no puede superar el Total Mujeres. ","")) | CC44: =IF(AND(D44>0,OR(AP44="")),"No olvide digitar los campos *TRANS Femenino (Digite CERO si no tiene).",IF(AP44>$D44,"* El Número de TRANS Femenino no puede superar el Total Hombres. ","")) | CD44: =IF(AND($C44<>0,AQ44=""),"* No olvide ingresar la columna Pueblos Originarios (Digite CERO si no tiene). ",IF(AQ44>$C44,"* El Número de Pueblos Originarios no puede superar el Total. ","")) | CE44: =IF(AND($C44<>0,AR44=""),"* No olvide ingresar la columna Migrantes (Digite CERO si no tiene). ",IF(AR44>$C44,"* El Número de Migrantes no puede superar el Total. ","")) | CG44: =IF(AND($C44<>0,AT44=""),"* No olvide ingresar la columna Niños, Niñas, Adolescentes y Jóvenes SENAME (Digite CERO si no tiene). ",IF(AT44>$C44,"* El Número de Niños, Niñas, Adolescentes y Jóvenes SENAME no puede superar el Total. ","")) | CH44: =IF(AND($C44<>0,AU44=""),"* No olvide ingresar la columna Niños, Niñas, Adolescentes y Jóvenes Mejor Niñez (Digite CERO si no tiene). ",IF(AU44>$C44,"* El Número de Niños, Niñas, Adolescentes y Jóvenes Mejor Niñez no puede superar el Total. ","")) | CJ44: =IF(AND($C44<>0,AN44=""),1,IF(AN44>$C44,1,0)) -> 0 | CK44: =IF(AND(E44>0,OR(AO44="")),1,IF(AO44>E44,1,0)) -> 0 | CL44: =IF(AND(D44>0,OR(AP44="")),1,IF(AP44>D44,1,0)) -> 0 | CM44: =IF(AND($C44<>0,AQ44=""),1,IF(AQ44>$C44,1,0)) -> 0 | CN44: =IF(AND($C44<>0,AR44=""),1,IF(AR44>$C44,1,0)) -> 0 | CP44: =IF(AND($C44<>0,AT44=""),1,IF(AT44>$C44,1,0)) -> 0 | CQ44: =IF(AND($C44<>0,AU44=""),1,IF(AU44>$C44,1,0)) -> 0
B45: Técnico en Enfermería | C45: =SUM(D45+E45) -> 0 | D45: =SUM(H45+J45+L45+N45+P45+R45+T45+V45+X45+Z45+AB45+AD45+AF45+AH45+AJ45+AL45) -> 0 | E45: =SUM(I45+K45+M45+O45+Q45+S45+U45+W45+Y45+AA45+AC45+AE45+AG45+AI45+AK45+AM45) -> 0 | F45: =SUM(ENERO:DICIEMBRE!F45) -> 0 | G45: =SUM(ENERO:DICIEMBRE!G45) -> 0 | H45: =SUM(ENERO:DICIEMBRE!H45) -> 0 | I45: =SUM(ENERO:DICIEMBRE!I45) -> 0 | J45: =SUM(ENERO:DICIEMBRE!J45) -> 0 | K45: =SUM(ENERO:DICIEMBRE!K45) -> 0 | L45: =SUM(ENERO:DICIEMBRE!L45) -> 0 | M45: =SUM(ENERO:DICIEMBRE!M45) -> 0 | ... AU45: =SUM(ENERO:DICIEMBRE!AU45) -> 0 | AV45: =$CA45&$CB45&CC45&CD45&CE45&CG45&CH45 | CA45: =IF(AND($C45<>0,AN45=""),"* No olvide ingresar la columna Espacios Amigables /adolescentes (Digite CERO si no tiene). ",IF(AN45>$C45,"* El Número de Espacios Amigables no puede superar el Total. ","")) | CB45: =IF(AND(E45>0,OR(AO45="")),"No olvide digitar los campos *TRANS Masculino (Digite CERO si no tiene).",IF(AO45>E45,"* El Número de TRANS Masculino no puede superar el Total Mujeres. ","")) | CC45: =IF(AND(D45>0,OR(AP45="")),"No olvide digitar los campos *TRANS Femenino (Digite CERO si no tiene).",IF(AP45>$D45,"* El Número de TRANS Femenino no puede superar el Total Hombres. ","")) | CD45: =IF(AND($C45<>0,AQ45=""),"* No olvide ingresar la columna Pueblos Originarios (Digite CERO si no tiene). ",IF(AQ45>$C45,"* El Número de Pueblos Originarios no puede superar el Total. ","")) | CE45: =IF(AND($C45<>0,AR45=""),"* No olvide ingresar la columna Migrantes (Digite CERO si no tiene). ",IF(AR45>$C45,"* El Número de Migrantes no puede superar el Total. ","")) | CG45: =IF(AND($C45<>0,AT45=""),"* No olvide ingresar la columna Niños, Niñas, Adolescentes y Jóvenes SENAME (Digite CERO si no tiene). ",IF(AT45>$C45,"* El Número de Niños, Niñas, Adolescentes y Jóvenes SENAME no puede superar el Total. ","")) | CH45: =IF(AND($C45<>0,AU45=""),"* No olvide ingresar la columna Niños, Niñas, Adolescentes y Jóvenes Mejor Niñez (Digite CERO si no tiene). ",IF(AU45>$C45,"* El Número de Niños, Niñas, Adolescentes y Jóvenes Mejor Niñez no puede superar el Total. ","")) | CJ45: =IF(AND($C45<>0,AN45=""),1,IF(AN45>$C45,1,0)) -> 0 | CK45: =IF(AND(E45>0,OR(AO45="")),1,IF(AO45>E45,1,0)) -> 0 | CL45: =IF(AND(D45>0,OR(AP45="")),1,IF(AP45>D45,1,0)) -> 0 | CM45: =IF(AND($C45<>0,AQ45=""),1,IF(AQ45>$C45,1,0)) -> 0 | CN45: =IF(AND($C45<>0,AR45=""),1,IF(AR45>$C45,1,0)) -> 0 | CP45: =IF(AND($C45<>0,AT45=""),1,IF(AT45>$C45,1,0)) -> 0 | CQ45: =IF(AND($C45<>0,AU45=""),1,IF(AU45>$C45,1,0)) -> 0
A46: Consumo de drogas | B46: Médico/a | C46: =SUM(D46+E46) -> 755 | D46: =SUM(H46+J46+L46+N46+P46+R46+T46+V46+X46+Z46+AB46+AD46+AF46+AH46+AJ46+AL46) -> 553 | E46: =SUM(I46+K46+M46+O46+Q46+S46+U46+W46+Y46+AA46+AC46+AE46+AG46+AI46+AK46+AM46) -> 202 | F46: =SUM(ENERO:DICIEMBRE!F46) -> 0 | G46: =SUM(ENERO:DICIEMBRE!G46) -> 0 | H46: =SUM(ENERO:DICIEMBRE!H46) -> 0 | I46: =SUM(ENERO:DICIEMBRE!I46) -> 0 | J46: =SUM(ENERO:DICIEMBRE!J46) -> 0 | K46: =SUM(ENERO:DICIEMBRE!K46) -> 0 | L46: =SUM(ENERO:DICIEMBRE!L46) -> 3 | M46: =SUM(ENERO:DICIEMBRE!M46) -> 0 | ... AU46: =SUM(ENERO:DICIEMBRE!AU46) -> 0 | AV46: =$CA46&$CB46&CC46&CD46&CE46&CG46&CH46 | CA46: =IF(AND($C46<>0,AN46=""),"* No olvide ingresar la columna Espacios Amigables /adolescentes (Digite CERO si no tiene). ",IF(AN46>$C46,"* El Número de Espacios Amigables no puede superar el Total. ","")) | CB46: =IF(AND(E46>0,OR(AO46="")),"No olvide digitar los campos *TRANS Masculino (Digite CERO si no tiene).",IF(AO46>E46,"* El Número de TRANS Masculino no puede superar el Total Mujeres. ","")) | CC46: =IF(AND(D46>0,OR(AP46="")),"No olvide digitar los campos *TRANS Femenino (Digite CERO si no tiene).",IF(AP46>$D46,"* El Número de TRANS Femenino no puede superar el Total Hombres. ","")) | CD46: =IF(AND($C46<>0,AQ46=""),"* No olvide ingresar la columna Pueblos Originarios (Digite CERO si no tiene). ",IF(AQ46>$C46,"* El Número de Pueblos Originarios no puede superar el Total. ","")) | CE46: =IF(AND($C46<>0,AR46=""),"* No olvide ingresar la columna Migrantes (Digite CERO si no tiene). ",IF(AR46>$C46,"* El Número de Migrantes no puede superar el Total. ","")) | CG46: =IF(AND($C46<>0,AT46=""),"* No olvide ingresar la columna Niños, Niñas, Adolescentes y Jóvenes SENAME (Digite CERO si no tiene). ",IF(AT46>$C46,"* El Número de Niños, Niñas, Adolescentes y Jóvenes SENAME no puede superar el Total. ","")) | CH46: =IF(AND($C46<>0,AU46=""),"* No olvide ingresar la columna Niños, Niñas, Adolescentes y Jóvenes Mejor Niñez (Digite CERO si no tiene). ",IF(AU46>$C46,"* El Número de Niños, Niñas, Adolescentes y Jóvenes Mejor Niñez no puede superar el Total. ","")) | CJ46: =IF(AND($C46<>0,AN46=""),1,IF(AN46>$C46,1,0)) -> 0 | CK46: =IF(AND(E46>0,OR(AO46="")),1,IF(AO46>E46,1,0)) -> 0 | CL46: =IF(AND(D46>0,OR(AP46="")),1,IF(AP46>D46,1,0)) -> 0 | CM46: =IF(AND($C46<>0,AQ46=""),1,IF(AQ46>$C46,1,0)) -> 0 | CN46: =IF(AND($C46<>0,AR46=""),1,IF(AR46>$C46,1,0)) -> 0 | CP46: =IF(AND($C46<>0,AT46=""),1,IF(AT46>$C46,1,0)) -> 0 | CQ46: =IF(AND($C46<>0,AU46=""),1,IF(AU46>$C46,1,0)) -> 0
B47: Enfermera/o | C47: =SUM(D47+E47) -> 0 | D47: =SUM(H47+J47+L47+N47+P47+R47+T47+V47+X47+Z47+AB47+AD47+AF47+AH47+AJ47+AL47) -> 0 | E47: =SUM(I47+K47+M47+O47+Q47+S47+U47+W47+Y47+AA47+AC47+AE47+AG47+AI47+AK47+AM47) -> 0 | F47: =SUM(ENERO:DICIEMBRE!F47) -> 0 | G47: =SUM(ENERO:DICIEMBRE!G47) -> 0 | H47: =SUM(ENERO:DICIEMBRE!H47) -> 0 | I47: =SUM(ENERO:DICIEMBRE!I47) -> 0 | J47: =SUM(ENERO:DICIEMBRE!J47) -> 0 | K47: =SUM(ENERO:DICIEMBRE!K47) -> 0 | L47: =SUM(ENERO:DICIEMBRE!L47) -> 0 | M47: =SUM(ENERO:DICIEMBRE!M47) -> 0 | ... AU47: =SUM(ENERO:DICIEMBRE!AU47) -> 0 | AV47: =$CA47&$CB47&CC47&CD47&CE47&CG47&CH47 | CA47: =IF(AND($C47<>0,AN47=""),"* No olvide ingresar la columna Espacios Amigables /adolescentes (Digite CERO si no tiene). ",IF(AN47>$C47,"* El Número de Espacios Amigables no puede superar el Total. ","")) | CB47: =IF(AND(E47>0,OR(AO47="")),"No olvide digitar los campos *TRANS Masculino (Digite CERO si no tiene).",IF(AO47>E47,"* El Número de TRANS Masculino no puede superar el Total Mujeres. ","")) | CC47: =IF(AND(D47>0,OR(AP47="")),"No olvide digitar los campos *TRANS Femenino (Digite CERO si no tiene).",IF(AP47>$D47,"* El Número de TRANS Femenino no puede superar el Total Hombres. ","")) | CD47: =IF(AND($C47<>0,AQ47=""),"* No olvide ingresar la columna Pueblos Originarios (Digite CERO si no tiene). ",IF(AQ47>$C47,"* El Número de Pueblos Originarios no puede superar el Total. ","")) | CE47: =IF(AND($C47<>0,AR47=""),"* No olvide ingresar la columna Migrantes (Digite CERO si no tiene). ",IF(AR47>$C47,"* El Número de Migrantes no puede superar el Total. ","")) | CG47: =IF(AND($C47<>0,AT47=""),"* No olvide ingresar la columna Niños, Niñas, Adolescentes y Jóvenes SENAME (Digite CERO si no tiene). ",IF(AT47>$C47,"* El Número de Niños, Niñas, Adolescentes y Jóvenes SENAME no puede superar el Total. ","")) | CH47: =IF(AND($C47<>0,AU47=""),"* No olvide ingresar la columna Niños, Niñas, Adolescentes y Jóvenes Mejor Niñez (Digite CERO si no tiene). ",IF(AU47>$C47,"* El Número de Niños, Niñas, Adolescentes y Jóvenes Mejor Niñez no puede superar el Total. ","")) | CJ47: =IF(AND($C47<>0,AN47=""),1,IF(AN47>$C47,1,0)) -> 0 | CK47: =IF(AND(E47>0,OR(AO47="")),1,IF(AO47>E47,1,0)) -> 0 | CL47: =IF(AND(D47>0,OR(AP47="")),1,IF(AP47>D47,1,0)) -> 0 | CM47: =IF(AND($C47<>0,AQ47=""),1,IF(AQ47>$C47,1,0)) -> 0 | CN47: =IF(AND($C47<>0,AR47=""),1,IF(AR47>$C47,1,0)) -> 0 | CP47: =IF(AND($C47<>0,AT47=""),1,IF(AT47>$C47,1,0)) -> 0 | CQ47: =IF(AND($C47<>0,AU47=""),1,IF(AU47>$C47,1,0)) -> 0
B48: Matrona/ón | C48: =SUM(D48+E48) -> 2046 | D48: =SUM(H48+J48+L48+N48+P48+R48+T48+V48+X48+Z48+AB48+AD48+AF48+AH48+AJ48+AL48) -> 1513 | E48: =SUM(I48+K48+M48+O48+Q48+S48+U48+W48+Y48+AA48+AC48+AE48+AG48+AI48+AK48+AM48) -> 533 | F48: =SUM(ENERO:DICIEMBRE!F48) -> 0 | G48: =SUM(ENERO:DICIEMBRE!G48) -> 0 | H48: =SUM(ENERO:DICIEMBRE!H48) -> 0 | I48: =SUM(ENERO:DICIEMBRE!I48) -> 0 | J48: =SUM(ENERO:DICIEMBRE!J48) -> 0 | K48: =SUM(ENERO:DICIEMBRE!K48) -> 0 | L48: =SUM(ENERO:DICIEMBRE!L48) -> 5 | M48: =SUM(ENERO:DICIEMBRE!M48) -> 2 | ... AU48: =SUM(ENERO:DICIEMBRE!AU48) -> 0 | AV48: =$CA48&$CB48&CC48&CD48&CE48&CG48&CH48 | CA48: =IF(AND($C48<>0,AN48=""),"* No olvide ingresar la columna Espacios Amigables /adolescentes (Digite CERO si no tiene). ",IF(AN48>$C48,"* El Número de Espacios Amigables no puede superar el Total. ","")) | CB48: =IF(AND(E48>0,OR(AO48="")),"No olvide digitar los campos *TRANS Masculino (Digite CERO si no tiene).",IF(AO48>E48,"* El Número de TRANS Masculino no puede superar el Total Mujeres. ","")) | CC48: =IF(AND(D48>0,OR(AP48="")),"No olvide digitar los campos *TRANS Femenino (Digite CERO si no tiene).",IF(AP48>$D48,"* El Número de TRANS Femenino no puede superar el Total Hombres. ","")) | CD48: =IF(AND($C48<>0,AQ48=""),"* No olvide ingresar la columna Pueblos Originarios (Digite CERO si no tiene). ",IF(AQ48>$C48,"* El Número de Pueblos Originarios no puede superar el Total. ","")) | CE48: =IF(AND($C48<>0,AR48=""),"* No olvide ingresar la columna Migrantes (Digite CERO si no tiene). ",IF(AR48>$C48,"* El Número de Migrantes no puede superar el Total. ","")) | CG48: =IF(AND($C48<>0,AT48=""),"* No olvide ingresar la columna Niños, Niñas, Adolescentes y Jóvenes SENAME (Digite CERO si no tiene). ",IF(AT48>$C48,"* El Número de Niños, Niñas, Adolescentes y Jóvenes SENAME no puede superar el Total. ","")) | CH48: =IF(AND($C48<>0,AU48=""),"* No olvide ingresar la columna Niños, Niñas, Adolescentes y Jóvenes Mejor Niñez (Digite CERO si no tiene). ",IF(AU48>$C48,"* El Número de Niños, Niñas, Adolescentes y Jóvenes Mejor Niñez no puede superar el Total. ","")) | CJ48: =IF(AND($C48<>0,AN48=""),1,IF(AN48>$C48,1,0)) -> 0 | CK48: =IF(AND(E48>0,OR(AO48="")),1,IF(AO48>E48,1,0)) -> 0 | CL48: =IF(AND(D48>0,OR(AP48="")),1,IF(AP48>D48,1,0)) -> 0 | CM48: =IF(AND($C48<>0,AQ48=""),1,IF(AQ48>$C48,1,0)) -> 0 | CN48: =IF(AND($C48<>0,AR48=""),1,IF(AR48>$C48,1,0)) -> 0 | CP48: =IF(AND($C48<>0,AT48=""),1,IF(AT48>$C48,1,0)) -> 0 | CQ48: =IF(AND($C48<>0,AU48=""),1,IF(AU48>$C48,1,0)) -> 0
B49: Nutricionista | C49: =SUM(D49+E49) -> 0 | D49: =SUM(H49+J49+L49+N49+P49+R49+T49+V49+X49+Z49+AB49+AD49+AF49+AH49+AJ49+AL49) -> 0 | E49: =SUM(I49+K49+M49+O49+Q49+S49+U49+W49+Y49+AA49+AC49+AE49+AG49+AI49+AK49+AM49) -> 0 | F49: =SUM(ENERO:DICIEMBRE!F49) -> 0 | G49: =SUM(ENERO:DICIEMBRE!G49) -> 0 | H49: =SUM(ENERO:DICIEMBRE!H49) -> 0 | I49: =SUM(ENERO:DICIEMBRE!I49) -> 0 | J49: =SUM(ENERO:DICIEMBRE!J49) -> 0 | K49: =SUM(ENERO:DICIEMBRE!K49) -> 0 | L49: =SUM(ENERO:DICIEMBRE!L49) -> 0 | M49: =SUM(ENERO:DICIEMBRE!M49) -> 0 | ... AU49: =SUM(ENERO:DICIEMBRE!AU49) -> 0 | AV49: =$CA49&$CB49&CC49&CD49&CE49&CG49&CH49 | CA49: =IF(AND($C49<>0,AN49=""),"* No olvide ingresar la columna Espacios Amigables /adolescentes (Digite CERO si no tiene). ",IF(AN49>$C49,"* El Número de Espacios Amigables no puede superar el Total. ","")) | CB49: =IF(AND(E49>0,OR(AO49="")),"No olvide digitar los campos *TRANS Masculino (Digite CERO si no tiene).",IF(AO49>E49,"* El Número de TRANS Masculino no puede superar el Total Mujeres. ","")) | CC49: =IF(AND(D49>0,OR(AP49="")),"No olvide digitar los campos *TRANS Femenino (Digite CERO si no tiene).",IF(AP49>$D49,"* El Número de TRANS Femenino no puede superar el Total Hombres. ","")) | CD49: =IF(AND($C49<>0,AQ49=""),"* No olvide ingresar la columna Pueblos Originarios (Digite CERO si no tiene). ",IF(AQ49>$C49,"* El Número de Pueblos Originarios no puede superar el Total. ","")) | CE49: =IF(AND($C49<>0,AR49=""),"* No olvide ingresar la columna Migrantes (Digite CERO si no tiene). ",IF(AR49>$C49,"* El Número de Migrantes no puede superar el Total. ","")) | CG49: =IF(AND($C49<>0,AT49=""),"* No olvide ingresar la columna Niños, Niñas, Adolescentes y Jóvenes SENAME (Digite CERO si no tiene). ",IF(AT49>$C49,"* El Número de Niños, Niñas, Adolescentes y Jóvenes SENAME no puede superar el Total. ","")) | CH49: =IF(AND($C49<>0,AU49=""),"* No olvide ingresar la columna Niños, Niñas, Adolescentes y Jóvenes Mejor Niñez (Digite CERO si no tiene). ",IF(AU49>$C49,"* El Número de Niños, Niñas, Adolescentes y Jóvenes Mejor Niñez no puede superar el Total. ","")) | CJ49: =IF(AND($C49<>0,AN49=""),1,IF(AN49>$C49,1,0)) -> 0 | CK49: =IF(AND(E49>0,OR(AO49="")),1,IF(AO49>E49,1,0)) -> 0 | CL49: =IF(AND(D49>0,OR(AP49="")),1,IF(AP49>D49,1,0)) -> 0 | CM49: =IF(AND($C49<>0,AQ49=""),1,IF(AQ49>$C49,1,0)) -> 0 | CN49: =IF(AND($C49<>0,AR49=""),1,IF(AR49>$C49,1,0)) -> 0 | CP49: =IF(AND($C49<>0,AT49=""),1,IF(AT49>$C49,1,0)) -> 0 | CQ49: =IF(AND($C49<>0,AU49=""),1,IF(AU49>$C49,1,0)) -> 0
B50: Trabajador/a social | C50: =SUM(D50+E50) -> 0 | D50: =SUM(H50+J50+L50+N50+P50+R50+T50+V50+X50+Z50+AB50+AD50+AF50+AH50+AJ50+AL50) -> 0 | E50: =SUM(I50+K50+M50+O50+Q50+S50+U50+W50+Y50+AA50+AC50+AE50+AG50+AI50+AK50+AM50) -> 0 | F50: =SUM(ENERO:DICIEMBRE!F50) -> 0 | G50: =SUM(ENERO:DICIEMBRE!G50) -> 0 | H50: =SUM(ENERO:DICIEMBRE!H50) -> 0 | I50: =SUM(ENERO:DICIEMBRE!I50) -> 0 | J50: =SUM(ENERO:DICIEMBRE!J50) -> 0 | K50: =SUM(ENERO:DICIEMBRE!K50) -> 0 | L50: =SUM(ENERO:DICIEMBRE!L50) -> 0 | M50: =SUM(ENERO:DICIEMBRE!M50) -> 0 | ... AU50: =SUM(ENERO:DICIEMBRE!AU50) -> 0 | AV50: =$CA50&$CB50&CC50&CD50&CE50&CG50&CH50 | CA50: =IF(AND($C50<>0,AN50=""),"* No olvide ingresar la columna Espacios Amigables /adolescentes (Digite CERO si no tiene). ",IF(AN50>$C50,"* El Número de Espacios Amigables no puede superar el Total. ","")) | CB50: =IF(AND(E50>0,OR(AO50="")),"No olvide digitar los campos *TRANS Masculino (Digite CERO si no tiene).",IF(AO50>E50,"* El Número de TRANS Masculino no puede superar el Total Mujeres. ","")) | CC50: =IF(AND(D50>0,OR(AP50="")),"No olvide digitar los campos *TRANS Femenino (Digite CERO si no tiene).",IF(AP50>$D50,"* El Número de TRANS Femenino no puede superar el Total Hombres. ","")) | CD50: =IF(AND($C50<>0,AQ50=""),"* No olvide ingresar la columna Pueblos Originarios (Digite CERO si no tiene). ",IF(AQ50>$C50,"* El Número de Pueblos Originarios no puede superar el Total. ","")) | CE50: =IF(AND($C50<>0,AR50=""),"* No olvide ingresar la columna Migrantes (Digite CERO si no tiene). ",IF(AR50>$C50,"* El Número de Migrantes no puede superar el Total. ","")) | CG50: =IF(AND($C50<>0,AT50=""),"* No olvide ingresar la columna Niños, Niñas, Adolescentes y Jóvenes SENAME (Digite CERO si no tiene). ",IF(AT50>$C50,"* El Número de Niños, Niñas, Adolescentes y Jóvenes SENAME no puede superar el Total. ","")) | CH50: =IF(AND($C50<>0,AU50=""),"* No olvide ingresar la columna Niños, Niñas, Adolescentes y Jóvenes Mejor Niñez (Digite CERO si no tiene). ",IF(AU50>$C50,"* El Número de Niños, Niñas, Adolescentes y Jóvenes Mejor Niñez no puede superar el Total. ","")) | CJ50: =IF(AND($C50<>0,AN50=""),1,IF(AN50>$C50,1,0)) -> 0 | CK50: =IF(AND(E50>0,OR(AO50="")),1,IF(AO50>E50,1,0)) -> 0 | CL50: =IF(AND(D50>0,OR(AP50="")),1,IF(AP50>D50,1,0)) -> 0 | CM50: =IF(AND($C50<>0,AQ50=""),1,IF(AQ50>$C50,1,0)) -> 0 | CN50: =IF(AND($C50<>0,AR50=""),1,IF(AR50>$C50,1,0)) -> 0 | CP50: =IF(AND($C50<>0,AT50=""),1,IF(AT50>$C50,1,0)) -> 0 | CQ50: =IF(AND($C50<>0,AU50=""),1,IF(AU50>$C50,1,0)) -> 0
B51: Psicólogo/a | C51: =SUM(D51+E51) -> 0 | D51: =SUM(H51+J51+L51+N51+P51+R51+T51+V51+X51+Z51+AB51+AD51+AF51+AH51+AJ51+AL51) -> 0 | E51: =SUM(I51+K51+M51+O51+Q51+S51+U51+W51+Y51+AA51+AC51+AE51+AG51+AI51+AK51+AM51) -> 0 | F51: =SUM(ENERO:DICIEMBRE!F51) -> 0 | G51: =SUM(ENERO:DICIEMBRE!G51) -> 0 | H51: =SUM(ENERO:DICIEMBRE!H51) -> 0 | I51: =SUM(ENERO:DICIEMBRE!I51) -> 0 | J51: =SUM(ENERO:DICIEMBRE!J51) -> 0 | K51: =SUM(ENERO:DICIEMBRE!K51) -> 0 | L51: =SUM(ENERO:DICIEMBRE!L51) -> 0 | M51: =SUM(ENERO:DICIEMBRE!M51) -> 0 | ... AU51: =SUM(ENERO:DICIEMBRE!AU51) -> 0 | AV51: =$CA51&$CB51&CC51&CD51&CE51&CG51&CH51 | CA51: =IF(AND($C51<>0,AN51=""),"* No olvide ingresar la columna Espacios Amigables /adolescentes (Digite CERO si no tiene). ",IF(AN51>$C51,"* El Número de Espacios Amigables no puede superar el Total. ","")) | CB51: =IF(AND(E51>0,OR(AO51="")),"No olvide digitar los campos *TRANS Masculino (Digite CERO si no tiene).",IF(AO51>E51,"* El Número de TRANS Masculino no puede superar el Total Mujeres. ","")) | CC51: =IF(AND(D51>0,OR(AP51="")),"No olvide digitar los campos *TRANS Femenino (Digite CERO si no tiene).",IF(AP51>$D51,"* El Número de TRANS Femenino no puede superar el Total Hombres. ","")) | CD51: =IF(AND($C51<>0,AQ51=""),"* No olvide ingresar la columna Pueblos Originarios (Digite CERO si no tiene). ",IF(AQ51>$C51,"* El Número de Pueblos Originarios no puede superar el Total. ","")) | CE51: =IF(AND($C51<>0,AR51=""),"* No olvide ingresar la columna Migrantes (Digite CERO si no tiene). ",IF(AR51>$C51,"* El Número de Migrantes no puede superar el Total. ","")) | CG51: =IF(AND($C51<>0,AT51=""),"* No olvide ingresar la columna Niños, Niñas, Adolescentes y Jóvenes SENAME (Digite CERO si no tiene). ",IF(AT51>$C51,"* El Número de Niños, Niñas, Adolescentes y Jóvenes SENAME no puede superar el Total. ","")) | CH51: =IF(AND($C51<>0,AU51=""),"* No olvide ingresar la columna Niños, Niñas, Adolescentes y Jóvenes Mejor Niñez (Digite CERO si no tiene). ",IF(AU51>$C51,"* El Número de Niños, Niñas, Adolescentes y Jóvenes Mejor Niñez no puede superar el Total. ","")) | CJ51: =IF(AND($C51<>0,AN51=""),1,IF(AN51>$C51,1,0)) -> 0 | CK51: =IF(AND(E51>0,OR(AO51="")),1,IF(AO51>E51,1,0)) -> 0 | CL51: =IF(AND(D51>0,OR(AP51="")),1,IF(AP51>D51,1,0)) -> 0 | CM51: =IF(AND($C51<>0,AQ51=""),1,IF(AQ51>$C51,1,0)) -> 0 | CN51: =IF(AND($C51<>0,AR51=""),1,IF(AR51>$C51,1,0)) -> 0 | CP51: =IF(AND($C51<>0,AT51=""),1,IF(AT51>$C51,1,0)) -> 0 | CQ51: =IF(AND($C51<>0,AU51=""),1,IF(AU51>$C51,1,0)) -> 0
B52: Kinesiólogo/a | C52: =SUM(D52+E52) -> 0 | D52: =SUM(H52+J52+L52+N52+P52+R52+T52+V52+X52+Z52+AB52+AD52+AF52+AH52+AJ52+AL52) -> 0 | E52: =SUM(I52+K52+M52+O52+Q52+S52+U52+W52+Y52+AA52+AC52+AE52+AG52+AI52+AK52+AM52) -> 0 | F52: =SUM(ENERO:DICIEMBRE!F52) -> 0 | G52: =SUM(ENERO:DICIEMBRE!G52) -> 0 | H52: =SUM(ENERO:DICIEMBRE!H52) -> 0 | I52: =SUM(ENERO:DICIEMBRE!I52) -> 0 | J52: =SUM(ENERO:DICIEMBRE!J52) -> 0 | K52: =SUM(ENERO:DICIEMBRE!K52) -> 0 | L52: =SUM(ENERO:DICIEMBRE!L52) -> 0 | M52: =SUM(ENERO:DICIEMBRE!M52) -> 0 | ... AU52: =SUM(ENERO:DICIEMBRE!AU52) -> 0 | AV52: =$CA52&$CB52&CC52&CD52&CE52&CG52&CH52 | CA52: =IF(AND($C52<>0,AN52=""),"* No olvide ingresar la columna Espacios Amigables /adolescentes (Digite CERO si no tiene). ",IF(AN52>$C52,"* El Número de Espacios Amigables no puede superar el Total. ","")) | CB52: =IF(AND(E52>0,OR(AO52="")),"No olvide digitar los campos *TRANS Masculino (Digite CERO si no tiene).",IF(AO52>E52,"* El Número de TRANS Masculino no puede superar el Total Mujeres. ","")) | CC52: =IF(AND(D52>0,OR(AP52="")),"No olvide digitar los campos *TRANS Femenino (Digite CERO si no tiene).",IF(AP52>$D52,"* El Número de TRANS Femenino no puede superar el Total Hombres. ","")) | CD52: =IF(AND($C52<>0,AQ52=""),"* No olvide ingresar la columna Pueblos Originarios (Digite CERO si no tiene). ",IF(AQ52>$C52,"* El Número de Pueblos Originarios no puede superar el Total. ","")) | CE52: =IF(AND($C52<>0,AR52=""),"* No olvide ingresar la columna Migrantes (Digite CERO si no tiene). ",IF(AR52>$C52,"* El Número de Migrantes no puede superar el Total. ","")) | CG52: =IF(AND($C52<>0,AT52=""),"* No olvide ingresar la columna Niños, Niñas, Adolescentes y Jóvenes SENAME (Digite CERO si no tiene). ",IF(AT52>$C52,"* El Número de Niños, Niñas, Adolescentes y Jóvenes SENAME no puede superar el Total. ","")) | CH52: =IF(AND($C52<>0,AU52=""),"* No olvide ingresar la columna Niños, Niñas, Adolescentes y Jóvenes Mejor Niñez (Digite CERO si no tiene). ",IF(AU52>$C52,"* El Número de Niños, Niñas, Adolescentes y Jóvenes Mejor Niñez no puede superar el Total. ","")) | CJ52: =IF(AND($C52<>0,AN52=""),1,IF(AN52>$C52,1,0)) -> 0 | CK52: =IF(AND(E52>0,OR(AO52="")),1,IF(AO52>E52,1,0)) -> 0 | CL52: =IF(AND(D52>0,OR(AP52="")),1,IF(AP52>D52,1,0)) -> 0 | CM52: =IF(AND($C52<>0,AQ52=""),1,IF(AQ52>$C52,1,0)) -> 0 | CN52: =IF(AND($C52<>0,AR52=""),1,IF(AR52>$C52,1,0)) -> 0 | CP52: =IF(AND($C52<>0,AT52=""),1,IF(AT52>$C52,1,0)) -> 0 | CQ52: =IF(AND($C52<>0,AU52=""),1,IF(AU52>$C52,1,0)) -> 0
B53: Terapeuta ocupacional | C53: =SUM(D53+E53) -> 0 | D53: =SUM(H53+J53+L53+N53+P53+R53+T53+V53+X53+Z53+AB53+AD53+AF53+AH53+AJ53+AL53) -> 0 | E53: =SUM(I53+K53+M53+O53+Q53+S53+U53+W53+Y53+AA53+AC53+AE53+AG53+AI53+AK53+AM53) -> 0 | F53: =SUM(ENERO:DICIEMBRE!F53) -> 0 | G53: =SUM(ENERO:DICIEMBRE!G53) -> 0 | H53: =SUM(ENERO:DICIEMBRE!H53) -> 0 | I53: =SUM(ENERO:DICIEMBRE!I53) -> 0 | J53: =SUM(ENERO:DICIEMBRE!J53) -> 0 | K53: =SUM(ENERO:DICIEMBRE!K53) -> 0 | L53: =SUM(ENERO:DICIEMBRE!L53) -> 0 | M53: =SUM(ENERO:DICIEMBRE!M53) -> 0 | ... AU53: =SUM(ENERO:DICIEMBRE!AU53) -> 0 | AV53: =$CA53&$CB53&CC53&CD53&CE53&CG53&CH53 | CA53: =IF(AND($C53<>0,AN53=""),"* No olvide ingresar la columna Espacios Amigables /adolescentes (Digite CERO si no tiene). ",IF(AN53>$C53,"* El Número de Espacios Amigables no puede superar el Total. ","")) | CB53: =IF(AND(E53>0,OR(AO53="")),"No olvide digitar los campos *TRANS Masculino (Digite CERO si no tiene).",IF(AO53>E53,"* El Número de TRANS Masculino no puede superar el Total Mujeres. ","")) | CC53: =IF(AND(D53>0,OR(AP53="")),"No olvide digitar los campos *TRANS Femenino (Digite CERO si no tiene).",IF(AP53>$D53,"* El Número de TRANS Femenino no puede superar el Total Hombres. ","")) | CD53: =IF(AND($C53<>0,AQ53=""),"* No olvide ingresar la columna Pueblos Originarios (Digite CERO si no tiene). ",IF(AQ53>$C53,"* El Número de Pueblos Originarios no puede superar el Total. ","")) | CE53: =IF(AND($C53<>0,AR53=""),"* No olvide ingresar la columna Migrantes (Digite CERO si no tiene). ",IF(AR53>$C53,"* El Número de Migrantes no puede superar el Total. ","")) | CG53: =IF(AND($C53<>0,AT53=""),"* No olvide ingresar la columna Niños, Niñas, Adolescentes y Jóvenes SENAME (Digite CERO si no tiene). ",IF(AT53>$C53,"* El Número de Niños, Niñas, Adolescentes y Jóvenes SENAME no puede superar el Total. ","")) | CH53: =IF(AND($C53<>0,AU53=""),"* No olvide ingresar la columna Niños, Niñas, Adolescentes y Jóvenes Mejor Niñez (Digite CERO si no tiene). ",IF(AU53>$C53,"* El Número de Niños, Niñas, Adolescentes y Jóvenes Mejor Niñez no puede superar el Total. ","")) | CJ53: =IF(AND($C53<>0,AN53=""),1,IF(AN53>$C53,1,0)) -> 0 | CK53: =IF(AND(E53>0,OR(AO53="")),1,IF(AO53>E53,1,0)) -> 0 | CL53: =IF(AND(D53>0,OR(AP53="")),1,IF(AP53>D53,1,0)) -> 0 | CM53: =IF(AND($C53<>0,AQ53=""),1,IF(AQ53>$C53,1,0)) -> 0 | CN53: =IF(AND($C53<>0,AR53=""),1,IF(AR53>$C53,1,0)) -> 0 | CP53: =IF(AND($C53<>0,AT53=""),1,IF(AT53>$C53,1,0)) -> 0 | CQ53: =IF(AND($C53<>0,AU53=""),1,IF(AU53>$C53,1,0)) -> 0
B54: Otro profesional | C54: =SUM(D54+E54) -> 0 | D54: =SUM(H54+J54+L54+N54+P54+R54+T54+V54+X54+Z54+AB54+AD54+AF54+AH54+AJ54+AL54) -> 0 | E54: =SUM(I54+K54+M54+O54+Q54+S54+U54+W54+Y54+AA54+AC54+AE54+AG54+AI54+AK54+AM54) -> 0 | F54: =SUM(ENERO:DICIEMBRE!F54) -> 0 | G54: =SUM(ENERO:DICIEMBRE!G54) -> 0 | H54: =SUM(ENERO:DICIEMBRE!H54) -> 0 | I54: =SUM(ENERO:DICIEMBRE!I54) -> 0 | J54: =SUM(ENERO:DICIEMBRE!J54) -> 0 | K54: =SUM(ENERO:DICIEMBRE!K54) -> 0 | L54: =SUM(ENERO:DICIEMBRE!L54) -> 0 | M54: =SUM(ENERO:DICIEMBRE!M54) -> 0 | ... AU54: =SUM(ENERO:DICIEMBRE!AU54) -> 0 | AV54: =$CA54&$CB54&CC54&CD54&CE54&CG54&CH54 | CA54: =IF(AND($C54<>0,AN54=""),"* No olvide ingresar la columna Espacios Amigables /adolescentes (Digite CERO si no tiene). ",IF(AN54>$C54,"* El Número de Espacios Amigables no puede superar el Total. ","")) | CB54: =IF(AND(E54>0,OR(AO54="")),"No olvide digitar los campos *TRANS Masculino (Digite CERO si no tiene).",IF(AO54>E54,"* El Número de TRANS Masculino no puede superar el Total Mujeres. ","")) | CC54: =IF(AND(D54>0,OR(AP54="")),"No olvide digitar los campos *TRANS Femenino (Digite CERO si no tiene).",IF(AP54>$D54,"* El Número de TRANS Femenino no puede superar el Total Hombres. ","")) | CD54: =IF(AND($C54<>0,AQ54=""),"* No olvide ingresar la columna Pueblos Originarios (Digite CERO si no tiene). ",IF(AQ54>$C54,"* El Número de Pueblos Originarios no puede superar el Total. ","")) | CE54: =IF(AND($C54<>0,AR54=""),"* No olvide ingresar la columna Migrantes (Digite CERO si no tiene). ",IF(AR54>$C54,"* El Número de Migrantes no puede superar el Total. ","")) | CG54: =IF(AND($C54<>0,AT54=""),"* No olvide ingresar la columna Niños, Niñas, Adolescentes y Jóvenes SENAME (Digite CERO si no tiene). ",IF(AT54>$C54,"* El Número de Niños, Niñas, Adolescentes y Jóvenes SENAME no puede superar el Total. ","")) | CH54: =IF(AND($C54<>0,AU54=""),"* No olvide ingresar la columna Niños, Niñas, Adolescentes y Jóvenes Mejor Niñez (Digite CERO si no tiene). ",IF(AU54>$C54,"* El Número de Niños, Niñas, Adolescentes y Jóvenes Mejor Niñez no puede superar el Total. ","")) | CJ54: =IF(AND($C54<>0,AN54=""),1,IF(AN54>$C54,1,0)) -> 0 | CK54: =IF(AND(E54>0,OR(AO54="")),1,IF(AO54>E54,1,0)) -> 0 | CL54: =IF(AND(D54>0,OR(AP54="")),1,IF(AP54>D54,1,0)) -> 0 | CM54: =IF(AND($C54<>0,AQ54=""),1,IF(AQ54>$C54,1,0)) -> 0 | CN54: =IF(AND($C54<>0,AR54=""),1,IF(AR54>$C54,1,0)) -> 0 | CP54: =IF(AND($C54<>0,AT54=""),1,IF(AT54>$C54,1,0)) -> 0 | CQ54: =IF(AND($C54<>0,AU54=""),1,IF(AU54>$C54,1,0)) -> 0
B55: Facilitador/a intercultural | C55: =SUM(D55+E55) -> 0 | D55: =SUM(H55+J55+L55+N55+P55+R55+T55+V55+X55+Z55+AB55+AD55+AF55+AH55+AJ55+AL55) -> 0 | E55: =SUM(I55+K55+M55+O55+Q55+S55+U55+W55+Y55+AA55+AC55+AE55+AG55+AI55+AK55+AM55) -> 0 | F55: =SUM(ENERO:DICIEMBRE!F55) -> 0 | G55: =SUM(ENERO:DICIEMBRE!G55) -> 0 | H55: =SUM(ENERO:DICIEMBRE!H55) -> 0 | I55: =SUM(ENERO:DICIEMBRE!I55) -> 0 | J55: =SUM(ENERO:DICIEMBRE!J55) -> 0 | K55: =SUM(ENERO:DICIEMBRE!K55) -> 0 | L55: =SUM(ENERO:DICIEMBRE!L55) -> 0 | M55: =SUM(ENERO:DICIEMBRE!M55) -> 0 | ... AU55: =SUM(ENERO:DICIEMBRE!AU55) -> 0 | AV55: =$CA55&$CB55&CC55&CD55&CE55&CG55&CH55 | CA55: =IF(AND($C55<>0,AN55=""),"* No olvide ingresar la columna Espacios Amigables /adolescentes (Digite CERO si no tiene). ",IF(AN55>$C55,"* El Número de Espacios Amigables no puede superar el Total. ","")) | CB55: =IF(AND(E55>0,OR(AO55="")),"No olvide digitar los campos *TRANS Masculino (Digite CERO si no tiene).",IF(AO55>E55,"* El Número de TRANS Masculino no puede superar el Total Mujeres. ","")) | CC55: =IF(AND(D55>0,OR(AP55="")),"No olvide digitar los campos *TRANS Femenino (Digite CERO si no tiene).",IF(AP55>$D55,"* El Número de TRANS Femenino no puede superar el Total Hombres. ","")) | CD55: =IF(AND($C55<>0,AQ55=""),"* No olvide ingresar la columna Pueblos Originarios (Digite CERO si no tiene). ",IF(AQ55>$C55,"* El Número de Pueblos Originarios no puede superar el Total. ","")) | CE55: =IF(AND($C55<>0,AR55=""),"* No olvide ingresar la columna Migrantes (Digite CERO si no tiene). ",IF(AR55>$C55,"* El Número de Migrantes no puede superar el Total. ","")) | CG55: =IF(AND($C55<>0,AT55=""),"* No olvide ingresar la columna Niños, Niñas, Adolescentes y Jóvenes SENAME (Digite CERO si no tiene). ",IF(AT55>$C55,"* El Número de Niños, Niñas, Adolescentes y Jóvenes SENAME no puede superar el Total. ","")) | CH55: =IF(AND($C55<>0,AU55=""),"* No olvide ingresar la columna Niños, Niñas, Adolescentes y Jóvenes Mejor Niñez (Digite CERO si no tiene). ",IF(AU55>$C55,"* El Número de Niños, Niñas, Adolescentes y Jóvenes Mejor Niñez no puede superar el Total. ","")) | CJ55: =IF(AND($C55<>0,AN55=""),1,IF(AN55>$C55,1,0)) -> 0 | CK55: =IF(AND(E55>0,OR(AO55="")),1,IF(AO55>E55,1,0)) -> 0 | CL55: =IF(AND(D55>0,OR(AP55="")),1,IF(AP55>D55,1,0)) -> 0 | CM55: =IF(AND($C55<>0,AQ55=""),1,IF(AQ55>$C55,1,0)) -> 0 | CN55: =IF(AND($C55<>0,AR55=""),1,IF(AR55>$C55,1,0)) -> 0 | CP55: =IF(AND($C55<>0,AT55=""),1,IF(AT55>$C55,1,0)) -> 0 | CQ55: =IF(AND($C55<>0,AU55=""),1,IF(AU55>$C55,1,0)) -> 0
B56: Técnico en Enfermería | C56: =SUM(D56+E56) -> 0 | D56: =SUM(H56+J56+L56+N56+P56+R56+T56+V56+X56+Z56+AB56+AD56+AF56+AH56+AJ56+AL56) -> 0 | E56: =SUM(I56+K56+M56+O56+Q56+S56+U56+W56+Y56+AA56+AC56+AE56+AG56+AI56+AK56+AM56) -> 0 | F56: =SUM(ENERO:DICIEMBRE!F56) -> 0 | G56: =SUM(ENERO:DICIEMBRE!G56) -> 0 | H56: =SUM(ENERO:DICIEMBRE!H56) -> 0 | I56: =SUM(ENERO:DICIEMBRE!I56) -> 0 | J56: =SUM(ENERO:DICIEMBRE!J56) -> 0 | K56: =SUM(ENERO:DICIEMBRE!K56) -> 0 | L56: =SUM(ENERO:DICIEMBRE!L56) -> 0 | M56: =SUM(ENERO:DICIEMBRE!M56) -> 0 | ... AU56: =SUM(ENERO:DICIEMBRE!AU56) -> 0 | AV56: =$CA56&$CB56&CC56&CD56&CE56&CG56&CH56 | CA56: =IF(AND($C56<>0,AN56=""),"* No olvide ingresar la columna Espacios Amigables /adolescentes (Digite CERO si no tiene). ",IF(AN56>$C56,"* El Número de Espacios Amigables no puede superar el Total. ","")) | CB56: =IF(AND(E56>0,OR(AO56="")),"No olvide digitar los campos *TRANS Masculino (Digite CERO si no tiene).",IF(AO56>E56,"* El Número de TRANS Masculino no puede superar el Total Mujeres. ","")) | CC56: =IF(AND(D56>0,OR(AP56="")),"No olvide digitar los campos *TRANS Femenino (Digite CERO si no tiene).",IF(AP56>$D56,"* El Número de TRANS Femenino no puede superar el Total Hombres. ","")) | CD56: =IF(AND($C56<>0,AQ56=""),"* No olvide ingresar la columna Pueblos Originarios (Digite CERO si no tiene). ",IF(AQ56>$C56,"* El Número de Pueblos Originarios no puede superar el Total. ","")) | CE56: =IF(AND($C56<>0,AR56=""),"* No olvide ingresar la columna Migrantes (Digite CERO si no tiene). ",IF(AR56>$C56,"* El Número de Migrantes no puede superar el Total. ","")) | CG56: =IF(AND($C56<>0,AT56=""),"* No olvide ingresar la columna Niños, Niñas, Adolescentes y Jóvenes SENAME (Digite CERO si no tiene). ",IF(AT56>$C56,"* El Número de Niños, Niñas, Adolescentes y Jóvenes SENAME no puede superar el Total. ","")) | CH56: =IF(AND($C56<>0,AU56=""),"* No olvide ingresar la columna Niños, Niñas, Adolescentes y Jóvenes Mejor Niñez (Digite CERO si no tiene). ",IF(AU56>$C56,"* El Número de Niños, Niñas, Adolescentes y Jóvenes Mejor Niñez no puede superar el Total. ","")) | CJ56: =IF(AND($C56<>0,AN56=""),1,IF(AN56>$C56,1,0)) -> 0 | CK56: =IF(AND(E56>0,OR(AO56="")),1,IF(AO56>E56,1,0)) -> 0 | CL56: =IF(AND(D56>0,OR(AP56="")),1,IF(AP56>D56,1,0)) -> 0 | CM56: =IF(AND($C56<>0,AQ56=""),1,IF(AQ56>$C56,1,0)) -> 0 | CN56: =IF(AND($C56<>0,AR56=""),1,IF(AR56>$C56,1,0)) -> 0 | CP56: =IF(AND($C56<>0,AT56=""),1,IF(AT56>$C56,1,0)) -> 0 | CQ56: =IF(AND($C56<>0,AU56=""),1,IF(AU56>$C56,1,0)) -> 0
A57: Salud sexual y reproductiva con o sin entrega de preservativos | B57: Médico/a | C57: =SUM(D57+E57) -> 755 | D57: =SUM(J57+L57+N57+P57+R57+T57+V57+X57+Z57+AB57+AD57+AF57+AH57+AJ57+AL57) -> 553 | E57: =SUM(K57+M57+O57+Q57+S57+U57+W57+Y57+AA57+AC57+AE57+AG57+AI57+AK57+AM57) -> 202 | F57: =SUM(ENERO:DICIEMBRE!F57) -> 0 | G57: =SUM(ENERO:DICIEMBRE!G57) -> 0 | H57: =SUM(ENERO:DICIEMBRE!H57) -> 0 | I57: =SUM(ENERO:DICIEMBRE!I57) -> 0 | J57: =SUM(ENERO:DICIEMBRE!J57) -> 0 | K57: =SUM(ENERO:DICIEMBRE!K57) -> 0 | L57: =SUM(ENERO:DICIEMBRE!L57) -> 3 | M57: =SUM(ENERO:DICIEMBRE!M57) -> 0 | ... AU57: =SUM(ENERO:DICIEMBRE!AU57) -> 0 | AV57: =$CA57&$CB57&CC57&CD57&CE57&CF57&CG57&CH57 | CA57: =IF(AND($C57<>0,AN57=""),"* No olvide ingresar la columna Espacios Amigables /adolescentes (Digite CERO si no tiene). ",IF(AN57>$C57,"* El Número de Espacios Amigables no puede superar el Total. ","")) | CB57: =IF(AND(E57>0,OR(AO57="")),"No olvide digitar los campos *TRANS Masculino (Digite CERO si no tiene).",IF(AO57>E57,"* El Número de TRANS Masculino no puede superar el Total Mujeres. ","")) | CC57: =IF(AND(D57>0,OR(AP57="")),"No olvide digitar los campos *TRANS Femenino (Digite CERO si no tiene).",IF(AP57>$D57,"* El Número de TRANS Femenino no puede superar el Total Hombres. ","")) | CD57: =IF(AND($C57<>0,AQ57=""),"* No olvide ingresar la columna Pueblos Originarios (Digite CERO si no tiene). ",IF(AQ57>$C57,"* El Número de Pueblos Originarios no puede superar el Total. ","")) | CE57: =IF(AND($C57<>0,AR57=""),"* No olvide ingresar la columna Migrantes (Digite CERO si no tiene). ",IF(AR57>$C57,"* El Número de Migrantes no puede superar el Total. ","")) | CF57: =IF(AND(SUM(J57:M57)>0,AS57=""),"* No olvide digitar la variable 14-18 años. Si no tiene digite Cero.",IF(AS57>SUM(J57:M57),"* La variable 14-18 años no puede ser mayor al total por grupo edad de 10 a 19 años. ","")) | CG57: =IF(AND($C57<>0,AT57=""),"* No olvide ingresar la columna Niños, Niñas, Adolescentes y Jóvenes SENAME (Digite CERO si no tiene). ",IF(AT57>$C57,"* El Número de Niños, Niñas, Adolescentes y Jóvenes SENAME no puede superar el Total. ","")) | CH57: =IF(AND($C57<>0,AU57=""),"* No olvide ingresar la columna Niños, Niñas, Adolescentes y Jóvenes Mejor Niñez (Digite CERO si no tiene). ",IF(AU57>$C57,"* El Número de Niños, Niñas, Adolescentes y Jóvenes Mejor Niñez no puede superar el Total. ","")) | CJ57: =IF(AND($C57<>0,AN57=""),1,IF(AN57>$C57,1,0)) -> 0 | CK57: =IF(AND(E57>0,OR(AO57="")),1,IF(AO57>E57,1,0)) -> 0 | CL57: =IF(AND(D57>0,OR(AP57="")),1,IF(AP57>D57,1,0)) -> 0 | CM57: =IF(AND($C57<>0,AQ57=""),1,IF(AQ57>$C57,1,0)) -> 0 | CN57: =IF(AND($C57<>0,AR57=""),1,IF(AR57>$C57,1,0)) -> 0 | CO57: =IF(AND(SUM(J57:M57)>0,AS57=""),1,IF(AS57>SUM(J57:M57),1,0)) -> 0 | CP57: =IF(AND($C57<>0,AT57=""),1,IF(AT57>$C57,1,0)) -> 0 | CQ57: =IF(AND($C57<>0,AU57=""),1,IF(AU57>$C57,1,0)) -> 0
B58: Enfermera/o | C58: =SUM(D58+E58) -> 0 | D58: =SUM(J58+L58+N58+P58+R58+T58+V58+X58+Z58+AB58+AD58+AF58+AH58+AJ58+AL58) -> 0 | E58: =SUM(K58+M58+O58+Q58+S58+U58+W58+Y58+AA58+AC58+AE58+AG58+AI58+AK58+AM58) -> 0 | F58: =SUM(ENERO:DICIEMBRE!F58) -> 0 | G58: =SUM(ENERO:DICIEMBRE!G58) -> 0 | H58: =SUM(ENERO:DICIEMBRE!H58) -> 0 | I58: =SUM(ENERO:DICIEMBRE!I58) -> 0 | J58: =SUM(ENERO:DICIEMBRE!J58) -> 0 | K58: =SUM(ENERO:DICIEMBRE!K58) -> 0 | L58: =SUM(ENERO:DICIEMBRE!L58) -> 0 | M58: =SUM(ENERO:DICIEMBRE!M58) -> 0 | ... AU58: =SUM(ENERO:DICIEMBRE!AU58) -> 0 | AV58: =$CA58&$CB58&CC58&CD58&CE58&CF58&CG58&CH58 | CA58: =IF(AND($C58<>0,AN58=""),"* No olvide ingresar la columna Espacios Amigables /adolescentes (Digite CERO si no tiene). ",IF(AN58>$C58,"* El Número de Espacios Amigables no puede superar el Total. ","")) | CB58: =IF(AND(E58>0,OR(AO58="")),"No olvide digitar los campos *TRANS Masculino (Digite CERO si no tiene).",IF(AO58>E58,"* El Número de TRANS Masculino no puede superar el Total Mujeres. ","")) | CC58: =IF(AND(D58>0,OR(AP58="")),"No olvide digitar los campos *TRANS Femenino (Digite CERO si no tiene).",IF(AP58>$D58,"* El Número de TRANS Femenino no puede superar el Total Hombres. ","")) | CD58: =IF(AND($C58<>0,AQ58=""),"* No olvide ingresar la columna Pueblos Originarios (Digite CERO si no tiene). ",IF(AQ58>$C58,"* El Número de Pueblos Originarios no puede superar el Total. ","")) | CE58: =IF(AND($C58<>0,AR58=""),"* No olvide ingresar la columna Migrantes (Digite CERO si no tiene). ",IF(AR58>$C58,"* El Número de Migrantes no puede superar el Total. ","")) | CF58: =IF(AND(SUM(J58:M58)>0,AS58=""),"* No olvide digitar la variable 14-18 años. Si no tiene digite Cero.",IF(AS58>SUM(J58:M58),"* La variable 14-18 años no puede ser mayor al total por grupo edad de 10 a 19 años. ","")) | CG58: =IF(AND($C58<>0,AT58=""),"* No olvide ingresar la columna Niños, Niñas, Adolescentes y Jóvenes SENAME (Digite CERO si no tiene). ",IF(AT58>$C58,"* El Número de Niños, Niñas, Adolescentes y Jóvenes SENAME no puede superar el Total. ","")) | CH58: =IF(AND($C58<>0,AU58=""),"* No olvide ingresar la columna Niños, Niñas, Adolescentes y Jóvenes Mejor Niñez (Digite CERO si no tiene). ",IF(AU58>$C58,"* El Número de Niños, Niñas, Adolescentes y Jóvenes Mejor Niñez no puede superar el Total. ","")) | CJ58: =IF(AND($C58<>0,AN58=""),1,IF(AN58>$C58,1,0)) -> 0 | CK58: =IF(AND(E58>0,OR(AO58="")),1,IF(AO58>E58,1,0)) -> 0 | CL58: =IF(AND(D58>0,OR(AP58="")),1,IF(AP58>D58,1,0)) -> 0 | CM58: =IF(AND($C58<>0,AQ58=""),1,IF(AQ58>$C58,1,0)) -> 0 | CN58: =IF(AND($C58<>0,AR58=""),1,IF(AR58>$C58,1,0)) -> 0 | CO58: =IF(AND(SUM(J58:M58)>0,AS58=""),1,IF(AS58>SUM(J58:M58),1,0)) -> 0 | CP58: =IF(AND($C58<>0,AT58=""),1,IF(AT58>$C58,1,0)) -> 0 | CQ58: =IF(AND($C58<>0,AU58=""),1,IF(AU58>$C58,1,0)) -> 0
B59: Matrona/ón | C59: =SUM(D59+E59) -> 2046 | D59: =SUM(J59+L59+N59+P59+R59+T59+V59+X59+Z59+AB59+AD59+AF59+AH59+AJ59+AL59) -> 1513 | E59: =SUM(K59+M59+O59+Q59+S59+U59+W59+Y59+AA59+AC59+AE59+AG59+AI59+AK59+AM59) -> 533 | F59: =SUM(ENERO:DICIEMBRE!F59) -> 0 | G59: =SUM(ENERO:DICIEMBRE!G59) -> 0 | H59: =SUM(ENERO:DICIEMBRE!H59) -> 0 | I59: =SUM(ENERO:DICIEMBRE!I59) -> 0 | J59: =SUM(ENERO:DICIEMBRE!J59) -> 0 | K59: =SUM(ENERO:DICIEMBRE!K59) -> 0 | L59: =SUM(ENERO:DICIEMBRE!L59) -> 5 | M59: =SUM(ENERO:DICIEMBRE!M59) -> 2 | ... AU59: =SUM(ENERO:DICIEMBRE!AU59) -> 0 | AV59: =$CA59&$CB59&CC59&CD59&CE59&CF59&CG59&CH59 | CA59: =IF(AND($C59<>0,AN59=""),"* No olvide ingresar la columna Espacios Amigables /adolescentes (Digite CERO si no tiene). ",IF(AN59>$C59,"* El Número de Espacios Amigables no puede superar el Total. ","")) | CB59: =IF(AND(E59>0,OR(AO59="")),"No olvide digitar los campos *TRANS Masculino (Digite CERO si no tiene).",IF(AO59>E59,"* El Número de TRANS Masculino no puede superar el Total Mujeres. ","")) | CC59: =IF(AND(D59>0,OR(AP59="")),"No olvide digitar los campos *TRANS Femenino (Digite CERO si no tiene).",IF(AP59>$D59,"* El Número de TRANS Femenino no puede superar el Total Hombres. ","")) | CD59: =IF(AND($C59<>0,AQ59=""),"* No olvide ingresar la columna Pueblos Originarios (Digite CERO si no tiene). ",IF(AQ59>$C59,"* El Número de Pueblos Originarios no puede superar el Total. ","")) | CE59: =IF(AND($C59<>0,AR59=""),"* No olvide ingresar la columna Migrantes (Digite CERO si no tiene). ",IF(AR59>$C59,"* El Número de Migrantes no puede superar el Total. ","")) | CF59: =IF(AND(SUM(J59:M59)>0,AS59=""),"* No olvide digitar la variable 14-18 años. Si no tiene digite Cero.",IF(AS59>SUM(J59:M59),"* La variable 14-18 años no puede ser mayor al total por grupo edad de 10 a 19 años. ","")) | CG59: =IF(AND($C59<>0,AT59=""),"* No olvide ingresar la columna Niños, Niñas, Adolescentes y Jóvenes SENAME (Digite CERO si no tiene). ",IF(AT59>$C59,"* El Número de Niños, Niñas, Adolescentes y Jóvenes SENAME no puede superar el Total. ","")) | CH59: =IF(AND($C59<>0,AU59=""),"* No olvide ingresar la columna Niños, Niñas, Adolescentes y Jóvenes Mejor Niñez (Digite CERO si no tiene). ",IF(AU59>$C59,"* El Número de Niños, Niñas, Adolescentes y Jóvenes Mejor Niñez no puede superar el Total. ","")) | CJ59: =IF(AND($C59<>0,AN59=""),1,IF(AN59>$C59,1,0)) -> 0 | CK59: =IF(AND(E59>0,OR(AO59="")),1,IF(AO59>E59,1,0)) -> 0 | CL59: =IF(AND(D59>0,OR(AP59="")),1,IF(AP59>D59,1,0)) -> 0 | CM59: =IF(AND($C59<>0,AQ59=""),1,IF(AQ59>$C59,1,0)) -> 0 | CN59: =IF(AND($C59<>0,AR59=""),1,IF(AR59>$C59,1,0)) -> 0 | CO59: =IF(AND(SUM(J59:M59)>0,AS59=""),1,IF(AS59>SUM(J59:M59),1,0)) -> 0 | CP59: =IF(AND($C59<>0,AT59=""),1,IF(AT59>$C59,1,0)) -> 0 | CQ59: =IF(AND($C59<>0,AU59=""),1,IF(AU59>$C59,1,0)) -> 0
B60: Psicólogo/a | C60: =SUM(D60+E60) -> 0 | D60: =SUM(J60+L60+N60+P60+R60+T60+V60+X60+Z60+AB60+AD60+AF60+AH60+AJ60+AL60) -> 0 | E60: =SUM(K60+M60+O60+Q60+S60+U60+W60+Y60+AA60+AC60+AE60+AG60+AI60+AK60+AM60) -> 0 | F60: =SUM(ENERO:DICIEMBRE!F60) -> 0 | G60: =SUM(ENERO:DICIEMBRE!G60) -> 0 | H60: =SUM(ENERO:DICIEMBRE!H60) -> 0 | I60: =SUM(ENERO:DICIEMBRE!I60) -> 0 | J60: =SUM(ENERO:DICIEMBRE!J60) -> 0 | K60: =SUM(ENERO:DICIEMBRE!K60) -> 0 | L60: =SUM(ENERO:DICIEMBRE!L60) -> 0 | M60: =SUM(ENERO:DICIEMBRE!M60) -> 0 | ... AU60: =SUM(ENERO:DICIEMBRE!AU60) -> 0 | AV60: =$CA60&$CB60&CC60&CD60&CE60&CF60&CG60&CH60 | CA60: =IF(AND($C60<>0,AN60=""),"* No olvide ingresar la columna Espacios Amigables /adolescentes (Digite CERO si no tiene). ",IF(AN60>$C60,"* El Número de Espacios Amigables no puede superar el Total. ","")) | CB60: =IF(AND(E60>0,OR(AO60="")),"No olvide digitar los campos *TRANS Masculino (Digite CERO si no tiene).",IF(AO60>E60,"* El Número de TRANS Masculino no puede superar el Total Mujeres. ","")) | CC60: =IF(AND(D60>0,OR(AP60="")),"No olvide digitar los campos *TRANS Femenino (Digite CERO si no tiene).",IF(AP60>$D60,"* El Número de TRANS Femenino no puede superar el Total Hombres. ","")) | CD60: =IF(AND($C60<>0,AQ60=""),"* No olvide ingresar la columna Pueblos Originarios (Digite CERO si no tiene). ",IF(AQ60>$C60,"* El Número de Pueblos Originarios no puede superar el Total. ","")) | CE60: =IF(AND($C60<>0,AR60=""),"* No olvide ingresar la columna Migrantes (Digite CERO si no tiene). ",IF(AR60>$C60,"* El Número de Migrantes no puede superar el Total. ","")) | CF60: =IF(AND(SUM(J60:M60)>0,AS60=""),"* No olvide digitar la variable 14-18 años. Si no tiene digite Cero.",IF(AS60>SUM(J60:M60),"* La variable 14-18 años no puede ser mayor al total por grupo edad de 10 a 19 años. ","")) | CG60: =IF(AND($C60<>0,AT60=""),"* No olvide ingresar la columna Niños, Niñas, Adolescentes y Jóvenes SENAME (Digite CERO si no tiene). ",IF(AT60>$C60,"* El Número de Niños, Niñas, Adolescentes y Jóvenes SENAME no puede superar el Total. ","")) | CH60: =IF(AND($C60<>0,AU60=""),"* No olvide ingresar la columna Niños, Niñas, Adolescentes y Jóvenes Mejor Niñez (Digite CERO si no tiene). ",IF(AU60>$C60,"* El Número de Niños, Niñas, Adolescentes y Jóvenes Mejor Niñez no puede superar el Total. ","")) | CJ60: =IF(AND($C60<>0,AN60=""),1,IF(AN60>$C60,1,0)) -> 0 | CK60: =IF(AND(E60>0,OR(AO60="")),1,IF(AO60>E60,1,0)) -> 0 | CL60: =IF(AND(D60>0,OR(AP60="")),1,IF(AP60>D60,1,0)) -> 0 | CM60: =IF(AND($C60<>0,AQ60=""),1,IF(AQ60>$C60,1,0)) -> 0 | CN60: =IF(AND($C60<>0,AR60=""),1,IF(AR60>$C60,1,0)) -> 0 | CO60: =IF(AND(SUM(J60:M60)>0,AS60=""),1,IF(AS60>SUM(J60:M60),1,0)) -> 0 | CP60: =IF(AND($C60<>0,AT60=""),1,IF(AT60>$C60,1,0)) -> 0 | CQ60: =IF(AND($C60<>0,AU60=""),1,IF(AU60>$C60,1,0)) -> 0
B61: Facilitador/a intercultural | C61: =SUM(D61+E61) -> 0 | D61: =SUM(J61+L61+N61+P61+R61+T61+V61+X61+Z61+AB61+AD61+AF61+AH61+AJ61+AL61) -> 0 | E61: =SUM(K61+M61+O61+Q61+S61+U61+W61+Y61+AA61+AC61+AE61+AG61+AI61+AK61+AM61) -> 0 | F61: =SUM(ENERO:DICIEMBRE!F61) -> 0 | G61: =SUM(ENERO:DICIEMBRE!G61) -> 0 | H61: =SUM(ENERO:DICIEMBRE!H61) -> 0 | I61: =SUM(ENERO:DICIEMBRE!I61) -> 0 | J61: =SUM(ENERO:DICIEMBRE!J61) -> 0 | K61: =SUM(ENERO:DICIEMBRE!K61) -> 0 | L61: =SUM(ENERO:DICIEMBRE!L61) -> 0 | M61: =SUM(ENERO:DICIEMBRE!M61) -> 0 | ... AU61: =SUM(ENERO:DICIEMBRE!AU61) -> 0 | AV61: =$CA61&$CB61&CC61&CD61&CE61&CF61&CG61&CH61 | CA61: =IF(AND($C61<>0,AN61=""),"* No olvide ingresar la columna Espacios Amigables /adolescentes (Digite CERO si no tiene). ",IF(AN61>$C61,"* El Número de Espacios Amigables no puede superar el Total. ","")) | CB61: =IF(AND(E61>0,OR(AO61="")),"No olvide digitar los campos *TRANS Masculino (Digite CERO si no tiene).",IF(AO61>E61,"* El Número de TRANS Masculino no puede superar el Total Mujeres. ","")) | CC61: =IF(AND(D61>0,OR(AP61="")),"No olvide digitar los campos *TRANS Femenino (Digite CERO si no tiene).",IF(AP61>$D61,"* El Número de TRANS Femenino no puede superar el Total Hombres. ","")) | CD61: =IF(AND($C61<>0,AQ61=""),"* No olvide ingresar la columna Pueblos Originarios (Digite CERO si no tiene). ",IF(AQ61>$C61,"* El Número de Pueblos Originarios no puede superar el Total. ","")) | CE61: =IF(AND($C61<>0,AR61=""),"* No olvide ingresar la columna Migrantes (Digite CERO si no tiene). ",IF(AR61>$C61,"* El Número de Migrantes no puede superar el Total. ","")) | CF61: =IF(AND(SUM(J61:M61)>0,AS61=""),"* No olvide digitar la variable 14-18 años. Si no tiene digite Cero.",IF(AS61>SUM(J61:M61),"* La variable 14-18 años no puede ser mayor al total por grupo edad de 10 a 19 años. ","")) | CG61: =IF(AND($C61<>0,AT61=""),"* No olvide ingresar la columna Niños, Niñas, Adolescentes y Jóvenes SENAME (Digite CERO si no tiene). ",IF(AT61>$C61,"* El Número de Niños, Niñas, Adolescentes y Jóvenes SENAME no puede superar el Total. ","")) | CH61: =IF(AND($C61<>0,AU61=""),"* No olvide ingresar la columna Niños, Niñas, Adolescentes y Jóvenes Mejor Niñez (Digite CERO si no tiene). ",IF(AU61>$C61,"* El Número de Niños, Niñas, Adolescentes y Jóvenes Mejor Niñez no puede superar el Total. ","")) | CJ61: =IF(AND($C61<>0,AN61=""),1,IF(AN61>$C61,1,0)) -> 0 | CK61: =IF(AND(E61>0,OR(AO61="")),1,IF(AO61>E61,1,0)) -> 0 | CL61: =IF(AND(D61>0,OR(AP61="")),1,IF(AP61>D61,1,0)) -> 0 | CM61: =IF(AND($C61<>0,AQ61=""),1,IF(AQ61>$C61,1,0)) -> 0 | CN61: =IF(AND($C61<>0,AR61=""),1,IF(AR61>$C61,1,0)) -> 0 | CO61: =IF(AND(SUM(J61:M61)>0,AS61=""),1,IF(AS61>SUM(J61:M61),1,0)) -> 0 | CP61: =IF(AND($C61<>0,AT61=""),1,IF(AT61>$C61,1,0)) -> 0 | CQ61: =IF(AND($C61<>0,AU61=""),1,IF(AU61>$C61,1,0)) -> 0
B62: Otro profesional | C62: =SUM(D62+E62) -> 0 | D62: =SUM(J62+L62+N62+P62+R62+T62+V62+X62+Z62+AB62+AD62+AF62+AH62+AJ62+AL62) -> 0 | E62: =SUM(K62+M62+O62+Q62+S62+U62+W62+Y62+AA62+AC62+AE62+AG62+AI62+AK62+AM62) -> 0 | F62: =SUM(ENERO:DICIEMBRE!F62) -> 0 | G62: =SUM(ENERO:DICIEMBRE!G62) -> 0 | H62: =SUM(ENERO:DICIEMBRE!H62) -> 0 | I62: =SUM(ENERO:DICIEMBRE!I62) -> 0 | J62: =SUM(ENERO:DICIEMBRE!J62) -> 0 | K62: =SUM(ENERO:DICIEMBRE!K62) -> 0 | L62: =SUM(ENERO:DICIEMBRE!L62) -> 0 | M62: =SUM(ENERO:DICIEMBRE!M62) -> 0 | ... AU62: =SUM(ENERO:DICIEMBRE!AU62) -> 0 | AV62: =$CA62&$CB62&CC62&CD62&CE62&CF62&CG62&CH62 | CA62: =IF(AND($C62<>0,AN62=""),"* No olvide ingresar la columna Espacios Amigables /adolescentes (Digite CERO si no tiene). ",IF(AN62>$C62,"* El Número de Espacios Amigables no puede superar el Total. ","")) | CB62: =IF(AND(E62>0,OR(AO62="")),"No olvide digitar los campos *TRANS Masculino (Digite CERO si no tiene).",IF(AO62>E62,"* El Número de TRANS Masculino no puede superar el Total Mujeres. ","")) | CC62: =IF(AND(D62>0,OR(AP62="")),"No olvide digitar los campos *TRANS Femenino (Digite CERO si no tiene).",IF(AP62>$D62,"* El Número de TRANS Femenino no puede superar el Total Hombres. ","")) | CD62: =IF(AND($C62<>0,AQ62=""),"* No olvide ingresar la columna Pueblos Originarios (Digite CERO si no tiene). ",IF(AQ62>$C62,"* El Número de Pueblos Originarios no puede superar el Total. ","")) | CE62: =IF(AND($C62<>0,AR62=""),"* No olvide ingresar la columna Migrantes (Digite CERO si no tiene). ",IF(AR62>$C62,"* El Número de Migrantes no puede superar el Total. ","")) | CF62: =IF(AND(SUM(J62:M62)>0,AS62=""),"* No olvide digitar la variable 14-18 años. Si no tiene digite Cero.",IF(AS62>SUM(J62:M62),"* La variable 14-18 años no puede ser mayor al total por grupo edad de 10 a 19 años. ","")) | CG62: =IF(AND($C62<>0,AT62=""),"* No olvide ingresar la columna Niños, Niñas, Adolescentes y Jóvenes SENAME (Digite CERO si no tiene). ",IF(AT62>$C62,"* El Número de Niños, Niñas, Adolescentes y Jóvenes SENAME no puede superar el Total. ","")) | CH62: =IF(AND($C62<>0,AU62=""),"* No olvide ingresar la columna Niños, Niñas, Adolescentes y Jóvenes Mejor Niñez (Digite CERO si no tiene). ",IF(AU62>$C62,"* El Número de Niños, Niñas, Adolescentes y Jóvenes Mejor Niñez no puede superar el Total. ","")) | CJ62: =IF(AND($C62<>0,AN62=""),1,IF(AN62>$C62,1,0)) -> 0 | CK62: =IF(AND(E62>0,OR(AO62="")),1,IF(AO62>E62,1,0)) -> 0 | CL62: =IF(AND(D62>0,OR(AP62="")),1,IF(AP62>D62,1,0)) -> 0 | CM62: =IF(AND($C62<>0,AQ62=""),1,IF(AQ62>$C62,1,0)) -> 0 | CN62: =IF(AND($C62<>0,AR62=""),1,IF(AR62>$C62,1,0)) -> 0 | CO62: =IF(AND(SUM(J62:M62)>0,AS62=""),1,IF(AS62>SUM(J62:M62),1,0)) -> 0 | CP62: =IF(AND($C62<>0,AT62=""),1,IF(AT62>$C62,1,0)) -> 0 | CQ62: =IF(AND($C62<>0,AU62=""),1,IF(AU62>$C62,1,0)) -> 0
A63: Regulación de fertilidad con o sin entrega de preservativos | B63: Médico/a | C63: =SUM(D63+E63) -> 592 | D63: =SUM(J63+L63+N63+P63+R63+T63+V63+X63+Z63+AB63) -> 444 | E63: =SUM(K63+M63+O63+Q63+S63+U63+W63+Y63+AA63+AC63) -> 148 | F63: =SUM(ENERO:DICIEMBRE!F63) -> 0 | G63: =SUM(ENERO:DICIEMBRE!G63) -> 0 | H63: =SUM(ENERO:DICIEMBRE!H63) -> 0 | I63: =SUM(ENERO:DICIEMBRE!I63) -> 0 | J63: =SUM(ENERO:DICIEMBRE!J63) -> 0 | K63: =SUM(ENERO:DICIEMBRE!K63) -> 0 | L63: =SUM(ENERO:DICIEMBRE!L63) -> 3 | M63: =SUM(ENERO:DICIEMBRE!M63) -> 0 | ... AU63: =SUM(ENERO:DICIEMBRE!AU63) -> 0 | AV63: =$CA63&$CB63&CC63&CD63&CE63&CF63&CG63&CH63 | CA63: =IF(AND($C63<>0,AN63=""),"* No olvide ingresar la columna Espacios Amigables /adolescentes (Digite CERO si no tiene). ",IF(AN63>$C63,"* El Número de Espacios Amigables no puede superar el Total. ","")) | CB63: =IF(AND(E63>0,OR(AO63="")),"No olvide digitar los campos *TRANS Masculino (Digite CERO si no tiene).",IF(AO63>E63,"* El Número de TRANS Masculino no puede superar el Total Mujeres. ","")) | CC63: =IF(AND(D63>0,OR(AP63="")),"No olvide digitar los campos *TRANS Femenino (Digite CERO si no tiene).",IF(AP63>$D63,"* El Número de TRANS Femenino no puede superar el Total Hombres. ","")) | CD63: =IF(AND($C63<>0,AQ63=""),"* No olvide ingresar la columna Pueblos Originarios (Digite CERO si no tiene). ",IF(AQ63>$C63,"* El Número de Pueblos Originarios no puede superar el Total. ","")) | CE63: =IF(AND($C63<>0,AR63=""),"* No olvide ingresar la columna Migrantes (Digite CERO si no tiene). ",IF(AR63>$C63,"* El Número de Migrantes no puede superar el Total. ","")) | CF63: =IF(AND(SUM(J63:M63)>0,AS63=""),"* No olvide digitar la variable 14-18 años. Si no tiene digite Cero.",IF(AS63>SUM(J63:M63),"* La variable 14-18 años no puede ser mayor al total por grupo edad de 10 a 19 años. ","")) | CG63: =IF(AND($C63<>0,AT63=""),"* No olvide ingresar la columna Niños, Niñas, Adolescentes y Jóvenes SENAME (Digite CERO si no tiene). ",IF(AT63>$C63,"* El Número de Niños, Niñas, Adolescentes y Jóvenes SENAME no puede superar el Total. ","")) | CH63: =IF(AND($C63<>0,AU63=""),"* No olvide ingresar la columna Niños, Niñas, Adolescentes y Jóvenes Mejor Niñez (Digite CERO si no tiene). ",IF(AU63>$C63,"* El Número de Niños, Niñas, Adolescentes y Jóvenes Mejor Niñez no puede superar el Total. ","")) | CJ63: =IF(AND($C63<>0,AN63=""),1,IF(AN63>$C63,1,0)) -> 0 | CK63: =IF(AND(E63>0,OR(AO63="")),1,IF(AO63>E63,1,0)) -> 0 | CL63: =IF(AND(D63>0,OR(AP63="")),1,IF(AP63>D63,1,0)) -> 0 | CM63: =IF(AND($C63<>0,AQ63=""),1,IF(AQ63>$C63,1,0)) -> 0 | CN63: =IF(AND($C63<>0,AR63=""),1,IF(AR63>$C63,1,0)) -> 0 | CO63: =IF(AND(SUM(J63:M63)>0,AS63=""),1,IF(AS63>SUM(J63:M63),1,0)) -> 0 | CP63: =IF(AND($C63<>0,AT63=""),1,IF(AT63>$C63,1,0)) -> 0 | CQ63: =IF(AND($C63<>0,AU63=""),1,IF(AU63>$C63,1,0)) -> 0
B64: Matrona/ón | C64: =SUM(D64+E64) -> 1865 | D64: =SUM(J64+L64+N64+P64+R64+T64+V64+X64+Z64+AB64) -> 1381 | E64: =SUM(K64+M64+O64+Q64+S64+U64+W64+Y64+AA64+AC64) -> 484 | F64: =SUM(ENERO:DICIEMBRE!F64) -> 0 | G64: =SUM(ENERO:DICIEMBRE!G64) -> 0 | H64: =SUM(ENERO:DICIEMBRE!H64) -> 0 | I64: =SUM(ENERO:DICIEMBRE!I64) -> 0 | J64: =SUM(ENERO:DICIEMBRE!J64) -> 0 | K64: =SUM(ENERO:DICIEMBRE!K64) -> 0 | L64: =SUM(ENERO:DICIEMBRE!L64) -> 5 | M64: =SUM(ENERO:DICIEMBRE!M64) -> 2 | ... AU64: =SUM(ENERO:DICIEMBRE!AU64) -> 0 | AV64: =$CA64&$CB64&CC64&CD64&CE64&CF64&CG64&CH64 | CA64: =IF(AND($C64<>0,AN64=""),"* No olvide ingresar la columna Espacios Amigables /adolescentes (Digite CERO si no tiene). ",IF(AN64>$C64,"* El Número de Espacios Amigables no puede superar el Total. ","")) | CB64: =IF(AND(E64>0,OR(AO64="")),"No olvide digitar los campos *TRANS Masculino (Digite CERO si no tiene).",IF(AO64>E64,"* El Número de TRANS Masculino no puede superar el Total Mujeres. ","")) | CC64: =IF(AND(D64>0,OR(AP64="")),"No olvide digitar los campos *TRANS Femenino (Digite CERO si no tiene).",IF(AP64>$D64,"* El Número de TRANS Femenino no puede superar el Total Hombres. ","")) | CD64: =IF(AND($C64<>0,AQ64=""),"* No olvide ingresar la columna Pueblos Originarios (Digite CERO si no tiene). ",IF(AQ64>$C64,"* El Número de Pueblos Originarios no puede superar el Total. ","")) | CE64: =IF(AND($C64<>0,AR64=""),"* No olvide ingresar la columna Migrantes (Digite CERO si no tiene). ",IF(AR64>$C64,"* El Número de Migrantes no puede superar el Total. ","")) | CF64: =IF(AND(SUM(J64:M64)>0,AS64=""),"* No olvide digitar la variable 14-18 años. Si no tiene digite Cero.",IF(AS64>SUM(J64:M64),"* La variable 14-18 años no puede ser mayor al total por grupo edad de 10 a 19 años. ","")) | CG64: =IF(AND($C64<>0,AT64=""),"* No olvide ingresar la columna Niños, Niñas, Adolescentes y Jóvenes SENAME (Digite CERO si no tiene). ",IF(AT64>$C64,"* El Número de Niños, Niñas, Adolescentes y Jóvenes SENAME no puede superar el Total. ","")) | CH64: =IF(AND($C64<>0,AU64=""),"* No olvide ingresar la columna Niños, Niñas, Adolescentes y Jóvenes Mejor Niñez (Digite CERO si no tiene). ",IF(AU64>$C64,"* El Número de Niños, Niñas, Adolescentes y Jóvenes Mejor Niñez no puede superar el Total. ","")) | CJ64: =IF(AND($C64<>0,AN64=""),1,IF(AN64>$C64,1,0)) -> 0 | CK64: =IF(AND(E64>0,OR(AO64="")),1,IF(AO64>E64,1,0)) -> 0 | CL64: =IF(AND(D64>0,OR(AP64="")),1,IF(AP64>D64,1,0)) -> 0 | CM64: =IF(AND($C64<>0,AQ64=""),1,IF(AQ64>$C64,1,0)) -> 0 | CN64: =IF(AND($C64<>0,AR64=""),1,IF(AR64>$C64,1,0)) -> 0 | CO64: =IF(AND(SUM(J64:M64)>0,AS64=""),1,IF(AS64>SUM(J64:M64),1,0)) -> 0 | CP64: =IF(AND($C64<>0,AT64=""),1,IF(AT64>$C64,1,0)) -> 0 | CQ64: =IF(AND($C64<>0,AU64=""),1,IF(AU64>$C64,1,0)) -> 0
B65: Facilitador/a intercultural | C65: =SUM(D65+E65) -> 0 | D65: =SUM(J65+L65+N65+P65+R65+T65+V65+X65+Z65+AB65) -> 0 | E65: =SUM(K65+M65+O65+Q65+S65+U65+W65+Y65+AA65+AC65) -> 0 | F65: =SUM(ENERO:DICIEMBRE!F65) -> 0 | G65: =SUM(ENERO:DICIEMBRE!G65) -> 0 | H65: =SUM(ENERO:DICIEMBRE!H65) -> 0 | I65: =SUM(ENERO:DICIEMBRE!I65) -> 0 | J65: =SUM(ENERO:DICIEMBRE!J65) -> 0 | K65: =SUM(ENERO:DICIEMBRE!K65) -> 0 | L65: =SUM(ENERO:DICIEMBRE!L65) -> 0 | M65: =SUM(ENERO:DICIEMBRE!M65) -> 0 | ... AU65: =SUM(ENERO:DICIEMBRE!AU65) -> 0 | AV65: =$CA65&$CB65&CC65&CD65&CE65&CF65&CG65&CH65 | CA65: =IF(AND($C65<>0,AN65=""),"* No olvide ingresar la columna Espacios Amigables /adolescentes (Digite CERO si no tiene). ",IF(AN65>$C65,"* El Número de Espacios Amigables no puede superar el Total. ","")) | CB65: =IF(AND(E65>0,OR(AO65="")),"No olvide digitar los campos *TRANS Masculino (Digite CERO si no tiene).",IF(AO65>E65,"* El Número de TRANS Masculino no puede superar el Total Mujeres. ","")) | CC65: =IF(AND(D65>0,OR(AP65="")),"No olvide digitar los campos *TRANS Femenino (Digite CERO si no tiene).",IF(AP65>$D65,"* El Número de TRANS Femenino no puede superar el Total Hombres. ","")) | CD65: =IF(AND($C65<>0,AQ65=""),"* No olvide ingresar la columna Pueblos Originarios (Digite CERO si no tiene). ",IF(AQ65>$C65,"* El Número de Pueblos Originarios no puede superar el Total. ","")) | CE65: =IF(AND($C65<>0,AR65=""),"* No olvide ingresar la columna Migrantes (Digite CERO si no tiene). ",IF(AR65>$C65,"* El Número de Migrantes no puede superar el Total. ","")) | CF65: =IF(AND(SUM(J65:M65)>0,AS65=""),"* No olvide digitar la variable 14-18 años. Si no tiene digite Cero.",IF(AS65>SUM(J65:M65),"* La variable 14-18 años no puede ser mayor al total por grupo edad de 10 a 19 años. ","")) | CG65: =IF(AND($C65<>0,AT65=""),"* No olvide ingresar la columna Niños, Niñas, Adolescentes y Jóvenes SENAME (Digite CERO si no tiene). ",IF(AT65>$C65,"* El Número de Niños, Niñas, Adolescentes y Jóvenes SENAME no puede superar el Total. ","")) | CH65: =IF(AND($C65<>0,AU65=""),"* No olvide ingresar la columna Niños, Niñas, Adolescentes y Jóvenes Mejor Niñez (Digite CERO si no tiene). ",IF(AU65>$C65,"* El Número de Niños, Niñas, Adolescentes y Jóvenes Mejor Niñez no puede superar el Total. ","")) | CJ65: =IF(AND($C65<>0,AN65=""),1,IF(AN65>$C65,1,0)) -> 0 | CK65: =IF(AND(E65>0,OR(AO65="")),1,IF(AO65>E65,1,0)) -> 0 | CL65: =IF(AND(D65>0,OR(AP65="")),1,IF(AP65>D65,1,0)) -> 0 | CM65: =IF(AND($C65<>0,AQ65=""),1,IF(AQ65>$C65,1,0)) -> 0 | CN65: =IF(AND($C65<>0,AR65=""),1,IF(AR65>$C65,1,0)) -> 0 | CO65: =IF(AND(SUM(J65:M65)>0,AS65=""),1,IF(AS65>SUM(J65:M65),1,0)) -> 0 | CP65: =IF(AND($C65<>0,AT65=""),1,IF(AT65>$C65,1,0)) -> 0 | CQ65: =IF(AND($C65<>0,AU65=""),1,IF(AU65>$C65,1,0)) -> 0
B66: Otro profesional | C66: =SUM(D66+E66) -> 0 | D66: =SUM(J66+L66+N66+P66+R66+T66+V66+X66+Z66+AB66) -> 0 | E66: =SUM(K66+M66+O66+Q66+S66+U66+W66+Y66+AA66+AC66) -> 0 | F66: =SUM(ENERO:DICIEMBRE!F66) -> 0 | G66: =SUM(ENERO:DICIEMBRE!G66) -> 0 | H66: =SUM(ENERO:DICIEMBRE!H66) -> 0 | I66: =SUM(ENERO:DICIEMBRE!I66) -> 0 | J66: =SUM(ENERO:DICIEMBRE!J66) -> 0 | K66: =SUM(ENERO:DICIEMBRE!K66) -> 0 | L66: =SUM(ENERO:DICIEMBRE!L66) -> 0 | M66: =SUM(ENERO:DICIEMBRE!M66) -> 0 | ... AU66: =SUM(ENERO:DICIEMBRE!AU66) -> 0 | AV66: =$CA66&$CB66&CC66&CD66&CE66&CF66&CG66&CH66 | CA66: =IF(AND($C66<>0,AN66=""),"* No olvide ingresar la columna Espacios Amigables /adolescentes (Digite CERO si no tiene). ",IF(AN66>$C66,"* El Número de Espacios Amigables no puede superar el Total. ","")) | CB66: =IF(AND(E66>0,OR(AO66="")),"No olvide digitar los campos *TRANS Masculino (Digite CERO si no tiene).",IF(AO66>E66,"* El Número de TRANS Masculino no puede superar el Total Mujeres. ","")) | CC66: =IF(AND(D66>0,OR(AP66="")),"No olvide digitar los campos *TRANS Femenino (Digite CERO si no tiene).",IF(AP66>$D66,"* El Número de TRANS Femenino no puede superar el Total Hombres. ","")) | CD66: =IF(AND($C66<>0,AQ66=""),"* No olvide ingresar la columna Pueblos Originarios (Digite CERO si no tiene). ",IF(AQ66>$C66,"* El Número de Pueblos Originarios no puede superar el Total. ","")) | CE66: =IF(AND($C66<>0,AR66=""),"* No olvide ingresar la columna Migrantes (Digite CERO si no tiene). ",IF(AR66>$C66,"* El Número de Migrantes no puede superar el Total. ","")) | CF66: =IF(AND(SUM(J66:M66)>0,AS66=""),"* No olvide digitar la variable 14-18 años. Si no tiene digite Cero.",IF(AS66>SUM(J66:M66),"* La variable 14-18 años no puede ser mayor al total por grupo edad de 10 a 19 años. ","")) | CG66: =IF(AND($C66<>0,AT66=""),"* No olvide ingresar la columna Niños, Niñas, Adolescentes y Jóvenes SENAME (Digite CERO si no tiene). ",IF(AT66>$C66,"* El Número de Niños, Niñas, Adolescentes y Jóvenes SENAME no puede superar el Total. ","")) | CH66: =IF(AND($C66<>0,AU66=""),"* No olvide ingresar la columna Niños, Niñas, Adolescentes y Jóvenes Mejor Niñez (Digite CERO si no tiene). ",IF(AU66>$C66,"* El Número de Niños, Niñas, Adolescentes y Jóvenes Mejor Niñez no puede superar el Total. ","")) | CJ66: =IF(AND($C66<>0,AN66=""),1,IF(AN66>$C66,1,0)) -> 0 | CK66: =IF(AND(E66>0,OR(AO66="")),1,IF(AO66>E66,1,0)) -> 0 | CL66: =IF(AND(D66>0,OR(AP66="")),1,IF(AP66>D66,1,0)) -> 0 | CM66: =IF(AND($C66<>0,AQ66=""),1,IF(AQ66>$C66,1,0)) -> 0 | CN66: =IF(AND($C66<>0,AR66=""),1,IF(AR66>$C66,1,0)) -> 0 | CO66: =IF(AND(SUM(J66:M66)>0,AS66=""),1,IF(AS66>SUM(J66:M66),1,0)) -> 0 | CP66: =IF(AND($C66<>0,AT66=""),1,IF(AT66>$C66,1,0)) -> 0 | CQ66: =IF(AND($C66<>0,AU66=""),1,IF(AU66>$C66,1,0)) -> 0
A67: Prevención VIH e infección de transmisión sexual (ITS) con o sin entrega de preservativos | B67: Médico/a | C67: =SUM(D67+E67) -> 755 | D67: =SUM(J67+L67+N67+P67+R67+T67+V67+X67+Z67+AB67+AD67+AF67+AH67+AJ67+AL67) -> 553 | E67: =SUM(K67+M67+O67+Q67+S67+U67+W67+Y67+AA67+AC67+AE67+AG67+AI67+AK67+AM67) -> 202 | F67: =SUM(ENERO:DICIEMBRE!F67) -> 0 | G67: =SUM(ENERO:DICIEMBRE!G67) -> 0 | H67: =SUM(ENERO:DICIEMBRE!H67) -> 0 | I67: =SUM(ENERO:DICIEMBRE!I67) -> 0 | J67: =SUM(ENERO:DICIEMBRE!J67) -> 0 | K67: =SUM(ENERO:DICIEMBRE!K67) -> 0 | L67: =SUM(ENERO:DICIEMBRE!L67) -> 3 | M67: =SUM(ENERO:DICIEMBRE!M67) -> 0 | ... AU67: =SUM(ENERO:DICIEMBRE!AU67) -> 0 | AV67: =$CA67&$CB67&CC67&CD67&CE67&CF67&CG67&CH67 | CA67: =IF(AND($C67<>0,AN67=""),"* No olvide ingresar la columna Espacios Amigables /adolescentes (Digite CERO si no tiene). ",IF(AN67>$C67,"* El Número de Espacios Amigables no puede superar el Total. ","")) | CB67: =IF(AND(E67>0,OR(AO67="")),"No olvide digitar los campos *TRANS Masculino (Digite CERO si no tiene).",IF(AO67>E67,"* El Número de TRANS Masculino no puede superar el Total Mujeres. ","")) | CC67: =IF(AND(D67>0,OR(AP67="")),"No olvide digitar los campos *TRANS Femenino (Digite CERO si no tiene).",IF(AP67>$D67,"* El Número de TRANS Femenino no puede superar el Total Hombres. ","")) | CD67: =IF(AND($C67<>0,AQ67=""),"* No olvide ingresar la columna Pueblos Originarios (Digite CERO si no tiene). ",IF(AQ67>$C67,"* El Número de Pueblos Originarios no puede superar el Total. ","")) | CE67: =IF(AND($C67<>0,AR67=""),"* No olvide ingresar la columna Migrantes (Digite CERO si no tiene). ",IF(AR67>$C67,"* El Número de Migrantes no puede superar el Total. ","")) | CF67: =IF(AND(SUM(J67:M67)>0,AS67=""),"* No olvide digitar la variable 14-18 años. Si no tiene digite Cero.",IF(AS67>SUM(J67:M67),"* La variable 14-18 años no puede ser mayor al total por grupo edad de 10 a 19 años. ","")) | CG67: =IF(AND($C67<>0,AT67=""),"* No olvide ingresar la columna Niños, Niñas, Adolescentes y Jóvenes SENAME (Digite CERO si no tiene). ",IF(AT67>$C67,"* El Número de Niños, Niñas, Adolescentes y Jóvenes SENAME no puede superar el Total. ","")) | CH67: =IF(AND($C67<>0,AU67=""),"* No olvide ingresar la columna Niños, Niñas, Adolescentes y Jóvenes Mejor Niñez (Digite CERO si no tiene). ",IF(AU67>$C67,"* El Número de Niños, Niñas, Adolescentes y Jóvenes Mejor Niñez no puede superar el Total. ","")) | CJ67: =IF(AND($C67<>0,AN67=""),1,IF(AN67>$C67,1,0)) -> 0 | CK67: =IF(AND(E67>0,OR(AO67="")),1,IF(AO67>E67,1,0)) -> 0 | CL67: =IF(AND(D67>0,OR(AP67="")),1,IF(AP67>D67,1,0)) -> 0 | CM67: =IF(AND($C67<>0,AQ67=""),1,IF(AQ67>$C67,1,0)) -> 0 | CN67: =IF(AND($C67<>0,AR67=""),1,IF(AR67>$C67,1,0)) -> 0 | CO67: =IF(AND(SUM(J67:M67)>0,AS67=""),1,IF(AS67>SUM(J67:M67),1,0)) -> 0 | CP67: =IF(AND($C67<>0,AT67=""),1,IF(AT67>$C67,1,0)) -> 0 | CQ67: =IF(AND($C67<>0,AU67=""),1,IF(AU67>$C67,1,0)) -> 0
B68: Enfermera /o | C68: =SUM(D68+E68) -> 0 | D68: =SUM(J68+L68+N68+P68+R68+T68+V68+X68+Z68+AB68+AD68+AF68+AH68+AJ68+AL68) -> 0 | E68: =SUM(K68+M68+O68+Q68+S68+U68+W68+Y68+AA68+AC68+AE68+AG68+AI68+AK68+AM68) -> 0 | F68: =SUM(ENERO:DICIEMBRE!F68) -> 0 | G68: =SUM(ENERO:DICIEMBRE!G68) -> 0 | H68: =SUM(ENERO:DICIEMBRE!H68) -> 0 | I68: =SUM(ENERO:DICIEMBRE!I68) -> 0 | J68: =SUM(ENERO:DICIEMBRE!J68) -> 0 | K68: =SUM(ENERO:DICIEMBRE!K68) -> 0 | L68: =SUM(ENERO:DICIEMBRE!L68) -> 0 | M68: =SUM(ENERO:DICIEMBRE!M68) -> 0 | ... AU68: =SUM(ENERO:DICIEMBRE!AU68) -> 0 | AV68: =$CA68&$CB68&CC68&CD68&CE68&CF68&CG68&CH68 | CA68: =IF(AND($C68<>0,AN68=""),"* No olvide ingresar la columna Espacios Amigables /adolescentes (Digite CERO si no tiene). ",IF(AN68>$C68,"* El Número de Espacios Amigables no puede superar el Total. ","")) | CB68: =IF(AND(E68>0,OR(AO68="")),"No olvide digitar los campos *TRANS Masculino (Digite CERO si no tiene).",IF(AO68>E68,"* El Número de TRANS Masculino no puede superar el Total Mujeres. ","")) | CC68: =IF(AND(D68>0,OR(AP68="")),"No olvide digitar los campos *TRANS Femenino (Digite CERO si no tiene).",IF(AP68>$D68,"* El Número de TRANS Femenino no puede superar el Total Hombres. ","")) | CD68: =IF(AND($C68<>0,AQ68=""),"* No olvide ingresar la columna Pueblos Originarios (Digite CERO si no tiene). ",IF(AQ68>$C68,"* El Número de Pueblos Originarios no puede superar el Total. ","")) | CE68: =IF(AND($C68<>0,AR68=""),"* No olvide ingresar la columna Migrantes (Digite CERO si no tiene). ",IF(AR68>$C68,"* El Número de Migrantes no puede superar el Total. ","")) | CF68: =IF(AND(SUM(J68:M68)>0,AS68=""),"* No olvide digitar la variable 14-18 años. Si no tiene digite Cero.",IF(AS68>SUM(J68:M68),"* La variable 14-18 años no puede ser mayor al total por grupo edad de 10 a 19 años. ","")) | CG68: =IF(AND($C68<>0,AT68=""),"* No olvide ingresar la columna Niños, Niñas, Adolescentes y Jóvenes SENAME (Digite CERO si no tiene). ",IF(AT68>$C68,"* El Número de Niños, Niñas, Adolescentes y Jóvenes SENAME no puede superar el Total. ","")) | CH68: =IF(AND($C68<>0,AU68=""),"* No olvide ingresar la columna Niños, Niñas, Adolescentes y Jóvenes Mejor Niñez (Digite CERO si no tiene). ",IF(AU68>$C68,"* El Número de Niños, Niñas, Adolescentes y Jóvenes Mejor Niñez no puede superar el Total. ","")) | CJ68: =IF(AND($C68<>0,AN68=""),1,IF(AN68>$C68,1,0)) -> 0 | CK68: =IF(AND(E68>0,OR(AO68="")),1,IF(AO68>E68,1,0)) -> 0 | CL68: =IF(AND(D68>0,OR(AP68="")),1,IF(AP68>D68,1,0)) -> 0 | CM68: =IF(AND($C68<>0,AQ68=""),1,IF(AQ68>$C68,1,0)) -> 0 | CN68: =IF(AND($C68<>0,AR68=""),1,IF(AR68>$C68,1,0)) -> 0 | CO68: =IF(AND(SUM(J68:M68)>0,AS68=""),1,IF(AS68>SUM(J68:M68),1,0)) -> 0 | CP68: =IF(AND($C68<>0,AT68=""),1,IF(AT68>$C68,1,0)) -> 0 | CQ68: =IF(AND($C68<>0,AU68=""),1,IF(AU68>$C68,1,0)) -> 0
B69: Matrona/ón | C69: =SUM(D69+E69) -> 2187 | D69: =SUM(J69+L69+N69+P69+R69+T69+V69+X69+Z69+AB69+AD69+AF69+AH69+AJ69+AL69) -> 1513 | E69: =SUM(K69+M69+O69+Q69+S69+U69+W69+Y69+AA69+AC69+AE69+AG69+AI69+AK69+AM69) -> 674 | F69: =SUM(ENERO:DICIEMBRE!F69) -> 0 | G69: =SUM(ENERO:DICIEMBRE!G69) -> 0 | H69: =SUM(ENERO:DICIEMBRE!H69) -> 0 | I69: =SUM(ENERO:DICIEMBRE!I69) -> 0 | J69: =SUM(ENERO:DICIEMBRE!J69) -> 0 | K69: =SUM(ENERO:DICIEMBRE!K69) -> 0 | L69: =SUM(ENERO:DICIEMBRE!L69) -> 5 | M69: =SUM(ENERO:DICIEMBRE!M69) -> 6 | ... AU69: =SUM(ENERO:DICIEMBRE!AU69) -> 0 | AV69: =$CA69&$CB69&CC69&CD69&CE69&CF69&CG69&CH69 | CA69: =IF(AND($C69<>0,AN69=""),"* No olvide ingresar la columna Espacios Amigables /adolescentes (Digite CERO si no tiene). ",IF(AN69>$C69,"* El Número de Espacios Amigables no puede superar el Total. ","")) | CB69: =IF(AND(E69>0,OR(AO69="")),"No olvide digitar los campos *TRANS Masculino (Digite CERO si no tiene).",IF(AO69>E69,"* El Número de TRANS Masculino no puede superar el Total Mujeres. ","")) | CC69: =IF(AND(D69>0,OR(AP69="")),"No olvide digitar los campos *TRANS Femenino (Digite CERO si no tiene).",IF(AP69>$D69,"* El Número de TRANS Femenino no puede superar el Total Hombres. ","")) | CD69: =IF(AND($C69<>0,AQ69=""),"* No olvide ingresar la columna Pueblos Originarios (Digite CERO si no tiene). ",IF(AQ69>$C69,"* El Número de Pueblos Originarios no puede superar el Total. ","")) | CE69: =IF(AND($C69<>0,AR69=""),"* No olvide ingresar la columna Migrantes (Digite CERO si no tiene). ",IF(AR69>$C69,"* El Número de Migrantes no puede superar el Total. ","")) | CF69: =IF(AND(SUM(J69:M69)>0,AS69=""),"* No olvide digitar la variable 14-18 años. Si no tiene digite Cero.",IF(AS69>SUM(J69:M69),"* La variable 14-18 años no puede ser mayor al total por grupo edad de 10 a 19 años. ","")) | CG69: =IF(AND($C69<>0,AT69=""),"* No olvide ingresar la columna Niños, Niñas, Adolescentes y Jóvenes SENAME (Digite CERO si no tiene). ",IF(AT69>$C69,"* El Número de Niños, Niñas, Adolescentes y Jóvenes SENAME no puede superar el Total. ","")) | CH69: =IF(AND($C69<>0,AU69=""),"* No olvide ingresar la columna Niños, Niñas, Adolescentes y Jóvenes Mejor Niñez (Digite CERO si no tiene). ",IF(AU69>$C69,"* El Número de Niños, Niñas, Adolescentes y Jóvenes Mejor Niñez no puede superar el Total. ","")) | CJ69: =IF(AND($C69<>0,AN69=""),1,IF(AN69>$C69,1,0)) -> 0 | CK69: =IF(AND(E69>0,OR(AO69="")),1,IF(AO69>E69,1,0)) -> 0 | CL69: =IF(AND(D69>0,OR(AP69="")),1,IF(AP69>D69,1,0)) -> 0 | CM69: =IF(AND($C69<>0,AQ69=""),1,IF(AQ69>$C69,1,0)) -> 0 | CN69: =IF(AND($C69<>0,AR69=""),1,IF(AR69>$C69,1,0)) -> 0 | CO69: =IF(AND(SUM(J69:M69)>0,AS69=""),1,IF(AS69>SUM(J69:M69),1,0)) -> 0 | CP69: =IF(AND($C69<>0,AT69=""),1,IF(AT69>$C69,1,0)) -> 0 | CQ69: =IF(AND($C69<>0,AU69=""),1,IF(AU69>$C69,1,0)) -> 0
B70: Trabajador/a social | C70: =SUM(D70+E70) -> 0 | D70: =SUM(J70+L70+N70+P70+R70+T70+V70+X70+Z70+AB70+AD70+AF70+AH70+AJ70+AL70) -> 0 | E70: =SUM(K70+M70+O70+Q70+S70+U70+W70+Y70+AA70+AC70+AE70+AG70+AI70+AK70+AM70) -> 0 | F70: =SUM(ENERO:DICIEMBRE!F70) -> 0 | G70: =SUM(ENERO:DICIEMBRE!G70) -> 0 | H70: =SUM(ENERO:DICIEMBRE!H70) -> 0 | I70: =SUM(ENERO:DICIEMBRE!I70) -> 0 | J70: =SUM(ENERO:DICIEMBRE!J70) -> 0 | K70: =SUM(ENERO:DICIEMBRE!K70) -> 0 | L70: =SUM(ENERO:DICIEMBRE!L70) -> 0 | M70: =SUM(ENERO:DICIEMBRE!M70) -> 0 | ... AU70: =SUM(ENERO:DICIEMBRE!AU70) -> 0 | AV70: =$CA70&$CB70&CC70&CD70&CE70&CF70&CG70&CH70 | CA70: =IF(AND($C70<>0,AN70=""),"* No olvide ingresar la columna Espacios Amigables /adolescentes (Digite CERO si no tiene). ",IF(AN70>$C70,"* El Número de Espacios Amigables no puede superar el Total. ","")) | CB70: =IF(AND(E70>0,OR(AO70="")),"No olvide digitar los campos *TRANS Masculino (Digite CERO si no tiene).",IF(AO70>E70,"* El Número de TRANS Masculino no puede superar el Total Mujeres. ","")) | CC70: =IF(AND(D70>0,OR(AP70="")),"No olvide digitar los campos *TRANS Femenino (Digite CERO si no tiene).",IF(AP70>$D70,"* El Número de TRANS Femenino no puede superar el Total Hombres. ","")) | CD70: =IF(AND($C70<>0,AQ70=""),"* No olvide ingresar la columna Pueblos Originarios (Digite CERO si no tiene). ",IF(AQ70>$C70,"* El Número de Pueblos Originarios no puede superar el Total. ","")) | CE70: =IF(AND($C70<>0,AR70=""),"* No olvide ingresar la columna Migrantes (Digite CERO si no tiene). ",IF(AR70>$C70,"* El Número de Migrantes no puede superar el Total. ","")) | CF70: =IF(AND(SUM(J70:M70)>0,AS70=""),"* No olvide digitar la variable 14-18 años. Si no tiene digite Cero.",IF(AS70>SUM(J70:M70),"* La variable 14-18 años no puede ser mayor al total por grupo edad de 10 a 19 años. ","")) | CG70: =IF(AND($C70<>0,AT70=""),"* No olvide ingresar la columna Niños, Niñas, Adolescentes y Jóvenes SENAME (Digite CERO si no tiene). ",IF(AT70>$C70,"* El Número de Niños, Niñas, Adolescentes y Jóvenes SENAME no puede superar el Total. ","")) | CH70: =IF(AND($C70<>0,AU70=""),"* No olvide ingresar la columna Niños, Niñas, Adolescentes y Jóvenes Mejor Niñez (Digite CERO si no tiene). ",IF(AU70>$C70,"* El Número de Niños, Niñas, Adolescentes y Jóvenes Mejor Niñez no puede superar el Total. ","")) | CJ70: =IF(AND($C70<>0,AN70=""),1,IF(AN70>$C70,1,0)) -> 0 | CK70: =IF(AND(E70>0,OR(AO70="")),1,IF(AO70>E70,1,0)) -> 0 | CL70: =IF(AND(D70>0,OR(AP70="")),1,IF(AP70>D70,1,0)) -> 0 | CM70: =IF(AND($C70<>0,AQ70=""),1,IF(AQ70>$C70,1,0)) -> 0 | CN70: =IF(AND($C70<>0,AR70=""),1,IF(AR70>$C70,1,0)) -> 0 | CO70: =IF(AND(SUM(J70:M70)>0,AS70=""),1,IF(AS70>SUM(J70:M70),1,0)) -> 0 | CP70: =IF(AND($C70<>0,AT70=""),1,IF(AT70>$C70,1,0)) -> 0 | CQ70: =IF(AND($C70<>0,AU70=""),1,IF(AU70>$C70,1,0)) -> 0
B71: Psicóloga /o | C71: =SUM(D71+E71) -> 0 | D71: =SUM(J71+L71+N71+P71+R71+T71+V71+X71+Z71+AB71+AD71+AF71+AH71+AJ71+AL71) -> 0 | E71: =SUM(K71+M71+O71+Q71+S71+U71+W71+Y71+AA71+AC71+AE71+AG71+AI71+AK71+AM71) -> 0 | F71: =SUM(ENERO:DICIEMBRE!F71) -> 0 | G71: =SUM(ENERO:DICIEMBRE!G71) -> 0 | H71: =SUM(ENERO:DICIEMBRE!H71) -> 0 | I71: =SUM(ENERO:DICIEMBRE!I71) -> 0 | J71: =SUM(ENERO:DICIEMBRE!J71) -> 0 | K71: =SUM(ENERO:DICIEMBRE!K71) -> 0 | L71: =SUM(ENERO:DICIEMBRE!L71) -> 0 | M71: =SUM(ENERO:DICIEMBRE!M71) -> 0 | ... AU71: =SUM(ENERO:DICIEMBRE!AU71) -> 0 | AV71: =$CA71&$CB71&CC71&CD71&CE71&CF71&CG71&CH71 | CA71: =IF(AND($C71<>0,AN71=""),"* No olvide ingresar la columna Espacios Amigables /adolescentes (Digite CERO si no tiene). ",IF(AN71>$C71,"* El Número de Espacios Amigables no puede superar el Total. ","")) | CB71: =IF(AND(E71>0,OR(AO71="")),"No olvide digitar los campos *TRANS Masculino (Digite CERO si no tiene).",IF(AO71>E71,"* El Número de TRANS Masculino no puede superar el Total Mujeres. ","")) | CC71: =IF(AND(D71>0,OR(AP71="")),"No olvide digitar los campos *TRANS Femenino (Digite CERO si no tiene).",IF(AP71>$D71,"* El Número de TRANS Femenino no puede superar el Total Hombres. ","")) | CD71: =IF(AND($C71<>0,AQ71=""),"* No olvide ingresar la columna Pueblos Originarios (Digite CERO si no tiene). ",IF(AQ71>$C71,"* El Número de Pueblos Originarios no puede superar el Total. ","")) | CE71: =IF(AND($C71<>0,AR71=""),"* No olvide ingresar la columna Migrantes (Digite CERO si no tiene). ",IF(AR71>$C71,"* El Número de Migrantes no puede superar el Total. ","")) | CF71: =IF(AND(SUM(J71:M71)>0,AS71=""),"* No olvide digitar la variable 14-18 años. Si no tiene digite Cero.",IF(AS71>SUM(J71:M71),"* La variable 14-18 años no puede ser mayor al total por grupo edad de 10 a 19 años. ","")) | CG71: =IF(AND($C71<>0,AT71=""),"* No olvide ingresar la columna Niños, Niñas, Adolescentes y Jóvenes SENAME (Digite CERO si no tiene). ",IF(AT71>$C71,"* El Número de Niños, Niñas, Adolescentes y Jóvenes SENAME no puede superar el Total. ","")) | CH71: =IF(AND($C71<>0,AU71=""),"* No olvide ingresar la columna Niños, Niñas, Adolescentes y Jóvenes Mejor Niñez (Digite CERO si no tiene). ",IF(AU71>$C71,"* El Número de Niños, Niñas, Adolescentes y Jóvenes Mejor Niñez no puede superar el Total. ","")) | CJ71: =IF(AND($C71<>0,AN71=""),1,IF(AN71>$C71,1,0)) -> 0 | CK71: =IF(AND(E71>0,OR(AO71="")),1,IF(AO71>E71,1,0)) -> 0 | CL71: =IF(AND(D71>0,OR(AP71="")),1,IF(AP71>D71,1,0)) -> 0 | CM71: =IF(AND($C71<>0,AQ71=""),1,IF(AQ71>$C71,1,0)) -> 0 | CN71: =IF(AND($C71<>0,AR71=""),1,IF(AR71>$C71,1,0)) -> 0 | CO71: =IF(AND(SUM(J71:M71)>0,AS71=""),1,IF(AS71>SUM(J71:M71),1,0)) -> 0 | CP71: =IF(AND($C71<>0,AT71=""),1,IF(AT71>$C71,1,0)) -> 0 | CQ71: =IF(AND($C71<>0,AU71=""),1,IF(AU71>$C71,1,0)) -> 0
B72: Facilitador/a intercultural | C72: =SUM(D72+E72) -> 0 | D72: =SUM(J72+L72+N72+P72+R72+T72+V72+X72+Z72+AB72+AD72+AF72+AH72+AJ72+AL72) -> 0 | E72: =SUM(K72+M72+O72+Q72+S72+U72+W72+Y72+AA72+AC72+AE72+AG72+AI72+AK72+AM72) -> 0 | F72: =SUM(ENERO:DICIEMBRE!F72) -> 0 | G72: =SUM(ENERO:DICIEMBRE!G72) -> 0 | H72: =SUM(ENERO:DICIEMBRE!H72) -> 0 | I72: =SUM(ENERO:DICIEMBRE!I72) -> 0 | J72: =SUM(ENERO:DICIEMBRE!J72) -> 0 | K72: =SUM(ENERO:DICIEMBRE!K72) -> 0 | L72: =SUM(ENERO:DICIEMBRE!L72) -> 0 | M72: =SUM(ENERO:DICIEMBRE!M72) -> 0 | ... AU72: =SUM(ENERO:DICIEMBRE!AU72) -> 0 | AV72: =$CA72&$CB72&CC72&CD72&CE72&CF72&CG72&CH72 | CA72: =IF(AND($C72<>0,AN72=""),"* No olvide ingresar la columna Espacios Amigables /adolescentes (Digite CERO si no tiene). ",IF(AN72>$C72,"* El Número de Espacios Amigables no puede superar el Total. ","")) | CB72: =IF(AND(E72>0,OR(AO72="")),"No olvide digitar los campos *TRANS Masculino (Digite CERO si no tiene).",IF(AO72>E72,"* El Número de TRANS Masculino no puede superar el Total Mujeres. ","")) | CC72: =IF(AND(D72>0,OR(AP72="")),"No olvide digitar los campos *TRANS Femenino (Digite CERO si no tiene).",IF(AP72>$D72,"* El Número de TRANS Femenino no puede superar el Total Hombres. ","")) | CD72: =IF(AND($C72<>0,AQ72=""),"* No olvide ingresar la columna Pueblos Originarios (Digite CERO si no tiene). ",IF(AQ72>$C72,"* El Número de Pueblos Originarios no puede superar el Total. ","")) | CE72: =IF(AND($C72<>0,AR72=""),"* No olvide ingresar la columna Migrantes (Digite CERO si no tiene). ",IF(AR72>$C72,"* El Número de Migrantes no puede superar el Total. ","")) | CF72: =IF(AND(SUM(J72:M72)>0,AS72=""),"* No olvide digitar la variable 14-18 años. Si no tiene digite Cero.",IF(AS72>SUM(J72:M72),"* La variable 14-18 años no puede ser mayor al total por grupo edad de 10 a 19 años. ","")) | CG72: =IF(AND($C72<>0,AT72=""),"* No olvide ingresar la columna Niños, Niñas, Adolescentes y Jóvenes SENAME (Digite CERO si no tiene). ",IF(AT72>$C72,"* El Número de Niños, Niñas, Adolescentes y Jóvenes SENAME no puede superar el Total. ","")) | CH72: =IF(AND($C72<>0,AU72=""),"* No olvide ingresar la columna Niños, Niñas, Adolescentes y Jóvenes Mejor Niñez (Digite CERO si no tiene). ",IF(AU72>$C72,"* El Número de Niños, Niñas, Adolescentes y Jóvenes Mejor Niñez no puede superar el Total. ","")) | CJ72: =IF(AND($C72<>0,AN72=""),1,IF(AN72>$C72,1,0)) -> 0 | CK72: =IF(AND(E72>0,OR(AO72="")),1,IF(AO72>E72,1,0)) -> 0 | CL72: =IF(AND(D72>0,OR(AP72="")),1,IF(AP72>D72,1,0)) -> 0 | CM72: =IF(AND($C72<>0,AQ72=""),1,IF(AQ72>$C72,1,0)) -> 0 | CN72: =IF(AND($C72<>0,AR72=""),1,IF(AR72>$C72,1,0)) -> 0 | CO72: =IF(AND(SUM(J72:M72)>0,AS72=""),1,IF(AS72>SUM(J72:M72),1,0)) -> 0 | CP72: =IF(AND($C72<>0,AT72=""),1,IF(AT72>$C72,1,0)) -> 0 | CQ72: =IF(AND($C72<>0,AU72=""),1,IF(AU72>$C72,1,0)) -> 0
B73: Otro profesional | C73: =SUM(D73+E73) -> 0 | D73: =SUM(J73+L73+N73+P73+R73+T73+V73+X73+Z73+AB73+AD73+AF73+AH73+AJ73+AL73) -> 0 | E73: =SUM(K73+M73+O73+Q73+S73+U73+W73+Y73+AA73+AC73+AE73+AG73+AI73+AK73+AM73) -> 0 | F73: =SUM(ENERO:DICIEMBRE!F73) -> 0 | G73: =SUM(ENERO:DICIEMBRE!G73) -> 0 | H73: =SUM(ENERO:DICIEMBRE!H73) -> 0 | I73: =SUM(ENERO:DICIEMBRE!I73) -> 0 | J73: =SUM(ENERO:DICIEMBRE!J73) -> 0 | K73: =SUM(ENERO:DICIEMBRE!K73) -> 0 | L73: =SUM(ENERO:DICIEMBRE!L73) -> 0 | M73: =SUM(ENERO:DICIEMBRE!M73) -> 0 | ... AU73: =SUM(ENERO:DICIEMBRE!AU73) -> 0 | AV73: =$CA73&$CB73&CC73&CD73&CE73&CF73&CG73&CH73 | CA73: =IF(AND($C73<>0,AN73=""),"* No olvide ingresar la columna Espacios Amigables /adolescentes (Digite CERO si no tiene). ",IF(AN73>$C73,"* El Número de Espacios Amigables no puede superar el Total. ","")) | CB73: =IF(AND(E73>0,OR(AO73="")),"No olvide digitar los campos *TRANS Masculino (Digite CERO si no tiene).",IF(AO73>E73,"* El Número de TRANS Masculino no puede superar el Total Mujeres. ","")) | CC73: =IF(AND(D73>0,OR(AP73="")),"No olvide digitar los campos *TRANS Femenino (Digite CERO si no tiene).",IF(AP73>$D73,"* El Número de TRANS Femenino no puede superar el Total Hombres. ","")) | CD73: =IF(AND($C73<>0,AQ73=""),"* No olvide ingresar la columna Pueblos Originarios (Digite CERO si no tiene). ",IF(AQ73>$C73,"* El Número de Pueblos Originarios no puede superar el Total. ","")) | CE73: =IF(AND($C73<>0,AR73=""),"* No olvide ingresar la columna Migrantes (Digite CERO si no tiene). ",IF(AR73>$C73,"* El Número de Migrantes no puede superar el Total. ","")) | CF73: =IF(AND(SUM(J73:M73)>0,AS73=""),"* No olvide digitar la variable 14-18 años. Si no tiene digite Cero.",IF(AS73>SUM(J73:M73),"* La variable 14-18 años no puede ser mayor al total por grupo edad de 10 a 19 años. ","")) | CG73: =IF(AND($C73<>0,AT73=""),"* No olvide ingresar la columna Niños, Niñas, Adolescentes y Jóvenes SENAME (Digite CERO si no tiene). ",IF(AT73>$C73,"* El Número de Niños, Niñas, Adolescentes y Jóvenes SENAME no puede superar el Total. ","")) | CH73: =IF(AND($C73<>0,AU73=""),"* No olvide ingresar la columna Niños, Niñas, Adolescentes y Jóvenes Mejor Niñez (Digite CERO si no tiene). ",IF(AU73>$C73,"* El Número de Niños, Niñas, Adolescentes y Jóvenes Mejor Niñez no puede superar el Total. ","")) | CJ73: =IF(AND($C73<>0,AN73=""),1,IF(AN73>$C73,1,0)) -> 0 | CK73: =IF(AND(E73>0,OR(AO73="")),1,IF(AO73>E73,1,0)) -> 0 | CL73: =IF(AND(D73>0,OR(AP73="")),1,IF(AP73>D73,1,0)) -> 0 | CM73: =IF(AND($C73<>0,AQ73=""),1,IF(AQ73>$C73,1,0)) -> 0 | CN73: =IF(AND($C73<>0,AR73=""),1,IF(AR73>$C73,1,0)) -> 0 | CO73: =IF(AND(SUM(J73:M73)>0,AS73=""),1,IF(AS73>SUM(J73:M73),1,0)) -> 0 | CP73: =IF(AND($C73<>0,AT73=""),1,IF(AT73>$C73,1,0)) -> 0 | CQ73: =IF(AND($C73<>0,AU73=""),1,IF(AU73>$C73,1,0)) -> 0
A74: Prevención de la transmisión vertical del VIH (gestantes) con o sin entrega de preservativos | B74: Médico/a previo examen VIH | C74: =SUM(D74+E74) -> 11 | E74: =SUM(K74+M74+O74+Q74+S74+U74+W74+Y74+AA74+AC74) -> 11 | F74: =SUM(ENERO:DICIEMBRE!F74) -> 0 | G74: =SUM(ENERO:DICIEMBRE!G74) -> 0 | H74: =SUM(ENERO:DICIEMBRE!H74) -> 0 | I74: =SUM(ENERO:DICIEMBRE!I74) -> 0 | J74: =SUM(ENERO:DICIEMBRE!J74) -> 0 | K74: =SUM(ENERO:DICIEMBRE!K74) -> 0 | L74: =SUM(ENERO:DICIEMBRE!L74) -> 0 | M74: =SUM(ENERO:DICIEMBRE!M74) -> 1 | ... AU74: =SUM(ENERO:DICIEMBRE!AU74) -> 0 | AV74: =$CA74&$CB74&CC74&CD74&CE74&CF74&CG74&CH74 | CA74: =IF(AND($C74<>0,AN74=""),"* No olvide ingresar la columna Espacios Amigables /adolescentes (Digite CERO si no tiene). ",IF(AN74>$C74,"* El Número de Espacios Amigables no puede superar el Total. ","")) | CB74: =IF(AND(E74>0,OR(AO74="")),"No olvide digitar los campos *TRANS Masculino (Digite CERO si no tiene).",IF(AO74>E74,"* El Número de TRANS Masculino no puede superar el Total Mujeres. ","")) | CD74: =IF(AND($C74<>0,AQ74=""),"* No olvide ingresar la columna Pueblos Originarios (Digite CERO si no tiene). ",IF(AQ74>$C74,"* El Número de Pueblos Originarios no puede superar el Total. ","")) | CE74: =IF(AND($C74<>0,AR74=""),"* No olvide ingresar la columna Migrantes (Digite CERO si no tiene). ",IF(AR74>$C74,"* El Número de Migrantes no puede superar el Total. ","")) | CF74: =IF(AND(SUM(J74:M74)>0,AS74=""),"* No olvide digitar la variable 14-18 años. Si no tiene digite Cero.",IF(AS74>SUM(J74:M74),"* La variable 14-18 años no puede ser mayor al total por grupo edad de 10 a 19 años. ","")) | CG74: =IF(AND($C74<>0,AT74=""),"* No olvide ingresar la columna Niños, Niñas, Adolescentes y Jóvenes SENAME (Digite CERO si no tiene). ",IF(AT74>$C74,"* El Número de Niños, Niñas, Adolescentes y Jóvenes SENAME no puede superar el Total. ","")) | CH74: =IF(AND($C74<>0,AU74=""),"* No olvide ingresar la columna Niños, Niñas, Adolescentes y Jóvenes Mejor Niñez (Digite CERO si no tiene). ",IF(AU74>$C74,"* El Número de Niños, Niñas, Adolescentes y Jóvenes Mejor Niñez no puede superar el Total. ","")) | CJ74: =IF(AND($C74<>0,AN74=""),1,IF(AN74>$C74,1,0)) -> 0 | CK74: =IF(AND(E74>0,OR(AO74="")),1,IF(AO74>E74,1,0)) -> 0 | CM74: =IF(AND($C74<>0,AQ74=""),1,IF(AQ74>$C74,1,0)) -> 0 | CN74: =IF(AND($C74<>0,AR74=""),1,IF(AR74>$C74,1,0)) -> 0 | CO74: =IF(AND(SUM(J74:M74)>0,AS74=""),1,IF(AS74>SUM(J74:M74),1,0)) -> 0 | CP74: =IF(AND($C74<>0,AT74=""),1,IF(AT74>$C74,1,0)) -> 0 | CQ74: =IF(AND($C74<>0,AU74=""),1,IF(AU74>$C74,1,0)) -> 0
B75: Matrona/ón previo examen VIH | C75: =SUM(D75+E75) -> 71 | E75: =SUM(K75+M75+O75+Q75+S75+U75+W75+Y75+AA75+AC75) -> 71 | F75: =SUM(ENERO:DICIEMBRE!F75) -> 0 | G75: =SUM(ENERO:DICIEMBRE!G75) -> 0 | H75: =SUM(ENERO:DICIEMBRE!H75) -> 0 | I75: =SUM(ENERO:DICIEMBRE!I75) -> 0 | J75: =SUM(ENERO:DICIEMBRE!J75) -> 0 | K75: =SUM(ENERO:DICIEMBRE!K75) -> 0 | L75: =SUM(ENERO:DICIEMBRE!L75) -> 0 | M75: =SUM(ENERO:DICIEMBRE!M75) -> 7 | ... AU75: =SUM(ENERO:DICIEMBRE!AU75) -> 0 | AV75: =$CA75&$CB75&CC75&CD75&CE75&CF75&CG75&CH75 | CA75: =IF(AND($C75<>0,AN75=""),"* No olvide ingresar la columna Espacios Amigables /adolescentes (Digite CERO si no tiene). ",IF(AN75>$C75,"* El Número de Espacios Amigables no puede superar el Total. ","")) | CB75: =IF(AND(E75>0,OR(AO75="")),"No olvide digitar los campos *TRANS Masculino (Digite CERO si no tiene).",IF(AO75>E75,"* El Número de TRANS Masculino no puede superar el Total Mujeres. ","")) | CD75: =IF(AND($C75<>0,AQ75=""),"* No olvide ingresar la columna Pueblos Originarios (Digite CERO si no tiene). ",IF(AQ75>$C75,"* El Número de Pueblos Originarios no puede superar el Total. ","")) | CE75: =IF(AND($C75<>0,AR75=""),"* No olvide ingresar la columna Migrantes (Digite CERO si no tiene). ",IF(AR75>$C75,"* El Número de Migrantes no puede superar el Total. ","")) | CF75: =IF(AND(SUM(J75:M75)>0,AS75=""),"* No olvide digitar la variable 14-18 años. Si no tiene digite Cero.",IF(AS75>SUM(J75:M75),"* La variable 14-18 años no puede ser mayor al total por grupo edad de 10 a 19 años. ","")) | CG75: =IF(AND($C75<>0,AT75=""),"* No olvide ingresar la columna Niños, Niñas, Adolescentes y Jóvenes SENAME (Digite CERO si no tiene). ",IF(AT75>$C75,"* El Número de Niños, Niñas, Adolescentes y Jóvenes SENAME no puede superar el Total. ","")) | CH75: =IF(AND($C75<>0,AU75=""),"* No olvide ingresar la columna Niños, Niñas, Adolescentes y Jóvenes Mejor Niñez (Digite CERO si no tiene). ",IF(AU75>$C75,"* El Número de Niños, Niñas, Adolescentes y Jóvenes Mejor Niñez no puede superar el Total. ","")) | CJ75: =IF(AND($C75<>0,AN75=""),1,IF(AN75>$C75,1,0)) -> 0 | CK75: =IF(AND(E75>0,OR(AO75="")),1,IF(AO75>E75,1,0)) -> 0 | CM75: =IF(AND($C75<>0,AQ75=""),1,IF(AQ75>$C75,1,0)) -> 0 | CN75: =IF(AND($C75<>0,AR75=""),1,IF(AR75>$C75,1,0)) -> 0 | CO75: =IF(AND(SUM(J75:M75)>0,AS75=""),1,IF(AS75>SUM(J75:M75),1,0)) -> 0 | CP75: =IF(AND($C75<>0,AT75=""),1,IF(AT75>$C75,1,0)) -> 0 | CQ75: =IF(AND($C75<>0,AU75=""),1,IF(AU75>$C75,1,0)) -> 0
B76: Médico/a post test | C76: =SUM(D76+E76) -> 0 | E76: =SUM(K76+M76+O76+Q76+S76+U76+W76+Y76+AA76+AC76) -> 0 | F76: =SUM(ENERO:DICIEMBRE!F76) -> 0 | G76: =SUM(ENERO:DICIEMBRE!G76) -> 0 | H76: =SUM(ENERO:DICIEMBRE!H76) -> 0 | I76: =SUM(ENERO:DICIEMBRE!I76) -> 0 | J76: =SUM(ENERO:DICIEMBRE!J76) -> 0 | K76: =SUM(ENERO:DICIEMBRE!K76) -> 0 | L76: =SUM(ENERO:DICIEMBRE!L76) -> 0 | M76: =SUM(ENERO:DICIEMBRE!M76) -> 0 | ... AU76: =SUM(ENERO:DICIEMBRE!AU76) -> 0 | AV76: =$CA76&$CB76&CC76&CD76&CE76&CF76&CG76&CH76 | CA76: =IF(AND($C76<>0,AN76=""),"* No olvide ingresar la columna Espacios Amigables /adolescentes (Digite CERO si no tiene). ",IF(AN76>$C76,"* El Número de Espacios Amigables no puede superar el Total. ","")) | CB76: =IF(AND(E76>0,OR(AO76="")),"No olvide digitar los campos *TRANS Masculino (Digite CERO si no tiene).",IF(AO76>E76,"* El Número de TRANS Masculino no puede superar el Total Mujeres. ","")) | CD76: =IF(AND($C76<>0,AQ76=""),"* No olvide ingresar la columna Pueblos Originarios (Digite CERO si no tiene). ",IF(AQ76>$C76,"* El Número de Pueblos Originarios no puede superar el Total. ","")) | CE76: =IF(AND($C76<>0,AR76=""),"* No olvide ingresar la columna Migrantes (Digite CERO si no tiene). ",IF(AR76>$C76,"* El Número de Migrantes no puede superar el Total. ","")) | CF76: =IF(AND(SUM(J76:M76)>0,AS76=""),"* No olvide digitar la variable 14-18 años. Si no tiene digite Cero.",IF(AS76>SUM(J76:M76),"* La variable 14-18 años no puede ser mayor al total por grupo edad de 10 a 19 años. ","")) | CG76: =IF(AND($C76<>0,AT76=""),"* No olvide ingresar la columna Niños, Niñas, Adolescentes y Jóvenes SENAME (Digite CERO si no tiene). ",IF(AT76>$C76,"* El Número de Niños, Niñas, Adolescentes y Jóvenes SENAME no puede superar el Total. ","")) | CH76: =IF(AND($C76<>0,AU76=""),"* No olvide ingresar la columna Niños, Niñas, Adolescentes y Jóvenes Mejor Niñez (Digite CERO si no tiene). ",IF(AU76>$C76,"* El Número de Niños, Niñas, Adolescentes y Jóvenes Mejor Niñez no puede superar el Total. ","")) | CJ76: =IF(AND($C76<>0,AN76=""),1,IF(AN76>$C76,1,0)) -> 0 | CK76: =IF(AND(E76>0,OR(AO76="")),1,IF(AO76>E76,1,0)) -> 0 | CM76: =IF(AND($C76<>0,AQ76=""),1,IF(AQ76>$C76,1,0)) -> 0 | CN76: =IF(AND($C76<>0,AR76=""),1,IF(AR76>$C76,1,0)) -> 0 | CO76: =IF(AND(SUM(J76:M76)>0,AS76=""),1,IF(AS76>SUM(J76:M76),1,0)) -> 0 | CP76: =IF(AND($C76<>0,AT76=""),1,IF(AT76>$C76,1,0)) -> 0 | CQ76: =IF(AND($C76<>0,AU76=""),1,IF(AU76>$C76,1,0)) -> 0
B77: Matrón/na post test | C77: =SUM(D77+E77) -> 64 | E77: =SUM(K77+M77+O77+Q77+S77+U77+W77+Y77+AA77+AC77) -> 64 | F77: =SUM(ENERO:DICIEMBRE!F77) -> 0 | G77: =SUM(ENERO:DICIEMBRE!G77) -> 0 | H77: =SUM(ENERO:DICIEMBRE!H77) -> 0 | I77: =SUM(ENERO:DICIEMBRE!I77) -> 0 | J77: =SUM(ENERO:DICIEMBRE!J77) -> 0 | K77: =SUM(ENERO:DICIEMBRE!K77) -> 0 | L77: =SUM(ENERO:DICIEMBRE!L77) -> 0 | M77: =SUM(ENERO:DICIEMBRE!M77) -> 6 | ... AU77: =SUM(ENERO:DICIEMBRE!AU77) -> 0 | AV77: =$CA77&$CB77&CC77&CD77&CE77&CF77&CG77&CH77 | CA77: =IF(AND($C77<>0,AN77=""),"* No olvide ingresar la columna Espacios Amigables /adolescentes (Digite CERO si no tiene). ",IF(AN77>$C77,"* El Número de Espacios Amigables no puede superar el Total. ","")) | CB77: =IF(AND(E77>0,OR(AO77="")),"No olvide digitar los campos *TRANS Masculino (Digite CERO si no tiene).",IF(AO77>E77,"* El Número de TRANS Masculino no puede superar el Total Mujeres. ","")) | CD77: =IF(AND($C77<>0,AQ77=""),"* No olvide ingresar la columna Pueblos Originarios (Digite CERO si no tiene). ",IF(AQ77>$C77,"* El Número de Pueblos Originarios no puede superar el Total. ","")) | CE77: =IF(AND($C77<>0,AR77=""),"* No olvide ingresar la columna Migrantes (Digite CERO si no tiene). ",IF(AR77>$C77,"* El Número de Migrantes no puede superar el Total. ","")) | CF77: =IF(AND(SUM(J77:M77)>0,AS77=""),"* No olvide digitar la variable 14-18 años. Si no tiene digite Cero.",IF(AS77>SUM(J77:M77),"* La variable 14-18 años no puede ser mayor al total por grupo edad de 10 a 19 años. ","")) | CG77: =IF(AND($C77<>0,AT77=""),"* No olvide ingresar la columna Niños, Niñas, Adolescentes y Jóvenes SENAME (Digite CERO si no tiene). ",IF(AT77>$C77,"* El Número de Niños, Niñas, Adolescentes y Jóvenes SENAME no puede superar el Total. ","")) | CH77: =IF(AND($C77<>0,AU77=""),"* No olvide ingresar la columna Niños, Niñas, Adolescentes y Jóvenes Mejor Niñez (Digite CERO si no tiene). ",IF(AU77>$C77,"* El Número de Niños, Niñas, Adolescentes y Jóvenes Mejor Niñez no puede superar el Total. ","")) | CJ77: =IF(AND($C77<>0,AN77=""),1,IF(AN77>$C77,1,0)) -> 0 | CK77: =IF(AND(E77>0,OR(AO77="")),1,IF(AO77>E77,1,0)) -> 0 | CM77: =IF(AND($C77<>0,AQ77=""),1,IF(AQ77>$C77,1,0)) -> 0 | CN77: =IF(AND($C77<>0,AR77=""),1,IF(AR77>$C77,1,0)) -> 0 | CO77: =IF(AND(SUM(J77:M77)>0,AS77=""),1,IF(AS77>SUM(J77:M77),1,0)) -> 0 | CP77: =IF(AND($C77<>0,AT77=""),1,IF(AT77>$C77,1,0)) -> 0 | CQ77: =IF(AND($C77<>0,AU77=""),1,IF(AU77>$C77,1,0)) -> 0
B78: Facilitador/a intercultural | C78: =SUM(D78+E78) -> 0 | E78: =SUM(K78+M78+O78+Q78+S78+U78+W78+Y78+AA78+AC78) -> 0 | F78: =SUM(ENERO:DICIEMBRE!F78) -> 0 | G78: =SUM(ENERO:DICIEMBRE!G78) -> 0 | H78: =SUM(ENERO:DICIEMBRE!H78) -> 0 | I78: =SUM(ENERO:DICIEMBRE!I78) -> 0 | J78: =SUM(ENERO:DICIEMBRE!J78) -> 0 | K78: =SUM(ENERO:DICIEMBRE!K78) -> 0 | L78: =SUM(ENERO:DICIEMBRE!L78) -> 0 | M78: =SUM(ENERO:DICIEMBRE!M78) -> 0 | ... AU78: =SUM(ENERO:DICIEMBRE!AU78) -> 0 | AV78: =$CA78&$CB78&CC78&CD78&CE78&CF78&CG78&CH78 | CA78: =IF(AND($C78<>0,AN78=""),"* No olvide ingresar la columna Espacios Amigables /adolescentes (Digite CERO si no tiene). ",IF(AN78>$C78,"* El Número de Espacios Amigables no puede superar el Total. ","")) | CB78: =IF(AND(E78>0,OR(AO78="")),"No olvide digitar los campos *TRANS Masculino (Digite CERO si no tiene).",IF(AO78>E78,"* El Número de TRANS Masculino no puede superar el Total Mujeres. ","")) | CD78: =IF(AND($C78<>0,AQ78=""),"* No olvide ingresar la columna Pueblos Originarios (Digite CERO si no tiene). ",IF(AQ78>$C78,"* El Número de Pueblos Originarios no puede superar el Total. ","")) | CE78: =IF(AND($C78<>0,AR78=""),"* No olvide ingresar la columna Migrantes (Digite CERO si no tiene). ",IF(AR78>$C78,"* El Número de Migrantes no puede superar el Total. ","")) | CF78: =IF(AND(SUM(J78:M78)>0,AS78=""),"* No olvide digitar la variable 14-18 años. Si no tiene digite Cero.",IF(AS78>SUM(J78:M78),"* La variable 14-18 años no puede ser mayor al total por grupo edad de 10 a 19 años. ","")) | CG78: =IF(AND($C78<>0,AT78=""),"* No olvide ingresar la columna Niños, Niñas, Adolescentes y Jóvenes SENAME (Digite CERO si no tiene). ",IF(AT78>$C78,"* El Número de Niños, Niñas, Adolescentes y Jóvenes SENAME no puede superar el Total. ","")) | CH78: =IF(AND($C78<>0,AU78=""),"* No olvide ingresar la columna Niños, Niñas, Adolescentes y Jóvenes Mejor Niñez (Digite CERO si no tiene). ",IF(AU78>$C78,"* El Número de Niños, Niñas, Adolescentes y Jóvenes Mejor Niñez no puede superar el Total. ","")) | CJ78: =IF(AND($C78<>0,AN78=""),1,IF(AN78>$C78,1,0)) -> 0 | CK78: =IF(AND(E78>0,OR(AO78="")),1,IF(AO78>E78,1,0)) -> 0 | CM78: =IF(AND($C78<>0,AQ78=""),1,IF(AQ78>$C78,1,0)) -> 0 | CN78: =IF(AND($C78<>0,AR78=""),1,IF(AR78>$C78,1,0)) -> 0 | CO78: =IF(AND(SUM(J78:M78)>0,AS78=""),1,IF(AS78>SUM(J78:M78),1,0)) -> 0 | CP78: =IF(AND($C78<>0,AT78=""),1,IF(AT78>$C78,1,0)) -> 0 | CQ78: =IF(AND($C78<>0,AU78=""),1,IF(AU78>$C78,1,0)) -> 0
A79: Ejercicio de Derechos | B79: Médico/a | C79: =SUM(D79+E79) -> 71 | D79: =+F79+H79+J79+L79+N79+P79+R79+T79+V79+X79+Z79+AB79+AD79+AF79+AH79+AJ79+AL79 -> 47 | E79: =+G79+I79+K79+M79+O79+Q79+S79+U79+W79+Y79+AA79+AC79+AE79+AG79+AI79+AK79+AM79 -> 24 | F79: =SUM(ENERO:DICIEMBRE!F79) -> 0 | G79: =SUM(ENERO:DICIEMBRE!G79) -> 0 | H79: =SUM(ENERO:DICIEMBRE!H79) -> 0 | I79: =SUM(ENERO:DICIEMBRE!I79) -> 0 | J79: =SUM(ENERO:DICIEMBRE!J79) -> 0 | K79: =SUM(ENERO:DICIEMBRE!K79) -> 0 | L79: =SUM(ENERO:DICIEMBRE!L79) -> 0 | M79: =SUM(ENERO:DICIEMBRE!M79) -> 0 | ... AU79: =SUM(ENERO:DICIEMBRE!AU79) -> 0 | AV79: =$CA79&$CB79&CC79&CD79&CE79&CF79&CG79&CH79 | CA79: =IF(AND($C79<>0,AN79=""),"* No olvide ingresar la columna Espacios Amigables /adolescentes (Digite CERO si no tiene). ",IF(AN79>$C79,"* El Número de Espacios Amigables no puede superar el Total. ","")) | CB79: =IF(AND(E79>0,OR(AO79="")),"No olvide digitar los campos *TRANS Masculino (Digite CERO si no tiene).",IF(AO79>E79,"* El Número de TRANS Masculino no puede superar el Total Mujeres. ","")) | CC79: =IF(AND(D79>0,OR(AP79="")),"No olvide digitar los campos *TRANS Femenino (Digite CERO si no tiene).",IF(AP79>$D79,"* El Número de TRANS Femenino no puede superar el Total Hombres. ","")) | CD79: =IF(AND($C79<>0,AQ79=""),"* No olvide ingresar la columna Pueblos Originarios (Digite CERO si no tiene). ",IF(AQ79>$C79,"* El Número de Pueblos Originarios no puede superar el Total. ","")) | CE79: =IF(AND($C79<>0,AR79=""),"* No olvide ingresar la columna Migrantes (Digite CERO si no tiene). ",IF(AR79>$C79,"* El Número de Migrantes no puede superar el Total. ","")) | CF79: =IF(AND(SUM(J79:M79)>0,AS79=""),"* No olvide digitar la variable 14-18 años. Si no tiene digite Cero.",IF(AS79>SUM(J79:M79),"* La variable 14-18 años no puede ser mayor al total por grupo edad de 10 a 19 años. ","")) | CG79: =IF(AND($C79<>0,AT79=""),"* No olvide ingresar la columna Niños, Niñas, Adolescentes y Jóvenes SENAME (Digite CERO si no tiene). ",IF(AT79>$C79,"* El Número de Niños, Niñas, Adolescentes y Jóvenes SENAME no puede superar el Total. ","")) | CH79: =IF(AND($C79<>0,AU79=""),"* No olvide ingresar la columna Niños, Niñas, Adolescentes y Jóvenes Mejor Niñez (Digite CERO si no tiene). ",IF(AU79>$C79,"* El Número de Niños, Niñas, Adolescentes y Jóvenes Mejor Niñez no puede superar el Total. ","")) | CJ79: =IF(AND($C79<>0,AN79=""),1,IF(AN79>$C79,1,0)) -> 0 | CK79: =IF(AND(E79>0,OR(AO79="")),1,IF(AO79>E79,1,0)) -> 0 | CL79: =IF(AND(D79>0,OR(AP79="")),1,IF(AP79>D79,1,0)) -> 0 | CM79: =IF(AND($C79<>0,AQ79=""),1,IF(AQ79>$C79,1,0)) -> 0 | CN79: =IF(AND($C79<>0,AR79=""),1,IF(AR79>$C79,1,0)) -> 0 | CO79: =IF(AND(SUM(J79:M79)>0,AS79=""),1,IF(AS79>SUM(J79:M79),1,0)) -> 0 | CP79: =IF(AND($C79<>0,AT79=""),1,IF(AT79>$C79,1,0)) -> 0 | CQ79: =IF(AND($C79<>0,AU79=""),1,IF(AU79>$C79,1,0)) -> 0
B80: Enfermera/o | C80: =SUM(D80+E80) -> 0 | D80: =+F80+H80+J80+L80+N80+P80+R80+T80+V80+X80+Z80+AB80+AD80+AF80+AH80+AJ80+AL80 -> 0 | E80: =+G80+I80+K80+M80+O80+Q80+S80+U80+W80+Y80+AA80+AC80+AE80+AG80+AI80+AK80+AM80 -> 0 | F80: =SUM(ENERO:DICIEMBRE!F80) -> 0 | G80: =SUM(ENERO:DICIEMBRE!G80) -> 0 | H80: =SUM(ENERO:DICIEMBRE!H80) -> 0 | I80: =SUM(ENERO:DICIEMBRE!I80) -> 0 | J80: =SUM(ENERO:DICIEMBRE!J80) -> 0 | K80: =SUM(ENERO:DICIEMBRE!K80) -> 0 | L80: =SUM(ENERO:DICIEMBRE!L80) -> 0 | M80: =SUM(ENERO:DICIEMBRE!M80) -> 0 | ... AU80: =SUM(ENERO:DICIEMBRE!AU80) -> 0 | AV80: =$CA80&$CB80&CC80&CD80&CE80&CF80&CG80&CH80 | CA80: =IF(AND($C80<>0,AN80=""),"* No olvide ingresar la columna Espacios Amigables /adolescentes (Digite CERO si no tiene). ",IF(AN80>$C80,"* El Número de Espacios Amigables no puede superar el Total. ","")) | CB80: =IF(AND(E80>0,OR(AO80="")),"No olvide digitar los campos *TRANS Masculino (Digite CERO si no tiene).",IF(AO80>E80,"* El Número de TRANS Masculino no puede superar el Total Mujeres. ","")) | CC80: =IF(AND(D80>0,OR(AP80="")),"No olvide digitar los campos *TRANS Femenino (Digite CERO si no tiene).",IF(AP80>$D80,"* El Número de TRANS Femenino no puede superar el Total Hombres. ","")) | CD80: =IF(AND($C80<>0,AQ80=""),"* No olvide ingresar la columna Pueblos Originarios (Digite CERO si no tiene). ",IF(AQ80>$C80,"* El Número de Pueblos Originarios no puede superar el Total. ","")) | CE80: =IF(AND($C80<>0,AR80=""),"* No olvide ingresar la columna Migrantes (Digite CERO si no tiene). ",IF(AR80>$C80,"* El Número de Migrantes no puede superar el Total. ","")) | CF80: =IF(AND(SUM(J80:M80)>0,AS80=""),"* No olvide digitar la variable 14-18 años. Si no tiene digite Cero.",IF(AS80>SUM(J80:M80),"* La variable 14-18 años no puede ser mayor al total por grupo edad de 10 a 19 años. ","")) | CG80: =IF(AND($C80<>0,AT80=""),"* No olvide ingresar la columna Niños, Niñas, Adolescentes y Jóvenes SENAME (Digite CERO si no tiene). ",IF(AT80>$C80,"* El Número de Niños, Niñas, Adolescentes y Jóvenes SENAME no puede superar el Total. ","")) | CH80: =IF(AND($C80<>0,AU80=""),"* No olvide ingresar la columna Niños, Niñas, Adolescentes y Jóvenes Mejor Niñez (Digite CERO si no tiene). ",IF(AU80>$C80,"* El Número de Niños, Niñas, Adolescentes y Jóvenes Mejor Niñez no puede superar el Total. ","")) | CJ80: =IF(AND($C80<>0,AN80=""),1,IF(AN80>$C80,1,0)) -> 0 | CK80: =IF(AND(E80>0,OR(AO80="")),1,IF(AO80>E80,1,0)) -> 0 | CL80: =IF(AND(D80>0,OR(AP80="")),1,IF(AP80>D80,1,0)) -> 0 | CM80: =IF(AND($C80<>0,AQ80=""),1,IF(AQ80>$C80,1,0)) -> 0 | CN80: =IF(AND($C80<>0,AR80=""),1,IF(AR80>$C80,1,0)) -> 0 | CO80: =IF(AND(SUM(J80:M80)>0,AS80=""),1,IF(AS80>SUM(J80:M80),1,0)) -> 0 | CP80: =IF(AND($C80<>0,AT80=""),1,IF(AT80>$C80,1,0)) -> 0 | CQ80: =IF(AND($C80<>0,AU80=""),1,IF(AU80>$C80,1,0)) -> 0
B81: Matrona/ón | C81: =SUM(D81+E81) -> 480 | D81: =+F81+H81+J81+L81+N81+P81+R81+T81+V81+X81+Z81+AB81+AD81+AF81+AH81+AJ81+AL81 -> 365 | E81: =+G81+I81+K81+M81+O81+Q81+S81+U81+W81+Y81+AA81+AC81+AE81+AG81+AI81+AK81+AM81 -> 115 | F81: =SUM(ENERO:DICIEMBRE!F81) -> 0 | G81: =SUM(ENERO:DICIEMBRE!G81) -> 0 | H81: =SUM(ENERO:DICIEMBRE!H81) -> 0 | I81: =SUM(ENERO:DICIEMBRE!I81) -> 0 | J81: =SUM(ENERO:DICIEMBRE!J81) -> 0 | K81: =SUM(ENERO:DICIEMBRE!K81) -> 0 | L81: =SUM(ENERO:DICIEMBRE!L81) -> 0 | M81: =SUM(ENERO:DICIEMBRE!M81) -> 0 | ... AU81: =SUM(ENERO:DICIEMBRE!AU81) -> 0 | AV81: =$CA81&$CB81&CC81&CD81&CE81&CF81&CG81&CH81 | CA81: =IF(AND($C81<>0,AN81=""),"* No olvide ingresar la columna Espacios Amigables /adolescentes (Digite CERO si no tiene). ",IF(AN81>$C81,"* El Número de Espacios Amigables no puede superar el Total. ","")) | CB81: =IF(AND(E81>0,OR(AO81="")),"No olvide digitar los campos *TRANS Masculino (Digite CERO si no tiene).",IF(AO81>E81,"* El Número de TRANS Masculino no puede superar el Total Mujeres. ","")) | CC81: =IF(AND(D81>0,OR(AP81="")),"No olvide digitar los campos *TRANS Femenino (Digite CERO si no tiene).",IF(AP81>$D81,"* El Número de TRANS Femenino no puede superar el Total Hombres. ","")) | CD81: =IF(AND($C81<>0,AQ81=""),"* No olvide ingresar la columna Pueblos Originarios (Digite CERO si no tiene). ",IF(AQ81>$C81,"* El Número de Pueblos Originarios no puede superar el Total. ","")) | CE81: =IF(AND($C81<>0,AR81=""),"* No olvide ingresar la columna Migrantes (Digite CERO si no tiene). ",IF(AR81>$C81,"* El Número de Migrantes no puede superar el Total. ","")) | CF81: =IF(AND(SUM(J81:M81)>0,AS81=""),"* No olvide digitar la variable 14-18 años. Si no tiene digite Cero.",IF(AS81>SUM(J81:M81),"* La variable 14-18 años no puede ser mayor al total por grupo edad de 10 a 19 años. ","")) | CG81: =IF(AND($C81<>0,AT81=""),"* No olvide ingresar la columna Niños, Niñas, Adolescentes y Jóvenes SENAME (Digite CERO si no tiene). ",IF(AT81>$C81,"* El Número de Niños, Niñas, Adolescentes y Jóvenes SENAME no puede superar el Total. ","")) | CH81: =IF(AND($C81<>0,AU81=""),"* No olvide ingresar la columna Niños, Niñas, Adolescentes y Jóvenes Mejor Niñez (Digite CERO si no tiene). ",IF(AU81>$C81,"* El Número de Niños, Niñas, Adolescentes y Jóvenes Mejor Niñez no puede superar el Total. ","")) | CJ81: =IF(AND($C81<>0,AN81=""),1,IF(AN81>$C81,1,0)) -> 0 | CK81: =IF(AND(E81>0,OR(AO81="")),1,IF(AO81>E81,1,0)) -> 0 | CL81: =IF(AND(D81>0,OR(AP81="")),1,IF(AP81>D81,1,0)) -> 0 | CM81: =IF(AND($C81<>0,AQ81=""),1,IF(AQ81>$C81,1,0)) -> 0 | CN81: =IF(AND($C81<>0,AR81=""),1,IF(AR81>$C81,1,0)) -> 0 | CO81: =IF(AND(SUM(J81:M81)>0,AS81=""),1,IF(AS81>SUM(J81:M81),1,0)) -> 0 | CP81: =IF(AND($C81<>0,AT81=""),1,IF(AT81>$C81,1,0)) -> 0 | CQ81: =IF(AND($C81<>0,AU81=""),1,IF(AU81>$C81,1,0)) -> 0
B82: Nutricionista | C82: =SUM(D82+E82) -> 0 | D82: =+F82+H82+J82+L82+N82+P82+R82+T82+V82+X82+Z82+AB82+AD82+AF82+AH82+AJ82+AL82 -> 0 | E82: =+G82+I82+K82+M82+O82+Q82+S82+U82+W82+Y82+AA82+AC82+AE82+AG82+AI82+AK82+AM82 -> 0 | F82: =SUM(ENERO:DICIEMBRE!F82) -> 0 | G82: =SUM(ENERO:DICIEMBRE!G82) -> 0 | H82: =SUM(ENERO:DICIEMBRE!H82) -> 0 | I82: =SUM(ENERO:DICIEMBRE!I82) -> 0 | J82: =SUM(ENERO:DICIEMBRE!J82) -> 0 | K82: =SUM(ENERO:DICIEMBRE!K82) -> 0 | L82: =SUM(ENERO:DICIEMBRE!L82) -> 0 | M82: =SUM(ENERO:DICIEMBRE!M82) -> 0 | ... AU82: =SUM(ENERO:DICIEMBRE!AU82) -> 0 | AV82: =$CA82&$CB82&CC82&CD82&CE82&CF82&CG82&CH82 | CA82: =IF(AND($C82<>0,AN82=""),"* No olvide ingresar la columna Espacios Amigables /adolescentes (Digite CERO si no tiene). ",IF(AN82>$C82,"* El Número de Espacios Amigables no puede superar el Total. ","")) | CB82: =IF(AND(E82>0,OR(AO82="")),"No olvide digitar los campos *TRANS Masculino (Digite CERO si no tiene).",IF(AO82>E82,"* El Número de TRANS Masculino no puede superar el Total Mujeres. ","")) | CC82: =IF(AND(D82>0,OR(AP82="")),"No olvide digitar los campos *TRANS Femenino (Digite CERO si no tiene).",IF(AP82>$D82,"* El Número de TRANS Femenino no puede superar el Total Hombres. ","")) | CD82: =IF(AND($C82<>0,AQ82=""),"* No olvide ingresar la columna Pueblos Originarios (Digite CERO si no tiene). ",IF(AQ82>$C82,"* El Número de Pueblos Originarios no puede superar el Total. ","")) | CE82: =IF(AND($C82<>0,AR82=""),"* No olvide ingresar la columna Migrantes (Digite CERO si no tiene). ",IF(AR82>$C82,"* El Número de Migrantes no puede superar el Total. ","")) | CF82: =IF(AND(SUM(J82:M82)>0,AS82=""),"* No olvide digitar la variable 14-18 años. Si no tiene digite Cero.",IF(AS82>SUM(J82:M82),"* La variable 14-18 años no puede ser mayor al total por grupo edad de 10 a 19 años. ","")) | CG82: =IF(AND($C82<>0,AT82=""),"* No olvide ingresar la columna Niños, Niñas, Adolescentes y Jóvenes SENAME (Digite CERO si no tiene). ",IF(AT82>$C82,"* El Número de Niños, Niñas, Adolescentes y Jóvenes SENAME no puede superar el Total. ","")) | CH82: =IF(AND($C82<>0,AU82=""),"* No olvide ingresar la columna Niños, Niñas, Adolescentes y Jóvenes Mejor Niñez (Digite CERO si no tiene). ",IF(AU82>$C82,"* El Número de Niños, Niñas, Adolescentes y Jóvenes Mejor Niñez no puede superar el Total. ","")) | CJ82: =IF(AND($C82<>0,AN82=""),1,IF(AN82>$C82,1,0)) -> 0 | CK82: =IF(AND(E82>0,OR(AO82="")),1,IF(AO82>E82,1,0)) -> 0 | CL82: =IF(AND(D82>0,OR(AP82="")),1,IF(AP82>D82,1,0)) -> 0 | CM82: =IF(AND($C82<>0,AQ82=""),1,IF(AQ82>$C82,1,0)) -> 0 | CN82: =IF(AND($C82<>0,AR82=""),1,IF(AR82>$C82,1,0)) -> 0 | CO82: =IF(AND(SUM(J82:M82)>0,AS82=""),1,IF(AS82>SUM(J82:M82),1,0)) -> 0 | CP82: =IF(AND($C82<>0,AT82=""),1,IF(AT82>$C82,1,0)) -> 0 | CQ82: =IF(AND($C82<>0,AU82=""),1,IF(AU82>$C82,1,0)) -> 0
B83: Trabajador/a Social | C83: =SUM(D83+E83) -> 0 | D83: =+F83+H83+J83+L83+N83+P83+R83+T83+V83+X83+Z83+AB83+AD83+AF83+AH83+AJ83+AL83 -> 0 | E83: =+G83+I83+K83+M83+O83+Q83+S83+U83+W83+Y83+AA83+AC83+AE83+AG83+AI83+AK83+AM83 -> 0 | F83: =SUM(ENERO:DICIEMBRE!F83) -> 0 | G83: =SUM(ENERO:DICIEMBRE!G83) -> 0 | H83: =SUM(ENERO:DICIEMBRE!H83) -> 0 | I83: =SUM(ENERO:DICIEMBRE!I83) -> 0 | J83: =SUM(ENERO:DICIEMBRE!J83) -> 0 | K83: =SUM(ENERO:DICIEMBRE!K83) -> 0 | L83: =SUM(ENERO:DICIEMBRE!L83) -> 0 | M83: =SUM(ENERO:DICIEMBRE!M83) -> 0 | ... AU83: =SUM(ENERO:DICIEMBRE!AU83) -> 0 | AV83: =$CA83&$CB83&CC83&CD83&CE83&CF83&CG83&CH83 | CA83: =IF(AND($C83<>0,AN83=""),"* No olvide ingresar la columna Espacios Amigables /adolescentes (Digite CERO si no tiene). ",IF(AN83>$C83,"* El Número de Espacios Amigables no puede superar el Total. ","")) | CB83: =IF(AND(E83>0,OR(AO83="")),"No olvide digitar los campos *TRANS Masculino (Digite CERO si no tiene).",IF(AO83>E83,"* El Número de TRANS Masculino no puede superar el Total Mujeres. ","")) | CC83: =IF(AND(D83>0,OR(AP83="")),"No olvide digitar los campos *TRANS Femenino (Digite CERO si no tiene).",IF(AP83>$D83,"* El Número de TRANS Femenino no puede superar el Total Hombres. ","")) | CD83: =IF(AND($C83<>0,AQ83=""),"* No olvide ingresar la columna Pueblos Originarios (Digite CERO si no tiene). ",IF(AQ83>$C83,"* El Número de Pueblos Originarios no puede superar el Total. ","")) | CE83: =IF(AND($C83<>0,AR83=""),"* No olvide ingresar la columna Migrantes (Digite CERO si no tiene). ",IF(AR83>$C83,"* El Número de Migrantes no puede superar el Total. ","")) | CF83: =IF(AND(SUM(J83:M83)>0,AS83=""),"* No olvide digitar la variable 14-18 años. Si no tiene digite Cero.",IF(AS83>SUM(J83:M83),"* La variable 14-18 años no puede ser mayor al total por grupo edad de 10 a 19 años. ","")) | CG83: =IF(AND($C83<>0,AT83=""),"* No olvide ingresar la columna Niños, Niñas, Adolescentes y Jóvenes SENAME (Digite CERO si no tiene). ",IF(AT83>$C83,"* El Número de Niños, Niñas, Adolescentes y Jóvenes SENAME no puede superar el Total. ","")) | CH83: =IF(AND($C83<>0,AU83=""),"* No olvide ingresar la columna Niños, Niñas, Adolescentes y Jóvenes Mejor Niñez (Digite CERO si no tiene). ",IF(AU83>$C83,"* El Número de Niños, Niñas, Adolescentes y Jóvenes Mejor Niñez no puede superar el Total. ","")) | CJ83: =IF(AND($C83<>0,AN83=""),1,IF(AN83>$C83,1,0)) -> 0 | CK83: =IF(AND(E83>0,OR(AO83="")),1,IF(AO83>E83,1,0)) -> 0 | CL83: =IF(AND(D83>0,OR(AP83="")),1,IF(AP83>D83,1,0)) -> 0 | CM83: =IF(AND($C83<>0,AQ83=""),1,IF(AQ83>$C83,1,0)) -> 0 | CN83: =IF(AND($C83<>0,AR83=""),1,IF(AR83>$C83,1,0)) -> 0 | CO83: =IF(AND(SUM(J83:M83)>0,AS83=""),1,IF(AS83>SUM(J83:M83),1,0)) -> 0 | CP83: =IF(AND($C83<>0,AT83=""),1,IF(AT83>$C83,1,0)) -> 0 | CQ83: =IF(AND($C83<>0,AU83=""),1,IF(AU83>$C83,1,0)) -> 0
B84: Psicólogo/a | C84: =SUM(D84+E84) -> 0 | D84: =+F84+H84+J84+L84+N84+P84+R84+T84+V84+X84+Z84+AB84+AD84+AF84+AH84+AJ84+AL84 -> 0 | E84: =+G84+I84+K84+M84+O84+Q84+S84+U84+W84+Y84+AA84+AC84+AE84+AG84+AI84+AK84+AM84 -> 0 | F84: =SUM(ENERO:DICIEMBRE!F84) -> 0 | G84: =SUM(ENERO:DICIEMBRE!G84) -> 0 | H84: =SUM(ENERO:DICIEMBRE!H84) -> 0 | I84: =SUM(ENERO:DICIEMBRE!I84) -> 0 | J84: =SUM(ENERO:DICIEMBRE!J84) -> 0 | K84: =SUM(ENERO:DICIEMBRE!K84) -> 0 | L84: =SUM(ENERO:DICIEMBRE!L84) -> 0 | M84: =SUM(ENERO:DICIEMBRE!M84) -> 0 | ... AU84: =SUM(ENERO:DICIEMBRE!AU84) -> 0 | AV84: =$CA84&$CB84&CC84&CD84&CE84&CF84&CG84&CH84 | CA84: =IF(AND($C84<>0,AN84=""),"* No olvide ingresar la columna Espacios Amigables /adolescentes (Digite CERO si no tiene). ",IF(AN84>$C84,"* El Número de Espacios Amigables no puede superar el Total. ","")) | CB84: =IF(AND(E84>0,OR(AO84="")),"No olvide digitar los campos *TRANS Masculino (Digite CERO si no tiene).",IF(AO84>E84,"* El Número de TRANS Masculino no puede superar el Total Mujeres. ","")) | CC84: =IF(AND(D84>0,OR(AP84="")),"No olvide digitar los campos *TRANS Femenino (Digite CERO si no tiene).",IF(AP84>$D84,"* El Número de TRANS Femenino no puede superar el Total Hombres. ","")) | CD84: =IF(AND($C84<>0,AQ84=""),"* No olvide ingresar la columna Pueblos Originarios (Digite CERO si no tiene). ",IF(AQ84>$C84,"* El Número de Pueblos Originarios no puede superar el Total. ","")) | CE84: =IF(AND($C84<>0,AR84=""),"* No olvide ingresar la columna Migrantes (Digite CERO si no tiene). ",IF(AR84>$C84,"* El Número de Migrantes no puede superar el Total. ","")) | CF84: =IF(AND(SUM(J84:M84)>0,AS84=""),"* No olvide digitar la variable 14-18 años. Si no tiene digite Cero.",IF(AS84>SUM(J84:M84),"* La variable 14-18 años no puede ser mayor al total por grupo edad de 10 a 19 años. ","")) | CG84: =IF(AND($C84<>0,AT84=""),"* No olvide ingresar la columna Niños, Niñas, Adolescentes y Jóvenes SENAME (Digite CERO si no tiene). ",IF(AT84>$C84,"* El Número de Niños, Niñas, Adolescentes y Jóvenes SENAME no puede superar el Total. ","")) | CH84: =IF(AND($C84<>0,AU84=""),"* No olvide ingresar la columna Niños, Niñas, Adolescentes y Jóvenes Mejor Niñez (Digite CERO si no tiene). ",IF(AU84>$C84,"* El Número de Niños, Niñas, Adolescentes y Jóvenes Mejor Niñez no puede superar el Total. ","")) | CJ84: =IF(AND($C84<>0,AN84=""),1,IF(AN84>$C84,1,0)) -> 0 | CK84: =IF(AND(E84>0,OR(AO84="")),1,IF(AO84>E84,1,0)) -> 0 | CL84: =IF(AND(D84>0,OR(AP84="")),1,IF(AP84>D84,1,0)) -> 0 | CM84: =IF(AND($C84<>0,AQ84=""),1,IF(AQ84>$C84,1,0)) -> 0 | CN84: =IF(AND($C84<>0,AR84=""),1,IF(AR84>$C84,1,0)) -> 0 | CO84: =IF(AND(SUM(J84:M84)>0,AS84=""),1,IF(AS84>SUM(J84:M84),1,0)) -> 0 | CP84: =IF(AND($C84<>0,AT84=""),1,IF(AT84>$C84,1,0)) -> 0 | CQ84: =IF(AND($C84<>0,AU84=""),1,IF(AU84>$C84,1,0)) -> 0
B85: Kinesiólogo/a | C85: =SUM(D85+E85) -> 0 | D85: =+F85+H85+J85+L85+N85+P85+R85+T85+V85+X85+Z85+AB85+AD85+AF85+AH85+AJ85+AL85 -> 0 | E85: =+G85+I85+K85+M85+O85+Q85+S85+U85+W85+Y85+AA85+AC85+AE85+AG85+AI85+AK85+AM85 -> 0 | F85: =SUM(ENERO:DICIEMBRE!F85) -> 0 | G85: =SUM(ENERO:DICIEMBRE!G85) -> 0 | H85: =SUM(ENERO:DICIEMBRE!H85) -> 0 | I85: =SUM(ENERO:DICIEMBRE!I85) -> 0 | J85: =SUM(ENERO:DICIEMBRE!J85) -> 0 | K85: =SUM(ENERO:DICIEMBRE!K85) -> 0 | L85: =SUM(ENERO:DICIEMBRE!L85) -> 0 | M85: =SUM(ENERO:DICIEMBRE!M85) -> 0 | ... AU85: =SUM(ENERO:DICIEMBRE!AU85) -> 0 | AV85: =$CA85&$CB85&CC85&CD85&CE85&CF85&CG85&CH85 | CA85: =IF(AND($C85<>0,AN85=""),"* No olvide ingresar la columna Espacios Amigables /adolescentes (Digite CERO si no tiene). ",IF(AN85>$C85,"* El Número de Espacios Amigables no puede superar el Total. ","")) | CB85: =IF(AND(E85>0,OR(AO85="")),"No olvide digitar los campos *TRANS Masculino (Digite CERO si no tiene).",IF(AO85>E85,"* El Número de TRANS Masculino no puede superar el Total Mujeres. ","")) | CC85: =IF(AND(D85>0,OR(AP85="")),"No olvide digitar los campos *TRANS Femenino (Digite CERO si no tiene).",IF(AP85>$D85,"* El Número de TRANS Femenino no puede superar el Total Hombres. ","")) | CD85: =IF(AND($C85<>0,AQ85=""),"* No olvide ingresar la columna Pueblos Originarios (Digite CERO si no tiene). ",IF(AQ85>$C85,"* El Número de Pueblos Originarios no puede superar el Total. ","")) | CE85: =IF(AND($C85<>0,AR85=""),"* No olvide ingresar la columna Migrantes (Digite CERO si no tiene). ",IF(AR85>$C85,"* El Número de Migrantes no puede superar el Total. ","")) | CF85: =IF(AND(SUM(J85:M85)>0,AS85=""),"* No olvide digitar la variable 14-18 años. Si no tiene digite Cero.",IF(AS85>SUM(J85:M85),"* La variable 14-18 años no puede ser mayor al total por grupo edad de 10 a 19 años. ","")) | CG85: =IF(AND($C85<>0,AT85=""),"* No olvide ingresar la columna Niños, Niñas, Adolescentes y Jóvenes SENAME (Digite CERO si no tiene). ",IF(AT85>$C85,"* El Número de Niños, Niñas, Adolescentes y Jóvenes SENAME no puede superar el Total. ","")) | CH85: =IF(AND($C85<>0,AU85=""),"* No olvide ingresar la columna Niños, Niñas, Adolescentes y Jóvenes Mejor Niñez (Digite CERO si no tiene). ",IF(AU85>$C85,"* El Número de Niños, Niñas, Adolescentes y Jóvenes Mejor Niñez no puede superar el Total. ","")) | CJ85: =IF(AND($C85<>0,AN85=""),1,IF(AN85>$C85,1,0)) -> 0 | CK85: =IF(AND(E85>0,OR(AO85="")),1,IF(AO85>E85,1,0)) -> 0 | CL85: =IF(AND(D85>0,OR(AP85="")),1,IF(AP85>D85,1,0)) -> 0 | CM85: =IF(AND($C85<>0,AQ85=""),1,IF(AQ85>$C85,1,0)) -> 0 | CN85: =IF(AND($C85<>0,AR85=""),1,IF(AR85>$C85,1,0)) -> 0 | CO85: =IF(AND(SUM(J85:M85)>0,AS85=""),1,IF(AS85>SUM(J85:M85),1,0)) -> 0 | CP85: =IF(AND($C85<>0,AT85=""),1,IF(AT85>$C85,1,0)) -> 0 | CQ85: =IF(AND($C85<>0,AU85=""),1,IF(AU85>$C85,1,0)) -> 0
B86: Terapeuta ocupacional | C86: =SUM(D86+E86) -> 0 | D86: =+F86+H86+J86+L86+N86+P86+R86+T86+V86+X86+Z86+AB86+AD86+AF86+AH86+AJ86+AL86 -> 0 | E86: =+G86+I86+K86+M86+O86+Q86+S86+U86+W86+Y86+AA86+AC86+AE86+AG86+AI86+AK86+AM86 -> 0 | F86: =SUM(ENERO:DICIEMBRE!F86) -> 0 | G86: =SUM(ENERO:DICIEMBRE!G86) -> 0 | H86: =SUM(ENERO:DICIEMBRE!H86) -> 0 | I86: =SUM(ENERO:DICIEMBRE!I86) -> 0 | J86: =SUM(ENERO:DICIEMBRE!J86) -> 0 | K86: =SUM(ENERO:DICIEMBRE!K86) -> 0 | L86: =SUM(ENERO:DICIEMBRE!L86) -> 0 | M86: =SUM(ENERO:DICIEMBRE!M86) -> 0 | ... AU86: =SUM(ENERO:DICIEMBRE!AU86) -> 0 | AV86: =$CA86&$CB86&CC86&CD86&CE86&CF86&CG86&CH86 | CA86: =IF(AND($C86<>0,AN86=""),"* No olvide ingresar la columna Espacios Amigables /adolescentes (Digite CERO si no tiene). ",IF(AN86>$C86,"* El Número de Espacios Amigables no puede superar el Total. ","")) | CB86: =IF(AND(E86>0,OR(AO86="")),"No olvide digitar los campos *TRANS Masculino (Digite CERO si no tiene).",IF(AO86>E86,"* El Número de TRANS Masculino no puede superar el Total Mujeres. ","")) | CC86: =IF(AND(D86>0,OR(AP86="")),"No olvide digitar los campos *TRANS Femenino (Digite CERO si no tiene).",IF(AP86>$D86,"* El Número de TRANS Femenino no puede superar el Total Hombres. ","")) | CD86: =IF(AND($C86<>0,AQ86=""),"* No olvide ingresar la columna Pueblos Originarios (Digite CERO si no tiene). ",IF(AQ86>$C86,"* El Número de Pueblos Originarios no puede superar el Total. ","")) | CE86: =IF(AND($C86<>0,AR86=""),"* No olvide ingresar la columna Migrantes (Digite CERO si no tiene). ",IF(AR86>$C86,"* El Número de Migrantes no puede superar el Total. ","")) | CF86: =IF(AND(SUM(J86:M86)>0,AS86=""),"* No olvide digitar la variable 14-18 años. Si no tiene digite Cero.",IF(AS86>SUM(J86:M86),"* La variable 14-18 años no puede ser mayor al total por grupo edad de 10 a 19 años. ","")) | CG86: =IF(AND($C86<>0,AT86=""),"* No olvide ingresar la columna Niños, Niñas, Adolescentes y Jóvenes SENAME (Digite CERO si no tiene). ",IF(AT86>$C86,"* El Número de Niños, Niñas, Adolescentes y Jóvenes SENAME no puede superar el Total. ","")) | CH86: =IF(AND($C86<>0,AU86=""),"* No olvide ingresar la columna Niños, Niñas, Adolescentes y Jóvenes Mejor Niñez (Digite CERO si no tiene). ",IF(AU86>$C86,"* El Número de Niños, Niñas, Adolescentes y Jóvenes Mejor Niñez no puede superar el Total. ","")) | CJ86: =IF(AND($C86<>0,AN86=""),1,IF(AN86>$C86,1,0)) -> 0 | CK86: =IF(AND(E86>0,OR(AO86="")),1,IF(AO86>E86,1,0)) -> 0 | CL86: =IF(AND(D86>0,OR(AP86="")),1,IF(AP86>D86,1,0)) -> 0 | CM86: =IF(AND($C86<>0,AQ86=""),1,IF(AQ86>$C86,1,0)) -> 0 | CN86: =IF(AND($C86<>0,AR86=""),1,IF(AR86>$C86,1,0)) -> 0 | CO86: =IF(AND(SUM(J86:M86)>0,AS86=""),1,IF(AS86>SUM(J86:M86),1,0)) -> 0 | CP86: =IF(AND($C86<>0,AT86=""),1,IF(AT86>$C86,1,0)) -> 0 | CQ86: =IF(AND($C86<>0,AU86=""),1,IF(AU86>$C86,1,0)) -> 0
B87: Otro profesional | C87: =SUM(D87+E87) -> 0 | D87: =+F87+H87+J87+L87+N87+P87+R87+T87+V87+X87+Z87+AB87+AD87+AF87+AH87+AJ87+AL87 -> 0 | E87: =+G87+I87+K87+M87+O87+Q87+S87+U87+W87+Y87+AA87+AC87+AE87+AG87+AI87+AK87+AM87 -> 0 | F87: =SUM(ENERO:DICIEMBRE!F87) -> 0 | G87: =SUM(ENERO:DICIEMBRE!G87) -> 0 | H87: =SUM(ENERO:DICIEMBRE!H87) -> 0 | I87: =SUM(ENERO:DICIEMBRE!I87) -> 0 | J87: =SUM(ENERO:DICIEMBRE!J87) -> 0 | K87: =SUM(ENERO:DICIEMBRE!K87) -> 0 | L87: =SUM(ENERO:DICIEMBRE!L87) -> 0 | M87: =SUM(ENERO:DICIEMBRE!M87) -> 0 | ... AU87: =SUM(ENERO:DICIEMBRE!AU87) -> 0 | AV87: =$CA87&$CB87&CC87&CD87&CE87&CF87&CG87&CH87 | CA87: =IF(AND($C87<>0,AN87=""),"* No olvide ingresar la columna Espacios Amigables /adolescentes (Digite CERO si no tiene). ",IF(AN87>$C87,"* El Número de Espacios Amigables no puede superar el Total. ","")) | CB87: =IF(AND(E87>0,OR(AO87="")),"No olvide digitar los campos *TRANS Masculino (Digite CERO si no tiene).",IF(AO87>E87,"* El Número de TRANS Masculino no puede superar el Total Mujeres. ","")) | CC87: =IF(AND(D87>0,OR(AP87="")),"No olvide digitar los campos *TRANS Femenino (Digite CERO si no tiene).",IF(AP87>$D87,"* El Número de TRANS Femenino no puede superar el Total Hombres. ","")) | CD87: =IF(AND($C87<>0,AQ87=""),"* No olvide ingresar la columna Pueblos Originarios (Digite CERO si no tiene). ",IF(AQ87>$C87,"* El Número de Pueblos Originarios no puede superar el Total. ","")) | CE87: =IF(AND($C87<>0,AR87=""),"* No olvide ingresar la columna Migrantes (Digite CERO si no tiene). ",IF(AR87>$C87,"* El Número de Migrantes no puede superar el Total. ","")) | CF87: =IF(AND(SUM(J87:M87)>0,AS87=""),"* No olvide digitar la variable 14-18 años. Si no tiene digite Cero.",IF(AS87>SUM(J87:M87),"* La variable 14-18 años no puede ser mayor al total por grupo edad de 10 a 19 años. ","")) | CG87: =IF(AND($C87<>0,AT87=""),"* No olvide ingresar la columna Niños, Niñas, Adolescentes y Jóvenes SENAME (Digite CERO si no tiene). ",IF(AT87>$C87,"* El Número de Niños, Niñas, Adolescentes y Jóvenes SENAME no puede superar el Total. ","")) | CH87: =IF(AND($C87<>0,AU87=""),"* No olvide ingresar la columna Niños, Niñas, Adolescentes y Jóvenes Mejor Niñez (Digite CERO si no tiene). ",IF(AU87>$C87,"* El Número de Niños, Niñas, Adolescentes y Jóvenes Mejor Niñez no puede superar el Total. ","")) | CJ87: =IF(AND($C87<>0,AN87=""),1,IF(AN87>$C87,1,0)) -> 0 | CK87: =IF(AND(E87>0,OR(AO87="")),1,IF(AO87>E87,1,0)) -> 0 | CL87: =IF(AND(D87>0,OR(AP87="")),1,IF(AP87>D87,1,0)) -> 0 | CM87: =IF(AND($C87<>0,AQ87=""),1,IF(AQ87>$C87,1,0)) -> 0 | CN87: =IF(AND($C87<>0,AR87=""),1,IF(AR87>$C87,1,0)) -> 0 | CO87: =IF(AND(SUM(J87:M87)>0,AS87=""),1,IF(AS87>SUM(J87:M87),1,0)) -> 0 | CP87: =IF(AND($C87<>0,AT87=""),1,IF(AT87>$C87,1,0)) -> 0 | CQ87: =IF(AND($C87<>0,AU87=""),1,IF(AU87>$C87,1,0)) -> 0
