Workbook

Sheet CONSOLIDADO
A1: SERVICIO DE SALUD
A2: =CONCATENATE("COMUNA: ",[1]NOMBRE!B2, " (",[1]NOMBRE!C2,[1]NOMBRE!D2,[1]NOMBRE!E2,[1]NOMBRE!F2,[1]NOMBRE!G2,")") -> COMUNA: 0 (00000)
A3: =CONCATENATE("ESTABLECIMIENTO/ESTRATEGIA: ", [1]NOMBRE!B3, " (",[1]NOMBRE!C3,[1]NOMBRE!D3,[1]NOMBRE!E3,[1]NOMBRE!F3,[1]NOMBRE!G3,[1]NOMBRE!H3,")") -> ESTABLECIMIENTO/ESTRATEGIA: 0 (000000)
A4: =CONCATENATE("MES: ",[1]NOMBRE!B6, " (",[1]NOMBRE!C6,[1]NOMBRE!D6,")") -> MES: 0 (00)
A5: =CONCATENATE("AÑO: ",[1]NOMBRE!B7) -> AÑO: 2025
A6: REM-19a. ACTIVIDADES DE PROMOCIÓN Y PREVENCIÓN DE LA SALUD
A8: SECCIÓN A: CONSEJERÍAS
A9: SECCIÓN A.1: CONSEJERÍAS INDIVIDUALES
A10: ÁREAS TEMÁTICAS | B10: PROFESIONAL | C10: TOTAL | F10: RANGO ETARIO Y SEXO | AN10: Espacios Amigables/ adolescentes | AO10: TRANS | AQ10: Pueblos Originarios | AR10: Migrantes | AS10: 14-18 años | AT10: Niños, Niñas, Adolescentes y Jóvenes SENAME | AU10: Niños, niñas, Adolescentes y Jóvenes Mejor Niñez
F11: 0 - 4 años | H11: 5 - 9 años | J11: 10 - 14 años | L11: 15-19 años | N11: 20-24 años | P11: 25-29 años | R11: 30-34 años | T11: 35-39 años | V11: 40-44 años | X11: 45-49 años | Z11: 50-54 años | AB11: 55-59 años | AD11: 60-64 años | AF11: 65-69 años | AH11: 70-74 años | AJ11: 75- 79 años | AL11: 80 y más años
C12: Ambos Sexos | D12: Hombres | E12: Mujeres | F12: Hombres | G12: Mujeres | H12: Hombres | I12: Mujeres | J12: Hombres | K12: Mujeres | L12: Hombres | M12: Mujeres | N12: Hombres | O12: Mujeres | P12: Hombres | Q12: Mujeres | R12: Hombres | S12: Mujeres | T12: Hombres | U12: Mujeres | V12: Hombres | W12: Mujeres | X12: Hombres | Y12: Mujeres | Z12: Hombres | AA12: Mujeres | AB12: Hombres | AC12: Mujeres | AD12: Hombres | AE12: Mujeres | AF12: Hombres | AG12: Mujeres | AH12: Hombres | AI12: Mujeres | AJ12: Hombres | AK12: Mujeres | AL12: Hombres | AM12: Mujeres | AO12: Masculino | AP12: Femenina
A13: Actividad física | B13: Médico/a | C13: =SUM(D13+E13) -> 754 | D13: =+F13+H13+J13+L13+N13+P13+R13+T13+V13+X13+Z13+AB13+AD13+AF13+AH13+AJ13+AL13 -> 552 | E13: =+G13+I13+K13+M13+O13+Q13+S13+U13+W13+Y13+AA13+AC13+AE13+AG13+AI13+AK13+AM13 -> 202 | F13: =SUM(ENERO:DICIEMBRE!F13) -> 0 | G13: =SUM(ENERO:DICIEMBRE!G13) -> 0 | H13: =SUM(ENERO:DICIEMBRE!H13) -> 0 | I13: =SUM(ENERO:DICIEMBRE!I13) -> 0 | J13: =SUM(ENERO:DICIEMBRE!J13) -> 0 | K13: =SUM(ENERO:DICIEMBRE!K13) -> 0 | L13: =SUM(ENERO:DICIEMBRE!L13) -> 3 | M13: =SUM(ENERO:DICIEMBRE!M13) -> 0 | ... AU13: =SUM(ENERO:DICIEMBRE!AU13) -> 0 | AV13: =$CA13&$CB13&CC13&CD13&CE13&CG13&CH13 | CA13: =IF(AND($C13<>0,AN13=""),"* No olvide ingresar la columna Espacios Amigables /adolescentes (Digite CERO si no tiene). ",IF(AN13>$C13,"* El Número de Espacios Amigables no puede superar el Total. ","")) | CB13: =IF(AND(E13>0,OR(AO13="")),"No olvide digitar los campos *TRANS Masculino (Digite CERO si no tiene).",IF(AO13>E13,"* El Número de TRANS Masculino no puede superar el Total Mujeres. ","")) | CC13: =IF(AND(D13>0,OR(AP13="")),"No olvide digitar los campos *TRANS Femenino (Digite CERO si no tiene).",IF(AP13>$D13,"* El Número de TRANS Femenino no puede superar el Total Hombres. ","")) | CD13: =IF(AND($C13<>0,AQ13=""),"* No olvide ingresar la columna Pueblos Originarios (Digite CERO si no tiene). ",IF(AQ13>$C13,"* El Número de Pueblos Originarios no puede superar el Total. ","")) | CE13: =IF(AND($C13<>0,AR13=""),"* No olvide ingresar la columna Migrantes (Digite CERO si no tiene). ",IF(AR13>$C13,"* El Número de Migrantes no puede superar el Total. ","")) | CG13: =IF(AND($C13<>0,AT13=""),"* No olvide ingresar la columna Niños, Niñas, Adolescentes y Jóvenes SENAME (Digite CERO si no tiene). ",IF(AT13>$C13,"* El Número de Niños, Niñas, Adolescentes y Jóvenes SENAME no puede superar el Total. ","")) | CH13: =IF(AND($C13<>0,AU13=""),"* No olvide ingresar la columna Niños, Niñas, Adolescentes y Jóvenes Mejor Niñez (Digite CERO si no tiene). ",IF(AU13>$C13,"* El Número de Niños, Niñas, Adolescentes y Jóvenes Mejor Niñez no puede superar el Total. ","")) | CJ13: =IF(AND($C13<>0,AN13=""),1,IF(AN13>$C13,1,0)) -> 0 | CK13: =IF(AND(E13>0,OR(AO13="")),1,IF(AO13>E13,1,0)) -> 0 | CL13: =IF(AND(D13>0,OR(AP13="")),1,IF(AP13>D13,1,0)) -> 0 | CM13: =IF(AND($C13<>0,AQ13=""),1,IF(AQ13>$C13,1,0)) -> 0 | CN13: =IF(AND($C13<>0,AR13=""),1,IF(AR13>$C13,1,0)) -> 0 | CP13: =IF(AND($C13<>0,AT13=""),1,IF(AT13>$C13,1,0)) -> 0 | CQ13: =IF(AND($C13<>0,AU13=""),1,IF(AU13>$C13,1,0)) -> 0
B14: Enfermera/o | C14: =SUM(D14+E14) -> 0 | D14: =+F14+H14+J14+L14+N14+P14+R14+T14+V14+X14+Z14+AB14+AD14+AF14+AH14+AJ14+AL14 -> 0 | E14: =+G14+I14+K14+M14+O14+Q14+S14+U14+W14+Y14+AA14+AC14+AE14+AG14+AI14+AK14+AM14 -> 0 | F14: =SUM(ENERO:DICIEMBRE!F14) -> 0 | G14: =SUM(ENERO:DICIEMBRE!G14) -> 0 | H14: =SUM(ENERO:DICIEMBRE!H14) -> 0 | I14: =SUM(ENERO:DICIEMBRE!I14) -> 0 | J14: =SUM(ENERO:DICIEMBRE!J14) -> 0 | K14: =SUM(ENERO:DICIEMBRE!K14) -> 0 | L14: =SUM(ENERO:DICIEMBRE!L14) -> 0 | M14: =SUM(ENERO:DICIEMBRE!M14) -> 0 | ... AU14: =SUM(ENERO:DICIEMBRE!AU14) -> 0 | AV14: =$CA14&$CB14&CC14&CD14&CE14&CG14&CH14 | CA14: =IF(AND($C14<>0,AN14=""),"* No olvide ingresar la columna Espacios Amigables /adolescentes (Digite CERO si no tiene). ",IF(AN14>$C14,"* El Número de Espacios Amigables no puede superar el Total. ","")) | CB14: =IF(AND(E14>0,OR(AO14="")),"No olvide digitar los campos *TRANS Masculino (Digite CERO si no tiene).",IF(AO14>E14,"* El Número de TRANS Masculino no puede superar el Total Mujeres. ","")) | CC14: =IF(AND(D14>0,OR(AP14="")),"No olvide digitar los campos *TRANS Femenino (Digite CERO si no tiene).",IF(AP14>$D14,"* El Número de TRANS Femenino no puede superar el Total Hombres. ","")) | CD14: =IF(AND($C14<>0,AQ14=""),"* No olvide ingresar la columna Pueblos Originarios (Digite CERO si no tiene). ",IF(AQ14>$C14,"* El Número de Pueblos Originarios no puede superar el Total. ","")) | CE14: =IF(AND($C14<>0,AR14=""),"* No olvide ingresar la columna Migrantes (Digite CERO si no tiene). ",IF(AR14>$C14,"* El Número de Migrantes no puede superar el Total. ","")) | CG14: =IF(AND($C14<>0,AT14=""),"* No olvide ingresar la columna Niños, Niñas, Adolescentes y Jóvenes SENAME (Digite CERO si no tiene). ",IF(AT14>$C14,"* El Número de Niños, Niñas, Adolescentes y Jóvenes SENAME no puede superar el Total. ","")) | CH14: =IF(AND($C14<>0,AU14=""),"* No olvide ingresar la columna Niños, Niñas, Adolescentes y Jóvenes Mejor Niñez (Digite CERO si no tiene). ",IF(AU14>$C14,"* El Número de Niños, Niñas, Adolescentes y Jóvenes Mejor Niñez no puede superar el Total. ","")) | CJ14: =IF(AND($C14<>0,AN14=""),1,IF(AN14>$C14,1,0)) -> 0 | CK14: =IF(AND(E14>0,OR(AO14="")),1,IF(AO14>E14,1,0)) -> 0 | CL14: =IF(AND(D14>0,OR(AP14="")),1,IF(AP14>D14,1,0)) -> 0 | CM14: =IF(AND($C14<>0,AQ14=""),1,IF(AQ14>$C14,1,0)) -> 0 | CN14: =IF(AND($C14<>0,AR14=""),1,IF(AR14>$C14,1,0)) -> 0 | CP14: =IF(AND($C14<>0,AT14=""),1,IF(AT14>$C14,1,0)) -> 0 | CQ14: =IF(AND($C14<>0,AU14=""),1,IF(AU14>$C14,1,0)) -> 0
B15: Matrona/ón | C15: =SUM(D15+E15) -> 2046 | D15: =+F15+H15+J15+L15+N15+P15+R15+T15+V15+X15+Z15+AB15+AD15+AF15+AH15+AJ15+AL15 -> 1513 | E15: =+G15+I15+K15+M15+O15+Q15+S15+U15+W15+Y15+AA15+AC15+AE15+AG15+AI15+AK15+AM15 -> 533 | F15: =SUM(ENERO:DICIEMBRE!F15) -> 0 | G15: =SUM(ENERO:DICIEMBRE!G15) -> 0 | H15: =SUM(ENERO:DICIEMBRE!H15) -> 0 | I15: =SUM(ENERO:DICIEMBRE!I15) -> 0 | J15: =SUM(ENERO:DICIEMBRE!J15) -> 0 | K15: =SUM(ENERO:DICIEMBRE!K15) -> 0 | L15: =SUM(ENERO:DICIEMBRE!L15) -> 5 | M15: =SUM(ENERO:DICIEMBRE!M15) -> 2 | ... AU15: =SUM(ENERO:DICIEMBRE!AU15) -> 0 | AV15: =$CA15&$CB15&CC15&CD15&CE15&CG15&CH15 | CA15: =IF(AND($C15<>0,AN15=""),"* No olvide ingresar la columna Espacios Amigables /adolescentes (Digite CERO si no tiene). ",IF(AN15>$C15,"* El Número de Espacios Amigables no puede superar el Total. ","")) | CB15: =IF(AND(E15>0,OR(AO15="")),"No olvide digitar los campos *TRANS Masculino (Digite CERO si no tiene).",IF(AO15>E15,"* El Número de TRANS Masculino no puede superar el Total Mujeres. ","")) | CC15: =IF(AND(D15>0,OR(AP15="")),"No olvide digitar los campos *TRANS Femenino (Digite CERO si no tiene).",IF(AP15>$D15,"* El Número de TRANS Femenino no puede superar el Total Hombres. ","")) | CD15: =IF(AND($C15<>0,AQ15=""),"* No olvide ingresar la columna Pueblos Originarios (Digite CERO si no tiene). ",IF(AQ15>$C15,"* El Número de Pueblos Originarios no puede superar el Total. ","")) | CE15: =IF(AND($C15<>0,AR15=""),"* No olvide ingresar la columna Migrantes (Digite CERO si no tiene). ",IF(AR15>$C15,"* El Número de Migrantes no puede superar el Total. ","")) | CG15: =IF(AND($C15<>0,AT15=""),"* No olvide ingresar la columna Niños, Niñas, Adolescentes y Jóvenes SENAME (Digite CERO si no tiene). ",IF(AT15>$C15,"* El Número de Niños, Niñas, Adolescentes y Jóvenes SENAME no puede superar el Total. ","")) | CH15: =IF(AND($C15<>0,AU15=""),"* No olvide ingresar la columna Niños, Niñas, Adolescentes y Jóvenes Mejor Niñez (Digite CERO si no tiene). ",IF(AU15>$C15,"* El Número de Niños, Niñas, Adolescentes y Jóvenes Mejor Niñez no puede superar el Total. ","")) | CJ15: =IF(AND($C15<>0,AN15=""),1,IF(AN15>$C15,1,0)) -> 0 | CK15: =IF(AND(E15>0,OR(AO15="")),1,IF(AO15>E15,1,0)) -> 0 | CL15: =IF(AND(D15>0,OR(AP15="")),1,IF(AP15>D15,1,0)) -> 0 | CM15: =IF(AND($C15<>0,AQ15=""),1,IF(AQ15>$C15,1,0)) -> 0 | CN15: =IF(AND($C15<>0,AR15=""),1,IF(AR15>$C15,1,0)) -> 0 | CP15: =IF(AND($C15<>0,AT15=""),1,IF(AT15>$C15,1,0)) -> 0 | CQ15: =IF(AND($C15<>0,AU15=""),1,IF(AU15>$C15,1,0)) -> 0
B16: Nutricionista | C16: =SUM(D16+E16) -> 0 | D16: =+F16+H16+J16+L16+N16+P16+R16+T16+V16+X16+Z16+AB16+AD16+AF16+AH16+AJ16+AL16 -> 0 | E16: =+G16+I16+K16+M16+O16+Q16+S16+U16+W16+Y16+AA16+AC16+AE16+AG16+AI16+AK16+AM16 -> 0 | F16: =SUM(ENERO:DICIEMBRE!F16) -> 0 | G16: =SUM(ENERO:DICIEMBRE!G16) -> 0 | H16: =SUM(ENERO:DICIEMBRE!H16) -> 0 | I16: =SUM(ENERO:DICIEMBRE!I16) -> 0 | J16: =SUM(ENERO:DICIEMBRE!J16) -> 0 | K16: =SUM(ENERO:DICIEMBRE!K16) -> 0 | L16: =SUM(ENERO:DICIEMBRE!L16) -> 0 | M16: =SUM(ENERO:DICIEMBRE!M16) -> 0 | ... AU16: =SUM(ENERO:DICIEMBRE!AU16) -> 0 | AV16: =$CA16&$CB16&CC16&CD16&CE16&CG16&CH16 | CA16: =IF(AND($C16<>0,AN16=""),"* No olvide ingresar la columna Espacios Amigables /adolescentes (Digite CERO si no tiene). ",IF(AN16>$C16,"* El Número de Espacios Amigables no puede superar el Total. ","")) | CB16: =IF(AND(E16>0,OR(AO16="")),"No olvide digitar los campos *TRANS Masculino (Digite CERO si no tiene).",IF(AO16>E16,"* El Número de TRANS Masculino no puede superar el Total Mujeres. ","")) | CC16: =IF(AND(D16>0,OR(AP16="")),"No olvide digitar los campos *TRANS Femenino (Digite CERO si no tiene).",IF(AP16>$D16,"* El Número de TRANS Femenino no puede superar el Total Hombres. ","")) | CD16: =IF(AND($C16<>0,AQ16=""),"* No olvide ingresar la columna Pueblos Originarios (Digite CERO si no tiene). ",IF(AQ16>$C16,"* El Número de Pueblos Originarios no puede superar el Total. ","")) | CE16: =IF(AND($C16<>0,AR16=""),"* No olvide ingresar la columna Migrantes (Digite CERO si no tiene). ",IF(AR16>$C16,"* El Número de Migrantes no puede superar el Total. ","")) | CG16: =IF(AND($C16<>0,AT16=""),"* No olvide ingresar la columna Niños, Niñas, Adolescentes y Jóvenes SENAME (Digite CERO si no tiene). ",IF(AT16>$C16,"* El Número de Niños, Niñas, Adolescentes y Jóvenes SENAME no puede superar el Total. ","")) | CH16: =IF(AND($C16<>0,AU16=""),"* No olvide ingresar la columna Niños, Niñas, Adolescentes y Jóvenes Mejor Niñez (Digite CERO si no tiene). ",IF(AU16>$C16,"* El Número de Niños, Niñas, Adolescentes y Jóvenes Mejor Niñez no puede superar el Total. ","")) | CJ16: =IF(AND($C16<>0,AN16=""),1,IF(AN16>$C16,1,0)) -> 0 | CK16: =IF(AND(E16>0,OR(AO16="")),1,IF(AO16>E16,1,0)) -> 0 | CL16: =IF(AND(D16>0,OR(AP16="")),1,IF(AP16>D16,1,0)) -> 0 | CM16: =IF(AND($C16<>0,AQ16=""),1,IF(AQ16>$C16,1,0)) -> 0 | CN16: =IF(AND($C16<>0,AR16=""),1,IF(AR16>$C16,1,0)) -> 0 | CP16: =IF(AND($C16<>0,AT16=""),1,IF(AT16>$C16,1,0)) -> 0 | CQ16: =IF(AND($C16<>0,AU16=""),1,IF(AU16>$C16,1,0)) -> 0
B17: Trabajador/a Social | C17: =SUM(D17+E17) -> 0 | D17: =+F17+H17+J17+L17+N17+P17+R17+T17+V17+X17+Z17+AB17+AD17+AF17+AH17+AJ17+AL17 -> 0 | E17: =+G17+I17+K17+M17+O17+Q17+S17+U17+W17+Y17+AA17+AC17+AE17+AG17+AI17+AK17+AM17 -> 0 | F17: =SUM(ENERO:DICIEMBRE!F17) -> 0 | G17: =SUM(ENERO:DICIEMBRE!G17) -> 0 | H17: =SUM(ENERO:DICIEMBRE!H17) -> 0 | I17: =SUM(ENERO:DICIEMBRE!I17) -> 0 | J17: =SUM(ENERO:DICIEMBRE!J17) -> 0 | K17: =SUM(ENERO:DICIEMBRE!K17) -> 0 | L17: =SUM(ENERO:DICIEMBRE!L17) -> 0 | M17: =SUM(ENERO:DICIEMBRE!M17) -> 0 | ... AU17: =SUM(ENERO:DICIEMBRE!AU17) -> 0 | AV17: =$CA17&$CB17&CC17&CD17&CE17&CG17&CH17 | CA17: =IF(AND($C17<>0,AN17=""),"* No olvide ingresar la columna Espacios Amigables /adolescentes (Digite CERO si no tiene). ",IF(AN17>$C17,"* El Número de Espacios Amigables no puede superar el Total. ","")) | CB17: =IF(AND(E17>0,OR(AO17="")),"No olvide digitar los campos *TRANS Masculino (Digite CERO si no tiene).",IF(AO17>E17,"* El Número de TRANS Masculino no puede superar el Total Mujeres. ","")) | CC17: =IF(AND(D17>0,OR(AP17="")),"No olvide digitar los campos *TRANS Femenino (Digite CERO si no tiene).",IF(AP17>$D17,"* El Número de TRANS Femenino no puede superar el Total Hombres. ","")) | CD17: =IF(AND($C17<>0,AQ17=""),"* No olvide ingresar la columna Pueblos Originarios (Digite CERO si no tiene). ",IF(AQ17>$C17,"* El Número de Pueblos Originarios no puede superar el Total. ","")) | CE17: =IF(AND($C17<>0,AR17=""),"* No olvide ingresar la columna Migrantes (Digite CERO si no tiene). ",IF(AR17>$C17,"* El Número de Migrantes no puede superar el Total. ","")) | CG17: =IF(AND($C17<>0,AT17=""),"* No olvide ingresar la columna Niños, Niñas, Adolescentes y Jóvenes SENAME (Digite CERO si no tiene). ",IF(AT17>$C17,"* El Número de Niños, Niñas, Adolescentes y Jóvenes SENAME no puede superar el Total. ","")) | CH17: =IF(AND($C17<>0,AU17=""),"* No olvide ingresar la columna Niños, Niñas, Adolescentes y Jóvenes Mejor Niñez (Digite CERO si no tiene). ",IF(AU17>$C17,"* El Número de Niños, Niñas, Adolescentes y Jóvenes Mejor Niñez no puede superar el Total. ","")) | CJ17: =IF(AND($C17<>0,AN17=""),1,IF(AN17>$C17,1,0)) -> 0 | CK17: =IF(AND(E17>0,OR(AO17="")),1,IF(AO17>E17,1,0)) -> 0 | CL17: =IF(AND(D17>0,OR(AP17="")),1,IF(AP17>D17,1,0)) -> 0 | CM17: =IF(AND($C17<>0,AQ17=""),1,IF(AQ17>$C17,1,0)) -> 0 | CN17: =IF(AND($C17<>0,AR17=""),1,IF(AR17>$C17,1,0)) -> 0 | CP17: =IF(AND($C17<>0,AT17=""),1,IF(AT17>$C17,1,0)) -> 0 | CQ17: =IF(AND($C17<>0,AU17=""),1,IF(AU17>$C17,1,0)) -> 0
B18: Psicólogo/a | C18: =SUM(D18+E18) -> 0 | D18: =+F18+H18+J18+L18+N18+P18+R18+T18+V18+X18+Z18+AB18+AD18+AF18+AH18+AJ18+AL18 -> 0 | E18: =+G18+I18+K18+M18+O18+Q18+S18+U18+W18+Y18+AA18+AC18+AE18+AG18+AI18+AK18+AM18 -> 0 | F18: =SUM(ENERO:DICIEMBRE!F18) -> 0 | G18: =SUM(ENERO:DICIEMBRE!G18) -> 0 | H18: =SUM(ENERO:DICIEMBRE!H18) -> 0 | I18: =SUM(ENERO:DICIEMBRE!I18) -> 0 | J18: =SUM(ENERO:DICIEMBRE!J18) -> 0 | K18: =SUM(ENERO:DICIEMBRE!K18) -> 0 | L18: =SUM(ENERO:DICIEMBRE!L18) -> 0 | M18: =SUM(ENERO:DICIEMBRE!M18) -> 0 | ... AU18: =SUM(ENERO:DICIEMBRE!AU18) -> 0 | AV18: =$CA18&$CB18&CC18&CD18&CE18&CG18&CH18 | CA18: =IF(AND($C18<>0,AN18=""),"* No olvide ingresar la columna Espacios Amigables /adolescentes (Digite CERO si no tiene). ",IF(AN18>$C18,"* El Número de Espacios Amigables no puede superar el Total. ","")) | CB18: =IF(AND(E18>0,OR(AO18="")),"No olvide digitar los campos *TRANS Masculino (Digite CERO si no tiene).",IF(AO18>E18,"* El Número de TRANS Masculino no puede superar el Total Mujeres. ","")) | CC18: =IF(AND(D18>0,OR(AP18="")),"No olvide digitar los campos *TRANS Femenino (Digite CERO si no tiene).",IF(AP18>$D18,"* El Número de TRANS Femenino no puede superar el Total Hombres. ","")) | CD18: =IF(AND($C18<>0,AQ18=""),"* No olvide ingresar la columna Pueblos Originarios (Digite CERO si no tiene). ",IF(AQ18>$C18,"* El Número de Pueblos Originarios no puede superar el Total. ","")) | CE18: =IF(AND($C18<>0,AR18=""),"* No olvide ingresar la columna Migrantes (Digite CERO si no tiene). ",IF(AR18>$C18,"* El Número de Migrantes no puede superar el Total. ","")) | CG18: =IF(AND($C18<>0,AT18=""),"* No olvide ingresar la columna Niños, Niñas, Adolescentes y Jóvenes SENAME (Digite CERO si no tiene). ",IF(AT18>$C18,"* El Número de Niños, Niñas, Adolescentes y Jóvenes SENAME no puede superar el Total. ","")) | CH18: =IF(AND($C18<>0,AU18=""),"* No olvide ingresar la columna Niños, Niñas, Adolescentes y Jóvenes Mejor Niñez (Digite CERO si no tiene). ",IF(AU18>$C18,"* El Número de Niños, Niñas, Adolescentes y Jóvenes Mejor Niñez no puede superar el Total. ","")) | CJ18: =IF(AND($C18<>0,AN18=""),1,IF(AN18>$C18,1,0)) -> 0 | CK18: =IF(AND(E18>0,OR(AO18="")),1,IF(AO18>E18,1,0)) -> 0 | CL18: =IF(AND(D18>0,OR(AP18="")),1,IF(AP18>D18,1,0)) -> 0 | CM18: =IF(AND($C18<>0,AQ18=""),1,IF(AQ18>$C18,1,0)) -> 0 | CN18: =IF(AND($C18<>0,AR18=""),1,IF(AR18>$C18,1,0)) -> 0 | CP18: =IF(AND($C18<>0,AT18=""),1,IF(AT18>$C18,1,0)) -> 0 | CQ18: =IF(AND($C18<>0,AU18=""),1,IF(AU18>$C18,1,0)) -> 0
B19: Kinesiólogo/a | C19: =SUM(D19+E19) -> 0 | D19: =+F19+H19+J19+L19+N19+P19+R19+T19+V19+X19+Z19+AB19+AD19+AF19+AH19+AJ19+AL19 -> 0 | E19: =+G19+I19+K19+M19+O19+Q19+S19+U19+W19+Y19+AA19+AC19+AE19+AG19+AI19+AK19+AM19 -> 0 | F19: =SUM(ENERO:DICIEMBRE!F19) -> 0 | G19: =SUM(ENERO:DICIEMBRE!G19) -> 0 | H19: =SUM(ENERO:DICIEMBRE!H19) -> 0 | I19: =SUM(ENERO:DICIEMBRE!I19) -> 0 | J19: =SUM(ENERO:DICIEMBRE!J19) -> 0 | K19: =SUM(ENERO:DICIEMBRE!K19) -> 0 | L19: =SUM(ENERO:DICIEMBRE!L19) -> 0 | M19: =SUM(ENERO:DICIEMBRE!M19) -> 0 | ... AU19: =SUM(ENERO:DICIEMBRE!AU19) -> 0 | AV19: =$CA19&$CB19&CC19&CD19&CE19&CG19&CH19 | CA19: =IF(AND($C19<>0,AN19=""),"* No olvide ingresar la columna Espacios Amigables /adolescentes (Digite CERO si no tiene). ",IF(AN19>$C19,"* El Número de Espacios Amigables no puede superar el Total. ","")) | CB19: =IF(AND(E19>0,OR(AO19="")),"No olvide digitar los campos *TRANS Masculino (Digite CERO si no tiene).",IF(AO19>E19,"* El Número de TRANS Masculino no puede superar el Total Mujeres. ","")) | CC19: =IF(AND(D19>0,OR(AP19="")),"No olvide digitar los campos *TRANS Femenino (Digite CERO si no tiene).",IF(AP19>$D19,"* El Número de TRANS Femenino no puede superar el Total Hombres. ","")) | CD19: =IF(AND($C19<>0,AQ19=""),"* No olvide ingresar la columna Pueblos Originarios (Digite CERO si no tiene). ",IF(AQ19>$C19,"* El Número de Pueblos Originarios no puede superar el Total. ","")) | CE19: =IF(AND($C19<>0,AR19=""),"* No olvide ingresar la columna Migrantes (Digite CERO si no tiene). ",IF(AR19>$C19,"* El Número de Migrantes no puede superar el Total. ","")) | CG19: =IF(AND($C19<>0,AT19=""),"* No olvide ingresar la columna Niños, Niñas, Adolescentes y Jóvenes SENAME (Digite CERO si no tiene). ",IF(AT19>$C19,"* El Número de Niños, Niñas, Adolescentes y Jóvenes SENAME no puede superar el Total. ","")) | CH19: =IF(AND($C19<>0,AU19=""),"* No olvide ingresar la columna Niños, Niñas, Adolescentes y Jóvenes Mejor Niñez (Digite CERO si no tiene). ",IF(AU19>$C19,"* El Número de Niños, Niñas, Adolescentes y Jóvenes Mejor Niñez no puede superar el Total. ","")) | CJ19: =IF(AND($C19<>0,AN19=""),1,IF(AN19>$C19,1,0)) -> 0 | CK19: =IF(AND(E19>0,OR(AO19="")),1,IF(AO19>E19,1,0)) -> 0 | CL19: =IF(AND(D19>0,OR(AP19="")),1,IF(AP19>D19,1,0)) -> 0 | CM19: =IF(AND($C19<>0,AQ19=""),1,IF(AQ19>$C19,1,0)) -> 0 | CN19: =IF(AND($C19<>0,AR19=""),1,IF(AR19>$C19,1,0)) -> 0 | CP19: =IF(AND($C19<>0,AT19=""),1,IF(AT19>$C19,1,0)) -> 0 | CQ19: =IF(AND($C19<>0,AU19=""),1,IF(AU19>$C19,1,0)) -> 0
B20: Terapeuta ocupacional | C20: =SUM(D20+E20) -> 0 | D20: =+F20+H20+J20+L20+N20+P20+R20+T20+V20+X20+Z20+AB20+AD20+AF20+AH20+AJ20+AL20 -> 0 | E20: =+G20+I20+K20+M20+O20+Q20+S20+U20+W20+Y20+AA20+AC20+AE20+AG20+AI20+AK20+AM20 -> 0 | F20: =SUM(ENERO:DICIEMBRE!F20) -> 0 | G20: =SUM(ENERO:DICIEMBRE!G20) -> 0 | H20: =SUM(ENERO:DICIEMBRE!H20) -> 0 | I20: =SUM(ENERO:DICIEMBRE!I20) -> 0 | J20: =SUM(ENERO:DICIEMBRE!J20) -> 0 | K20: =SUM(ENERO:DICIEMBRE!K20) -> 0 | L20: =SUM(ENERO:DICIEMBRE!L20) -> 0 | M20: =SUM(ENERO:DICIEMBRE!M20) -> 0 | ... AU20: =SUM(ENERO:DICIEMBRE!AU20) -> 0 | AV20: =$CA20&$CB20&CC20&CD20&CE20&CG20&CH20 | CA20: =IF(AND($C20<>0,AN20=""),"* No olvide ingresar la columna Espacios Amigables /adolescentes (Digite CERO si no tiene). ",IF(AN20>$C20,"* El Número de Espacios Amigables no puede superar el Total. ","")) | CB20: =IF(AND(E20>0,OR(AO20="")),"No olvide digitar los campos *TRANS Masculino (Digite CERO si no tiene).",IF(AO20>E20,"* El Número de TRANS Masculino no puede superar el Total Mujeres. ","")) | CC20: =IF(AND(D20>0,OR(AP20="")),"No olvide digitar los campos *TRANS Femenino (Digite CERO si no tiene).",IF(AP20>$D20,"* El Número de TRANS Femenino no puede superar el Total Hombres. ","")) | CD20: =IF(AND($C20<>0,AQ20=""),"* No olvide ingresar la columna Pueblos Originarios (Digite CERO si no tiene). ",IF(AQ20>$C20,"* El Número de Pueblos Originarios no puede superar el Total. ","")) | CE20: =IF(AND($C20<>0,AR20=""),"* No olvide ingresar la columna Migrantes (Digite CERO si no tiene). ",IF(AR20>$C20,"* El Número de Migrantes no puede superar el Total. ","")) | CG20: =IF(AND($C20<>0,AT20=""),"* No olvide ingresar la columna Niños, Niñas, Adolescentes y Jóvenes SENAME (Digite CERO si no tiene). ",IF(AT20>$C20,"* El Número de Niños, Niñas, Adolescentes y Jóvenes SENAME no puede superar el Total. ","")) | CH20: =IF(AND($C20<>0,AU20=""),"* No olvide ingresar la columna Niños, Niñas, Adolescentes y Jóvenes Mejor Niñez (Digite CERO si no tiene). ",IF(AU20>$C20,"* El Número de Niños, Niñas, Adolescentes y Jóvenes Mejor Niñez no puede superar el Total. ","")) | CJ20: =IF(AND($C20<>0,AN20=""),1,IF(AN20>$C20,1,0)) -> 0 | CK20: =IF(AND(E20>0,OR(AO20="")),1,IF(AO20>E20,1,0)) -> 0 | CL20: =IF(AND(D20>0,OR(AP20="")),1,IF(AP20>D20,1,0)) -> 0 | CM20: =IF(AND($C20<>0,AQ20=""),1,IF(AQ20>$C20,1,0)) -> 0 | CN20: =IF(AND($C20<>0,AR20=""),1,IF(AR20>$C20,1,0)) -> 0 | CP20: =IF(AND($C20<>0,AT20=""),1,IF(AT20>$C20,1,0)) -> 0 | CQ20: =IF(AND($C20<>0,AU20=""),1,IF(AU20>$C20,1,0)) -> 0
B21: Otro profesional | C21: =SUM(D21+E21) -> 0 | D21: =+F21+H21+J21+L21+N21+P21+R21+T21+V21+X21+Z21+AB21+AD21+AF21+AH21+AJ21+AL21 -> 0 | E21: =+G21+I21+K21+M21+O21+Q21+S21+U21+W21+Y21+AA21+AC21+AE21+AG21+AI21+AK21+AM21 -> 0 | F21: =SUM(ENERO:DICIEMBRE!F21) -> 0 | G21: =SUM(ENERO:DICIEMBRE!G21) -> 0 | H21: =SUM(ENERO:DICIEMBRE!H21) -> 0 | I21: =SUM(ENERO:DICIEMBRE!I21) -> 0 | J21: =SUM(ENERO:DICIEMBRE!J21) -> 0 | K21: =SUM(ENERO:DICIEMBRE!K21) -> 0 | L21: =SUM(ENERO:DICIEMBRE!L21) -> 0 | M21: =SUM(ENERO:DICIEMBRE!M21) -> 0 | ... AU21: =SUM(ENERO:DICIEMBRE!AU21) -> 0 | AV21: =$CA21&$CB21&CC21&CD21&CE21&CG21&CH21 | CA21: =IF(AND($C21<>0,AN21=""),"* No olvide ingresar la columna Espacios Amigables /adolescentes (Digite CERO si no tiene). ",IF(AN21>$C21,"* El Número de Espacios Amigables no puede superar el Total. ","")) | CB21: =IF(AND(E21>0,OR(AO21="")),"No olvide digitar los campos *TRANS Masculino (Digite CERO si no tiene).",IF(AO21>E21,"* El Número de TRANS Masculino no puede superar el Total Mujeres. ","")) | CC21: =IF(AND(D21>0,OR(AP21="")),"No olvide digitar los campos *TRANS Femenino (Digite CERO si no tiene).",IF(AP21>$D21,"* El Número de TRANS Femenino no puede superar el Total Hombres. ","")) | CD21: =IF(AND($C21<>0,AQ21=""),"* No olvide ingresar la columna Pueblos Originarios (Digite CERO si no tiene). ",IF(AQ21>$C21,"* El Número de Pueblos Originarios no puede superar el Total. ","")) | CE21: =IF(AND($C21<>0,AR21=""),"* No olvide ingresar la columna Migrantes (Digite CERO si no tiene). ",IF(AR21>$C21,"* El Número de Migrantes no puede superar el Total. ","")) | CG21: =IF(AND($C21<>0,AT21=""),"* No olvide ingresar la columna Niños, Niñas, Adolescentes y Jóvenes SENAME (Digite CERO si no tiene). ",IF(AT21>$C21,"* El Número de Niños, Niñas, Adolescentes y Jóvenes SENAME no puede superar el Total. ","")) | CH21: =IF(AND($C21<>0,AU21=""),"* No olvide ingresar la columna Niños, Niñas, Adolescentes y Jóvenes Mejor Niñez (Digite CERO si no tiene). ",IF(AU21>$C21,"* El Número de Niños, Niñas, Adolescentes y Jóvenes Mejor Niñez no puede superar el Total. ","")) | CJ21: =IF(AND($C21<>0,AN21=""),1,IF(AN21>$C21,1,0)) -> 0 | CK21: =IF(AND(E21>0,OR(AO21="")),1,IF(AO21>E21,1,0)) -> 0 | CL21: =IF(AND(D21>0,OR(AP21="")),1,IF(AP21>D21,1,0)) -> 0 | CM21: =IF(AND($C21<>0,AQ21=""),1,IF(AQ21>$C21,1,0)) -> 0 | CN21: =IF(AND($C21<>0,AR21=""),1,IF(AR21>$C21,1,0)) -> 0 | CP21: =IF(AND($C21<>0,AT21=""),1,IF(AT21>$C21,1,0)) -> 0 | CQ21: =IF(AND($C21<>0,AU21=""),1,IF(AU21>$C21,1,0)) -> 0
B22: Facilitador/a intercultural | C22: =SUM(D22+E22) -> 0 | D22: =+F22+H22+J22+L22+N22+P22+R22+T22+V22+X22+Z22+AB22+AD22+AF22+AH22+AJ22+AL22 -> 0 | E22: =+G22+I22+K22+M22+O22+Q22+S22+U22+W22+Y22+AA22+AC22+AE22+AG22+AI22+AK22+AM22 -> 0 | F22: =SUM(ENERO:DICIEMBRE!F22) -> 0 | G22: =SUM(ENERO:DICIEMBRE!G22) -> 0 | H22: =SUM(ENERO:DICIEMBRE!H22) -> 0 | I22: =SUM(ENERO:DICIEMBRE!I22) -> 0 | J22: =SUM(ENERO:DICIEMBRE!J22) -> 0 | K22: =SUM(ENERO:DICIEMBRE!K22) -> 0 | L22: =SUM(ENERO:DICIEMBRE!L22) -> 0 | M22: =SUM(ENERO:DICIEMBRE!M22) -> 0 | ... AU22: =SUM(ENERO:DICIEMBRE!AU22) -> 0 | AV22: =$CA22&$CB22&CC22&CD22&CE22&CG22&CH22 | CA22: =IF(AND($C22<>0,AN22=""),"* No olvide ingresar la columna Espacios Amigables /adolescentes (Digite CERO si no tiene). ",IF(AN22>$C22,"* El Número de Espacios Amigables no puede superar el Total. ","")) | CB22: =IF(AND(E22>0,OR(AO22="")),"No olvide digitar los campos *TRANS Masculino (Digite CERO si no tiene).",IF(AO22>E22,"* El Número de TRANS Masculino no puede superar el Total Mujeres. ","")) | CC22: =IF(AND(D22>0,OR(AP22="")),"No olvide digitar los campos *TRANS Femenino (Digite CERO si no tiene).",IF(AP22>$D22,"* El Número de TRANS Femenino no puede superar el Total Hombres. ","")) | CD22: =IF(AND($C22<>0,AQ22=""),"* No olvide ingresar la columna Pueblos Originarios (Digite CERO si no tiene). ",IF(AQ22>$C22,"* El Número de Pueblos Originarios no puede superar el Total. ","")) | CE22: =IF(AND($C22<>0,AR22=""),"* No olvide ingresar la columna Migrantes (Digite CERO si no tiene). ",IF(AR22>$C22,"* El Número de Migrantes no puede superar el Total. ","")) | CG22: =IF(AND($C22<>0,AT22=""),"* No olvide ingresar la columna Niños, Niñas, Adolescentes y Jóvenes SENAME (Digite CERO si no tiene). ",IF(AT22>$C22,"* El Número de Niños, Niñas, Adolescentes y Jóvenes SENAME no puede superar el Total. ","")) | CH22: =IF(AND($C22<>0,AU22=""),"* No olvide ingresar la columna Niños, Niñas, Adolescentes y Jóvenes Mejor Niñez (Digite CERO si no tiene). ",IF(AU22>$C22,"* El Número de Niños, Niñas, Adolescentes y Jóvenes Mejor Niñez no puede superar el Total. ","")) | CJ22: =IF(AND($C22<>0,AN22=""),1,IF(AN22>$C22,1,0)) -> 0 | CK22: =IF(AND(E22>0,OR(AO22="")),1,IF(AO22>E22,1,0)) -> 0 | CL22: =IF(AND(D22>0,OR(AP22="")),1,IF(AP22>D22,1,0)) -> 0 | CM22: =IF(AND($C22<>0,AQ22=""),1,IF(AQ22>$C22,1,0)) -> 0 | CN22: =IF(AND($C22<>0,AR22=""),1,IF(AR22>$C22,1,0)) -> 0 | CP22: =IF(AND($C22<>0,AT22=""),1,IF(AT22>$C22,1,0)) -> 0 | CQ22: =IF(AND($C22<>0,AU22=""),1,IF(AU22>$C22,1,0)) -> 0
B23: Técnico en Enfermería | C23: =SUM(D23+E23) -> 0 | D23: =+F23+H23+J23+L23+N23+P23+R23+T23+V23+X23+Z23+AB23+AD23+AF23+AH23+AJ23+AL23 -> 0 | E23: =+G23+I23+K23+M23+O23+Q23+S23+U23+W23+Y23+AA23+AC23+AE23+AG23+AI23+AK23+AM23 -> 0 | F23: =SUM(ENERO:DICIEMBRE!F23) -> 0 | G23: =SUM(ENERO:DICIEMBRE!G23) -> 0 | H23: =SUM(ENERO:DICIEMBRE!H23) -> 0 | I23: =SUM(ENERO:DICIEMBRE!I23) -> 0 | J23: =SUM(ENERO:DICIEMBRE!J23) -> 0 | K23: =SUM(ENERO:DICIEMBRE!K23) -> 0 | L23: =SUM(ENERO:DICIEMBRE!L23) -> 0 | M23: =SUM(ENERO:DICIEMBRE!M23) -> 0 | ... AU23: =SUM(ENERO:DICIEMBRE!AU23) -> 0 | AV23: =$CA23&$CB23&CC23&CD23&CE23&CG23&CH23 | CA23: =IF(AND($C23<>0,AN23=""),"* No olvide ingresar la columna Espacios Amigables /adolescentes (Digite CERO si no tiene). ",IF(AN23>$C23,"* El Número de Espacios Amigables no puede superar el Total. ","")) | CB23: =IF(AND(E23>0,OR(AO23="")),"No olvide digitar los campos *TRANS Masculino (Digite CERO si no tiene).",IF(AO23>E23,"* El Número de TRANS Masculino no puede superar el Total Mujeres. ","")) | CC23: =IF(AND(D23>0,OR(AP23="")),"No olvide digitar los campos *TRANS Femenino (Digite CERO si no tiene).",IF(AP23>$D23,"* El Número de TRANS Femenino no puede superar el Total Hombres. ","")) | CD23: =IF(AND($C23<>0,AQ23=""),"* No olvide ingresar la columna Pueblos Originarios (Digite CERO si no tiene). ",IF(AQ23>$C23,"* El Número de Pueblos Originarios no puede superar el Total. ","")) | CE23: =IF(AND($C23<>0,AR23=""),"* No olvide ingresar la columna Migrantes (Digite CERO si no tiene). ",IF(AR23>$C23,"* El Número de Migrantes no puede superar el Total. ","")) | CG23: =IF(AND($C23<>0,AT23=""),"* No olvide ingresar la columna Niños, Niñas, Adolescentes y Jóvenes SENAME (Digite CERO si no tiene). ",IF(AT23>$C23,"* El Número de Niños, Niñas, Adolescentes y Jóvenes SENAME no puede superar el Total. ","")) | CH23: =IF(AND($C23<>0,AU23=""),"* No olvide ingresar la columna Niños, Niñas, Adolescentes y Jóvenes Mejor Niñez (Digite CERO si no tiene). ",IF(AU23>$C23,"* El Número de Niños, Niñas, Adolescentes y Jóvenes Mejor Niñez no puede superar el Total. ","")) | CJ23: =IF(AND($C23<>0,AN23=""),1,IF(AN23>$C23,1,0)) -> 0 | CK23: =IF(AND(E23>0,OR(AO23="")),1,IF(AO23>E23,1,0)) -> 0 | CL23: =IF(AND(D23>0,OR(AP23="")),1,IF(AP23>D23,1,0)) -> 0 | CM23: =IF(AND($C23<>0,AQ23=""),1,IF(AQ23>$C23,1,0)) -> 0 | CN23: =IF(AND($C23<>0,AR23=""),1,IF(AR23>$C23,1,0)) -> 0 | CP23: =IF(AND($C23<>0,AT23=""),1,IF(AT23>$C23,1,0)) -> 0 | CQ23: =IF(AND($C23<>0,AU23=""),1,IF(AU23>$C23,1,0)) -> 0
A24: Alimentación saludable | B24: Médico/a | C24: =SUM(D24+E24) -> 755 | D24: =+F24+H24+J24+L24+N24+P24+R24+T24+V24+X24+Z24+AB24+AD24+AF24+AH24+AJ24+AL24 -> 553 | E24: =+G24+I24+K24+M24+O24+Q24+S24+U24+W24+Y24+AA24+AC24+AE24+AG24+AI24+AK24+AM24 -> 202 | F24: =SUM(ENERO:DICIEMBRE!F24) -> 0 | G24: =SUM(ENERO:DICIEMBRE!G24) -> 0 | H24: =SUM(ENERO:DICIEMBRE!H24) -> 0 | I24: =SUM(ENERO:DICIEMBRE!I24) -> 0 | J24: =SUM(ENERO:DICIEMBRE!J24) -> 0 | K24: =SUM(ENERO:DICIEMBRE!K24) -> 0 | L24: =SUM(ENERO:DICIEMBRE!L24) -> 3 | M24: =SUM(ENERO:DICIEMBRE!M24) -> 0 | ... AU24: =SUM(ENERO:DICIEMBRE!AU24) -> 0 | AV24: =$CA24&$CB24&CC24&CD24&CE24&CG24&CH24 | CA24: =IF(AND($C24<>0,AN24=""),"* No olvide ingresar la columna Espacios Amigables /adolescentes (Digite CERO si no tiene). ",IF(AN24>$C24,"* El Número de Espacios Amigables no puede superar el Total. ","")) | CB24: =IF(AND(E24>0,OR(AO24="")),"No olvide digitar los campos *TRANS Masculino (Digite CERO si no tiene).",IF(AO24>E24,"* El Número de TRANS Masculino no puede superar el Total Mujeres. ","")) | CC24: =IF(AND(D24>0,OR(AP24="")),"No olvide digitar los campos *TRANS Femenino (Digite CERO si no tiene).",IF(AP24>$D24,"* El Número de TRANS Femenino no puede superar el Total Hombres. ","")) | CD24: =IF(AND($C24<>0,AQ24=""),"* No olvide ingresar la columna Pueblos Originarios (Digite CERO si no tiene). ",IF(AQ24>$C24,"* El Número de Pueblos Originarios no puede superar el Total. ","")) | CE24: =IF(AND($C24<>0,AR24=""),"* No olvide ingresar la columna Migrantes (Digite CERO si no tiene). ",IF(AR24>$C24,"* El Número de Migrantes no puede superar el Total. ","")) | CG24: =IF(AND($C24<>0,AT24=""),"* No olvide ingresar la columna Niños, Niñas, Adolescentes y Jóvenes SENAME (Digite CERO si no tiene). ",IF(AT24>$C24,"* El Número de Niños, Niñas, Adolescentes y Jóvenes SENAME no puede superar el Total. ","")) | CH24: =IF(AND($C24<>0,AU24=""),"* No olvide ingresar la columna Niños, Niñas, Adolescentes y Jóvenes Mejor Niñez (Digite CERO si no tiene). ",IF(AU24>$C24,"* El Número de Niños, Niñas, Adolescentes y Jóvenes Mejor Niñez no puede superar el Total. ","")) | CJ24: =IF(AND($C24<>0,AN24=""),1,IF(AN24>$C24,1,0)) -> 0 | CK24: =IF(AND(E24>0,OR(AO24="")),1,IF(AO24>E24,1,0)) -> 0 | CL24: =IF(AND(D24>0,OR(AP24="")),1,IF(AP24>D24,1,0)) -> 0 | CM24: =IF(AND($C24<>0,AQ24=""),1,IF(AQ24>$C24,1,0)) -> 0 | CN24: =IF(AND($C24<>0,AR24=""),1,IF(AR24>$C24,1,0)) -> 0 | CP24: =IF(AND($C24<>0,AT24=""),1,IF(AT24>$C24,1,0)) -> 0 | CQ24: =IF(AND($C24<>0,AU24=""),1,IF(AU24>$C24,1,0)) -> 0
B25: Enfermera/o | C25: =SUM(D25+E25) -> 0 | D25: =+F25+H25+J25+L25+N25+P25+R25+T25+V25+X25+Z25+AB25+AD25+AF25+AH25+AJ25+AL25 -> 0 | E25: =+G25+I25+K25+M25+O25+Q25+S25+U25+W25+Y25+AA25+AC25+AE25+AG25+AI25+AK25+AM25 -> 0 | F25: =SUM(ENERO:DICIEMBRE!F25) -> 0 | G25: =SUM(ENERO:DICIEMBRE!G25) -> 0 | H25: =SUM(ENERO:DICIEMBRE!H25) -> 0 | I25: =SUM(ENERO:DICIEMBRE!I25) -> 0 | J25: =SUM(ENERO:DICIEMBRE!J25) -> 0 | K25: =SUM(ENERO:DICIEMBRE!K25) -> 0 | L25: =SUM(ENERO:DICIEMBRE!L25) -> 0 | M25: =SUM(ENERO:DICIEMBRE!M25) -> 0 | ... AU25: =SUM(ENERO:DICIEMBRE!AU25) -> 0 | AV25: =$CA25&$CB25&CC25&CD25&CE25&CG25&CH25 | CA25: =IF(AND($C25<>0,AN25=""),"* No olvide ingresar la columna Espacios Amigables /adolescentes (Digite CERO si no tiene). ",IF(AN25>$C25,"* El Número de Espacios Amigables no puede superar el Total. ","")) | CB25: =IF(AND(E25>0,OR(AO25="")),"No olvide digitar los campos *TRANS Masculino (Digite CERO si no tiene).",IF(AO25>E25,"* El Número de TRANS Masculino no puede superar el Total Mujeres. ","")) | CC25: =IF(AND(D25>0,OR(AP25="")),"No olvide digitar los campos *TRANS Femenino (Digite CERO si no tiene).",IF(AP25>$D25,"* El Número de TRANS Femenino no puede superar el Total Hombres. ","")) | CD25: =IF(AND($C25<>0,AQ25=""),"* No olvide ingresar la columna Pueblos Originarios (Digite CERO si no tiene). ",IF(AQ25>$C25,"* El Número de Pueblos Originarios no puede superar el Total. ","")) | CE25: =IF(AND($C25<>0,AR25=""),"* No olvide ingresar la columna Migrantes (Digite CERO si no tiene). ",IF(AR25>$C25,"* El Número de Migrantes no puede superar el Total. ","")) | CG25: =IF(AND($C25<>0,AT25=""),"* No olvide ingresar la columna Niños, Niñas, Adolescentes y Jóvenes SENAME (Digite CERO si no tiene). ",IF(AT25>$C25,"* El Número de Niños, Niñas, Adolescentes y Jóvenes SENAME no puede superar el Total. ","")) | CH25: =IF(AND($C25<>0,AU25=""),"* No olvide ingresar la columna Niños, Niñas, Adolescentes y Jóvenes Mejor Niñez (Digite CERO si no tiene). ",IF(AU25>$C25,"* El Número de Niños, Niñas, Adolescentes y Jóvenes Mejor Niñez no puede superar el Total. ","")) | CJ25: =IF(AND($C25<>0,AN25=""),1,IF(AN25>$C25,1,0)) -> 0 | CK25: =IF(AND(E25>0,OR(AO25="")),1,IF(AO25>E25,1,0)) -> 0 | CL25: =IF(AND(D25>0,OR(AP25="")),1,IF(AP25>D25,1,0)) -> 0 | CM25: =IF(AND($C25<>0,AQ25=""),1,IF(AQ25>$C25,1,0)) -> 0 | CN25: =IF(AND($C25<>0,AR25=""),1,IF(AR25>$C25,1,0)) -> 0 | CP25: =IF(AND($C25<>0,AT25=""),1,IF(AT25>$C25,1,0)) -> 0 | CQ25: =IF(AND($C25<>0,AU25=""),1,IF(AU25>$C25,1,0)) -> 0
B26: Matrona/ón | C26: =SUM(D26+E26) -> 2046 | D26: =+F26+H26+J26+L26+N26+P26+R26+T26+V26+X26+Z26+AB26+AD26+AF26+AH26+AJ26+AL26 -> 1513 | E26: =+G26+I26+K26+M26+O26+Q26+S26+U26+W26+Y26+AA26+AC26+AE26+AG26+AI26+AK26+AM26 -> 533 | F26: =SUM(ENERO:DICIEMBRE!F26) -> 0 | G26: =SUM(ENERO:DICIEMBRE!G26) -> 0 | H26: =SUM(ENERO:DICIEMBRE!H26) -> 0 | I26: =SUM(ENERO:DICIEMBRE!I26) -> 0 | J26: =SUM(ENERO:DICIEMBRE!J26) -> 0 | K26: =SUM(ENERO:DICIEMBRE!K26) -> 0 | L26: =SUM(ENERO:DICIEMBRE!L26) -> 5 | M26: =SUM(ENERO:DICIEMBRE!M26) -> 2 | ... AU26: =SUM(ENERO:DICIEMBRE!AU26) -> 0 | AV26: =$CA26&$CB26&CC26&CD26&CE26&CG26&CH26 | CA26: =IF(AND($C26<>0,AN26=""),"* No olvide ingresar la columna Espacios Amigables /adolescentes (Digite CERO si no tiene). ",IF(AN26>$C26,"* El Número de Espacios Amigables no puede superar el Total. ","")) | CB26: =IF(AND(E26>0,OR(AO26="")),"No olvide digitar los campos *TRANS Masculino (Digite CERO si no tiene).",IF(AO26>E26,"* El Número de TRANS Masculino no puede superar el Total Mujeres. ","")) | CC26: =IF(AND(D26>0,OR(AP26="")),"No olvide digitar los campos *TRANS Femenino (Digite CERO si no tiene).",IF(AP26>$D26,"* El Número de TRANS Femenino no puede superar el Total Hombres. ","")) | CD26: =IF(AND($C26<>0,AQ26=""),"* No olvide ingresar la columna Pueblos Originarios (Digite CERO si no tiene). ",IF(AQ26>$C26,"* El Número de Pueblos Originarios no puede superar el Total. ","")) | CE26: =IF(AND($C26<>0,AR26=""),"* No olvide ingresar la columna Migrantes (Digite CERO si no tiene). ",IF(AR26>$C26,"* El Número de Migrantes no puede superar el Total. ","")) | CG26: =IF(AND($C26<>0,AT26=""),"* No olvide ingresar la columna Niños, Niñas, Adolescentes y Jóvenes SENAME (Digite CERO si no tiene). ",IF(AT26>$C26,"* El Número de Niños, Niñas, Adolescentes y Jóvenes SENAME no puede superar el Total. ","")) | CH26: =IF(AND($C26<>0,AU26=""),"* No olvide ingresar la columna Niños, Niñas, Adolescentes y Jóvenes Mejor Niñez (Digite CERO si no tiene). ",IF(AU26>$C26,"* El Número de Niños, Niñas, Adolescentes y Jóvenes Mejor Niñez no puede superar el Total. ","")) | CJ26: =IF(AND($C26<>0,AN26=""),1,IF(AN26>$C26,1,0)) -> 0 | CK26: =IF(AND(E26>0,OR(AO26="")),1,IF(AO26>E26,1,0)) -> 0 | CL26: =IF(AND(D26>0,OR(AP26="")),1,IF(AP26>D26,1,0)) -> 0 | CM26: =IF(AND($C26<>0,AQ26=""),1,IF(AQ26>$C26,1,0)) -> 0 | CN26: =IF(AND($C26<>0,AR26=""),1,IF(AR26>$C26,1,0)) -> 0 | CP26: =IF(AND($C26<>0,AT26=""),1,IF(AT26>$C26,1,0)) -> 0 | CQ26: =IF(AND($C26<>0,AU26=""),1,IF(AU26>$C26,1,0)) -> 0
B27: Nutricionista | C27: =SUM(D27+E27) -> 0 | D27: =+F27+H27+J27+L27+N27+P27+R27+T27+V27+X27+Z27+AB27+AD27+AF27+AH27+AJ27+AL27 -> 0 | E27: =+G27+I27+K27+M27+O27+Q27+S27+U27+W27+Y27+AA27+AC27+AE27+AG27+AI27+AK27+AM27 -> 0 | F27: =SUM(ENERO:DICIEMBRE!F27) -> 0 | G27: =SUM(ENERO:DICIEMBRE!G27) -> 0 | H27: =SUM(ENERO:DICIEMBRE!H27) -> 0 | I27: =SUM(ENERO:DICIEMBRE!I27) -> 0 | J27: =SUM(ENERO:DICIEMBRE!J27) -> 0 | K27: =SUM(ENERO:DICIEMBRE!K27) -> 0 | L27: =SUM(ENERO:DICIEMBRE!L27) -> 0 | M27: =SUM(ENERO:DICIEMBRE!M27) -> 0 | ... AU27: =SUM(ENERO:DICIEMBRE!AU27) -> 0 | AV27: =$CA27&$CB27&CC27&CD27&CE27&CG27&CH27 | CA27: =IF(AND($C27<>0,AN27=""),"* No olvide ingresar la columna Espacios Amigables /adolescentes (Digite CERO si no tiene). ",IF(AN27>$C27,"* El Número de Espacios Amigables no puede superar el Total. ","")) | CB27: =IF(AND(E27>0,OR(AO27="")),"No olvide digitar los campos *TRANS Masculino (Digite CERO si no tiene).",IF(AO27>E27,"* El Número de TRANS Masculino no puede superar el Total Mujeres. ","")) | CC27: =IF(AND(D27>0,OR(AP27="")),"No olvide digitar los campos *TRANS Femenino (Digite CERO si no tiene).",IF(AP27>$D27,"* El Número de TRANS Femenino no puede superar el Total Hombres. ","")) | CD27: =IF(AND($C27<>0,AQ27=""),"* No olvide ingresar la columna Pueblos Originarios (Digite CERO si no tiene). ",IF(AQ27>$C27,"* El Número de Pueblos Originarios no puede superar el Total. ","")) | CE27: =IF(AND($C27<>0,AR27=""),"* No olvide ingresar la columna Migrantes (Digite CERO si no tiene). ",IF(AR27>$C27,"* El Número de Migrantes no puede superar el Total. ","")) | CG27: =IF(AND($C27<>0,AT27=""),"* No olvide ingresar la columna Niños, Niñas, Adolescentes y Jóvenes SENAME (Digite CERO si no tiene). ",IF(AT27>$C27,"* El Número de Niños, Niñas, Adolescentes y Jóvenes SENAME no puede superar el Total. ","")) | CH27: =IF(AND($C27<>0,AU27=""),"* No olvide ingresar la columna Niños, Niñas, Adolescentes y Jóvenes Mejor Niñez (Digite CERO si no tiene). ",IF(AU27>$C27,"* El Número de Niños, Niñas, Adolescentes y Jóvenes Mejor Niñez no puede superar el Total. ","")) | CJ27: =IF(AND($C27<>0,AN27=""),1,IF(AN27>$C27,1,0)) -> 0 | CK27: =IF(AND(E27>0,OR(AO27="")),1,IF(AO27>E27,1,0)) -> 0 | CL27: =IF(AND(D27>0,OR(AP27="")),1,IF(AP27>D27,1,0)) -> 0 | CM27: =IF(AND($C27<>0,AQ27=""),1,IF(AQ27>$C27,1,0)) -> 0 | CN27: =IF(AND($C27<>0,AR27=""),1,IF(AR27>$C27,1,0)) -> 0 | CP27: =IF(AND($C27<>0,AT27=""),1,IF(AT27>$C27,1,0)) -> 0 | CQ27: =IF(AND($C27<>0,AU27=""),1,IF(AU27>$C27,1,0)) -> 0
B28: Trabajador/a Social | C28: =SUM(D28+E28) -> 0 | D28: =+F28+H28+J28+L28+N28+P28+R28+T28+V28+X28+Z28+AB28+AD28+AF28+AH28+AJ28+AL28 -> 0 | E28: =+G28+I28+K28+M28+O28+Q28+S28+U28+W28+Y28+AA28+AC28+AE28+AG28+AI28+AK28+AM28 -> 0 | F28: =SUM(ENERO:DICIEMBRE!F28) -> 0 | G28: =SUM(ENERO:DICIEMBRE!G28) -> 0 | H28: =SUM(ENERO:DICIEMBRE!H28) -> 0 | I28: =SUM(ENERO:DICIEMBRE!I28) -> 0 | J28: =SUM(ENERO:DICIEMBRE!J28) -> 0 | K28: =SUM(ENERO:DICIEMBRE!K28) -> 0 | L28: =SUM(ENERO:DICIEMBRE!L28) -> 0 | M28: =SUM(ENERO:DICIEMBRE!M28) -> 0 | ... AU28: =SUM(ENERO:DICIEMBRE!AU28) -> 0 | AV28: =$CA28&$CB28&CC28&CD28&CE28&CG28&CH28 | CA28: =IF(AND($C28<>0,AN28=""),"* No olvide ingresar la columna Espacios Amigables /adolescentes (Digite CERO si no tiene). ",IF(AN28>$C28,"* El Número de Espacios Amigables no puede superar el Total. ","")) | CB28: =IF(AND(E28>0,OR(AO28="")),"No olvide digitar los campos *TRANS Masculino (Digite CERO si no tiene).",IF(AO28>E28,"* El Número de TRANS Masculino no puede superar el Total Mujeres. ","")) | CC28: =IF(AND(D28>0,OR(AP28="")),"No olvide digitar los campos *TRANS Femenino (Digite CERO si no tiene).",IF(AP28>$D28,"* El Número de TRANS Femenino no puede superar el Total Hombres. ","")) | CD28: =IF(AND($C28<>0,AQ28=""),"* No olvide ingresar la columna Pueblos Originarios (Digite CERO si no tiene). ",IF(AQ28>$C28,"* El Número de Pueblos Originarios no puede superar el Total. ","")) | CE28: =IF(AND($C28<>0,AR28=""),"* No olvide ingresar la columna Migrantes (Digite CERO si no tiene). ",IF(AR28>$C28,"* El Número de Migrantes no puede superar el Total. ","")) | CG28: =IF(AND($C28<>0,AT28=""),"* No olvide ingresar la columna Niños, Niñas, Adolescentes y Jóvenes SENAME (Digite CERO si no tiene). ",IF(AT28>$C28,"* El Número de Niños, Niñas, Adolescentes y Jóvenes SENAME no puede superar el Total. ","")) | CH28: =IF(AND($C28<>0,AU28=""),"* No olvide ingresar la columna Niños, Niñas, Adolescentes y Jóvenes Mejor Niñez (Digite CERO si no tiene). ",IF(AU28>$C28,"* El Número de Niños, Niñas, Adolescentes y Jóvenes Mejor Niñez no puede superar el Total. ","")) | CJ28: =IF(AND($C28<>0,AN28=""),1,IF(AN28>$C28,1,0)) -> 0 | CK28: =IF(AND(E28>0,OR(AO28="")),1,IF(AO28>E28,1,0)) -> 0 | CL28: =IF(AND(D28>0,OR(AP28="")),1,IF(AP28>D28,1,0)) -> 0 | CM28: =IF(AND($C28<>0,AQ28=""),1,IF(AQ28>$C28,1,0)) -> 0 | CN28: =IF(AND($C28<>0,AR28=""),1,IF(AR28>$C28,1,0)) -> 0 | CP28: =IF(AND($C28<>0,AT28=""),1,IF(AT28>$C28,1,0)) -> 0 | CQ28: =IF(AND($C28<>0,AU28=""),1,IF(AU28>$C28,1,0)) -> 0
B29: Psicólogo/a | C29: =SUM(D29+E29) -> 0 | D29: =+F29+H29+J29+L29+N29+P29+R29+T29+V29+X29+Z29+AB29+AD29+AF29+AH29+AJ29+AL29 -> 0 | E29: =+G29+I29+K29+M29+O29+Q29+S29+U29+W29+Y29+AA29+AC29+AE29+AG29+AI29+AK29+AM29 -> 0 | F29: =SUM(ENERO:DICIEMBRE!F29) -> 0 | G29: =SUM(ENERO:DICIEMBRE!G29) -> 0 | H29: =SUM(ENERO:DICIEMBRE!H29) -> 0 | I29: =SUM(ENERO:DICIEMBRE!I29) -> 0 | J29: =SUM(ENERO:DICIEMBRE!J29) -> 0 | K29: =SUM(ENERO:DICIEMBRE!K29) -> 0 | L29: =SUM(ENERO:DICIEMBRE!L29) -> 0 | M29: =SUM(ENERO:DICIEMBRE!M29) -> 0 | ... AU29: =SUM(ENERO:DICIEMBRE!AU29) -> 0 | AV29: =$CA29&$CB29&CC29&CD29&CE29&CG29&CH29 | CA29: =IF(AND($C29<>0,AN29=""),"* No olvide ingresar la columna Espacios Amigables /adolescentes (Digite CERO si no tiene). ",IF(AN29>$C29,"* El Número de Espacios Amigables no puede superar el Total. ","")) | CB29: =IF(AND(E29>0,OR(AO29="")),"No olvide digitar los campos *TRANS Masculino (Digite CERO si no tiene).",IF(AO29>E29,"* El Número de TRANS Masculino no puede superar el Total Mujeres. ","")) | CC29: =IF(AND(D29>0,OR(AP29="")),"No olvide digitar los campos *TRANS Femenino (Digite CERO si no tiene).",IF(AP29>$D29,"* El Número de TRANS Femenino no puede superar el Total Hombres. ","")) | CD29: =IF(AND($C29<>0,AQ29=""),"* No olvide ingresar la columna Pueblos Originarios (Digite CERO si no tiene). ",IF(AQ29>$C29,"* El Número de Pueblos Originarios no puede superar el Total. ","")) | CE29: =IF(AND($C29<>0,AR29=""),"* No olvide ingresar la columna Migrantes (Digite CERO si no tiene). ",IF(AR29>$C29,"* El Número de Migrantes no puede superar el Total. ","")) | CG29: =IF(AND($C29<>0,AT29=""),"* No olvide ingresar la columna Niños, Niñas, Adolescentes y Jóvenes SENAME (Digite CERO si no tiene). ",IF(AT29>$C29,"* El Número de Niños, Niñas, Adolescentes y Jóvenes SENAME no puede superar el Total. ","")) | CH29: =IF(AND($C29<>0,AU29=""),"* No olvide ingresar la columna Niños, Niñas, Adolescentes y Jóvenes Mejor Niñez (Digite CERO si no tiene). ",IF(AU29>$C29,"* El Número de Niños, Niñas, Adolescentes y Jóvenes Mejor Niñez no puede superar el Total. ","")) | CJ29: =IF(AND($C29<>0,AN29=""),1,IF(AN29>$C29,1,0)) -> 0 | CK29: =IF(AND(E29>0,OR(AO29="")),1,IF(AO29>E29,1,0)) -> 0 | CL29: =IF(AND(D29>0,OR(AP29="")),1,IF(AP29>D29,1,0)) -> 0 | CM29: =IF(AND($C29<>0,AQ29=""),1,IF(AQ29>$C29,1,0)) -> 0 | CN29: =IF(AND($C29<>0,AR29=""),1,IF(AR29>$C29,1,0)) -> 0 | CP29: =IF(AND($C29<>0,AT29=""),1,IF(AT29>$C29,1,0)) -> 0 | CQ29: =IF(AND($C29<>0,AU29=""),1,IF(AU29>$C29,1,0)) -> 0
B30: Kinesiólogo/a | C30: =SUM(D30+E30) -> 0 | D30: =+F30+H30+J30+L30+N30+P30+R30+T30+V30+X30+Z30+AB30+AD30+AF30+AH30+AJ30+AL30 -> 0 | E30: =+G30+I30+K30+M30+O30+Q30+S30+U30+W30+Y30+AA30+AC30+AE30+AG30+AI30+AK30+AM30 -> 0 | F30: =SUM(ENERO:DICIEMBRE!F30) -> 0 | G30: =SUM(ENERO:DICIEMBRE!G30) -> 0 | H30: =SUM(ENERO:DICIEMBRE!H30) -> 0 | I30: =SUM(ENERO:DICIEMBRE!I30) -> 0 | J30: =SUM(ENERO:DICIEMBRE!J30) -> 0 | K30: =SUM(ENERO:DICIEMBRE!K30) -> 0 | L30: =SUM(ENERO:DICIEMBRE!L30) -> 0 | M30: =SUM(ENERO:DICIEMBRE!M30) -> 0 | ... AU30: =SUM(ENERO:DICIEMBRE!AU30) -> 0 | AV30: =$CA30&$CB30&CC30&CD30&CE30&CG30&CH30 | CA30: =IF(AND($C30<>0,AN30=""),"* No olvide ingresar la columna Espacios Amigables /adolescentes (Digite CERO si no tiene). ",IF(AN30>$C30,"* El Número de Espacios Amigables no puede superar el Total. ","")) | CB30: =IF(AND(E30>0,OR(AO30="")),"No olvide digitar los campos *TRANS Masculino (Digite CERO si no tiene).",IF(AO30>E30,"* El Número de TRANS Masculino no puede superar el Total Mujeres. ","")) | CC30: =IF(AND(D30>0,OR(AP30="")),"No olvide digitar los campos *TRANS Femenino (Digite CERO si no tiene).",IF(AP30>$D30,"* El Número de TRANS Femenino no puede superar el Total Hombres. ","")) | CD30: =IF(AND($C30<>0,AQ30=""),"* No olvide ingresar la columna Pueblos Originarios (Digite CERO si no tiene). ",IF(AQ30>$C30,"* El Número de Pueblos Originarios no puede superar el Total. ","")) | CE30: =IF(AND($C30<>0,AR30=""),"* No olvide ingresar la columna Migrantes (Digite CERO si no tiene). ",IF(AR30>$C30,"* El Número de Migrantes no puede superar el Total. ","")) | CG30: =IF(AND($C30<>0,AT30=""),"* No olvide ingresar la columna Niños, Niñas, Adolescentes y Jóvenes SENAME (Digite CERO si no tiene). ",IF(AT30>$C30,"* El Número de Niños, Niñas, Adolescentes y Jóvenes SENAME no puede superar el Total. ","")) | CH30: =IF(AND($C30<>0,AU30=""),"* No olvide ingresar la columna Niños, Niñas, Adolescentes y Jóvenes Mejor Niñez (Digite CERO si no tiene). ",IF(AU30>$C30,"* El Número de Niños, Niñas, Adolescentes y Jóvenes Mejor Niñez no puede superar el Total. ","")) | CJ30: =IF(AND($C30<>0,AN30=""),1,IF(AN30>$C30,1,0)) -> 0 | CK30: =IF(AND(E30>0,OR(AO30="")),1,IF(AO30>E30,1,0)) -> 0 | CL30: =IF(AND(D30>0,OR(AP30="")),1,IF(AP30>D30,1,0)) -> 0 | CM30: =IF(AND($C30<>0,AQ30=""),1,IF(AQ30>$C30,1,0)) -> 0 | CN30: =IF(AND($C30<>0,AR30=""),1,IF(AR30>$C30,1,0)) -> 0 | CP30: =IF(AND($C30<>0,AT30=""),1,IF(AT30>$C30,1,0)) -> 0 | CQ30: =IF(AND($C30<>0,AU30=""),1,IF(AU30>$C30,1,0)) -> 0
B31: Terapeuta ocupacional | C31: =SUM(D31+E31) -> 0 | D31: =+F31+H31+J31+L31+N31+P31+R31+T31+V31+X31+Z31+AB31+AD31+AF31+AH31+AJ31+AL31 -> 0 | E31: =+G31+I31+K31+M31+O31+Q31+S31+U31+W31+Y31+AA31+AC31+AE31+AG31+AI31+AK31+AM31 -> 0 | F31: =SUM(ENERO:DICIEMBRE!F31) -> 0 | G31: =SUM(ENERO:DICIEMBRE!G31) -> 0 | H31: =SUM(ENERO:DICIEMBRE!H31) -> 0 | I31: =SUM(ENERO:DICIEMBRE!I31) -> 0 | J31: =SUM(ENERO:DICIEMBRE!J31) -> 0 | K31: =SUM(ENERO:DICIEMBRE!K31) -> 0 | L31: =SUM(ENERO:DICIEMBRE!L31) -> 0 | M31: =SUM(ENERO:DICIEMBRE!M31) -> 0 | ... AU31: =SUM(ENERO:DICIEMBRE!AU31) -> 0 | AV31: =$CA31&$CB31&CC31&CD31&CE31&CG31&CH31 | CA31: =IF(AND($C31<>0,AN31=""),"* No olvide ingresar la columna Espacios Amigables /adolescentes (Digite CERO si no tiene). ",IF(AN31>$C31,"* El Número de Espacios Amigables no puede superar el Total. ","")) | CB31: =IF(AND(E31>0,OR(AO31="")),"No olvide digitar los campos *TRANS Masculino (Digite CERO si no tiene).",IF(AO31>E31,"* El Número de TRANS Masculino no puede superar el Total Mujeres. ","")) | CC31: =IF(AND(D31>0,OR(AP31="")),"No olvide digitar los campos *TRANS Femenino (Digite CERO si no tiene).",IF(AP31>$D31,"* El Número de TRANS Femenino no puede superar el Total Hombres. ","")) | CD31: =IF(AND($C31<>0,AQ31=""),"* No olvide ingresar la columna Pueblos Originarios (Digite CERO si no tiene). ",IF(AQ31>$C31,"* El Número de Pueblos Originarios no puede superar el Total. ","")) | CE31: =IF(AND($C31<>0,AR31=""),"* No olvide ingresar la columna Migrantes (Digite CERO si no tiene). ",IF(AR31>$C31,"* El Número de Migrantes no puede superar el Total. ","")) | CG31: =IF(AND($C31<>0,AT31=""),"* No olvide ingresar la columna Niños, Niñas, Adolescentes y Jóvenes SENAME (Digite CERO si no tiene). ",IF(AT31>$C31,"* El Número de Niños, Niñas, Adolescentes y Jóvenes SENAME no puede superar el Total. ","")) | CH31: =IF(AND($C31<>0,AU31=""),"* No olvide ingresar la columna Niños, Niñas, Adolescentes y Jóvenes Mejor Niñez (Digite CERO si no tiene). ",IF(AU31>$C31,"* El Número de Niños, Niñas, Adolescentes y Jóvenes Mejor Niñez no puede superar el Total. ","")) | CJ31: =IF(AND($C31<>0,AN31=""),1,IF(AN31>$C31,1,0)) -> 0 | CK31: =IF(AND(E31>0,OR(AO31="")),1,IF(AO31>E31,1,0)) -> 0 | CL31: =IF(AND(D31>0,OR(AP31="")),1,IF(AP31>D31,1,0)) -> 0 | CM31: =IF(AND($C31<>0,AQ31=""),1,IF(AQ31>$C31,1,0)) -> 0 | CN31: =IF(AND($C31<>0,AR31=""),1,IF(AR31>$C31,1,0)) -> 0 | CP31: =IF(AND($C31<>0,AT31=""),1,IF(AT31>$C31,1,0)) -> 0 | CQ31: =IF(AND($C31<>0,AU31=""),1,IF(AU31>$C31,1,0)) -> 0
B32: Otro profesional | C32: =SUM(D32+E32) -> 0 | D32: =+F32+H32+J32+L32+N32+P32+R32+T32+V32+X32+Z32+AB32+AD32+AF32+AH32+AJ32+AL32 -> 0 | E32: =+G32+I32+K32+M32+O32+Q32+S32+U32+W32+Y32+AA32+AC32+AE32+AG32+AI32+AK32+AM32 -> 0 | F32: =SUM(ENERO:DICIEMBRE!F32) -> 0 | G32: =SUM(ENERO:DICIEMBRE!G32) -> 0 | H32: =SUM(ENERO:DICIEMBRE!H32) -> 0 | I32: =SUM(ENERO:DICIEMBRE!I32) -> 0 | J32: =SUM(ENERO:DICIEMBRE!J32) -> 0 | K32: =SUM(ENERO:DICIEMBRE!K32) -> 0 | L32: =SUM(ENERO:DICIEMBRE!L32) -> 0 | M32: =SUM(ENERO:DICIEMBRE!M32) -> 0 | ... AU32: =SUM(ENERO:DICIEMBRE!AU32) -> 0 | AV32: =$CA32&$CB32&CC32&CD32&CE32&CG32&CH32 | CA32: =IF(AND($C32<>0,AN32=""),"* No olvide ingresar la columna Espacios Amigables /adolescentes (Digite CERO si no tiene). ",IF(AN32>$C32,"* El Número de Espacios Amigables no puede superar el Total. ","")) | CB32: =IF(AND(E32>0,OR(AO32="")),"No olvide digitar los campos *TRANS Masculino (Digite CERO si no tiene).",IF(AO32>E32,"* El Número de TRANS Masculino no puede superar el Total Mujeres. ","")) | CC32: =IF(AND(D32>0,OR(AP32="")),"No olvide digitar los campos *TRANS Femenino (Digite CERO si no tiene).",IF(AP32>$D32,"* El Número de TRANS Femenino no puede superar el Total Hombres. ","")) | CD32: =IF(AND($C32<>0,AQ32=""),"* No olvide ingresar la columna Pueblos Originarios (Digite CERO si no tiene). ",IF(AQ32>$C32,"* El Número de Pueblos Originarios no puede superar el Total. ","")) | CE32: =IF(AND($C32<>0,AR32=""),"* No olvide ingresar la columna Migrantes (Digite CERO si no tiene). ",IF(AR32>$C32,"* El Número de Migrantes no puede superar el Total. ","")) | CG32: =IF(AND($C32<>0,AT32=""),"* No olvide ingresar la columna Niños, Niñas, Adolescentes y Jóvenes SENAME (Digite CERO si no tiene). ",IF(AT32>$C32,"* El Número de Niños, Niñas, Adolescentes y Jóvenes SENAME no puede superar el Total. ","")) | CH32: =IF(AND($C32<>0,AU32=""),"* No olvide ingresar la columna Niños, Niñas, Adolescentes y Jóvenes Mejor Niñez (Digite CERO si no tiene). ",IF(AU32>$C32,"* El Número de Niños, Niñas, Adolescentes y Jóvenes Mejor Niñez no puede superar el Total. ","")) | CJ32: =IF(AND($C32<>0,AN32=""),1,IF(AN32>$C32,1,0)) -> 0 | CK32: =IF(AND(E32>0,OR(AO32="")),1,IF(AO32>E32,1,0)) -> 0 | CL32: =IF(AND(D32>0,OR(AP32="")),1,IF(AP32>D32,1,0)) -> 0 | CM32: =IF(AND($C32<>0,AQ32=""),1,IF(AQ32>$C32,1,0)) -> 0 | CN32: =IF(AND($C32<>0,AR32=""),1,IF(AR32>$C32,1,0)) -> 0 | CP32: =IF(AND($C32<>0,AT32=""),1,IF(AT32>$C32,1,0)) -> 0 | CQ32: =IF(AND($C32<>0,AU32=""),1,IF(AU32>$C32,1,0)) -> 0
B33: Facilitador/a intercultural | C33: =SUM(D33+E33) -> 0 | D33: =+F33+H33+J33+L33+N33+P33+R33+T33+V33+X33+Z33+AB33+AD33+AF33+AH33+AJ33+AL33 -> 0 | E33: =+G33+I33+K33+M33+O33+Q33+S33+U33+W33+Y33+AA33+AC33+AE33+AG33+AI33+AK33+AM33 -> 0 | F33: =SUM(ENERO:DICIEMBRE!F33) -> 0 | G33: =SUM(ENERO:DICIEMBRE!G33) -> 0 | H33: =SUM(ENERO:DICIEMBRE!H33) -> 0 | I33: =SUM(ENERO:DICIEMBRE!I33) -> 0 | J33: =SUM(ENERO:DICIEMBRE!J33) -> 0 | K33: =SUM(ENERO:DICIEMBRE!K33) -> 0 | L33: =SUM(ENERO:DICIEMBRE!L33) -> 0 | M33: =SUM(ENERO:DICIEMBRE!M33) -> 0 | ... AU33: =SUM(ENERO:DICIEMBRE!AU33) -> 0 | AV33: =$CA33&$CB33&CC33&CD33&CE33&CG33&CH33 | CA33: =IF(AND($C33<>0,AN33=""),"* No olvide ingresar la columna Espacios Amigables /adolescentes (Digite CERO si no tiene). ",IF(AN33>$C33,"* El Número de Espacios Amigables no puede superar el Total. ","")) | CB33: =IF(AND(E33>0,OR(AO33="")),"No olvide digitar los campos *TRANS Masculino (Digite CERO si no tiene).",IF(AO33>E33,"* El Número de TRANS Masculino no puede superar el Total Mujeres. ","")) | CC33: =IF(AND(D33>0,OR(AP33="")),"No olvide digitar los campos *TRANS Femenino (Digite CERO si no tiene).",IF(AP33>$D33,"* El Número de TRANS Femenino no puede superar el Total Hombres. ","")) | CD33: =IF(AND($C33<>0,AQ33=""),"* No olvide ingresar la columna Pueblos Originarios (Digite CERO si no tiene). ",IF(AQ33>$C33,"* El Número de Pueblos Originarios no puede superar el Total. ","")) | CE33: =IF(AND($C33<>0,AR33=""),"* No olvide ingresar la columna Migrantes (Digite CERO si no tiene). ",IF(AR33>$C33,"* El Número de Migrantes no puede superar el Total. ","")) | CG33: =IF(AND($C33<>0,AT33=""),"* No olvide ingresar la columna Niños, Niñas, Adolescentes y Jóvenes SENAME (Digite CERO si no tiene). ",IF(AT33>$C33,"* El Número de Niños, Niñas, Adolescentes y Jóvenes SENAME no puede superar el Total. ","")) | CH33: =IF(AND($C33<>0,AU33=""),"* No olvide ingresar la columna Niños, Niñas, Adolescentes y Jóvenes Mejor Niñez (Digite CERO si no tiene). ",IF(AU33>$C33,"* El Número de Niños, Niñas, Adolescentes y Jóvenes Mejor Niñez no puede superar el Total. ","")) | CJ33: =IF(AND($C33<>0,AN33=""),1,IF(AN33>$C33,1,0)) -> 0 | CK33: =IF(AND(E33>0,OR(AO33="")),1,IF(AO33>E33,1,0)) -> 0 | CL33: =IF(AND(D33>0,OR(AP33="")),1,IF(AP33>D33,1,0)) -> 0 | CM33: =IF(AND($C33<>0,AQ33=""),1,IF(AQ33>$C33,1,0)) -> 0 | CN33: =IF(AND($C33<>0,AR33=""),1,IF(AR33>$C33,1,0)) -> 0 | CP33: =IF(AND($C33<>0,AT33=""),1,IF(AT33>$C33,1,0)) -> 0 | CQ33: =IF(AND($C33<>0,AU33=""),1,IF(AU33>$C33,1,0)) -> 0
B34: Técnico en Enfermería | C34: =SUM(D34+E34) -> 0 | D34: =+F34+H34+J34+L34+N34+P34+R34+T34+V34+X34+Z34+AB34+AD34+AF34+AH34+AJ34+AL34 -> 0 | E34: =+G34+I34+K34+M34+O34+Q34+S34+U34+W34+Y34+AA34+AC34+AE34+AG34+AI34+AK34+AM34 -> 0 | F34: =SUM(ENERO:DICIEMBRE!F34) -> 0 | G34: =SUM(ENERO:DICIEMBRE!G34) -> 0 | H34: =SUM(ENERO:DICIEMBRE!H34) -> 0 | I34: =SUM(ENERO:DICIEMBRE!I34) -> 0 | J34: =SUM(ENERO:DICIEMBRE!J34) -> 0 | K34: =SUM(ENERO:DICIEMBRE!K34) -> 0 | L34: =SUM(ENERO:DICIEMBRE!L34) -> 0 | M34: =SUM(ENERO:DICIEMBRE!M34) -> 0 | ... AU34: =SUM(ENERO:DICIEMBRE!AU34) -> 0 | AV34: =$CA34&$CB34&CC34&CD34&CE34&CG34&CH34 | CA34: =IF(AND($C34<>0,AN34=""),"* No olvide ingresar la columna Espacios Amigables /adolescentes (Digite CERO si no tiene). ",IF(AN34>$C34,"* El Número de Espacios Amigables no puede superar el Total. ","")) | CB34: =IF(AND(E34>0,OR(AO34="")),"No olvide digitar los campos *TRANS Masculino (Digite CERO si no tiene).",IF(AO34>E34,"* El Número de TRANS Masculino no puede superar el Total Mujeres. ","")) | CC34: =IF(AND(D34>0,OR(AP34="")),"No olvide digitar los campos *TRANS Femenino (Digite CERO si no tiene).",IF(AP34>$D34,"* El Número de TRANS Femenino no puede superar el Total Hombres. ","")) | CD34: =IF(AND($C34<>0,AQ34=""),"* No olvide ingresar la columna Pueblos Originarios (Digite CERO si no tiene). ",IF(AQ34>$C34,"* El Número de Pueblos Originarios no puede superar el Total. ","")) | CE34: =IF(AND($C34<>0,AR34=""),"* No olvide ingresar la columna Migrantes (Digite CERO si no tiene). ",IF(AR34>$C34,"* El Número de Migrantes no puede superar el Total. ","")) | CG34: =IF(AND($C34<>0,AT34=""),"* No olvide ingresar la columna Niños, Niñas, Adolescentes y Jóvenes SENAME (Digite CERO si no tiene). ",IF(AT34>$C34,"* El Número de Niños, Niñas, Adolescentes y Jóvenes SENAME no puede superar el Total. ","")) | CH34: =IF(AND($C34<>0,AU34=""),"* No olvide ingresar la columna Niños, Niñas, Adolescentes y Jóvenes Mejor Niñez (Digite CERO si no tiene). ",IF(AU34>$C34,"* El Número de Niños, Niñas, Adolescentes y Jóvenes Mejor Niñez no puede superar el Total. ","")) | CJ34: =IF(AND($C34<>0,AN34=""),1,IF(AN34>$C34,1,0)) -> 0 | CK34: =IF(AND(E34>0,OR(AO34="")),1,IF(AO34>E34,1,0)) -> 0 | CL34: =IF(AND(D34>0,OR(AP34="")),1,IF(AP34>D34,1,0)) -> 0 | CM34: =IF(AND($C34<>0,AQ34=""),1,IF(AQ34>$C34,1,0)) -> 0 | CN34: =IF(AND($C34<>0,AR34=""),1,IF(AR34>$C34,1,0)) -> 0 | CP34: =IF(AND($C34<>0,AT34=""),1,IF(AT34>$C34,1,0)) -> 0 | CQ34: =IF(AND($C34<>0,AU34=""),1,IF(AU34>$C34,1,0)) -> 0
A35: Tabaquismo | B35: Médico/a | C35: =SUM(D35+E35) -> 755 | D35: =SUM(H35+J35+L35+N35+P35+R35+T35+V35+X35+Z35+AB35+AD35+AF35+AH35+AJ35+AL35) -> 553 | E35: =SUM(I35+K35+M35+O35+Q35+S35+U35+W35+Y35+AA35+AC35+AE35+AG35+AI35+AK35+AM35) -> 202 | F35: =SUM(ENERO:DICIEMBRE!F35) -> 0 | G35: =SUM(ENERO:DICIEMBRE!G35) -> 0 | H35: =SUM(ENERO:DICIEMBRE!H35) -> 0 | I35: =SUM(ENERO:DICIEMBRE!I35) -> 0 | J35: =SUM(ENERO:DICIEMBRE!J35) -> 0 | K35: =SUM(ENERO:DICIEMBRE!K35) -> 0 | L35: =SUM(ENERO:DICIEMBRE!L35) -> 3 | M35: =SUM(ENERO:DICIEMBRE!M35) -> 0 | ... AU35: =SUM(ENERO:DICIEMBRE!AU35) -> 0 | AV35: =$CA35&$CB35&CC35&CD35&CE35&CG35&CH35 | CA35: =IF(AND($C35<>0,AN35=""),"* No olvide ingresar la columna Espacios Amigables /adolescentes (Digite CERO si no tiene). ",IF(AN35>$C35,"* El Número de Espacios Amigables no puede superar el Total. ","")) | CB35: =IF(AND(E35>0,OR(AO35="")),"No olvide digitar los campos *TRANS Masculino (Digite CERO si no tiene).",IF(AO35>E35,"* El Número de TRANS Masculino no puede superar el Total Mujeres. ","")) | CC35: =IF(AND(D35>0,OR(AP35="")),"No olvide digitar los campos *TRANS Femenino (Digite CERO si no tiene).",IF(AP35>$D35,"* El Número de TRANS Femenino no puede superar el Total Hombres. ","")) | CD35: =IF(AND($C35<>0,AQ35=""),"* No olvide ingresar la columna Pueblos Originarios (Digite CERO si no tiene). ",IF(AQ35>$C35,"* El Número de Pueblos Originarios no puede superar el Total. ","")) | CE35: =IF(AND($C35<>0,AR35=""),"* No olvide ingresar la columna Migrantes (Digite CERO si no tiene). ",IF(AR35>$C35,"* El Número de Migrantes no puede superar el Total. ","")) | CG35: =IF(AND($C35<>0,AT35=""),"* No olvide ingresar la columna Niños, Niñas, Adolescentes y Jóvenes SENAME (Digite CERO si no tiene). ",IF(AT35>$C35,"* El Número de Niños, Niñas, Adolescentes y Jóvenes SENAME no puede superar el Total. ","")) | CH35: =IF(AND($C35<>0,AU35=""),"* No olvide ingresar la columna Niños, Niñas, Adolescentes y Jóvenes Mejor Niñez (Digite CERO si no tiene). ",IF(AU35>$C35,"* El Número de Niños, Niñas, Adolescentes y Jóvenes Mejor Niñez no puede superar el Total. ","")) | CJ35: =IF(AND($C35<>0,AN35=""),1,IF(AN35>$C35,1,0)) -> 0 | CK35: =IF(AND(E35>0,OR(AO35="")),1,IF(AO35>E35,1,0)) -> 0 | CL35: =IF(AND(D35>0,OR(AP35="")),1,IF(AP35>D35,1,0)) -> 0 | CM35: =IF(AND($C35<>0,AQ35=""),1,IF(AQ35>$C35,1,0)) -> 0 | CN35: =IF(AND($C35<>0,AR35=""),1,IF(AR35>$C35,1,0)) -> 0 | CP35: =IF(AND($C35<>0,AT35=""),1,IF(AT35>$C35,1,0)) -> 0 | CQ35: =IF(AND($C35<>0,AU35=""),1,IF(AU35>$C35,1,0)) -> 0
