Workbook

Sheet CONSOLIDADO
A1: SERVICIO DE SALUD
A2: =CONCATENATE("COMUNA: ",[1]NOMBRE!B2, " (",[1]NOMBRE!C2,[1]NOMBRE!D2,[1]NOMBRE!E2,[1]NOMBRE!F2,[1]NOMBRE!G2,")") -> COMUNA: 0 (00000)
A3: =CONCATENATE("ESTABLECIMIENTO/ESTRATEGIA: ", [1]NOMBRE!B3, " (",[1]NOMBRE!C3,[1]NOMBRE!D3,[1]NOMBRE!E3,[1]NOMBRE!F3,[1]NOMBRE!G3,[1]NOMBRE!H3,")") -> ESTABLECIMIENTO/ESTRATEGIA: 0 (000000)
A4: =CONCATENATE("MES: ",[1]NOMBRE!B6, " (",[1]NOMBRE!C6,[1]NOMBRE!D6,")") -> MES: 0 (00)
A5: =CONCATENATE("AÑO: ",[1]NOMBRE!B7) -> AÑO: 2025
A6: REM-A08. ATENCIÓN DE URGENCIA
A7: SECCIÓN A: ATENCIONES REALIZADAS EN UNIDADES DE URGENCIA DE LA RED
A8: SECCIÓN A.1: ATENCIONES REALIZADAS EN UNIDADES DE EMERGENCIA HOSPITALARIA (Establecimientos de alta y mediana complejidad)
A9: TIPO DE ATENCIÓN | B9: TOTAL | E9: RANGO ETARIO (en años) | AM9: Beneficiarios | AN9: ORIGEN DE LA PROCEDENCIA (Sólo pacientes derivados de establecimientos de la Red) | AR9: Establecimientos de otra Red | AS9: Demanda de Urgencia
E10: 0 - 4 años | G10: 5 - 9 años | I10: 10 - 14 años | K10: 15 - 19 años | M10: 20 - 24 años | O10: 25 - 29 años | Q10: 30 - 34 años | S10: 35 - 39 años | U10: 40 - 44 años | W10: 45 - 49 años | Y10: 50 - 54 años | AA10: 55 - 59 años | AC10: 60 - 64 años | AE10: 65 - 69 años | AG10: 70 - 74 años | AI10: 75 - 79 años | AK10: 80 y más años | AN10: SAPU/ SAR / SUR | AO10: Hospital Baja Complejidad | AP10: Hospital Mediana/Alta Complejidad | AQ10: Otros Establecimientos de la Red
B11: Ambos Sexos | C11: Hombres | D11: Mujeres | E11: Hombres | F11: Mujeres | G11: Hombres | H11: Mujeres | I11: Hombres | J11: Mujeres | K11: Hombres | L11: Mujeres | M11: Hombres | N11: Mujeres | O11: Hombres | P11: Mujeres | Q11: Hombres | R11: Mujeres | S11: Hombres | T11: Mujeres | U11: Hombres | V11: Mujeres | W11: Hombres | X11: Mujeres | Y11: Hombres | Z11: Mujeres | AA11: Hombres | AB11: Mujeres | AC11: Hombres | AD11: Mujeres | AE11: Hombres | AF11: Mujeres | AG11: Hombres | AH11: Mujeres | AI11: Hombres | AJ11: Mujeres | AK11: Hombres | AL11: Mujeres
A12: Atención Médica Niño y Adulto | B12: =SUM(C12+D12) -> 50537 | C12: =SUM(E12+G12+I12+K12+M12+O12+Q12+S12+U12+W12+Y12+AA12+AC12+AE12+AG12+AI12+AK12) -> 25174 | D12: =SUM(F12+H12+J12+L12+N12+P12+R12+T12+V12+X12+Z12+AB12+AD12+AF12+AH12+AJ12+AL12) -> 25363 | E12: =SUM(ENERO:DICIEMBRE!E12) -> 4653 | F12: =SUM(ENERO:DICIEMBRE!F12) -> 4298 | G12: =SUM(ENERO:DICIEMBRE!G12) -> 2607 | H12: =SUM(ENERO:DICIEMBRE!H12) -> 2466 | I12: =SUM(ENERO:DICIEMBRE!I12) -> 2490 | J12: =SUM(ENERO:DICIEMBRE!J12) -> 1943 | K12: =SUM(ENERO:DICIEMBRE!K12) -> 1289 | L12: =SUM(ENERO:DICIEMBRE!L12) -> 1297 | ... AS12: =SUM(ENERO:DICIEMBRE!AS12) -> 57633 | AT12: =CA12&CB12&CC12&CD12&CE12&CF12&CG12 | CA12: =IF(AND($B12>0,AM12="")," * No olvide digitar la variable "&AM$9&""&". Digite CERO si no tiene",IF(AM12>$B12," * La variable "&AM$9&""&" No puede ser mayor al Total.","")) | CB12: =IF(AND($B12>0,AN12="")," * No olvide digitar la variable "&AN$9&""&" SAPU/SAR/SUR. Digite CERO si no tiene",IF(AN12>$B12," * La variable "&AN$9&""&" SAPU/SAR/SUR No puede ser mayor al Total.","")) | CC12: =IF(AND($B12>0,AO12="")," * No olvide digitar la variable "&AN$9&""&" Hospital Baja Complejidad. Digite CERO si no tiene",IF(AO12>$B12," * La variable "&AN$9&""&" Hospital Baja Complejidad No puede ser mayor al Total.","")) | CD12: =IF(AND($B12>0,AP12="")," * No olvide digitar la variable "&AN$9&""&" Hospital Mediana/Alta Complejidad. Digite CERO si no tiene",IF(AP12>$B12," * La variable "&AN$9&""&" Hospital Mediana/Alta Complejidad No puede ser mayor al Total.","")) | CE12: =IF(AND($B12>0,AQ12="")," * No olvide digitar la variable "&AN$9&""&" Otros Establecimientos de la Red. Digite CERO si no tiene",IF(AQ12>$B12," * La variable "&AN$9&""&" Otros Establecimientos de la Red No puede ser mayor al Total.","")) | CF12: =IF(AND($B12>0,AR12="")," * No olvide digitar la variable "&AR$9&""&". Digite CERO si no tiene",IF(AR12>$B12," * La variable "&AR$9&""&" No puede ser mayor al Total.","")) | CG12: =IF(AND($B12>0,AS12="")," * No olvide digitar la variable "&AS$9&""&". Digite CERO si no tiene",IF(B12>AS12," * La variable "&AS$9&""&" No puede ser menor al Total.","")) | CM12: =IF(AND($B12>0,AM12=""),1,IF(AM12>$B12,1,0)) -> 0 | CN12: =IF(AND($B12>0,AN12=""),1,IF(AN12>$B12,1,0)) -> 0 | CO12: =IF(AND($B12>0,AO12=""),1,IF(AO12>$B12,1,0)) -> 0 | CP12: =IF(AND($B12>0,AP12=""),1,IF(AP12>$B12,1,0)) -> 0 | CQ12: =IF(AND($B12>0,AQ12=""),1,IF(AQ12>$B12,1,0)) -> 0 | CR12: =IF(AND($B12>0,AR12=""),1,IF(AR12>$B12,1,0)) -> 0 | CS12: =IF(AND($B12>0,AS12=""),1,IF(B12>AS12,1,0)) -> 0
A13: Atención Médica Gineco-Obstetra | B13: =SUM(C13+D13) -> 3621 | C13: =SUM(E13+G13+I13+K13+M13+O13+Q13+S13+U13+W13+Y13+AA13+AC13+AE13+AG13+AI13+AK13) -> 6 | D13: =SUM(F13+H13+J13+L13+N13+P13+R13+T13+V13+X13+Z13+AB13+AD13+AF13+AH13+AJ13+AL13) -> 3615 | E13: =SUM(ENERO:DICIEMBRE!E13) -> 0 | F13: =SUM(ENERO:DICIEMBRE!F13) -> 0 | G13: =SUM(ENERO:DICIEMBRE!G13) -> 0 | H13: =SUM(ENERO:DICIEMBRE!H13) -> 1 | I13: =SUM(ENERO:DICIEMBRE!I13) -> 0 | J13: =SUM(ENERO:DICIEMBRE!J13) -> 28 | K13: =SUM(ENERO:DICIEMBRE!K13) -> 0 | L13: =SUM(ENERO:DICIEMBRE!L13) -> 268 | ... AS13: =SUM(ENERO:DICIEMBRE!AS13) -> 6061 | AT13: =CA13&CB13&CC13&CD13&CE13&CF13&CG13 | CA13: =IF(AND($B13>0,AM13="")," * No olvide digitar la variable "&AM$9&""&". Digite CERO si no tiene",IF(AM13>$B13," * La variable "&AM$9&""&" No puede ser mayor al Total.","")) | CB13: =IF(AND($B13>0,AN13="")," * No olvide digitar la variable "&AN$9&""&" SAPU/SAR/SUR. Digite CERO si no tiene",IF(AN13>$B13," * La variable "&AN$9&""&" SAPU/SAR/SUR No puede ser mayor al Total.","")) | CC13: =IF(AND($B13>0,AO13="")," * No olvide digitar la variable "&AN$9&""&" Hospital Baja Complejidad. Digite CERO si no tiene",IF(AO13>$B13," * La variable "&AN$9&""&" Hospital Baja Complejidad No puede ser mayor al Total.","")) | CD13: =IF(AND($B13>0,AP13="")," * No olvide digitar la variable "&AN$9&""&" Hospital Mediana/Alta Complejidad. Digite CERO si no tiene",IF(AP13>$B13," * La variable "&AN$9&""&" Hospital Mediana/Alta Complejidad No puede ser mayor al Total.","")) | CE13: =IF(AND($B13>0,AQ13="")," * No olvide digitar la variable "&AN$9&""&" Otros Establecimientos de la Red. Digite CERO si no tiene",IF(AQ13>$B13," * La variable "&AN$9&""&" Otros Establecimientos de la Red No puede ser mayor al Total.","")) | CF13: =IF(AND($B13>0,AR13="")," * No olvide digitar la variable "&AR$9&""&". Digite CERO si no tiene",IF(AR13>$B13," * La variable "&AR$9&""&" No puede ser mayor al Total.","")) | CG13: =IF(AND($B13>0,AS13="")," * No olvide digitar la variable "&AS$9&""&". Digite CERO si no tiene",IF(B13>AS13," * La variable "&AS$9&""&" No puede ser menor al Total.","")) | CM13: =IF(AND($B13>0,AM13=""),1,IF(AM13>$B13,1,0)) -> 0 | CN13: =IF(AND($B13>0,AN13=""),1,IF(AN13>$B13,1,0)) -> 0 | CO13: =IF(AND($B13>0,AO13=""),1,IF(AO13>$B13,1,0)) -> 0 | CP13: =IF(AND($B13>0,AP13=""),1,IF(AP13>$B13,1,0)) -> 0 | CQ13: =IF(AND($B13>0,AQ13=""),1,IF(AQ13>$B13,1,0)) -> 0 | CR13: =IF(AND($B13>0,AR13=""),1,IF(AR13>$B13,1,0)) -> 0 | CS13: =IF(AND($B13>0,AS13=""),1,IF(B13>AS13,1,0)) -> 0
A14: Atención por Matrona/ón | B14: =SUM(C14+D14) -> 2126 | C14: =SUM(E14+G14+I14+K14+M14+O14+Q14+S14+U14+W14+Y14+AA14+AC14+AE14+AG14+AI14+AK14) -> 7 | D14: =SUM(F14+H14+J14+L14+N14+P14+R14+T14+V14+X14+Z14+AB14+AD14+AF14+AH14+AJ14+AL14) -> 2119 | E14: =SUM(ENERO:DICIEMBRE!E14) -> 0 | F14: =SUM(ENERO:DICIEMBRE!F14) -> 0 | G14: =SUM(ENERO:DICIEMBRE!G14) -> 0 | H14: =SUM(ENERO:DICIEMBRE!H14) -> 0 | I14: =SUM(ENERO:DICIEMBRE!I14) -> 0 | J14: =SUM(ENERO:DICIEMBRE!J14) -> 10 | K14: =SUM(ENERO:DICIEMBRE!K14) -> 0 | L14: =SUM(ENERO:DICIEMBRE!L14) -> 133 | ... AS14: =SUM(ENERO:DICIEMBRE!AS14) -> 0 | AT14: =CA14&CB14&CC14&CD14&CE14&CF14&CG14 | CA14: =IF(AND($B14>0,AM14="")," * No olvide digitar la variable "&AM$9&""&". Digite CERO si no tiene",IF(AM14>$B14," * La variable "&AM$9&""&" No puede ser mayor al Total.","")) | CM14: =IF(AND($B14>0,AM14=""),1,IF(AM14>$B14,1,0)) -> 0
A15: Atención por Odontólogo/a | B15: =SUM(C15+D15) -> 0 | C15: =SUM(E15+G15+I15+K15+M15+O15+Q15+S15+U15+W15+Y15+AA15+AC15+AE15+AG15+AI15+AK15) -> 0 | D15: =SUM(F15+H15+J15+L15+N15+P15+R15+T15+V15+X15+Z15+AB15+AD15+AF15+AH15+AJ15+AL15) -> 0 | E15: =SUM(ENERO:DICIEMBRE!E15) -> 0 | F15: =SUM(ENERO:DICIEMBRE!F15) -> 0 | G15: =SUM(ENERO:DICIEMBRE!G15) -> 0 | H15: =SUM(ENERO:DICIEMBRE!H15) -> 0 | I15: =SUM(ENERO:DICIEMBRE!I15) -> 0 | J15: =SUM(ENERO:DICIEMBRE!J15) -> 0 | K15: =SUM(ENERO:DICIEMBRE!K15) -> 0 | L15: =SUM(ENERO:DICIEMBRE!L15) -> 0 | ... AS15: =SUM(ENERO:DICIEMBRE!AS15) -> 0 | AT15: =CA15&CB15&CC15&CD15&CE15&CF15&CG15 | CA15: =IF(AND($B15>0,AM15="")," * No olvide digitar la variable "&AM$9&""&". Digite CERO si no tiene",IF(AM15>$B15," * La variable "&AM$9&""&" No puede ser mayor al Total.","")) | CM15: =IF(AND($B15>0,AM15=""),1,IF(AM15>$B15,1,0)) -> 0
A16: SECCIÓN A.2: ATENCIONES Y ACTIVIDADES DE URGENCIA REALIZADAS EN SAPU Y SAR
A17: ATENCIÓN | B17: TOTAL | E17: RANGO ETARIO (en años) | AM17: Beneficiarios | AN17: Atenciones por profesionales a Honorarios | AO17: Demanda de Urgencia | AP17: Por Campaña de Invierno | AQ17: Niños, Niñas, Adolescentes y Jóvenes SENAME | AR17: Niños, Niñas, Adolescentes y Jóvenes Mejor Niñez
E18: 0 - 4 años | G18: 5 - 9 años | I18: 10 - 14 años | K18: 15 - 19 años | M18: 20 - 24 años | O18: 25 - 29 años | Q18: 30 - 34 años | S18: 35 - 39 años | U18: 40 - 44 años | W18: 45 - 49 años | Y18: 50 - 54 años | AA18: 55 - 59 años | AC18: 60 - 64 años | AE18: 65 - 69 años | AG18: 70 - 74 años | AI18: 75 - 79 años | AK18: 80 y más años
B19: Ambos Sexos | C19: Hombres | D19: Mujeres | E19: Hombres | F19: Mujeres | G19: Hombres | H19: Mujeres | I19: Hombres | J19: Mujeres | K19: Hombres | L19: Mujeres | M19: Hombres | N19: Mujeres | O19: Hombres | P19: Mujeres | Q19: Hombres | R19: Mujeres | S19: Hombres | T19: Mujeres | U19: Hombres | V19: Mujeres | W19: Hombres | X19: Mujeres | Y19: Hombres | Z19: Mujeres | AA19: Hombres | AB19: Mujeres | AC19: Hombres | AD19: Mujeres | AE19: Hombres | AF19: Mujeres | AG19: Hombres | AH19: Mujeres | AI19: Hombres | AJ19: Mujeres | AK19: Hombres | AL19: Mujeres
A20: Atención Medica | B20: =SUM(C20+D20) -> 0 | C20: =SUM(E20+G20+I20+K20+M20+O20+Q20+S20+U20+W20+Y20+AA20+AC20+AE20+AG20+AI20+AK20) -> 0 | D20: =SUM(F20+H20+J20+L20+N20+P20+R20+T20+V20+X20+Z20+AB20+AD20+AF20+AH20+AJ20+AL20) -> 0 | AS20: =$CA20&$CB20&$CC20&$CD20&$CE20&$CF20 | CA20: =IF(AND($B20>0,AM20="")," * No olvide digitar la variable "&AM$17&""&". Digite CERO si no tiene",IF(AM20>$B20," * La variable "&AM$20&""&" No puede ser mayor al Total.","")) | CB20: =IF(AND($B20>0,AN20="")," * No olvide digitar la variable "&AN$17&""&". Digite CERO si no tiene",IF(AN20>$B20," * La variable "&AN$17&""&" No puede ser mayor al Total.","")) | CC20: =IF(AND($B20>0,AO20="")," * No olvide digitar la variable "&AO$17&""&". Digite CERO si no tiene",IF(B20>AO20," * La variable "&AO$17&""&" No puede ser menor al Total.","")) | CD20: =IF(AND($B20>0,AP20="")," * No olvide digitar la variable "&AP$17&""&". Digite CERO si no tiene",IF(AP20>$B20," * La variable "&AP$17&""&" No puede ser mayor al Total.","")) | CE20: =IF(AND($B20>0,AQ20="")," * No olvide digitar la variable "&AQ$17&""&". Digite CERO si no tiene",IF(AQ20>$B20," * La variable "&AQ$17&""&" No puede ser mayor al Total.","")) | CF20: =IF(AND($B20>0,AR20="")," * No olvide digitar la variable "&AR$17&""&". Digite CERO si no tiene",IF(AR20>$B20," * La variable "&AR$17&""&" No puede ser mayor al Total.","")) | CM20: =IF(AND($B20>0,AM20=""),1,IF(AM20>$B20,1,0)) -> 0 | CN20: =IF(AND($B20>0,AN20=""),1,IF(AN20>$B20,1,0)) -> 0 | CO20: =IF(AND($B20>0,AO20=""),1,IF(B20>$AO20,1,0)) -> 0 | CP20: =IF(AND($B20>0,AP20=""),1,IF(AP20>$B20,1,0)) -> 0 | CQ20: =IF(AND($B20>0,AQ20=""),1,IF(AQ20>$B20,1,0)) -> 0 | CR20: =IF(AND($B20>0,AR20=""),1,IF(AR20>$B20,1,0)) -> 0
A21: Enfermería | B21: =SUM(C21+D21) -> 0 | C21: =SUM(E21+G21+I21+K21+M21+O21+Q21+S21+U21+W21+Y21+AA21+AC21+AE21+AG21+AI21+AK21) -> 0 | D21: =SUM(F21+H21+J21+L21+N21+P21+R21+T21+V21+X21+Z21+AB21+AD21+AF21+AH21+AJ21+AL21) -> 0 | AS21: =$CA21&$CB21&$CC21&$CD21&$CE21&$CF21 | CA21: =IF(AND($B21>0,AM21="")," * No olvide digitar la variable "&AM$17&""&". Digite CERO si no tiene",IF(AM21>$B21," * La variable "&AM$20&""&" No puede ser mayor al Total.","")) | CB21: =IF(AND($B21>0,AN21="")," * No olvide digitar la variable "&AN$17&""&". Digite CERO si no tiene",IF(AN21>$B21," * La variable "&AN$17&""&" No puede ser mayor al Total.","")) | CC21: =IF(AND($B21>0,AO21="")," * No olvide digitar la variable "&AO$17&""&". Digite CERO si no tiene",IF(B21>AO21," * La variable "&AO$17&""&" No puede ser menor al Total.","")) | CD21: =IF(AND($B21>0,AP21="")," * No olvide digitar la variable "&AP$17&""&". Digite CERO si no tiene",IF(AP21>$B21," * La variable "&AP$17&""&" No puede ser mayor al Total.","")) | CE21: =IF(AND($B21>0,AQ21="")," * No olvide digitar la variable "&AQ$17&""&". Digite CERO si no tiene",IF(AQ21>$B21," * La variable "&AQ$17&""&" No puede ser mayor al Total.","")) | CF21: =IF(AND($B21>0,AR21="")," * No olvide digitar la variable "&AR$17&""&". Digite CERO si no tiene",IF(AR21>$B21," * La variable "&AR$17&""&" No puede ser mayor al Total.","")) | CM21: =IF(AND($B21>0,AM21=""),1,IF(AM21>$B21,1,0)) -> 0 | CN21: =IF(AND($B21>0,AN21=""),1,IF(AN21>$B21,1,0)) -> 0 | CO21: =IF(AND($B21>0,AO21=""),1,IF(B21>$AO21,1,0)) -> 0 | CP21: =IF(AND($B21>0,AP21=""),1,IF(AP21>$B21,1,0)) -> 0 | CQ21: =IF(AND($B21>0,AQ21=""),1,IF(AQ21>$B21,1,0)) -> 0 | CR21: =IF(AND($B21>0,AR21=""),1,IF(AR21>$B21,1,0)) -> 0
A22: Matronería | B22: =SUM(C22+D22) -> 0 | C22: =SUM(E22+G22+I22+K22+M22+O22+Q22+S22+U22+W22+Y22+AA22+AC22+AE22+AG22+AI22+AK22) -> 0 | D22: =SUM(F22+H22+J22+L22+N22+P22+R22+T22+V22+X22+Z22+AB22+AD22+AF22+AH22+AJ22+AL22) -> 0 | AS22: =$CA22&$CB22&$CC22&$CD22&$CE22&$CF22 | CA22: =IF(AND($B22>0,AM22="")," * No olvide digitar la variable "&AM$17&""&". Digite CERO si no tiene",IF(AM22>$B22," * La variable "&AM$20&""&" No puede ser mayor al Total.","")) | CB22: =IF(AND($B22>0,AN22="")," * No olvide digitar la variable "&AN$17&""&". Digite CERO si no tiene",IF(AN22>$B22," * La variable "&AN$17&""&" No puede ser mayor al Total.","")) | CC22: =IF(AND($B22>0,AO22="")," * No olvide digitar la variable "&AO$17&""&". Digite CERO si no tiene",IF(B22>AO22," * La variable "&AO$17&""&" No puede ser menor al Total.","")) | CE22: =IF(AND($B22>0,AQ22="")," * No olvide digitar la variable "&AQ$17&""&". Digite CERO si no tiene",IF(AQ22>$B22," * La variable "&AQ$17&""&" No puede ser mayor al Total.","")) | CF22: =IF(AND($B22>0,AR22="")," * No olvide digitar la variable "&AR$17&""&". Digite CERO si no tiene",IF(AR22>$B22," * La variable "&AR$17&""&" No puede ser mayor al Total.","")) | CM22: =IF(AND($B22>0,AM22=""),1,IF(AM22>$B22,1,0)) -> 0 | CN22: =IF(AND($B22>0,AN22=""),1,IF(AN22>$B22,1,0)) -> 0 | CO22: =IF(AND($B22>0,AO22=""),1,IF(B22>$AO22,1,0)) -> 0 | CQ22: =IF(AND($B22>0,AQ22=""),1,IF(AQ22>$B22,1,0)) -> 0 | CR22: =IF(AND($B22>0,AR22=""),1,IF(AR22>$B22,1,0)) -> 0
A23: Kinesiología | B23: =SUM(C23+D23) -> 0 | C23: =SUM(E23+G23+I23+K23+M23+O23+Q23+S23+U23+W23+Y23+AA23+AC23+AE23+AG23+AI23+AK23) -> 0 | D23: =SUM(F23+H23+J23+L23+N23+P23+R23+T23+V23+X23+Z23+AB23+AD23+AF23+AH23+AJ23+AL23) -> 0 | AS23: =$CA23&$CB23&$CC23&$CD23&$CE23&$CF23 | CA23: =IF(AND($B23>0,AM23="")," * No olvide digitar la variable "&AM$17&""&". Digite CERO si no tiene",IF(AM23>$B23," * La variable "&AM$20&""&" No puede ser mayor al Total.","")) | CB23: =IF(AND($B23>0,AN23="")," * No olvide digitar la variable "&AN$17&""&". Digite CERO si no tiene",IF(AN23>$B23," * La variable "&AN$17&""&" No puede ser mayor al Total.","")) | CC23: =IF(AND($B23>0,AO23="")," * No olvide digitar la variable "&AO$17&""&". Digite CERO si no tiene",IF(B23>AO23," * La variable "&AO$17&""&" No puede ser menor al Total.","")) | CD23: =IF(AND($B23>0,AP23="")," * No olvide digitar la variable "&AP$17&""&". Digite CERO si no tiene",IF(AP23>$B23," * La variable "&AP$17&""&" No puede ser mayor al Total.","")) | CE23: =IF(AND($B23>0,AQ23="")," * No olvide digitar la variable "&AQ$17&""&". Digite CERO si no tiene",IF(AQ23>$B23," * La variable "&AQ$17&""&" No puede ser mayor al Total.","")) | CF23: =IF(AND($B23>0,AR23="")," * No olvide digitar la variable "&AR$17&""&". Digite CERO si no tiene",IF(AR23>$B23," * La variable "&AR$17&""&" No puede ser mayor al Total.","")) | CM23: =IF(AND($B23>0,AM23=""),1,IF(AM23>$B23,1,0)) -> 0 | CN23: =IF(AND($B23>0,AN23=""),1,IF(AN23>$B23,1,0)) -> 0 | CO23: =IF(AND($B23>0,AO23=""),1,IF(B23>$AO23,1,0)) -> 0 | CP23: =IF(AND($B23>0,AP23=""),1,IF(AP23>$B23,1,0)) -> 0 | CQ23: =IF(AND($B23>0,AQ23=""),1,IF(AQ23>$B23,1,0)) -> 0 | CR23: =IF(AND($B23>0,AR23=""),1,IF(AR23>$B23,1,0)) -> 0
A24: Psicología | B24: =SUM(C24+D24) -> 0 | C24: =SUM(E24+G24+I24+K24+M24+O24+Q24+S24+U24+W24+Y24+AA24+AC24+AE24+AG24+AI24+AK24) -> 0 | D24: =SUM(F24+H24+J24+L24+N24+P24+R24+T24+V24+X24+Z24+AB24+AD24+AF24+AH24+AJ24+AL24) -> 0 | AS24: =$CA24&$CB24&$CC24&$CD24&$CE24&$CF24 | CA24: =IF(AND($B24>0,AM24="")," * No olvide digitar la variable "&AM$17&""&". Digite CERO si no tiene",IF(AM24>$B24," * La variable "&AM$17&""&" No puede ser mayor al Total.","")) | CB24: =IF(AND($B24>0,AN24="")," * No olvide digitar la variable "&AN$17&""&". Digite CERO si no tiene",IF(AN24>$B24," * La variable "&AN$17&""&" No puede ser mayor al Total.","")) | CE24: =IF(AND($B24>0,AQ24="")," * No olvide digitar la variable "&AQ$17&""&" Otros Establecimientos de la Red. Digite CERO si no tiene",IF(AQ24>$B24," * La variable "&AQ$17&""&" Otros Establecimientos de la Red No puede ser mayor al Total.","")) | CF24: =IF(AND($B24>0,AR24="")," * No olvide digitar la variable "&AR$17&""&". Digite CERO si no tiene",IF(AR24>$B24," * La variable "&AR$17&""&" No puede ser mayor al Total.","")) | CM24: =IF(AND($B24>0,AM24=""),1,IF(AM24>$B24,1,0)) -> 0 | CN24: =IF(AND($B24>0,AN24=""),1,IF(AN24>$B24,1,0)) -> 0 | CQ24: =IF(AND($B24>0,AQ24=""),1,IF(AQ24>$B24,1,0)) -> 0 | CR24: =IF(AND($B24>0,AR24=""),1,IF(AR24>$B24,1,0)) -> 0
A25: Trabajo Social | B25: =SUM(C25+D25) -> 0 | C25: =SUM(E25+G25+I25+K25+M25+O25+Q25+S25+U25+W25+Y25+AA25+AC25+AE25+AG25+AI25+AK25) -> 0 | D25: =SUM(F25+H25+J25+L25+N25+P25+R25+T25+V25+X25+Z25+AB25+AD25+AF25+AH25+AJ25+AL25) -> 0 | AS25: =$CA25&$CB25&$CC25&$CD25&$CE25&$CF25 | CA25: =IF(AND($B25>0,AM25="")," * No olvide digitar la variable "&AM$17&""&". Digite CERO si no tiene",IF(AM25>$B25," * La variable "&AM$17&""&" No puede ser mayor al Total.","")) | CB25: =IF(AND($B25>0,AN25="")," * No olvide digitar la variable "&AN$17&""&". Digite CERO si no tiene",IF(AN25>$B25," * La variable "&AN$17&""&" No puede ser mayor al Total.","")) | CE25: =IF(AND($B25>0,AQ25="")," * No olvide digitar la variable "&AQ$17&""&" Otros Establecimientos de la Red. Digite CERO si no tiene",IF(AQ25>$B25," * La variable "&AQ$17&""&" Otros Establecimientos de la Red No puede ser mayor al Total.","")) | CF25: =IF(AND($B25>0,AR25="")," * No olvide digitar la variable "&AR$17&""&". Digite CERO si no tiene",IF(AR25>$B25," * La variable "&AR$17&""&" No puede ser mayor al Total.","")) | CM25: =IF(AND($B25>0,AM25=""),1,IF(AM25>$B25,1,0)) -> 0 | CN25: =IF(AND($B25>0,AN25=""),1,IF(AN25>$B25,1,0)) -> 0 | CQ25: =IF(AND($B25>0,AQ25=""),1,IF(AQ25>$B25,1,0)) -> 0 | CR25: =IF(AND($B25>0,AR25=""),1,IF(AR25>$B25,1,0)) -> 0
A26: Dupla Psicosocial | B26: =SUM(C26+D26) -> 0 | C26: =SUM(E26+G26+I26+K26+M26+O26+Q26+S26+U26+W26+Y26+AA26+AC26+AE26+AG26+AI26+AK26) -> 0 | D26: =SUM(F26+H26+J26+L26+N26+P26+R26+T26+V26+X26+Z26+AB26+AD26+AF26+AH26+AJ26+AL26) -> 0 | AS26: =$CA26&$CB26&$CC26&$CD26&$CE26&$CF26 | CA26: =IF(AND($B26>0,AM26="")," * No olvide digitar la variable "&AM$17&""&". Digite CERO si no tiene",IF(AM26>$B26," * La variable "&AM$17&""&" No puede ser mayor al Total.","")) | CB26: =IF(AND($B26>0,AN26="")," * No olvide digitar la variable "&AN$17&""&". Digite CERO si no tiene",IF(AN26>$B26," * La variable "&AN$17&""&" No puede ser mayor al Total.","")) | CE26: =IF(AND($B26>0,AQ26="")," * No olvide digitar la variable "&AQ$17&""&" Otros Establecimientos de la Red. Digite CERO si no tiene",IF(AQ26>$B26," * La variable "&AQ$17&""&" Otros Establecimientos de la Red No puede ser mayor al Total.","")) | CF26: =IF(AND($B26>0,AR26="")," * No olvide digitar la variable "&AR$17&""&". Digite CERO si no tiene",IF(AR26>$B26," * La variable "&AR$17&""&" No puede ser mayor al Total.","")) | CM26: =IF(AND($B26>0,AM26=""),1,IF(AM26>$B26,1,0)) -> 0 | CN26: =IF(AND($B26>0,AN26=""),1,IF(AN26>$B26,1,0)) -> 0 | CQ26: =IF(AND($B26>0,AQ26=""),1,IF(AQ26>$B26,1,0)) -> 0 | CR26: =IF(AND($B26>0,AR26=""),1,IF(AR26>$B26,1,0)) -> 0
A27: SECCIÓN A.3: ATENCIONES DE URGENCIA REALIZADAS EN ESTABLECIMIENTOS DE BAJA COMPLEJIDAD
A28: PROFESIONAL | B28: TOTAL | E28: RANGO ETARIO (en años) | AM28: Beneficiarios | AN28: Demanda de Urgencia
E29: 0 - 4 | G29: 5 - 9 | I29: 10 - 14 | K29: 15 - 19 | M29: 20 - 24 | O29: 25 - 29 | Q29: 30 - 34 | S29: 35 - 39 | U29: 40 - 44 | W29: 45 - 49 | Y29: 50 - 54 | AA29: 55 - 59 | AC29: 60 - 64 | AE29: 65 - 69 | AG29: 70 - 74 | AI29: 75 - 79 | AK29: 80 y mas
B30: Ambos Sexos | C30: Hombres | D30: Mujeres | E30: Hombres | F30: Mujeres | G30: Hombres | H30: Mujeres | I30: Hombres | J30: Mujeres | K30: Hombres | L30: Mujeres | M30: Hombres | N30: Mujeres | O30: Hombres | P30: Mujeres | Q30: Hombres | R30: Mujeres | S30: Hombres | T30: Mujeres | U30: Hombres | V30: Mujeres | W30: Hombres | X30: Mujeres | Y30: Hombres | Z30: Mujeres | AA30: Hombres | AB30: Mujeres | AC30: Hombres | AD30: Mujeres | AE30: Hombres | AF30: Mujeres | AG30: Hombres | AH30: Mujeres | AI30: Hombres | AJ30: Mujeres | AK30: Hombres | AL30: Mujeres
A31: Médico | B31: =SUM(C31+D31) -> 0 | C31: =SUM(E31+G31+I31+K31+M31+O31+Q31+S31+U31+W31+Y31+AA31+AC31+AE31+AG31+AI31+AK31) -> 0 | D31: =SUM(F31+H31+J31+L31+N31+P31+R31+T31+V31+X31+Z31+AB31+AD31+AF31+AH31+AJ31+AL31) -> 0 | AO31: =CA31&CB31 | CA31: =IF(AND($B31>0,AM31="")," * No olvide digitar la variable "&AM$28&""&". Digite CERO si no tiene",IF(AM31>$B31," * La variable "&AM$28&""&" No puede ser mayor al Total.","")) | CB31: =IF(AND($B31>0,AN31="")," * No olvide digitar la variable "&AN$28&""&". Digite CERO si no tiene",IF(B31>AN31," * La variable "&AN$28&""&" No puede ser menor al Total.","")) | CM31: =IF(AND($B31>0,AM31=""),1,IF(AM31>$B31,1,0)) -> 0 | CN31: =IF(AND($B31>0,AN31=""),1,IF(B31>$AN31,1,0)) -> 0
A32: Enfermera /o | B32: =SUM(C32+D32) -> 0 | C32: =SUM(E32+G32+I32+K32+M32+O32+Q32+S32+U32+W32+Y32+AA32+AC32+AE32+AG32+AI32+AK32) -> 0 | D32: =SUM(F32+H32+J32+L32+N32+P32+R32+T32+V32+X32+Z32+AB32+AD32+AF32+AH32+AJ32+AL32) -> 0 | AO32: =CA32 | CA32: =IF(AND($B32>0,AM32="")," * No olvide digitar la variable "&AM$28&""&". Digite CERO si no tiene",IF(AM32>$B32," * La variable "&AM$28&""&" No puede ser mayor al Total.","")) | CM32: =IF(AND($B32>0,AM32=""),1,IF(AM32>$B32,1,0)) -> 0
A33: Matrona /ón | B33: =SUM(C33+D33) -> 0 | C33: =SUM(E33+G33+I33+K33+M33+O33+Q33+S33+U33+W33+Y33+AA33+AC33+AE33+AG33+AI33+AK33) -> 0 | D33: =SUM(F33+H33+J33+L33+N33+P33+R33+T33+V33+X33+Z33+AB33+AD33+AF33+AH33+AJ33+AL33) -> 0 | AO33: =CA33 | CA33: =IF(AND($B33>0,AM33="")," * No olvide digitar la variable "&AM$28&""&". Digite CERO si no tiene",IF(AM33>$B33," * La variable "&AM$28&""&" No puede ser mayor al Total.","")) | CM33: =IF(AND($B33>0,AM33=""),1,IF(AM33>$B33,1,0)) -> 0
A34: Kinesiólogo/a | B34: =SUM(C34+D34) -> 0 | C34: =SUM(E34+G34+I34+K34+M34+O34+Q34+S34+U34+W34+Y34+AA34+AC34+AE34+AG34+AI34+AK34) -> 0 | D34: =SUM(F34+H34+J34+L34+N34+P34+R34+T34+V34+X34+Z34+AB34+AD34+AF34+AH34+AJ34+AL34) -> 0 | AO34: =CA34 | CA34: =IF(AND($B34>0,AM34="")," * No olvide digitar la variable "&AM$28&""&". Digite CERO si no tiene",IF(AM34>$B34," * La variable "&AM$28&""&" No puede ser mayor al Total.","")) | CM34: =IF(AND($B34>0,AM34=""),1,IF(AM34>$B34,1,0)) -> 0
A35: Técnico en Enfermería | B35: =SUM(C35+D35) -> 0 | C35: =SUM(E35+G35+I35+K35+M35+O35+Q35+S35+U35+W35+Y35+AA35+AC35+AE35+AG35+AI35+AK35) -> 0 | D35: =SUM(F35+H35+J35+L35+N35+P35+R35+T35+V35+X35+Z35+AB35+AD35+AF35+AH35+AJ35+AL35) -> 0 | AO35: =CA35 | CA35: =IF(AND($B35>0,AM35="")," * No olvide digitar la variable "&AM$28&""&". Digite CERO si no tiene",IF(AM35>$B35," * La variable "&AM$28&""&" No puede ser mayor al Total.","")) | CM35: =IF(AND($B35>0,AM35=""),1,IF(AM35>$B35,1,0)) -> 0
A36: Otros Profesionales | B36: =SUM(C36+D36) -> 0 | C36: =SUM(E36+G36+I36+K36+M36+O36+Q36+S36+U36+W36+Y36+AA36+AC36+AE36+AG36+AI36+AK36) -> 0 | D36: =SUM(F36+H36+J36+L36+N36+P36+R36+T36+V36+X36+Z36+AB36+AD36+AF36+AH36+AJ36+AL36) -> 0 | AO36: =CA36 | CA36: =IF(AND($B36>0,AM36="")," * No olvide digitar la variable "&AM$28&""&". Digite CERO si no tiene",IF(AM36>$B36," * La variable "&AM$28&""&" No puede ser mayor al Total.","")) | CM36: =IF(AND($B36>0,AM36=""),1,IF(AM36>$B36,1,0)) -> 0
A37: SECCIÓN A.4: ATENCIONES DE URGENCIA REALIZADAS EN ESTABLECIMIENTOS ATENCIÓN PRIMARIA NO SAPU
A38: PROFESIONAL | B38: TOTAL | E38: RANGO ETARIO (en años) | AM38: Beneficiarios | AN38: Demanda de Urgencia
E39: 0 - 4 años | G39: 5 - 9 años | I39: 10 - 14 años | K39: 15 - 19 años | M39: 20 - 24 años | O39: 25 - 29 años | Q39: 30 - 34 años | S39: 35 - 39 años | U39: 40 - 44 años | W39: 45 - 49 años | Y39: 50 - 54 años | AA39: 55 - 59 años | AC39: 60 - 64 años | AE39: 65 - 69 años | AG39: 70 - 74 años | AI39: 75 - 79 años | AK39: 80 y más años
B40: Ambos Sexos | C40: Hombres | D40: Mujeres | E40: Hombres | F40: Mujeres | G40: Hombres | H40: Mujeres | I40: Hombres | J40: Mujeres | K40: Hombres | L40: Mujeres | M40: Hombres | N40: Mujeres | O40: Hombres | P40: Mujeres | Q40: Hombres | R40: Mujeres | S40: Hombres | T40: Mujeres | U40: Hombres | V40: Mujeres | W40: Hombres | X40: Mujeres | Y40: Hombres | Z40: Mujeres | AA40: Hombres | AB40: Mujeres | AC40: Hombres | AD40: Mujeres | AE40: Hombres | AF40: Mujeres | AG40: Hombres | AH40: Mujeres | AI40: Hombres | AJ40: Mujeres | AK40: Hombres | AL40: Mujeres
A41: Médico | B41: =SUM(C41+D41) -> 0 | C41: =SUM(E41+G41+I41+K41+M41+O41+Q41+S41+U41+W41+Y41+AA41+AC41+AE41+AG41+AI41+AK41) -> 0 | D41: =SUM(F41+H41+J41+L41+N41+P41+R41+T41+V41+X41+Z41+AB41+AD41+AF41+AH41+AJ41+AL41) -> 0 | AO41: =CA41&CB41 | CA41: =IF(AND($B41>0,AM41="")," * No olvide digitar la variable "&AM$38&""&". Digite CERO si no tiene",IF(AM41>$B41," * La variable "&AM$41&""&" No puede ser mayor al Total.","")) | CB41: =IF(AND($B41>0,AN41="")," * No olvide digitar la variable "&AN$38&""&". Digite CERO si no tiene",IF(B41>AN41," * La variable "&AN$38&""&" No puede ser menor al Total.","")) | CM41: =IF(AND($B41>0,AM41=""),1,IF(AM41>$B41,1,0)) -> 0 | CN41: =IF(AND($B41>0,AN41=""),1,IF(B41>$AN41,1,0)) -> 0
A42: Enfermera /o | B42: =SUM(C42+D42) -> 0 | C42: =SUM(E42+G42+I42+K42+M42+O42+Q42+S42+U42+W42+Y42+AA42+AC42+AE42+AG42+AI42+AK42) -> 0 | D42: =SUM(F42+H42+J42+L42+N42+P42+R42+T42+V42+X42+Z42+AB42+AD42+AF42+AH42+AJ42+AL42) -> 0 | AO42: =CA42&CB42 | CA42: =IF(AND($B42>0,AM42="")," * No olvide digitar la variable "&AM$38&""&". Digite CERO si no tiene",IF(AM42>$B42," * La variable "&AM$41&""&" No puede ser mayor al Total.","")) | CB42: =IF(AND($B42>0,AN42="")," * No olvide digitar la variable "&AN$38&""&". Digite CERO si no tiene",IF(B42>AN42," * La variable "&AN$38&""&" No puede ser menor al Total.","")) | CM42: =IF(AND($B42>0,AM42=""),1,IF(AM42>$B42,1,0)) -> 0 | CN42: =IF(AND($B42>0,AN42=""),1,IF(B42>$AN42,1,0)) -> 0
A43: Matrona /ón | B43: =SUM(C43+D43) -> 0 | C43: =SUM(E43+G43+I43+K43+M43+O43+Q43+S43+U43+W43+Y43+AA43+AC43+AE43+AG43+AI43+AK43) -> 0 | D43: =SUM(F43+H43+J43+L43+N43+P43+R43+T43+V43+X43+Z43+AB43+AD43+AF43+AH43+AJ43+AL43) -> 0 | AO43: =CA43&CB43 | CA43: =IF(AND($B43>0,AM43="")," * No olvide digitar la variable "&AM$38&""&". Digite CERO si no tiene",IF(AM43>$B43," * La variable "&AM$41&""&" No puede ser mayor al Total.","")) | CB43: =IF(AND($B43>0,AN43="")," * No olvide digitar la variable "&AN$38&""&". Digite CERO si no tiene",IF(B43>AN43," * La variable "&AN$38&""&" No puede ser menor al Total.","")) | CM43: =IF(AND($B43>0,AM43=""),1,IF(AM43>$B43,1,0)) -> 0 | CN43: =IF(AND($B43>0,AN43=""),1,IF(B43>$AN43,1,0)) -> 0
A44: Kinesiólogo/a | B44: =SUM(C44+D44) -> 0 | C44: =SUM(E44+G44+I44+K44+M44+O44+Q44+S44+U44+W44+Y44+AA44+AC44+AE44+AG44+AI44+AK44) -> 0 | D44: =SUM(F44+H44+J44+L44+N44+P44+R44+T44+V44+X44+Z44+AB44+AD44+AF44+AH44+AJ44+AL44) -> 0 | AO44: =CA44&CB44 | CA44: =IF(AND($B44>0,AM44="")," * No olvide digitar la variable "&AM$38&""&". Digite CERO si no tiene",IF(AM44>$B44," * La variable "&AM$41&""&" No puede ser mayor al Total.","")) | CB44: =IF(AND($B44>0,AN44="")," * No olvide digitar la variable "&AN$38&""&". Digite CERO si no tiene",IF(B44>AN44," * La variable "&AN$38&""&" No puede ser menor al Total.","")) | CM44: =IF(AND($B44>0,AM44=""),1,IF(AM44>$B44,1,0)) -> 0 | CN44: =IF(AND($B44>0,AN44=""),1,IF(B44>$AN44,1,0)) -> 0
A45: Técnico en Enfermería | B45: =SUM(C45+D45) -> 0 | C45: =SUM(E45+G45+I45+K45+M45+O45+Q45+S45+U45+W45+Y45+AA45+AC45+AE45+AG45+AI45+AK45) -> 0 | D45: =SUM(F45+H45+J45+L45+N45+P45+R45+T45+V45+X45+Z45+AB45+AD45+AF45+AH45+AJ45+AL45) -> 0 | AO45: =CA45&CB45 | CA45: =IF(AND($B45>0,AM45="")," * No olvide digitar la variable "&AM$38&""&". Digite CERO si no tiene",IF(AM45>$B45," * La variable "&AM$41&""&" No puede ser mayor al Total.","")) | CB45: =IF(AND($B45>0,AN45="")," * No olvide digitar la variable "&AN$38&""&". Digite CERO si no tiene",IF(B45>AN45," * La variable "&AN$38&""&" No puede ser menor al Total.","")) | CM45: =IF(AND($B45>0,AM45=""),1,IF(AM45>$B45,1,0)) -> 0 | CN45: =IF(AND($B45>0,AN45=""),1,IF(B45>$AN45,1,0)) -> 0
A46: Otros Profesionales | B46: =SUM(C46+D46) -> 0 | C46: =SUM(E46+G46+I46+K46+M46+O46+Q46+S46+U46+W46+Y46+AA46+AC46+AE46+AG46+AI46+AK46) -> 0 | D46: =SUM(F46+H46+J46+L46+N46+P46+R46+T46+V46+X46+Z46+AB46+AD46+AF46+AH46+AJ46+AL46) -> 0 | AO46: =CA46&CB46 | CA46: =IF(AND($B46>0,AM46="")," * No olvide digitar la variable "&AM$38&""&". Digite CERO si no tiene",IF(AM46>$B46," * La variable "&AM$41&""&" No puede ser mayor al Total.","")) | CB46: =IF(AND($B46>0,AN46="")," * No olvide digitar la variable "&AN$38&""&". Digite CERO si no tiene",IF(B46>AN46," * La variable "&AN$38&""&" No puede ser menor al Total.","")) | CM46: =IF(AND($B46>0,AM46=""),1,IF(AM46>$B46,1,0)) -> 0 | CN46: =IF(AND($B46>0,AN46=""),1,IF(B46>$AN46,1,0)) -> 0
A47: SECCIÓN A.5: CONSULTAS EN SERVICIOS DE ATENCIÓN DE URGENCIA RURAL (SUR) Y POSTAS RURALES
A48: PROFESIONAL | B48: TOTAL | E48: RANGO ETARIO(en años) | AM48: Beneficiarios | AN48: Demanda de Urgencia
E49: 0 - 4 | G49: 5 - 9 | I49: 10 - 14 | K49: 15 - 19 | M49: 20 - 24 | O49: 25 - 29 | Q49: 30 - 34 | S49: 35 - 39 | U49: 40 - 44 | W49: 45 - 49 | Y49: 50 - 54 | AA49: 55 - 59 | AC49: 60 - 64 | AE49: 65 - 69 | AG49: 70 - 74 | AI49: 75 - 79 | AK49: 80 y mas
B50: Ambos Sexos | C50: Hombres | D50: Mujeres | E50: Hombres | F50: Mujeres | G50: Hombres | H50: Mujeres | I50: Hombres | J50: Mujeres | K50: Hombres | L50: Mujeres | M50: Hombres | N50: Mujeres | O50: Hombres | P50: Mujeres | Q50: Hombres | R50: Mujeres | S50: Hombres | T50: Mujeres | U50: Hombres | V50: Mujeres | W50: Hombres | X50: Mujeres | Y50: Hombres | Z50: Mujeres | AA50: Hombres | AB50: Mujeres | AC50: Hombres | AD50: Mujeres | AE50: Hombres | AF50: Mujeres | AG50: Hombres | AH50: Mujeres | AI50: Hombres | AJ50: Mujeres | AK50: Hombres | AL50: Mujeres
A51: Médico | B51: =SUM(C51+D51) -> 0 | C51: =SUM(E51+G51+I51+K51+M51+O51+Q51+S51+U51+W51+Y51+AA51+AC51+AE51+AG51+AI51+AK51) -> 0 | D51: =SUM(F51+H51+J51+L51+N51+P51+R51+T51+V51+X51+Z51+AB51+AD51+AF51+AH51+AJ51+AL51) -> 0 | AO51: =CA51&CB51 | CA51: =IF(AND($B51>0,AM51="")," * No olvide digitar la variable "&AM$48&""&". Digite CERO si no tiene",IF(AM51>$B51," * La variable "&AM$48&""&" No puede ser mayor al Total.","")) | CB51: =IF(AND($B51>0,AN51="")," * No olvide digitar la variable "&AN$48&""&". Digite CERO si no tiene",IF(B51>AN51," * La variable "&AN$48&""&" No puede ser menor al Total.","")) | CM51: =IF(AND($B51>0,AM51=""),1,IF(AM51>$B51,1,0)) -> 0 | CN51: =IF(AND($B51>0,AN51=""),1,IF(B51>$AN51,1,0)) -> 0
A52: Enfermera /o | B52: =SUM(C52+D52) -> 0 | C52: =SUM(E52+G52+I52+K52+M52+O52+Q52+S52+U52+W52+Y52+AA52+AC52+AE52+AG52+AI52+AK52) -> 0 | D52: =SUM(F52+H52+J52+L52+N52+P52+R52+T52+V52+X52+Z52+AB52+AD52+AF52+AH52+AJ52+AL52) -> 0 | AO52: =CA52&CB52 | CA52: =IF(AND($B52>0,AM52="")," * No olvide digitar la variable "&AM$48&""&". Digite CERO si no tiene",IF(AM52>$B52," * La variable "&AM$48&""&" No puede ser mayor al Total.","")) | CB52: =IF(AND($B52>0,AN52="")," * No olvide digitar la variable "&AN$48&""&". Digite CERO si no tiene",IF(B52>AN52," * La variable "&AN$48&""&" No puede ser menor al Total.","")) | CM52: =IF(AND($B52>0,AM52=""),1,IF(AM52>$B52,1,0)) -> 0 | CN52: =IF(AND($B52>0,AN52=""),1,IF(B52>$AN52,1,0)) -> 0
A53: Matrona /ón | B53: =SUM(C53+D53) -> 0 | C53: =SUM(E53+G53+I53+K53+M53+O53+Q53+S53+U53+W53+Y53+AA53+AC53+AE53+AG53+AI53+AK53) -> 0 | D53: =SUM(F53+H53+J53+L53+N53+P53+R53+T53+V53+X53+Z53+AB53+AD53+AF53+AH53+AJ53+AL53) -> 0 | AO53: =CA53&CB53 | CA53: =IF(AND($B53>0,AM53="")," * No olvide digitar la variable "&AM$48&""&". Digite CERO si no tiene",IF(AM53>$B53," * La variable "&AM$48&""&" No puede ser mayor al Total.","")) | CB53: =IF(AND($B53>0,AN53="")," * No olvide digitar la variable "&AN$48&""&". Digite CERO si no tiene",IF(B53>AN53," * La variable "&AN$48&""&" No puede ser menor al Total.","")) | CM53: =IF(AND($B53>0,AM53=""),1,IF(AM53>$B53,1,0)) -> 0 | CN53: =IF(AND($B53>0,AN53=""),1,IF(B53>$AN53,1,0)) -> 0
A54: Kinesiólogo/a | B54: =SUM(C54+D54) -> 0 | C54: =SUM(E54+G54+I54+K54+M54+O54+Q54+S54+U54+W54+Y54+AA54+AC54+AE54+AG54+AI54+AK54) -> 0 | D54: =SUM(F54+H54+J54+L54+N54+P54+R54+T54+V54+X54+Z54+AB54+AD54+AF54+AH54+AJ54+AL54) -> 0 | AO54: =CA54&CB54 | CA54: =IF(AND($B54>0,AM54="")," * No olvide digitar la variable "&AM$48&""&". Digite CERO si no tiene",IF(AM54>$B54," * La variable "&AM$48&""&" No puede ser mayor al Total.","")) | CB54: =IF(AND($B54>0,AN54="")," * No olvide digitar la variable "&AN$48&""&". Digite CERO si no tiene",IF(B54>AN54," * La variable "&AN$48&""&" No puede ser menor al Total.","")) | CM54: =IF(AND($B54>0,AM54=""),1,IF(AM54>$B54,1,0)) -> 0 | CN54: =IF(AND($B54>0,AN54=""),1,IF(B54>$AN54,1,0)) -> 0
A55: Técnico en Enfermería | B55: =SUM(C55+D55) -> 0 | C55: =SUM(E55+G55+I55+K55+M55+O55+Q55+S55+U55+W55+Y55+AA55+AC55+AE55+AG55+AI55+AK55) -> 0 | D55: =SUM(F55+H55+J55+L55+N55+P55+R55+T55+V55+X55+Z55+AB55+AD55+AF55+AH55+AJ55+AL55) -> 0 | AO55: =CA55&CB55 | CA55: =IF(AND($B55>0,AM55="")," * No olvide digitar la variable "&AM$48&""&". Digite CERO si no tiene",IF(AM55>$B55," * La variable "&AM$48&""&" No puede ser mayor al Total.","")) | CB55: =IF(AND($B55>0,AN55="")," * No olvide digitar la variable "&AN$48&""&". Digite CERO si no tiene",IF(B55>AN55," * La variable "&AN$48&""&" No puede ser menor al Total.","")) | CM55: =IF(AND($B55>0,AM55=""),1,IF(AM55>$B55,1,0)) -> 0 | CN55: =IF(AND($B55>0,AN55=""),1,IF(B55>$AN55,1,0)) -> 0
A56: Otros Profesionales | B56: =SUM(C56+D56) -> 0 | C56: =SUM(E56+G56+I56+K56+M56+O56+Q56+S56+U56+W56+Y56+AA56+AC56+AE56+AG56+AI56+AK56) -> 0 | D56: =SUM(F56+H56+J56+L56+N56+P56+R56+T56+V56+X56+Z56+AB56+AD56+AF56+AH56+AJ56+AL56) -> 0 | AO56: =CA56&CB56 | CA56: =IF(AND($B56>0,AM56="")," * No olvide digitar la variable "&AM$48&""&". Digite CERO si no tiene",IF(AM56>$B56," * La variable "&AM$48&""&" No puede ser mayor al Total.","")) | CB56: =IF(AND($B56>0,AN56="")," * No olvide digitar la variable "&AN$48&""&". Digite CERO si no tiene",IF(B56>AN56," * La variable "&AN$48&""&" No puede ser menor al Total.","")) | CM56: =IF(AND($B56>0,AM56=""),1,IF(AM56>$B56,1,0)) -> 0 | CN56: =IF(AND($B56>0,AN56=""),1,IF(B56>$AN56,1,0)) -> 0
A57: SECCIÓN B: CATEGORIZACIÓN DE PACIENTES, PREVIA A LA ATENCIÓN MÉDICA U ODONTOLÓGICA (Establecimientos Alta, Mediana, Baja Complejidad, SAPU, SAR, SUR)
A58: CATEGORÍAS | B58: TOTAL | E58: RANGO ETARIO (en años) | AM58: Herramientas de Categorización
E59: 0 - 4 años | G59: 5 - 9 años | I59: 10 - 14 años | K59: 15 - 19 años | M59: 20 - 24 años | O59: 25 - 29 años | Q59: 30 - 34 años | S59: 35 - 39 años | U59: 40 - 44 años | W59: 45 - 49 años | Y59: 50 - 54 años | AA59: 55 - 59 años | AC59: 60 - 64 años | AE59: 65 - 69 años | AG59: 70 - 74 años | AI59: 75 - 79 años | AK59: 80 y más años
B60: Ambos Sexos | C60: Hombres | D60: Mujeres | E60: Hombres | F60: Mujeres | G60: Hombres | H60: Mujeres | I60: Hombres | J60: Mujeres | K60: Hombres | L60: Mujeres | M60: Hombres | N60: Mujeres | O60: Hombres | P60: Mujeres | Q60: Hombres | R60: Mujeres | S60: Hombres | T60: Mujeres | U60: Hombres | V60: Mujeres | W60: Hombres | X60: Mujeres | Y60: Hombres | Z60: Mujeres | AA60: Hombres | AB60: Mujeres | AC60: Hombres | AD60: Mujeres | AE60: Hombres | AF60: Mujeres | AG60: Hombres | AH60: Mujeres | AI60: Hombres | AJ60: Mujeres | AK60: Hombres | AL60: Mujeres | AM60: Discrecional | AN60: Estructurado (ESI)
A61: C1 | B61: =SUM(C61+D61) -> 631 | C61: =SUM(E61+G61+I61+K61+M61+O61+Q61+S61+U61+W61+Y61+AA61+AC61+AE61+AG61+AI61+AK61) -> 351 | D61: =SUM(F61+H61+J61+L61+N61+P61+R61+T61+V61+X61+Z61+AB61+AD61+AF61+AH61+AJ61+AL61) -> 280 | E61: =SUM(ENERO:DICIEMBRE!E61) -> 7 | F61: =SUM(ENERO:DICIEMBRE!F61) -> 6 | G61: =SUM(ENERO:DICIEMBRE!G61) -> 6 | H61: =SUM(ENERO:DICIEMBRE!H61) -> 2 | I61: =SUM(ENERO:DICIEMBRE!I61) -> 4 | J61: =SUM(ENERO:DICIEMBRE!J61) -> 2 | K61: =SUM(ENERO:DICIEMBRE!K61) -> 8 | L61: =SUM(ENERO:DICIEMBRE!L61) -> 13 | ... AN61: =SUM(ENERO:DICIEMBRE!AN61) -> 631 | AO61: =CA61&CB61 | CA61: =IF(AND($B61>0,AM61="")," * No olvide digitar la variable "&AM$58&""&" Discrecional. Digite CERO si no tiene",IF(AM61>$B61," * La variable "&AM$58&""&" Discrecional No puede ser mayor al Total.","")) | CB61: =IF(AND($B61>0,AN61="")," * No olvide digitar la variable "&AM$58&""&" Estructurado (ESI). Digite CERO si no tiene",IF(AN61>$B61," * La variable "&AM$58&""&" Estructurado (ESI) No puede ser mayor al Total.","")) | CM61: =IF(AND($B61>0,AM61=""),1,IF(AM61>$B61,1,0)) -> 0 | CN61: =IF(AND($B61>0,AN61=""),1,IF(AN61>$B61,1,0)) -> 0
A62: C2 | B62: =SUM(C62+D62) -> 14335 | C62: =SUM(E62+G62+I62+K62+M62+O62+Q62+S62+U62+W62+Y62+AA62+AC62+AE62+AG62+AI62+AK62) -> 7290 | D62: =SUM(F62+H62+J62+L62+N62+P62+R62+T62+V62+X62+Z62+AB62+AD62+AF62+AH62+AJ62+AL62) -> 7045 | E62: =SUM(ENERO:DICIEMBRE!E62) -> 1332 | F62: =SUM(ENERO:DICIEMBRE!F62) -> 1302 | G62: =SUM(ENERO:DICIEMBRE!G62) -> 488 | H62: =SUM(ENERO:DICIEMBRE!H62) -> 477 | I62: =SUM(ENERO:DICIEMBRE!I62) -> 346 | J62: =SUM(ENERO:DICIEMBRE!J62) -> 385 | K62: =SUM(ENERO:DICIEMBRE!K62) -> 278 | L62: =SUM(ENERO:DICIEMBRE!L62) -> 305 | ... AN62: =SUM(ENERO:DICIEMBRE!AN62) -> 14335 | AO62: =CA62&CB62 | CA62: =IF(AND($B62>0,AM62="")," * No olvide digitar la variable "&AM$58&""&" Discrecional. Digite CERO si no tiene",IF(AM62>$B62," * La variable "&AM$58&""&" Discrecional No puede ser mayor al Total.","")) | CB62: =IF(AND($B62>0,AN62="")," * No olvide digitar la variable "&AM$58&""&" Estructurado (ESI). Digite CERO si no tiene",IF(AN62>$B62," * La variable "&AM$58&""&" Estructurado (ESI) No puede ser mayor al Total.","")) | CM62: =IF(AND($B62>0,AM62=""),1,IF(AM62>$B62,1,0)) -> 0 | CN62: =IF(AND($B62>0,AN62=""),1,IF(AN62>$B62,1,0)) -> 0
A63: C3 | B63: =SUM(C63+D63) -> 30106 | C63: =SUM(E63+G63+I63+K63+M63+O63+Q63+S63+U63+W63+Y63+AA63+AC63+AE63+AG63+AI63+AK63) -> 14928 | D63: =SUM(F63+H63+J63+L63+N63+P63+R63+T63+V63+X63+Z63+AB63+AD63+AF63+AH63+AJ63+AL63) -> 15178 | E63: =SUM(ENERO:DICIEMBRE!E63) -> 2802 | F63: =SUM(ENERO:DICIEMBRE!F63) -> 2445 | G63: =SUM(ENERO:DICIEMBRE!G63) -> 1585 | H63: =SUM(ENERO:DICIEMBRE!H63) -> 1371 | I63: =SUM(ENERO:DICIEMBRE!I63) -> 1401 | J63: =SUM(ENERO:DICIEMBRE!J63) -> 961 | K63: =SUM(ENERO:DICIEMBRE!K63) -> 810 | L63: =SUM(ENERO:DICIEMBRE!L63) -> 781 | ... AN63: =SUM(ENERO:DICIEMBRE!AN63) -> 30106 | AO63: =CA63&CB63 | CA63: =IF(AND($B63>0,AM63="")," * No olvide digitar la variable "&AM$58&""&" Discrecional. Digite CERO si no tiene",IF(AM63>$B63," * La variable "&AM$58&""&" Discrecional No puede ser mayor al Total.","")) | CB63: =IF(AND($B63>0,AN63="")," * No olvide digitar la variable "&AM$58&""&" Estructurado (ESI). Digite CERO si no tiene",IF(AN63>$B63," * La variable "&AM$58&""&" Estructurado (ESI) No puede ser mayor al Total.","")) | CM63: =IF(AND($B63>0,AM63=""),1,IF(AM63>$B63,1,0)) -> 0 | CN63: =IF(AND($B63>0,AN63=""),1,IF(AN63>$B63,1,0)) -> 0
A64: C4 | B64: =SUM(C64+D64) -> 5329 | C64: =SUM(E64+G64+I64+K64+M64+O64+Q64+S64+U64+W64+Y64+AA64+AC64+AE64+AG64+AI64+AK64) -> 2561 | D64: =SUM(F64+H64+J64+L64+N64+P64+R64+T64+V64+X64+Z64+AB64+AD64+AF64+AH64+AJ64+AL64) -> 2768 | E64: =SUM(ENERO:DICIEMBRE!E64) -> 507 | F64: =SUM(ENERO:DICIEMBRE!F64) -> 534 | G64: =SUM(ENERO:DICIEMBRE!G64) -> 517 | H64: =SUM(ENERO:DICIEMBRE!H64) -> 613 | I64: =SUM(ENERO:DICIEMBRE!I64) -> 731 | J64: =SUM(ENERO:DICIEMBRE!J64) -> 590 | K64: =SUM(ENERO:DICIEMBRE!K64) -> 193 | L64: =SUM(ENERO:DICIEMBRE!L64) -> 184 | ... AN64: =SUM(ENERO:DICIEMBRE!AN64) -> 5329 | AO64: =CA64&CB64 | CA64: =IF(AND($B64>0,AM64="")," * No olvide digitar la variable "&AM$58&""&" Discrecional. Digite CERO si no tiene",IF(AM64>$B64," * La variable "&AM$58&""&" Discrecional No puede ser mayor al Total.","")) | CB64: =IF(AND($B64>0,AN64="")," * No olvide digitar la variable "&AM$58&""&" Estructurado (ESI). Digite CERO si no tiene",IF(AN64>$B64," * La variable "&AM$58&""&" Estructurado (ESI) No puede ser mayor al Total.","")) | CM64: =IF(AND($B64>0,AM64=""),1,IF(AM64>$B64,1,0)) -> 0 | CN64: =IF(AND($B64>0,AN64=""),1,IF(AN64>$B64,1,0)) -> 0
A65: C5 | B65: =SUM(C65+D65) -> 136 | C65: =SUM(E65+G65+I65+K65+M65+O65+Q65+S65+U65+W65+Y65+AA65+AC65+AE65+AG65+AI65+AK65) -> 43 | D65: =SUM(F65+H65+J65+L65+N65+P65+R65+T65+V65+X65+Z65+AB65+AD65+AF65+AH65+AJ65+AL65) -> 93 | E65: =SUM(ENERO:DICIEMBRE!E65) -> 5 | F65: =SUM(ENERO:DICIEMBRE!F65) -> 11 | G65: =SUM(ENERO:DICIEMBRE!G65) -> 11 | H65: =SUM(ENERO:DICIEMBRE!H65) -> 3 | I65: =SUM(ENERO:DICIEMBRE!I65) -> 8 | J65: =SUM(ENERO:DICIEMBRE!J65) -> 5 | K65: =SUM(ENERO:DICIEMBRE!K65) -> 0 | L65: =SUM(ENERO:DICIEMBRE!L65) -> 14 | ... AN65: =SUM(ENERO:DICIEMBRE!AN65) -> 136 | AO65: =CA65&CB65 | CA65: =IF(AND($B65>0,AM65="")," * No olvide digitar la variable "&AM$58&""&" Discrecional. Digite CERO si no tiene",IF(AM65>$B65," * La variable "&AM$58&""&" Discrecional No puede ser mayor al Total.","")) | CB65: =IF(AND($B65>0,AN65="")," * No olvide digitar la variable "&AM$58&""&" Estructurado (ESI). Digite CERO si no tiene",IF(AN65>$B65," * La variable "&AM$58&""&" Estructurado (ESI) No puede ser mayor al Total.","")) | CM65: =IF(AND($B65>0,AM65=""),1,IF(AM65>$B65,1,0)) -> 0 | CN65: =IF(AND($B65>0,AN65=""),1,IF(AN65>$B65,1,0)) -> 0
A66: Sin Categorización | B66: =SUM(C66+D66) -> 0 | C66: =SUM(E66+G66+I66+K66+M66+O66+Q66+S66+U66+W66+Y66+AA66+AC66+AE66+AG66+AI66+AK66) -> 0 | D66: =SUM(F66+H66+J66+L66+N66+P66+R66+T66+V66+X66+Z66+AB66+AD66+AF66+AH66+AJ66+AL66) -> 0 | E66: =SUM(ENERO:DICIEMBRE!E66) -> 0 | F66: =SUM(ENERO:DICIEMBRE!F66) -> 0 | G66: =SUM(ENERO:DICIEMBRE!G66) -> 0 | H66: =SUM(ENERO:DICIEMBRE!H66) -> 0 | I66: =SUM(ENERO:DICIEMBRE!I66) -> 0 | J66: =SUM(ENERO:DICIEMBRE!J66) -> 0 | K66: =SUM(ENERO:DICIEMBRE!K66) -> 0 | L66: =SUM(ENERO:DICIEMBRE!L66) -> 0 | ... AN66: =SUM(ENERO:DICIEMBRE!AN66) -> 0
A67: TOTAL | B67: =SUM(B61:B66) -> 50537 | C67: =SUM(C61:C66) -> 25173 | D67: =SUM(D61:D66) -> 25364 | E67: =SUM(E61:E66) -> 4653 | F67: =SUM(F61:F66) -> 4298 | G67: =SUM(G61:G66) -> 2607 | H67: =SUM(H61:H66) -> 2466 | I67: =SUM(I61:I66) -> 2490 | ... AL67: =SUM(AL61:AL66) -> 1763 | AM67: =SUM(AM61:AM65) -> 0 | AN67: =SUM(AN61:AN65) -> 50537
A68: SECCIÓN B.1: CATEGORIZACIÓN DE PACIENTES DE URGENCIA GINECO OBSTÉTRICA PREVIO A LA ATENCIÓN CLÍNICA POR MATRÓN (A) Y/O MÉDICO GINECO-OBSTETRA (Establecimientos alta, mediana y baja complejidad)
A69: CATEGORÍAS | B69: TOTAL | E69: RANGO ETARIO Y SEXO
E70: 0 - 4 años | G70: 5 - 9 años | I70: 10 - 14 años | K70: 15 - 19 años | M70: 20 - 24 años | O70: 25 - 29 años | Q70: 30 - 34 años | S70: 35 - 39 años | U70: 40 - 44 años | W70: 45 - 49 años | Y70: 50 - 54 años | AA70: 55 - 59 años | AC70: 60 - 64 años | AE70: 65 - 69 años | AG70: 70 - 74 años | AI70: 75 - 79 años | AK70: 80 y más años
B71: Ambos Sexos | C71: Hombres | D71: Mujeres | E71: Hombres | F71: Mujeres | G71: Hombres | H71: Mujeres | I71: Hombres | J71: Mujeres | K71: Hombres | L71: Mujeres | M71: Hombres | N71: Mujeres | O71: Hombres | P71: Mujeres | Q71: Hombres | R71: Mujeres | S71: Hombres | T71: Mujeres | U71: Hombres | V71: Mujeres | W71: Hombres | X71: Mujeres | Y71: Hombres | Z71: Mujeres | AA71: Hombres | AB71: Mujeres | AC71: Hombres | AD71: Mujeres | AE71: Hombres | AF71: Mujeres | AG71: Hombres | AH71: Mujeres | AI71: Hombres | AJ71: Mujeres | AK71: Hombres | AL71: Mujeres
A72: C1 | B72: =SUM(C72+D72) -> 91 | C72: =SUM(E72+G72+I72+K72+M72+O72+Q72+S72+U72+W72+Y72+AA72+AC72+AE72+AG72+AI72+AK72) -> 0 | D72: =SUM(F72+H72+J72+L72+N72+P72+R72+T72+V72+X72+Z72+AB72+AD72+AF72+AH72+AJ72+AL72) -> 91 | E72: =SUM(ENERO:DICIEMBRE!E72) -> 0 | F72: =SUM(ENERO:DICIEMBRE!F72) -> 0 | G72: =SUM(ENERO:DICIEMBRE!G72) -> 0 | H72: =SUM(ENERO:DICIEMBRE!H72) -> 0 | I72: =SUM(ENERO:DICIEMBRE!I72) -> 0 | J72: =SUM(ENERO:DICIEMBRE!J72) -> 0 | K72: =SUM(ENERO:DICIEMBRE!K72) -> 0 | L72: =SUM(ENERO:DICIEMBRE!L72) -> 5 | ... AL72: =SUM(ENERO:DICIEMBRE!AL72) -> 0
A73: C2 | B73: =SUM(C73+D73) -> 87 | C73: =SUM(E73+G73+I73+K73+M73+O73+Q73+S73+U73+W73+Y73+AA73+AC73+AE73+AG73+AI73+AK73) -> 0 | D73: =SUM(F73+H73+J73+L73+N73+P73+R73+T73+V73+X73+Z73+AB73+AD73+AF73+AH73+AJ73+AL73) -> 87 | E73: =SUM(ENERO:DICIEMBRE!E73) -> 0 | F73: =SUM(ENERO:DICIEMBRE!F73) -> 0 | G73: =SUM(ENERO:DICIEMBRE!G73) -> 0 | H73: =SUM(ENERO:DICIEMBRE!H73) -> 0 | I73: =SUM(ENERO:DICIEMBRE!I73) -> 0 | J73: =SUM(ENERO:DICIEMBRE!J73) -> 2 | K73: =SUM(ENERO:DICIEMBRE!K73) -> 0 | L73: =SUM(ENERO:DICIEMBRE!L73) -> 5 | ... AL73: =SUM(ENERO:DICIEMBRE!AL73) -> 1
A74: C3 | B74: =SUM(C74+D74) -> 3325 | C74: =SUM(E74+G74+I74+K74+M74+O74+Q74+S74+U74+W74+Y74+AA74+AC74+AE74+AG74+AI74+AK74) -> 1 | D74: =SUM(F74+H74+J74+L74+N74+P74+R74+T74+V74+X74+Z74+AB74+AD74+AF74+AH74+AJ74+AL74) -> 3324 | E74: =SUM(ENERO:DICIEMBRE!E74) -> 0 | F74: =SUM(ENERO:DICIEMBRE!F74) -> 0 | G74: =SUM(ENERO:DICIEMBRE!G74) -> 0 | H74: =SUM(ENERO:DICIEMBRE!H74) -> 1 | I74: =SUM(ENERO:DICIEMBRE!I74) -> 0 | J74: =SUM(ENERO:DICIEMBRE!J74) -> 25 | K74: =SUM(ENERO:DICIEMBRE!K74) -> 0 | L74: =SUM(ENERO:DICIEMBRE!L74) -> 224 | ... AL74: =SUM(ENERO:DICIEMBRE!AL74) -> 0
A75: C4 | B75: =SUM(C75+D75) -> 83 | C75: =SUM(E75+G75+I75+K75+M75+O75+Q75+S75+U75+W75+Y75+AA75+AC75+AE75+AG75+AI75+AK75) -> 0 | D75: =SUM(F75+H75+J75+L75+N75+P75+R75+T75+V75+X75+Z75+AB75+AD75+AF75+AH75+AJ75+AL75) -> 83 | E75: =SUM(ENERO:DICIEMBRE!E75) -> 0 | F75: =SUM(ENERO:DICIEMBRE!F75) -> 0 | G75: =SUM(ENERO:DICIEMBRE!G75) -> 0 | H75: =SUM(ENERO:DICIEMBRE!H75) -> 0 | I75: =SUM(ENERO:DICIEMBRE!I75) -> 0 | J75: =SUM(ENERO:DICIEMBRE!J75) -> 1 | K75: =SUM(ENERO:DICIEMBRE!K75) -> 0 | L75: =SUM(ENERO:DICIEMBRE!L75) -> 3 | ... AL75: =SUM(ENERO:DICIEMBRE!AL75) -> 4
A76: C5 | B76: =SUM(C76+D76) -> 1548 | C76: =SUM(E76+G76+I76+K76+M76+O76+Q76+S76+U76+W76+Y76+AA76+AC76+AE76+AG76+AI76+AK76) -> 0 | D76: =SUM(F76+H76+J76+L76+N76+P76+R76+T76+V76+X76+Z76+AB76+AD76+AF76+AH76+AJ76+AL76) -> 1548 | E76: =SUM(ENERO:DICIEMBRE!E76) -> 0 | F76: =SUM(ENERO:DICIEMBRE!F76) -> 0 | G76: =SUM(ENERO:DICIEMBRE!G76) -> 0 | H76: =SUM(ENERO:DICIEMBRE!H76) -> 0 | I76: =SUM(ENERO:DICIEMBRE!I76) -> 0 | J76: =SUM(ENERO:DICIEMBRE!J76) -> 8 | K76: =SUM(ENERO:DICIEMBRE!K76) -> 0 | L76: =SUM(ENERO:DICIEMBRE!L76) -> 113 | ... AL76: =SUM(ENERO:DICIEMBRE!AL76) -> 14
A77: Sin Categorización | B77: =SUM(C77+D77) -> 0 | C77: =SUM(E77+G77+I77+K77+M77+O77+Q77+S77+U77+W77+Y77+AA77+AC77+AE77+AG77+AI77+AK77) -> 0 | D77: =SUM(F77+H77+J77+L77+N77+P77+R77+T77+V77+X77+Z77+AB77+AD77+AF77+AH77+AJ77+AL77) -> 0 | E77: =SUM(ENERO:DICIEMBRE!E77) -> 0 | F77: =SUM(ENERO:DICIEMBRE!F77) -> 0 | G77: =SUM(ENERO:DICIEMBRE!G77) -> 0 | H77: =SUM(ENERO:DICIEMBRE!H77) -> 0 | I77: =SUM(ENERO:DICIEMBRE!I77) -> 0 | J77: =SUM(ENERO:DICIEMBRE!J77) -> 0 | K77: =SUM(ENERO:DICIEMBRE!K77) -> 0 | L77: =SUM(ENERO:DICIEMBRE!L77) -> 0 | ... AL77: =SUM(ENERO:DICIEMBRE!AL77) -> 0
A78: TOTAL | B78: =SUM(B72:B77) -> 5134 | C78: =SUM(C72:C77) -> 1 | D78: =SUM(D72:D77) -> 5133 | E78: =SUM(E72:E77) -> 0 | F78: =SUM(F72:F77) -> 0 | G78: =SUM(G72:G77) -> 0 | H78: =SUM(H72:H77) -> 1 | I78: =SUM(I72:I77) -> 0 | ... AL78: =SUM(AL72:AL77) -> 19
A79: SECCIÓN C: ATENCIONES REALIZADAS POR MÉDICOS Y ODONTÓLOGOS ESPECIALISTAS EN LAS UNIDADES DE URGENCIA HOSPITALARIA
A80: ESPECIALIDADES | B80: TOTAL | C80: De turno | D80: Consultor de llamada | E80: Otros
A81: Medicina Interna | B81: =SUM(C81:E81) -> 1 | C81: =SUM(ENERO:DICIEMBRE!C81) -> 1 | D81: =SUM(ENERO:DICIEMBRE!D81) -> 0 | E81: =SUM(ENERO:DICIEMBRE!E81) -> 0
A82: Neurología Adultos | B82: =SUM(C82:E82) -> 0 | C82: =SUM(ENERO:DICIEMBRE!C82) -> 0 | D82: =SUM(ENERO:DICIEMBRE!D82) -> 0 | E82: =SUM(ENERO:DICIEMBRE!E82) -> 0
A83: Neurología Pediátrica | B83: =SUM(C83:E83) -> 0 | C83: =SUM(ENERO:DICIEMBRE!C83) -> 0 | D83: =SUM(ENERO:DICIEMBRE!D83) -> 0 | E83: =SUM(ENERO:DICIEMBRE!E83) -> 0
A84: Obstetricia y Ginecología | B84: =SUM(C84:E84) -> 2697 | C84: =SUM(ENERO:DICIEMBRE!C84) -> 2697 | D84: =SUM(ENERO:DICIEMBRE!D84) -> 0 | E84: =SUM(ENERO:DICIEMBRE!E84) -> 0
A85: Oftalmología | B85: =SUM(C85:E85) -> 0 | C85: =SUM(ENERO:DICIEMBRE!C85) -> 0 | D85: =SUM(ENERO:DICIEMBRE!D85) -> 0 | E85: =SUM(ENERO:DICIEMBRE!E85) -> 0
A86: Otorrinolaringología | B86: =SUM(C86:E86) -> 0 | C86: =SUM(ENERO:DICIEMBRE!C86) -> 0 | D86: =SUM(ENERO:DICIEMBRE!D86) -> 0 | E86: =SUM(ENERO:DICIEMBRE!E86) -> 0
A87: Pediatría | B87: =SUM(C87:E87) -> 1511 | C87: =SUM(ENERO:DICIEMBRE!C87) -> 1511 | D87: =SUM(ENERO:DICIEMBRE!D87) -> 0 | E87: =SUM(ENERO:DICIEMBRE!E87) -> 0
A88: Traumatología y Ortopedia | B88: =SUM(C88:E88) -> 2 | C88: =SUM(ENERO:DICIEMBRE!C88) -> 2 | D88: =SUM(ENERO:DICIEMBRE!D88) -> 0 | E88: =SUM(ENERO:DICIEMBRE!E88) -> 0
A89: Neurocirugía | B89: =SUM(C89:E89) -> 0 | C89: =SUM(ENERO:DICIEMBRE!C89) -> 0 | D89: =SUM(ENERO:DICIEMBRE!D89) -> 0 | E89: =SUM(ENERO:DICIEMBRE!E89) -> 0
A90: Psiquiatría Adultos | B90: =SUM(C90:E90) -> 0 | C90: =SUM(ENERO:DICIEMBRE!C90) -> 0 | D90: =SUM(ENERO:DICIEMBRE!D90) -> 0 | E90: =SUM(ENERO:DICIEMBRE!E90) -> 0
A91: Psiquiatría Pediátrica y Adolescentes | B91: =SUM(C91:E91) -> 1 | C91: =SUM(ENERO:DICIEMBRE!C91) -> 1 | D91: =SUM(ENERO:DICIEMBRE!D91) -> 0 | E91: =SUM(ENERO:DICIEMBRE!E91) -> 0
A92: Urología | B92: =SUM(C92:E92) -> 0 | C92: =SUM(ENERO:DICIEMBRE!C92) -> 0 | D92: =SUM(ENERO:DICIEMBRE!D92) -> 0 | E92: =SUM(ENERO:DICIEMBRE!E92) -> 0
... A100: Odontólogo | B100: =SUM(C100:E100) -> 0 | C100: =SUM(ENERO:DICIEMBRE!C100) -> 0 | D100: =SUM(ENERO:DICIEMBRE!D100) -> 0 | E100: =SUM(ENERO:DICIEMBRE!E100) -> 0
A101: TOTAL | B101: =SUM(B81:B100) -> 6115 | C101: =SUM(C81:C100) -> 6115 | D101: =SUM(D81:D100) -> 0 | E101: =SUM(E81:E100) -> 0
A102: SECCIÓN D: PACIENTES CON INDICACIÓN DE HOSPITALIZACIÓN EN ESPERA DE CAMAS EN UEH (establecimientos de alta, mediana y baja complejidad)
A103: TIPO DE PACIENTES | C103: TOTAL | F103: RANGO ETARIO (en años) | AN103: Beneficiarios | AO103: Hospitalización Domiciliaria
F104: 0 - 4 años | H104: 5 - 9 años | J104: 10 - 14 años | L104: 15 - 19 años | N104: 20 - 24 años | P104: 25 - 29 años | R104: 30 - 34 años | T104: 35 - 39 años | V104: 40 - 44 años | X104: 45 - 49 años | Z104: 50 - 54 años | AB104: 55 - 59 años | AD104: 60 - 64 años | AF104: 65 - 69 años | AH104: 70 - 74 años | AJ104: 75 - 79 años | AL104: 80 y más años
C105: Ambos Sexos | D105: Hombres | E105: Mujeres | F105: Hombres | G105: Mujeres | H105: Hombres | I105: Mujeres | J105: Hombres | K105: Mujeres | L105: Hombres | M105: Mujeres | N105: Hombres | O105: Mujeres | P105: Hombres | Q105: Mujeres | R105: Hombres | S105: Mujeres | T105: Hombres | U105: Mujeres | V105: Hombres | W105: Mujeres | X105: Hombres | Y105: Mujeres | Z105: Hombres | AA105: Mujeres | AB105: Hombres | AC105: Mujeres | AD105: Hombres | AE105: Mujeres | AF105: Hombres | AG105: Mujeres | AH105: Hombres | AI105: Mujeres | AJ105: Hombres | AK105: Mujeres | AL105: Hombres | AM105: Mujeres
A106: Total de pacientes con indicación de hospitalización | C106: =SUM(C107:C113) -> 8325 | D106: =SUM(D107:D113) -> 4134 | E106: =SUM(E107:E113) -> 4191 | F106: =SUM(F107:F113) -> 249 | G106: =SUM(G107:G113) -> 257 | H106: =SUM(H107:H113) -> 130 | I106: =SUM(I107:I113) -> 100 | J106: =SUM(J107:J113) -> 143 | ... AN106: =SUM(AN107:AN113) -> 7864 | AO106: =SUM(AO107:AO109) -> 0
A107: Pacientes que ingresan a cama hospitalaria según tiempo de demora al ingreso | B107: Menos de 12 Horas | C107: =SUM(D107+E107) -> 4504 | D107: =SUM(F107+H107+J107+L107+N107+P107+R107+T107+V107+X107+Z107+AB107+AD107+AF107+AH107+AJ107+AL107) -> 2151 | E107: =SUM(G107+I107+K107+M107+O107+Q107+S107+U107+W107+Y107+AA107+AC107+AE107+AG107+AI107+AK107+AM107) -> 2353 | F107: =SUM(ENERO:DICIEMBRE!F107) -> 221 | G107: =SUM(ENERO:DICIEMBRE!G107) -> 232 | H107: =SUM(ENERO:DICIEMBRE!H107) -> 109 | I107: =SUM(ENERO:DICIEMBRE!I107) -> 85 | J107: =SUM(ENERO:DICIEMBRE!J107) -> 116 | K107: =SUM(ENERO:DICIEMBRE!K107) -> 89 | L107: =SUM(ENERO:DICIEMBRE!L107) -> 64 | M107: =SUM(ENERO:DICIEMBRE!M107) -> 74 | ... AO107: =SUM(ENERO:DICIEMBRE!AO107) -> 0 | AP107: =CA107&CB107 | CA107: =IF(AND($C107>0,AN107="")," * No olvide digitar la variable "&AN$103&""&". Digite CERO si no tiene",IF(AN107>$C107," * La variable "&AN$103&""&" No puede ser mayor al Total.","")) | CB107: =IF(AND($C107>0,AO107="")," * No olvide digitar la variable "&AO$103&""&". Digite CERO si no tiene",IF(AO107>$C107," * La variable "&AO$103&""&" No puede ser mayor al Total.","")) | CM107: =IF(AND($C107>0,AN107=""),1,IF(AN107>$C107,1,0)) -> 0 | CN107: =IF(AND($C107>0,AO107=""),1,IF(AO107>$C107,1,0)) -> 0
...

Sheet ENERO
A1: SERVICIO DE SALUD
A2: =CONCATENATE("COMUNA: ",[2]NOMBRE!B2, " (",[2]NOMBRE!C2,[2]NOMBRE!D2,[2]NOMBRE!E2,[2]NOMBRE!F2,[2]NOMBRE!G2,")") -> COMUNA: LINARES (07401)
A3: =CONCATENATE("ESTABLECIMIENTO/ESTRATEGIA: ", [2]NOMBRE!B3, " (",[2]NOMBRE!C3,[2]NOMBRE!D3,[2]NOMBRE!E3,[2]NOMBRE!F3,[2]NOMBRE!G3,[2]NOMBRE!H3,")") -> ESTABLECIMIENTO/ESTRATEGIA: HOSPITAL PRESIDENTE CARLOS IBAÑEZ DEL CAMPO (116108)
A4: =CONCATENATE("MES: ",[2]NOMBRE!B6, " (",[2]NOMBRE!C6,[2]NOMBRE!D6,")") -> MES: ENERO (01)
A5: =CONCATENATE("AÑO: ",[2]NOMBRE!B7) -> AÑO: 2025
A6: REM-A08. ATENCIÓN DE URGENCIA
A7: SECCIÓN A: ATENCIONES REALIZADAS EN UNIDADES DE URGENCIA DE LA RED
A8: SECCIÓN A.1: ATENCIONES REALIZADAS EN UNIDADES DE EMERGENCIA HOSPITALARIA (Establecimientos de alta y mediana complejidad)
A9: TIPO DE ATENCIÓN | B9: TOTAL | E9: RANGO ETARIO (en años) | AM9: Beneficiarios | AN9: ORIGEN DE LA PROCEDENCIA (Sólo pacientes derivados de establecimientos de la Red) | AR9: Establecimientos de otra Red | AS9: Demanda de Urgencia
E10: 0 - 4 años | G10: 5 - 9 años | I10: 10 - 14 años | K10: 15 - 19 años | M10: 20 - 24 años | O10: 25 - 29 años | Q10: 30 - 34 años | S10: 35 - 39 años | U10: 40 - 44 años | W10: 45 - 49 años | Y10: 50 - 54 años | AA10: 55 - 59 años | AC10: 60 - 64 años | AE10: 65 - 69 años | AG10: 70 - 74 años | AI10: 75 - 79 años | AK10: 80 y más años | AN10: SAPU/ SAR / SUR | AO10: Hospital Baja Complejidad | AP10: Hospital Mediana/Alta Complejidad | AQ10: Otros Establecimientos de la Red
B11: Ambos Sexos | C11: Hombres | D11: Mujeres | E11: Hombres | F11: Mujeres | G11: Hombres | H11: Mujeres | I11: Hombres | J11: Mujeres | K11: Hombres | L11: Mujeres | M11: Hombres | N11: Mujeres | O11: Hombres | P11: Mujeres | Q11: Hombres | R11: Mujeres | S11: Hombres | T11: Mujeres | U11: Hombres | V11: Mujeres | W11: Hombres | X11: Mujeres | Y11: Hombres | Z11: Mujeres | AA11: Hombres | AB11: Mujeres | AC11: Hombres | AD11: Mujeres | AE11: Hombres | AF11: Mujeres | AG11: Hombres | AH11: Mujeres | AI11: Hombres | AJ11: Mujeres | AK11: Hombres | AL11: Mujeres
A12: Atención Médica Niño y Adulto | B12: =SUM(C12+D12) -> 3843 | C12: =SUM(E12+G12+I12+K12+M12+O12+Q12+S12+U12+W12+Y12+AA12+AC12+AE12+AG12+AI12+AK12) -> 1958 | D12: =SUM(F12+H12+J12+L12+N12+P12+R12+T12+V12+X12+Z12+AB12+AD12+AF12+AH12+AJ12+AL12) -> 1885 | E12: 333 | F12: 288 | G12: 157 | H12: 146 | I12: 118 | J12: 103 | K12: 55 | L12: 75 | M12: 82 | N12: 88 | O12: 72 | P12: 102 | Q12: 98 | R12: 87 | S12: 89 | T12: 92 | U12: 93 | V12: 89 | W12: 78 | X12: 75 | Y12: 76 | Z12: 91 | AA12: 122 | AB12: 98 | AC12: 141 | AD12: 109 | AE12: 121 | AF12: 114 | AG12: 97 | AH12: 91 | AI12: 100 | AJ12: 85 | AK12: 126 | AL12: 152 | AM12: 3710 | AN12: 148 | AO12: 1 | AP12: 231 | AQ12: 51 | AR12: 551 | AS12: 4370 | AT12: =CA12&CB12&CC12&CD12&CE12&CF12&CG12 | CA12: =IF(AND($B12>0,AM12="")," * No olvide digitar la variable "&AM$9&""&". Digite CERO si no tiene",IF(AM12>$B12," * La variable "&AM$9&""&" No puede ser mayor al Total.","")) | CB12: =IF(AND($B12>0,AN12="")," * No olvide digitar la variable "&AN$9&""&" SAPU/SAR/SUR. Digite CERO si no tiene",IF(AN12>$B12," * La variable "&AN$9&""&" SAPU/SAR/SUR No puede ser mayor al Total.","")) | CC12: =IF(AND($B12>0,AO12="")," * No olvide digitar la variable "&AN$9&""&" Hospital Baja Complejidad. Digite CERO si no tiene",IF(AO12>$B12," * La variable "&AN$9&""&" Hospital Baja Complejidad No puede ser mayor al Total.","")) | CD12: =IF(AND($B12>0,AP12="")," * No olvide digitar la variable "&AN$9&""&" Hospital Mediana/Alta Complejidad. Digite CERO si no tiene",IF(AP12>$B12," * La variable "&AN$9&""&" Hospital Mediana/Alta Complejidad No puede ser mayor al Total.","")) | CE12: =IF(AND($B12>0,AQ12="")," * No olvide digitar la variable "&AN$9&""&" Otros Establecimientos de la Red. Digite CERO si no tiene",IF(AQ12>$B12," * La variable "&AN$9&""&" Otros Establecimientos de la Red No puede ser mayor al Total.","")) | CF12: =IF(AND($B12>0,AR12="")," * No olvide digitar la variable "&AR$9&""&". Digite CERO si no tiene",IF(AR12>$B12," * La variable "&AR$9&""&" No puede ser mayor al Total.","")) | CG12: =IF(AND($B12>0,AS12="")," * No olvide digitar la variable "&AS$9&""&". Digite CERO si no tiene",IF(B12>AS12," * La variable "&AS$9&""&" No puede ser menor al Total.","")) | CM12: =IF(AND($B12>0,AM12=""),1,IF(AM12>$B12,1,0)) -> 0 | CN12: =IF(AND($B12>0,AN12=""),1,IF(AN12>$B12,1,0)) -> 0 | CO12: =IF(AND($B12>0,AO12=""),1,IF(AO12>$B12,1,0)) -> 0 | CP12: =IF(AND($B12>0,AP12=""),1,IF(AP12>$B12,1,0)) -> 0 | CQ12: =IF(AND($B12>0,AQ12=""),1,IF(AQ12>$B12,1,0)) -> 0 | CR12: =IF(AND($B12>0,AR12=""),1,IF(AR12>$B12,1,0)) -> 0 | CS12: =IF(AND($B12>0,AS12=""),1,IF(B12>AS12,1,0)) -> 0
A13: Atención Médica Gineco-Obstetra | B13: =SUM(C13+D13) -> 287 | C13: =SUM(E13+G13+I13+K13+M13+O13+Q13+S13+U13+W13+Y13+AA13+AC13+AE13+AG13+AI13+AK13) -> 1 | D13: =SUM(F13+H13+J13+L13+N13+P13+R13+T13+V13+X13+Z13+AB13+AD13+AF13+AH13+AJ13+AL13) -> 286 | J13: 3 | L13: 15 | M13: 1 | N13: 56 | P13: 60 | R13: 76 | T13: 30 | V13: 23 | X13: 12 | Z13: 4 | AB13: 4 | AD13: 1 | AF13: 1 | AL13: 1 | AM13: 277 | AN13: 4 | AO13: 0 | AP13: 0 | AQ13: 2 | AR13: 18 | AS13: 547 | AT13: =CA13&CB13&CC13&CD13&CE13&CF13&CG13 | CA13: =IF(AND($B13>0,AM13="")," * No olvide digitar la variable "&AM$9&""&". Digite CERO si no tiene",IF(AM13>$B13," * La variable "&AM$9&""&" No puede ser mayor al Total.","")) | CB13: =IF(AND($B13>0,AN13="")," * No olvide digitar la variable "&AN$9&""&" SAPU/SAR/SUR. Digite CERO si no tiene",IF(AN13>$B13," * La variable "&AN$9&""&" SAPU/SAR/SUR No puede ser mayor al Total.","")) | CC13: =IF(AND($B13>0,AO13="")," * No olvide digitar la variable "&AN$9&""&" Hospital Baja Complejidad. Digite CERO si no tiene",IF(AO13>$B13," * La variable "&AN$9&""&" Hospital Baja Complejidad No puede ser mayor al Total.","")) | CD13: =IF(AND($B13>0,AP13="")," * No olvide digitar la variable "&AN$9&""&" Hospital Mediana/Alta Complejidad. Digite CERO si no tiene",IF(AP13>$B13," * La variable "&AN$9&""&" Hospital Mediana/Alta Complejidad No puede ser mayor al Total.","")) | CE13: =IF(AND($B13>0,AQ13="")," * No olvide digitar la variable "&AN$9&""&" Otros Establecimientos de la Red. Digite CERO si no tiene",IF(AQ13>$B13," * La variable "&AN$9&""&" Otros Establecimientos de la Red No puede ser mayor al Total.","")) | CF13: =IF(AND($B13>0,AR13="")," * No olvide digitar la variable "&AR$9&""&". Digite CERO si no tiene",IF(AR13>$B13," * La variable "&AR$9&""&" No puede ser mayor al Total.","")) | CG13: =IF(AND($B13>0,AS13="")," * No olvide digitar la variable "&AS$9&""&". Digite CERO si no tiene",IF(B13>AS13," * La variable "&AS$9&""&" No puede ser menor al Total.","")) | CM13: =IF(AND($B13>0,AM13=""),1,IF(AM13>$B13,1,0)) -> 0 | CN13: =IF(AND($B13>0,AN13=""),1,IF(AN13>$B13,1,0)) -> 0 | CO13: =IF(AND($B13>0,AO13=""),1,IF(AO13>$B13,1,0)) -> 0 | CP13: =IF(AND($B13>0,AP13=""),1,IF(AP13>$B13,1,0)) -> 0 | CQ13: =IF(AND($B13>0,AQ13=""),1,IF(AQ13>$B13,1,0)) -> 0 | CR13: =IF(AND($B13>0,AR13=""),1,IF(AR13>$B13,1,0)) -> 0 | CS13: =IF(AND($B13>0,AS13=""),1,IF(B13>AS13,1,0)) -> 0
A14: Atención por Matrona/ón | B14: =SUM(C14+D14) -> 235 | C14: =SUM(E14+G14+I14+K14+M14+O14+Q14+S14+U14+W14+Y14+AA14+AC14+AE14+AG14+AI14+AK14) -> 0 | D14: =SUM(F14+H14+J14+L14+N14+P14+R14+T14+V14+X14+Z14+AB14+AD14+AF14+AH14+AJ14+AL14) -> 235 | L14: 9 | N14: 39 | P14: 62 | R14: 59 | T14: 32 | V14: 13 | X14: 5 | Z14: 2 | AB14: 4 | AD14: 3 | AF14: 3 | AH14: 3 | AL14: 1 | AM14: 225 | AT14: =CA14&CB14&CC14&CD14&CE14&CF14&CG14 | CA14: =IF(AND($B14>0,AM14="")," * No olvide digitar la variable "&AM$9&""&". Digite CERO si no tiene",IF(AM14>$B14," * La variable "&AM$9&""&" No puede ser mayor al Total.","")) | CM14: =IF(AND($B14>0,AM14=""),1,IF(AM14>$B14,1,0)) -> 0
A15: Atención por Odontólogo/a | B15: =SUM(C15+D15) -> 0 | C15: =SUM(E15+G15+I15+K15+M15+O15+Q15+S15+U15+W15+Y15+AA15+AC15+AE15+AG15+AI15+AK15) -> 0 | D15: =SUM(F15+H15+J15+L15+N15+P15+R15+T15+V15+X15+Z15+AB15+AD15+AF15+AH15+AJ15+AL15) -> 0 | AT15: =CA15&CB15&CC15&CD15&CE15&CF15&CG15 | CA15: =IF(AND($B15>0,AM15="")," * No olvide digitar la variable "&AM$9&""&". Digite CERO si no tiene",IF(AM15>$B15," * La variable "&AM$9&""&" No puede ser mayor al Total.","")) | CM15: =IF(AND($B15>0,AM15=""),1,IF(AM15>$B15,1,0)) -> 0
A16: SECCIÓN A.2: ATENCIONES Y ACTIVIDADES DE URGENCIA REALIZADAS EN SAPU Y SAR
A17: ATENCIÓN | B17: TOTAL | E17: RANGO ETARIO (en años) | AM17: Beneficiarios | AN17: Atenciones por profesionales a Honorarios | AO17: Demanda de Urgencia | AP17: Por Campaña de Invierno | AQ17: Niños, Niñas, Adolescentes y Jóvenes SENAME | AR17: Niños, Niñas, Adolescentes y Jóvenes Mejor Niñez
E18: 0 - 4 años | G18: 5 - 9 años | I18: 10 - 14 años | K18: 15 - 19 años | M18: 20 - 24 años | O18: 25 - 29 años | Q18: 30 - 34 años | S18: 35 - 39 años | U18: 40 - 44 años | W18: 45 - 49 años | Y18: 50 - 54 años | AA18: 55 - 59 años | AC18: 60 - 64 años | AE18: 65 - 69 años | AG18: 70 - 74 años | AI18: 75 - 79 años | AK18: 80 y más años
B19: Ambos Sexos | C19: Hombres | D19: Mujeres | E19: Hombres | F19: Mujeres | G19: Hombres | H19: Mujeres | I19: Hombres | J19: Mujeres | K19: Hombres | L19: Mujeres | M19: Hombres | N19: Mujeres | O19: Hombres | P19: Mujeres | Q19: Hombres | R19: Mujeres | S19: Hombres | T19: Mujeres | U19: Hombres | V19: Mujeres | W19: Hombres | X19: Mujeres | Y19: Hombres | Z19: Mujeres | AA19: Hombres | AB19: Mujeres | AC19: Hombres | AD19: Mujeres | AE19: Hombres | AF19: Mujeres | AG19: Hombres | AH19: Mujeres | AI19: Hombres | AJ19: Mujeres | AK19: Hombres | AL19: Mujeres
A20: Atención Medica | B20: =SUM(C20+D20) -> 0 | C20: =SUM(E20+G20+I20+K20+M20+O20+Q20+S20+U20+W20+Y20+AA20+AC20+AE20+AG20+AI20+AK20) -> 0 | D20: =SUM(F20+H20+J20+L20+N20+P20+R20+T20+V20+X20+Z20+AB20+AD20+AF20+AH20+AJ20+AL20) -> 0 | AS20: =$CA20&$CB20&$CC20&$CD20&$CE20&$CF20 | CA20: =IF(AND($B20>0,AM20="")," * No olvide digitar la variable "&AM$17&""&". Digite CERO si no tiene",IF(AM20>$B20," * La variable "&AM$20&""&" No puede ser mayor al Total.","")) | CB20: =IF(AND($B20>0,AN20="")," * No olvide digitar la variable "&AN$17&""&". Digite CERO si no tiene",IF(AN20>$B20," * La variable "&AN$17&""&" No puede ser mayor al Total.","")) | CC20: =IF(AND($B20>0,AO20="")," * No olvide digitar la variable "&AO$17&""&". Digite CERO si no tiene",IF(B20>AO20," * La variable "&AO$17&""&" No puede ser menor al Total.","")) | CD20: =IF(AND($B20>0,AP20="")," * No olvide digitar la variable "&AP$17&""&". Digite CERO si no tiene",IF(AP20>$B20," * La variable "&AP$17&""&" No puede ser mayor al Total.","")) | CE20: =IF(AND($B20>0,AQ20="")," * No olvide digitar la variable "&AQ$17&""&". Digite CERO si no tiene",IF(AQ20>$B20," * La variable "&AQ$17&""&" No puede ser mayor al Total.","")) | CF20: =IF(AND($B20>0,AR20="")," * No olvide digitar la variable "&AR$17&""&". Digite CERO si no tiene",IF(AR20>$B20," * La variable "&AR$17&""&" No puede ser mayor al Total.","")) | CM20: =IF(AND($B20>0,AM20=""),1,IF(AM20>$B20,1,0)) -> 0 | CN20: =IF(AND($B20>0,AN20=""),1,IF(AN20>$B20,1,0)) -> 0 | CO20: =IF(AND($B20>0,AO20=""),1,IF(B20>$AO20,1,0)) -> 0 | CP20: =IF(AND($B20>0,AP20=""),1,IF(AP20>$B20,1,0)) -> 0 | CQ20: =IF(AND($B20>0,AQ20=""),1,IF(AQ20>$B20,1,0)) -> 0 | CR20: =IF(AND($B20>0,AR20=""),1,IF(AR20>$B20,1,0)) -> 0
A21: Enfermería | B21: =SUM(C21+D21) -> 0 | C21: =SUM(E21+G21+I21+K21+M21+O21+Q21+S21+U21+W21+Y21+AA21+AC21+AE21+AG21+AI21+AK21) -> 0 | D21: =SUM(F21+H21+J21+L21+N21+P21+R21+T21+V21+X21+Z21+AB21+AD21+AF21+AH21+AJ21+AL21) -> 0 | AS21: =$CA21&$CB21&$CC21&$CD21&$CE21&$CF21 | CA21: =IF(AND($B21>0,AM21="")," * No olvide digitar la variable "&AM$17&""&". Digite CERO si no tiene",IF(AM21>$B21," * La variable "&AM$20&""&" No puede ser mayor al Total.","")) | CB21: =IF(AND($B21>0,AN21="")," * No olvide digitar la variable "&AN$17&""&". Digite CERO si no tiene",IF(AN21>$B21," * La variable "&AN$17&""&" No puede ser mayor al Total.","")) | CC21: =IF(AND($B21>0,AO21="")," * No olvide digitar la variable "&AO$17&""&". Digite CERO si no tiene",IF(B21>AO21," * La variable "&AO$17&""&" No puede ser menor al Total.","")) | CD21: =IF(AND($B21>0,AP21="")," * No olvide digitar la variable "&AP$17&""&". Digite CERO si no tiene",IF(AP21>$B21," * La variable "&AP$17&""&" No puede ser mayor al Total.","")) | CE21: =IF(AND($B21>0,AQ21="")," * No olvide digitar la variable "&AQ$17&""&". Digite CERO si no tiene",IF(AQ21>$B21," * La variable "&AQ$17&""&" No puede ser mayor al Total.","")) | CF21: =IF(AND($B21>0,AR21="")," * No olvide digitar la variable "&AR$17&""&". Digite CERO si no tiene",IF(AR21>$B21," * La variable "&AR$17&""&" No puede ser mayor al Total.","")) | CM21: =IF(AND($B21>0,AM21=""),1,IF(AM21>$B21,1,0)) -> 0 | CN21: =IF(AND($B21>0,AN21=""),1,IF(AN21>$B21,1,0)) -> 0 | CO21: =IF(AND($B21>0,AO21=""),1,IF(B21>$AO21,1,0)) -> 0 | CP21: =IF(AND($B21>0,AP21=""),1,IF(AP21>$B21,1,0)) -> 0 | CQ21: =IF(AND($B21>0,AQ21=""),1,IF(AQ21>$B21,1,0)) -> 0 | CR21: =IF(AND($B21>0,AR21=""),1,IF(AR21>$B21,1,0)) -> 0
A22: Matronería | B22: =SUM(C22+D22) -> 0 | C22: =SUM(E22+G22+I22+K22+M22+O22+Q22+S22+U22+W22+Y22+AA22+AC22+AE22+AG22+AI22+AK22) -> 0 | D22: =SUM(F22+H22+J22+L22+N22+P22+R22+T22+V22+X22+Z22+AB22+AD22+AF22+AH22+AJ22+AL22) -> 0 | AS22: =$CA22&$CB22&$CC22&$CD22&$CE22&$CF22 | CA22: =IF(AND($B22>0,AM22="")," * No olvide digitar la variable "&AM$17&""&". Digite CERO si no tiene",IF(AM22>$B22," * La variable "&AM$20&""&" No puede ser mayor al Total.","")) | CB22: =IF(AND($B22>0,AN22="")," * No olvide digitar la variable "&AN$17&""&". Digite CERO si no tiene",IF(AN22>$B22," * La variable "&AN$17&""&" No puede ser mayor al Total.","")) | CC22: =IF(AND($B22>0,AO22="")," * No olvide digitar la variable "&AO$17&""&". Digite CERO si no tiene",IF(B22>AO22," * La variable "&AO$17&""&" No puede ser menor al Total.","")) | CE22: =IF(AND($B22>0,AQ22="")," * No olvide digitar la variable "&AQ$17&""&". Digite CERO si no tiene",IF(AQ22>$B22," * La variable "&AQ$17&""&" No puede ser mayor al Total.","")) | CF22: =IF(AND($B22>0,AR22="")," * No olvide digitar la variable "&AR$17&""&". Digite CERO si no tiene",IF(AR22>$B22," * La variable "&AR$17&""&" No puede ser mayor al Total.","")) | CM22: =IF(AND($B22>0,AM22=""),1,IF(AM22>$B22,1,0)) -> 0 | CN22: =IF(AND($B22>0,AN22=""),1,IF(AN22>$B22,1,0)) -> 0 | CO22: =IF(AND($B22>0,AO22=""),1,IF(B22>$AO22,1,0)) -> 0 | CQ22: =IF(AND($B22>0,AQ22=""),1,IF(AQ22>$B22,1,0)) -> 0 | CR22: =IF(AND($B22>0,AR22=""),1,IF(AR22>$B22,1,0)) -> 0
A23: Kinesiología | B23: =SUM(C23+D23) -> 0 | C23: =SUM(E23+G23+I23+K23+M23+O23+Q23+S23+U23+W23+Y23+AA23+AC23+AE23+AG23+AI23+AK23) -> 0 | D23: =SUM(F23+H23+J23+L23+N23+P23+R23+T23+V23+X23+Z23+AB23+AD23+AF23+AH23+AJ23+AL23) -> 0 | AS23: =$CA23&$CB23&$CC23&$CD23&$CE23&$CF23 | CA23: =IF(AND($B23>0,AM23="")," * No olvide digitar la variable "&AM$17&""&". Digite CERO si no tiene",IF(AM23>$B23," * La variable "&AM$20&""&" No puede ser mayor al Total.","")) | CB23: =IF(AND($B23>0,AN23="")," * No olvide digitar la variable "&AN$17&""&". Digite CERO si no tiene",IF(AN23>$B23," * La variable "&AN$17&""&" No puede ser mayor al Total.","")) | CC23: =IF(AND($B23>0,AO23="")," * No olvide digitar la variable "&AO$17&""&". Digite CERO si no tiene",IF(B23>AO23," * La variable "&AO$17&""&" No puede ser menor al Total.","")) | CD23: =IF(AND($B23>0,AP23="")," * No olvide digitar la variable "&AP$17&""&". Digite CERO si no tiene",IF(AP23>$B23," * La variable "&AP$17&""&" No puede ser mayor al Total.","")) | CE23: =IF(AND($B23>0,AQ23="")," * No olvide digitar la variable "&AQ$17&""&". Digite CERO si no tiene",IF(AQ23>$B23," * La variable "&AQ$17&""&" No puede ser mayor al Total.","")) | CF23: =IF(AND($B23>0,AR23="")," * No olvide digitar la variable "&AR$17&""&". Digite CERO si no tiene",IF(AR23>$B23," * La variable "&AR$17&""&" No puede ser mayor al Total.","")) | CM23: =IF(AND($B23>0,AM23=""),1,IF(AM23>$B23,1,0)) -> 0 | CN23: =IF(AND($B23>0,AN23=""),1,IF(AN23>$B23,1,0)) -> 0 | CO23: =IF(AND($B23>0,AO23=""),1,IF(B23>$AO23,1,0)) -> 0 | CP23: =IF(AND($B23>0,AP23=""),1,IF(AP23>$B23,1,0)) -> 0 | CQ23: =IF(AND($B23>0,AQ23=""),1,IF(AQ23>$B23,1,0)) -> 0 | CR23: =IF(AND($B23>0,AR23=""),1,IF(AR23>$B23,1,0)) -> 0
A24: Psicología | B24: =SUM(C24+D24) -> 0 | C24: =SUM(E24+G24+I24+K24+M24+O24+Q24+S24+U24+W24+Y24+AA24+AC24+AE24+AG24+AI24+AK24) -> 0 | D24: =SUM(F24+H24+J24+L24+N24+P24+R24+T24+V24+X24+Z24+AB24+AD24+AF24+AH24+AJ24+AL24) -> 0 | AS24: =$CA24&$CB24&$CC24&$CD24&$CE24&$CF24 | CA24: =IF(AND($B24>0,AM24="")," * No olvide digitar la variable "&AM$17&""&". Digite CERO si no tiene",IF(AM24>$B24," * La variable "&AM$17&""&" No puede ser mayor al Total.","")) | CB24: =IF(AND($B24>0,AN24="")," * No olvide digitar la variable "&AN$17&""&". Digite CERO si no tiene",IF(AN24>$B24," * La variable "&AN$17&""&" No puede ser mayor al Total.","")) | CE24: =IF(AND($B24>0,AQ24="")," * No olvide digitar la variable "&AQ$17&""&" Otros Establecimientos de la Red. Digite CERO si no tiene",IF(AQ24>$B24," * La variable "&AQ$17&""&" Otros Establecimientos de la Red No puede ser mayor al Total.","")) | CF24: =IF(AND($B24>0,AR24="")," * No olvide digitar la variable "&AR$17&""&". Digite CERO si no tiene",IF(AR24>$B24," * La variable "&AR$17&""&" No puede ser mayor al Total.","")) | CM24: =IF(AND($B24>0,AM24=""),1,IF(AM24>$B24,1,0)) -> 0 | CN24: =IF(AND($B24>0,AN24=""),1,IF(AN24>$B24,1,0)) -> 0 | CQ24: =IF(AND($B24>0,AQ24=""),1,IF(AQ24>$B24,1,0)) -> 0 | CR24: =IF(AND($B24>0,AR24=""),1,IF(AR24>$B24,1,0)) -> 0
A25: Trabajo Social | B25: =SUM(C25+D25) -> 0 | C25: =SUM(E25+G25+I25+K25+M25+O25+Q25+S25+U25+W25+Y25+AA25+AC25+AE25+AG25+AI25+AK25) -> 0 | D25: =SUM(F25+H25+J25+L25+N25+P25+R25+T25+V25+X25+Z25+AB25+AD25+AF25+AH25+AJ25+AL25) -> 0 | AS25: =$CA25&$CB25&$CC25&$CD25&$CE25&$CF25 | CA25: =IF(AND($B25>0,AM25="")," * No olvide digitar la variable "&AM$17&""&". Digite CERO si no tiene",IF(AM25>$B25," * La variable "&AM$17&""&" No puede ser mayor al Total.","")) | CB25: =IF(AND($B25>0,AN25="")," * No olvide digitar la variable "&AN$17&""&". Digite CERO si no tiene",IF(AN25>$B25," * La variable "&AN$17&""&" No puede ser mayor al Total.","")) | CE25: =IF(AND($B25>0,AQ25="")," * No olvide digitar la variable "&AQ$17&""&" Otros Establecimientos de la Red. Digite CERO si no tiene",IF(AQ25>$B25," * La variable "&AQ$17&""&" Otros Establecimientos de la Red No puede ser mayor al Total.","")) | CF25: =IF(AND($B25>0,AR25="")," * No olvide digitar la variable "&AR$17&""&". Digite CERO si no tiene",IF(AR25>$B25," * La variable "&AR$17&""&" No puede ser mayor al Total.","")) | CM25: =IF(AND($B25>0,AM25=""),1,IF(AM25>$B25,1,0)) -> 0 | CN25: =IF(AND($B25>0,AN25=""),1,IF(AN25>$B25,1,0)) -> 0 | CQ25: =IF(AND($B25>0,AQ25=""),1,IF(AQ25>$B25,1,0)) -> 0 | CR25: =IF(AND($B25>0,AR25=""),1,IF(AR25>$B25,1,0)) -> 0
A26: Dupla Psicosocial | B26: =SUM(C26+D26) -> 0 | C26: =SUM(E26+G26+I26+K26+M26+O26+Q26+S26+U26+W26+Y26+AA26+AC26+AE26+AG26+AI26+AK26) -> 0 | D26: =SUM(F26+H26+J26+L26+N26+P26+R26+T26+V26+X26+Z26+AB26+AD26+AF26+AH26+AJ26+AL26) -> 0 | AS26: =$CA26&$CB26&$CC26&$CD26&$CE26&$CF26 | CA26: =IF(AND($B26>0,AM26="")," * No olvide digitar la variable "&AM$17&""&". Digite CERO si no tiene",IF(AM26>$B26," * La variable "&AM$17&""&" No puede ser mayor al Total.","")) | CB26: =IF(AND($B26>0,AN26="")," * No olvide digitar la variable "&AN$17&""&". Digite CERO si no tiene",IF(AN26>$B26," * La variable "&AN$17&""&" No puede ser mayor al Total.","")) | CE26: =IF(AND($B26>0,AQ26="")," * No olvide digitar la variable "&AQ$17&""&" Otros Establecimientos de la Red. Digite CERO si no tiene",IF(AQ26>$B26," * La variable "&AQ$17&""&" Otros Establecimientos de la Red No puede ser mayor al Total.","")) | CF26: =IF(AND($B26>0,AR26="")," * No olvide digitar la variable "&AR$17&""&". Digite CERO si no tiene",IF(AR26>$B26," * La variable "&AR$17&""&" No puede ser mayor al Total.","")) | CM26: =IF(AND($B26>0,AM26=""),1,IF(AM26>$B26,1,0)) -> 0 | CN26: =IF(AND($B26>0,AN26=""),1,IF(AN26>$B26,1,0)) -> 0 | CQ26: =IF(AND($B26>0,AQ26=""),1,IF(AQ26>$B26,1,0)) -> 0 | CR26: =IF(AND($B26>0,AR26=""),1,IF(AR26>$B26,1,0)) -> 0
A27: SECCIÓN A.3: ATENCIONES DE URGENCIA REALIZADAS EN ESTABLECIMIENTOS DE BAJA COMPLEJIDAD
A28: PROFESIONAL | B28: TOTAL | E28: RANGO ETARIO (en años) | AM28: Beneficiarios | AN28: Demanda de Urgencia
E29: 0 - 4 | G29: 5 - 9 | I29: 10 - 14 | K29: 15 - 19 | M29: 20 - 24 | O29: 25 - 29 | Q29: 30 - 34 | S29: 35 - 39 | U29: 40 - 44 | W29: 45 - 49 | Y29: 50 - 54 | AA29: 55 - 59 | AC29: 60 - 64 | AE29: 65 - 69 | AG29: 70 - 74 | AI29: 75 - 79 | AK29: 80 y mas
B30: Ambos Sexos | C30: Hombres | D30: Mujeres | E30: Hombres | F30: Mujeres | G30: Hombres | H30: Mujeres | I30: Hombres | J30: Mujeres | K30: Hombres | L30: Mujeres | M30: Hombres | N30: Mujeres | O30: Hombres | P30: Mujeres | Q30: Hombres | R30: Mujeres | S30: Hombres | T30: Mujeres | U30: Hombres | V30: Mujeres | W30: Hombres | X30: Mujeres | Y30: Hombres | Z30: Mujeres | AA30: Hombres | AB30: Mujeres | AC30: Hombres | AD30: Mujeres | AE30: Hombres | AF30: Mujeres | AG30: Hombres | AH30: Mujeres | AI30: Hombres | AJ30: Mujeres | AK30: Hombres | AL30: Mujeres
A31: Médico | B31: =SUM(C31+D31) -> 0 | C31: =SUM(E31+G31+I31+K31+M31+O31+Q31+S31+U31+W31+Y31+AA31+AC31+AE31+AG31+AI31+AK31) -> 0 | D31: =SUM(F31+H31+J31+L31+N31+P31+R31+T31+V31+X31+Z31+AB31+AD31+AF31+AH31+AJ31+AL31) -> 0 | AO31: =CA31&CB31 | CA31: =IF(AND($B31>0,AM31="")," * No olvide digitar la variable "&AM$28&""&". Digite CERO si no tiene",IF(AM31>$B31," * La variable "&AM$28&""&" No puede ser mayor al Total.","")) | CB31: =IF(AND($B31>0,AN31="")," * No olvide digitar la variable "&AN$28&""&". Digite CERO si no tiene",IF(B31>AN31," * La variable "&AN$28&""&" No puede ser menor al Total.","")) | CM31: =IF(AND($B31>0,AM31=""),1,IF(AM31>$B31,1,0)) -> 0 | CN31: =IF(AND($B31>0,AN31=""),1,IF(B31>$AN31,1,0)) -> 0
A32: Enfermera /o | B32: =SUM(C32+D32) -> 0 | C32: =SUM(E32+G32+I32+K32+M32+O32+Q32+S32+U32+W32+Y32+AA32+AC32+AE32+AG32+AI32+AK32) -> 0 | D32: =SUM(F32+H32+J32+L32+N32+P32+R32+T32+V32+X32+Z32+AB32+AD32+AF32+AH32+AJ32+AL32) -> 0 | AO32: =CA32 | CA32: =IF(AND($B32>0,AM32="")," * No olvide digitar la variable "&AM$28&""&". Digite CERO si no tiene",IF(AM32>$B32," * La variable "&AM$28&""&" No puede ser mayor al Total.","")) | CM32: =IF(AND($B32>0,AM32=""),1,IF(AM32>$B32,1,0)) -> 0
A33: Matrona /ón | B33: =SUM(C33+D33) -> 0 | C33: =SUM(E33+G33+I33+K33+M33+O33+Q33+S33+U33+W33+Y33+AA33+AC33+AE33+AG33+AI33+AK33) -> 0 | D33: =SUM(F33+H33+J33+L33+N33+P33+R33+T33+V33+X33+Z33+AB33+AD33+AF33+AH33+AJ33+AL33) -> 0 | AO33: =CA33 | CA33: =IF(AND($B33>0,AM33="")," * No olvide digitar la variable "&AM$28&""&". Digite CERO si no tiene",IF(AM33>$B33," * La variable "&AM$28&""&" No puede ser mayor al Total.","")) | CM33: =IF(AND($B33>0,AM33=""),1,IF(AM33>$B33,1,0)) -> 0
A34: Kinesiólogo/a | B34: =SUM(C34+D34) -> 0 | C34: =SUM(E34+G34+I34+K34+M34+O34+Q34+S34+U34+W34+Y34+AA34+AC34+AE34+AG34+AI34+AK34) -> 0 | D34: =SUM(F34+H34+J34+L34+N34+P34+R34+T34+V34+X34+Z34+AB34+AD34+AF34+AH34+AJ34+AL34) -> 0 | AO34: =CA34 | CA34: =IF(AND($B34>0,AM34="")," * No olvide digitar la variable "&AM$28&""&". Digite CERO si no tiene",IF(AM34>$B34," * La variable "&AM$28&""&" No puede ser mayor al Total.","")) | CM34: =IF(AND($B34>0,AM34=""),1,IF(AM34>$B34,1,0)) -> 0
A35: Técnico en Enfermería | B35: =SUM(C35+D35) -> 0 | C35: =SUM(E35+G35+I35+K35+M35+O35+Q35+S35+U35+W35+Y35+AA35+AC35+AE35+AG35+AI35+AK35) -> 0 | D35: =SUM(F35+H35+J35+L35+N35+P35+R35+T35+V35+X35+Z35+AB35+AD35+AF35+AH35+AJ35+AL35) -> 0 | AO35: =CA35 | CA35: =IF(AND($B35>0,AM35="")," * No olvide digitar la variable "&AM$28&""&". Digite CERO si no tiene",IF(AM35>$B35," * La variable "&AM$28&""&" No puede ser mayor al Total.","")) | CM35: =IF(AND($B35>0,AM35=""),1,IF(AM35>$B35,1,0)) -> 0
A36: Otros Profesionales | B36: =SUM(C36+D36) -> 0 | C36: =SUM(E36+G36+I36+K36+M36+O36+Q36+S36+U36+W36+Y36+AA36+AC36+AE36+AG36+AI36+AK36) -> 0 | D36: =SUM(F36+H36+J36+L36+N36+P36+R36+T36+V36+X36+Z36+AB36+AD36+AF36+AH36+AJ36+AL36) -> 0 | AO36: =CA36 | CA36: =IF(AND($B36>0,AM36="")," * No olvide digitar la variable "&AM$28&""&". Digite CERO si no tiene",IF(AM36>$B36," * La variable "&AM$28&""&" No puede ser mayor al Total.","")) | CM36: =IF(AND($B36>0,AM36=""),1,IF(AM36>$B36,1,0)) -> 0
A37: SECCIÓN A.4: ATENCIONES DE URGENCIA REALIZADAS EN ESTABLECIMIENTOS ATENCIÓN PRIMARIA NO SAPU
A38: PROFESIONAL | B38: TOTAL | E38: RANGO ETARIO (en años) | AM38: Beneficiarios | AN38: Demanda de Urgencia
E39: 0 - 4 años | G39: 5 - 9 años | I39: 10 - 14 años | K39: 15 - 19 años | M39: 20 - 24 años | O39: 25 - 29 años | Q39: 30 - 34 años | S39: 35 - 39 años | U39: 40 - 44 años | W39: 45 - 49 años | Y39: 50 - 54 años | AA39: 55 - 59 años | AC39: 60 - 64 años | AE39: 65 - 69 años | AG39: 70 - 74 años | AI39: 75 - 79 años | AK39: 80 y más años
B40: Ambos Sexos | C40: Hombres | D40: Mujeres | E40: Hombres | F40: Mujeres | G40: Hombres | H40: Mujeres | I40: Hombres | J40: Mujeres | K40: Hombres | L40: Mujeres | M40: Hombres | N40: Mujeres | O40: Hombres | P40: Mujeres | Q40: Hombres | R40: Mujeres | S40: Hombres | T40: Mujeres | U40: Hombres | V40: Mujeres | W40: Hombres | X40: Mujeres | Y40: Hombres | Z40: Mujeres | AA40: Hombres | AB40: Mujeres | AC40: Hombres | AD40: Mujeres | AE40: Hombres | AF40: Mujeres | AG40: Hombres | AH40: Mujeres | AI40: Hombres | AJ40: Mujeres | AK40: Hombres | AL40: Mujeres
A41: Médico | B41: =SUM(C41+D41) -> 0 | C41: =SUM(E41+G41+I41+K41+M41+O41+Q41+S41+U41+W41+Y41+AA41+AC41+AE41+AG41+AI41+AK41) -> 0 | D41: =SUM(F41+H41+J41+L41+N41+P41+R41+T41+V41+X41+Z41+AB41+AD41+AF41+AH41+AJ41+AL41) -> 0 | AO41: =CA41&CB41 | CA41: =IF(AND($B41>0,AM41="")," * No olvide digitar la variable "&AM$38&""&". Digite CERO si no tiene",IF(AM41>$B41," * La variable "&AM$41&""&" No puede ser mayor al Total.","")) | CB41: =IF(AND($B41>0,AN41="")," * No olvide digitar la variable "&AN$38&""&". Digite CERO si no tiene",IF(B41>AN41," * La variable "&AN$38&""&" No puede ser menor al Total.","")) | CM41: =IF(AND($B41>0,AM41=""),1,IF(AM41>$B41,1,0)) -> 0 | CN41: =IF(AND($B41>0,AN41=""),1,IF(B41>$AN41,1,0)) -> 0
A42: Enfermera /o | B42: =SUM(C42+D42) -> 0 | C42: =SUM(E42+G42+I42+K42+M42+O42+Q42+S42+U42+W42+Y42+AA42+AC42+AE42+AG42+AI42+AK42) -> 0 | D42: =SUM(F42+H42+J42+L42+N42+P42+R42+T42+V42+X42+Z42+AB42+AD42+AF42+AH42+AJ42+AL42) -> 0 | AO42: =CA42&CB42 | CA42: =IF(AND($B42>0,AM42="")," * No olvide digitar la variable "&AM$38&""&". Digite CERO si no tiene",IF(AM42>$B42," * La variable "&AM$41&""&" No puede ser mayor al Total.","")) | CB42: =IF(AND($B42>0,AN42="")," * No olvide digitar la variable "&AN$38&""&". Digite CERO si no tiene",IF(B42>AN42," * La variable "&AN$38&""&" No puede ser menor al Total.","")) | CM42: =IF(AND($B42>0,AM42=""),1,IF(AM42>$B42,1,0)) -> 0 | CN42: =IF(AND($B42>0,AN42=""),1,IF(B42>$AN42,1,0)) -> 0
A43: Matrona /ón | B43: =SUM(C43+D43) -> 0 | C43: =SUM(E43+G43+I43+K43+M43+O43+Q43+S43+U43+W43+Y43+AA43+AC43+AE43+AG43+AI43+AK43) -> 0 | D43: =SUM(F43+H43+J43+L43+N43+P43+R43+T43+V43+X43+Z43+AB43+AD43+AF43+AH43+AJ43+AL43) -> 0 | AO43: =CA43&CB43 | CA43: =IF(AND($B43>0,AM43="")," * No olvide digitar la variable "&AM$38&""&". Digite CERO si no tiene",IF(AM43>$B43," * La variable "&AM$41&""&" No puede ser mayor al Total.","")) | CB43: =IF(AND($B43>0,AN43="")," * No olvide digitar la variable "&AN$38&""&". Digite CERO si no tiene",IF(B43>AN43," * La variable "&AN$38&""&" No puede ser menor al Total.","")) | CM43: =IF(AND($B43>0,AM43=""),1,IF(AM43>$B43,1,0)) -> 0 | CN43: =IF(AND($B43>0,AN43=""),1,IF(B43>$AN43,1,0)) -> 0
A44: Kinesiólogo/a | B44: =SUM(C44+D44) -> 0 | C44: =SUM(E44+G44+I44+K44+M44+O44+Q44+S44+U44+W44+Y44+AA44+AC44+AE44+AG44+AI44+AK44) -> 0 | D44: =SUM(F44+H44+J44+L44+N44+P44+R44+T44+V44+X44+Z44+AB44+AD44+AF44+AH44+AJ44+AL44) -> 0 | AO44: =CA44&CB44 | CA44: =IF(AND($B44>0,AM44="")," * No olvide digitar la variable "&AM$38&""&". Digite CERO si no tiene",IF(AM44>$B44," * La variable "&AM$41&""&" No puede ser mayor al Total.","")) | CB44: =IF(AND($B44>0,AN44="")," * No olvide digitar la variable "&AN$38&""&". Digite CERO si no tiene",IF(B44>AN44," * La variable "&AN$38&""&" No puede ser menor al Total.","")) | CM44: =IF(AND($B44>0,AM44=""),1,IF(AM44>$B44,1,0)) -> 0 | CN44: =IF(AND($B44>0,AN44=""),1,IF(B44>$AN44,1,0)) -> 0
A45: Técnico en Enfermería | B45: =SUM(C45+D45) -> 0 | C45: =SUM(E45+G45+I45+K45+M45+O45+Q45+S45+U45+W45+Y45+AA45+AC45+AE45+AG45+AI45+AK45) -> 0 | D45: =SUM(F45+H45+J45+L45+N45+P45+R45+T45+V45+X45+Z45+AB45+AD45+AF45+AH45+AJ45+AL45) -> 0 | AO45: =CA45&CB45 | CA45: =IF(AND($B45>0,AM45="")," * No olvide digitar la variable "&AM$38&""&". Digite CERO si no tiene",IF(AM45>$B45," * La variable "&AM$41&""&" No puede ser mayor al Total.","")) | CB45: =IF(AND($B45>0,AN45="")," * No olvide digitar la variable "&AN$38&""&". Digite CERO si no tiene",IF(B45>AN45," * La variable "&AN$38&""&" No puede ser menor al Total.","")) | CM45: =IF(AND($B45>0,AM45=""),1,IF(AM45>$B45,1,0)) -> 0 | CN45: =IF(AND($B45>0,AN45=""),1,IF(B45>$AN45,1,0)) -> 0
A46: Otros Profesionales | B46: =SUM(C46+D46) -> 0 | C46: =SUM(E46+G46+I46+K46+M46+O46+Q46+S46+U46+W46+Y46+AA46+AC46+AE46+AG46+AI46+AK46) -> 0 | D46: =SUM(F46+H46+J46+L46+N46+P46+R46+T46+V46+X46+Z46+AB46+AD46+AF46+AH46+AJ46+AL46) -> 0 | AO46: =CA46&CB46 | CA46: =IF(AND($B46>0,AM46="")," * No olvide digitar la variable "&AM$38&""&". Digite CERO si no tiene",IF(AM46>$B46," * La variable "&AM$41&""&" No puede ser mayor al Total.","")) | CB46: =IF(AND($B46>0,AN46="")," * No olvide digitar la variable "&AN$38&""&". Digite CERO si no tiene",IF(B46>AN46," * La variable "&AN$38&""&" No puede ser menor al Total.","")) | CM46: =IF(AND($B46>0,AM46=""),1,IF(AM46>$B46,1,0)) -> 0 | CN46: =IF(AND($B46>0,AN46=""),1,IF(B46>$AN46,1,0)) -> 0
A47: SECCIÓN A.5: CONSULTAS EN SERVICIOS DE ATENCIÓN DE URGENCIA RURAL (SUR) Y POSTAS RURALES
A48: PROFESIONAL | B48: TOTAL | E48: RANGO ETARIO(en años) | AM48: Beneficiarios | AN48: Demanda de Urgencia
E49: 0 - 4 | G49: 5 - 9 | I49: 10 - 14 | K49: 15 - 19 | M49: 20 - 24 | O49: 25 - 29 | Q49: 30 - 34 | S49: 35 - 39 | U49: 40 - 44 | W49: 45 - 49 | Y49: 50 - 54 | AA49: 55 - 59 | AC49: 60 - 64 | AE49: 65 - 69 | AG49: 70 - 74 | AI49: 75 - 79 | AK49: 80 y mas
B50: Ambos Sexos | C50: Hombres | D50: Mujeres | E50: Hombres | F50: Mujeres | G50: Hombres | H50: Mujeres | I50: Hombres | J50: Mujeres | K50: Hombres | L50: Mujeres | M50: Hombres | N50: Mujeres | O50: Hombres | P50: Mujeres | Q50: Hombres | R50: Mujeres | S50: Hombres | T50: Mujeres | U50: Hombres | V50: Mujeres | W50: Hombres | X50: Mujeres | Y50: Hombres | Z50: Mujeres | AA50: Hombres | AB50: Mujeres | AC50: Hombres | AD50: Mujeres | AE50: Hombres | AF50: Mujeres | AG50: Hombres | AH50: Mujeres | AI50: Hombres | AJ50: Mujeres | AK50: Hombres | AL50: Mujeres
A51: Médico | B51: =SUM(C51+D51) -> 0 | C51: =SUM(E51+G51+I51+K51+M51+O51+Q51+S51+U51+W51+Y51+AA51+AC51+AE51+AG51+AI51+AK51) -> 0 | D51: =SUM(F51+H51+J51+L51+N51+P51+R51+T51+V51+X51+Z51+AB51+AD51+AF51+AH51+AJ51+AL51) -> 0 | AO51: =CA51&CB51 | CA51: =IF(AND($B51>0,AM51="")," * No olvide digitar la variable "&AM$48&""&". Digite CERO si no tiene",IF(AM51>$B51," * La variable "&AM$48&""&" No puede ser mayor al Total.","")) | CB51: =IF(AND($B51>0,AN51="")," * No olvide digitar la variable "&AN$48&""&". Digite CERO si no tiene",IF(B51>AN51," * La variable "&AN$48&""&" No puede ser menor al Total.","")) | CM51: =IF(AND($B51>0,AM51=""),1,IF(AM51>$B51,1,0)) -> 0 | CN51: =IF(AND($B51>0,AN51=""),1,IF(B51>$AN51,1,0)) -> 0
A52: Enfermera /o | B52: =SUM(C52+D52) -> 0 | C52: =SUM(E52+G52+I52+K52+M52+O52+Q52+S52+U52+W52+Y52+AA52+AC52+AE52+AG52+AI52+AK52) -> 0 | D52: =SUM(F52+H52+J52+L52+N52+P52+R52+T52+V52+X52+Z52+AB52+AD52+AF52+AH52+AJ52+AL52) -> 0 | AO52: =CA52&CB52 | CA52: =IF(AND($B52>0,AM52="")," * No olvide digitar la variable "&AM$48&""&". Digite CERO si no tiene",IF(AM52>$B52," * La variable "&AM$48&""&" No puede ser mayor al Total.","")) | CB52: =IF(AND($B52>0,AN52="")," * No olvide digitar la variable "&AN$48&""&". Digite CERO si no tiene",IF(B52>AN52," * La variable "&AN$48&""&" No puede ser menor al Total.","")) | CM52: =IF(AND($B52>0,AM52=""),1,IF(AM52>$B52,1,0)) -> 0 | CN52: =IF(AND($B52>0,AN52=""),1,IF(B52>$AN52,1,0)) -> 0
A53: Matrona /ón | B53: =SUM(C53+D53) -> 0 | C53: =SUM(E53+G53+I53+K53+M53+O53+Q53+S53+U53+W53+Y53+AA53+AC53+AE53+AG53+AI53+AK53) -> 0 | D53: =SUM(F53+H53+J53+L53+N53+P53+R53+T53+V53+X53+Z53+AB53+AD53+AF53+AH53+AJ53+AL53) -> 0 | AO53: =CA53&CB53 | CA53: =IF(AND($B53>0,AM53="")," * No olvide digitar la variable "&AM$48&""&". Digite CERO si no tiene",IF(AM53>$B53," * La variable "&AM$48&""&" No puede ser mayor al Total.","")) | CB53: =IF(AND($B53>0,AN53="")," * No olvide digitar la variable "&AN$48&""&". Digite CERO si no tiene",IF(B53>AN53," * La variable "&AN$48&""&" No puede ser menor al Total.","")) | CM53: =IF(AND($B53>0,AM53=""),1,IF(AM53>$B53,1,0)) -> 0 | CN53: =IF(AND($B53>0,AN53=""),1,IF(B53>$AN53,1,0)) -> 0
A54: Kinesiólogo/a | B54: =SUM(C54+D54) -> 0 | C54: =SUM(E54+G54+I54+K54+M54+O54+Q54+S54+U54+W54+Y54+AA54+AC54+AE54+AG54+AI54+AK54) -> 0 | D54: =SUM(F54+H54+J54+L54+N54+P54+R54+T54+V54+X54+Z54+AB54+AD54+AF54+AH54+AJ54+AL54) -> 0 | AO54: =CA54&CB54 | CA54: =IF(AND($B54>0,AM54="")," * No olvide digitar la variable "&AM$48&""&". Digite CERO si no tiene",IF(AM54>$B54," * La variable "&AM$48&""&" No puede ser mayor al Total.","")) | CB54: =IF(AND($B54>0,AN54="")," * No olvide digitar la variable "&AN$48&""&". Digite CERO si no tiene",IF(B54>AN54," * La variable "&AN$48&""&" No puede ser menor al Total.","")) | CM54: =IF(AND($B54>0,AM54=""),1,IF(AM54>$B54,1,0)) -> 0 | CN54: =IF(AND($B54>0,AN54=""),1,IF(B54>$AN54,1,0)) -> 0
A55: Técnico en Enfermería | B55: =SUM(C55+D55) -> 0 | C55: =SUM(E55+G55+I55+K55+M55+O55+Q55+S55+U55+W55+Y55+AA55+AC55+AE55+AG55+AI55+AK55) -> 0 | D55: =SUM(F55+H55+J55+L55+N55+P55+R55+T55+V55+X55+Z55+AB55+AD55+AF55+AH55+AJ55+AL55) -> 0 | AO55: =CA55&CB55 | CA55: =IF(AND($B55>0,AM55="")," * No olvide digitar la variable "&AM$48&""&". Digite CERO si no tiene",IF(AM55>$B55," * La variable "&AM$48&""&" No puede ser mayor al Total.","")) | CB55: =IF(AND($B55>0,AN55="")," * No olvide digitar la variable "&AN$48&""&". Digite CERO si no tiene",IF(B55>AN55," * La variable "&AN$48&""&" No puede ser menor al Total.","")) | CM55: =IF(AND($B55>0,AM55=""),1,IF(AM55>$B55,1,0)) -> 0 | CN55: =IF(AND($B55>0,AN55=""),1,IF(B55>$AN55,1,0)) -> 0
A56: Otros Profesionales | B56: =SUM(C56+D56) -> 0 | C56: =SUM(E56+G56+I56+K56+M56+O56+Q56+S56+U56+W56+Y56+AA56+AC56+AE56+AG56+AI56+AK56) -> 0 | D56: =SUM(F56+H56+J56+L56+N56+P56+R56+T56+V56+X56+Z56+AB56+AD56+AF56+AH56+AJ56+AL56) -> 0 | AO56: =CA56&CB56 | CA56: =IF(AND($B56>0,AM56="")," * No olvide digitar la variable "&AM$48&""&". Digite CERO si no tiene",IF(AM56>$B56," * La variable "&AM$48&""&" No puede ser mayor al Total.","")) | CB56: =IF(AND($B56>0,AN56="")," * No olvide digitar la variable "&AN$48&""&". Digite CERO si no tiene",IF(B56>AN56," * La variable "&AN$48&""&" No puede ser menor al Total.","")) | CM56: =IF(AND($B56>0,AM56=""),1,IF(AM56>$B56,1,0)) -> 0 | CN56: =IF(AND($B56>0,AN56=""),1,IF(B56>$AN56,1,0)) -> 0
A57: SECCIÓN B: CATEGORIZACIÓN DE PACIENTES, PREVIA A LA ATENCIÓN MÉDICA U ODONTOLÓGICA (Establecimientos Alta, Mediana, Baja Complejidad, SAPU, SAR, SUR)
A58: CATEGORÍAS | B58: TOTAL | E58: RANGO ETARIO (en años) | AM58: Herramientas de Categorización
E59: 0 - 4 años | G59: 5 - 9 años | I59: 10 - 14 años | K59: 15 - 19 años | M59: 20 - 24 años | O59: 25 - 29 años | Q59: 30 - 34 años | S59: 35 - 39 años | U59: 40 - 44 años | W59: 45 - 49 años | Y59: 50 - 54 años | AA59: 55 - 59 años | AC59: 60 - 64 años | AE59: 65 - 69 años | AG59: 70 - 74 años | AI59: 75 - 79 años | AK59: 80 y más años
B60: Ambos Sexos | C60: Hombres | D60: Mujeres | E60: Hombres | F60: Mujeres | G60: Hombres | H60: Mujeres | I60: Hombres | J60: Mujeres | K60: Hombres | L60: Mujeres | M60: Hombres | N60: Mujeres | O60: Hombres | P60: Mujeres | Q60: Hombres | R60: Mujeres | S60: Hombres | T60: Mujeres | U60: Hombres | V60: Mujeres | W60: Hombres | X60: Mujeres | Y60: Hombres | Z60: Mujeres | AA60: Hombres | AB60: Mujeres | AC60: Hombres | AD60: Mujeres | AE60: Hombres | AF60: Mujeres | AG60: Hombres | AH60: Mujeres | AI60: Hombres | AJ60: Mujeres | AK60: Hombres | AL60: Mujeres | AM60: Discrecional | AN60: Estructurado (ESI)
A61: C1 | B61: =SUM(C61+D61) -> 47 | C61: =SUM(E61+G61+I61+K61+M61+O61+Q61+S61+U61+W61+Y61+AA61+AC61+AE61+AG61+AI61+AK61) -> 25 | D61: =SUM(F61+H61+J61+L61+N61+P61+R61+T61+V61+X61+Z61+AB61+AD61+AF61+AH61+AJ61+AL61) -> 22 | M61: 1 | O61: 1 | P61: 2 | Q61: 3 | S61: 1 | T61: 1 | U61: 1 | V61: 2 | W61: 1 | Z61: 3 | AA61: 3 | AC61: 2 | AD61: 4 | AE61: 3 | AF61: 3 | AG61: 1 | AH61: 2 | AI61: 5 | AJ61: 1 | AK61: 3 | AL61: 4 | AM61: 0 | AN61: 47 | AO61: =CA61&CB61 | CA61: =IF(AND($B61>0,AM61="")," * No olvide digitar la variable "&AM$58&""&" Discrecional. Digite CERO si no tiene",IF(AM61>$B61," * La variable "&AM$58&""&" Discrecional No puede ser mayor al Total.","")) | CB61: =IF(AND($B61>0,AN61="")," * No olvide digitar la variable "&AM$58&""&" Estructurado (ESI). Digite CERO si no tiene",IF(AN61>$B61," * La variable "&AM$58&""&" Estructurado (ESI) No puede ser mayor al Total.","")) | CM61: =IF(AND($B61>0,AM61=""),1,IF(AM61>$B61,1,0)) -> 0 | CN61: =IF(AND($B61>0,AN61=""),1,IF(AN61>$B61,1,0)) -> 0
A62: C2 | B62: =SUM(C62+D62) -> 1017 | C62: =SUM(E62+G62+I62+K62+M62+O62+Q62+S62+U62+W62+Y62+AA62+AC62+AE62+AG62+AI62+AK62) -> 539 | D62: =SUM(F62+H62+J62+L62+N62+P62+R62+T62+V62+X62+Z62+AB62+AD62+AF62+AH62+AJ62+AL62) -> 478 | E62: 64 | F62: 77 | G62: 19 | H62: 26 | I62: 16 | J62: 27 | K62: 19 | L62: 22 | M62: 26 | N62: 22 | O62: 20 | P62: 21 | Q62: 32 | R62: 19 | S62: 24 | T62: 20 | U62: 27 | V62: 21 | W62: 19 | X62: 14 | Y62: 21 | Z62: 19 | AA62: 32 | AB62: 22 | AC62: 54 | AD62: 22 | AE62: 48 | AF62: 28 | AG62: 34 | AH62: 30 | AI62: 36 | AJ62: 23 | AK62: 48 | AL62: 65 | AM62: 0 | AN62: 1017 | AO62: =CA62&CB62 | CA62: =IF(AND($B62>0,AM62="")," * No olvide digitar la variable "&AM$58&""&" Discrecional. Digite CERO si no tiene",IF(AM62>$B62," * La variable "&AM$58&""&" Discrecional No puede ser mayor al Total.","")) | CB62: =IF(AND($B62>0,AN62="")," * No olvide digitar la variable "&AM$58&""&" Estructurado (ESI). Digite CERO si no tiene",IF(AN62>$B62," * La variable "&AM$58&""&" Estructurado (ESI) No puede ser mayor al Total.","")) | CM62: =IF(AND($B62>0,AM62=""),1,IF(AM62>$B62,1,0)) -> 0 | CN62: =IF(AND($B62>0,AN62=""),1,IF(AN62>$B62,1,0)) -> 0
A63: C3 | B63: =SUM(C63+D63) -> 2449 | C63: =SUM(E63+G63+I63+K63+M63+O63+Q63+S63+U63+W63+Y63+AA63+AC63+AE63+AG63+AI63+AK63) -> 1247 | D63: =SUM(F63+H63+J63+L63+N63+P63+R63+T63+V63+X63+Z63+AB63+AD63+AF63+AH63+AJ63+AL63) -> 1202 | E63: 216 | F63: 160 | G63: 110 | H63: 81 | I63: 73 | J63: 59 | K63: 32 | L63: 44 | M63: 55 | N63: 57 | O63: 49 | P63: 70 | Q63: 59 | R63: 59 | S63: 63 | T63: 67 | U63: 60 | V63: 61 | W63: 52 | X63: 57 | Y63: 54 | Z63: 61 | AA63: 82 | AB63: 70 | AC63: 82 | AD63: 77 | AE63: 69 | AF63: 79 | AG63: 60 | AH63: 58 | AI63: 58 | AJ63: 59 | AK63: 73 | AL63: 83 | AM63: 0 | AN63: 2449 | AO63: =CA63&CB63 | CA63: =IF(AND($B63>0,AM63="")," * No olvide digitar la variable "&AM$58&""&" Discrecional. Digite CERO si no tiene",IF(AM63>$B63," * La variable "&AM$58&""&" Discrecional No puede ser mayor al Total.","")) | CB63: =IF(AND($B63>0,AN63="")," * No olvide digitar la variable "&AM$58&""&" Estructurado (ESI). Digite CERO si no tiene",IF(AN63>$B63," * La variable "&AM$58&""&" Estructurado (ESI) No puede ser mayor al Total.","")) | CM63: =IF(AND($B63>0,AM63=""),1,IF(AM63>$B63,1,0)) -> 0 | CN63: =IF(AND($B63>0,AN63=""),1,IF(AN63>$B63,1,0)) -> 0
A64: C4 | B64: =SUM(C64+D64) -> 312 | C64: =SUM(E64+G64+I64+K64+M64+O64+Q64+S64+U64+W64+Y64+AA64+AC64+AE64+AG64+AI64+AK64) -> 140 | D64: =SUM(F64+H64+J64+L64+N64+P64+R64+T64+V64+X64+Z64+AB64+AD64+AF64+AH64+AJ64+AL64) -> 172 | E64: 51 | F64: 49 | G64: 26 | H64: 38 | I64: 27 | J64: 16 | K64: 4 | L64: 7 | N64: 9 | O64: 2 | P64: 9 | Q64: 4 | R64: 9 | S64: 1 | T64: 3 | U64: 5 | V64: 5 | W64: 6 | X64: 4 | Y64: 1 | Z64: 7 | AA64: 4 | AB64: 6 | AC64: 3 | AD64: 5 | AE64: 1 | AF64: 2 | AG64: 2 | AH64: 1 | AI64: 1 | AJ64: 2 | AK64: 2 | AM64: 0 | AN64: 312 | AO64: =CA64&CB64 | CA64: =IF(AND($B64>0,AM64="")," * No olvide digitar la variable "&AM$58&""&" Discrecional. Digite CERO si no tiene",IF(AM64>$B64," * La variable "&AM$58&""&" Discrecional No puede ser mayor al Total.","")) | CB64: =IF(AND($B64>0,AN64="")," * No olvide digitar la variable "&AM$58&""&" Estructurado (ESI). Digite CERO si no tiene",IF(AN64>$B64," * La variable "&AM$58&""&" Estructurado (ESI) No puede ser mayor al Total.","")) | CM64: =IF(AND($B64>0,AM64=""),1,IF(AM64>$B64,1,0)) -> 0 | CN64: =IF(AND($B64>0,AN64=""),1,IF(AN64>$B64,1,0)) -> 0
A65: C5 | B65: =SUM(C65+D65) -> 18 | C65: =SUM(E65+G65+I65+K65+M65+O65+Q65+S65+U65+W65+Y65+AA65+AC65+AE65+AG65+AI65+AK65) -> 7 | D65: =SUM(F65+H65+J65+L65+N65+P65+R65+T65+V65+X65+Z65+AB65+AD65+AF65+AH65+AJ65+AL65) -> 11 | E65: 2 | F65: 2 | G65: 2 | H65: 1 | I65: 2 | J65: 1 | L65: 2 | T65: 1 | Z65: 1 | AA65: 1 | AD65: 1 | AF65: 2 | AM65: 0 | AN65: 18 | AO65: =CA65&CB65 | CA65: =IF(AND($B65>0,AM65="")," * No olvide digitar la variable "&AM$58&""&" Discrecional. Digite CERO si no tiene",IF(AM65>$B65," * La variable "&AM$58&""&" Discrecional No puede ser mayor al Total.","")) | CB65: =IF(AND($B65>0,AN65="")," * No olvide digitar la variable "&AM$58&""&" Estructurado (ESI). Digite CERO si no tiene",IF(AN65>$B65," * La variable "&AM$58&""&" Estructurado (ESI) No puede ser mayor al Total.","")) | CM65: =IF(AND($B65>0,AM65=""),1,IF(AM65>$B65,1,0)) -> 0 | CN65: =IF(AND($B65>0,AN65=""),1,IF(AN65>$B65,1,0)) -> 0
A66: Sin Categorización | B66: =SUM(C66+D66) -> 0 | C66: =SUM(E66+G66+I66+K66+M66+O66+Q66+S66+U66+W66+Y66+AA66+AC66+AE66+AG66+AI66+AK66) -> 0 | D66: =SUM(F66+H66+J66+L66+N66+P66+R66+T66+V66+X66+Z66+AB66+AD66+AF66+AH66+AJ66+AL66) -> 0
A67: TOTAL | B67: =SUM(B61:B66) -> 3843 | C67: =SUM(C61:C66) -> 1958 | D67: =SUM(D61:D66) -> 1885 | E67: =SUM(E61:E66) -> 333 | F67: =SUM(F61:F66) -> 288 | G67: =SUM(G61:G66) -> 157 | H67: =SUM(H61:H66) -> 146 | I67: =SUM(I61:I66) -> 118 | ... AL67: =SUM(AL61:AL66) -> 152 | AM67: =SUM(AM61:AM65) -> 0 | AN67: =SUM(AN61:AN65) -> 3843
A68: SECCIÓN B.1: CATEGORIZACIÓN DE PACIENTES DE URGENCIA GINECO OBSTÉTRICA PREVIO A LA ATENCIÓN CLÍNICA POR MATRÓN (A) Y/O MÉDICO GINECO-OBSTETRA (Establecimientos alta, mediana y baja complejidad)
A69: CATEGORÍAS | B69: TOTAL | E69: RANGO ETARIO Y SEXO
E70: 0 - 4 años | G70: 5 - 9 años | I70: 10 - 14 años | K70: 15 - 19 años | M70: 20 - 24 años | O70: 25 - 29 años | Q70: 30 - 34 años | S70: 35 - 39 años | U70: 40 - 44 años | W70: 45 - 49 años | Y70: 50 - 54 años | AA70: 55 - 59 años | AC70: 60 - 64 años | AE70: 65 - 69 años | AG70: 70 - 74 años | AI70: 75 - 79 años | AK70: 80 y más años
B71: Ambos Sexos | C71: Hombres | D71: Mujeres | E71: Hombres | F71: Mujeres | G71: Hombres | H71: Mujeres | I71: Hombres | J71: Mujeres | K71: Hombres | L71: Mujeres | M71: Hombres | N71: Mujeres | O71: Hombres | P71: Mujeres | Q71: Hombres | R71: Mujeres | S71: Hombres | T71: Mujeres | U71: Hombres | V71: Mujeres | W71: Hombres | X71: Mujeres | Y71: Hombres | Z71: Mujeres | AA71: Hombres | AB71: Mujeres | AC71: Hombres | AD71: Mujeres | AE71: Hombres | AF71: Mujeres | AG71: Hombres | AH71: Mujeres | AI71: Hombres | AJ71: Mujeres | AK71: Hombres | AL71: Mujeres
A72: C1 | B72: =SUM(C72+D72) -> 39 | C72: =SUM(E72+G72+I72+K72+M72+O72+Q72+S72+U72+W72+Y72+AA72+AC72+AE72+AG72+AI72+AK72) -> 0 | D72: =SUM(F72+H72+J72+L72+N72+P72+R72+T72+V72+X72+Z72+AB72+AD72+AF72+AH72+AJ72+AL72) -> 39 | L72: 2 | N72: 10 | P72: 11 | R72: 11 | T72: 4 | V72: 1
A73: C2 | B73: =SUM(C73+D73) -> 8 | C73: =SUM(E73+G73+I73+K73+M73+O73+Q73+S73+U73+W73+Y73+AA73+AC73+AE73+AG73+AI73+AK73) -> 0 | D73: =SUM(F73+H73+J73+L73+N73+P73+R73+T73+V73+X73+Z73+AB73+AD73+AF73+AH73+AJ73+AL73) -> 8 | L73: 1 | N73: 1 | P73: 1 | R73: 3 | T73: 2
A74: C3 | B74: =SUM(C74+D74) -> 346 | C74: =SUM(E74+G74+I74+K74+M74+O74+Q74+S74+U74+W74+Y74+AA74+AC74+AE74+AG74+AI74+AK74) -> 1 | D74: =SUM(F74+H74+J74+L74+N74+P74+R74+T74+V74+X74+Z74+AB74+AD74+AF74+AH74+AJ74+AL74) -> 345 | J74: 2 | L74: 18 | M74: 1 | N74: 66 | P74: 94 | R74: 97 | T74: 39 | V74: 16 | X74: 8 | AB74: 3 | AF74: 1 | AH74: 1
A75: C4 | B75: =SUM(C75+D75) -> 10 | C75: =SUM(E75+G75+I75+K75+M75+O75+Q75+S75+U75+W75+Y75+AA75+AC75+AE75+AG75+AI75+AK75) -> 0 | D75: =SUM(F75+H75+J75+L75+N75+P75+R75+T75+V75+X75+Z75+AB75+AD75+AF75+AH75+AJ75+AL75) -> 10 | J75: 1 | N75: 1 | P75: 1 | R75: 3 | T75: 2 | V75: 1 | Z75: 1
A76: C5 | B76: =SUM(C76+D76) -> 119 | C76: =SUM(E76+G76+I76+K76+M76+O76+Q76+S76+U76+W76+Y76+AA76+AC76+AE76+AG76+AI76+AK76) -> 0 | D76: =SUM(F76+H76+J76+L76+N76+P76+R76+T76+V76+X76+Z76+AB76+AD76+AF76+AH76+AJ76+AL76) -> 119 | L76: 3 | N76: 17 | P76: 15 | R76: 21 | T76: 15 | V76: 18 | X76: 9 | Z76: 5 | AB76: 5 | AD76: 4 | AF76: 3 | AH76: 2 | AL76: 2
A77: Sin Categorización | B77: =SUM(C77+D77) -> 0 | C77: =SUM(E77+G77+I77+K77+M77+O77+Q77+S77+U77+W77+Y77+AA77+AC77+AE77+AG77+AI77+AK77) -> 0 | D77: =SUM(F77+H77+J77+L77+N77+P77+R77+T77+V77+X77+Z77+AB77+AD77+AF77+AH77+AJ77+AL77) -> 0
A78: TOTAL | B78: =SUM(B72:B77) -> 522 | C78: =SUM(C72:C77) -> 1 | D78: =SUM(D72:D77) -> 521 | E78: =SUM(E72:E77) -> 0 | F78: =SUM(F72:F77) -> 0 | G78: =SUM(G72:G77) -> 0 | H78: =SUM(H72:H77) -> 0 | I78: =SUM(I72:I77) -> 0 | ... AL78: =SUM(AL72:AL77) -> 2
A79: SECCIÓN C: ATENCIONES REALIZADAS POR MÉDICOS Y ODONTÓLOGOS ESPECIALISTAS EN LAS UNIDADES DE URGENCIA HOSPITALARIA
A80: ESPECIALIDADES | B80: TOTAL | C80: De turno | D80: Consultor de llamada | E80: Otros
A81: Medicina Interna | B81: =SUM(C81:E81) -> 0
A82: Neurología Adultos | B82: =SUM(C82:E82) -> 0
A83: Neurología Pediátrica | B83: =SUM(C83:E83) -> 0
A84: Obstetricia y Ginecología | B84: =SUM(C84:E84) -> 176 | C84: 176
A85: Oftalmología | B85: =SUM(C85:E85) -> 0
A86: Otorrinolaringología | B86: =SUM(C86:E86) -> 0
A87: Pediatría | B87: =SUM(C87:E87) -> 76 | C87: 76
A88: Traumatología y Ortopedia | B88: =SUM(C88:E88) -> 1 | C88: 1
A89: Neurocirugía | B89: =SUM(C89:E89) -> 0
A90: Psiquiatría Adultos | B90: =SUM(C90:E90) -> 0
A91: Psiquiatría Pediátrica y Adolescentes | B91: =SUM(C91:E91) -> 0
A92: Urología | B92: =SUM(C92:E92) -> 0
A93: Urgenciólogo | B93: =SUM(C93:E93) -> 118 | C93: 118
A94: Cirugía Vascular Periférica | B94: =SUM(C94:E94) -> 0
A95: Cirugía General | B95: =SUM(C95:E95) -> 0
A96: Cirugía Pediátrica | B96: =SUM(C96:E96) -> 0
A97: Cardiología | B97: =SUM(C97:E97) -> 0
A98: Anestesiología | B98: =SUM(C98:E98) -> 0
A99: Cirugía de Cabeza, Cuello y Maxilofacial | B99: =SUM(C99:E99) -> 0
A100: Odontólogo | B100: =SUM(C100:E100) -> 0
...

Sheet FEBRERO
A1: SERVICIO DE SALUD
A2: =CONCATENATE("COMUNA: ",[3]NOMBRE!B2, " (",[3]NOMBRE!C2,[3]NOMBRE!D2,[3]NOMBRE!E2,[3]NOMBRE!F2,[3]NOMBRE!G2,")") -> COMUNA: LINARES (07401)
A3: =CONCATENATE("ESTABLECIMIENTO/ESTRATEGIA: ", [3]NOMBRE!B3, " (",[3]NOMBRE!C3,[3]NOMBRE!D3,[3]NOMBRE!E3,[3]NOMBRE!F3,[3]NOMBRE!G3,[3]NOMBRE!H3,")") -> ESTABLECIMIENTO/ESTRATEGIA: HOSPITAL PRESIDENTE CARLOS IBAÑEZ DEL CAMPO (116108)
A4: =CONCATENATE("MES: ",[3]NOMBRE!B6, " (",[3]NOMBRE!C6,[3]NOMBRE!D6,")") -> MES: FEBRERO (02)
A5: =CONCATENATE("AÑO: ",[3]NOMBRE!B7) -> AÑO: 2025
A6: REM-A08. ATENCIÓN DE URGENCIA
A7: SECCIÓN A: ATENCIONES REALIZADAS EN UNIDADES DE URGENCIA DE LA RED
A8: SECCIÓN A.1: ATENCIONES REALIZADAS EN UNIDADES DE EMERGENCIA HOSPITALARIA (Establecimientos de alta y mediana complejidad)
A9: TIPO DE ATENCIÓN | B9: TOTAL | E9: RANGO ETARIO (en años) | AM9: Beneficiarios | AN9: ORIGEN DE LA PROCEDENCIA (Sólo pacientes derivados de establecimientos de la Red) | AR9: Establecimientos de otra Red | AS9: Demanda de Urgencia
E10: 0 - 4 años | G10: 5 - 9 años | I10: 10 - 14 años | K10: 15 - 19 años | M10: 20 - 24 años | O10: 25 - 29 años | Q10: 30 - 34 años | S10: 35 - 39 años | U10: 40 - 44 años | W10: 45 - 49 años | Y10: 50 - 54 años | AA10: 55 - 59 años | AC10: 60 - 64 años | AE10: 65 - 69 años | AG10: 70 - 74 años | AI10: 75 - 79 años | AK10: 80 y más años | AN10: SAPU/ SAR / SUR | AO10: Hospital Baja Complejidad | AP10: Hospital Mediana/Alta Complejidad | AQ10: Otros Establecimientos de la Red
B11: Ambos Sexos | C11: Hombres | D11: Mujeres | E11: Hombres | F11: Mujeres | G11: Hombres | H11: Mujeres | I11: Hombres | J11: Mujeres | K11: Hombres | L11: Mujeres | M11: Hombres | N11: Mujeres | O11: Hombres | P11: Mujeres | Q11: Hombres | R11: Mujeres | S11: Hombres | T11: Mujeres | U11: Hombres | V11: Mujeres | W11: Hombres | X11: Mujeres | Y11: Hombres | Z11: Mujeres | AA11: Hombres | AB11: Mujeres | AC11: Hombres | AD11: Mujeres | AE11: Hombres | AF11: Mujeres | AG11: Hombres | AH11: Mujeres | AI11: Hombres | AJ11: Mujeres | AK11: Hombres | AL11: Mujeres
A12: Atención Médica Niño y Adulto | B12: =SUM(C12+D12) -> 3494 | C12: =SUM(E12+G12+I12+K12+M12+O12+Q12+S12+U12+W12+Y12+AA12+AC12+AE12+AG12+AI12+AK12) -> 1722 | D12: =SUM(F12+H12+J12+L12+N12+P12+R12+T12+V12+X12+Z12+AB12+AD12+AF12+AH12+AJ12+AL12) -> 1772 | E12: 269 | F12: 236 | G12: 106 | H12: 107 | I12: 116 | J12: 89 | K12: 79 | L12: 83 | M12: 70 | N12: 86 | O12: 79 | P12: 90 | Q12: 86 | R12: 94 | S12: 80 | T12: 102 | U12: 88 | V12: 93 | W12: 70 | X12: 91 | Y12: 77 | Z12: 72 | AA12: 82 | AB12: 109 | AC12: 109 | AD12: 102 | AE12: 94 | AF12: 105 | AG12: 90 | AH12: 99 | AI12: 115 | AJ12: 84 | AK12: 112 | AL12: 130 | AM12: 3359 | AN12: 125 | AO12: 1 | AP12: 201 | AQ12: 31 | AR12: 508 | AS12: 3928 | AT12: =CA12&CB12&CC12&CD12&CE12&CF12&CG12 | CA12: =IF(AND($B12>0,AM12="")," * No olvide digitar la variable "&AM$9&""&". Digite CERO si no tiene",IF(AM12>$B12," * La variable "&AM$9&""&" No puede ser mayor al Total.","")) | CB12: =IF(AND($B12>0,AN12="")," * No olvide digitar la variable "&AN$9&""&" SAPU/SAR/SUR. Digite CERO si no tiene",IF(AN12>$B12," * La variable "&AN$9&""&" SAPU/SAR/SUR No puede ser mayor al Total.","")) | CC12: =IF(AND($B12>0,AO12="")," * No olvide digitar la variable "&AN$9&""&" Hospital Baja Complejidad. Digite CERO si no tiene",IF(AO12>$B12," * La variable "&AN$9&""&" Hospital Baja Complejidad No puede ser mayor al Total.","")) | CD12: =IF(AND($B12>0,AP12="")," * No olvide digitar la variable "&AN$9&""&" Hospital Mediana/Alta Complejidad. Digite CERO si no tiene",IF(AP12>$B12," * La variable "&AN$9&""&" Hospital Mediana/Alta Complejidad No puede ser mayor al Total.","")) | CE12: =IF(AND($B12>0,AQ12="")," * No olvide digitar la variable "&AN$9&""&" Otros Establecimientos de la Red. Digite CERO si no tiene",IF(AQ12>$B12," * La variable "&AN$9&""&" Otros Establecimientos de la Red No puede ser mayor al Total.","")) | CF12: =IF(AND($B12>0,AR12="")," * No olvide digitar la variable "&AR$9&""&". Digite CERO si no tiene",IF(AR12>$B12," * La variable "&AR$9&""&" No puede ser mayor al Total.","")) | CG12: =IF(AND($B12>0,AS12="")," * No olvide digitar la variable "&AS$9&""&". Digite CERO si no tiene",IF(B12>AS12," * La variable "&AS$9&""&" No puede ser menor al Total.","")) | CM12: =IF(AND($B12>0,AM12=""),1,IF(AM12>$B12,1,0)) -> 0 | CN12: =IF(AND($B12>0,AN12=""),1,IF(AN12>$B12,1,0)) -> 0 | CO12: =IF(AND($B12>0,AO12=""),1,IF(AO12>$B12,1,0)) -> 0 | CP12: =IF(AND($B12>0,AP12=""),1,IF(AP12>$B12,1,0)) -> 0 | CQ12: =IF(AND($B12>0,AQ12=""),1,IF(AQ12>$B12,1,0)) -> 0 | CR12: =IF(AND($B12>0,AR12=""),1,IF(AR12>$B12,1,0)) -> 0 | CS12: =IF(AND($B12>0,AS12=""),1,IF(B12>AS12,1,0)) -> 0
A13: Atención Médica Gineco-Obstetra | B13: =SUM(C13+D13) -> 304 | C13: =SUM(E13+G13+I13+K13+M13+O13+Q13+S13+U13+W13+Y13+AA13+AC13+AE13+AG13+AI13+AK13) -> 0 | D13: =SUM(F13+H13+J13+L13+N13+P13+R13+T13+V13+X13+Z13+AB13+AD13+AF13+AH13+AJ13+AL13) -> 304 | J13: 2 | L13: 21 | N13: 47 | P13: 83 | R13: 54 | T13: 48 | V13: 19 | X13: 11 | Z13: 10 | AB13: 2 | AD13: 2 | AF13: 2 | AH13: 1 | AL13: 2 | AM13: 301 | AN13: 8 | AO13: 0 | AP13: 5 | AQ13: 3 | AR13: 33 | AS13: 523 | AT13: =CA13&CB13&CC13&CD13&CE13&CF13&CG13 | CA13: =IF(AND($B13>0,AM13="")," * No olvide digitar la variable "&AM$9&""&". Digite CERO si no tiene",IF(AM13>$B13," * La variable "&AM$9&""&" No puede ser mayor al Total.","")) | CB13: =IF(AND($B13>0,AN13="")," * No olvide digitar la variable "&AN$9&""&" SAPU/SAR/SUR. Digite CERO si no tiene",IF(AN13>$B13," * La variable "&AN$9&""&" SAPU/SAR/SUR No puede ser mayor al Total.","")) | CC13: =IF(AND($B13>0,AO13="")," * No olvide digitar la variable "&AN$9&""&" Hospital Baja Complejidad. Digite CERO si no tiene",IF(AO13>$B13," * La variable "&AN$9&""&" Hospital Baja Complejidad No puede ser mayor al Total.","")) | CD13: =IF(AND($B13>0,AP13="")," * No olvide digitar la variable "&AN$9&""&" Hospital Mediana/Alta Complejidad. Digite CERO si no tiene",IF(AP13>$B13," * La variable "&AN$9&""&" Hospital Mediana/Alta Complejidad No puede ser mayor al Total.","")) | CE13: =IF(AND($B13>0,AQ13="")," * No olvide digitar la variable "&AN$9&""&" Otros Establecimientos de la Red. Digite CERO si no tiene",IF(AQ13>$B13," * La variable "&AN$9&""&" Otros Establecimientos de la Red No puede ser mayor al Total.","")) | CF13: =IF(AND($B13>0,AR13="")," * No olvide digitar la variable "&AR$9&""&". Digite CERO si no tiene",IF(AR13>$B13," * La variable "&AR$9&""&" No puede ser mayor al Total.","")) | CG13: =IF(AND($B13>0,AS13="")," * No olvide digitar la variable "&AS$9&""&". Digite CERO si no tiene",IF(B13>AS13," * La variable "&AS$9&""&" No puede ser menor al Total.","")) | CM13: =IF(AND($B13>0,AM13=""),1,IF(AM13>$B13,1,0)) -> 0 | CN13: =IF(AND($B13>0,AN13=""),1,IF(AN13>$B13,1,0)) -> 0 | CO13: =IF(AND($B13>0,AO13=""),1,IF(AO13>$B13,1,0)) -> 0 | CP13: =IF(AND($B13>0,AP13=""),1,IF(AP13>$B13,1,0)) -> 0 | CQ13: =IF(AND($B13>0,AQ13=""),1,IF(AQ13>$B13,1,0)) -> 0 | CR13: =IF(AND($B13>0,AR13=""),1,IF(AR13>$B13,1,0)) -> 0 | CS13: =IF(AND($B13>0,AS13=""),1,IF(B13>AS13,1,0)) -> 0
A14: Atención por Matrona/ón | B14: =SUM(C14+D14) -> 192 | C14: =SUM(E14+G14+I14+K14+M14+O14+Q14+S14+U14+W14+Y14+AA14+AC14+AE14+AG14+AI14+AK14) -> 3 | D14: =SUM(F14+H14+J14+L14+N14+P14+R14+T14+V14+X14+Z14+AB14+AD14+AF14+AH14+AJ14+AL14) -> 189 | L14: 5 | M14: 1 | N14: 30 | P14: 44 | R14: 38 | T14: 33 | V14: 15 | X14: 11 | Z14: 2 | AB14: 2 | AD14: 6 | AF14: 1 | AH14: 2 | AK14: 2 | AM14: 187 | AT14: =CA14&CB14&CC14&CD14&CE14&CF14&CG14 | CA14: =IF(AND($B14>0,AM14="")," * No olvide digitar la variable "&AM$9&""&". Digite CERO si no tiene",IF(AM14>$B14," * La variable "&AM$9&""&" No puede ser mayor al Total.","")) | CM14: =IF(AND($B14>0,AM14=""),1,IF(AM14>$B14,1,0)) -> 0
A15: Atención por Odontólogo/a | B15: =SUM(C15+D15) -> 0 | C15: =SUM(E15+G15+I15+K15+M15+O15+Q15+S15+U15+W15+Y15+AA15+AC15+AE15+AG15+AI15+AK15) -> 0 | D15: =SUM(F15+H15+J15+L15+N15+P15+R15+T15+V15+X15+Z15+AB15+AD15+AF15+AH15+AJ15+AL15) -> 0 | AT15: =CA15&CB15&CC15&CD15&CE15&CF15&CG15 | CA15: =IF(AND($B15>0,AM15="")," * No olvide digitar la variable "&AM$9&""&". Digite CERO si no tiene",IF(AM15>$B15," * La variable "&AM$9&""&" No puede ser mayor al Total.","")) | CM15: =IF(AND($B15>0,AM15=""),1,IF(AM15>$B15,1,0)) -> 0
A16: SECCIÓN A.2: ATENCIONES Y ACTIVIDADES DE URGENCIA REALIZADAS EN SAPU Y SAR
A17: ATENCIÓN | B17: TOTAL | E17: RANGO ETARIO (en años) | AM17: Beneficiarios | AN17: Atenciones por profesionales a Honorarios | AO17: Demanda de Urgencia | AP17: Por Campaña de Invierno | AQ17: Niños, Niñas, Adolescentes y Jóvenes SENAME | AR17: Niños, Niñas, Adolescentes y Jóvenes Mejor Niñez
E18: 0 - 4 años | G18: 5 - 9 años | I18: 10 - 14 años | K18: 15 - 19 años | M18: 20 - 24 años | O18: 25 - 29 años | Q18: 30 - 34 años | S18: 35 - 39 años | U18: 40 - 44 años | W18: 45 - 49 años | Y18: 50 - 54 años | AA18: 55 - 59 años | AC18: 60 - 64 años | AE18: 65 - 69 años | AG18: 70 - 74 años | AI18: 75 - 79 años | AK18: 80 y más años
B19: Ambos Sexos | C19: Hombres | D19: Mujeres | E19: Hombres | F19: Mujeres | G19: Hombres | H19: Mujeres | I19: Hombres | J19: Mujeres | K19: Hombres | L19: Mujeres | M19: Hombres | N19: Mujeres | O19: Hombres | P19: Mujeres | Q19: Hombres | R19: Mujeres | S19: Hombres | T19: Mujeres | U19: Hombres | V19: Mujeres | W19: Hombres | X19: Mujeres | Y19: Hombres | Z19: Mujeres | AA19: Hombres | AB19: Mujeres | AC19: Hombres | AD19: Mujeres | AE19: Hombres | AF19: Mujeres | AG19: Hombres | AH19: Mujeres | AI19: Hombres | AJ19: Mujeres | AK19: Hombres | AL19: Mujeres
A20: Atención Medica | B20: =SUM(C20+D20) -> 0 | C20: =SUM(E20+G20+I20+K20+M20+O20+Q20+S20+U20+W20+Y20+AA20+AC20+AE20+AG20+AI20+AK20) -> 0 | D20: =SUM(F20+H20+J20+L20+N20+P20+R20+T20+V20+X20+Z20+AB20+AD20+AF20+AH20+AJ20+AL20) -> 0 | AS20: =$CA20&$CB20&$CC20&$CD20&$CE20&$CF20 | CA20: =IF(AND($B20>0,AM20="")," * No olvide digitar la variable "&AM$17&""&". Digite CERO si no tiene",IF(AM20>$B20," * La variable "&AM$20&""&" No puede ser mayor al Total.","")) | CB20: =IF(AND($B20>0,AN20="")," * No olvide digitar la variable "&AN$17&""&". Digite CERO si no tiene",IF(AN20>$B20," * La variable "&AN$17&""&" No puede ser mayor al Total.","")) | CC20: =IF(AND($B20>0,AO20="")," * No olvide digitar la variable "&AO$17&""&". Digite CERO si no tiene",IF(B20>AO20," * La variable "&AO$17&""&" No puede ser menor al Total.","")) | CD20: =IF(AND($B20>0,AP20="")," * No olvide digitar la variable "&AP$17&""&". Digite CERO si no tiene",IF(AP20>$B20," * La variable "&AP$17&""&" No puede ser mayor al Total.","")) | CE20: =IF(AND($B20>0,AQ20="")," * No olvide digitar la variable "&AQ$17&""&". Digite CERO si no tiene",IF(AQ20>$B20," * La variable "&AQ$17&""&" No puede ser mayor al Total.","")) | CF20: =IF(AND($B20>0,AR20="")," * No olvide digitar la variable "&AR$17&""&". Digite CERO si no tiene",IF(AR20>$B20," * La variable "&AR$17&""&" No puede ser mayor al Total.","")) | CM20: =IF(AND($B20>0,AM20=""),1,IF(AM20>$B20,1,0)) -> 0 | CN20: =IF(AND($B20>0,AN20=""),1,IF(AN20>$B20,1,0)) -> 0 | CO20: =IF(AND($B20>0,AO20=""),1,IF(B20>$AO20,1,0)) -> 0 | CP20: =IF(AND($B20>0,AP20=""),1,IF(AP20>$B20,1,0)) -> 0 | CQ20: =IF(AND($B20>0,AQ20=""),1,IF(AQ20>$B20,1,0)) -> 0 | CR20: =IF(AND($B20>0,AR20=""),1,IF(AR20>$B20,1,0)) -> 0
A21: Enfermería | B21: =SUM(C21+D21) -> 0 | C21: =SUM(E21+G21+I21+K21+M21+O21+Q21+S21+U21+W21+Y21+AA21+AC21+AE21+AG21+AI21+AK21) -> 0 | D21: =SUM(F21+H21+J21+L21+N21+P21+R21+T21+V21+X21+Z21+AB21+AD21+AF21+AH21+AJ21+AL21) -> 0 | AS21: =$CA21&$CB21&$CC21&$CD21&$CE21&$CF21 | CA21: =IF(AND($B21>0,AM21="")," * No olvide digitar la variable "&AM$17&""&". Digite CERO si no tiene",IF(AM21>$B21," * La variable "&AM$20&""&" No puede ser mayor al Total.","")) | CB21: =IF(AND($B21>0,AN21="")," * No olvide digitar la variable "&AN$17&""&". Digite CERO si no tiene",IF(AN21>$B21," * La variable "&AN$17&""&" No puede ser mayor al Total.","")) | CC21: =IF(AND($B21>0,AO21="")," * No olvide digitar la variable "&AO$17&""&". Digite CERO si no tiene",IF(B21>AO21," * La variable "&AO$17&""&" No puede ser menor al Total.","")) | CD21: =IF(AND($B21>0,AP21="")," * No olvide digitar la variable "&AP$17&""&". Digite CERO si no tiene",IF(AP21>$B21," * La variable "&AP$17&""&" No puede ser mayor al Total.","")) | CE21: =IF(AND($B21>0,AQ21="")," * No olvide digitar la variable "&AQ$17&""&". Digite CERO si no tiene",IF(AQ21>$B21," * La variable "&AQ$17&""&" No puede ser mayor al Total.","")) | CF21: =IF(AND($B21>0,AR21="")," * No olvide digitar la variable "&AR$17&""&". Digite CERO si no tiene",IF(AR21>$B21," * La variable "&AR$17&""&" No puede ser mayor al Total.","")) | CM21: =IF(AND($B21>0,AM21=""),1,IF(AM21>$B21,1,0)) -> 0 | CN21: =IF(AND($B21>0,AN21=""),1,IF(AN21>$B21,1,0)) -> 0 | CO21: =IF(AND($B21>0,AO21=""),1,IF(B21>$AO21,1,0)) -> 0 | CP21: =IF(AND($B21>0,AP21=""),1,IF(AP21>$B21,1,0)) -> 0 | CQ21: =IF(AND($B21>0,AQ21=""),1,IF(AQ21>$B21,1,0)) -> 0 | CR21: =IF(AND($B21>0,AR21=""),1,IF(AR21>$B21,1,0)) -> 0
A22: Matronería | B22: =SUM(C22+D22) -> 0 | C22: =SUM(E22+G22+I22+K22+M22+O22+Q22+S22+U22+W22+Y22+AA22+AC22+AE22+AG22+AI22+AK22) -> 0 | D22: =SUM(F22+H22+J22+L22+N22+P22+R22+T22+V22+X22+Z22+AB22+AD22+AF22+AH22+AJ22+AL22) -> 0 | AS22: =$CA22&$CB22&$CC22&$CD22&$CE22&$CF22 | CA22: =IF(AND($B22>0,AM22="")," * No olvide digitar la variable "&AM$17&""&". Digite CERO si no tiene",IF(AM22>$B22," * La variable "&AM$20&""&" No puede ser mayor al Total.","")) | CB22: =IF(AND($B22>0,AN22="")," * No olvide digitar la variable "&AN$17&""&". Digite CERO si no tiene",IF(AN22>$B22," * La variable "&AN$17&""&" No puede ser mayor al Total.","")) | CC22: =IF(AND($B22>0,AO22="")," * No olvide digitar la variable "&AO$17&""&". Digite CERO si no tiene",IF(B22>AO22," * La variable "&AO$17&""&" No puede ser menor al Total.","")) | CE22: =IF(AND($B22>0,AQ22="")," * No olvide digitar la variable "&AQ$17&""&". Digite CERO si no tiene",IF(AQ22>$B22," * La variable "&AQ$17&""&" No puede ser mayor al Total.","")) | CF22: =IF(AND($B22>0,AR22="")," * No olvide digitar la variable "&AR$17&""&". Digite CERO si no tiene",IF(AR22>$B22," * La variable "&AR$17&""&" No puede ser mayor al Total.","")) | CM22: =IF(AND($B22>0,AM22=""),1,IF(AM22>$B22,1,0)) -> 0 | CN22: =IF(AND($B22>0,AN22=""),1,IF(AN22>$B22,1,0)) -> 0 | CO22: =IF(AND($B22>0,AO22=""),1,IF(B22>$AO22,1,0)) -> 0 | CQ22: =IF(AND($B22>0,AQ22=""),1,IF(AQ22>$B22,1,0)) -> 0 | CR22: =IF(AND($B22>0,AR22=""),1,IF(AR22>$B22,1,0)) -> 0
A23: Kinesiología | B23: =SUM(C23+D23) -> 0 | C23: =SUM(E23+G23+I23+K23+M23+O23+Q23+S23+U23+W23+Y23+AA23+AC23+AE23+AG23+AI23+AK23) -> 0 | D23: =SUM(F23+H23+J23+L23+N23+P23+R23+T23+V23+X23+Z23+AB23+AD23+AF23+AH23+AJ23+AL23) -> 0 | AS23: =$CA23&$CB23&$CC23&$CD23&$CE23&$CF23 | CA23: =IF(AND($B23>0,AM23="")," * No olvide digitar la variable "&AM$17&""&". Digite CERO si no tiene",IF(AM23>$B23," * La variable "&AM$20&""&" No puede ser mayor al Total.","")) | CB23: =IF(AND($B23>0,AN23="")," * No olvide digitar la variable "&AN$17&""&". Digite CERO si no tiene",IF(AN23>$B23," * La variable "&AN$17&""&" No puede ser mayor al Total.","")) | CC23: =IF(AND($B23>0,AO23="")," * No olvide digitar la variable "&AO$17&""&". Digite CERO si no tiene",IF(B23>AO23," * La variable "&AO$17&""&" No puede ser menor al Total.","")) | CD23: =IF(AND($B23>0,AP23="")," * No olvide digitar la variable "&AP$17&""&". Digite CERO si no tiene",IF(AP23>$B23," * La variable "&AP$17&""&" No puede ser mayor al Total.","")) | CE23: =IF(AND($B23>0,AQ23="")," * No olvide digitar la variable "&AQ$17&""&". Digite CERO si no tiene",IF(AQ23>$B23," * La variable "&AQ$17&""&" No puede ser mayor al Total.","")) | CF23: =IF(AND($B23>0,AR23="")," * No olvide digitar la variable "&AR$17&""&". Digite CERO si no tiene",IF(AR23>$B23," * La variable "&AR$17&""&" No puede ser mayor al Total.","")) | CM23: =IF(AND($B23>0,AM23=""),1,IF(AM23>$B23,1,0)) -> 0 | CN23: =IF(AND($B23>0,AN23=""),1,IF(AN23>$B23,1,0)) -> 0 | CO23: =IF(AND($B23>0,AO23=""),1,IF(B23>$AO23,1,0)) -> 0 | CP23: =IF(AND($B23>0,AP23=""),1,IF(AP23>$B23,1,0)) -> 0 | CQ23: =IF(AND($B23>0,AQ23=""),1,IF(AQ23>$B23,1,0)) -> 0 | CR23: =IF(AND($B23>0,AR23=""),1,IF(AR23>$B23,1,0)) -> 0
A24: Psicología | B24: =SUM(C24+D24) -> 0 | C24: =SUM(E24+G24+I24+K24+M24+O24+Q24+S24+U24+W24+Y24+AA24+AC24+AE24+AG24+AI24+AK24) -> 0 | D24: =SUM(F24+H24+J24+L24+N24+P24+R24+T24+V24+X24+Z24+AB24+AD24+AF24+AH24+AJ24+AL24) -> 0 | AS24: =$CA24&$CB24&$CC24&$CD24&$CE24&$CF24 | CA24: =IF(AND($B24>0,AM24="")," * No olvide digitar la variable "&AM$17&""&". Digite CERO si no tiene",IF(AM24>$B24," * La variable "&AM$17&""&" No puede ser mayor al Total.","")) | CB24: =IF(AND($B24>0,AN24="")," * No olvide digitar la variable "&AN$17&""&". Digite CERO si no tiene",IF(AN24>$B24," * La variable "&AN$17&""&" No puede ser mayor al Total.","")) | CE24: =IF(AND($B24>0,AQ24="")," * No olvide digitar la variable "&AQ$17&""&" Otros Establecimientos de la Red. Digite CERO si no tiene",IF(AQ24>$B24," * La variable "&AQ$17&""&" Otros Establecimientos de la Red No puede ser mayor al Total.","")) | CF24: =IF(AND($B24>0,AR24="")," * No olvide digitar la variable "&AR$17&""&". Digite CERO si no tiene",IF(AR24>$B24," * La variable "&AR$17&""&" No puede ser mayor al Total.","")) | CM24: =IF(AND($B24>0,AM24=""),1,IF(AM24>$B24,1,0)) -> 0 | CN24: =IF(AND($B24>0,AN24=""),1,IF(AN24>$B24,1,0)) -> 0 | CQ24: =IF(AND($B24>0,AQ24=""),1,IF(AQ24>$B24,1,0)) -> 0 | CR24: =IF(AND($B24>0,AR24=""),1,IF(AR24>$B24,1,0)) -> 0
A25: Trabajo Social | B25: =SUM(C25+D25) -> 0 | C25: =SUM(E25+G25+I25+K25+M25+O25+Q25+S25+U25+W25+Y25+AA25+AC25+AE25+AG25+AI25+AK25) -> 0 | D25: =SUM(F25+H25+J25+L25+N25+P25+R25+T25+V25+X25+Z25+AB25+AD25+AF25+AH25+AJ25+AL25) -> 0 | AS25: =$CA25&$CB25&$CC25&$CD25&$CE25&$CF25 | CA25: =IF(AND($B25>0,AM25="")," * No olvide digitar la variable "&AM$17&""&". Digite CERO si no tiene",IF(AM25>$B25," * La variable "&AM$17&""&" No puede ser mayor al Total.","")) | CB25: =IF(AND($B25>0,AN25="")," * No olvide digitar la variable "&AN$17&""&". Digite CERO si no tiene",IF(AN25>$B25," * La variable "&AN$17&""&" No puede ser mayor al Total.","")) | CE25: =IF(AND($B25>0,AQ25="")," * No olvide digitar la variable "&AQ$17&""&" Otros Establecimientos de la Red. Digite CERO si no tiene",IF(AQ25>$B25," * La variable "&AQ$17&""&" Otros Establecimientos de la Red No puede ser mayor al Total.","")) | CF25: =IF(AND($B25>0,AR25="")," * No olvide digitar la variable "&AR$17&""&". Digite CERO si no tiene",IF(AR25>$B25," * La variable "&AR$17&""&" No puede ser mayor al Total.","")) | CM25: =IF(AND($B25>0,AM25=""),1,IF(AM25>$B25,1,0)) -> 0 | CN25: =IF(AND($B25>0,AN25=""),1,IF(AN25>$B25,1,0)) -> 0 | CQ25: =IF(AND($B25>0,AQ25=""),1,IF(AQ25>$B25,1,0)) -> 0 | CR25: =IF(AND($B25>0,AR25=""),1,IF(AR25>$B25,1,0)) -> 0
A26: Dupla Psicosocial | B26: =SUM(C26+D26) -> 0 | C26: =SUM(E26+G26+I26+K26+M26+O26+Q26+S26+U26+W26+Y26+AA26+AC26+AE26+AG26+AI26+AK26) -> 0 | D26: =SUM(F26+H26+J26+L26+N26+P26+R26+T26+V26+X26+Z26+AB26+AD26+AF26+AH26+AJ26+AL26) -> 0 | AS26: =$CA26&$CB26&$CC26&$CD26&$CE26&$CF26 | CA26: =IF(AND($B26>0,AM26="")," * No olvide digitar la variable "&AM$17&""&". Digite CERO si no tiene",IF(AM26>$B26," * La variable "&AM$17&""&" No puede ser mayor al Total.","")) | CB26: =IF(AND($B26>0,AN26="")," * No olvide digitar la variable "&AN$17&""&". Digite CERO si no tiene",IF(AN26>$B26," * La variable "&AN$17&""&" No puede ser mayor al Total.","")) | CE26: =IF(AND($B26>0,AQ26="")," * No olvide digitar la variable "&AQ$17&""&" Otros Establecimientos de la Red. Digite CERO si no tiene",IF(AQ26>$B26," * La variable "&AQ$17&""&" Otros Establecimientos de la Red No puede ser mayor al Total.","")) | CF26: =IF(AND($B26>0,AR26="")," * No olvide digitar la variable "&AR$17&""&". Digite CERO si no tiene",IF(AR26>$B26," * La variable "&AR$17&""&" No puede ser mayor al Total.","")) | CM26: =IF(AND($B26>0,AM26=""),1,IF(AM26>$B26,1,0)) -> 0 | CN26: =IF(AND($B26>0,AN26=""),1,IF(AN26>$B26,1,0)) -> 0 | CQ26: =IF(AND($B26>0,AQ26=""),1,IF(AQ26>$B26,1,0)) -> 0 | CR26: =IF(AND($B26>0,AR26=""),1,IF(AR26>$B26,1,0)) -> 0
A27: SECCIÓN A.3: ATENCIONES DE URGENCIA REALIZADAS EN ESTABLECIMIENTOS DE BAJA COMPLEJIDAD
A28: PROFESIONAL | B28: TOTAL | E28: RANGO ETARIO (en años) | AM28: Beneficiarios | AN28: Demanda de Urgencia
E29: 0 - 4 | G29: 5 - 9 | I29: 10 - 14 | K29: 15 - 19 | M29: 20 - 24 | O29: 25 - 29 | Q29: 30 - 34 | S29: 35 - 39 | U29: 40 - 44 | W29: 45 - 49 | Y29: 50 - 54 | AA29: 55 - 59 | AC29: 60 - 64 | AE29: 65 - 69 | AG29: 70 - 74 | AI29: 75 - 79 | AK29: 80 y mas
B30: Ambos Sexos | C30: Hombres | D30: Mujeres | E30: Hombres | F30: Mujeres | G30: Hombres | H30: Mujeres | I30: Hombres | J30: Mujeres | K30: Hombres | L30: Mujeres | M30: Hombres | N30: Mujeres | O30: Hombres | P30: Mujeres | Q30: Hombres | R30: Mujeres | S30: Hombres | T30: Mujeres | U30: Hombres | V30: Mujeres | W30: Hombres | X30: Mujeres | Y30: Hombres | Z30: Mujeres | AA30: Hombres | AB30: Mujeres | AC30: Hombres | AD30: Mujeres | AE30: Hombres | AF30: Mujeres | AG30: Hombres | AH30: Mujeres | AI30: Hombres | AJ30: Mujeres | AK30: Hombres | AL30: Mujeres
A31: Médico | B31: =SUM(C31+D31) -> 0 | C31: =SUM(E31+G31+I31+K31+M31+O31+Q31+S31+U31+W31+Y31+AA31+AC31+AE31+AG31+AI31+AK31) -> 0 | D31: =SUM(F31+H31+J31+L31+N31+P31+R31+T31+V31+X31+Z31+AB31+AD31+AF31+AH31+AJ31+AL31) -> 0 | AO31: =CA31&CB31 | CA31: =IF(AND($B31>0,AM31="")," * No olvide digitar la variable "&AM$28&""&". Digite CERO si no tiene",IF(AM31>$B31," * La variable "&AM$28&""&" No puede ser mayor al Total.","")) | CB31: =IF(AND($B31>0,AN31="")," * No olvide digitar la variable "&AN$28&""&". Digite CERO si no tiene",IF(B31>AN31," * La variable "&AN$28&""&" No puede ser menor al Total.","")) | CM31: =IF(AND($B31>0,AM31=""),1,IF(AM31>$B31,1,0)) -> 0 | CN31: =IF(AND($B31>0,AN31=""),1,IF(B31>$AN31,1,0)) -> 0
A32: Enfermera /o | B32: =SUM(C32+D32) -> 0 | C32: =SUM(E32+G32+I32+K32+M32+O32+Q32+S32+U32+W32+Y32+AA32+AC32+AE32+AG32+AI32+AK32) -> 0 | D32: =SUM(F32+H32+J32+L32+N32+P32+R32+T32+V32+X32+Z32+AB32+AD32+AF32+AH32+AJ32+AL32) -> 0 | AO32: =CA32 | CA32: =IF(AND($B32>0,AM32="")," * No olvide digitar la variable "&AM$28&""&". Digite CERO si no tiene",IF(AM32>$B32," * La variable "&AM$28&""&" No puede ser mayor al Total.","")) | CM32: =IF(AND($B32>0,AM32=""),1,IF(AM32>$B32,1,0)) -> 0
A33: Matrona /ón | B33: =SUM(C33+D33) -> 0 | C33: =SUM(E33+G33+I33+K33+M33+O33+Q33+S33+U33+W33+Y33+AA33+AC33+AE33+AG33+AI33+AK33) -> 0 | D33: =SUM(F33+H33+J33+L33+N33+P33+R33+T33+V33+X33+Z33+AB33+AD33+AF33+AH33+AJ33+AL33) -> 0 | AO33: =CA33 | CA33: =IF(AND($B33>0,AM33="")," * No olvide digitar la variable "&AM$28&""&". Digite CERO si no tiene",IF(AM33>$B33," * La variable "&AM$28&""&" No puede ser mayor al Total.","")) | CM33: =IF(AND($B33>0,AM33=""),1,IF(AM33>$B33,1,0)) -> 0
A34: Kinesiólogo/a | B34: =SUM(C34+D34) -> 0 | C34: =SUM(E34+G34+I34+K34+M34+O34+Q34+S34+U34+W34+Y34+AA34+AC34+AE34+AG34+AI34+AK34) -> 0 | D34: =SUM(F34+H34+J34+L34+N34+P34+R34+T34+V34+X34+Z34+AB34+AD34+AF34+AH34+AJ34+AL34) -> 0 | AO34: =CA34 | CA34: =IF(AND($B34>0,AM34="")," * No olvide digitar la variable "&AM$28&""&". Digite CERO si no tiene",IF(AM34>$B34," * La variable "&AM$28&""&" No puede ser mayor al Total.","")) | CM34: =IF(AND($B34>0,AM34=""),1,IF(AM34>$B34,1,0)) -> 0
A35: Técnico en Enfermería | B35: =SUM(C35+D35) -> 0 | C35: =SUM(E35+G35+I35+K35+M35+O35+Q35+S35+U35+W35+Y35+AA35+AC35+AE35+AG35+AI35+AK35) -> 0 | D35: =SUM(F35+H35+J35+L35+N35+P35+R35+T35+V35+X35+Z35+AB35+AD35+AF35+AH35+AJ35+AL35) -> 0 | AO35: =CA35 | CA35: =IF(AND($B35>0,AM35="")," * No olvide digitar la variable "&AM$28&""&". Digite CERO si no tiene",IF(AM35>$B35," * La variable "&AM$28&""&" No puede ser mayor al Total.","")) | CM35: =IF(AND($B35>0,AM35=""),1,IF(AM35>$B35,1,0)) -> 0
A36: Otros Profesionales | B36: =SUM(C36+D36) -> 0 | C36: =SUM(E36+G36+I36+K36+M36+O36+Q36+S36+U36+W36+Y36+AA36+AC36+AE36+AG36+AI36+AK36) -> 0 | D36: =SUM(F36+H36+J36+L36+N36+P36+R36+T36+V36+X36+Z36+AB36+AD36+AF36+AH36+AJ36+AL36) -> 0 | AO36: =CA36 | CA36: =IF(AND($B36>0,AM36="")," * No olvide digitar la variable "&AM$28&""&". Digite CERO si no tiene",IF(AM36>$B36," * La variable "&AM$28&""&" No puede ser mayor al Total.","")) | CM36: =IF(AND($B36>0,AM36=""),1,IF(AM36>$B36,1,0)) -> 0
A37: SECCIÓN A.4: ATENCIONES DE URGENCIA REALIZADAS EN ESTABLECIMIENTOS ATENCIÓN PRIMARIA NO SAPU
A38: PROFESIONAL | B38: TOTAL | E38: RANGO ETARIO (en años) | AM38: Beneficiarios | AN38: Demanda de Urgencia
E39: 0 - 4 años | G39: 5 - 9 años | I39: 10 - 14 años | K39: 15 - 19 años | M39: 20 - 24 años | O39: 25 - 29 años | Q39: 30 - 34 años | S39: 35 - 39 años | U39: 40 - 44 años | W39: 45 - 49 años | Y39: 50 - 54 años | AA39: 55 - 59 años | AC39: 60 - 64 años | AE39: 65 - 69 años | AG39: 70 - 74 años | AI39: 75 - 79 años | AK39: 80 y más años
B40: Ambos Sexos | C40: Hombres | D40: Mujeres | E40: Hombres | F40: Mujeres | G40: Hombres | H40: Mujeres | I40: Hombres | J40: Mujeres | K40: Hombres | L40: Mujeres | M40: Hombres | N40: Mujeres | O40: Hombres | P40: Mujeres | Q40: Hombres | R40: Mujeres | S40: Hombres | T40: Mujeres | U40: Hombres | V40: Mujeres | W40: Hombres | X40: Mujeres | Y40: Hombres | Z40: Mujeres | AA40: Hombres | AB40: Mujeres | AC40: Hombres | AD40: Mujeres | AE40: Hombres | AF40: Mujeres | AG40: Hombres | AH40: Mujeres | AI40: Hombres | AJ40: Mujeres | AK40: Hombres | AL40: Mujeres
A41: Médico | B41: =SUM(C41+D41) -> 0 | C41: =SUM(E41+G41+I41+K41+M41+O41+Q41+S41+U41+W41+Y41+AA41+AC41+AE41+AG41+AI41+AK41) -> 0 | D41: =SUM(F41+H41+J41+L41+N41+P41+R41+T41+V41+X41+Z41+AB41+AD41+AF41+AH41+AJ41+AL41) -> 0 | AO41: =CA41&CB41 | CA41: =IF(AND($B41>0,AM41="")," * No olvide digitar la variable "&AM$38&""&". Digite CERO si no tiene",IF(AM41>$B41," * La variable "&AM$41&""&" No puede ser mayor al Total.","")) | CB41: =IF(AND($B41>0,AN41="")," * No olvide digitar la variable "&AN$38&""&". Digite CERO si no tiene",IF(B41>AN41," * La variable "&AN$38&""&" No puede ser menor al Total.","")) | CM41: =IF(AND($B41>0,AM41=""),1,IF(AM41>$B41,1,0)) -> 0 | CN41: =IF(AND($B41>0,AN41=""),1,IF(B41>$AN41,1,0)) -> 0
A42: Enfermera /o | B42: =SUM(C42+D42) -> 0 | C42: =SUM(E42+G42+I42+K42+M42+O42+Q42+S42+U42+W42+Y42+AA42+AC42+AE42+AG42+AI42+AK42) -> 0 | D42: =SUM(F42+H42+J42+L42+N42+P42+R42+T42+V42+X42+Z42+AB42+AD42+AF42+AH42+AJ42+AL42) -> 0 | AO42: =CA42&CB42 | CA42: =IF(AND($B42>0,AM42="")," * No olvide digitar la variable "&AM$38&""&". Digite CERO si no tiene",IF(AM42>$B42," * La variable "&AM$41&""&" No puede ser mayor al Total.","")) | CB42: =IF(AND($B42>0,AN42="")," * No olvide digitar la variable "&AN$38&""&". Digite CERO si no tiene",IF(B42>AN42," * La variable "&AN$38&""&" No puede ser menor al Total.","")) | CM42: =IF(AND($B42>0,AM42=""),1,IF(AM42>$B42,1,0)) -> 0 | CN42: =IF(AND($B42>0,AN42=""),1,IF(B42>$AN42,1,0)) -> 0
A43: Matrona /ón | B43: =SUM(C43+D43) -> 0 | C43: =SUM(E43+G43+I43+K43+M43+O43+Q43+S43+U43+W43+Y43+AA43+AC43+AE43+AG43+AI43+AK43) -> 0 | D43: =SUM(F43+H43+J43+L43+N43+P43+R43+T43+V43+X43+Z43+AB43+AD43+AF43+AH43+AJ43+AL43) -> 0 | AO43: =CA43&CB43 | CA43: =IF(AND($B43>0,AM43="")," * No olvide digitar la variable "&AM$38&""&". Digite CERO si no tiene",IF(AM43>$B43," * La variable "&AM$41&""&" No puede ser mayor al Total.","")) | CB43: =IF(AND($B43>0,AN43="")," * No olvide digitar la variable "&AN$38&""&". Digite CERO si no tiene",IF(B43>AN43," * La variable "&AN$38&""&" No puede ser menor al Total.","")) | CM43: =IF(AND($B43>0,AM43=""),1,IF(AM43>$B43,1,0)) -> 0 | CN43: =IF(AND($B43>0,AN43=""),1,IF(B43>$AN43,1,0)) -> 0
A44: Kinesiólogo/a | B44: =SUM(C44+D44) -> 0 | C44: =SUM(E44+G44+I44+K44+M44+O44+Q44+S44+U44+W44+Y44+AA44+AC44+AE44+AG44+AI44+AK44) -> 0 | D44: =SUM(F44+H44+J44+L44+N44+P44+R44+T44+V44+X44+Z44+AB44+AD44+AF44+AH44+AJ44+AL44) -> 0 | AO44: =CA44&CB44 | CA44: =IF(AND($B44>0,AM44="")," * No olvide digitar la variable "&AM$38&""&". Digite CERO si no tiene",IF(AM44>$B44," * La variable "&AM$41&""&" No puede ser mayor al Total.","")) | CB44: =IF(AND($B44>0,AN44="")," * No olvide digitar la variable "&AN$38&""&". Digite CERO si no tiene",IF(B44>AN44," * La variable "&AN$38&""&" No puede ser menor al Total.","")) | CM44: =IF(AND($B44>0,AM44=""),1,IF(AM44>$B44,1,0)) -> 0 | CN44: =IF(AND($B44>0,AN44=""),1,IF(B44>$AN44,1,0)) -> 0
A45: Técnico en Enfermería | B45: =SUM(C45+D45) -> 0 | C45: =SUM(E45+G45+I45+K45+M45+O45+Q45+S45+U45+W45+Y45+AA45+AC45+AE45+AG45+AI45+AK45) -> 0 | D45: =SUM(F45+H45+J45+L45+N45+P45+R45+T45+V45+X45+Z45+AB45+AD45+AF45+AH45+AJ45+AL45) -> 0 | AO45: =CA45&CB45 | CA45: =IF(AND($B45>0,AM45="")," * No olvide digitar la variable "&AM$38&""&". Digite CERO si no tiene",IF(AM45>$B45," * La variable "&AM$41&""&" No puede ser mayor al Total.","")) | CB45: =IF(AND($B45>0,AN45="")," * No olvide digitar la variable "&AN$38&""&". Digite CERO si no tiene",IF(B45>AN45," * La variable "&AN$38&""&" No puede ser menor al Total.","")) | CM45: =IF(AND($B45>0,AM45=""),1,IF(AM45>$B45,1,0)) -> 0 | CN45: =IF(AND($B45>0,AN45=""),1,IF(B45>$AN45,1,0)) -> 0
A46: Otros Profesionales | B46: =SUM(C46+D46) -> 0 | C46: =SUM(E46+G46+I46+K46+M46+O46+Q46+S46+U46+W46+Y46+AA46+AC46+AE46+AG46+AI46+AK46) -> 0 | D46: =SUM(F46+H46+J46+L46+N46+P46+R46+T46+V46+X46+Z46+AB46+AD46+AF46+AH46+AJ46+AL46) -> 0 | AO46: =CA46&CB46 | CA46: =IF(AND($B46>0,AM46="")," * No olvide digitar la variable "&AM$38&""&". Digite CERO si no tiene",IF(AM46>$B46," * La variable "&AM$41&""&" No puede ser mayor al Total.","")) | CB46: =IF(AND($B46>0,AN46="")," * No olvide digitar la variable "&AN$38&""&". Digite CERO si no tiene",IF(B46>AN46," * La variable "&AN$38&""&" No puede ser menor al Total.","")) | CM46: =IF(AND($B46>0,AM46=""),1,IF(AM46>$B46,1,0)) -> 0 | CN46: =IF(AND($B46>0,AN46=""),1,IF(B46>$AN46,1,0)) -> 0
A47: SECCIÓN A.5: CONSULTAS EN SERVICIOS DE ATENCIÓN DE URGENCIA RURAL (SUR) Y POSTAS RURALES
A48: PROFESIONAL | B48: TOTAL | E48: RANGO ETARIO(en años) | AM48: Beneficiarios | AN48: Demanda de Urgencia
E49: 0 - 4 | G49: 5 - 9 | I49: 10 - 14 | K49: 15 - 19 | M49: 20 - 24 | O49: 25 - 29 | Q49: 30 - 34 | S49: 35 - 39 | U49: 40 - 44 | W49: 45 - 49 | Y49: 50 - 54 | AA49: 55 - 59 | AC49: 60 - 64 | AE49: 65 - 69 | AG49: 70 - 74 | AI49: 75 - 79 | AK49: 80 y mas
B50: Ambos Sexos | C50: Hombres | D50: Mujeres | E50: Hombres | F50: Mujeres | G50: Hombres | H50: Mujeres | I50: Hombres | J50: Mujeres | K50: Hombres | L50: Mujeres | M50: Hombres | N50: Mujeres | O50: Hombres | P50: Mujeres | Q50: Hombres | R50: Mujeres | S50: Hombres | T50: Mujeres | U50: Hombres | V50: Mujeres | W50: Hombres | X50: Mujeres | Y50: Hombres | Z50: Mujeres | AA50: Hombres | AB50: Mujeres | AC50: Hombres | AD50: Mujeres | AE50: Hombres | AF50: Mujeres | AG50: Hombres | AH50: Mujeres | AI50: Hombres | AJ50: Mujeres | AK50: Hombres | AL50: Mujeres
A51: Médico | B51: =SUM(C51+D51) -> 0 | C51: =SUM(E51+G51+I51+K51+M51+O51+Q51+S51+U51+W51+Y51+AA51+AC51+AE51+AG51+AI51+AK51) -> 0 | D51: =SUM(F51+H51+J51+L51+N51+P51+R51+T51+V51+X51+Z51+AB51+AD51+AF51+AH51+AJ51+AL51) -> 0 | AO51: =CA51&CB51 | CA51: =IF(AND($B51>0,AM51="")," * No olvide digitar la variable "&AM$48&""&". Digite CERO si no tiene",IF(AM51>$B51," * La variable "&AM$48&""&" No puede ser mayor al Total.","")) | CB51: =IF(AND($B51>0,AN51="")," * No olvide digitar la variable "&AN$48&""&". Digite CERO si no tiene",IF(B51>AN51," * La variable "&AN$48&""&" No puede ser menor al Total.","")) | CM51: =IF(AND($B51>0,AM51=""),1,IF(AM51>$B51,1,0)) -> 0 | CN51: =IF(AND($B51>0,AN51=""),1,IF(B51>$AN51,1,0)) -> 0
A52: Enfermera /o | B52: =SUM(C52+D52) -> 0 | C52: =SUM(E52+G52+I52+K52+M52+O52+Q52+S52+U52+W52+Y52+AA52+AC52+AE52+AG52+AI52+AK52) -> 0 | D52: =SUM(F52+H52+J52+L52+N52+P52+R52+T52+V52+X52+Z52+AB52+AD52+AF52+AH52+AJ52+AL52) -> 0 | AO52: =CA52&CB52 | CA52: =IF(AND($B52>0,AM52="")," * No olvide digitar la variable "&AM$48&""&". Digite CERO si no tiene",IF(AM52>$B52," * La variable "&AM$48&""&" No puede ser mayor al Total.","")) | CB52: =IF(AND($B52>0,AN52="")," * No olvide digitar la variable "&AN$48&""&". Digite CERO si no tiene",IF(B52>AN52," * La variable "&AN$48&""&" No puede ser menor al Total.","")) | CM52: =IF(AND($B52>0,AM52=""),1,IF(AM52>$B52,1,0)) -> 0 | CN52: =IF(AND($B52>0,AN52=""),1,IF(B52>$AN52,1,0)) -> 0
A53: Matrona /ón | B53: =SUM(C53+D53) -> 0 | C53: =SUM(E53+G53+I53+K53+M53+O53+Q53+S53+U53+W53+Y53+AA53+AC53+AE53+AG53+AI53+AK53) -> 0 | D53: =SUM(F53+H53+J53+L53+N53+P53+R53+T53+V53+X53+Z53+AB53+AD53+AF53+AH53+AJ53+AL53) -> 0 | AO53: =CA53&CB53 | CA53: =IF(AND($B53>0,AM53="")," * No olvide digitar la variable "&AM$48&""&". Digite CERO si no tiene",IF(AM53>$B53," * La variable "&AM$48&""&" No puede ser mayor al Total.","")) | CB53: =IF(AND($B53>0,AN53="")," * No olvide digitar la variable "&AN$48&""&". Digite CERO si no tiene",IF(B53>AN53," * La variable "&AN$48&""&" No puede ser menor al Total.","")) | CM53: =IF(AND($B53>0,AM53=""),1,IF(AM53>$B53,1,0)) -> 0 | CN53: =IF(AND($B53>0,AN53=""),1,IF(B53>$AN53,1,0)) -> 0
A54: Kinesiólogo/a | B54: =SUM(C54+D54) -> 0 | C54: =SUM(E54+G54+I54+K54+M54+O54+Q54+S54+U54+W54+Y54+AA54+AC54+AE54+AG54+AI54+AK54) -> 0 | D54: =SUM(F54+H54+J54+L54+N54+P54+R54+T54+V54+X54+Z54+AB54+AD54+AF54+AH54+AJ54+AL54) -> 0 | AO54: =CA54&CB54 | CA54: =IF(AND($B54>0,AM54="")," * No olvide digitar la variable "&AM$48&""&". Digite CERO si no tiene",IF(AM54>$B54," * La variable "&AM$48&""&" No puede ser mayor al Total.","")) | CB54: =IF(AND($B54>0,AN54="")," * No olvide digitar la variable "&AN$48&""&". Digite CERO si no tiene",IF(B54>AN54," * La variable "&AN$48&""&" No puede ser menor al Total.","")) | CM54: =IF(AND($B54>0,AM54=""),1,IF(AM54>$B54,1,0)) -> 0 | CN54: =IF(AND($B54>0,AN54=""),1,IF(B54>$AN54,1,0)) -> 0
A55: Técnico en Enfermería | B55: =SUM(C55+D55) -> 0 | C55: =SUM(E55+G55+I55+K55+M55+O55+Q55+S55+U55+W55+Y55+AA55+AC55+AE55+AG55+AI55+AK55) -> 0 | D55: =SUM(F55+H55+J55+L55+N55+P55+R55+T55+V55+X55+Z55+AB55+AD55+AF55+AH55+AJ55+AL55) -> 0 | AO55: =CA55&CB55 | CA55: =IF(AND($B55>0,AM55="")," * No olvide digitar la variable "&AM$48&""&". Digite CERO si no tiene",IF(AM55>$B55," * La variable "&AM$48&""&" No puede ser mayor al Total.","")) | CB55: =IF(AND($B55>0,AN55="")," * No olvide digitar la variable "&AN$48&""&". Digite CERO si no tiene",IF(B55>AN55," * La variable "&AN$48&""&" No puede ser menor al Total.","")) | CM55: =IF(AND($B55>0,AM55=""),1,IF(AM55>$B55,1,0)) -> 0 | CN55: =IF(AND($B55>0,AN55=""),1,IF(B55>$AN55,1,0)) -> 0
A56: Otros Profesionales | B56: =SUM(C56+D56) -> 0 | C56: =SUM(E56+G56+I56+K56+M56+O56+Q56+S56+U56+W56+Y56+AA56+AC56+AE56+AG56+AI56+AK56) -> 0 | D56: =SUM(F56+H56+J56+L56+N56+P56+R56+T56+V56+X56+Z56+AB56+AD56+AF56+AH56+AJ56+AL56) -> 0 | AO56: =CA56&CB56 | CA56: =IF(AND($B56>0,AM56="")," * No olvide digitar la variable "&AM$48&""&". Digite CERO si no tiene",IF(AM56>$B56," * La variable "&AM$48&""&" No puede ser mayor al Total.","")) | CB56: =IF(AND($B56>0,AN56="")," * No olvide digitar la variable "&AN$48&""&". Digite CERO si no tiene",IF(B56>AN56," * La variable "&AN$48&""&" No puede ser menor al Total.","")) | CM56: =IF(AND($B56>0,AM56=""),1,IF(AM56>$B56,1,0)) -> 0 | CN56: =IF(AND($B56>0,AN56=""),1,IF(B56>$AN56,1,0)) -> 0
A57: SECCIÓN B: CATEGORIZACIÓN DE PACIENTES, PREVIA A LA ATENCIÓN MÉDICA U ODONTOLÓGICA (Establecimientos Alta, Mediana, Baja Complejidad, SAPU, SAR, SUR)
A58: CATEGORÍAS | B58: TOTAL | E58: RANGO ETARIO (en años) | AM58: Herramientas de Categorización
E59: 0 - 4 años | G59: 5 - 9 años | I59: 10 - 14 años | K59: 15 - 19 años | M59: 20 - 24 años | O59: 25 - 29 años | Q59: 30 - 34 años | S59: 35 - 39 años | U59: 40 - 44 años | W59: 45 - 49 años | Y59: 50 - 54 años | AA59: 55 - 59 años | AC59: 60 - 64 años | AE59: 65 - 69 años | AG59: 70 - 74 años | AI59: 75 - 79 años | AK59: 80 y más años
B60: Ambos Sexos | C60: Hombres | D60: Mujeres | E60: Hombres | F60: Mujeres | G60: Hombres | H60: Mujeres | I60: Hombres | J60: Mujeres | K60: Hombres | L60: Mujeres | M60: Hombres | N60: Mujeres | O60: Hombres | P60: Mujeres | Q60: Hombres | R60: Mujeres | S60: Hombres | T60: Mujeres | U60: Hombres | V60: Mujeres | W60: Hombres | X60: Mujeres | Y60: Hombres | Z60: Mujeres | AA60: Hombres | AB60: Mujeres | AC60: Hombres | AD60: Mujeres | AE60: Hombres | AF60: Mujeres | AG60: Hombres | AH60: Mujeres | AI60: Hombres | AJ60: Mujeres | AK60: Hombres | AL60: Mujeres | AM60: Discrecional | AN60: Estructurado (ESI)
A61: C1 | B61: =SUM(C61+D61) -> 37 | C61: =SUM(E61+G61+I61+K61+M61+O61+Q61+S61+U61+W61+Y61+AA61+AC61+AE61+AG61+AI61+AK61) -> 19 | D61: =SUM(F61+H61+J61+L61+N61+P61+R61+T61+V61+X61+Z61+AB61+AD61+AF61+AH61+AJ61+AL61) -> 18 | E61: 1 | F61: 1 | L61: 1 | N61: 2 | S61: 1 | V61: 1 | W61: 2 | X61: 1 | Y61: 3 | Z61: 1 | AA61: 3 | AB61: 1 | AE61: 3 | AF61: 3 | AH61: 1 | AI61: 4 | AJ61: 2 | AK61: 2 | AL61: 4 | AM61: 0 | AN61: 37 | AO61: =CA61&CB61 | CA61: =IF(AND($B61>0,AM61="")," * No olvide digitar la variable "&AM$58&""&" Discrecional. Digite CERO si no tiene",IF(AM61>$B61," * La variable "&AM$58&""&" Discrecional No puede ser mayor al Total.","")) | CB61: =IF(AND($B61>0,AN61="")," * No olvide digitar la variable "&AM$58&""&" Estructurado (ESI). Digite CERO si no tiene",IF(AN61>$B61," * La variable "&AM$58&""&" Estructurado (ESI) No puede ser mayor al Total.","")) | CM61: =IF(AND($B61>0,AM61=""),1,IF(AM61>$B61,1,0)) -> 0 | CN61: =IF(AND($B61>0,AN61=""),1,IF(AN61>$B61,1,0)) -> 0
A62: C2 | B62: =SUM(C62+D62) -> 937 | C62: =SUM(E62+G62+I62+K62+M62+O62+Q62+S62+U62+W62+Y62+AA62+AC62+AE62+AG62+AI62+AK62) -> 458 | D62: =SUM(F62+H62+J62+L62+N62+P62+R62+T62+V62+X62+Z62+AB62+AD62+AF62+AH62+AJ62+AL62) -> 479 | E62: 57 | F62: 67 | G62: 22 | H62: 18 | I62: 25 | J62: 25 | K62: 18 | L62: 20 | M62: 13 | N62: 24 | O62: 26 | P62: 18 | Q62: 30 | R62: 20 | S62: 16 | T62: 33 | U62: 23 | V62: 15 | W62: 13 | X62: 28 | Y62: 16 | Z62: 18 | AA62: 21 | AB62: 28 | AC62: 35 | AD62: 24 | AE62: 34 | AF62: 27 | AG62: 32 | AH62: 34 | AI62: 33 | AJ62: 28 | AK62: 44 | AL62: 52 | AM62: 0 | AN62: 937 | AO62: =CA62&CB62 | CA62: =IF(AND($B62>0,AM62="")," * No olvide digitar la variable "&AM$58&""&" Discrecional. Digite CERO si no tiene",IF(AM62>$B62," * La variable "&AM$58&""&" Discrecional No puede ser mayor al Total.","")) | CB62: =IF(AND($B62>0,AN62="")," * No olvide digitar la variable "&AM$58&""&" Estructurado (ESI). Digite CERO si no tiene",IF(AN62>$B62," * La variable "&AM$58&""&" Estructurado (ESI) No puede ser mayor al Total.","")) | CM62: =IF(AND($B62>0,AM62=""),1,IF(AM62>$B62,1,0)) -> 0 | CN62: =IF(AND($B62>0,AN62=""),1,IF(AN62>$B62,1,0)) -> 0
A63: C3 | B63: =SUM(C63+D63) -> 2161 | C63: =SUM(E63+G63+I63+K63+M63+O63+Q63+S63+U63+W63+Y63+AA63+AC63+AE63+AG63+AI63+AK63) -> 1074 | D63: =SUM(F63+H63+J63+L63+N63+P63+R63+T63+V63+X63+Z63+AB63+AD63+AF63+AH63+AJ63+AL63) -> 1087 | E63: 175 | F63: 132 | G63: 62 | H63: 64 | I63: 69 | J63: 49 | K63: 54 | L63: 50 | M63: 50 | N63: 51 | O63: 45 | P63: 56 | Q63: 41 | R63: 65 | S63: 59 | T63: 59 | U63: 54 | V63: 67 | W63: 50 | X63: 54 | Y63: 51 | Z63: 44 | AA63: 51 | AB63: 72 | AC63: 70 | AD63: 72 | AE63: 50 | AF63: 73 | AG63: 55 | AH63: 59 | AI63: 76 | AJ63: 49 | AK63: 62 | AL63: 71 | AM63: 0 | AN63: 2161 | AO63: =CA63&CB63 | CA63: =IF(AND($B63>0,AM63="")," * No olvide digitar la variable "&AM$58&""&" Discrecional. Digite CERO si no tiene",IF(AM63>$B63," * La variable "&AM$58&""&" Discrecional No puede ser mayor al Total.","")) | CB63: =IF(AND($B63>0,AN63="")," * No olvide digitar la variable "&AM$58&""&" Estructurado (ESI). Digite CERO si no tiene",IF(AN63>$B63," * La variable "&AM$58&""&" Estructurado (ESI) No puede ser mayor al Total.","")) | CM63: =IF(AND($B63>0,AM63=""),1,IF(AM63>$B63,1,0)) -> 0 | CN63: =IF(AND($B63>0,AN63=""),1,IF(AN63>$B63,1,0)) -> 0
A64: C4 | B64: =SUM(C64+D64) -> 349 | C64: =SUM(E64+G64+I64+K64+M64+O64+Q64+S64+U64+W64+Y64+AA64+AC64+AE64+AG64+AI64+AK64) -> 169 | D64: =SUM(F64+H64+J64+L64+N64+P64+R64+T64+V64+X64+Z64+AB64+AD64+AF64+AH64+AJ64+AL64) -> 180 | E64: 35 | F64: 36 | G64: 21 | H64: 25 | I64: 22 | J64: 15 | K64: 7 | L64: 10 | M64: 7 | N64: 8 | O64: 8 | P64: 15 | Q64: 15 | R64: 9 | S64: 4 | T64: 10 | U64: 11 | V64: 10 | W64: 5 | X64: 7 | Y64: 7 | Z64: 9 | AA64: 7 | AB64: 8 | AC64: 4 | AD64: 6 | AE64: 7 | AF64: 1 | AG64: 3 | AH64: 4 | AI64: 2 | AJ64: 5 | AK64: 4 | AL64: 2 | AM64: 0 | AN64: 349 | AO64: =CA64&CB64 | CA64: =IF(AND($B64>0,AM64="")," * No olvide digitar la variable "&AM$58&""&" Discrecional. Digite CERO si no tiene",IF(AM64>$B64," * La variable "&AM$58&""&" Discrecional No puede ser mayor al Total.","")) | CB64: =IF(AND($B64>0,AN64="")," * No olvide digitar la variable "&AM$58&""&" Estructurado (ESI). Digite CERO si no tiene",IF(AN64>$B64," * La variable "&AM$58&""&" Estructurado (ESI) No puede ser mayor al Total.","")) | CM64: =IF(AND($B64>0,AM64=""),1,IF(AM64>$B64,1,0)) -> 0 | CN64: =IF(AND($B64>0,AN64=""),1,IF(AN64>$B64,1,0)) -> 0
A65: C5 | B65: =SUM(C65+D65) -> 10 | C65: =SUM(E65+G65+I65+K65+M65+O65+Q65+S65+U65+W65+Y65+AA65+AC65+AE65+AG65+AI65+AK65) -> 2 | D65: =SUM(F65+H65+J65+L65+N65+P65+R65+T65+V65+X65+Z65+AB65+AD65+AF65+AH65+AJ65+AL65) -> 8 | E65: 1 | G65: 1 | L65: 2 | N65: 1 | P65: 1 | X65: 1 | AF65: 1 | AH65: 1 | AL65: 1 | AM65: 0 | AN65: 10 | AO65: =CA65&CB65 | CA65: =IF(AND($B65>0,AM65="")," * No olvide digitar la variable "&AM$58&""&" Discrecional. Digite CERO si no tiene",IF(AM65>$B65," * La variable "&AM$58&""&" Discrecional No puede ser mayor al Total.","")) | CB65: =IF(AND($B65>0,AN65="")," * No olvide digitar la variable "&AM$58&""&" Estructurado (ESI). Digite CERO si no tiene",IF(AN65>$B65," * La variable "&AM$58&""&" Estructurado (ESI) No puede ser mayor al Total.","")) | CM65: =IF(AND($B65>0,AM65=""),1,IF(AM65>$B65,1,0)) -> 0 | CN65: =IF(AND($B65>0,AN65=""),1,IF(AN65>$B65,1,0)) -> 0
A66: Sin Categorización | B66: =SUM(C66+D66) -> 0 | C66: =SUM(E66+G66+I66+K66+M66+O66+Q66+S66+U66+W66+Y66+AA66+AC66+AE66+AG66+AI66+AK66) -> 0 | D66: =SUM(F66+H66+J66+L66+N66+P66+R66+T66+V66+X66+Z66+AB66+AD66+AF66+AH66+AJ66+AL66) -> 0
A67: TOTAL | B67: =SUM(B61:B66) -> 3494 | C67: =SUM(C61:C66) -> 1722 | D67: =SUM(D61:D66) -> 1772 | E67: =SUM(E61:E66) -> 269 | F67: =SUM(F61:F66) -> 236 | G67: =SUM(G61:G66) -> 106 | H67: =SUM(H61:H66) -> 107 | I67: =SUM(I61:I66) -> 116 | ... AL67: =SUM(AL61:AL66) -> 130 | AM67: =SUM(AM61:AM65) -> 0 | AN67: =SUM(AN61:AN65) -> 3494
A68: SECCIÓN B.1: CATEGORIZACIÓN DE PACIENTES DE URGENCIA GINECO OBSTÉTRICA PREVIO A LA ATENCIÓN CLÍNICA POR MATRÓN (A) Y/O MÉDICO GINECO-OBSTETRA (Establecimientos alta, mediana y baja complejidad)
A69: CATEGORÍAS | B69: TOTAL | E69: RANGO ETARIO Y SEXO
E70: 0 - 4 años | G70: 5 - 9 años | I70: 10 - 14 años | K70: 15 - 19 años | M70: 20 - 24 años | O70: 25 - 29 años | Q70: 30 - 34 años | S70: 35 - 39 años | U70: 40 - 44 años | W70: 45 - 49 años | Y70: 50 - 54 años | AA70: 55 - 59 años | AC70: 60 - 64 años | AE70: 65 - 69 años | AG70: 70 - 74 años | AI70: 75 - 79 años | AK70: 80 y más años
B71: Ambos Sexos | C71: Hombres | D71: Mujeres | E71: Hombres | F71: Mujeres | G71: Hombres | H71: Mujeres | I71: Hombres | J71: Mujeres | K71: Hombres | L71: Mujeres | M71: Hombres | N71: Mujeres | O71: Hombres | P71: Mujeres | Q71: Hombres | R71: Mujeres | S71: Hombres | T71: Mujeres | U71: Hombres | V71: Mujeres | W71: Hombres | X71: Mujeres | Y71: Hombres | Z71: Mujeres | AA71: Hombres | AB71: Mujeres | AC71: Hombres | AD71: Mujeres | AE71: Hombres | AF71: Mujeres | AG71: Hombres | AH71: Mujeres | AI71: Hombres | AJ71: Mujeres | AK71: Hombres | AL71: Mujeres
A72: C1 | B72: =SUM(C72+D72) -> 10 | C72: =SUM(E72+G72+I72+K72+M72+O72+Q72+S72+U72+W72+Y72+AA72+AC72+AE72+AG72+AI72+AK72) -> 0 | D72: =SUM(F72+H72+J72+L72+N72+P72+R72+T72+V72+X72+Z72+AB72+AD72+AF72+AH72+AJ72+AL72) -> 10 | N72: 3 | P72: 2 | T72: 2 | V72: 3
A73: C2 | B73: =SUM(C73+D73) -> 11 | C73: =SUM(E73+G73+I73+K73+M73+O73+Q73+S73+U73+W73+Y73+AA73+AC73+AE73+AG73+AI73+AK73) -> 0 | D73: =SUM(F73+H73+J73+L73+N73+P73+R73+T73+V73+X73+Z73+AB73+AD73+AF73+AH73+AJ73+AL73) -> 11 | L73: 1 | N73: 2 | R73: 1 | T73: 3 | X73: 2 | AB73: 1 | AD73: 1
A74: C3 | B74: =SUM(C74+D74) -> 322 | C74: =SUM(E74+G74+I74+K74+M74+O74+Q74+S74+U74+W74+Y74+AA74+AC74+AE74+AG74+AI74+AK74) -> 0 | D74: =SUM(F74+H74+J74+L74+N74+P74+R74+T74+V74+X74+Z74+AB74+AD74+AF74+AH74+AJ74+AL74) -> 322 | L74: 16 | N74: 60 | P74: 104 | R74: 77 | T74: 49 | V74: 15 | X74: 1
A75: C4 | B75: =SUM(C75+D75) -> 5 | C75: =SUM(E75+G75+I75+K75+M75+O75+Q75+S75+U75+W75+Y75+AA75+AC75+AE75+AG75+AI75+AK75) -> 0 | D75: =SUM(F75+H75+J75+L75+N75+P75+R75+T75+V75+X75+Z75+AB75+AD75+AF75+AH75+AJ75+AL75) -> 5 | L75: 1 | N75: 1 | T75: 1 | X75: 1 | Z75: 1
A76: C5 | B76: =SUM(C76+D76) -> 145 | C76: =SUM(E76+G76+I76+K76+M76+O76+Q76+S76+U76+W76+Y76+AA76+AC76+AE76+AG76+AI76+AK76) -> 0 | D76: =SUM(F76+H76+J76+L76+N76+P76+R76+T76+V76+X76+Z76+AB76+AD76+AF76+AH76+AJ76+AL76) -> 145 | J76: 2 | L76: 8 | N76: 12 | P76: 21 | R76: 14 | T76: 24 | V76: 15 | X76: 18 | Z76: 11 | AB76: 3 | AD76: 7 | AF76: 3 | AH76: 3 | AL76: 4
A77: Sin Categorización | B77: =SUM(C77+D77) -> 0 | C77: =SUM(E77+G77+I77+K77+M77+O77+Q77+S77+U77+W77+Y77+AA77+AC77+AE77+AG77+AI77+AK77) -> 0 | D77: =SUM(F77+H77+J77+L77+N77+P77+R77+T77+V77+X77+Z77+AB77+AD77+AF77+AH77+AJ77+AL77) -> 0
A78: TOTAL | B78: =SUM(B72:B77) -> 493 | C78: =SUM(C72:C77) -> 0 | D78: =SUM(D72:D77) -> 493 | E78: =SUM(E72:E77) -> 0 | F78: =SUM(F72:F77) -> 0 | G78: =SUM(G72:G77) -> 0 | H78: =SUM(H72:H77) -> 0 | I78: =SUM(I72:I77) -> 0 | ... AL78: =SUM(AL72:AL77) -> 4
A79: SECCIÓN C: ATENCIONES REALIZADAS POR MÉDICOS Y ODONTÓLOGOS ESPECIALISTAS EN LAS UNIDADES DE URGENCIA HOSPITALARIA
A80: ESPECIALIDADES | B80: TOTAL | C80: De turno | D80: Consultor de llamada | E80: Otros
A81: Medicina Interna | B81: =SUM(C81:E81) -> 0
A82: Neurología Adultos | B82: =SUM(C82:E82) -> 0
A83: Neurología Pediátrica | B83: =SUM(C83:E83) -> 0
A84: Obstetricia y Ginecología | B84: =SUM(C84:E84) -> 171 | C84: 171
A85: Oftalmología | B85: =SUM(C85:E85) -> 0
A86: Otorrinolaringología | B86: =SUM(C86:E86) -> 0
A87: Pediatría | B87: =SUM(C87:E87) -> 3 | C87: 3
A88: Traumatología y Ortopedia | B88: =SUM(C88:E88) -> 1 | C88: 1
A89: Neurocirugía | B89: =SUM(C89:E89) -> 0
A90: Psiquiatría Adultos | B90: =SUM(C90:E90) -> 0
A91: Psiquiatría Pediátrica y Adolescentes | B91: =SUM(C91:E91) -> 0
A92: Urología | B92: =SUM(C92:E92) -> 0
A93: Urgenciólogo | B93: =SUM(C93:E93) -> 157 | C93: 157
A94: Cirugía Vascular Periférica | B94: =SUM(C94:E94) -> 0
A95: Cirugía General | B95: =SUM(C95:E95) -> 0
A96: Cirugía Pediátrica | B96: =SUM(C96:E96) -> 0
A97: Cardiología | B97: =SUM(C97:E97) -> 0
A98: Anestesiología | B98: =SUM(C98:E98) -> 0
A99: Cirugía de Cabeza, Cuello y Maxilofacial | B99: =SUM(C99:E99) -> 0
A100: Odontólogo | B100: =SUM(C100:E100) -> 0
...

Sheet MARZO
A1: SERVICIO DE SALUD
A2: =CONCATENATE("COMUNA: ",[4]NOMBRE!B2, " (",[4]NOMBRE!C2,[4]NOMBRE!D2,[4]NOMBRE!E2,[4]NOMBRE!F2,[4]NOMBRE!G2,")") -> COMUNA: LINARES (07401)
A3: =CONCATENATE("ESTABLECIMIENTO/ESTRATEGIA: ", [4]NOMBRE!B3, " (",[4]NOMBRE!C3,[4]NOMBRE!D3,[4]NOMBRE!E3,[4]NOMBRE!F3,[4]NOMBRE!G3,[4]NOMBRE!H3,")") -> ESTABLECIMIENTO/ESTRATEGIA: HOSPITAL PRESIDENTE CARLOS IBAÑEZ DEL CAMPO (116108)
A4: =CONCATENATE("MES: ",[4]NOMBRE!B6, " (",[4]NOMBRE!C6,[4]NOMBRE!D6,")") -> MES: MARZO (03)
A5: =CONCATENATE("AÑO: ",[4]NOMBRE!B7) -> AÑO: 2025
A6: REM-A08. ATENCIÓN DE URGENCIA
A7: SECCIÓN A: ATENCIONES REALIZADAS EN UNIDADES DE URGENCIA DE LA RED
A8: SECCIÓN A.1: ATENCIONES REALIZADAS EN UNIDADES DE EMERGENCIA HOSPITALARIA (Establecimientos de alta y mediana complejidad)
A9: TIPO DE ATENCIÓN | B9: TOTAL | E9: RANGO ETARIO (en años) | AM9: Beneficiarios | AN9: ORIGEN DE LA PROCEDENCIA (Sólo pacientes derivados de establecimientos de la Red) | AR9: Establecimientos de otra Red | AS9: Demanda de Urgencia
E10: 0 - 4 años | G10: 5 - 9 años | I10: 10 - 14 años | K10: 15 - 19 años | M10: 20 - 24 años | O10: 25 - 29 años | Q10: 30 - 34 años | S10: 35 - 39 años | U10: 40 - 44 años | W10: 45 - 49 años | Y10: 50 - 54 años | AA10: 55 - 59 años | AC10: 60 - 64 años | AE10: 65 - 69 años | AG10: 70 - 74 años | AI10: 75 - 79 años | AK10: 80 y más años | AN10: SAPU/ SAR / SUR | AO10: Hospital Baja Complejidad | AP10: Hospital Mediana/Alta Complejidad | AQ10: Otros Establecimientos de la Red
B11: Ambos Sexos | C11: Hombres | D11: Mujeres | E11: Hombres | F11: Mujeres | G11: Hombres | H11: Mujeres | I11: Hombres | J11: Mujeres | K11: Hombres | L11: Mujeres | M11: Hombres | N11: Mujeres | O11: Hombres | P11: Mujeres | Q11: Hombres | R11: Mujeres | S11: Hombres | T11: Mujeres | U11: Hombres | V11: Mujeres | W11: Hombres | X11: Mujeres | Y11: Hombres | Z11: Mujeres | AA11: Hombres | AB11: Mujeres | AC11: Hombres | AD11: Mujeres | AE11: Hombres | AF11: Mujeres | AG11: Hombres | AH11: Mujeres | AI11: Hombres | AJ11: Mujeres | AK11: Hombres | AL11: Mujeres
A12: Atención Médica Niño y Adulto | B12: =SUM(C12+D12) -> 4530 | C12: =SUM(E12+G12+I12+K12+M12+O12+Q12+S12+U12+W12+Y12+AA12+AC12+AE12+AG12+AI12+AK12) -> 2206 | D12: =SUM(F12+H12+J12+L12+N12+P12+R12+T12+V12+X12+Z12+AB12+AD12+AF12+AH12+AJ12+AL12) -> 2324 | E12: 396 | F12: 347 | G12: 223 | H12: 242 | I12: 241 | J12: 187 | K12: 115 | L12: 119 | M12: 75 | N12: 91 | O12: 76 | P12: 99 | Q12: 86 | R12: 111 | S12: 100 | T12: 128 | U12: 69 | V12: 105 | W12: 98 | X12: 87 | Y12: 70 | Z12: 127 | AA12: 99 | AB12: 121 | AC12: 106 | AD12: 125 | AE12: 106 | AF12: 135 | AG12: 96 | AH12: 83 | AI12: 113 | AJ12: 97 | AK12: 137 | AL12: 120 | AM12: 4384 | AN12: 107 | AO12: 1 | AP12: 196 | AQ12: 58 | AR12: 560 | AS12: 5095 | AT12: =CA12&CB12&CC12&CD12&CE12&CF12&CG12 | CA12: =IF(AND($B12>0,AM12="")," * No olvide digitar la variable "&AM$9&""&". Digite CERO si no tiene",IF(AM12>$B12," * La variable "&AM$9&""&" No puede ser mayor al Total.","")) | CB12: =IF(AND($B12>0,AN12="")," * No olvide digitar la variable "&AN$9&""&" SAPU/SAR/SUR. Digite CERO si no tiene",IF(AN12>$B12," * La variable "&AN$9&""&" SAPU/SAR/SUR No puede ser mayor al Total.","")) | CC12: =IF(AND($B12>0,AO12="")," * No olvide digitar la variable "&AN$9&""&" Hospital Baja Complejidad. Digite CERO si no tiene",IF(AO12>$B12," * La variable "&AN$9&""&" Hospital Baja Complejidad No puede ser mayor al Total.","")) | CD12: =IF(AND($B12>0,AP12="")," * No olvide digitar la variable "&AN$9&""&" Hospital Mediana/Alta Complejidad. Digite CERO si no tiene",IF(AP12>$B12," * La variable "&AN$9&""&" Hospital Mediana/Alta Complejidad No puede ser mayor al Total.","")) | CE12: =IF(AND($B12>0,AQ12="")," * No olvide digitar la variable "&AN$9&""&" Otros Establecimientos de la Red. Digite CERO si no tiene",IF(AQ12>$B12," * La variable "&AN$9&""&" Otros Establecimientos de la Red No puede ser mayor al Total.","")) | CF12: =IF(AND($B12>0,AR12="")," * No olvide digitar la variable "&AR$9&""&". Digite CERO si no tiene",IF(AR12>$B12," * La variable "&AR$9&""&" No puede ser mayor al Total.","")) | CG12: =IF(AND($B12>0,AS12="")," * No olvide digitar la variable "&AS$9&""&". Digite CERO si no tiene",IF(B12>AS12," * La variable "&AS$9&""&" No puede ser menor al Total.","")) | CM12: =IF(AND($B12>0,AM12=""),1,IF(AM12>$B12,1,0)) -> 0 | CN12: =IF(AND($B12>0,AN12=""),1,IF(AN12>$B12,1,0)) -> 0 | CO12: =IF(AND($B12>0,AO12=""),1,IF(AO12>$B12,1,0)) -> 0 | CP12: =IF(AND($B12>0,AP12=""),1,IF(AP12>$B12,1,0)) -> 0 | CQ12: =IF(AND($B12>0,AQ12=""),1,IF(AQ12>$B12,1,0)) -> 0 | CR12: =IF(AND($B12>0,AR12=""),1,IF(AR12>$B12,1,0)) -> 0 | CS12: =IF(AND($B12>0,AS12=""),1,IF(B12>AS12,1,0)) -> 0
A13: Atención Médica Gineco-Obstetra | B13: =SUM(C13+D13) -> 351 | C13: =SUM(E13+G13+I13+K13+M13+O13+Q13+S13+U13+W13+Y13+AA13+AC13+AE13+AG13+AI13+AK13) -> 0 | D13: =SUM(F13+H13+J13+L13+N13+P13+R13+T13+V13+X13+Z13+AB13+AD13+AF13+AH13+AJ13+AL13) -> 351 | J13: 2 | L13: 26 | N13: 65 | P13: 80 | R13: 70 | T13: 54 | V13: 17 | X13: 11 | Z13: 9 | AB13: 5 | AD13: 6 | AH13: 2 | AJ13: 2 | AL13: 2 | AM13: 339 | AN13: 7 | AO13: 0 | AP13: 1 | AQ13: 5 | AR13: 31 | AS13: 569 | AT13: =CA13&CB13&CC13&CD13&CE13&CF13&CG13 | CA13: =IF(AND($B13>0,AM13="")," * No olvide digitar la variable "&AM$9&""&". Digite CERO si no tiene",IF(AM13>$B13," * La variable "&AM$9&""&" No puede ser mayor al Total.","")) | CB13: =IF(AND($B13>0,AN13="")," * No olvide digitar la variable "&AN$9&""&" SAPU/SAR/SUR. Digite CERO si no tiene",IF(AN13>$B13," * La variable "&AN$9&""&" SAPU/SAR/SUR No puede ser mayor al Total.","")) | CC13: =IF(AND($B13>0,AO13="")," * No olvide digitar la variable "&AN$9&""&" Hospital Baja Complejidad. Digite CERO si no tiene",IF(AO13>$B13," * La variable "&AN$9&""&" Hospital Baja Complejidad No puede ser mayor al Total.","")) | CD13: =IF(AND($B13>0,AP13="")," * No olvide digitar la variable "&AN$9&""&" Hospital Mediana/Alta Complejidad. Digite CERO si no tiene",IF(AP13>$B13," * La variable "&AN$9&""&" Hospital Mediana/Alta Complejidad No puede ser mayor al Total.","")) | CE13: =IF(AND($B13>0,AQ13="")," * No olvide digitar la variable "&AN$9&""&" Otros Establecimientos de la Red. Digite CERO si no tiene",IF(AQ13>$B13," * La variable "&AN$9&""&" Otros Establecimientos de la Red No puede ser mayor al Total.","")) | CF13: =IF(AND($B13>0,AR13="")," * No olvide digitar la variable "&AR$9&""&". Digite CERO si no tiene",IF(AR13>$B13," * La variable "&AR$9&""&" No puede ser mayor al Total.","")) | CG13: =IF(AND($B13>0,AS13="")," * No olvide digitar la variable "&AS$9&""&". Digite CERO si no tiene",IF(B13>AS13," * La variable "&AS$9&""&" No puede ser menor al Total.","")) | CM13: =IF(AND($B13>0,AM13=""),1,IF(AM13>$B13,1,0)) -> 0 | CN13: =IF(AND($B13>0,AN13=""),1,IF(AN13>$B13,1,0)) -> 0 | CO13: =IF(AND($B13>0,AO13=""),1,IF(AO13>$B13,1,0)) -> 0 | CP13: =IF(AND($B13>0,AP13=""),1,IF(AP13>$B13,1,0)) -> 0 | CQ13: =IF(AND($B13>0,AQ13=""),1,IF(AQ13>$B13,1,0)) -> 0 | CR13: =IF(AND($B13>0,AR13=""),1,IF(AR13>$B13,1,0)) -> 0 | CS13: =IF(AND($B13>0,AS13=""),1,IF(B13>AS13,1,0)) -> 0
A14: Atención por Matrona/ón | B14: =SUM(C14+D14) -> 187 | C14: =SUM(E14+G14+I14+K14+M14+O14+Q14+S14+U14+W14+Y14+AA14+AC14+AE14+AG14+AI14+AK14) -> 0 | D14: =SUM(F14+H14+J14+L14+N14+P14+R14+T14+V14+X14+Z14+AB14+AD14+AF14+AH14+AJ14+AL14) -> 187 | J14: 2 | L14: 16 | N14: 35 | P14: 38 | R14: 38 | T14: 26 | V14: 11 | X14: 3 | Z14: 5 | AB14: 3 | AD14: 3 | AF14: 2 | AH14: 4 | AJ14: 1 | AM14: 180 | AT14: =CA14&CB14&CC14&CD14&CE14&CF14&CG14 | CA14: =IF(AND($B14>0,AM14="")," * No olvide digitar la variable "&AM$9&""&". Digite CERO si no tiene",IF(AM14>$B14," * La variable "&AM$9&""&" No puede ser mayor al Total.","")) | CM14: =IF(AND($B14>0,AM14=""),1,IF(AM14>$B14,1,0)) -> 0
A15: Atención por Odontólogo/a | B15: =SUM(C15+D15) -> 0 | C15: =SUM(E15+G15+I15+K15+M15+O15+Q15+S15+U15+W15+Y15+AA15+AC15+AE15+AG15+AI15+AK15) -> 0 | D15: =SUM(F15+H15+J15+L15+N15+P15+R15+T15+V15+X15+Z15+AB15+AD15+AF15+AH15+AJ15+AL15) -> 0 | AT15: =CA15&CB15&CC15&CD15&CE15&CF15&CG15 | CA15: =IF(AND($B15>0,AM15="")," * No olvide digitar la variable "&AM$9&""&". Digite CERO si no tiene",IF(AM15>$B15," * La variable "&AM$9&""&" No puede ser mayor al Total.","")) | CM15: =IF(AND($B15>0,AM15=""),1,IF(AM15>$B15,1,0)) -> 0
A16: SECCIÓN A.2: ATENCIONES Y ACTIVIDADES DE URGENCIA REALIZADAS EN SAPU Y SAR
A17: ATENCIÓN | B17: TOTAL | E17: RANGO ETARIO (en años) | AM17: Beneficiarios | AN17: Atenciones por profesionales a Honorarios | AO17: Demanda de Urgencia | AP17: Por Campaña de Invierno | AQ17: Niños, Niñas, Adolescentes y Jóvenes SENAME | AR17: Niños, Niñas, Adolescentes y Jóvenes Mejor Niñez
E18: 0 - 4 años | G18: 5 - 9 años | I18: 10 - 14 años | K18: 15 - 19 años | M18: 20 - 24 años | O18: 25 - 29 años | Q18: 30 - 34 años | S18: 35 - 39 años | U18: 40 - 44 años | W18: 45 - 49 años | Y18: 50 - 54 años | AA18: 55 - 59 años | AC18: 60 - 64 años | AE18: 65 - 69 años | AG18: 70 - 74 años | AI18: 75 - 79 años | AK18: 80 y más años
B19: Ambos Sexos | C19: Hombres | D19: Mujeres | E19: Hombres | F19: Mujeres | G19: Hombres | H19: Mujeres | I19: Hombres | J19: Mujeres | K19: Hombres | L19: Mujeres | M19: Hombres | N19: Mujeres | O19: Hombres | P19: Mujeres | Q19: Hombres | R19: Mujeres | S19: Hombres | T19: Mujeres | U19: Hombres | V19: Mujeres | W19: Hombres | X19: Mujeres | Y19: Hombres | Z19: Mujeres | AA19: Hombres | AB19: Mujeres | AC19: Hombres | AD19: Mujeres | AE19: Hombres | AF19: Mujeres | AG19: Hombres | AH19: Mujeres | AI19: Hombres | AJ19: Mujeres | AK19: Hombres | AL19: Mujeres
A20: Atención Medica | B20: =SUM(C20+D20) -> 0 | C20: =SUM(E20+G20+I20+K20+M20+O20+Q20+S20+U20+W20+Y20+AA20+AC20+AE20+AG20+AI20+AK20) -> 0 | D20: =SUM(F20+H20+J20+L20+N20+P20+R20+T20+V20+X20+Z20+AB20+AD20+AF20+AH20+AJ20+AL20) -> 0 | AS20: =$CA20&$CB20&$CC20&$CD20&$CE20&$CF20 | CA20: =IF(AND($B20>0,AM20="")," * No olvide digitar la variable "&AM$17&""&". Digite CERO si no tiene",IF(AM20>$B20," * La variable "&AM$20&""&" No puede ser mayor al Total.","")) | CB20: =IF(AND($B20>0,AN20="")," * No olvide digitar la variable "&AN$17&""&". Digite CERO si no tiene",IF(AN20>$B20," * La variable "&AN$17&""&" No puede ser mayor al Total.","")) | CC20: =IF(AND($B20>0,AO20="")," * No olvide digitar la variable "&AO$17&""&". Digite CERO si no tiene",IF(B20>AO20," * La variable "&AO$17&""&" No puede ser menor al Total.","")) | CD20: =IF(AND($B20>0,AP20="")," * No olvide digitar la variable "&AP$17&""&". Digite CERO si no tiene",IF(AP20>$B20," * La variable "&AP$17&""&" No puede ser mayor al Total.","")) | CE20: =IF(AND($B20>0,AQ20="")," * No olvide digitar la variable "&AQ$17&""&". Digite CERO si no tiene",IF(AQ20>$B20," * La variable "&AQ$17&""&" No puede ser mayor al Total.","")) | CF20: =IF(AND($B20>0,AR20="")," * No olvide digitar la variable "&AR$17&""&". Digite CERO si no tiene",IF(AR20>$B20," * La variable "&AR$17&""&" No puede ser mayor al Total.","")) | CM20: =IF(AND($B20>0,AM20=""),1,IF(AM20>$B20,1,0)) -> 0 | CN20: =IF(AND($B20>0,AN20=""),1,IF(AN20>$B20,1,0)) -> 0 | CO20: =IF(AND($B20>0,AO20=""),1,IF(B20>$AO20,1,0)) -> 0 | CP20: =IF(AND($B20>0,AP20=""),1,IF(AP20>$B20,1,0)) -> 0 | CQ20: =IF(AND($B20>0,AQ20=""),1,IF(AQ20>$B20,1,0)) -> 0 | CR20: =IF(AND($B20>0,AR20=""),1,IF(AR20>$B20,1,0)) -> 0
A21: Enfermería | B21: =SUM(C21+D21) -> 0 | C21: =SUM(E21+G21+I21+K21+M21+O21+Q21+S21+U21+W21+Y21+AA21+AC21+AE21+AG21+AI21+AK21) -> 0 | D21: =SUM(F21+H21+J21+L21+N21+P21+R21+T21+V21+X21+Z21+AB21+AD21+AF21+AH21+AJ21+AL21) -> 0 | AS21: =$CA21&$CB21&$CC21&$CD21&$CE21&$CF21 | CA21: =IF(AND($B21>0,AM21="")," * No olvide digitar la variable "&AM$17&""&". Digite CERO si no tiene",IF(AM21>$B21," * La variable "&AM$20&""&" No puede ser mayor al Total.","")) | CB21: =IF(AND($B21>0,AN21="")," * No olvide digitar la variable "&AN$17&""&". Digite CERO si no tiene",IF(AN21>$B21," * La variable "&AN$17&""&" No puede ser mayor al Total.","")) | CC21: =IF(AND($B21>0,AO21="")," * No olvide digitar la variable "&AO$17&""&". Digite CERO si no tiene",IF(B21>AO21," * La variable "&AO$17&""&" No puede ser menor al Total.","")) | CD21: =IF(AND($B21>0,AP21="")," * No olvide digitar la variable "&AP$17&""&". Digite CERO si no tiene",IF(AP21>$B21," * La variable "&AP$17&""&" No puede ser mayor al Total.","")) | CE21: =IF(AND($B21>0,AQ21="")," * No olvide digitar la variable "&AQ$17&""&". Digite CERO si no tiene",IF(AQ21>$B21," * La variable "&AQ$17&""&" No puede ser mayor al Total.","")) | CF21: =IF(AND($B21>0,AR21="")," * No olvide digitar la variable "&AR$17&""&". Digite CERO si no tiene",IF(AR21>$B21," * La variable "&AR$17&""&" No puede ser mayor al Total.","")) | CM21: =IF(AND($B21>0,AM21=""),1,IF(AM21>$B21,1,0)) -> 0 | CN21: =IF(AND($B21>0,AN21=""),1,IF(AN21>$B21,1,0)) -> 0 | CO21: =IF(AND($B21>0,AO21=""),1,IF(B21>$AO21,1,0)) -> 0 | CP21: =IF(AND($B21>0,AP21=""),1,IF(AP21>$B21,1,0)) -> 0 | CQ21: =IF(AND($B21>0,AQ21=""),1,IF(AQ21>$B21,1,0)) -> 0 | CR21: =IF(AND($B21>0,AR21=""),1,IF(AR21>$B21,1,0)) -> 0
A22: Matronería | B22: =SUM(C22+D22) -> 0 | C22: =SUM(E22+G22+I22+K22+M22+O22+Q22+S22+U22+W22+Y22+AA22+AC22+AE22+AG22+AI22+AK22) -> 0 | D22: =SUM(F22+H22+J22+L22+N22+P22+R22+T22+V22+X22+Z22+AB22+AD22+AF22+AH22+AJ22+AL22) -> 0 | AS22: =$CA22&$CB22&$CC22&$CD22&$CE22&$CF22 | CA22: =IF(AND($B22>0,AM22="")," * No olvide digitar la variable "&AM$17&""&". Digite CERO si no tiene",IF(AM22>$B22," * La variable "&AM$20&""&" No puede ser mayor al Total.","")) | CB22: =IF(AND($B22>0,AN22="")," * No olvide digitar la variable "&AN$17&""&". Digite CERO si no tiene",IF(AN22>$B22," * La variable "&AN$17&""&" No puede ser mayor al Total.","")) | CC22: =IF(AND($B22>0,AO22="")," * No olvide digitar la variable "&AO$17&""&". Digite CERO si no tiene",IF(B22>AO22," * La variable "&AO$17&""&" No puede ser menor al Total.","")) | CE22: =IF(AND($B22>0,AQ22="")," * No olvide digitar la variable "&AQ$17&""&". Digite CERO si no tiene",IF(AQ22>$B22," * La variable "&AQ$17&""&" No puede ser mayor al Total.","")) | CF22: =IF(AND($B22>0,AR22="")," * No olvide digitar la variable "&AR$17&""&". Digite CERO si no tiene",IF(AR22>$B22," * La variable "&AR$17&""&" No puede ser mayor al Total.","")) | CM22: =IF(AND($B22>0,AM22=""),1,IF(AM22>$B22,1,0)) -> 0 | CN22: =IF(AND($B22>0,AN22=""),1,IF(AN22>$B22,1,0)) -> 0 | CO22: =IF(AND($B22>0,AO22=""),1,IF(B22>$AO22,1,0)) -> 0 | CQ22: =IF(AND($B22>0,AQ22=""),1,IF(AQ22>$B22,1,0)) -> 0 | CR22: =IF(AND($B22>0,AR22=""),1,IF(AR22>$B22,1,0)) -> 0
A23: Kinesiología | B23: =SUM(C23+D23) -> 0 | C23: =SUM(E23+G23+I23+K23+M23+O23+Q23+S23+U23+W23+Y23+AA23+AC23+AE23+AG23+AI23+AK23) -> 0 | D23: =SUM(F23+H23+J23+L23+N23+P23+R23+T23+V23+X23+Z23+AB23+AD23+AF23+AH23+AJ23+AL23) -> 0 | AS23: =$CA23&$CB23&$CC23&$CD23&$CE23&$CF23 | CA23: =IF(AND($B23>0,AM23="")," * No olvide digitar la variable "&AM$17&""&". Digite CERO si no tiene",IF(AM23>$B23," * La variable "&AM$20&""&" No puede ser mayor al Total.","")) | CB23: =IF(AND($B23>0,AN23="")," * No olvide digitar la variable "&AN$17&""&". Digite CERO si no tiene",IF(AN23>$B23," * La variable "&AN$17&""&" No puede ser mayor al Total.","")) | CC23: =IF(AND($B23>0,AO23="")," * No olvide digitar la variable "&AO$17&""&". Digite CERO si no tiene",IF(B23>AO23," * La variable "&AO$17&""&" No puede ser menor al Total.","")) | CD23: =IF(AND($B23>0,AP23="")," * No olvide digitar la variable "&AP$17&""&". Digite CERO si no tiene",IF(AP23>$B23," * La variable "&AP$17&""&" No puede ser mayor al Total.","")) | CE23: =IF(AND($B23>0,AQ23="")," * No olvide digitar la variable "&AQ$17&""&". Digite CERO si no tiene",IF(AQ23>$B23," * La variable "&AQ$17&""&" No puede ser mayor al Total.","")) | CF23: =IF(AND($B23>0,AR23="")," * No olvide digitar la variable "&AR$17&""&". Digite CERO si no tiene",IF(AR23>$B23," * La variable "&AR$17&""&" No puede ser mayor al Total.","")) | CM23: =IF(AND($B23>0,AM23=""),1,IF(AM23>$B23,1,0)) -> 0 | CN23: =IF(AND($B23>0,AN23=""),1,IF(AN23>$B23,1,0)) -> 0 | CO23: =IF(AND($B23>0,AO23=""),1,IF(B23>$AO23,1,0)) -> 0 | CP23: =IF(AND($B23>0,AP23=""),1,IF(AP23>$B23,1,0)) -> 0 | CQ23: =IF(AND($B23>0,AQ23=""),1,IF(AQ23>$B23,1,0)) -> 0 | CR23: =IF(AND($B23>0,AR23=""),1,IF(AR23>$B23,1,0)) -> 0
A24: Psicología | B24: =SUM(C24+D24) -> 0 | C24: =SUM(E24+G24+I24+K24+M24+O24+Q24+S24+U24+W24+Y24+AA24+AC24+AE24+AG24+AI24+AK24) -> 0 | D24: =SUM(F24+H24+J24+L24+N24+P24+R24+T24+V24+X24+Z24+AB24+AD24+AF24+AH24+AJ24+AL24) -> 0 | AS24: =$CA24&$CB24&$CC24&$CD24&$CE24&$CF24 | CA24: =IF(AND($B24>0,AM24="")," * No olvide digitar la variable "&AM$17&""&". Digite CERO si no tiene",IF(AM24>$B24," * La variable "&AM$17&""&" No puede ser mayor al Total.","")) | CB24: =IF(AND($B24>0,AN24="")," * No olvide digitar la variable "&AN$17&""&". Digite CERO si no tiene",IF(AN24>$B24," * La variable "&AN$17&""&" No puede ser mayor al Total.","")) | CE24: =IF(AND($B24>0,AQ24="")," * No olvide digitar la variable "&AQ$17&""&" Otros Establecimientos de la Red. Digite CERO si no tiene",IF(AQ24>$B24," * La variable "&AQ$17&""&" Otros Establecimientos de la Red No puede ser mayor al Total.","")) | CF24: =IF(AND($B24>0,AR24="")," * No olvide digitar la variable "&AR$17&""&". Digite CERO si no tiene",IF(AR24>$B24," * La variable "&AR$17&""&" No puede ser mayor al Total.","")) | CM24: =IF(AND($B24>0,AM24=""),1,IF(AM24>$B24,1,0)) -> 0 | CN24: =IF(AND($B24>0,AN24=""),1,IF(AN24>$B24,1,0)) -> 0 | CQ24: =IF(AND($B24>0,AQ24=""),1,IF(AQ24>$B24,1,0)) -> 0 | CR24: =IF(AND($B24>0,AR24=""),1,IF(AR24>$B24,1,0)) -> 0
A25: Trabajo Social | B25: =SUM(C25+D25) -> 0 | C25: =SUM(E25+G25+I25+K25+M25+O25+Q25+S25+U25+W25+Y25+AA25+AC25+AE25+AG25+AI25+AK25) -> 0 | D25: =SUM(F25+H25+J25+L25+N25+P25+R25+T25+V25+X25+Z25+AB25+AD25+AF25+AH25+AJ25+AL25) -> 0 | AS25: =$CA25&$CB25&$CC25&$CD25&$CE25&$CF25 | CA25: =IF(AND($B25>0,AM25="")," * No olvide digitar la variable "&AM$17&""&". Digite CERO si no tiene",IF(AM25>$B25," * La variable "&AM$17&""&" No puede ser mayor al Total.","")) | CB25: =IF(AND($B25>0,AN25="")," * No olvide digitar la variable "&AN$17&""&". Digite CERO si no tiene",IF(AN25>$B25," * La variable "&AN$17&""&" No puede ser mayor al Total.","")) | CE25: =IF(AND($B25>0,AQ25="")," * No olvide digitar la variable "&AQ$17&""&" Otros Establecimientos de la Red. Digite CERO si no tiene",IF(AQ25>$B25," * La variable "&AQ$17&""&" Otros Establecimientos de la Red No puede ser mayor al Total.","")) | CF25: =IF(AND($B25>0,AR25="")," * No olvide digitar la variable "&AR$17&""&". Digite CERO si no tiene",IF(AR25>$B25," * La variable "&AR$17&""&" No puede ser mayor al Total.","")) | CM25: =IF(AND($B25>0,AM25=""),1,IF(AM25>$B25,1,0)) -> 0 | CN25: =IF(AND($B25>0,AN25=""),1,IF(AN25>$B25,1,0)) -> 0 | CQ25: =IF(AND($B25>0,AQ25=""),1,IF(AQ25>$B25,1,0)) -> 0 | CR25: =IF(AND($B25>0,AR25=""),1,IF(AR25>$B25,1,0)) -> 0
A26: Dupla Psicosocial | B26: =SUM(C26+D26) -> 0 | C26: =SUM(E26+G26+I26+K26+M26+O26+Q26+S26+U26+W26+Y26+AA26+AC26+AE26+AG26+AI26+AK26) -> 0 | D26: =SUM(F26+H26+J26+L26+N26+P26+R26+T26+V26+X26+Z26+AB26+AD26+AF26+AH26+AJ26+AL26) -> 0 | AS26: =$CA26&$CB26&$CC26&$CD26&$CE26&$CF26 | CA26: =IF(AND($B26>0,AM26="")," * No olvide digitar la variable "&AM$17&""&". Digite CERO si no tiene",IF(AM26>$B26," * La variable "&AM$17&""&" No puede ser mayor al Total.","")) | CB26: =IF(AND($B26>0,AN26="")," * No olvide digitar la variable "&AN$17&""&". Digite CERO si no tiene",IF(AN26>$B26," * La variable "&AN$17&""&" No puede ser mayor al Total.","")) | CE26: =IF(AND($B26>0,AQ26="")," * No olvide digitar la variable "&AQ$17&""&" Otros Establecimientos de la Red. Digite CERO si no tiene",IF(AQ26>$B26," * La variable "&AQ$17&""&" Otros Establecimientos de la Red No puede ser mayor al Total.","")) | CF26: =IF(AND($B26>0,AR26="")," * No olvide digitar la variable "&AR$17&""&". Digite CERO si no tiene",IF(AR26>$B26," * La variable "&AR$17&""&" No puede ser mayor al Total.","")) | CM26: =IF(AND($B26>0,AM26=""),1,IF(AM26>$B26,1,0)) -> 0 | CN26: =IF(AND($B26>0,AN26=""),1,IF(AN26>$B26,1,0)) -> 0 | CQ26: =IF(AND($B26>0,AQ26=""),1,IF(AQ26>$B26,1,0)) -> 0 | CR26: =IF(AND($B26>0,AR26=""),1,IF(AR26>$B26,1,0)) -> 0
A27: SECCIÓN A.3: ATENCIONES DE URGENCIA REALIZADAS EN ESTABLECIMIENTOS DE BAJA COMPLEJIDAD
A28: PROFESIONAL | B28: TOTAL | E28: RANGO ETARIO (en años) | AM28: Beneficiarios | AN28: Demanda de Urgencia
E29: 0 - 4 | G29: 5 - 9 | I29: 10 - 14 | K29: 15 - 19 | M29: 20 - 24 | O29: 25 - 29 | Q29: 30 - 34 | S29: 35 - 39 | U29: 40 - 44 | W29: 45 - 49 | Y29: 50 - 54 | AA29: 55 - 59 | AC29: 60 - 64 | AE29: 65 - 69 | AG29: 70 - 74 | AI29: 75 - 79 | AK29: 80 y mas
B30: Ambos Sexos | C30: Hombres | D30: Mujeres | E30: Hombres | F30: Mujeres | G30: Hombres | H30: Mujeres | I30: Hombres | J30: Mujeres | K30: Hombres | L30: Mujeres | M30: Hombres | N30: Mujeres | O30: Hombres | P30: Mujeres | Q30: Hombres | R30: Mujeres | S30: Hombres | T30: Mujeres | U30: Hombres | V30: Mujeres | W30: Hombres | X30: Mujeres | Y30: Hombres | Z30: Mujeres | AA30: Hombres | AB30: Mujeres | AC30: Hombres | AD30: Mujeres | AE30: Hombres | AF30: Mujeres | AG30: Hombres | AH30: Mujeres | AI30: Hombres | AJ30: Mujeres | AK30: Hombres | AL30: Mujeres
A31: Médico | B31: =SUM(C31+D31) -> 0 | C31: =SUM(E31+G31+I31+K31+M31+O31+Q31+S31+U31+W31+Y31+AA31+AC31+AE31+AG31+AI31+AK31) -> 0 | D31: =SUM(F31+H31+J31+L31+N31+P31+R31+T31+V31+X31+Z31+AB31+AD31+AF31+AH31+AJ31+AL31) -> 0 | AO31: =CA31&CB31 | CA31: =IF(AND($B31>0,AM31="")," * No olvide digitar la variable "&AM$28&""&". Digite CERO si no tiene",IF(AM31>$B31," * La variable "&AM$28&""&" No puede ser mayor al Total.","")) | CB31: =IF(AND($B31>0,AN31="")," * No olvide digitar la variable "&AN$28&""&". Digite CERO si no tiene",IF(B31>AN31," * La variable "&AN$28&""&" No puede ser menor al Total.","")) | CM31: =IF(AND($B31>0,AM31=""),1,IF(AM31>$B31,1,0)) -> 0 | CN31: =IF(AND($B31>0,AN31=""),1,IF(B31>$AN31,1,0)) -> 0
A32: Enfermera /o | B32: =SUM(C32+D32) -> 0 | C32: =SUM(E32+G32+I32+K32+M32+O32+Q32+S32+U32+W32+Y32+AA32+AC32+AE32+AG32+AI32+AK32) -> 0 | D32: =SUM(F32+H32+J32+L32+N32+P32+R32+T32+V32+X32+Z32+AB32+AD32+AF32+AH32+AJ32+AL32) -> 0 | AO32: =CA32 | CA32: =IF(AND($B32>0,AM32="")," * No olvide digitar la variable "&AM$28&""&". Digite CERO si no tiene",IF(AM32>$B32," * La variable "&AM$28&""&" No puede ser mayor al Total.","")) | CM32: =IF(AND($B32>0,AM32=""),1,IF(AM32>$B32,1,0)) -> 0
A33: Matrona /ón | B33: =SUM(C33+D33) -> 0 | C33: =SUM(E33+G33+I33+K33+M33+O33+Q33+S33+U33+W33+Y33+AA33+AC33+AE33+AG33+AI33+AK33) -> 0 | D33: =SUM(F33+H33+J33+L33+N33+P33+R33+T33+V33+X33+Z33+AB33+AD33+AF33+AH33+AJ33+AL33) -> 0 | AO33: =CA33 | CA33: =IF(AND($B33>0,AM33="")," * No olvide digitar la variable "&AM$28&""&". Digite CERO si no tiene",IF(AM33>$B33," * La variable "&AM$28&""&" No puede ser mayor al Total.","")) | CM33: =IF(AND($B33>0,AM33=""),1,IF(AM33>$B33,1,0)) -> 0
A34: Kinesiólogo/a | B34: =SUM(C34+D34) -> 0 | C34: =SUM(E34+G34+I34+K34+M34+O34+Q34+S34+U34+W34+Y34+AA34+AC34+AE34+AG34+AI34+AK34) -> 0 | D34: =SUM(F34+H34+J34+L34+N34+P34+R34+T34+V34+X34+Z34+AB34+AD34+AF34+AH34+AJ34+AL34) -> 0 | AO34: =CA34 | CA34: =IF(AND($B34>0,AM34="")," * No olvide digitar la variable "&AM$28&""&". Digite CERO si no tiene",IF(AM34>$B34," * La variable "&AM$28&""&" No puede ser mayor al Total.","")) | CM34: =IF(AND($B34>0,AM34=""),1,IF(AM34>$B34,1,0)) -> 0
A35: Técnico en Enfermería | B35: =SUM(C35+D35) -> 0 | C35: =SUM(E35+G35+I35+K35+M35+O35+Q35+S35+U35+W35+Y35+AA35+AC35+AE35+AG35+AI35+AK35) -> 0 | D35: =SUM(F35+H35+J35+L35+N35+P35+R35+T35+V35+X35+Z35+AB35+AD35+AF35+AH35+AJ35+AL35) -> 0 | AO35: =CA35 | CA35: =IF(AND($B35>0,AM35="")," * No olvide digitar la variable "&AM$28&""&". Digite CERO si no tiene",IF(AM35>$B35," * La variable "&AM$28&""&" No puede ser mayor al Total.","")) | CM35: =IF(AND($B35>0,AM35=""),1,IF(AM35>$B35,1,0)) -> 0
A36: Otros Profesionales | B36: =SUM(C36+D36) -> 0 | C36: =SUM(E36+G36+I36+K36+M36+O36+Q36+S36+U36+W36+Y36+AA36+AC36+AE36+AG36+AI36+AK36) -> 0 | D36: =SUM(F36+H36+J36+L36+N36+P36+R36+T36+V36+X36+Z36+AB36+AD36+AF36+AH36+AJ36+AL36) -> 0 | AO36: =CA36 | CA36: =IF(AND($B36>0,AM36="")," * No olvide digitar la variable "&AM$28&""&". Digite CERO si no tiene",IF(AM36>$B36," * La variable "&AM$28&""&" No puede ser mayor al Total.","")) | CM36: =IF(AND($B36>0,AM36=""),1,IF(AM36>$B36,1,0)) -> 0
A37: SECCIÓN A.4: ATENCIONES DE URGENCIA REALIZADAS EN ESTABLECIMIENTOS ATENCIÓN PRIMARIA NO SAPU
A38: PROFESIONAL | B38: TOTAL | E38: RANGO ETARIO (en años) | AM38: Beneficiarios | AN38: Demanda de Urgencia
E39: 0 - 4 años | G39: 5 - 9 años | I39: 10 - 14 años | K39: 15 - 19 años | M39: 20 - 24 años | O39: 25 - 29 años | Q39: 30 - 34 años | S39: 35 - 39 años | U39: 40 - 44 años | W39: 45 - 49 años | Y39: 50 - 54 años | AA39: 55 - 59 años | AC39: 60 - 64 años | AE39: 65 - 69 años | AG39: 70 - 74 años | AI39: 75 - 79 años | AK39: 80 y más años
B40: Ambos Sexos | C40: Hombres | D40: Mujeres | E40: Hombres | F40: Mujeres | G40: Hombres | H40: Mujeres | I40: Hombres | J40: Mujeres | K40: Hombres | L40: Mujeres | M40: Hombres | N40: Mujeres | O40: Hombres | P40: Mujeres | Q40: Hombres | R40: Mujeres | S40: Hombres | T40: Mujeres | U40: Hombres | V40: Mujeres | W40: Hombres | X40: Mujeres | Y40: Hombres | Z40: Mujeres | AA40: Hombres | AB40: Mujeres | AC40: Hombres | AD40: Mujeres | AE40: Hombres | AF40: Mujeres | AG40: Hombres | AH40: Mujeres | AI40: Hombres | AJ40: Mujeres | AK40: Hombres | AL40: Mujeres
A41: Médico | B41: =SUM(C41+D41) -> 0 | C41: =SUM(E41+G41+I41+K41+M41+O41+Q41+S41+U41+W41+Y41+AA41+AC41+AE41+AG41+AI41+AK41) -> 0 | D41: =SUM(F41+H41+J41+L41+N41+P41+R41+T41+V41+X41+Z41+AB41+AD41+AF41+AH41+AJ41+AL41) -> 0 | AO41: =CA41&CB41 | CA41: =IF(AND($B41>0,AM41="")," * No olvide digitar la variable "&AM$38&""&". Digite CERO si no tiene",IF(AM41>$B41," * La variable "&AM$41&""&" No puede ser mayor al Total.","")) | CB41: =IF(AND($B41>0,AN41="")," * No olvide digitar la variable "&AN$38&""&". Digite CERO si no tiene",IF(B41>AN41," * La variable "&AN$38&""&" No puede ser menor al Total.","")) | CM41: =IF(AND($B41>0,AM41=""),1,IF(AM41>$B41,1,0)) -> 0 | CN41: =IF(AND($B41>0,AN41=""),1,IF(B41>$AN41,1,0)) -> 0
A42: Enfermera /o | B42: =SUM(C42+D42) -> 0 | C42: =SUM(E42+G42+I42+K42+M42+O42+Q42+S42+U42+W42+Y42+AA42+AC42+AE42+AG42+AI42+AK42) -> 0 | D42: =SUM(F42+H42+J42+L42+N42+P42+R42+T42+V42+X42+Z42+AB42+AD42+AF42+AH42+AJ42+AL42) -> 0 | AO42: =CA42&CB42 | CA42: =IF(AND($B42>0,AM42="")," * No olvide digitar la variable "&AM$38&""&". Digite CERO si no tiene",IF(AM42>$B42," * La variable "&AM$41&""&" No puede ser mayor al Total.","")) | CB42: =IF(AND($B42>0,AN42="")," * No olvide digitar la variable "&AN$38&""&". Digite CERO si no tiene",IF(B42>AN42," * La variable "&AN$38&""&" No puede ser menor al Total.","")) | CM42: =IF(AND($B42>0,AM42=""),1,IF(AM42>$B42,1,0)) -> 0 | CN42: =IF(AND($B42>0,AN42=""),1,IF(B42>$AN42,1,0)) -> 0
A43: Matrona /ón | B43: =SUM(C43+D43) -> 0 | C43: =SUM(E43+G43+I43+K43+M43+O43+Q43+S43+U43+W43+Y43+AA43+AC43+AE43+AG43+AI43+AK43) -> 0 | D43: =SUM(F43+H43+J43+L43+N43+P43+R43+T43+V43+X43+Z43+AB43+AD43+AF43+AH43+AJ43+AL43) -> 0 | AO43: =CA43&CB43 | CA43: =IF(AND($B43>0,AM43="")," * No olvide digitar la variable "&AM$38&""&". Digite CERO si no tiene",IF(AM43>$B43," * La variable "&AM$41&""&" No puede ser mayor al Total.","")) | CB43: =IF(AND($B43>0,AN43="")," * No olvide digitar la variable "&AN$38&""&". Digite CERO si no tiene",IF(B43>AN43," * La variable "&AN$38&""&" No puede ser menor al Total.","")) | CM43: =IF(AND($B43>0,AM43=""),1,IF(AM43>$B43,1,0)) -> 0 | CN43: =IF(AND($B43>0,AN43=""),1,IF(B43>$AN43,1,0)) -> 0
A44: Kinesiólogo/a | B44: =SUM(C44+D44) -> 0 | C44: =SUM(E44+G44+I44+K44+M44+O44+Q44+S44+U44+W44+Y44+AA44+AC44+AE44+AG44+AI44+AK44) -> 0 | D44: =SUM(F44+H44+J44+L44+N44+P44+R44+T44+V44+X44+Z44+AB44+AD44+AF44+AH44+AJ44+AL44) -> 0 | AO44: =CA44&CB44 | CA44: =IF(AND($B44>0,AM44="")," * No olvide digitar la variable "&AM$38&""&". Digite CERO si no tiene",IF(AM44>$B44," * La variable "&AM$41&""&" No puede ser mayor al Total.","")) | CB44: =IF(AND($B44>0,AN44="")," * No olvide digitar la variable "&AN$38&""&". Digite CERO si no tiene",IF(B44>AN44," * La variable "&AN$38&""&" No puede ser menor al Total.","")) | CM44: =IF(AND($B44>0,AM44=""),1,IF(AM44>$B44,1,0)) -> 0 | CN44: =IF(AND($B44>0,AN44=""),1,IF(B44>$AN44,1,0)) -> 0
A45: Técnico en Enfermería | B45: =SUM(C45+D45) -> 0 | C45: =SUM(E45+G45+I45+K45+M45+O45+Q45+S45+U45+W45+Y45+AA45+AC45+AE45+AG45+AI45+AK45) -> 0 | D45: =SUM(F45+H45+J45+L45+N45+P45+R45+T45+V45+X45+Z45+AB45+AD45+AF45+AH45+AJ45+AL45) -> 0 | AO45: =CA45&CB45 | CA45: =IF(AND($B45>0,AM45="")," * No olvide digitar la variable "&AM$38&""&". Digite CERO si no tiene",IF(AM45>$B45," * La variable "&AM$41&""&" No puede ser mayor al Total.","")) | CB45: =IF(AND($B45>0,AN45="")," * No olvide digitar la variable "&AN$38&""&". Digite CERO si no tiene",IF(B45>AN45," * La variable "&AN$38&""&" No puede ser menor al Total.","")) | CM45: =IF(AND($B45>0,AM45=""),1,IF(AM45>$B45,1,0)) -> 0 | CN45: =IF(AND($B45>0,AN45=""),1,IF(B45>$AN45,1,0)) -> 0
A46: Otros Profesionales | B46: =SUM(C46+D46) -> 0 | C46: =SUM(E46+G46+I46+K46+M46+O46+Q46+S46+U46+W46+Y46+AA46+AC46+AE46+AG46+AI46+AK46) -> 0 | D46: =SUM(F46+H46+J46+L46+N46+P46+R46+T46+V46+X46+Z46+AB46+AD46+AF46+AH46+AJ46+AL46) -> 0 | AO46: =CA46&CB46 | CA46: =IF(AND($B46>0,AM46="")," * No olvide digitar la variable "&AM$38&""&". Digite CERO si no tiene",IF(AM46>$B46," * La variable "&AM$41&""&" No puede ser mayor al Total.","")) | CB46: =IF(AND($B46>0,AN46="")," * No olvide digitar la variable "&AN$38&""&". Digite CERO si no tiene",IF(B46>AN46," * La variable "&AN$38&""&" No puede ser menor al Total.","")) | CM46: =IF(AND($B46>0,AM46=""),1,IF(AM46>$B46,1,0)) -> 0 | CN46: =IF(AND($B46>0,AN46=""),1,IF(B46>$AN46,1,0)) -> 0
A47: SECCIÓN A.5: CONSULTAS EN SERVICIOS DE ATENCIÓN DE URGENCIA RURAL (SUR) Y POSTAS RURALES
A48: PROFESIONAL | B48: TOTAL | E48: RANGO ETARIO(en años) | AM48: Beneficiarios | AN48: Demanda de Urgencia
E49: 0 - 4 | G49: 5 - 9 | I49: 10 - 14 | K49: 15 - 19 | M49: 20 - 24 | O49: 25 - 29 | Q49: 30 - 34 | S49: 35 - 39 | U49: 40 - 44 | W49: 45 - 49 | Y49: 50 - 54 | AA49: 55 - 59 | AC49: 60 - 64 | AE49: 65 - 69 | AG49: 70 - 74 | AI49: 75 - 79 | AK49: 80 y mas
B50: Ambos Sexos | C50: Hombres | D50: Mujeres | E50: Hombres | F50: Mujeres | G50: Hombres | H50: Mujeres | I50: Hombres | J50: Mujeres | K50: Hombres | L50: Mujeres | M50: Hombres | N50: Mujeres | O50: Hombres | P50: Mujeres | Q50: Hombres | R50: Mujeres | S50: Hombres | T50: Mujeres | U50: Hombres | V50: Mujeres | W50: Hombres | X50: Mujeres | Y50: Hombres | Z50: Mujeres | AA50: Hombres | AB50: Mujeres | AC50: Hombres | AD50: Mujeres | AE50: Hombres | AF50: Mujeres | AG50: Hombres | AH50: Mujeres | AI50: Hombres | AJ50: Mujeres | AK50: Hombres | AL50: Mujeres
A51: Médico | B51: =SUM(C51+D51) -> 0 | C51: =SUM(E51+G51+I51+K51+M51+O51+Q51+S51+U51+W51+Y51+AA51+AC51+AE51+AG51+AI51+AK51) -> 0 | D51: =SUM(F51+H51+J51+L51+N51+P51+R51+T51+V51+X51+Z51+AB51+AD51+AF51+AH51+AJ51+AL51) -> 0 | AO51: =CA51&CB51 | CA51: =IF(AND($B51>0,AM51="")," * No olvide digitar la variable "&AM$48&""&". Digite CERO si no tiene",IF(AM51>$B51," * La variable "&AM$48&""&" No puede ser mayor al Total.","")) | CB51: =IF(AND($B51>0,AN51="")," * No olvide digitar la variable "&AN$48&""&". Digite CERO si no tiene",IF(B51>AN51," * La variable "&AN$48&""&" No puede ser menor al Total.","")) | CM51: =IF(AND($B51>0,AM51=""),1,IF(AM51>$B51,1,0)) -> 0 | CN51: =IF(AND($B51>0,AN51=""),1,IF(B51>$AN51,1,0)) -> 0
A52: Enfermera /o | B52: =SUM(C52+D52) -> 0 | C52: =SUM(E52+G52+I52+K52+M52+O52+Q52+S52+U52+W52+Y52+AA52+AC52+AE52+AG52+AI52+AK52) -> 0 | D52: =SUM(F52+H52+J52+L52+N52+P52+R52+T52+V52+X52+Z52+AB52+AD52+AF52+AH52+AJ52+AL52) -> 0 | AO52: =CA52&CB52 | CA52: =IF(AND($B52>0,AM52="")," * No olvide digitar la variable "&AM$48&""&". Digite CERO si no tiene",IF(AM52>$B52," * La variable "&AM$48&""&" No puede ser mayor al Total.","")) | CB52: =IF(AND($B52>0,AN52="")," * No olvide digitar la variable "&AN$48&""&". Digite CERO si no tiene",IF(B52>AN52," * La variable "&AN$48&""&" No puede ser menor al Total.","")) | CM52: =IF(AND($B52>0,AM52=""),1,IF(AM52>$B52,1,0)) -> 0 | CN52: =IF(AND($B52>0,AN52=""),1,IF(B52>$AN52,1,0)) -> 0
A53: Matrona /ón | B53: =SUM(C53+D53) -> 0 | C53: =SUM(E53+G53+I53+K53+M53+O53+Q53+S53+U53+W53+Y53+AA53+AC53+AE53+AG53+AI53+AK53) -> 0 | D53: =SUM(F53+H53+J53+L53+N53+P53+R53+T53+V53+X53+Z53+AB53+AD53+AF53+AH53+AJ53+AL53) -> 0 | AO53: =CA53&CB53 | CA53: =IF(AND($B53>0,AM53="")," * No olvide digitar la variable "&AM$48&""&". Digite CERO si no tiene",IF(AM53>$B53," * La variable "&AM$48&""&" No puede ser mayor al Total.","")) | CB53: =IF(AND($B53>0,AN53="")," * No olvide digitar la variable "&AN$48&""&". Digite CERO si no tiene",IF(B53>AN53," * La variable "&AN$48&""&" No puede ser menor al Total.","")) | CM53: =IF(AND($B53>0,AM53=""),1,IF(AM53>$B53,1,0)) -> 0 | CN53: =IF(AND($B53>0,AN53=""),1,IF(B53>$AN53,1,0)) -> 0
A54: Kinesiólogo/a | B54: =SUM(C54+D54) -> 0 | C54: =SUM(E54+G54+I54+K54+M54+O54+Q54+S54+U54+W54+Y54+AA54+AC54+AE54+AG54+AI54+AK54) -> 0 | D54: =SUM(F54+H54+J54+L54+N54+P54+R54+T54+V54+X54+Z54+AB54+AD54+AF54+AH54+AJ54+AL54) -> 0 | AO54: =CA54&CB54 | CA54: =IF(AND($B54>0,AM54="")," * No olvide digitar la variable "&AM$48&""&". Digite CERO si no tiene",IF(AM54>$B54," * La variable "&AM$48&""&" No puede ser mayor al Total.","")) | CB54: =IF(AND($B54>0,AN54="")," * No olvide digitar la variable "&AN$48&""&". Digite CERO si no tiene",IF(B54>AN54," * La variable "&AN$48&""&" No puede ser menor al Total.","")) | CM54: =IF(AND($B54>0,AM54=""),1,IF(AM54>$B54,1,0)) -> 0 | CN54: =IF(AND($B54>0,AN54=""),1,IF(B54>$AN54,1,0)) -> 0
A55: Técnico en Enfermería | B55: =SUM(C55+D55) -> 0 | C55: =SUM(E55+G55+I55+K55+M55+O55+Q55+S55+U55+W55+Y55+AA55+AC55+AE55+AG55+AI55+AK55) -> 0 | D55: =SUM(F55+H55+J55+L55+N55+P55+R55+T55+V55+X55+Z55+AB55+AD55+AF55+AH55+AJ55+AL55) -> 0 | AO55: =CA55&CB55 | CA55: =IF(AND($B55>0,AM55="")," * No olvide digitar la variable "&AM$48&""&". Digite CERO si no tiene",IF(AM55>$B55," * La variable "&AM$48&""&" No puede ser mayor al Total.","")) | CB55: =IF(AND($B55>0,AN55="")," * No olvide digitar la variable "&AN$48&""&". Digite CERO si no tiene",IF(B55>AN55," * La variable "&AN$48&""&" No puede ser menor al Total.","")) | CM55: =IF(AND($B55>0,AM55=""),1,IF(AM55>$B55,1,0)) -> 0 | CN55: =IF(AND($B55>0,AN55=""),1,IF(B55>$AN55,1,0)) -> 0
A56: Otros Profesionales | B56: =SUM(C56+D56) -> 0 | C56: =SUM(E56+G56+I56+K56+M56+O56+Q56+S56+U56+W56+Y56+AA56+AC56+AE56+AG56+AI56+AK56) -> 0 | D56: =SUM(F56+H56+J56+L56+N56+P56+R56+T56+V56+X56+Z56+AB56+AD56+AF56+AH56+AJ56+AL56) -> 0 | AO56: =CA56&CB56 | CA56: =IF(AND($B56>0,AM56="")," * No olvide digitar la variable "&AM$48&""&". Digite CERO si no tiene",IF(AM56>$B56," * La variable "&AM$48&""&" No puede ser mayor al Total.","")) | CB56: =IF(AND($B56>0,AN56="")," * No olvide digitar la variable "&AN$48&""&". Digite CERO si no tiene",IF(B56>AN56," * La variable "&AN$48&""&" No puede ser menor al Total.","")) | CM56: =IF(AND($B56>0,AM56=""),1,IF(AM56>$B56,1,0)) -> 0 | CN56: =IF(AND($B56>0,AN56=""),1,IF(B56>$AN56,1,0)) -> 0
A57: SECCIÓN B: CATEGORIZACIÓN DE PACIENTES, PREVIA A LA ATENCIÓN MÉDICA U ODONTOLÓGICA (Establecimientos Alta, Mediana, Baja Complejidad, SAPU, SAR, SUR)
A58: CATEGORÍAS | B58: TOTAL | E58: RANGO ETARIO (en años) | AM58: Herramientas de Categorización
E59: 0 - 4 años | G59: 5 - 9 años | I59: 10 - 14 años | K59: 15 - 19 años | M59: 20 - 24 años | O59: 25 - 29 años | Q59: 30 - 34 años | S59: 35 - 39 años | U59: 40 - 44 años | W59: 45 - 49 años | Y59: 50 - 54 años | AA59: 55 - 59 años | AC59: 60 - 64 años | AE59: 65 - 69 años | AG59: 70 - 74 años | AI59: 75 - 79 años | AK59: 80 y más años
B60: Ambos Sexos | C60: Hombres | D60: Mujeres | E60: Hombres | F60: Mujeres | G60: Hombres | H60: Mujeres | I60: Hombres | J60: Mujeres | K60: Hombres | L60: Mujeres | M60: Hombres | N60: Mujeres | O60: Hombres | P60: Mujeres | Q60: Hombres | R60: Mujeres | S60: Hombres | T60: Mujeres | U60: Hombres | V60: Mujeres | W60: Hombres | X60: Mujeres | Y60: Hombres | Z60: Mujeres | AA60: Hombres | AB60: Mujeres | AC60: Hombres | AD60: Mujeres | AE60: Hombres | AF60: Mujeres | AG60: Hombres | AH60: Mujeres | AI60: Hombres | AJ60: Mujeres | AK60: Hombres | AL60: Mujeres | AM60: Discrecional | AN60: Estructurado (ESI)
A61: C1 | B61: =SUM(C61+D61) -> 44 | C61: =SUM(E61+G61+I61+K61+M61+O61+Q61+S61+U61+W61+Y61+AA61+AC61+AE61+AG61+AI61+AK61) -> 26 | D61: =SUM(F61+H61+J61+L61+N61+P61+R61+T61+V61+X61+Z61+AB61+AD61+AF61+AH61+AJ61+AL61) -> 18 | K61: 2 | L61: 2 | M61: 3 | N61: 1 | O61: 1 | Q61: 3 | R61: 1 | S61: 3 | T61: 1 | U61: 2 | W61: 1 | X61: 1 | Z61: 3 | AE61: 2 | AF61: 4 | AG61: 1 | AI61: 3 | AJ61: 2 | AK61: 5 | AL61: 3 | AM61: 0 | AN61: 44 | AO61: =CA61&CB61 | CA61: =IF(AND($B61>0,AM61="")," * No olvide digitar la variable "&AM$58&""&" Discrecional. Digite CERO si no tiene",IF(AM61>$B61," * La variable "&AM$58&""&" Discrecional No puede ser mayor al Total.","")) | CB61: =IF(AND($B61>0,AN61="")," * No olvide digitar la variable "&AM$58&""&" Estructurado (ESI). Digite CERO si no tiene",IF(AN61>$B61," * La variable "&AM$58&""&" Estructurado (ESI) No puede ser mayor al Total.","")) | CM61: =IF(AND($B61>0,AM61=""),1,IF(AM61>$B61,1,0)) -> 0 | CN61: =IF(AND($B61>0,AN61=""),1,IF(AN61>$B61,1,0)) -> 0
A62: C2 | B62: =SUM(C62+D62) -> 1098 | C62: =SUM(E62+G62+I62+K62+M62+O62+Q62+S62+U62+W62+Y62+AA62+AC62+AE62+AG62+AI62+AK62) -> 558 | D62: =SUM(F62+H62+J62+L62+N62+P62+R62+T62+V62+X62+Z62+AB62+AD62+AF62+AH62+AJ62+AL62) -> 540 | E62: 93 | F62: 72 | G62: 38 | H62: 37 | I62: 23 | J62: 26 | K62: 31 | L62: 27 | M62: 20 | N62: 20 | O62: 20 | P62: 23 | Q62: 24 | R62: 25 | S62: 31 | T62: 30 | U62: 16 | V62: 28 | W62: 29 | X62: 21 | Y62: 21 | Z62: 26 | AA62: 32 | AB62: 23 | AC62: 38 | AD62: 36 | AE62: 33 | AF62: 44 | AG62: 34 | AH62: 31 | AI62: 36 | AJ62: 28 | AK62: 39 | AL62: 43 | AM62: 0 | AN62: 1098 | AO62: =CA62&CB62 | CA62: =IF(AND($B62>0,AM62="")," * No olvide digitar la variable "&AM$58&""&" Discrecional. Digite CERO si no tiene",IF(AM62>$B62," * La variable "&AM$58&""&" Discrecional No puede ser mayor al Total.","")) | CB62: =IF(AND($B62>0,AN62="")," * No olvide digitar la variable "&AM$58&""&" Estructurado (ESI). Digite CERO si no tiene",IF(AN62>$B62," * La variable "&AM$58&""&" Estructurado (ESI) No puede ser mayor al Total.","")) | CM62: =IF(AND($B62>0,AM62=""),1,IF(AM62>$B62,1,0)) -> 0 | CN62: =IF(AND($B62>0,AN62=""),1,IF(AN62>$B62,1,0)) -> 0
A63: C3 | B63: =SUM(C63+D63) -> 2787 | C63: =SUM(E63+G63+I63+K63+M63+O63+Q63+S63+U63+W63+Y63+AA63+AC63+AE63+AG63+AI63+AK63) -> 1341 | D63: =SUM(F63+H63+J63+L63+N63+P63+R63+T63+V63+X63+Z63+AB63+AD63+AF63+AH63+AJ63+AL63) -> 1446 | E63: 255 | F63: 217 | G63: 134 | H63: 143 | I63: 125 | J63: 89 | K63: 62 | L63: 71 | M63: 46 | N63: 59 | O63: 51 | P63: 61 | Q63: 53 | R63: 73 | S63: 61 | T63: 85 | U63: 46 | V63: 72 | W63: 61 | X63: 56 | Y63: 46 | Z63: 86 | AA63: 61 | AB63: 91 | AC63: 59 | AD63: 82 | AE63: 68 | AF63: 81 | AG63: 57 | AH63: 47 | AI63: 67 | AJ63: 61 | AK63: 89 | AL63: 72 | AM63: 0 | AN63: 2787 | AO63: =CA63&CB63 | CA63: =IF(AND($B63>0,AM63="")," * No olvide digitar la variable "&AM$58&""&" Discrecional. Digite CERO si no tiene",IF(AM63>$B63," * La variable "&AM$58&""&" Discrecional No puede ser mayor al Total.","")) | CB63: =IF(AND($B63>0,AN63="")," * No olvide digitar la variable "&AM$58&""&" Estructurado (ESI). Digite CERO si no tiene",IF(AN63>$B63," * La variable "&AM$58&""&" Estructurado (ESI) No puede ser mayor al Total.","")) | CM63: =IF(AND($B63>0,AM63=""),1,IF(AM63>$B63,1,0)) -> 0 | CN63: =IF(AND($B63>0,AN63=""),1,IF(AN63>$B63,1,0)) -> 0
A64: C4 | B64: =SUM(C64+D64) -> 591 | C64: =SUM(E64+G64+I64+K64+M64+O64+Q64+S64+U64+W64+Y64+AA64+AC64+AE64+AG64+AI64+AK64) -> 276 | D64: =SUM(F64+H64+J64+L64+N64+P64+R64+T64+V64+X64+Z64+AB64+AD64+AF64+AH64+AJ64+AL64) -> 315 | E64: 48 | F64: 58 | G64: 50 | H64: 62 | I64: 91 | J64: 72 | K64: 20 | L64: 17 | M64: 6 | N64: 10 | O64: 4 | P64: 14 | Q64: 6 | R64: 12 | S64: 4 | T64: 11 | U64: 5 | V64: 5 | W64: 7 | X64: 9 | Y64: 3 | Z64: 12 | AA64: 6 | AB64: 7 | AC64: 8 | AD64: 7 | AE64: 3 | AF64: 6 | AG64: 4 | AH64: 5 | AI64: 7 | AJ64: 6 | AK64: 4 | AL64: 2 | AM64: 0 | AN64: 591 | AO64: =CA64&CB64 | CA64: =IF(AND($B64>0,AM64="")," * No olvide digitar la variable "&AM$58&""&" Discrecional. Digite CERO si no tiene",IF(AM64>$B64," * La variable "&AM$58&""&" Discrecional No puede ser mayor al Total.","")) | CB64: =IF(AND($B64>0,AN64="")," * No olvide digitar la variable "&AM$58&""&" Estructurado (ESI). Digite CERO si no tiene",IF(AN64>$B64," * La variable "&AM$58&""&" Estructurado (ESI) No puede ser mayor al Total.","")) | CM64: =IF(AND($B64>0,AM64=""),1,IF(AM64>$B64,1,0)) -> 0 | CN64: =IF(AND($B64>0,AN64=""),1,IF(AN64>$B64,1,0)) -> 0
A65: C5 | B65: =SUM(C65+D65) -> 10 | C65: =SUM(E65+G65+I65+K65+M65+O65+Q65+S65+U65+W65+Y65+AA65+AC65+AE65+AG65+AI65+AK65) -> 5 | D65: =SUM(F65+H65+J65+L65+N65+P65+R65+T65+V65+X65+Z65+AB65+AD65+AF65+AH65+AJ65+AL65) -> 5 | G65: 1 | I65: 2 | L65: 2 | N65: 1 | P65: 1 | S65: 1 | T65: 1 | AC65: 1 | AM65: 0 | AN65: 10 | AO65: =CA65&CB65 | CA65: =IF(AND($B65>0,AM65="")," * No olvide digitar la variable "&AM$58&""&" Discrecional. Digite CERO si no tiene",IF(AM65>$B65," * La variable "&AM$58&""&" Discrecional No puede ser mayor al Total.","")) | CB65: =IF(AND($B65>0,AN65="")," * No olvide digitar la variable "&AM$58&""&" Estructurado (ESI). Digite CERO si no tiene",IF(AN65>$B65," * La variable "&AM$58&""&" Estructurado (ESI) No puede ser mayor al Total.","")) | CM65: =IF(AND($B65>0,AM65=""),1,IF(AM65>$B65,1,0)) -> 0 | CN65: =IF(AND($B65>0,AN65=""),1,IF(AN65>$B65,1,0)) -> 0
A66: Sin Categorización | B66: =SUM(C66+D66) -> 0 | C66: =SUM(E66+G66+I66+K66+M66+O66+Q66+S66+U66+W66+Y66+AA66+AC66+AE66+AG66+AI66+AK66) -> 0 | D66: =SUM(F66+H66+J66+L66+N66+P66+R66+T66+V66+X66+Z66+AB66+AD66+AF66+AH66+AJ66+AL66) -> 0
A67: TOTAL | B67: =SUM(B61:B66) -> 4530 | C67: =SUM(C61:C66) -> 2206 | D67: =SUM(D61:D66) -> 2324 | E67: =SUM(E61:E66) -> 396 | F67: =SUM(F61:F66) -> 347 | G67: =SUM(G61:G66) -> 223 | H67: =SUM(H61:H66) -> 242 | I67: =SUM(I61:I66) -> 241 | ... AL67: =SUM(AL61:AL66) -> 120 | AM67: =SUM(AM61:AM65) -> 0 | AN67: =SUM(AN61:AN65) -> 4530
A68: SECCIÓN B.1: CATEGORIZACIÓN DE PACIENTES DE URGENCIA GINECO OBSTÉTRICA PREVIO A LA ATENCIÓN CLÍNICA POR MATRÓN (A) Y/O MÉDICO GINECO-OBSTETRA (Establecimientos alta, mediana y baja complejidad)
A69: CATEGORÍAS | B69: TOTAL | E69: RANGO ETARIO Y SEXO
E70: 0 - 4 años | G70: 5 - 9 años | I70: 10 - 14 años | K70: 15 - 19 años | M70: 20 - 24 años | O70: 25 - 29 años | Q70: 30 - 34 años | S70: 35 - 39 años | U70: 40 - 44 años | W70: 45 - 49 años | Y70: 50 - 54 años | AA70: 55 - 59 años | AC70: 60 - 64 años | AE70: 65 - 69 años | AG70: 70 - 74 años | AI70: 75 - 79 años | AK70: 80 y más años
B71: Ambos Sexos | C71: Hombres | D71: Mujeres | E71: Hombres | F71: Mujeres | G71: Hombres | H71: Mujeres | I71: Hombres | J71: Mujeres | K71: Hombres | L71: Mujeres | M71: Hombres | N71: Mujeres | O71: Hombres | P71: Mujeres | Q71: Hombres | R71: Mujeres | S71: Hombres | T71: Mujeres | U71: Hombres | V71: Mujeres | W71: Hombres | X71: Mujeres | Y71: Hombres | Z71: Mujeres | AA71: Hombres | AB71: Mujeres | AC71: Hombres | AD71: Mujeres | AE71: Hombres | AF71: Mujeres | AG71: Hombres | AH71: Mujeres | AI71: Hombres | AJ71: Mujeres | AK71: Hombres | AL71: Mujeres
A72: C1 | B72: =SUM(C72+D72) -> 11 | C72: =SUM(E72+G72+I72+K72+M72+O72+Q72+S72+U72+W72+Y72+AA72+AC72+AE72+AG72+AI72+AK72) -> 0 | D72: =SUM(F72+H72+J72+L72+N72+P72+R72+T72+V72+X72+Z72+AB72+AD72+AF72+AH72+AJ72+AL72) -> 11 | N72: 2 | P72: 2 | R72: 3 | T72: 3 | V72: 1
A73: C2 | B73: =SUM(C73+D73) -> 3 | C73: =SUM(E73+G73+I73+K73+M73+O73+Q73+S73+U73+W73+Y73+AA73+AC73+AE73+AG73+AI73+AK73) -> 0 | D73: =SUM(F73+H73+J73+L73+N73+P73+R73+T73+V73+X73+Z73+AB73+AD73+AF73+AH73+AJ73+AL73) -> 3 | N73: 1 | R73: 1 | T73: 1 | V73: 0
A74: C3 | B74: =SUM(C74+D74) -> 344 | C74: =SUM(E74+G74+I74+K74+M74+O74+Q74+S74+U74+W74+Y74+AA74+AC74+AE74+AG74+AI74+AK74) -> 0 | D74: =SUM(F74+H74+J74+L74+N74+P74+R74+T74+V74+X74+Z74+AB74+AD74+AF74+AH74+AJ74+AL74) -> 344 | J74: 2 | L74: 26 | N74: 78 | P74: 93 | R74: 74 | T74: 53 | V74: 16 | X74: 1 | AB74: 1
A75: C4 | B75: =SUM(C75+D75) -> 9 | C75: =SUM(E75+G75+I75+K75+M75+O75+Q75+S75+U75+W75+Y75+AA75+AC75+AE75+AG75+AI75+AK75) -> 0 | D75: =SUM(F75+H75+J75+L75+N75+P75+R75+T75+V75+X75+Z75+AB75+AD75+AF75+AH75+AJ75+AL75) -> 9 | N75: 1 | P75: 1 | R75: 1 | T75: 2 | V75: 0 | Z75: 1 | AF75: 1 | AH75: 1 | AL75: 1
A76: C5 | B76: =SUM(C76+D76) -> 171 | C76: =SUM(E76+G76+I76+K76+M76+O76+Q76+S76+U76+W76+Y76+AA76+AC76+AE76+AG76+AI76+AK76) -> 0 | D76: =SUM(F76+H76+J76+L76+N76+P76+R76+T76+V76+X76+Z76+AB76+AD76+AF76+AH76+AJ76+AL76) -> 171 | J76: 2 | L76: 16 | N76: 18 | P76: 22 | R76: 29 | T76: 21 | V76: 11 | X76: 13 | Z76: 13 | AB76: 7 | AD76: 9 | AF76: 1 | AH76: 5 | AJ76: 3 | AL76: 1
A77: Sin Categorización | B77: =SUM(C77+D77) -> 0 | C77: =SUM(E77+G77+I77+K77+M77+O77+Q77+S77+U77+W77+Y77+AA77+AC77+AE77+AG77+AI77+AK77) -> 0 | D77: =SUM(F77+H77+J77+L77+N77+P77+R77+T77+V77+X77+Z77+AB77+AD77+AF77+AH77+AJ77+AL77) -> 0
A78: TOTAL | B78: =SUM(B72:B77) -> 538 | C78: =SUM(C72:C77) -> 0 | D78: =SUM(D72:D77) -> 538 | E78: =SUM(E72:E77) -> 0 | F78: =SUM(F72:F77) -> 0 | G78: =SUM(G72:G77) -> 0 | H78: =SUM(H72:H77) -> 0 | I78: =SUM(I72:I77) -> 0 | ... AL78: =SUM(AL72:AL77) -> 2
A79: SECCIÓN C: ATENCIONES REALIZADAS POR MÉDICOS Y ODONTÓLOGOS ESPECIALISTAS EN LAS UNIDADES DE URGENCIA HOSPITALARIA
A80: ESPECIALIDADES | B80: TOTAL | C80: De turno | D80: Consultor de llamada | E80: Otros
A81: Medicina Interna | B81: =SUM(C81:E81) -> 0
A82: Neurología Adultos | B82: =SUM(C82:E82) -> 0
A83: Neurología Pediátrica | B83: =SUM(C83:E83) -> 0
A84: Obstetricia y Ginecología | B84: =SUM(C84:E84) -> 249 | C84: 249
A85: Oftalmología | B85: =SUM(C85:E85) -> 0
A86: Otorrinolaringología | B86: =SUM(C86:E86) -> 0
A87: Pediatría | B87: =SUM(C87:E87) -> 160 | C87: 160
A88: Traumatología y Ortopedia | B88: =SUM(C88:E88) -> 0
A89: Neurocirugía | B89: =SUM(C89:E89) -> 0
A90: Psiquiatría Adultos | B90: =SUM(C90:E90) -> 0
A91: Psiquiatría Pediátrica y Adolescentes | B91: =SUM(C91:E91) -> 0
A92: Urología | B92: =SUM(C92:E92) -> 0
A93: Urgenciólogo | B93: =SUM(C93:E93) -> 96 | C93: 96
A94: Cirugía Vascular Periférica | B94: =SUM(C94:E94) -> 0
A95: Cirugía General | B95: =SUM(C95:E95) -> 0
A96: Cirugía Pediátrica | B96: =SUM(C96:E96) -> 0
A97: Cardiología | B97: =SUM(C97:E97) -> 0
A98: Anestesiología | B98: =SUM(C98:E98) -> 0
A99: Cirugía de Cabeza, Cuello y Maxilofacial | B99: =SUM(C99:E99) -> 0
A100: Odontólogo | B100: =SUM(C100:E100) -> 0
...

Sheet ABRIL
A1: SERVICIO DE SALUD
A2: =CONCATENATE("COMUNA: ",[5]NOMBRE!B2, " (",[5]NOMBRE!C2,[5]NOMBRE!D2,[5]NOMBRE!E2,[5]NOMBRE!F2,[5]NOMBRE!G2,")") -> COMUNA: LINARES (07401)
A3: =CONCATENATE("ESTABLECIMIENTO/ESTRATEGIA: ", [5]NOMBRE!B3, " (",[5]NOMBRE!C3,[5]NOMBRE!D3,[5]NOMBRE!E3,[5]NOMBRE!F3,[5]NOMBRE!G3,[5]NOMBRE!H3,")") -> ESTABLECIMIENTO/ESTRATEGIA: HOSPITAL PRESIDENTE CARLOS IBAÑEZ DEL CAMPO (116108)
A4: =CONCATENATE("MES: ",[5]NOMBRE!B6, " (",[5]NOMBRE!C6,[5]NOMBRE!D6,")") -> MES: ABRIL (04)
A5: =CONCATENATE("AÑO: ",[5]NOMBRE!B7) -> AÑO: 2025
A6: REM-A08. ATENCIÓN DE URGENCIA
A7: SECCIÓN A: ATENCIONES REALIZADAS EN UNIDADES DE URGENCIA DE LA RED
A8: SECCIÓN A.1: ATENCIONES REALIZADAS EN UNIDADES DE EMERGENCIA HOSPITALARIA (Establecimientos de alta y mediana complejidad)
A9: TIPO DE ATENCIÓN | B9: TOTAL | E9: RANGO ETARIO (en años) | AM9: Beneficiarios | AN9: ORIGEN DE LA PROCEDENCIA (Sólo pacientes derivados de establecimientos de la Red) | AR9: Establecimientos de otra Red | AS9: Demanda de Urgencia
E10: 0 - 4 años | G10: 5 - 9 años | I10: 10 - 14 años | K10: 15 - 19 años | M10: 20 - 24 años | O10: 25 - 29 años | Q10: 30 - 34 años | S10: 35 - 39 años | U10: 40 - 44 años | W10: 45 - 49 años | Y10: 50 - 54 años | AA10: 55 - 59 años | AC10: 60 - 64 años | AE10: 65 - 69 años | AG10: 70 - 74 años | AI10: 75 - 79 años | AK10: 80 y más años | AN10: SAPU/ SAR / SUR | AO10: Hospital Baja Complejidad | AP10: Hospital Mediana/Alta Complejidad | AQ10: Otros Establecimientos de la Red
B11: Ambos Sexos | C11: Hombres | D11: Mujeres | E11: Hombres | F11: Mujeres | G11: Hombres | H11: Mujeres | I11: Hombres | J11: Mujeres | K11: Hombres | L11: Mujeres | M11: Hombres | N11: Mujeres | O11: Hombres | P11: Mujeres | Q11: Hombres | R11: Mujeres | S11: Hombres | T11: Mujeres | U11: Hombres | V11: Mujeres | W11: Hombres | X11: Mujeres | Y11: Hombres | Z11: Mujeres | AA11: Hombres | AB11: Mujeres | AC11: Hombres | AD11: Mujeres | AE11: Hombres | AF11: Mujeres | AG11: Hombres | AH11: Mujeres | AI11: Hombres | AJ11: Mujeres | AK11: Hombres | AL11: Mujeres
A12: Atención Médica Niño y Adulto | B12: =SUM(C12+D12) -> 4500 | C12: =SUM(E12+G12+I12+K12+M12+O12+Q12+S12+U12+W12+Y12+AA12+AC12+AE12+AG12+AI12+AK12) -> 2239 | D12: =SUM(F12+H12+J12+L12+N12+P12+R12+T12+V12+X12+Z12+AB12+AD12+AF12+AH12+AJ12+AL12) -> 2261 | E12: 375 | F12: 364 | G12: 272 | H12: 209 | I12: 251 | J12: 232 | K12: 124 | L12: 123 | M12: 61 | N12: 91 | O12: 76 | P12: 83 | Q12: 79 | R12: 87 | S12: 84 | T12: 96 | U12: 82 | V12: 105 | W12: 82 | X12: 100 | Y12: 99 | Z12: 100 | AA12: 88 | AB12: 116 | AC12: 122 | AD12: 96 | AE12: 103 | AF12: 126 | AG12: 114 | AH12: 84 | AI12: 98 | AJ12: 104 | AK12: 129 | AL12: 145 | AM12: 4361 | AN12: 128 | AO12: 0 | AP12: 0 | AQ12: 48 | AR12: 517 | AS12: 5106 | AT12: =CA12&CB12&CC12&CD12&CE12&CF12&CG12 | CA12: =IF(AND($B12>0,AM12="")," * No olvide digitar la variable "&AM$9&""&". Digite CERO si no tiene",IF(AM12>$B12," * La variable "&AM$9&""&" No puede ser mayor al Total.","")) | CB12: =IF(AND($B12>0,AN12="")," * No olvide digitar la variable "&AN$9&""&" SAPU/SAR/SUR. Digite CERO si no tiene",IF(AN12>$B12," * La variable "&AN$9&""&" SAPU/SAR/SUR No puede ser mayor al Total.","")) | CC12: =IF(AND($B12>0,AO12="")," * No olvide digitar la variable "&AN$9&""&" Hospital Baja Complejidad. Digite CERO si no tiene",IF(AO12>$B12," * La variable "&AN$9&""&" Hospital Baja Complejidad No puede ser mayor al Total.","")) | CD12: =IF(AND($B12>0,AP12="")," * No olvide digitar la variable "&AN$9&""&" Hospital Mediana/Alta Complejidad. Digite CERO si no tiene",IF(AP12>$B12," * La variable "&AN$9&""&" Hospital Mediana/Alta Complejidad No puede ser mayor al Total.","")) | CE12: =IF(AND($B12>0,AQ12="")," * No olvide digitar la variable "&AN$9&""&" Otros Establecimientos de la Red. Digite CERO si no tiene",IF(AQ12>$B12," * La variable "&AN$9&""&" Otros Establecimientos de la Red No puede ser mayor al Total.","")) | CF12: =IF(AND($B12>0,AR12="")," * No olvide digitar la variable "&AR$9&""&". Digite CERO si no tiene",IF(AR12>$B12," * La variable "&AR$9&""&" No puede ser mayor al Total.","")) | CG12: =IF(AND($B12>0,AS12="")," * No olvide digitar la variable "&AS$9&""&". Digite CERO si no tiene",IF(B12>AS12," * La variable "&AS$9&""&" No puede ser menor al Total.","")) | CM12: =IF(AND($B12>0,AM12=""),1,IF(AM12>$B12,1,0)) -> 0 | CN12: =IF(AND($B12>0,AN12=""),1,IF(AN12>$B12,1,0)) -> 0 | CO12: =IF(AND($B12>0,AO12=""),1,IF(AO12>$B12,1,0)) -> 0 | CP12: =IF(AND($B12>0,AP12=""),1,IF(AP12>$B12,1,0)) -> 0 | CQ12: =IF(AND($B12>0,AQ12=""),1,IF(AQ12>$B12,1,0)) -> 0 | CR12: =IF(AND($B12>0,AR12=""),1,IF(AR12>$B12,1,0)) -> 0 | CS12: =IF(AND($B12>0,AS12=""),1,IF(B12>AS12,1,0)) -> 0
