Workbook

Sheet CONSOLIDADO
A1: SERVICIO DE SALUD
A2: =CONCATENATE("COMUNA: ",[1]NOMBRE!B2, " (",[1]NOMBRE!C2,[1]NOMBRE!D2,[1]NOMBRE!E2,[1]NOMBRE!F2,[1]NOMBRE!G2,")") -> COMUNA: 0 (00000)
A3: =CONCATENATE("ESTABLECIMIENTO/ESTRATEGIA: ", [1]NOMBRE!B3, " (",[1]NOMBRE!C3,[1]NOMBRE!D3,[1]NOMBRE!E3,[1]NOMBRE!F3,[1]NOMBRE!G3,[1]NOMBRE!H3,")") -> ESTABLECIMIENTO/ESTRATEGIA: 0 (000000)
A4: =CONCATENATE("MES: ",[1]NOMBRE!B6, " (",[1]NOMBRE!C6,[1]NOMBRE!D6,")") -> MES: 0 (00)
A5: =CONCATENATE("AÑO: ",[1]NOMBRE!B7) -> AÑO: 2025
A6: REM-A08. ATENCIÓN DE URGENCIA
A7: SECCIÓN A: ATENCIONES REALIZADAS EN UNIDADES DE URGENCIA DE LA RED
A8: SECCIÓN A.1: ATENCIONES REALIZADAS EN UNIDADES DE EMERGENCIA HOSPITALARIA (Establecimientos de alta y mediana complejidad)
A9: TIPO DE ATENCIÓN | B9: TOTAL | E9: RANGO ETARIO (en años) | AM9: Beneficiarios | AN9: ORIGEN DE LA PROCEDENCIA (Sólo pacientes derivados de establecimientos de la Red) | AR9: Establecimientos de otra Red | AS9: Demanda de Urgencia
E10: 0 - 4 años | G10: 5 - 9 años | I10: 10 - 14 años | K10: 15 - 19 años | M10: 20 - 24 años | O10: 25 - 29 años | Q10: 30 - 34 años | S10: 35 - 39 años | U10: 40 - 44 años | W10: 45 - 49 años | Y10: 50 - 54 años | AA10: 55 - 59 años | AC10: 60 - 64 años | AE10: 65 - 69 años | AG10: 70 - 74 años | AI10: 75 - 79 años | AK10: 80 y más años | AN10: SAPU/ SAR / SUR | AO10: Hospital Baja Complejidad | AP10: Hospital Mediana/Alta Complejidad | AQ10: Otros Establecimientos de la Red
B11: Ambos Sexos | C11: Hombres | D11: Mujeres | E11: Hombres | F11: Mujeres | G11: Hombres | H11: Mujeres | I11: Hombres | J11: Mujeres | K11: Hombres | L11: Mujeres | M11: Hombres | N11: Mujeres | O11: Hombres | P11: Mujeres | Q11: Hombres | R11: Mujeres | S11: Hombres | T11: Mujeres | U11: Hombres | V11: Mujeres | W11: Hombres | X11: Mujeres | Y11: Hombres | Z11: Mujeres | AA11: Hombres | AB11: Mujeres | AC11: Hombres | AD11: Mujeres | AE11: Hombres | AF11: Mujeres | AG11: Hombres | AH11: Mujeres | AI11: Hombres | AJ11: Mujeres | AK11: Hombres | AL11: Mujeres
A12: Atención Médica Niño y Adulto | B12: =SUM(C12+D12) -> 50537 | C12: =SUM(E12+G12+I12+K12+M12+O12+Q12+S12+U12+W12+Y12+AA12+AC12+AE12+AG12+AI12+AK12) -> 25174 | D12: =SUM(F12+H12+J12+L12+N12+P12+R12+T12+V12+X12+Z12+AB12+AD12+AF12+AH12+AJ12+AL12) -> 25363 | E12: =SUM(ENERO:DICIEMBRE!E12) -> 4653 | F12: =SUM(ENERO:DICIEMBRE!F12) -> 4298 | G12: =SUM(ENERO:DICIEMBRE!G12) -> 2607 | H12: =SUM(ENERO:DICIEMBRE!H12) -> 2466 | I12: =SUM(ENERO:DICIEMBRE!I12) -> 2490 | J12: =SUM(ENERO:DICIEMBRE!J12) -> 1943 | K12: =SUM(ENERO:DICIEMBRE!K12) -> 1289 | L12: =SUM(ENERO:DICIEMBRE!L12) -> 1297 | ... AS12: =SUM(ENERO:DICIEMBRE!AS12) -> 57633 | AT12: =CA12&CB12&CC12&CD12&CE12&CF12&CG12 | CA12: =IF(AND($B12>0,AM12="")," * No olvide digitar la variable "&AM$9&""&". Digite CERO si no tiene",IF(AM12>$B12," * La variable "&AM$9&""&" No puede ser mayor al Total.","")) | CB12: =IF(AND($B12>0,AN12="")," * No olvide digitar la variable "&AN$9&""&" SAPU/SAR/SUR. Digite CERO si no tiene",IF(AN12>$B12," * La variable "&AN$9&""&" SAPU/SAR/SUR No puede ser mayor al Total.","")) | CC12: =IF(AND($B12>0,AO12="")," * No olvide digitar la variable "&AN$9&""&" Hospital Baja Complejidad. Digite CERO si no tiene",IF(AO12>$B12," * La variable "&AN$9&""&" Hospital Baja Complejidad No puede ser mayor al Total.","")) | CD12: =IF(AND($B12>0,AP12="")," * No olvide digitar la variable "&AN$9&""&" Hospital Mediana/Alta Complejidad. Digite CERO si no tiene",IF(AP12>$B12," * La variable "&AN$9&""&" Hospital Mediana/Alta Complejidad No puede ser mayor al Total.","")) | CE12: =IF(AND($B12>0,AQ12="")," * No olvide digitar la variable "&AN$9&""&" Otros Establecimientos de la Red. Digite CERO si no tiene",IF(AQ12>$B12," * La variable "&AN$9&""&" Otros Establecimientos de la Red No puede ser mayor al Total.","")) | CF12: =IF(AND($B12>0,AR12="")," * No olvide digitar la variable "&AR$9&""&". Digite CERO si no tiene",IF(AR12>$B12," * La variable "&AR$9&""&" No puede ser mayor al Total.","")) | CG12: =IF(AND($B12>0,AS12="")," * No olvide digitar la variable "&AS$9&""&". Digite CERO si no tiene",IF(B12>AS12," * La variable "&AS$9&""&" No puede ser menor al Total.","")) | CM12: =IF(AND($B12>0,AM12=""),1,IF(AM12>$B12,1,0)) -> 0 | CN12: =IF(AND($B12>0,AN12=""),1,IF(AN12>$B12,1,0)) -> 0 | CO12: =IF(AND($B12>0,AO12=""),1,IF(AO12>$B12,1,0)) -> 0 | CP12: =IF(AND($B12>0,AP12=""),1,IF(AP12>$B12,1,0)) -> 0 | CQ12: =IF(AND($B12>0,AQ12=""),1,IF(AQ12>$B12,1,0)) -> 0 | CR12: =IF(AND($B12>0,AR12=""),1,IF(AR12>$B12,1,0)) -> 0 | CS12: =IF(AND($B12>0,AS12=""),1,IF(B12>AS12,1,0)) -> 0
A13: Atención Médica Gineco-Obstetra | B13: =SUM(C13+D13) -> 3621 | C13: =SUM(E13+G13+I13+K13+M13+O13+Q13+S13+U13+W13+Y13+AA13+AC13+AE13+AG13+AI13+AK13) -> 6 | D13: =SUM(F13+H13+J13+L13+N13+P13+R13+T13+V13+X13+Z13+AB13+AD13+AF13+AH13+AJ13+AL13) -> 3615 | E13: =SUM(ENERO:DICIEMBRE!E13) -> 0 | F13: =SUM(ENERO:DICIEMBRE!F13) -> 0 | G13: =SUM(ENERO:DICIEMBRE!G13) -> 0 | H13: =SUM(ENERO:DICIEMBRE!H13) -> 1 | I13: =SUM(ENERO:DICIEMBRE!I13) -> 0 | J13: =SUM(ENERO:DICIEMBRE!J13) -> 28 | K13: =SUM(ENERO:DICIEMBRE!K13) -> 0 | L13: =SUM(ENERO:DICIEMBRE!L13) -> 268 | ... AS13: =SUM(ENERO:DICIEMBRE!AS13) -> 6061 | AT13: =CA13&CB13&CC13&CD13&CE13&CF13&CG13 | CA13: =IF(AND($B13>0,AM13="")," * No olvide digitar la variable "&AM$9&""&". Digite CERO si no tiene",IF(AM13>$B13," * La variable "&AM$9&""&" No puede ser mayor al Total.","")) | CB13: =IF(AND($B13>0,AN13="")," * No olvide digitar la variable "&AN$9&""&" SAPU/SAR/SUR. Digite CERO si no tiene",IF(AN13>$B13," * La variable "&AN$9&""&" SAPU/SAR/SUR No puede ser mayor al Total.","")) | CC13: =IF(AND($B13>0,AO13="")," * No olvide digitar la variable "&AN$9&""&" Hospital Baja Complejidad. Digite CERO si no tiene",IF(AO13>$B13," * La variable "&AN$9&""&" Hospital Baja Complejidad No puede ser mayor al Total.","")) | CD13: =IF(AND($B13>0,AP13="")," * No olvide digitar la variable "&AN$9&""&" Hospital Mediana/Alta Complejidad. Digite CERO si no tiene",IF(AP13>$B13," * La variable "&AN$9&""&" Hospital Mediana/Alta Complejidad No puede ser mayor al Total.","")) | CE13: =IF(AND($B13>0,AQ13="")," * No olvide digitar la variable "&AN$9&""&" Otros Establecimientos de la Red. Digite CERO si no tiene",IF(AQ13>$B13," * La variable "&AN$9&""&" Otros Establecimientos de la Red No puede ser mayor al Total.","")) | CF13: =IF(AND($B13>0,AR13="")," * No olvide digitar la variable "&AR$9&""&". Digite CERO si no tiene",IF(AR13>$B13," * La variable "&AR$9&""&" No puede ser mayor al Total.","")) | CG13: =IF(AND($B13>0,AS13="")," * No olvide digitar la variable "&AS$9&""&". Digite CERO si no tiene",IF(B13>AS13," * La variable "&AS$9&""&" No puede ser menor al Total.","")) | CM13: =IF(AND($B13>0,AM13=""),1,IF(AM13>$B13,1,0)) -> 0 | CN13: =IF(AND($B13>0,AN13=""),1,IF(AN13>$B13,1,0)) -> 0 | CO13: =IF(AND($B13>0,AO13=""),1,IF(AO13>$B13,1,0)) -> 0 | CP13: =IF(AND($B13>0,AP13=""),1,IF(AP13>$B13,1,0)) -> 0 | CQ13: =IF(AND($B13>0,AQ13=""),1,IF(AQ13>$B13,1,0)) -> 0 | CR13: =IF(AND($B13>0,AR13=""),1,IF(AR13>$B13,1,0)) -> 0 | CS13: =IF(AND($B13>0,AS13=""),1,IF(B13>AS13,1,0)) -> 0
A14: Atención por Matrona/ón | B14: =SUM(C14+D14) -> 2126 | C14: =SUM(E14+G14+I14+K14+M14+O14+Q14+S14+U14+W14+Y14+AA14+AC14+AE14+AG14+AI14+AK14) -> 7 | D14: =SUM(F14+H14+J14+L14+N14+P14+R14+T14+V14+X14+Z14+AB14+AD14+AF14+AH14+AJ14+AL14) -> 2119 | E14: =SUM(ENERO:DICIEMBRE!E14) -> 0 | F14: =SUM(ENERO:DICIEMBRE!F14) -> 0 | G14: =SUM(ENERO:DICIEMBRE!G14) -> 0 | H14: =SUM(ENERO:DICIEMBRE!H14) -> 0 | I14: =SUM(ENERO:DICIEMBRE!I14) -> 0 | J14: =SUM(ENERO:DICIEMBRE!J14) -> 10 | K14: =SUM(ENERO:DICIEMBRE!K14) -> 0 | L14: =SUM(ENERO:DICIEMBRE!L14) -> 133 | ... AS14: =SUM(ENERO:DICIEMBRE!AS14) -> 0 | AT14: =CA14&CB14&CC14&CD14&CE14&CF14&CG14 | CA14: =IF(AND($B14>0,AM14="")," * No olvide digitar la variable "&AM$9&""&". Digite CERO si no tiene",IF(AM14>$B14," * La variable "&AM$9&""&" No puede ser mayor al Total.","")) | CM14: =IF(AND($B14>0,AM14=""),1,IF(AM14>$B14,1,0)) -> 0
A15: Atención por Odontólogo/a | B15: =SUM(C15+D15) -> 0 | C15: =SUM(E15+G15+I15+K15+M15+O15+Q15+S15+U15+W15+Y15+AA15+AC15+AE15+AG15+AI15+AK15) -> 0 | D15: =SUM(F15+H15+J15+L15+N15+P15+R15+T15+V15+X15+Z15+AB15+AD15+AF15+AH15+AJ15+AL15) -> 0 | E15: =SUM(ENERO:DICIEMBRE!E15) -> 0 | F15: =SUM(ENERO:DICIEMBRE!F15) -> 0 | G15: =SUM(ENERO:DICIEMBRE!G15) -> 0 | H15: =SUM(ENERO:DICIEMBRE!H15) -> 0 | I15: =SUM(ENERO:DICIEMBRE!I15) -> 0 | J15: =SUM(ENERO:DICIEMBRE!J15) -> 0 | K15: =SUM(ENERO:DICIEMBRE!K15) -> 0 | L15: =SUM(ENERO:DICIEMBRE!L15) -> 0 | ... AS15: =SUM(ENERO:DICIEMBRE!AS15) -> 0 | AT15: =CA15&CB15&CC15&CD15&CE15&CF15&CG15 | CA15: =IF(AND($B15>0,AM15="")," * No olvide digitar la variable "&AM$9&""&". Digite CERO si no tiene",IF(AM15>$B15," * La variable "&AM$9&""&" No puede ser mayor al Total.","")) | CM15: =IF(AND($B15>0,AM15=""),1,IF(AM15>$B15,1,0)) -> 0
A16: SECCIÓN A.2: ATENCIONES Y ACTIVIDADES DE URGENCIA REALIZADAS EN SAPU Y SAR
A17: ATENCIÓN | B17: TOTAL | E17: RANGO ETARIO (en años) | AM17: Beneficiarios | AN17: Atenciones por profesionales a Honorarios | AO17: Demanda de Urgencia | AP17: Por Campaña de Invierno | AQ17: Niños, Niñas, Adolescentes y Jóvenes SENAME | AR17: Niños, Niñas, Adolescentes y Jóvenes Mejor Niñez
E18: 0 - 4 años | G18: 5 - 9 años | I18: 10 - 14 años | K18: 15 - 19 años | M18: 20 - 24 años | O18: 25 - 29 años | Q18: 30 - 34 años | S18: 35 - 39 años | U18: 40 - 44 años | W18: 45 - 49 años | Y18: 50 - 54 años | AA18: 55 - 59 años | AC18: 60 - 64 años | AE18: 65 - 69 años | AG18: 70 - 74 años | AI18: 75 - 79 años | AK18: 80 y más años
B19: Ambos Sexos | C19: Hombres | D19: Mujeres | E19: Hombres | F19: Mujeres | G19: Hombres | H19: Mujeres | I19: Hombres | J19: Mujeres | K19: Hombres | L19: Mujeres | M19: Hombres | N19: Mujeres | O19: Hombres | P19: Mujeres | Q19: Hombres | R19: Mujeres | S19: Hombres | T19: Mujeres | U19: Hombres | V19: Mujeres | W19: Hombres | X19: Mujeres | Y19: Hombres | Z19: Mujeres | AA19: Hombres | AB19: Mujeres | AC19: Hombres | AD19: Mujeres | AE19: Hombres | AF19: Mujeres | AG19: Hombres | AH19: Mujeres | AI19: Hombres | AJ19: Mujeres | AK19: Hombres | AL19: Mujeres
A20: Atención Medica | B20: =SUM(C20+D20) -> 0 | C20: =SUM(E20+G20+I20+K20+M20+O20+Q20+S20+U20+W20+Y20+AA20+AC20+AE20+AG20+AI20+AK20) -> 0 | D20: =SUM(F20+H20+J20+L20+N20+P20+R20+T20+V20+X20+Z20+AB20+AD20+AF20+AH20+AJ20+AL20) -> 0 | AS20: =$CA20&$CB20&$CC20&$CD20&$CE20&$CF20 | CA20: =IF(AND($B20>0,AM20="")," * No olvide digitar la variable "&AM$17&""&". Digite CERO si no tiene",IF(AM20>$B20," * La variable "&AM$20&""&" No puede ser mayor al Total.","")) | CB20: =IF(AND($B20>0,AN20="")," * No olvide digitar la variable "&AN$17&""&". Digite CERO si no tiene",IF(AN20>$B20," * La variable "&AN$17&""&" No puede ser mayor al Total.","")) | CC20: =IF(AND($B20>0,AO20="")," * No olvide digitar la variable "&AO$17&""&". Digite CERO si no tiene",IF(B20>AO20," * La variable "&AO$17&""&" No puede ser menor al Total.","")) | CD20: =IF(AND($B20>0,AP20="")," * No olvide digitar la variable "&AP$17&""&". Digite CERO si no tiene",IF(AP20>$B20," * La variable "&AP$17&""&" No puede ser mayor al Total.","")) | CE20: =IF(AND($B20>0,AQ20="")," * No olvide digitar la variable "&AQ$17&""&". Digite CERO si no tiene",IF(AQ20>$B20," * La variable "&AQ$17&""&" No puede ser mayor al Total.","")) | CF20: =IF(AND($B20>0,AR20="")," * No olvide digitar la variable "&AR$17&""&". Digite CERO si no tiene",IF(AR20>$B20," * La variable "&AR$17&""&" No puede ser mayor al Total.","")) | CM20: =IF(AND($B20>0,AM20=""),1,IF(AM20>$B20,1,0)) -> 0 | CN20: =IF(AND($B20>0,AN20=""),1,IF(AN20>$B20,1,0)) -> 0 | CO20: =IF(AND($B20>0,AO20=""),1,IF(B20>$AO20,1,0)) -> 0 | CP20: =IF(AND($B20>0,AP20=""),1,IF(AP20>$B20,1,0)) -> 0 | CQ20: =IF(AND($B20>0,AQ20=""),1,IF(AQ20>$B20,1,0)) -> 0 | CR20: =IF(AND($B20>0,AR20=""),1,IF(AR20>$B20,1,0)) -> 0
A21: Enfermería | B21: =SUM(C21+D21) -> 0 | C21: =SUM(E21+G21+I21+K21+M21+O21+Q21+S21+U21+W21+Y21+AA21+AC21+AE21+AG21+AI21+AK21) -> 0 | D21: =SUM(F21+H21+J21+L21+N21+P21+R21+T21+V21+X21+Z21+AB21+AD21+AF21+AH21+AJ21+AL21) -> 0 | AS21: =$CA21&$CB21&$CC21&$CD21&$CE21&$CF21 | CA21: =IF(AND($B21>0,AM21="")," * No olvide digitar la variable "&AM$17&""&". Digite CERO si no tiene",IF(AM21>$B21," * La variable "&AM$20&""&" No puede ser mayor al Total.","")) | CB21: =IF(AND($B21>0,AN21="")," * No olvide digitar la variable "&AN$17&""&". Digite CERO si no tiene",IF(AN21>$B21," * La variable "&AN$17&""&" No puede ser mayor al Total.","")) | CC21: =IF(AND($B21>0,AO21="")," * No olvide digitar la variable "&AO$17&""&". Digite CERO si no tiene",IF(B21>AO21," * La variable "&AO$17&""&" No puede ser menor al Total.","")) | CD21: =IF(AND($B21>0,AP21="")," * No olvide digitar la variable "&AP$17&""&". Digite CERO si no tiene",IF(AP21>$B21," * La variable "&AP$17&""&" No puede ser mayor al Total.","")) | CE21: =IF(AND($B21>0,AQ21="")," * No olvide digitar la variable "&AQ$17&""&". Digite CERO si no tiene",IF(AQ21>$B21," * La variable "&AQ$17&""&" No puede ser mayor al Total.","")) | CF21: =IF(AND($B21>0,AR21="")," * No olvide digitar la variable "&AR$17&""&". Digite CERO si no tiene",IF(AR21>$B21," * La variable "&AR$17&""&" No puede ser mayor al Total.","")) | CM21: =IF(AND($B21>0,AM21=""),1,IF(AM21>$B21,1,0)) -> 0 | CN21: =IF(AND($B21>0,AN21=""),1,IF(AN21>$B21,1,0)) -> 0 | CO21: =IF(AND($B21>0,AO21=""),1,IF(B21>$AO21,1,0)) -> 0 | CP21: =IF(AND($B21>0,AP21=""),1,IF(AP21>$B21,1,0)) -> 0 | CQ21: =IF(AND($B21>0,AQ21=""),1,IF(AQ21>$B21,1,0)) -> 0 | CR21: =IF(AND($B21>0,AR21=""),1,IF(AR21>$B21,1,0)) -> 0
A22: Matronería | B22: =SUM(C22+D22) -> 0 | C22: =SUM(E22+G22+I22+K22+M22+O22+Q22+S22+U22+W22+Y22+AA22+AC22+AE22+AG22+AI22+AK22) -> 0 | D22: =SUM(F22+H22+J22+L22+N22+P22+R22+T22+V22+X22+Z22+AB22+AD22+AF22+AH22+AJ22+AL22) -> 0 | AS22: =$CA22&$CB22&$CC22&$CD22&$CE22&$CF22 | CA22: =IF(AND($B22>0,AM22="")," * No olvide digitar la variable "&AM$17&""&". Digite CERO si no tiene",IF(AM22>$B22," * La variable "&AM$20&""&" No puede ser mayor al Total.","")) | CB22: =IF(AND($B22>0,AN22="")," * No olvide digitar la variable "&AN$17&""&". Digite CERO si no tiene",IF(AN22>$B22," * La variable "&AN$17&""&" No puede ser mayor al Total.","")) | CC22: =IF(AND($B22>0,AO22="")," * No olvide digitar la variable "&AO$17&""&". Digite CERO si no tiene",IF(B22>AO22," * La variable "&AO$17&""&" No puede ser menor al Total.","")) | CE22: =IF(AND($B22>0,AQ22="")," * No olvide digitar la variable "&AQ$17&""&". Digite CERO si no tiene",IF(AQ22>$B22," * La variable "&AQ$17&""&" No puede ser mayor al Total.","")) | CF22: =IF(AND($B22>0,AR22="")," * No olvide digitar la variable "&AR$17&""&". Digite CERO si no tiene",IF(AR22>$B22," * La variable "&AR$17&""&" No puede ser mayor al Total.","")) | CM22: =IF(AND($B22>0,AM22=""),1,IF(AM22>$B22,1,0)) -> 0 | CN22: =IF(AND($B22>0,AN22=""),1,IF(AN22>$B22,1,0)) -> 0 | CO22: =IF(AND($B22>0,AO22=""),1,IF(B22>$AO22,1,0)) -> 0 | CQ22: =IF(AND($B22>0,AQ22=""),1,IF(AQ22>$B22,1,0)) -> 0 | CR22: =IF(AND($B22>0,AR22=""),1,IF(AR22>$B22,1,0)) -> 0
A23: Kinesiología | B23: =SUM(C23+D23) -> 0 | C23: =SUM(E23+G23+I23+K23+M23+O23+Q23+S23+U23+W23+Y23+AA23+AC23+AE23+AG23+AI23+AK23) -> 0 | D23: =SUM(F23+H23+J23+L23+N23+P23+R23+T23+V23+X23+Z23+AB23+AD23+AF23+AH23+AJ23+AL23) -> 0 | AS23: =$CA23&$CB23&$CC23&$CD23&$CE23&$CF23 | CA23: =IF(AND($B23>0,AM23="")," * No olvide digitar la variable "&AM$17&""&". Digite CERO si no tiene",IF(AM23>$B23," * La variable "&AM$20&""&" No puede ser mayor al Total.","")) | CB23: =IF(AND($B23>0,AN23="")," * No olvide digitar la variable "&AN$17&""&". Digite CERO si no tiene",IF(AN23>$B23," * La variable "&AN$17&""&" No puede ser mayor al Total.","")) | CC23: =IF(AND($B23>0,AO23="")," * No olvide digitar la variable "&AO$17&""&". Digite CERO si no tiene",IF(B23>AO23," * La variable "&AO$17&""&" No puede ser menor al Total.","")) | CD23: =IF(AND($B23>0,AP23="")," * No olvide digitar la variable "&AP$17&""&". Digite CERO si no tiene",IF(AP23>$B23," * La variable "&AP$17&""&" No puede ser mayor al Total.","")) | CE23: =IF(AND($B23>0,AQ23="")," * No olvide digitar la variable "&AQ$17&""&". Digite CERO si no tiene",IF(AQ23>$B23," * La variable "&AQ$17&""&" No puede ser mayor al Total.","")) | CF23: =IF(AND($B23>0,AR23="")," * No olvide digitar la variable "&AR$17&""&". Digite CERO si no tiene",IF(AR23>$B23," * La variable "&AR$17&""&" No puede ser mayor al Total.","")) | CM23: =IF(AND($B23>0,AM23=""),1,IF(AM23>$B23,1,0)) -> 0 | CN23: =IF(AND($B23>0,AN23=""),1,IF(AN23>$B23,1,0)) -> 0 | CO23: =IF(AND($B23>0,AO23=""),1,IF(B23>$AO23,1,0)) -> 0 | CP23: =IF(AND($B23>0,AP23=""),1,IF(AP23>$B23,1,0)) -> 0 | CQ23: =IF(AND($B23>0,AQ23=""),1,IF(AQ23>$B23,1,0)) -> 0 | CR23: =IF(AND($B23>0,AR23=""),1,IF(AR23>$B23,1,0)) -> 0
A24: Psicología | B24: =SUM(C24+D24) -> 0 | C24: =SUM(E24+G24+I24+K24+M24+O24+Q24+S24+U24+W24+Y24+AA24+AC24+AE24+AG24+AI24+AK24) -> 0 | D24: =SUM(F24+H24+J24+L24+N24+P24+R24+T24+V24+X24+Z24+AB24+AD24+AF24+AH24+AJ24+AL24) -> 0 | AS24: =$CA24&$CB24&$CC24&$CD24&$CE24&$CF24 | CA24: =IF(AND($B24>0,AM24="")," * No olvide digitar la variable "&AM$17&""&". Digite CERO si no tiene",IF(AM24>$B24," * La variable "&AM$17&""&" No puede ser mayor al Total.","")) | CB24: =IF(AND($B24>0,AN24="")," * No olvide digitar la variable "&AN$17&""&". Digite CERO si no tiene",IF(AN24>$B24," * La variable "&AN$17&""&" No puede ser mayor al Total.","")) | CE24: =IF(AND($B24>0,AQ24="")," * No olvide digitar la variable "&AQ$17&""&" Otros Establecimientos de la Red. Digite CERO si no tiene",IF(AQ24>$B24," * La variable "&AQ$17&""&" Otros Establecimientos de la Red No puede ser mayor al Total.","")) | CF24: =IF(AND($B24>0,AR24="")," * No olvide digitar la variable "&AR$17&""&". Digite CERO si no tiene",IF(AR24>$B24," * La variable "&AR$17&""&" No puede ser mayor al Total.","")) | CM24: =IF(AND($B24>0,AM24=""),1,IF(AM24>$B24,1,0)) -> 0 | CN24: =IF(AND($B24>0,AN24=""),1,IF(AN24>$B24,1,0)) -> 0 | CQ24: =IF(AND($B24>0,AQ24=""),1,IF(AQ24>$B24,1,0)) -> 0 | CR24: =IF(AND($B24>0,AR24=""),1,IF(AR24>$B24,1,0)) -> 0
A25: Trabajo Social | B25: =SUM(C25+D25) -> 0 | C25: =SUM(E25+G25+I25+K25+M25+O25+Q25+S25+U25+W25+Y25+AA25+AC25+AE25+AG25+AI25+AK25) -> 0 | D25: =SUM(F25+H25+J25+L25+N25+P25+R25+T25+V25+X25+Z25+AB25+AD25+AF25+AH25+AJ25+AL25) -> 0 | AS25: =$CA25&$CB25&$CC25&$CD25&$CE25&$CF25 | CA25: =IF(AND($B25>0,AM25="")," * No olvide digitar la variable "&AM$17&""&". Digite CERO si no tiene",IF(AM25>$B25," * La variable "&AM$17&""&" No puede ser mayor al Total.","")) | CB25: =IF(AND($B25>0,AN25="")," * No olvide digitar la variable "&AN$17&""&". Digite CERO si no tiene",IF(AN25>$B25," * La variable "&AN$17&""&" No puede ser mayor al Total.","")) | CE25: =IF(AND($B25>0,AQ25="")," * No olvide digitar la variable "&AQ$17&""&" Otros Establecimientos de la Red. Digite CERO si no tiene",IF(AQ25>$B25," * La variable "&AQ$17&""&" Otros Establecimientos de la Red No puede ser mayor al Total.","")) | CF25: =IF(AND($B25>0,AR25="")," * No olvide digitar la variable "&AR$17&""&". Digite CERO si no tiene",IF(AR25>$B25," * La variable "&AR$17&""&" No puede ser mayor al Total.","")) | CM25: =IF(AND($B25>0,AM25=""),1,IF(AM25>$B25,1,0)) -> 0 | CN25: =IF(AND($B25>0,AN25=""),1,IF(AN25>$B25,1,0)) -> 0 | CQ25: =IF(AND($B25>0,AQ25=""),1,IF(AQ25>$B25,1,0)) -> 0 | CR25: =IF(AND($B25>0,AR25=""),1,IF(AR25>$B25,1,0)) -> 0
A26: Dupla Psicosocial | B26: =SUM(C26+D26) -> 0 | C26: =SUM(E26+G26+I26+K26+M26+O26+Q26+S26+U26+W26+Y26+AA26+AC26+AE26+AG26+AI26+AK26) -> 0 | D26: =SUM(F26+H26+J26+L26+N26+P26+R26+T26+V26+X26+Z26+AB26+AD26+AF26+AH26+AJ26+AL26) -> 0 | AS26: =$CA26&$CB26&$CC26&$CD26&$CE26&$CF26 | CA26: =IF(AND($B26>0,AM26="")," * No olvide digitar la variable "&AM$17&""&". Digite CERO si no tiene",IF(AM26>$B26," * La variable "&AM$17&""&" No puede ser mayor al Total.","")) | CB26: =IF(AND($B26>0,AN26="")," * No olvide digitar la variable "&AN$17&""&". Digite CERO si no tiene",IF(AN26>$B26," * La variable "&AN$17&""&" No puede ser mayor al Total.","")) | CE26: =IF(AND($B26>0,AQ26="")," * No olvide digitar la variable "&AQ$17&""&" Otros Establecimientos de la Red. Digite CERO si no tiene",IF(AQ26>$B26," * La variable "&AQ$17&""&" Otros Establecimientos de la Red No puede ser mayor al Total.","")) | CF26: =IF(AND($B26>0,AR26="")," * No olvide digitar la variable "&AR$17&""&". Digite CERO si no tiene",IF(AR26>$B26," * La variable "&AR$17&""&" No puede ser mayor al Total.","")) | CM26: =IF(AND($B26>0,AM26=""),1,IF(AM26>$B26,1,0)) -> 0 | CN26: =IF(AND($B26>0,AN26=""),1,IF(AN26>$B26,1,0)) -> 0 | CQ26: =IF(AND($B26>0,AQ26=""),1,IF(AQ26>$B26,1,0)) -> 0 | CR26: =IF(AND($B26>0,AR26=""),1,IF(AR26>$B26,1,0)) -> 0
A27: SECCIÓN A.3: ATENCIONES DE URGENCIA REALIZADAS EN ESTABLECIMIENTOS DE BAJA COMPLEJIDAD
A28: PROFESIONAL | B28: TOTAL | E28: RANGO ETARIO (en años) | AM28: Beneficiarios | AN28: Demanda de Urgencia
E29: 0 - 4 | G29: 5 - 9 | I29: 10 - 14 | K29: 15 - 19 | M29: 20 - 24 | O29: 25 - 29 | Q29: 30 - 34 | S29: 35 - 39 | U29: 40 - 44 | W29: 45 - 49 | Y29: 50 - 54 | AA29: 55 - 59 | AC29: 60 - 64 | AE29: 65 - 69 | AG29: 70 - 74 | AI29: 75 - 79 | AK29: 80 y mas
B30: Ambos Sexos | C30: Hombres | D30: Mujeres | E30: Hombres | F30: Mujeres | G30: Hombres | H30: Mujeres | I30: Hombres | J30: Mujeres | K30: Hombres | L30: Mujeres | M30: Hombres | N30: Mujeres | O30: Hombres | P30: Mujeres | Q30: Hombres | R30: Mujeres | S30: Hombres | T30: Mujeres | U30: Hombres | V30: Mujeres | W30: Hombres | X30: Mujeres | Y30: Hombres | Z30: Mujeres | AA30: Hombres | AB30: Mujeres | AC30: Hombres | AD30: Mujeres | AE30: Hombres | AF30: Mujeres | AG30: Hombres | AH30: Mujeres | AI30: Hombres | AJ30: Mujeres | AK30: Hombres | AL30: Mujeres
A31: Médico | B31: =SUM(C31+D31) -> 0 | C31: =SUM(E31+G31+I31+K31+M31+O31+Q31+S31+U31+W31+Y31+AA31+AC31+AE31+AG31+AI31+AK31) -> 0 | D31: =SUM(F31+H31+J31+L31+N31+P31+R31+T31+V31+X31+Z31+AB31+AD31+AF31+AH31+AJ31+AL31) -> 0 | AO31: =CA31&CB31 | CA31: =IF(AND($B31>0,AM31="")," * No olvide digitar la variable "&AM$28&""&". Digite CERO si no tiene",IF(AM31>$B31," * La variable "&AM$28&""&" No puede ser mayor al Total.","")) | CB31: =IF(AND($B31>0,AN31="")," * No olvide digitar la variable "&AN$28&""&". Digite CERO si no tiene",IF(B31>AN31," * La variable "&AN$28&""&" No puede ser menor al Total.","")) | CM31: =IF(AND($B31>0,AM31=""),1,IF(AM31>$B31,1,0)) -> 0 | CN31: =IF(AND($B31>0,AN31=""),1,IF(B31>$AN31,1,0)) -> 0
A32: Enfermera /o | B32: =SUM(C32+D32) -> 0 | C32: =SUM(E32+G32+I32+K32+M32+O32+Q32+S32+U32+W32+Y32+AA32+AC32+AE32+AG32+AI32+AK32) -> 0 | D32: =SUM(F32+H32+J32+L32+N32+P32+R32+T32+V32+X32+Z32+AB32+AD32+AF32+AH32+AJ32+AL32) -> 0 | AO32: =CA32 | CA32: =IF(AND($B32>0,AM32="")," * No olvide digitar la variable "&AM$28&""&". Digite CERO si no tiene",IF(AM32>$B32," * La variable "&AM$28&""&" No puede ser mayor al Total.","")) | CM32: =IF(AND($B32>0,AM32=""),1,IF(AM32>$B32,1,0)) -> 0
A33: Matrona /ón | B33: =SUM(C33+D33) -> 0 | C33: =SUM(E33+G33+I33+K33+M33+O33+Q33+S33+U33+W33+Y33+AA33+AC33+AE33+AG33+AI33+AK33) -> 0 | D33: =SUM(F33+H33+J33+L33+N33+P33+R33+T33+V33+X33+Z33+AB33+AD33+AF33+AH33+AJ33+AL33) -> 0 | AO33: =CA33 | CA33: =IF(AND($B33>0,AM33="")," * No olvide digitar la variable "&AM$28&""&". Digite CERO si no tiene",IF(AM33>$B33," * La variable "&AM$28&""&" No puede ser mayor al Total.","")) | CM33: =IF(AND($B33>0,AM33=""),1,IF(AM33>$B33,1,0)) -> 0
A34: Kinesiólogo/a | B34: =SUM(C34+D34) -> 0 | C34: =SUM(E34+G34+I34+K34+M34+O34+Q34+S34+U34+W34+Y34+AA34+AC34+AE34+AG34+AI34+AK34) -> 0 | D34: =SUM(F34+H34+J34+L34+N34+P34+R34+T34+V34+X34+Z34+AB34+AD34+AF34+AH34+AJ34+AL34) -> 0 | AO34: =CA34 | CA34: =IF(AND($B34>0,AM34="")," * No olvide digitar la variable "&AM$28&""&". Digite CERO si no tiene",IF(AM34>$B34," * La variable "&AM$28&""&" No puede ser mayor al Total.","")) | CM34: =IF(AND($B34>0,AM34=""),1,IF(AM34>$B34,1,0)) -> 0
A35: Técnico en Enfermería | B35: =SUM(C35+D35) -> 0 | C35: =SUM(E35+G35+I35+K35+M35+O35+Q35+S35+U35+W35+Y35+AA35+AC35+AE35+AG35+AI35+AK35) -> 0 | D35: =SUM(F35+H35+J35+L35+N35+P35+R35+T35+V35+X35+Z35+AB35+AD35+AF35+AH35+AJ35+AL35) -> 0 | AO35: =CA35 | CA35: =IF(AND($B35>0,AM35="")," * No olvide digitar la variable "&AM$28&""&". Digite CERO si no tiene",IF(AM35>$B35," * La variable "&AM$28&""&" No puede ser mayor al Total.","")) | CM35: =IF(AND($B35>0,AM35=""),1,IF(AM35>$B35,1,0)) -> 0
A36: Otros Profesionales | B36: =SUM(C36+D36) -> 0 | C36: =SUM(E36+G36+I36+K36+M36+O36+Q36+S36+U36+W36+Y36+AA36+AC36+AE36+AG36+AI36+AK36) -> 0 | D36: =SUM(F36+H36+J36+L36+N36+P36+R36+T36+V36+X36+Z36+AB36+AD36+AF36+AH36+AJ36+AL36) -> 0 | AO36: =CA36 | CA36: =IF(AND($B36>0,AM36="")," * No olvide digitar la variable "&AM$28&""&". Digite CERO si no tiene",IF(AM36>$B36," * La variable "&AM$28&""&" No puede ser mayor al Total.","")) | CM36: =IF(AND($B36>0,AM36=""),1,IF(AM36>$B36,1,0)) -> 0
A37: SECCIÓN A.4: ATENCIONES DE URGENCIA REALIZADAS EN ESTABLECIMIENTOS ATENCIÓN PRIMARIA NO SAPU
A38: PROFESIONAL | B38: TOTAL | E38: RANGO ETARIO (en años) | AM38: Beneficiarios | AN38: Demanda de Urgencia
E39: 0 - 4 años | G39: 5 - 9 años | I39: 10 - 14 años | K39: 15 - 19 años | M39: 20 - 24 años | O39: 25 - 29 años | Q39: 30 - 34 años | S39: 35 - 39 años | U39: 40 - 44 años | W39: 45 - 49 años | Y39: 50 - 54 años | AA39: 55 - 59 años | AC39: 60 - 64 años | AE39: 65 - 69 años | AG39: 70 - 74 años | AI39: 75 - 79 años | AK39: 80 y más años
B40: Ambos Sexos | C40: Hombres | D40: Mujeres | E40: Hombres | F40: Mujeres | G40: Hombres | H40: Mujeres | I40: Hombres | J40: Mujeres | K40: Hombres | L40: Mujeres | M40: Hombres | N40: Mujeres | O40: Hombres | P40: Mujeres | Q40: Hombres | R40: Mujeres | S40: Hombres | T40: Mujeres | U40: Hombres | V40: Mujeres | W40: Hombres | X40: Mujeres | Y40: Hombres | Z40: Mujeres | AA40: Hombres | AB40: Mujeres | AC40: Hombres | AD40: Mujeres | AE40: Hombres | AF40: Mujeres | AG40: Hombres | AH40: Mujeres | AI40: Hombres | AJ40: Mujeres | AK40: Hombres | AL40: Mujeres
...

Sheet ENERO
A1: SERVICIO DE SALUD
A2: =CONCATENATE("COMUNA: ",[2]NOMBRE!B2, " (",[2]NOMBRE!C2,[2]NOMBRE!D2,[2]NOMBRE!E2,[2]NOMBRE!F2,[2]NOMBRE!G2,")") -> COMUNA: LINARES (07401)
A3: =CONCATENATE("ESTABLECIMIENTO/ESTRATEGIA: ", [2]NOMBRE!B3, " (",[2]NOMBRE!C3,[2]NOMBRE!D3,[2]NOMBRE!E3,[2]NOMBRE!F3,[2]NOMBRE!G3,[2]NOMBRE!H3,")") -> ESTABLECIMIENTO/ESTRATEGIA: HOSPITAL PRESIDENTE CARLOS IBAÑEZ DEL CAMPO (116108)
A4: =CONCATENATE("MES: ",[2]NOMBRE!B6, " (",[2]NOMBRE!C6,[2]NOMBRE!D6,")") -> MES: ENERO (01)
A5: =CONCATENATE("AÑO: ",[2]NOMBRE!B7) -> AÑO: 2025
A6: REM-A08. ATENCIÓN DE URGENCIA
A7: SECCIÓN A: ATENCIONES REALIZADAS EN UNIDADES DE URGENCIA DE LA RED
A8: SECCIÓN A.1: ATENCIONES REALIZADAS EN UNIDADES DE EMERGENCIA HOSPITALARIA (Establecimientos de alta y mediana complejidad)
A9: TIPO DE ATENCIÓN | B9: TOTAL | E9: RANGO ETARIO (en años) | AM9: Beneficiarios | AN9: ORIGEN DE LA PROCEDENCIA (Sólo pacientes derivados de establecimientos de la Red) | AR9: Establecimientos de otra Red | AS9: Demanda de Urgencia
E10: 0 - 4 años | G10: 5 - 9 años | I10: 10 - 14 años | K10: 15 - 19 años | M10: 20 - 24 años | O10: 25 - 29 años | Q10: 30 - 34 años | S10: 35 - 39 años | U10: 40 - 44 años | W10: 45 - 49 años | Y10: 50 - 54 años | AA10: 55 - 59 años | AC10: 60 - 64 años | AE10: 65 - 69 años | AG10: 70 - 74 años | AI10: 75 - 79 años | AK10: 80 y más años | AN10: SAPU/ SAR / SUR | AO10: Hospital Baja Complejidad | AP10: Hospital Mediana/Alta Complejidad | AQ10: Otros Establecimientos de la Red
B11: Ambos Sexos | C11: Hombres | D11: Mujeres | E11: Hombres | F11: Mujeres | G11: Hombres | H11: Mujeres | I11: Hombres | J11: Mujeres | K11: Hombres | L11: Mujeres | M11: Hombres | N11: Mujeres | O11: Hombres | P11: Mujeres | Q11: Hombres | R11: Mujeres | S11: Hombres | T11: Mujeres | U11: Hombres | V11: Mujeres | W11: Hombres | X11: Mujeres | Y11: Hombres | Z11: Mujeres | AA11: Hombres | AB11: Mujeres | AC11: Hombres | AD11: Mujeres | AE11: Hombres | AF11: Mujeres | AG11: Hombres | AH11: Mujeres | AI11: Hombres | AJ11: Mujeres | AK11: Hombres | AL11: Mujeres
A12: Atención Médica Niño y Adulto | B12: =SUM(C12+D12) -> 3843 | C12: =SUM(E12+G12+I12+K12+M12+O12+Q12+S12+U12+W12+Y12+AA12+AC12+AE12+AG12+AI12+AK12) -> 1958 | D12: =SUM(F12+H12+J12+L12+N12+P12+R12+T12+V12+X12+Z12+AB12+AD12+AF12+AH12+AJ12+AL12) -> 1885 | E12: 333 | F12: 288 | G12: 157 | H12: 146 | I12: 118 | J12: 103 | K12: 55 | L12: 75 | M12: 82 | N12: 88 | O12: 72 | P12: 102 | Q12: 98 | R12: 87 | S12: 89 | T12: 92 | U12: 93 | V12: 89 | W12: 78 | X12: 75 | Y12: 76 | Z12: 91 | AA12: 122 | AB12: 98 | AC12: 141 | AD12: 109 | AE12: 121 | AF12: 114 | AG12: 97 | AH12: 91 | AI12: 100 | AJ12: 85 | AK12: 126 | AL12: 152 | AM12: 3710 | AN12: 148 | AO12: 1 | AP12: 231 | AQ12: 51 | AR12: 551 | AS12: 4370 | AT12: =CA12&CB12&CC12&CD12&CE12&CF12&CG12 | CA12: =IF(AND($B12>0,AM12="")," * No olvide digitar la variable "&AM$9&""&". Digite CERO si no tiene",IF(AM12>$B12," * La variable "&AM$9&""&" No puede ser mayor al Total.","")) | CB12: =IF(AND($B12>0,AN12="")," * No olvide digitar la variable "&AN$9&""&" SAPU/SAR/SUR. Digite CERO si no tiene",IF(AN12>$B12," * La variable "&AN$9&""&" SAPU/SAR/SUR No puede ser mayor al Total.","")) | CC12: =IF(AND($B12>0,AO12="")," * No olvide digitar la variable "&AN$9&""&" Hospital Baja Complejidad. Digite CERO si no tiene",IF(AO12>$B12," * La variable "&AN$9&""&" Hospital Baja Complejidad No puede ser mayor al Total.","")) | CD12: =IF(AND($B12>0,AP12="")," * No olvide digitar la variable "&AN$9&""&" Hospital Mediana/Alta Complejidad. Digite CERO si no tiene",IF(AP12>$B12," * La variable "&AN$9&""&" Hospital Mediana/Alta Complejidad No puede ser mayor al Total.","")) | CE12: =IF(AND($B12>0,AQ12="")," * No olvide digitar la variable "&AN$9&""&" Otros Establecimientos de la Red. Digite CERO si no tiene",IF(AQ12>$B12," * La variable "&AN$9&""&" Otros Establecimientos de la Red No puede ser mayor al Total.","")) | CF12: =IF(AND($B12>0,AR12="")," * No olvide digitar la variable "&AR$9&""&". Digite CERO si no tiene",IF(AR12>$B12," * La variable "&AR$9&""&" No puede ser mayor al Total.","")) | CG12: =IF(AND($B12>0,AS12="")," * No olvide digitar la variable "&AS$9&""&". Digite CERO si no tiene",IF(B12>AS12," * La variable "&AS$9&""&" No puede ser menor al Total.","")) | CM12: =IF(AND($B12>0,AM12=""),1,IF(AM12>$B12,1,0)) -> 0 | CN12: =IF(AND($B12>0,AN12=""),1,IF(AN12>$B12,1,0)) -> 0 | CO12: =IF(AND($B12>0,AO12=""),1,IF(AO12>$B12,1,0)) -> 0 | CP12: =IF(AND($B12>0,AP12=""),1,IF(AP12>$B12,1,0)) -> 0 | CQ12: =IF(AND($B12>0,AQ12=""),1,IF(AQ12>$B12,1,0)) -> 0 | CR12: =IF(AND($B12>0,AR12=""),1,IF(AR12>$B12,1,0)) -> 0 | CS12: =IF(AND($B12>0,AS12=""),1,IF(B12>AS12,1,0)) -> 0
A13: Atención Médica Gineco-Obstetra | B13: =SUM(C13+D13) -> 287 | C13: =SUM(E13+G13+I13+K13+M13+O13+Q13+S13+U13+W13+Y13+AA13+AC13+AE13+AG13+AI13+AK13) -> 1 | D13: =SUM(F13+H13+J13+L13+N13+P13+R13+T13+V13+X13+Z13+AB13+AD13+AF13+AH13+AJ13+AL13) -> 286 | J13: 3 | L13: 15 | M13: 1 | N13: 56 | P13: 60 | R13: 76 | T13: 30 | V13: 23 | X13: 12 | Z13: 4 | AB13: 4 | AD13: 1 | AF13: 1 | AL13: 1 | AM13: 277 | AN13: 4 | AO13: 0 | AP13: 0 | AQ13: 2 | AR13: 18 | AS13: 547 | AT13: =CA13&CB13&CC13&CD13&CE13&CF13&CG13 | CA13: =IF(AND($B13>0,AM13="")," * No olvide digitar la variable "&AM$9&""&". Digite CERO si no tiene",IF(AM13>$B13," * La variable "&AM$9&""&" No puede ser mayor al Total.","")) | CB13: =IF(AND($B13>0,AN13="")," * No olvide digitar la variable "&AN$9&""&" SAPU/SAR/SUR. Digite CERO si no tiene",IF(AN13>$B13," * La variable "&AN$9&""&" SAPU/SAR/SUR No puede ser mayor al Total.","")) | CC13: =IF(AND($B13>0,AO13="")," * No olvide digitar la variable "&AN$9&""&" Hospital Baja Complejidad. Digite CERO si no tiene",IF(AO13>$B13," * La variable "&AN$9&""&" Hospital Baja Complejidad No puede ser mayor al Total.","")) | CD13: =IF(AND($B13>0,AP13="")," * No olvide digitar la variable "&AN$9&""&" Hospital Mediana/Alta Complejidad. Digite CERO si no tiene",IF(AP13>$B13," * La variable "&AN$9&""&" Hospital Mediana/Alta Complejidad No puede ser mayor al Total.","")) | CE13: =IF(AND($B13>0,AQ13="")," * No olvide digitar la variable "&AN$9&""&" Otros Establecimientos de la Red. Digite CERO si no tiene",IF(AQ13>$B13," * La variable "&AN$9&""&" Otros Establecimientos de la Red No puede ser mayor al Total.","")) | CF13: =IF(AND($B13>0,AR13="")," * No olvide digitar la variable "&AR$9&""&". Digite CERO si no tiene",IF(AR13>$B13," * La variable "&AR$9&""&" No puede ser mayor al Total.","")) | CG13: =IF(AND($B13>0,AS13="")," * No olvide digitar la variable "&AS$9&""&". Digite CERO si no tiene",IF(B13>AS13," * La variable "&AS$9&""&" No puede ser menor al Total.","")) | CM13: =IF(AND($B13>0,AM13=""),1,IF(AM13>$B13,1,0)) -> 0 | CN13: =IF(AND($B13>0,AN13=""),1,IF(AN13>$B13,1,0)) -> 0 | CO13: =IF(AND($B13>0,AO13=""),1,IF(AO13>$B13,1,0)) -> 0 | CP13: =IF(AND($B13>0,AP13=""),1,IF(AP13>$B13,1,0)) -> 0 | CQ13: =IF(AND($B13>0,AQ13=""),1,IF(AQ13>$B13,1,0)) -> 0 | CR13: =IF(AND($B13>0,AR13=""),1,IF(AR13>$B13,1,0)) -> 0 | CS13: =IF(AND($B13>0,AS13=""),1,IF(B13>AS13,1,0)) -> 0
A14: Atención por Matrona/ón | B14: =SUM(C14+D14) -> 235 | C14: =SUM(E14+G14+I14+K14+M14+O14+Q14+S14+U14+W14+Y14+AA14+AC14+AE14+AG14+AI14+AK14) -> 0 | D14: =SUM(F14+H14+J14+L14+N14+P14+R14+T14+V14+X14+Z14+AB14+AD14+AF14+AH14+AJ14+AL14) -> 235 | L14: 9 | N14: 39 | P14: 62 | R14: 59 | T14: 32 | V14: 13 | X14: 5 | Z14: 2 | AB14: 4 | AD14: 3 | AF14: 3 | AH14: 3 | AL14: 1 | AM14: 225 | AT14: =CA14&CB14&CC14&CD14&CE14&CF14&CG14 | CA14: =IF(AND($B14>0,AM14="")," * No olvide digitar la variable "&AM$9&""&". Digite CERO si no tiene",IF(AM14>$B14," * La variable "&AM$9&""&" No puede ser mayor al Total.","")) | CM14: =IF(AND($B14>0,AM14=""),1,IF(AM14>$B14,1,0)) -> 0
A15: Atención por Odontólogo/a | B15: =SUM(C15+D15) -> 0 | C15: =SUM(E15+G15+I15+K15+M15+O15+Q15+S15+U15+W15+Y15+AA15+AC15+AE15+AG15+AI15+AK15) -> 0 | D15: =SUM(F15+H15+J15+L15+N15+P15+R15+T15+V15+X15+Z15+AB15+AD15+AF15+AH15+AJ15+AL15) -> 0 | AT15: =CA15&CB15&CC15&CD15&CE15&CF15&CG15 | CA15: =IF(AND($B15>0,AM15="")," * No olvide digitar la variable "&AM$9&""&". Digite CERO si no tiene",IF(AM15>$B15," * La variable "&AM$9&""&" No puede ser mayor al Total.","")) | CM15: =IF(AND($B15>0,AM15=""),1,IF(AM15>$B15,1,0)) -> 0
A16: SECCIÓN A.2: ATENCIONES Y ACTIVIDADES DE URGENCIA REALIZADAS EN SAPU Y SAR
A17: ATENCIÓN | B17: TOTAL | E17: RANGO ETARIO (en años) | AM17: Beneficiarios | AN17: Atenciones por profesionales a Honorarios | AO17: Demanda de Urgencia | AP17: Por Campaña de Invierno | AQ17: Niños, Niñas, Adolescentes y Jóvenes SENAME | AR17: Niños, Niñas, Adolescentes y Jóvenes Mejor Niñez
E18: 0 - 4 años | G18: 5 - 9 años | I18: 10 - 14 años | K18: 15 - 19 años | M18: 20 - 24 años | O18: 25 - 29 años | Q18: 30 - 34 años | S18: 35 - 39 años | U18: 40 - 44 años | W18: 45 - 49 años | Y18: 50 - 54 años | AA18: 55 - 59 años | AC18: 60 - 64 años | AE18: 65 - 69 años | AG18: 70 - 74 años | AI18: 75 - 79 años | AK18: 80 y más años
B19: Ambos Sexos | C19: Hombres | D19: Mujeres | E19: Hombres | F19: Mujeres | G19: Hombres | H19: Mujeres | I19: Hombres | J19: Mujeres | K19: Hombres | L19: Mujeres | M19: Hombres | N19: Mujeres | O19: Hombres | P19: Mujeres | Q19: Hombres | R19: Mujeres | S19: Hombres | T19: Mujeres | U19: Hombres | V19: Mujeres | W19: Hombres | X19: Mujeres | Y19: Hombres | Z19: Mujeres | AA19: Hombres | AB19: Mujeres | AC19: Hombres | AD19: Mujeres | AE19: Hombres | AF19: Mujeres | AG19: Hombres | AH19: Mujeres | AI19: Hombres | AJ19: Mujeres | AK19: Hombres | AL19: Mujeres
A20: Atención Medica | B20: =SUM(C20+D20) -> 0 | C20: =SUM(E20+G20+I20+K20+M20+O20+Q20+S20+U20+W20+Y20+AA20+AC20+AE20+AG20+AI20+AK20) -> 0 | D20: =SUM(F20+H20+J20+L20+N20+P20+R20+T20+V20+X20+Z20+AB20+AD20+AF20+AH20+AJ20+AL20) -> 0 | AS20: =$CA20&$CB20&$CC20&$CD20&$CE20&$CF20 | CA20: =IF(AND($B20>0,AM20="")," * No olvide digitar la variable "&AM$17&""&". Digite CERO si no tiene",IF(AM20>$B20," * La variable "&AM$20&""&" No puede ser mayor al Total.","")) | CB20: =IF(AND($B20>0,AN20="")," * No olvide digitar la variable "&AN$17&""&". Digite CERO si no tiene",IF(AN20>$B20," * La variable "&AN$17&""&" No puede ser mayor al Total.","")) | CC20: =IF(AND($B20>0,AO20="")," * No olvide digitar la variable "&AO$17&""&". Digite CERO si no tiene",IF(B20>AO20," * La variable "&AO$17&""&" No puede ser menor al Total.","")) | CD20: =IF(AND($B20>0,AP20="")," * No olvide digitar la variable "&AP$17&""&". Digite CERO si no tiene",IF(AP20>$B20," * La variable "&AP$17&""&" No puede ser mayor al Total.","")) | CE20: =IF(AND($B20>0,AQ20="")," * No olvide digitar la variable "&AQ$17&""&". Digite CERO si no tiene",IF(AQ20>$B20," * La variable "&AQ$17&""&" No puede ser mayor al Total.","")) | CF20: =IF(AND($B20>0,AR20="")," * No olvide digitar la variable "&AR$17&""&". Digite CERO si no tiene",IF(AR20>$B20," * La variable "&AR$17&""&" No puede ser mayor al Total.","")) | CM20: =IF(AND($B20>0,AM20=""),1,IF(AM20>$B20,1,0)) -> 0 | CN20: =IF(AND($B20>0,AN20=""),1,IF(AN20>$B20,1,0)) -> 0 | CO20: =IF(AND($B20>0,AO20=""),1,IF(B20>$AO20,1,0)) -> 0 | CP20: =IF(AND($B20>0,AP20=""),1,IF(AP20>$B20,1,0)) -> 0 | CQ20: =IF(AND($B20>0,AQ20=""),1,IF(AQ20>$B20,1,0)) -> 0 | CR20: =IF(AND($B20>0,AR20=""),1,IF(AR20>$B20,1,0)) -> 0
A21: Enfermería | B21: =SUM(C21+D21) -> 0 | C21: =SUM(E21+G21+I21+K21+M21+O21+Q21+S21+U21+W21+Y21+AA21+AC21+AE21+AG21+AI21+AK21) -> 0 | D21: =SUM(F21+H21+J21+L21+N21+P21+R21+T21+V21+X21+Z21+AB21+AD21+AF21+AH21+AJ21+AL21) -> 0 | AS21: =$CA21&$CB21&$CC21&$CD21&$CE21&$CF21 | CA21: =IF(AND($B21>0,AM21="")," * No olvide digitar la variable "&AM$17&""&". Digite CERO si no tiene",IF(AM21>$B21," * La variable "&AM$20&""&" No puede ser mayor al Total.","")) | CB21: =IF(AND($B21>0,AN21="")," * No olvide digitar la variable "&AN$17&""&". Digite CERO si no tiene",IF(AN21>$B21," * La variable "&AN$17&""&" No puede ser mayor al Total.","")) | CC21: =IF(AND($B21>0,AO21="")," * No olvide digitar la variable "&AO$17&""&". Digite CERO si no tiene",IF(B21>AO21," * La variable "&AO$17&""&" No puede ser menor al Total.","")) | CD21: =IF(AND($B21>0,AP21="")," * No olvide digitar la variable "&AP$17&""&". Digite CERO si no tiene",IF(AP21>$B21," * La variable "&AP$17&""&" No puede ser mayor al Total.","")) | CE21: =IF(AND($B21>0,AQ21="")," * No olvide digitar la variable "&AQ$17&""&". Digite CERO si no tiene",IF(AQ21>$B21," * La variable "&AQ$17&""&" No puede ser mayor al Total.","")) | CF21: =IF(AND($B21>0,AR21="")," * No olvide digitar la variable "&AR$17&""&". Digite CERO si no tiene",IF(AR21>$B21," * La variable "&AR$17&""&" No puede ser mayor al Total.","")) | CM21: =IF(AND($B21>0,AM21=""),1,IF(AM21>$B21,1,0)) -> 0 | CN21: =IF(AND($B21>0,AN21=""),1,IF(AN21>$B21,1,0)) -> 0 | CO21: =IF(AND($B21>0,AO21=""),1,IF(B21>$AO21,1,0)) -> 0 | CP21: =IF(AND($B21>0,AP21=""),1,IF(AP21>$B21,1,0)) -> 0 | CQ21: =IF(AND($B21>0,AQ21=""),1,IF(AQ21>$B21,1,0)) -> 0 | CR21: =IF(AND($B21>0,AR21=""),1,IF(AR21>$B21,1,0)) -> 0
A22: Matronería | B22: =SUM(C22+D22) -> 0 | C22: =SUM(E22+G22+I22+K22+M22+O22+Q22+S22+U22+W22+Y22+AA22+AC22+AE22+AG22+AI22+AK22) -> 0 | D22: =SUM(F22+H22+J22+L22+N22+P22+R22+T22+V22+X22+Z22+AB22+AD22+AF22+AH22+AJ22+AL22) -> 0 | AS22: =$CA22&$CB22&$CC22&$CD22&$CE22&$CF22 | CA22: =IF(AND($B22>0,AM22="")," * No olvide digitar la variable "&AM$17&""&". Digite CERO si no tiene",IF(AM22>$B22," * La variable "&AM$20&""&" No puede ser mayor al Total.","")) | CB22: =IF(AND($B22>0,AN22="")," * No olvide digitar la variable "&AN$17&""&". Digite CERO si no tiene",IF(AN22>$B22," * La variable "&AN$17&""&" No puede ser mayor al Total.","")) | CC22: =IF(AND($B22>0,AO22="")," * No olvide digitar la variable "&AO$17&""&". Digite CERO si no tiene",IF(B22>AO22," * La variable "&AO$17&""&" No puede ser menor al Total.","")) | CE22: =IF(AND($B22>0,AQ22="")," * No olvide digitar la variable "&AQ$17&""&". Digite CERO si no tiene",IF(AQ22>$B22," * La variable "&AQ$17&""&" No puede ser mayor al Total.","")) | CF22: =IF(AND($B22>0,AR22="")," * No olvide digitar la variable "&AR$17&""&". Digite CERO si no tiene",IF(AR22>$B22," * La variable "&AR$17&""&" No puede ser mayor al Total.","")) | CM22: =IF(AND($B22>0,AM22=""),1,IF(AM22>$B22,1,0)) -> 0 | CN22: =IF(AND($B22>0,AN22=""),1,IF(AN22>$B22,1,0)) -> 0 | CO22: =IF(AND($B22>0,AO22=""),1,IF(B22>$AO22,1,0)) -> 0 | CQ22: =IF(AND($B22>0,AQ22=""),1,IF(AQ22>$B22,1,0)) -> 0 | CR22: =IF(AND($B22>0,AR22=""),1,IF(AR22>$B22,1,0)) -> 0
A23: Kinesiología | B23: =SUM(C23+D23) -> 0 | C23: =SUM(E23+G23+I23+K23+M23+O23+Q23+S23+U23+W23+Y23+AA23+AC23+AE23+AG23+AI23+AK23) -> 0 | D23: =SUM(F23+H23+J23+L23+N23+P23+R23+T23+V23+X23+Z23+AB23+AD23+AF23+AH23+AJ23+AL23) -> 0 | AS23: =$CA23&$CB23&$CC23&$CD23&$CE23&$CF23 | CA23: =IF(AND($B23>0,AM23="")," * No olvide digitar la variable "&AM$17&""&". Digite CERO si no tiene",IF(AM23>$B23," * La variable "&AM$20&""&" No puede ser mayor al Total.","")) | CB23: =IF(AND($B23>0,AN23="")," * No olvide digitar la variable "&AN$17&""&". Digite CERO si no tiene",IF(AN23>$B23," * La variable "&AN$17&""&" No puede ser mayor al Total.","")) | CC23: =IF(AND($B23>0,AO23="")," * No olvide digitar la variable "&AO$17&""&". Digite CERO si no tiene",IF(B23>AO23," * La variable "&AO$17&""&" No puede ser menor al Total.","")) | CD23: =IF(AND($B23>0,AP23="")," * No olvide digitar la variable "&AP$17&""&". Digite CERO si no tiene",IF(AP23>$B23," * La variable "&AP$17&""&" No puede ser mayor al Total.","")) | CE23: =IF(AND($B23>0,AQ23="")," * No olvide digitar la variable "&AQ$17&""&". Digite CERO si no tiene",IF(AQ23>$B23," * La variable "&AQ$17&""&" No puede ser mayor al Total.","")) | CF23: =IF(AND($B23>0,AR23="")," * No olvide digitar la variable "&AR$17&""&". Digite CERO si no tiene",IF(AR23>$B23," * La variable "&AR$17&""&" No puede ser mayor al Total.","")) | CM23: =IF(AND($B23>0,AM23=""),1,IF(AM23>$B23,1,0)) -> 0 | CN23: =IF(AND($B23>0,AN23=""),1,IF(AN23>$B23,1,0)) -> 0 | CO23: =IF(AND($B23>0,AO23=""),1,IF(B23>$AO23,1,0)) -> 0 | CP23: =IF(AND($B23>0,AP23=""),1,IF(AP23>$B23,1,0)) -> 0 | CQ23: =IF(AND($B23>0,AQ23=""),1,IF(AQ23>$B23,1,0)) -> 0 | CR23: =IF(AND($B23>0,AR23=""),1,IF(AR23>$B23,1,0)) -> 0
A24: Psicología | B24: =SUM(C24+D24) -> 0 | C24: =SUM(E24+G24+I24+K24+M24+O24+Q24+S24+U24+W24+Y24+AA24+AC24+AE24+AG24+AI24+AK24) -> 0 | D24: =SUM(F24+H24+J24+L24+N24+P24+R24+T24+V24+X24+Z24+AB24+AD24+AF24+AH24+AJ24+AL24) -> 0 | AS24: =$CA24&$CB24&$CC24&$CD24&$CE24&$CF24 | CA24: =IF(AND($B24>0,AM24="")," * No olvide digitar la variable "&AM$17&""&". Digite CERO si no tiene",IF(AM24>$B24," * La variable "&AM$17&""&" No puede ser mayor al Total.","")) | CB24: =IF(AND($B24>0,AN24="")," * No olvide digitar la variable "&AN$17&""&". Digite CERO si no tiene",IF(AN24>$B24," * La variable "&AN$17&""&" No puede ser mayor al Total.","")) | CE24: =IF(AND($B24>0,AQ24="")," * No olvide digitar la variable "&AQ$17&""&" Otros Establecimientos de la Red. Digite CERO si no tiene",IF(AQ24>$B24," * La variable "&AQ$17&""&" Otros Establecimientos de la Red No puede ser mayor al Total.","")) | CF24: =IF(AND($B24>0,AR24="")," * No olvide digitar la variable "&AR$17&""&". Digite CERO si no tiene",IF(AR24>$B24," * La variable "&AR$17&""&" No puede ser mayor al Total.","")) | CM24: =IF(AND($B24>0,AM24=""),1,IF(AM24>$B24,1,0)) -> 0 | CN24: =IF(AND($B24>0,AN24=""),1,IF(AN24>$B24,1,0)) -> 0 | CQ24: =IF(AND($B24>0,AQ24=""),1,IF(AQ24>$B24,1,0)) -> 0 | CR24: =IF(AND($B24>0,AR24=""),1,IF(AR24>$B24,1,0)) -> 0
A25: Trabajo Social | B25: =SUM(C25+D25) -> 0 | C25: =SUM(E25+G25+I25+K25+M25+O25+Q25+S25+U25+W25+Y25+AA25+AC25+AE25+AG25+AI25+AK25) -> 0 | D25: =SUM(F25+H25+J25+L25+N25+P25+R25+T25+V25+X25+Z25+AB25+AD25+AF25+AH25+AJ25+AL25) -> 0 | AS25: =$CA25&$CB25&$CC25&$CD25&$CE25&$CF25 | CA25: =IF(AND($B25>0,AM25="")," * No olvide digitar la variable "&AM$17&""&". Digite CERO si no tiene",IF(AM25>$B25," * La variable "&AM$17&""&" No puede ser mayor al Total.","")) | CB25: =IF(AND($B25>0,AN25="")," * No olvide digitar la variable "&AN$17&""&". Digite CERO si no tiene",IF(AN25>$B25," * La variable "&AN$17&""&" No puede ser mayor al Total.","")) | CE25: =IF(AND($B25>0,AQ25="")," * No olvide digitar la variable "&AQ$17&""&" Otros Establecimientos de la Red. Digite CERO si no tiene",IF(AQ25>$B25," * La variable "&AQ$17&""&" Otros Establecimientos de la Red No puede ser mayor al Total.","")) | CF25: =IF(AND($B25>0,AR25="")," * No olvide digitar la variable "&AR$17&""&". Digite CERO si no tiene",IF(AR25>$B25," * La variable "&AR$17&""&" No puede ser mayor al Total.","")) | CM25: =IF(AND($B25>0,AM25=""),1,IF(AM25>$B25,1,0)) -> 0 | CN25: =IF(AND($B25>0,AN25=""),1,IF(AN25>$B25,1,0)) -> 0 | CQ25: =IF(AND($B25>0,AQ25=""),1,IF(AQ25>$B25,1,0)) -> 0 | CR25: =IF(AND($B25>0,AR25=""),1,IF(AR25>$B25,1,0)) -> 0
A26: Dupla Psicosocial | B26: =SUM(C26+D26) -> 0 | C26: =SUM(E26+G26+I26+K26+M26+O26+Q26+S26+U26+W26+Y26+AA26+AC26+AE26+AG26+AI26+AK26) -> 0 | D26: =SUM(F26+H26+J26+L26+N26+P26+R26+T26+V26+X26+Z26+AB26+AD26+AF26+AH26+AJ26+AL26) -> 0 | AS26: =$CA26&$CB26&$CC26&$CD26&$CE26&$CF26 | CA26: =IF(AND($B26>0,AM26="")," * No olvide digitar la variable "&AM$17&""&". Digite CERO si no tiene",IF(AM26>$B26," * La variable "&AM$17&""&" No puede ser mayor al Total.","")) | CB26: =IF(AND($B26>0,AN26="")," * No olvide digitar la variable "&AN$17&""&". Digite CERO si no tiene",IF(AN26>$B26," * La variable "&AN$17&""&" No puede ser mayor al Total.","")) | CE26: =IF(AND($B26>0,AQ26="")," * No olvide digitar la variable "&AQ$17&""&" Otros Establecimientos de la Red. Digite CERO si no tiene",IF(AQ26>$B26," * La variable "&AQ$17&""&" Otros Establecimientos de la Red No puede ser mayor al Total.","")) | CF26: =IF(AND($B26>0,AR26="")," * No olvide digitar la variable "&AR$17&""&". Digite CERO si no tiene",IF(AR26>$B26," * La variable "&AR$17&""&" No puede ser mayor al Total.","")) | CM26: =IF(AND($B26>0,AM26=""),1,IF(AM26>$B26,1,0)) -> 0 | CN26: =IF(AND($B26>0,AN26=""),1,IF(AN26>$B26,1,0)) -> 0 | CQ26: =IF(AND($B26>0,AQ26=""),1,IF(AQ26>$B26,1,0)) -> 0 | CR26: =IF(AND($B26>0,AR26=""),1,IF(AR26>$B26,1,0)) -> 0
A27: SECCIÓN A.3: ATENCIONES DE URGENCIA REALIZADAS EN ESTABLECIMIENTOS DE BAJA COMPLEJIDAD
A28: PROFESIONAL | B28: TOTAL | E28: RANGO ETARIO (en años) | AM28: Beneficiarios | AN28: Demanda de Urgencia
E29: 0 - 4 | G29: 5 - 9 | I29: 10 - 14 | K29: 15 - 19 | M29: 20 - 24 | O29: 25 - 29 | Q29: 30 - 34 | S29: 35 - 39 | U29: 40 - 44 | W29: 45 - 49 | Y29: 50 - 54 | AA29: 55 - 59 | AC29: 60 - 64 | AE29: 65 - 69 | AG29: 70 - 74 | AI29: 75 - 79 | AK29: 80 y mas
B30: Ambos Sexos | C30: Hombres | D30: Mujeres | E30: Hombres | F30: Mujeres | G30: Hombres | H30: Mujeres | I30: Hombres | J30: Mujeres | K30: Hombres | L30: Mujeres | M30: Hombres | N30: Mujeres | O30: Hombres | P30: Mujeres | Q30: Hombres | R30: Mujeres | S30: Hombres | T30: Mujeres | U30: Hombres | V30: Mujeres | W30: Hombres | X30: Mujeres | Y30: Hombres | Z30: Mujeres | AA30: Hombres | AB30: Mujeres | AC30: Hombres | AD30: Mujeres | AE30: Hombres | AF30: Mujeres | AG30: Hombres | AH30: Mujeres | AI30: Hombres | AJ30: Mujeres | AK30: Hombres | AL30: Mujeres
A31: Médico | B31: =SUM(C31+D31) -> 0 | C31: =SUM(E31+G31+I31+K31+M31+O31+Q31+S31+U31+W31+Y31+AA31+AC31+AE31+AG31+AI31+AK31) -> 0 | D31: =SUM(F31+H31+J31+L31+N31+P31+R31+T31+V31+X31+Z31+AB31+AD31+AF31+AH31+AJ31+AL31) -> 0 | AO31: =CA31&CB31 | CA31: =IF(AND($B31>0,AM31="")," * No olvide digitar la variable "&AM$28&""&". Digite CERO si no tiene",IF(AM31>$B31," * La variable "&AM$28&""&" No puede ser mayor al Total.","")) | CB31: =IF(AND($B31>0,AN31="")," * No olvide digitar la variable "&AN$28&""&". Digite CERO si no tiene",IF(B31>AN31," * La variable "&AN$28&""&" No puede ser menor al Total.","")) | CM31: =IF(AND($B31>0,AM31=""),1,IF(AM31>$B31,1,0)) -> 0 | CN31: =IF(AND($B31>0,AN31=""),1,IF(B31>$AN31,1,0)) -> 0
A32: Enfermera /o | B32: =SUM(C32+D32) -> 0 | C32: =SUM(E32+G32+I32+K32+M32+O32+Q32+S32+U32+W32+Y32+AA32+AC32+AE32+AG32+AI32+AK32) -> 0 | D32: =SUM(F32+H32+J32+L32+N32+P32+R32+T32+V32+X32+Z32+AB32+AD32+AF32+AH32+AJ32+AL32) -> 0 | AO32: =CA32 | CA32: =IF(AND($B32>0,AM32="")," * No olvide digitar la variable "&AM$28&""&". Digite CERO si no tiene",IF(AM32>$B32," * La variable "&AM$28&""&" No puede ser mayor al Total.","")) | CM32: =IF(AND($B32>0,AM32=""),1,IF(AM32>$B32,1,0)) -> 0
A33: Matrona /ón | B33: =SUM(C33+D33) -> 0 | C33: =SUM(E33+G33+I33+K33+M33+O33+Q33+S33+U33+W33+Y33+AA33+AC33+AE33+AG33+AI33+AK33) -> 0 | D33: =SUM(F33+H33+J33+L33+N33+P33+R33+T33+V33+X33+Z33+AB33+AD33+AF33+AH33+AJ33+AL33) -> 0 | AO33: =CA33 | CA33: =IF(AND($B33>0,AM33="")," * No olvide digitar la variable "&AM$28&""&". Digite CERO si no tiene",IF(AM33>$B33," * La variable "&AM$28&""&" No puede ser mayor al Total.","")) | CM33: =IF(AND($B33>0,AM33=""),1,IF(AM33>$B33,1,0)) -> 0
A34: Kinesiólogo/a | B34: =SUM(C34+D34) -> 0 | C34: =SUM(E34+G34+I34+K34+M34+O34+Q34+S34+U34+W34+Y34+AA34+AC34+AE34+AG34+AI34+AK34) -> 0 | D34: =SUM(F34+H34+J34+L34+N34+P34+R34+T34+V34+X34+Z34+AB34+AD34+AF34+AH34+AJ34+AL34) -> 0 | AO34: =CA34 | CA34: =IF(AND($B34>0,AM34="")," * No olvide digitar la variable "&AM$28&""&". Digite CERO si no tiene",IF(AM34>$B34," * La variable "&AM$28&""&" No puede ser mayor al Total.","")) | CM34: =IF(AND($B34>0,AM34=""),1,IF(AM34>$B34,1,0)) -> 0
A35: Técnico en Enfermería | B35: =SUM(C35+D35) -> 0 | C35: =SUM(E35+G35+I35+K35+M35+O35+Q35+S35+U35+W35+Y35+AA35+AC35+AE35+AG35+AI35+AK35) -> 0 | D35: =SUM(F35+H35+J35+L35+N35+P35+R35+T35+V35+X35+Z35+AB35+AD35+AF35+AH35+AJ35+AL35) -> 0 | AO35: =CA35 | CA35: =IF(AND($B35>0,AM35="")," * No olvide digitar la variable "&AM$28&""&". Digite CERO si no tiene",IF(AM35>$B35," * La variable "&AM$28&""&" No puede ser mayor al Total.","")) | CM35: =IF(AND($B35>0,AM35=""),1,IF(AM35>$B35,1,0)) -> 0
A36: Otros Profesionales | B36: =SUM(C36+D36) -> 0 | C36: =SUM(E36+G36+I36+K36+M36+O36+Q36+S36+U36+W36+Y36+AA36+AC36+AE36+AG36+AI36+AK36) -> 0 | D36: =SUM(F36+H36+J36+L36+N36+P36+R36+T36+V36+X36+Z36+AB36+AD36+AF36+AH36+AJ36+AL36) -> 0 | AO36: =CA36 | CA36: =IF(AND($B36>0,AM36="")," * No olvide digitar la variable "&AM$28&""&". Digite CERO si no tiene",IF(AM36>$B36," * La variable "&AM$28&""&" No puede ser mayor al Total.","")) | CM36: =IF(AND($B36>0,AM36=""),1,IF(AM36>$B36,1,0)) -> 0
A37: SECCIÓN A.4: ATENCIONES DE URGENCIA REALIZADAS EN ESTABLECIMIENTOS ATENCIÓN PRIMARIA NO SAPU
A38: PROFESIONAL | B38: TOTAL | E38: RANGO ETARIO (en años) | AM38: Beneficiarios | AN38: Demanda de Urgencia
E39: 0 - 4 años | G39: 5 - 9 años | I39: 10 - 14 años | K39: 15 - 19 años | M39: 20 - 24 años | O39: 25 - 29 años | Q39: 30 - 34 años | S39: 35 - 39 años | U39: 40 - 44 años | W39: 45 - 49 años | Y39: 50 - 54 años | AA39: 55 - 59 años | AC39: 60 - 64 años | AE39: 65 - 69 años | AG39: 70 - 74 años | AI39: 75 - 79 años | AK39: 80 y más años
B40: Ambos Sexos | C40: Hombres | D40: Mujeres | E40: Hombres | F40: Mujeres | G40: Hombres | H40: Mujeres | I40: Hombres | J40: Mujeres | K40: Hombres | L40: Mujeres | M40: Hombres | N40: Mujeres | O40: Hombres | P40: Mujeres | Q40: Hombres | R40: Mujeres | S40: Hombres | T40: Mujeres | U40: Hombres | V40: Mujeres | W40: Hombres | X40: Mujeres | Y40: Hombres | Z40: Mujeres | AA40: Hombres | AB40: Mujeres | AC40: Hombres | AD40: Mujeres | AE40: Hombres | AF40: Mujeres | AG40: Hombres | AH40: Mujeres | AI40: Hombres | AJ40: Mujeres | AK40: Hombres | AL40: Mujeres
...

Sheet FEBRERO
A1: SERVICIO DE SALUD
A2: =CONCATENATE("COMUNA: ",[3]NOMBRE!B2, " (",[3]NOMBRE!C2,[3]NOMBRE!D2,[3]NOMBRE!E2,[3]NOMBRE!F2,[3]NOMBRE!G2,")") -> COMUNA: LINARES (07401)
A3: =CONCATENATE("ESTABLECIMIENTO/ESTRATEGIA: ", [3]NOMBRE!B3, " (",[3]NOMBRE!C3,[3]NOMBRE!D3,[3]NOMBRE!E3,[3]NOMBRE!F3,[3]NOMBRE!G3,[3]NOMBRE!H3,")") -> ESTABLECIMIENTO/ESTRATEGIA: HOSPITAL PRESIDENTE CARLOS IBAÑEZ DEL CAMPO (116108)
A4: =CONCATENATE("MES: ",[3]NOMBRE!B6, " (",[3]NOMBRE!C6,[3]NOMBRE!D6,")") -> MES: FEBRERO (02)
A5: =CONCATENATE("AÑO: ",[3]NOMBRE!B7) -> AÑO: 2025
A6: REM-A08. ATENCIÓN DE URGENCIA
A7: SECCIÓN A: ATENCIONES REALIZADAS EN UNIDADES DE URGENCIA DE LA RED
A8: SECCIÓN A.1: ATENCIONES REALIZADAS EN UNIDADES DE EMERGENCIA HOSPITALARIA (Establecimientos de alta y mediana complejidad)
A9: TIPO DE ATENCIÓN | B9: TOTAL | E9: RANGO ETARIO (en años) | AM9: Beneficiarios | AN9: ORIGEN DE LA PROCEDENCIA (Sólo pacientes derivados de establecimientos de la Red) | AR9: Establecimientos de otra Red | AS9: Demanda de Urgencia
E10: 0 - 4 años | G10: 5 - 9 años | I10: 10 - 14 años | K10: 15 - 19 años | M10: 20 - 24 años | O10: 25 - 29 años | Q10: 30 - 34 años | S10: 35 - 39 años | U10: 40 - 44 años | W10: 45 - 49 años | Y10: 50 - 54 años | AA10: 55 - 59 años | AC10: 60 - 64 años | AE10: 65 - 69 años | AG10: 70 - 74 años | AI10: 75 - 79 años | AK10: 80 y más años | AN10: SAPU/ SAR / SUR | AO10: Hospital Baja Complejidad | AP10: Hospital Mediana/Alta Complejidad | AQ10: Otros Establecimientos de la Red
B11: Ambos Sexos | C11: Hombres | D11: Mujeres | E11: Hombres | F11: Mujeres | G11: Hombres | H11: Mujeres | I11: Hombres | J11: Mujeres | K11: Hombres | L11: Mujeres | M11: Hombres | N11: Mujeres | O11: Hombres | P11: Mujeres | Q11: Hombres | R11: Mujeres | S11: Hombres | T11: Mujeres | U11: Hombres | V11: Mujeres | W11: Hombres | X11: Mujeres | Y11: Hombres | Z11: Mujeres | AA11: Hombres | AB11: Mujeres | AC11: Hombres | AD11: Mujeres | AE11: Hombres | AF11: Mujeres | AG11: Hombres | AH11: Mujeres | AI11: Hombres | AJ11: Mujeres | AK11: Hombres | AL11: Mujeres
A12: Atención Médica Niño y Adulto | B12: =SUM(C12+D12) -> 3494 | C12: =SUM(E12+G12+I12+K12+M12+O12+Q12+S12+U12+W12+Y12+AA12+AC12+AE12+AG12+AI12+AK12) -> 1722 | D12: =SUM(F12+H12+J12+L12+N12+P12+R12+T12+V12+X12+Z12+AB12+AD12+AF12+AH12+AJ12+AL12) -> 1772 | E12: 269 | F12: 236 | G12: 106 | H12: 107 | I12: 116 | J12: 89 | K12: 79 | L12: 83 | M12: 70 | N12: 86 | O12: 79 | P12: 90 | Q12: 86 | R12: 94 | S12: 80 | T12: 102 | U12: 88 | V12: 93 | W12: 70 | X12: 91 | Y12: 77 | Z12: 72 | AA12: 82 | AB12: 109 | AC12: 109 | AD12: 102 | AE12: 94 | AF12: 105 | AG12: 90 | AH12: 99 | AI12: 115 | AJ12: 84 | AK12: 112 | AL12: 130 | AM12: 3359 | AN12: 125 | AO12: 1 | AP12: 201 | AQ12: 31 | AR12: 508 | AS12: 3928 | AT12: =CA12&CB12&CC12&CD12&CE12&CF12&CG12 | CA12: =IF(AND($B12>0,AM12="")," * No olvide digitar la variable "&AM$9&""&". Digite CERO si no tiene",IF(AM12>$B12," * La variable "&AM$9&""&" No puede ser mayor al Total.","")) | CB12: =IF(AND($B12>0,AN12="")," * No olvide digitar la variable "&AN$9&""&" SAPU/SAR/SUR. Digite CERO si no tiene",IF(AN12>$B12," * La variable "&AN$9&""&" SAPU/SAR/SUR No puede ser mayor al Total.","")) | CC12: =IF(AND($B12>0,AO12="")," * No olvide digitar la variable "&AN$9&""&" Hospital Baja Complejidad. Digite CERO si no tiene",IF(AO12>$B12," * La variable "&AN$9&""&" Hospital Baja Complejidad No puede ser mayor al Total.","")) | CD12: =IF(AND($B12>0,AP12="")," * No olvide digitar la variable "&AN$9&""&" Hospital Mediana/Alta Complejidad. Digite CERO si no tiene",IF(AP12>$B12," * La variable "&AN$9&""&" Hospital Mediana/Alta Complejidad No puede ser mayor al Total.","")) | CE12: =IF(AND($B12>0,AQ12="")," * No olvide digitar la variable "&AN$9&""&" Otros Establecimientos de la Red. Digite CERO si no tiene",IF(AQ12>$B12," * La variable "&AN$9&""&" Otros Establecimientos de la Red No puede ser mayor al Total.","")) | CF12: =IF(AND($B12>0,AR12="")," * No olvide digitar la variable "&AR$9&""&". Digite CERO si no tiene",IF(AR12>$B12," * La variable "&AR$9&""&" No puede ser mayor al Total.","")) | CG12: =IF(AND($B12>0,AS12="")," * No olvide digitar la variable "&AS$9&""&". Digite CERO si no tiene",IF(B12>AS12," * La variable "&AS$9&""&" No puede ser menor al Total.","")) | CM12: =IF(AND($B12>0,AM12=""),1,IF(AM12>$B12,1,0)) -> 0 | CN12: =IF(AND($B12>0,AN12=""),1,IF(AN12>$B12,1,0)) -> 0 | CO12: =IF(AND($B12>0,AO12=""),1,IF(AO12>$B12,1,0)) -> 0 | CP12: =IF(AND($B12>0,AP12=""),1,IF(AP12>$B12,1,0)) -> 0 | CQ12: =IF(AND($B12>0,AQ12=""),1,IF(AQ12>$B12,1,0)) -> 0 | CR12: =IF(AND($B12>0,AR12=""),1,IF(AR12>$B12,1,0)) -> 0 | CS12: =IF(AND($B12>0,AS12=""),1,IF(B12>AS12,1,0)) -> 0
A13: Atención Médica Gineco-Obstetra | B13: =SUM(C13+D13) -> 304 | C13: =SUM(E13+G13+I13+K13+M13+O13+Q13+S13+U13+W13+Y13+AA13+AC13+AE13+AG13+AI13+AK13) -> 0 | D13: =SUM(F13+H13+J13+L13+N13+P13+R13+T13+V13+X13+Z13+AB13+AD13+AF13+AH13+AJ13+AL13) -> 304 | J13: 2 | L13: 21 | N13: 47 | P13: 83 | R13: 54 | T13: 48 | V13: 19 | X13: 11 | Z13: 10 | AB13: 2 | AD13: 2 | AF13: 2 | AH13: 1 | AL13: 2 | AM13: 301 | AN13: 8 | AO13: 0 | AP13: 5 | AQ13: 3 | AR13: 33 | AS13: 523 | AT13: =CA13&CB13&CC13&CD13&CE13&CF13&CG13 | CA13: =IF(AND($B13>0,AM13="")," * No olvide digitar la variable "&AM$9&""&". Digite CERO si no tiene",IF(AM13>$B13," * La variable "&AM$9&""&" No puede ser mayor al Total.","")) | CB13: =IF(AND($B13>0,AN13="")," * No olvide digitar la variable "&AN$9&""&" SAPU/SAR/SUR. Digite CERO si no tiene",IF(AN13>$B13," * La variable "&AN$9&""&" SAPU/SAR/SUR No puede ser mayor al Total.","")) | CC13: =IF(AND($B13>0,AO13="")," * No olvide digitar la variable "&AN$9&""&" Hospital Baja Complejidad. Digite CERO si no tiene",IF(AO13>$B13," * La variable "&AN$9&""&" Hospital Baja Complejidad No puede ser mayor al Total.","")) | CD13: =IF(AND($B13>0,AP13="")," * No olvide digitar la variable "&AN$9&""&" Hospital Mediana/Alta Complejidad. Digite CERO si no tiene",IF(AP13>$B13," * La variable "&AN$9&""&" Hospital Mediana/Alta Complejidad No puede ser mayor al Total.","")) | CE13: =IF(AND($B13>0,AQ13="")," * No olvide digitar la variable "&AN$9&""&" Otros Establecimientos de la Red. Digite CERO si no tiene",IF(AQ13>$B13," * La variable "&AN$9&""&" Otros Establecimientos de la Red No puede ser mayor al Total.","")) | CF13: =IF(AND($B13>0,AR13="")," * No olvide digitar la variable "&AR$9&""&". Digite CERO si no tiene",IF(AR13>$B13," * La variable "&AR$9&""&" No puede ser mayor al Total.","")) | CG13: =IF(AND($B13>0,AS13="")," * No olvide digitar la variable "&AS$9&""&". Digite CERO si no tiene",IF(B13>AS13," * La variable "&AS$9&""&" No puede ser menor al Total.","")) | CM13: =IF(AND($B13>0,AM13=""),1,IF(AM13>$B13,1,0)) -> 0 | CN13: =IF(AND($B13>0,AN13=""),1,IF(AN13>$B13,1,0)) -> 0 | CO13: =IF(AND($B13>0,AO13=""),1,IF(AO13>$B13,1,0)) -> 0 | CP13: =IF(AND($B13>0,AP13=""),1,IF(AP13>$B13,1,0)) -> 0 | CQ13: =IF(AND($B13>0,AQ13=""),1,IF(AQ13>$B13,1,0)) -> 0 | CR13: =IF(AND($B13>0,AR13=""),1,IF(AR13>$B13,1,0)) -> 0 | CS13: =IF(AND($B13>0,AS13=""),1,IF(B13>AS13,1,0)) -> 0
A14: Atención por Matrona/ón | B14: =SUM(C14+D14) -> 192 | C14: =SUM(E14+G14+I14+K14+M14+O14+Q14+S14+U14+W14+Y14+AA14+AC14+AE14+AG14+AI14+AK14) -> 3 | D14: =SUM(F14+H14+J14+L14+N14+P14+R14+T14+V14+X14+Z14+AB14+AD14+AF14+AH14+AJ14+AL14) -> 189 | L14: 5 | M14: 1 | N14: 30 | P14: 44 | R14: 38 | T14: 33 | V14: 15 | X14: 11 | Z14: 2 | AB14: 2 | AD14: 6 | AF14: 1 | AH14: 2 | AK14: 2 | AM14: 187 | AT14: =CA14&CB14&CC14&CD14&CE14&CF14&CG14 | CA14: =IF(AND($B14>0,AM14="")," * No olvide digitar la variable "&AM$9&""&". Digite CERO si no tiene",IF(AM14>$B14," * La variable "&AM$9&""&" No puede ser mayor al Total.","")) | CM14: =IF(AND($B14>0,AM14=""),1,IF(AM14>$B14,1,0)) -> 0
A15: Atención por Odontólogo/a | B15: =SUM(C15+D15) -> 0 | C15: =SUM(E15+G15+I15+K15+M15+O15+Q15+S15+U15+W15+Y15+AA15+AC15+AE15+AG15+AI15+AK15) -> 0 | D15: =SUM(F15+H15+J15+L15+N15+P15+R15+T15+V15+X15+Z15+AB15+AD15+AF15+AH15+AJ15+AL15) -> 0 | AT15: =CA15&CB15&CC15&CD15&CE15&CF15&CG15 | CA15: =IF(AND($B15>0,AM15="")," * No olvide digitar la variable "&AM$9&""&". Digite CERO si no tiene",IF(AM15>$B15," * La variable "&AM$9&""&" No puede ser mayor al Total.","")) | CM15: =IF(AND($B15>0,AM15=""),1,IF(AM15>$B15,1,0)) -> 0
A16: SECCIÓN A.2: ATENCIONES Y ACTIVIDADES DE URGENCIA REALIZADAS EN SAPU Y SAR
A17: ATENCIÓN | B17: TOTAL | E17: RANGO ETARIO (en años) | AM17: Beneficiarios | AN17: Atenciones por profesionales a Honorarios | AO17: Demanda de Urgencia | AP17: Por Campaña de Invierno | AQ17: Niños, Niñas, Adolescentes y Jóvenes SENAME | AR17: Niños, Niñas, Adolescentes y Jóvenes Mejor Niñez
