Workbook

Sheet CONSOLIDADO
A1: SERVICIO DE SALUD
A2: =CONCATENATE("COMUNA: ",[1]NOMBRE!B2, " (",[1]NOMBRE!C2,[1]NOMBRE!D2,[1]NOMBRE!E2,[1]NOMBRE!F2,[1]NOMBRE!G2,")") -> COMUNA: 0 (00000)
A3: =CONCATENATE("ESTABLECIMIENTO/ESTRATEGIA: ", [1]NOMBRE!B3, " (",[1]NOMBRE!C3,[1]NOMBRE!D3,[1]NOMBRE!E3,[1]NOMBRE!F3,[1]NOMBRE!G3,[1]NOMBRE!H3,")") -> ESTABLECIMIENTO/ESTRATEGIA: 0 (000000)
A4: =CONCATENATE("MES: ",[1]NOMBRE!B6, " (",[1]NOMBRE!C6,[1]NOMBRE!D6,")") -> MES: 0 (00)
A5: =CONCATENATE("AÑO: ",[1]NOMBRE!B7) -> AÑO: 2025
A6: REM-07. ATENCIÓN DE ESPECIALIDADES
A8: SECCIÓN A : CONSULTAS MÉDICAS DE ESPECIALIDAD
A9: ESPECIALIDADES Y SUB-ESPECIALIDADES | B9: CONSULTAS Y CONTROLES MÉDICOS | X9: CONSULTAS NUEVAS SEGÚN ORIGEN | AF9: Consultas de Especialidades resueltas por Médico General
B10: TOTAL | C10: RANGO ETARIO | U10: Beneficiarios | V10: Por Sexo | X10: Menores 18 años | AB10: De 18 y más años
C11: 0 - 4 años | D11: 5 - 9 años | E11: 10 - 14 años | F11: 15 - 17 años | G11: 18 - 19 años | H11: 20 - 24 años | I11: 25 - 29 años | J11: 30 - 34 años | K11: 35 - 39 años | L11: 40 - 44 años | M11: 45 - 49 años | N11: 50 - 54 años | O11: 55 - 59 años | P11: 60 - 64 años | Q11: 65 - 69 años | R11: 70 - 74 años | S11: 75 - 79 años | T11: 80 y más años | V11: Hombres | W11: Mujeres | X11: Total | Y11: APS | Z11: CAE/CDT/CRS/Hospitalización | AA11: Urgencia | AB11: Total | AC11: APS | AD11: CAE/CDT/CRS/Hospitalización | AE11: Urgencia | AF11: Menor 18 años | AG11: De 18 y más años
A12: Pediatría | B12: =SUM(C12:T12) -> 5252 | C12: =SUM(ENERO:DICIEMBRE!C12) -> 2678 | D12: =SUM(ENERO:DICIEMBRE!D12) -> 1256 | E12: =SUM(ENERO:DICIEMBRE!E12) -> 1078 | F12: =SUM(ENERO:DICIEMBRE!F12) -> 210 | G12: =SUM(ENERO:DICIEMBRE!G12) -> 21 | H12: =SUM(ENERO:DICIEMBRE!H12) -> 8 | I12: =SUM(ENERO:DICIEMBRE!I12) -> 1 | J12: =SUM(ENERO:DICIEMBRE!J12) -> 0 | ... W12: =SUM(ENERO:DICIEMBRE!W12) -> 2673 | X12: =SUM(Y12+Z12+AA12) -> 1846 | Y12: =SUM(ENERO:DICIEMBRE!Y12) -> 369 | Z12: =SUM(ENERO:DICIEMBRE!Z12) -> 1474 | AA12: =SUM(ENERO:DICIEMBRE!AA12) -> 3 | AB12: =SUM(AC12+AD12+AE12) -> 39 | AC12: =SUM(ENERO:DICIEMBRE!AC12) -> 12 | AD12: =SUM(ENERO:DICIEMBRE!AD12) -> 27 | AE12: =SUM(ENERO:DICIEMBRE!AE12) -> 0 | AF12: =SUM(ENERO:DICIEMBRE!AF12) -> 0 | AG12: =SUM(ENERO:DICIEMBRE!AG12) -> 0 | AH12: =CB12&CC12&CD12 | CB12: =IF(V12+W12<>B12," * La suma por Sexo (Hombres + Mujeres) NO DEBEN ser diferente al Total","") | CC12: =IF(AND(B12>0,U12="")," * No olvide digitar la variable Beneficiarios. Digite CERO si no tiene",IF(U12>B12," * La variable Beneficiarios No puede ser mayor al Total.","")) | CD12: =IF((X12+AB12)>B12," * La suma del Total de Consultas Nuevas según Origen NO DEBE ser MAYOR que el total de Consultas y Controles médicos.","") | CM12: =IF(V12+W12<>B12,1,0) -> 0 | CN12: =IF(AND(B12>0,U12=""),1,IF(U12>B12,1,0)) -> 0 | CO12: =IF((X12+AB12)>B12,1,0) -> 0
A13: Medicina Interna | B13: =SUM(C13:T13) -> 12219 | C13: =SUM(ENERO:DICIEMBRE!C13) -> 0 | D13: =SUM(ENERO:DICIEMBRE!D13) -> 0 | E13: =SUM(ENERO:DICIEMBRE!E13) -> 0 | F13: =SUM(ENERO:DICIEMBRE!F13) -> 65 | G13: =SUM(ENERO:DICIEMBRE!G13) -> 69 | H13: =SUM(ENERO:DICIEMBRE!H13) -> 258 | I13: =SUM(ENERO:DICIEMBRE!I13) -> 439 | J13: =SUM(ENERO:DICIEMBRE!J13) -> 582 | ... W13: =SUM(ENERO:DICIEMBRE!W13) -> 7736 | X13: =SUM(Y13+Z13+AA13) -> 24 | Y13: =SUM(ENERO:DICIEMBRE!Y13) -> 9 | Z13: =SUM(ENERO:DICIEMBRE!Z13) -> 14 | AA13: =SUM(ENERO:DICIEMBRE!AA13) -> 1 | AB13: =SUM(AC13+AD13+AE13) -> 4097 | AC13: =SUM(ENERO:DICIEMBRE!AC13) -> 735 | AD13: =SUM(ENERO:DICIEMBRE!AD13) -> 3345 | AE13: =SUM(ENERO:DICIEMBRE!AE13) -> 17 | AF13: =SUM(ENERO:DICIEMBRE!AF13) -> 1 | AG13: =SUM(ENERO:DICIEMBRE!AG13) -> 2759 | AH13: =CB13&CC13&CD13 | CB13: =IF(V13+W13<>B13," * La suma por Sexo (Hombres + Mujeres) NO DEBEN ser diferente al Total","") | CC13: =IF(AND(B13>0,U13="")," * No olvide digitar la variable Beneficiarios. Digite CERO si no tiene",IF(U13>B13," * La variable Beneficiarios No puede ser mayor al Total.","")) | CD13: =IF((X13+AB13)>B13," * La suma del Total de Consultas Nuevas según Origen NO DEBE ser MAYOR que el total de Consultas y Controles médicos.","") | CM13: =IF(V13+W13<>B13,1,0) -> 0 | CN13: =IF(AND(B13>0,U13=""),1,IF(U13>B13,1,0)) -> 0 | CO13: =IF((X13+AB13)>B13,1,0) -> 0
A14: Neonatología | B14: =SUM(C14:D14) -> 0 | C14: =SUM(ENERO:DICIEMBRE!C14) -> 0 | D14: =SUM(ENERO:DICIEMBRE!D14) -> 0 | E14: =SUM(ENERO:DICIEMBRE!E14) -> 0 | F14: =SUM(ENERO:DICIEMBRE!F14) -> 0 | G14: =SUM(ENERO:DICIEMBRE!G14) -> 0 | H14: =SUM(ENERO:DICIEMBRE!H14) -> 0 | I14: =SUM(ENERO:DICIEMBRE!I14) -> 0 | J14: =SUM(ENERO:DICIEMBRE!J14) -> 0 | ... W14: =SUM(ENERO:DICIEMBRE!W14) -> 0 | X14: =SUM(Y14+Z14+AA14) -> 0 | Y14: =SUM(ENERO:DICIEMBRE!Y14) -> 0 | Z14: =SUM(ENERO:DICIEMBRE!Z14) -> 0 | AA14: =SUM(ENERO:DICIEMBRE!AA14) -> 0 | AB14: =SUM(AC14+AD14+AE14) -> 0 | AC14: =SUM(ENERO:DICIEMBRE!AC14) -> 0 | AD14: =SUM(ENERO:DICIEMBRE!AD14) -> 0 | AE14: =SUM(ENERO:DICIEMBRE!AE14) -> 0 | AF14: =SUM(ENERO:DICIEMBRE!AF14) -> 0 | AG14: =SUM(ENERO:DICIEMBRE!AG14) -> 0 | AH14: =CB14&CC14&CD14 | CB14: =IF(V14+W14<>B14," * La suma por Sexo (Hombres + Mujeres) NO DEBEN ser diferente al Total","") | CC14: =IF(AND(B14>0,U14="")," * No olvide digitar la variable Beneficiarios. Digite CERO si no tiene",IF(U14>B14," * La variable Beneficiarios No puede ser mayor al Total.","")) | CD14: =IF((X14+AB14)>B14," * La suma del Total de Consultas Nuevas según Origen NO DEBE ser MAYOR que el total de Consultas y Controles médicos.","") | CM14: =IF(V14+W14<>B14,1,0) -> 0 | CN14: =IF(AND(B14>0,U14=""),1,IF(U14>B14,1,0)) -> 0 | CO14: =IF((X14+AB14)>B14,1,0) -> 0
A15: Enfermedad Respiratoria Pediátrica (Broncopulmonar Infantil) | B15: =SUM(C15:T15) -> 488 | C15: =SUM(ENERO:DICIEMBRE!C15) -> 229 | D15: =SUM(ENERO:DICIEMBRE!D15) -> 159 | E15: =SUM(ENERO:DICIEMBRE!E15) -> 85 | F15: =SUM(ENERO:DICIEMBRE!F15) -> 15 | G15: =SUM(ENERO:DICIEMBRE!G15) -> 0 | H15: =SUM(ENERO:DICIEMBRE!H15) -> 0 | I15: =SUM(ENERO:DICIEMBRE!I15) -> 0 | J15: =SUM(ENERO:DICIEMBRE!J15) -> 0 | ... W15: =SUM(ENERO:DICIEMBRE!W15) -> 192 | X15: =SUM(Y15+Z15+AA15) -> 93 | Y15: =SUM(ENERO:DICIEMBRE!Y15) -> 46 | Z15: =SUM(ENERO:DICIEMBRE!Z15) -> 47 | AA15: =SUM(ENERO:DICIEMBRE!AA15) -> 0 | AB15: =SUM(AC15+AD15+AE15) -> 3 | AC15: =SUM(ENERO:DICIEMBRE!AC15) -> 1 | AD15: =SUM(ENERO:DICIEMBRE!AD15) -> 2 | AE15: =SUM(ENERO:DICIEMBRE!AE15) -> 0 | AF15: =SUM(ENERO:DICIEMBRE!AF15) -> 0 | AG15: =SUM(ENERO:DICIEMBRE!AG15) -> 0 | AH15: =CB15&CC15&CD15 | CB15: =IF(V15+W15<>B15," * La suma por Sexo (Hombres + Mujeres) NO DEBEN ser diferente al Total","") | CC15: =IF(AND(B15>0,U15="")," * No olvide digitar la variable Beneficiarios. Digite CERO si no tiene",IF(U15>B15," * La variable Beneficiarios No puede ser mayor al Total.","")) | CD15: =IF((X15+AB15)>B15," * La suma del Total de Consultas Nuevas según Origen NO DEBE ser MAYOR que el total de Consultas y Controles médicos.","") | CM15: =IF(V15+W15<>B15,1,0) -> 0 | CN15: =IF(AND(B15>0,U15=""),1,IF(U15>B15,1,0)) -> 0 | CO15: =IF((X15+AB15)>B15,1,0) -> 0
A16: Enfermedad Respiratoria de Adulto (Broncopulmonar) | B16: =SUM(C16:T16) -> 1653 | C16: =SUM(ENERO:DICIEMBRE!C16) -> 0 | D16: =SUM(ENERO:DICIEMBRE!D16) -> 0 | E16: =SUM(ENERO:DICIEMBRE!E16) -> 0 | F16: =SUM(ENERO:DICIEMBRE!F16) -> 20 | G16: =SUM(ENERO:DICIEMBRE!G16) -> 11 | H16: =SUM(ENERO:DICIEMBRE!H16) -> 20 | I16: =SUM(ENERO:DICIEMBRE!I16) -> 18 | J16: =SUM(ENERO:DICIEMBRE!J16) -> 19 | ... W16: =SUM(ENERO:DICIEMBRE!W16) -> 970 | X16: =SUM(Y16+Z16+AA16) -> 6 | Y16: =SUM(ENERO:DICIEMBRE!Y16) -> 1 | Z16: =SUM(ENERO:DICIEMBRE!Z16) -> 5 | AA16: =SUM(ENERO:DICIEMBRE!AA16) -> 0 | AB16: =SUM(AC16+AD16+AE16) -> 537 | AC16: =SUM(ENERO:DICIEMBRE!AC16) -> 339 | AD16: =SUM(ENERO:DICIEMBRE!AD16) -> 196 | AE16: =SUM(ENERO:DICIEMBRE!AE16) -> 2 | AF16: =SUM(ENERO:DICIEMBRE!AF16) -> 0 | AG16: =SUM(ENERO:DICIEMBRE!AG16) -> 0 | AH16: =CB16&CC16&CD16 | CB16: =IF(V16+W16<>B16," * La suma por Sexo (Hombres + Mujeres) NO DEBEN ser diferente al Total","") | CC16: =IF(AND(B16>0,U16="")," * No olvide digitar la variable Beneficiarios. Digite CERO si no tiene",IF(U16>B16," * La variable Beneficiarios No puede ser mayor al Total.","")) | CD16: =IF((X16+AB16)>B16," * La suma del Total de Consultas Nuevas según Origen NO DEBE ser MAYOR que el total de Consultas y Controles médicos.","") | CM16: =IF(V16+W16<>B16,1,0) -> 0 | CN16: =IF(AND(B16>0,U16=""),1,IF(U16>B16,1,0)) -> 0 | CO16: =IF((X16+AB16)>B16,1,0) -> 0
A17: Cardiología | B17: =SUM(C17:T17) -> 3431 | C17: =SUM(ENERO:DICIEMBRE!C17) -> 452 | D17: =SUM(ENERO:DICIEMBRE!D17) -> 244 | E17: =SUM(ENERO:DICIEMBRE!E17) -> 199 | F17: =SUM(ENERO:DICIEMBRE!F17) -> 60 | G17: =SUM(ENERO:DICIEMBRE!G17) -> 16 | H17: =SUM(ENERO:DICIEMBRE!H17) -> 16 | I17: =SUM(ENERO:DICIEMBRE!I17) -> 10 | J17: =SUM(ENERO:DICIEMBRE!J17) -> 15 | ... W17: =SUM(ENERO:DICIEMBRE!W17) -> 1499 | X17: =SUM(Y17+Z17+AA17) -> 275 | Y17: =SUM(ENERO:DICIEMBRE!Y17) -> 140 | Z17: =SUM(ENERO:DICIEMBRE!Z17) -> 133 | AA17: =SUM(ENERO:DICIEMBRE!AA17) -> 2 | AB17: =SUM(AC17+AD17+AE17) -> 1155 | AC17: =SUM(ENERO:DICIEMBRE!AC17) -> 527 | AD17: =SUM(ENERO:DICIEMBRE!AD17) -> 626 | AE17: =SUM(ENERO:DICIEMBRE!AE17) -> 2 | AF17: =SUM(ENERO:DICIEMBRE!AF17) -> 0 | AG17: =SUM(ENERO:DICIEMBRE!AG17) -> 0 | AH17: =CB17&CC17&CD17 | CB17: =IF(V17+W17<>B17," * La suma por Sexo (Hombres + Mujeres) NO DEBEN ser diferente al Total","") | CC17: =IF(AND(B17>0,U17="")," * No olvide digitar la variable Beneficiarios. Digite CERO si no tiene",IF(U17>B17," * La variable Beneficiarios No puede ser mayor al Total.","")) | CD17: =IF((X17+AB17)>B17," * La suma del Total de Consultas Nuevas según Origen NO DEBE ser MAYOR que el total de Consultas y Controles médicos.","") | CM17: =IF(V17+W17<>B17,1,0) -> 0 | CN17: =IF(AND(B17>0,U17=""),1,IF(U17>B17,1,0)) -> 0 | CO17: =IF((X17+AB17)>B17,1,0) -> 0
A18: Mastología | B18: =SUM(C18:T18) -> 1954 | C18: =SUM(ENERO:DICIEMBRE!C18) -> 0 | D18: =SUM(ENERO:DICIEMBRE!D18) -> 0 | E18: =SUM(ENERO:DICIEMBRE!E18) -> 0 | F18: =SUM(ENERO:DICIEMBRE!F18) -> 12 | G18: =SUM(ENERO:DICIEMBRE!G18) -> 15 | H18: =SUM(ENERO:DICIEMBRE!H18) -> 37 | I18: =SUM(ENERO:DICIEMBRE!I18) -> 62 | J18: =SUM(ENERO:DICIEMBRE!J18) -> 73 | ... W18: =SUM(ENERO:DICIEMBRE!W18) -> 1936 | X18: =SUM(Y18+Z18+AA18) -> 2 | Y18: =SUM(ENERO:DICIEMBRE!Y18) -> 2 | Z18: =SUM(ENERO:DICIEMBRE!Z18) -> 0 | AA18: =SUM(ENERO:DICIEMBRE!AA18) -> 0 | AB18: =SUM(AC18+AD18+AE18) -> 652 | AC18: =SUM(ENERO:DICIEMBRE!AC18) -> 209 | AD18: =SUM(ENERO:DICIEMBRE!AD18) -> 442 | AE18: =SUM(ENERO:DICIEMBRE!AE18) -> 1 | AF18: =SUM(ENERO:DICIEMBRE!AF18) -> 0 | AG18: =SUM(ENERO:DICIEMBRE!AG18) -> 0 | AH18: =CB18&CC18&CD18 | CB18: =IF(V18+W18<>B18," * La suma por Sexo (Hombres + Mujeres) NO DEBEN ser diferente al Total","") | CC18: =IF(AND(B18>0,U18="")," * No olvide digitar la variable Beneficiarios. Digite CERO si no tiene",IF(U18>B18," * La variable Beneficiarios No puede ser mayor al Total.","")) | CD18: =IF((X18+AB18)>B18," * La suma del Total de Consultas Nuevas según Origen NO DEBE ser MAYOR que el total de Consultas y Controles médicos.","") | CM18: =IF(V18+W18<>B18,1,0) -> 0 | CN18: =IF(AND(B18>0,U18=""),1,IF(U18>B18,1,0)) -> 0 | CO18: =IF((X18+AB18)>B18,1,0) -> 0
A19: Endocrinología Pediátrica | B19: =SUM(C19:T19) -> 0 | C19: =SUM(ENERO:DICIEMBRE!C19) -> 0 | D19: =SUM(ENERO:DICIEMBRE!D19) -> 0 | E19: =SUM(ENERO:DICIEMBRE!E19) -> 0 | F19: =SUM(ENERO:DICIEMBRE!F19) -> 0 | G19: =SUM(ENERO:DICIEMBRE!G19) -> 0 | H19: =SUM(ENERO:DICIEMBRE!H19) -> 0 | I19: =SUM(ENERO:DICIEMBRE!I19) -> 0 | J19: =SUM(ENERO:DICIEMBRE!J19) -> 0 | ... W19: =SUM(ENERO:DICIEMBRE!W19) -> 0 | X19: =SUM(Y19+Z19+AA19) -> 0 | Y19: =SUM(ENERO:DICIEMBRE!Y19) -> 0 | Z19: =SUM(ENERO:DICIEMBRE!Z19) -> 0 | AA19: =SUM(ENERO:DICIEMBRE!AA19) -> 0 | AB19: =SUM(AC19+AD19+AE19) -> 0 | AC19: =SUM(ENERO:DICIEMBRE!AC19) -> 0 | AD19: =SUM(ENERO:DICIEMBRE!AD19) -> 0 | AE19: =SUM(ENERO:DICIEMBRE!AE19) -> 0 | AF19: =SUM(ENERO:DICIEMBRE!AF19) -> 0 | AG19: =SUM(ENERO:DICIEMBRE!AG19) -> 0 | AH19: =CB19&CC19&CD19 | CB19: =IF(V19+W19<>B19," * La suma por Sexo (Hombres + Mujeres) NO DEBEN ser diferente al Total","") | CC19: =IF(AND(B19>0,U19="")," * No olvide digitar la variable Beneficiarios. Digite CERO si no tiene",IF(U19>B19," * La variable Beneficiarios No puede ser mayor al Total.","")) | CD19: =IF((X19+AB19)>B19," * La suma del Total de Consultas Nuevas según Origen NO DEBE ser MAYOR que el total de Consultas y Controles médicos.","") | CM19: =IF(V19+W19<>B19,1,0) -> 0 | CN19: =IF(AND(B19>0,U19=""),1,IF(U19>B19,1,0)) -> 0 | CO19: =IF((X19+AB19)>B19,1,0) -> 0
A20: Endocrinología Adulto | B20: =SUM(C20:T20) -> 1383 | C20: =SUM(ENERO:DICIEMBRE!C20) -> 0 | D20: =SUM(ENERO:DICIEMBRE!D20) -> 0 | E20: =SUM(ENERO:DICIEMBRE!E20) -> 0 | F20: =SUM(ENERO:DICIEMBRE!F20) -> 27 | G20: =SUM(ENERO:DICIEMBRE!G20) -> 21 | H20: =SUM(ENERO:DICIEMBRE!H20) -> 54 | I20: =SUM(ENERO:DICIEMBRE!I20) -> 53 | J20: =SUM(ENERO:DICIEMBRE!J20) -> 56 | ... W20: =SUM(ENERO:DICIEMBRE!W20) -> 1093 | X20: =SUM(Y20+Z20+AA20) -> 12 | Y20: =SUM(ENERO:DICIEMBRE!Y20) -> 8 | Z20: =SUM(ENERO:DICIEMBRE!Z20) -> 3 | AA20: =SUM(ENERO:DICIEMBRE!AA20) -> 1 | AB20: =SUM(AC20+AD20+AE20) -> 540 | AC20: =SUM(ENERO:DICIEMBRE!AC20) -> 287 | AD20: =SUM(ENERO:DICIEMBRE!AD20) -> 251 | AE20: =SUM(ENERO:DICIEMBRE!AE20) -> 2 | AF20: =SUM(ENERO:DICIEMBRE!AF20) -> 0 | AG20: =SUM(ENERO:DICIEMBRE!AG20) -> 0 | AH20: =CB20&CC20&CD20 | CB20: =IF(V20+W20<>B20," * La suma por Sexo (Hombres + Mujeres) NO DEBEN ser diferente al Total","") | CC20: =IF(AND(B20>0,U20="")," * No olvide digitar la variable Beneficiarios. Digite CERO si no tiene",IF(U20>B20," * La variable Beneficiarios No puede ser mayor al Total.","")) | CD20: =IF((X20+AB20)>B20," * La suma del Total de Consultas Nuevas según Origen NO DEBE ser MAYOR que el total de Consultas y Controles médicos.","") | CM20: =IF(V20+W20<>B20,1,0) -> 0 | CN20: =IF(AND(B20>0,U20=""),1,IF(U20>B20,1,0)) -> 0 | CO20: =IF((X20+AB20)>B20,1,0) -> 0
A21: Gastroenterología Pediátrica | B21: =SUM(C21:T21) -> 0 | C21: =SUM(ENERO:DICIEMBRE!C21) -> 0 | D21: =SUM(ENERO:DICIEMBRE!D21) -> 0 | E21: =SUM(ENERO:DICIEMBRE!E21) -> 0 | F21: =SUM(ENERO:DICIEMBRE!F21) -> 0 | G21: =SUM(ENERO:DICIEMBRE!G21) -> 0 | H21: =SUM(ENERO:DICIEMBRE!H21) -> 0 | I21: =SUM(ENERO:DICIEMBRE!I21) -> 0 | J21: =SUM(ENERO:DICIEMBRE!J21) -> 0 | ... W21: =SUM(ENERO:DICIEMBRE!W21) -> 0 | X21: =SUM(Y21+Z21+AA21) -> 0 | Y21: =SUM(ENERO:DICIEMBRE!Y21) -> 0 | Z21: =SUM(ENERO:DICIEMBRE!Z21) -> 0 | AA21: =SUM(ENERO:DICIEMBRE!AA21) -> 0 | AB21: =SUM(AC21+AD21+AE21) -> 0 | AC21: =SUM(ENERO:DICIEMBRE!AC21) -> 0 | AD21: =SUM(ENERO:DICIEMBRE!AD21) -> 0 | AE21: =SUM(ENERO:DICIEMBRE!AE21) -> 0 | AF21: =SUM(ENERO:DICIEMBRE!AF21) -> 0 | AG21: =SUM(ENERO:DICIEMBRE!AG21) -> 0 | AH21: =CB21&CC21&CD21 | CB21: =IF(V21+W21<>B21," * La suma por Sexo (Hombres + Mujeres) NO DEBEN ser diferente al Total","") | CC21: =IF(AND(B21>0,U21="")," * No olvide digitar la variable Beneficiarios. Digite CERO si no tiene",IF(U21>B21," * La variable Beneficiarios No puede ser mayor al Total.","")) | CD21: =IF((X21+AB21)>B21," * La suma del Total de Consultas Nuevas según Origen NO DEBE ser MAYOR que el total de Consultas y Controles médicos.","") | CM21: =IF(V21+W21<>B21,1,0) -> 0 | CN21: =IF(AND(B21>0,U21=""),1,IF(U21>B21,1,0)) -> 0 | CO21: =IF((X21+AB21)>B21,1,0) -> 0
A22: Gastroenterología Adulto | B22: =SUM(C22:T22) -> 1473 | C22: =SUM(ENERO:DICIEMBRE!C22) -> 0 | D22: =SUM(ENERO:DICIEMBRE!D22) -> 0 | E22: =SUM(ENERO:DICIEMBRE!E22) -> 0 | F22: =SUM(ENERO:DICIEMBRE!F22) -> 8 | G22: =SUM(ENERO:DICIEMBRE!G22) -> 13 | H22: =SUM(ENERO:DICIEMBRE!H22) -> 24 | I22: =SUM(ENERO:DICIEMBRE!I22) -> 49 | J22: =SUM(ENERO:DICIEMBRE!J22) -> 48 | ... W22: =SUM(ENERO:DICIEMBRE!W22) -> 926 | X22: =SUM(Y22+Z22+AA22) -> 3 | Y22: =SUM(ENERO:DICIEMBRE!Y22) -> 2 | Z22: =SUM(ENERO:DICIEMBRE!Z22) -> 1 | AA22: =SUM(ENERO:DICIEMBRE!AA22) -> 0 | AB22: =SUM(AC22+AD22+AE22) -> 785 | AC22: =SUM(ENERO:DICIEMBRE!AC22) -> 377 | AD22: =SUM(ENERO:DICIEMBRE!AD22) -> 408 | AE22: =SUM(ENERO:DICIEMBRE!AE22) -> 0 | AF22: =SUM(ENERO:DICIEMBRE!AF22) -> 0 | AG22: =SUM(ENERO:DICIEMBRE!AG22) -> 0 | AH22: =CB22&CC22&CD22 | CB22: =IF(V22+W22<>B22," * La suma por Sexo (Hombres + Mujeres) NO DEBEN ser diferente al Total","") | CC22: =IF(AND(B22>0,U22="")," * No olvide digitar la variable Beneficiarios. Digite CERO si no tiene",IF(U22>B22," * La variable Beneficiarios No puede ser mayor al Total.","")) | CD22: =IF((X22+AB22)>B22," * La suma del Total de Consultas Nuevas según Origen NO DEBE ser MAYOR que el total de Consultas y Controles médicos.","") | CM22: =IF(V22+W22<>B22,1,0) -> 0 | CN22: =IF(AND(B22>0,U22=""),1,IF(U22>B22,1,0)) -> 0 | CO22: =IF((X22+AB22)>B22,1,0) -> 0
A23: Genética Clínica | B23: =SUM(C23:T23) -> 0 | C23: =SUM(ENERO:DICIEMBRE!C23) -> 0 | D23: =SUM(ENERO:DICIEMBRE!D23) -> 0 | E23: =SUM(ENERO:DICIEMBRE!E23) -> 0 | F23: =SUM(ENERO:DICIEMBRE!F23) -> 0 | G23: =SUM(ENERO:DICIEMBRE!G23) -> 0 | H23: =SUM(ENERO:DICIEMBRE!H23) -> 0 | I23: =SUM(ENERO:DICIEMBRE!I23) -> 0 | J23: =SUM(ENERO:DICIEMBRE!J23) -> 0 | ... W23: =SUM(ENERO:DICIEMBRE!W23) -> 0 | X23: =SUM(Y23+Z23+AA23) -> 0 | Y23: =SUM(ENERO:DICIEMBRE!Y23) -> 0 | Z23: =SUM(ENERO:DICIEMBRE!Z23) -> 0 | AA23: =SUM(ENERO:DICIEMBRE!AA23) -> 0 | AB23: =SUM(AC23+AD23+AE23) -> 0 | AC23: =SUM(ENERO:DICIEMBRE!AC23) -> 0 | AD23: =SUM(ENERO:DICIEMBRE!AD23) -> 0 | AE23: =SUM(ENERO:DICIEMBRE!AE23) -> 0 | AF23: =SUM(ENERO:DICIEMBRE!AF23) -> 0 | AG23: =SUM(ENERO:DICIEMBRE!AG23) -> 0 | AH23: =CB23&CC23&CD23 | CB23: =IF(V23+W23<>B23," * La suma por Sexo (Hombres + Mujeres) NO DEBEN ser diferente al Total","") | CC23: =IF(AND(B23>0,U23="")," * No olvide digitar la variable Beneficiarios. Digite CERO si no tiene",IF(U23>B23," * La variable Beneficiarios No puede ser mayor al Total.","")) | CD23: =IF((X23+AB23)>B23," * La suma del Total de Consultas Nuevas según Origen NO DEBE ser MAYOR que el total de Consultas y Controles médicos.","") | CM23: =IF(V23+W23<>B23,1,0) -> 0 | CN23: =IF(AND(B23>0,U23=""),1,IF(U23>B23,1,0)) -> 0 | CO23: =IF((X23+AB23)>B23,1,0) -> 0
A24: Hematología | B24: =SUM(C24:T24) -> 0 | C24: =SUM(ENERO:DICIEMBRE!C24) -> 0 | D24: =SUM(ENERO:DICIEMBRE!D24) -> 0 | E24: =SUM(ENERO:DICIEMBRE!E24) -> 0 | F24: =SUM(ENERO:DICIEMBRE!F24) -> 0 | G24: =SUM(ENERO:DICIEMBRE!G24) -> 0 | H24: =SUM(ENERO:DICIEMBRE!H24) -> 0 | I24: =SUM(ENERO:DICIEMBRE!I24) -> 0 | J24: =SUM(ENERO:DICIEMBRE!J24) -> 0 | ... W24: =SUM(ENERO:DICIEMBRE!W24) -> 0 | X24: =SUM(Y24+Z24+AA24) -> 0 | Y24: =SUM(ENERO:DICIEMBRE!Y24) -> 0 | Z24: =SUM(ENERO:DICIEMBRE!Z24) -> 0 | AA24: =SUM(ENERO:DICIEMBRE!AA24) -> 0 | AB24: =SUM(AC24+AD24+AE24) -> 0 | AC24: =SUM(ENERO:DICIEMBRE!AC24) -> 0 | AD24: =SUM(ENERO:DICIEMBRE!AD24) -> 0 | AE24: =SUM(ENERO:DICIEMBRE!AE24) -> 0 | AF24: =SUM(ENERO:DICIEMBRE!AF24) -> 0 | AG24: =SUM(ENERO:DICIEMBRE!AG24) -> 0 | AH24: =CB24&CC24&CD24 | CB24: =IF(V24+W24<>B24," * La suma por Sexo (Hombres + Mujeres) NO DEBEN ser diferente al Total","") | CC24: =IF(AND(B24>0,U24="")," * No olvide digitar la variable Beneficiarios. Digite CERO si no tiene",IF(U24>B24," * La variable Beneficiarios No puede ser mayor al Total.","")) | CD24: =IF((X24+AB24)>B24," * La suma del Total de Consultas Nuevas según Origen NO DEBE ser MAYOR que el total de Consultas y Controles médicos.","") | CM24: =IF(V24+W24<>B24,1,0) -> 0 | CN24: =IF(AND(B24>0,U24=""),1,IF(U24>B24,1,0)) -> 0 | CO24: =IF((X24+AB24)>B24,1,0) -> 0
A25: Medicina del adolescente | B25: =SUM(C25:T25) -> 0 | C25: =SUM(ENERO:DICIEMBRE!C25) -> 0 | D25: =SUM(ENERO:DICIEMBRE!D25) -> 0 | E25: =SUM(ENERO:DICIEMBRE!E25) -> 0 | F25: =SUM(ENERO:DICIEMBRE!F25) -> 0 | G25: =SUM(ENERO:DICIEMBRE!G25) -> 0 | H25: =SUM(ENERO:DICIEMBRE!H25) -> 0 | I25: =SUM(ENERO:DICIEMBRE!I25) -> 0 | J25: =SUM(ENERO:DICIEMBRE!J25) -> 0 | ... W25: =SUM(ENERO:DICIEMBRE!W25) -> 0 | X25: =SUM(Y25+Z25+AA25) -> 0 | Y25: =SUM(ENERO:DICIEMBRE!Y25) -> 0 | Z25: =SUM(ENERO:DICIEMBRE!Z25) -> 0 | AA25: =SUM(ENERO:DICIEMBRE!AA25) -> 0 | AB25: =SUM(AC25+AD25+AE25) -> 0 | AC25: =SUM(ENERO:DICIEMBRE!AC25) -> 0 | AD25: =SUM(ENERO:DICIEMBRE!AD25) -> 0 | AE25: =SUM(ENERO:DICIEMBRE!AE25) -> 0 | AF25: =SUM(ENERO:DICIEMBRE!AF25) -> 0 | AG25: =SUM(ENERO:DICIEMBRE!AG25) -> 0 | AH25: =CB25&CC25&CD25 | CB25: =IF(V25+W25<>B25," * La suma por Sexo (Hombres + Mujeres) NO DEBEN ser diferente al Total","") | CC25: =IF(AND(B25>0,U25="")," * No olvide digitar la variable Beneficiarios. Digite CERO si no tiene",IF(U25>B25," * La variable Beneficiarios No puede ser mayor al Total.","")) | CD25: =IF((X25+AB25)>B25," * La suma del Total de Consultas Nuevas según Origen NO DEBE ser MAYOR que el total de Consultas y Controles médicos.","") | CM25: =IF(V25+W25<>B25,1,0) -> 0 | CN25: =IF(AND(B25>0,U25=""),1,IF(U25>B25,1,0)) -> 0 | CO25: =IF((X25+AB25)>B25,1,0) -> 0
A26: Nefrología Pediátrica | B26: =SUM(C26:T26) -> 0 | C26: =SUM(ENERO:DICIEMBRE!C26) -> 0 | D26: =SUM(ENERO:DICIEMBRE!D26) -> 0 | E26: =SUM(ENERO:DICIEMBRE!E26) -> 0 | F26: =SUM(ENERO:DICIEMBRE!F26) -> 0 | G26: =SUM(ENERO:DICIEMBRE!G26) -> 0 | H26: =SUM(ENERO:DICIEMBRE!H26) -> 0 | I26: =SUM(ENERO:DICIEMBRE!I26) -> 0 | J26: =SUM(ENERO:DICIEMBRE!J26) -> 0 | ... W26: =SUM(ENERO:DICIEMBRE!W26) -> 0 | X26: =SUM(Y26+Z26+AA26) -> 0 | Y26: =SUM(ENERO:DICIEMBRE!Y26) -> 0 | Z26: =SUM(ENERO:DICIEMBRE!Z26) -> 0 | AA26: =SUM(ENERO:DICIEMBRE!AA26) -> 0 | AB26: =SUM(AC26+AD26+AE26) -> 0 | AC26: =SUM(ENERO:DICIEMBRE!AC26) -> 0 | AD26: =SUM(ENERO:DICIEMBRE!AD26) -> 0 | AE26: =SUM(ENERO:DICIEMBRE!AE26) -> 0 | AF26: =SUM(ENERO:DICIEMBRE!AF26) -> 0 | AG26: =SUM(ENERO:DICIEMBRE!AG26) -> 0 | AH26: =CB26&CC26&CD26 | CB26: =IF(V26+W26<>B26," * La suma por Sexo (Hombres + Mujeres) NO DEBEN ser diferente al Total","") | CC26: =IF(AND(B26>0,U26="")," * No olvide digitar la variable Beneficiarios. Digite CERO si no tiene",IF(U26>B26," * La variable Beneficiarios No puede ser mayor al Total.","")) | CD26: =IF((X26+AB26)>B26," * La suma del Total de Consultas Nuevas según Origen NO DEBE ser MAYOR que el total de Consultas y Controles médicos.","") | CM26: =IF(V26+W26<>B26,1,0) -> 0 | CN26: =IF(AND(B26>0,U26=""),1,IF(U26>B26,1,0)) -> 0 | CO26: =IF((X26+AB26)>B26,1,0) -> 0
... A34: Inmunología | B34: =SUM(C34:T34) -> 0 | C34: =SUM(ENERO:DICIEMBRE!C34) -> 0 | D34: =SUM(ENERO:DICIEMBRE!D34) -> 0 | E34: =SUM(ENERO:DICIEMBRE!E34) -> 0 | F34: =SUM(ENERO:DICIEMBRE!F34) -> 0 | G34: =SUM(ENERO:DICIEMBRE!G34) -> 0 | H34: =SUM(ENERO:DICIEMBRE!H34) -> 0 | I34: =SUM(ENERO:DICIEMBRE!I34) -> 0 | J34: =SUM(ENERO:DICIEMBRE!J34) -> 0 | ... W34: =SUM(ENERO:DICIEMBRE!W34) -> 0 | X34: =SUM(Y34+Z34+AA34) -> 0 | Y34: =SUM(ENERO:DICIEMBRE!Y34) -> 0 | Z34: =SUM(ENERO:DICIEMBRE!Z34) -> 0 | AA34: =SUM(ENERO:DICIEMBRE!AA34) -> 0 | AB34: =SUM(AC34+AD34+AE34) -> 0 | AC34: =SUM(ENERO:DICIEMBRE!AC34) -> 0 | AD34: =SUM(ENERO:DICIEMBRE!AD34) -> 0 | AE34: =SUM(ENERO:DICIEMBRE!AE34) -> 0 | AF34: =SUM(ENERO:DICIEMBRE!AF34) -> 0 | AG34: =SUM(ENERO:DICIEMBRE!AG34) -> 0 | AH34: =CB34&CC34&CD34 | CB34: =IF(V34+W34<>B34," * La suma por Sexo (Hombres + Mujeres) NO DEBEN ser diferente al Total","") | CC34: =IF(AND(B34>0,U34="")," * No olvide digitar la variable Beneficiarios. Digite CERO si no tiene",IF(U34>B34," * La variable Beneficiarios No puede ser mayor al Total.","")) | CD34: =IF((X34+AB34)>B34," * La suma del Total de Consultas Nuevas según Origen NO DEBE ser MAYOR que el total de Consultas y Controles médicos.","") | CM34: =IF(V34+W34<>B34,1,0) -> 0 | CN34: =IF(AND(B34>0,U34=""),1,IF(U34>B34,1,0)) -> 0 | CO34: =IF((X34+AB34)>B34,1,0) -> 0
A35: Geriatría | B35: =SUM(P35:T35) -> 0 | C35: =SUM(ENERO:DICIEMBRE!C35) -> 0 | D35: =SUM(ENERO:DICIEMBRE!D35) -> 0 | E35: =SUM(ENERO:DICIEMBRE!E35) -> 0 | F35: =SUM(ENERO:DICIEMBRE!F35) -> 0 | G35: =SUM(ENERO:DICIEMBRE!G35) -> 0 | H35: =SUM(ENERO:DICIEMBRE!H35) -> 0 | I35: =SUM(ENERO:DICIEMBRE!I35) -> 0 | J35: =SUM(ENERO:DICIEMBRE!J35) -> 0 | ... W35: =SUM(ENERO:DICIEMBRE!W35) -> 0 | X35: =SUM(Y35+Z35+AA35) -> 0 | Y35: =SUM(ENERO:DICIEMBRE!Y35) -> 0 | Z35: =SUM(ENERO:DICIEMBRE!Z35) -> 0 | AA35: =SUM(ENERO:DICIEMBRE!AA35) -> 0 | AB35: =SUM(AC35+AD35+AE35) -> 0 | AC35: =SUM(ENERO:DICIEMBRE!AC35) -> 0 | AD35: =SUM(ENERO:DICIEMBRE!AD35) -> 0 | AE35: =SUM(ENERO:DICIEMBRE!AE35) -> 0 | AF35: =SUM(ENERO:DICIEMBRE!AF35) -> 0 | AG35: =SUM(ENERO:DICIEMBRE!AG35) -> 0 | AH35: =CB35&CC35&CD35 | CB35: =IF(V35+W35<>B35," * La suma por Sexo (Hombres + Mujeres) NO DEBEN ser diferente al Total","") | CC35: =IF(AND(B35>0,U35="")," * No olvide digitar la variable Beneficiarios. Digite CERO si no tiene",IF(U35>B35," * La variable Beneficiarios No puede ser mayor al Total.","")) | CD35: =IF((X35+AB35)>B35," * La suma del Total de Consultas Nuevas según Origen NO DEBE ser MAYOR que el total de Consultas y Controles médicos.","") | CM35: =IF(V35+W35<>B35,1,0) -> 0 | CN35: =IF(AND(B35>0,U35=""),1,IF(U35>B35,1,0)) -> 0 | CO35: =IF((X35+AB35)>B35,1,0) -> 0
A36: Medicina Física y Rehabilitación | B36: =SUM(C36:T36) -> 0 | C36: =SUM(ENERO:DICIEMBRE!C36) -> 0 | D36: =SUM(ENERO:DICIEMBRE!D36) -> 0 | E36: =SUM(ENERO:DICIEMBRE!E36) -> 0 | F36: =SUM(ENERO:DICIEMBRE!F36) -> 0 | G36: =SUM(ENERO:DICIEMBRE!G36) -> 0 | H36: =SUM(ENERO:DICIEMBRE!H36) -> 0 | I36: =SUM(ENERO:DICIEMBRE!I36) -> 0 | J36: =SUM(ENERO:DICIEMBRE!J36) -> 0 | ... W36: =SUM(ENERO:DICIEMBRE!W36) -> 0 | X36: =SUM(Y36+Z36+AA36) -> 0 | Y36: =SUM(ENERO:DICIEMBRE!Y36) -> 0 | Z36: =SUM(ENERO:DICIEMBRE!Z36) -> 0 | AA36: =SUM(ENERO:DICIEMBRE!AA36) -> 0 | AB36: =SUM(AC36+AD36+AE36) -> 0 | AC36: =SUM(ENERO:DICIEMBRE!AC36) -> 0 | AD36: =SUM(ENERO:DICIEMBRE!AD36) -> 0 | AE36: =SUM(ENERO:DICIEMBRE!AE36) -> 0 | AF36: =SUM(ENERO:DICIEMBRE!AF36) -> 0 | AG36: =SUM(ENERO:DICIEMBRE!AG36) -> 0 | AH36: =CB36&CC36&CD36 | CB36: =IF(V36+W36<>B36," * La suma por Sexo (Hombres + Mujeres) NO DEBEN ser diferente al Total","") | CC36: =IF(AND(B36>0,U36="")," * No olvide digitar la variable Beneficiarios. Digite CERO si no tiene",IF(U36>B36," * La variable Beneficiarios No puede ser mayor al Total.","")) | CD36: =IF((X36+AB36)>B36," * La suma del Total de Consultas Nuevas según Origen NO DEBE ser MAYOR que el total de Consultas y Controles médicos.","") | CM36: =IF(V36+W36<>B36,1,0) -> 0 | CN36: =IF(AND(B36>0,U36=""),1,IF(U36>B36,1,0)) -> 0 | CO36: =IF((X36+AB36)>B36,1,0) -> 0
A37: Medicina Reproductiva e Infertilidad | B37: =SUM(C37:T37) -> 0 | C37: =SUM(ENERO:DICIEMBRE!C37) -> 0 | D37: =SUM(ENERO:DICIEMBRE!D37) -> 0 | E37: =SUM(ENERO:DICIEMBRE!E37) -> 0 | F37: =SUM(ENERO:DICIEMBRE!F37) -> 0 | G37: =SUM(ENERO:DICIEMBRE!G37) -> 0 | H37: =SUM(ENERO:DICIEMBRE!H37) -> 0 | I37: =SUM(ENERO:DICIEMBRE!I37) -> 0 | J37: =SUM(ENERO:DICIEMBRE!J37) -> 0 | ... W37: =SUM(ENERO:DICIEMBRE!W37) -> 0 | X37: =SUM(Y37+Z37+AA37) -> 0 | Y37: =SUM(ENERO:DICIEMBRE!Y37) -> 0 | Z37: =SUM(ENERO:DICIEMBRE!Z37) -> 0 | AA37: =SUM(ENERO:DICIEMBRE!AA37) -> 0 | AB37: =SUM(AC37+AD37+AE37) -> 0 | AC37: =SUM(ENERO:DICIEMBRE!AC37) -> 0 | AD37: =SUM(ENERO:DICIEMBRE!AD37) -> 0 | AE37: =SUM(ENERO:DICIEMBRE!AE37) -> 0 | AF37: =SUM(ENERO:DICIEMBRE!AF37) -> 0 | AG37: =SUM(ENERO:DICIEMBRE!AG37) -> 0 | AH37: =CB37&CC37&CD37 | CB37: =IF(V37+W37<>B37," * La suma por Sexo (Hombres + Mujeres) NO DEBEN ser diferente al Total","") | CC37: =IF(AND(B37>0,U37="")," * No olvide digitar la variable Beneficiarios. Digite CERO si no tiene",IF(U37>B37," * La variable Beneficiarios No puede ser mayor al Total.","")) | CD37: =IF((X37+AB37)>B37," * La suma del Total de Consultas Nuevas según Origen NO DEBE ser MAYOR que el total de Consultas y Controles médicos.","") | CM37: =IF(V37+W37<>B37,1,0) -> 0 | CN37: =IF(AND(B37>0,U37=""),1,IF(U37>B37,1,0)) -> 0 | CO37: =IF((X37+AB37)>B37,1,0) -> 0
A38: Neurología Pediátrica | B38: =SUM(C38:T38) -> 1927 | C38: =SUM(ENERO:DICIEMBRE!C38) -> 404 | D38: =SUM(ENERO:DICIEMBRE!D38) -> 690 | E38: =SUM(ENERO:DICIEMBRE!E38) -> 648 | F38: =SUM(ENERO:DICIEMBRE!F38) -> 160 | G38: =SUM(ENERO:DICIEMBRE!G38) -> 23 | H38: =SUM(ENERO:DICIEMBRE!H38) -> 2 | I38: =SUM(ENERO:DICIEMBRE!I38) -> 0 | J38: =SUM(ENERO:DICIEMBRE!J38) -> 0 | ... W38: =SUM(ENERO:DICIEMBRE!W38) -> 594 | X38: =SUM(Y38+Z38+AA38) -> 529 | Y38: =SUM(ENERO:DICIEMBRE!Y38) -> 382 | Z38: =SUM(ENERO:DICIEMBRE!Z38) -> 147 | AA38: =SUM(ENERO:DICIEMBRE!AA38) -> 0 | AB38: =SUM(AC38+AD38+AE38) -> 14 | AC38: =SUM(ENERO:DICIEMBRE!AC38) -> 7 | AD38: =SUM(ENERO:DICIEMBRE!AD38) -> 7 | AE38: =SUM(ENERO:DICIEMBRE!AE38) -> 0 | AF38: =SUM(ENERO:DICIEMBRE!AF38) -> 0 | AG38: =SUM(ENERO:DICIEMBRE!AG38) -> 0 | AH38: =CB38&CC38&CD38 | CB38: =IF(V38+W38<>B38," * La suma por Sexo (Hombres + Mujeres) NO DEBEN ser diferente al Total","") | CC38: =IF(AND(B38>0,U38="")," * No olvide digitar la variable Beneficiarios. Digite CERO si no tiene",IF(U38>B38," * La variable Beneficiarios No puede ser mayor al Total.","")) | CD38: =IF((X38+AB38)>B38," * La suma del Total de Consultas Nuevas según Origen NO DEBE ser MAYOR que el total de Consultas y Controles médicos.","") | CM38: =IF(V38+W38<>B38,1,0) -> 0 | CN38: =IF(AND(B38>0,U38=""),1,IF(U38>B38,1,0)) -> 0 | CO38: =IF((X38+AB38)>B38,1,0) -> 0
A39: Neurología Adulto | B39: =SUM(C39:T39) -> 2398 | C39: =SUM(ENERO:DICIEMBRE!C39) -> 0 | D39: =SUM(ENERO:DICIEMBRE!D39) -> 0 | E39: =SUM(ENERO:DICIEMBRE!E39) -> 2 | F39: =SUM(ENERO:DICIEMBRE!F39) -> 102 | G39: =SUM(ENERO:DICIEMBRE!G39) -> 60 | H39: =SUM(ENERO:DICIEMBRE!H39) -> 91 | I39: =SUM(ENERO:DICIEMBRE!I39) -> 57 | J39: =SUM(ENERO:DICIEMBRE!J39) -> 57 | ... W39: =SUM(ENERO:DICIEMBRE!W39) -> 1286 | X39: =SUM(Y39+Z39+AA39) -> 86 | Y39: =SUM(ENERO:DICIEMBRE!Y39) -> 37 | Z39: =SUM(ENERO:DICIEMBRE!Z39) -> 49 | AA39: =SUM(ENERO:DICIEMBRE!AA39) -> 0 | AB39: =SUM(AC39+AD39+AE39) -> 1155 | AC39: =SUM(ENERO:DICIEMBRE!AC39) -> 505 | AD39: =SUM(ENERO:DICIEMBRE!AD39) -> 648 | AE39: =SUM(ENERO:DICIEMBRE!AE39) -> 2 | AF39: =SUM(ENERO:DICIEMBRE!AF39) -> 19 | AG39: =SUM(ENERO:DICIEMBRE!AG39) -> 299 | AH39: =CB39&CC39&CD39 | CB39: =IF(V39+W39<>B39," * La suma por Sexo (Hombres + Mujeres) NO DEBEN ser diferente al Total","") | CC39: =IF(AND(B39>0,U39="")," * No olvide digitar la variable Beneficiarios. Digite CERO si no tiene",IF(U39>B39," * La variable Beneficiarios No puede ser mayor al Total.","")) | CD39: =IF((X39+AB39)>B39," * La suma del Total de Consultas Nuevas según Origen NO DEBE ser MAYOR que el total de Consultas y Controles médicos.","") | CM39: =IF(V39+W39<>B39,1,0) -> 0 | CN39: =IF(AND(B39>0,U39=""),1,IF(U39>B39,1,0)) -> 0 | CO39: =IF((X39+AB39)>B39,1,0) -> 0
A40: Oncología Médica | B40: =SUM(C40:T40) -> 0 | C40: =SUM(ENERO:DICIEMBRE!C40) -> 0 | D40: =SUM(ENERO:DICIEMBRE!D40) -> 0 | E40: =SUM(ENERO:DICIEMBRE!E40) -> 0 | F40: =SUM(ENERO:DICIEMBRE!F40) -> 0 | G40: =SUM(ENERO:DICIEMBRE!G40) -> 0 | H40: =SUM(ENERO:DICIEMBRE!H40) -> 0 | I40: =SUM(ENERO:DICIEMBRE!I40) -> 0 | J40: =SUM(ENERO:DICIEMBRE!J40) -> 0 | ... W40: =SUM(ENERO:DICIEMBRE!W40) -> 0 | X40: =SUM(Y40+Z40+AA40) -> 0 | Y40: =SUM(ENERO:DICIEMBRE!Y40) -> 0 | Z40: =SUM(ENERO:DICIEMBRE!Z40) -> 0 | AA40: =SUM(ENERO:DICIEMBRE!AA40) -> 0 | AB40: =SUM(AC40+AD40+AE40) -> 0 | AC40: =SUM(ENERO:DICIEMBRE!AC40) -> 0 | AD40: =SUM(ENERO:DICIEMBRE!AD40) -> 0 | AE40: =SUM(ENERO:DICIEMBRE!AE40) -> 0 | AF40: =SUM(ENERO:DICIEMBRE!AF40) -> 0 | AG40: =SUM(ENERO:DICIEMBRE!AG40) -> 0 | AH40: =CB40&CC40&CD40 | CB40: =IF(V40+W40<>B40," * La suma por Sexo (Hombres + Mujeres) NO DEBEN ser diferente al Total","") | CC40: =IF(AND(B40>0,U40="")," * No olvide digitar la variable Beneficiarios. Digite CERO si no tiene",IF(U40>B40," * La variable Beneficiarios No puede ser mayor al Total.","")) | CD40: =IF((X40+AB40)>B40," * La suma del Total de Consultas Nuevas según Origen NO DEBE ser MAYOR que el total de Consultas y Controles médicos.","") | CM40: =IF(V40+W40<>B40,1,0) -> 0 | CN40: =IF(AND(B40>0,U40=""),1,IF(U40>B40,1,0)) -> 0 | CO40: =IF((X40+AB40)>B40,1,0) -> 0
A41: Psiquiatría Pediátrica y de La Adolescencia | B41: =SUM(C41:T41) -> 1001 | C41: =SUM(ENERO:DICIEMBRE!C41) -> 8 | D41: =SUM(ENERO:DICIEMBRE!D41) -> 95 | E41: =SUM(ENERO:DICIEMBRE!E41) -> 368 | F41: =SUM(ENERO:DICIEMBRE!F41) -> 521 | G41: =SUM(ENERO:DICIEMBRE!G41) -> 9 | H41: =SUM(ENERO:DICIEMBRE!H41) -> 0 | I41: =SUM(ENERO:DICIEMBRE!I41) -> 0 | J41: =SUM(ENERO:DICIEMBRE!J41) -> 0 | ... W41: =SUM(ENERO:DICIEMBRE!W41) -> 621 | X41: =SUM(Y41+Z41+AA41) -> 252 | Y41: =SUM(ENERO:DICIEMBRE!Y41) -> 128 | Z41: =SUM(ENERO:DICIEMBRE!Z41) -> 87 | AA41: =SUM(ENERO:DICIEMBRE!AA41) -> 37 | AB41: =SUM(AC41+AD41+AE41) -> 1 | AC41: =SUM(ENERO:DICIEMBRE!AC41) -> 0 | AD41: =SUM(ENERO:DICIEMBRE!AD41) -> 1 | AE41: =SUM(ENERO:DICIEMBRE!AE41) -> 0 | AF41: =SUM(ENERO:DICIEMBRE!AF41) -> 280 | AG41: =SUM(ENERO:DICIEMBRE!AG41) -> 0 | AH41: =CB41&CC41&CD41 | CB41: =IF(V41+W41<>B41," * La suma por Sexo (Hombres + Mujeres) NO DEBEN ser diferente al Total","") | CC41: =IF(AND(B41>0,U41="")," * No olvide digitar la variable Beneficiarios. Digite CERO si no tiene",IF(U41>B41," * La variable Beneficiarios No puede ser mayor al Total.","")) | CD41: =IF((X41+AB41)>B41," * La suma del Total de Consultas Nuevas según Origen NO DEBE ser MAYOR que el total de Consultas y Controles médicos.","") | CM41: =IF(V41+W41<>B41,1,0) -> 0 | CN41: =IF(AND(B41>0,U41=""),1,IF(U41>B41,1,0)) -> 0 | CO41: =IF((X41+AB41)>B41,1,0) -> 0
A42: Psiquiatría Adulto | B42: =SUM(C42:T42) -> 3938 | C42: =SUM(ENERO:DICIEMBRE!C42) -> 0 | D42: =SUM(ENERO:DICIEMBRE!D42) -> 2 | E42: =SUM(ENERO:DICIEMBRE!E42) -> 4 | F42: =SUM(ENERO:DICIEMBRE!F42) -> 27 | G42: =SUM(ENERO:DICIEMBRE!G42) -> 76 | H42: =SUM(ENERO:DICIEMBRE!H42) -> 391 | I42: =SUM(ENERO:DICIEMBRE!I42) -> 325 | J42: =SUM(ENERO:DICIEMBRE!J42) -> 392 | ... W42: =SUM(ENERO:DICIEMBRE!W42) -> 2362 | X42: =SUM(Y42+Z42+AA42) -> 116 | Y42: =SUM(ENERO:DICIEMBRE!Y42) -> 49 | Z42: =SUM(ENERO:DICIEMBRE!Z42) -> 66 | AA42: =SUM(ENERO:DICIEMBRE!AA42) -> 1 | AB42: =SUM(AC42+AD42+AE42) -> 710 | AC42: =SUM(ENERO:DICIEMBRE!AC42) -> 170 | AD42: =SUM(ENERO:DICIEMBRE!AD42) -> 472 | AE42: =SUM(ENERO:DICIEMBRE!AE42) -> 68 | AF42: =SUM(ENERO:DICIEMBRE!AF42) -> 18 | AG42: =SUM(ENERO:DICIEMBRE!AG42) -> 1119 | AH42: =CB42&CC42&CD42 | CB42: =IF(V42+W42<>B42," * La suma por Sexo (Hombres + Mujeres) NO DEBEN ser diferente al Total","") | CC42: =IF(AND(B42>0,U42="")," * No olvide digitar la variable Beneficiarios. Digite CERO si no tiene",IF(U42>B42," * La variable Beneficiarios No puede ser mayor al Total.","")) | CD42: =IF((X42+AB42)>B42," * La suma del Total de Consultas Nuevas según Origen NO DEBE ser MAYOR que el total de Consultas y Controles médicos.","") | CM42: =IF(V42+W42<>B42,1,0) -> 0 | CN42: =IF(AND(B42>0,U42=""),1,IF(U42>B42,1,0)) -> 0 | CO42: =IF((X42+AB42)>B42,1,0) -> 0
A43: Cirugía Pediátrica | B43: =SUM(C43:T43) -> 1730 | C43: =SUM(ENERO:DICIEMBRE!C43) -> 612 | D43: =SUM(ENERO:DICIEMBRE!D43) -> 810 | E43: =SUM(ENERO:DICIEMBRE!E43) -> 296 | F43: =SUM(ENERO:DICIEMBRE!F43) -> 12 | G43: =SUM(ENERO:DICIEMBRE!G43) -> 0 | H43: =SUM(ENERO:DICIEMBRE!H43) -> 0 | I43: =SUM(ENERO:DICIEMBRE!I43) -> 0 | J43: =SUM(ENERO:DICIEMBRE!J43) -> 0 | ... W43: =SUM(ENERO:DICIEMBRE!W43) -> 215 | X43: =SUM(Y43+Z43+AA43) -> 698 | Y43: =SUM(ENERO:DICIEMBRE!Y43) -> 325 | Z43: =SUM(ENERO:DICIEMBRE!Z43) -> 366 | AA43: =SUM(ENERO:DICIEMBRE!AA43) -> 7 | AB43: =SUM(AC43+AD43+AE43) -> 32 | AC43: =SUM(ENERO:DICIEMBRE!AC43) -> 21 | AD43: =SUM(ENERO:DICIEMBRE!AD43) -> 11 | AE43: =SUM(ENERO:DICIEMBRE!AE43) -> 0 | AF43: =SUM(ENERO:DICIEMBRE!AF43) -> 0 | AG43: =SUM(ENERO:DICIEMBRE!AG43) -> 0 | AH43: =CB43&CC43&CD43 | CB43: =IF(V43+W43<>B43," * La suma por Sexo (Hombres + Mujeres) NO DEBEN ser diferente al Total","") | CC43: =IF(AND(B43>0,U43="")," * No olvide digitar la variable Beneficiarios. Digite CERO si no tiene",IF(U43>B43," * La variable Beneficiarios No puede ser mayor al Total.","")) | CD43: =IF((X43+AB43)>B43," * La suma del Total de Consultas Nuevas según Origen NO DEBE ser MAYOR que el total de Consultas y Controles médicos.","") | CM43: =IF(V43+W43<>B43,1,0) -> 0 | CN43: =IF(AND(B43>0,U43=""),1,IF(U43>B43,1,0)) -> 0 | CO43: =IF((X43+AB43)>B43,1,0) -> 0
A44: Cirugía General | B44: =SUM(C44:T44) -> 9140 | C44: =SUM(ENERO:DICIEMBRE!C44) -> 0 | D44: =SUM(ENERO:DICIEMBRE!D44) -> 0 | E44: =SUM(ENERO:DICIEMBRE!E44) -> 1 | F44: =SUM(ENERO:DICIEMBRE!F44) -> 79 | G44: =SUM(ENERO:DICIEMBRE!G44) -> 63 | H44: =SUM(ENERO:DICIEMBRE!H44) -> 155 | I44: =SUM(ENERO:DICIEMBRE!I44) -> 221 | J44: =SUM(ENERO:DICIEMBRE!J44) -> 304 | ... W44: =SUM(ENERO:DICIEMBRE!W44) -> 5721 | X44: =SUM(Y44+Z44+AA44) -> 33 | Y44: =SUM(ENERO:DICIEMBRE!Y44) -> 20 | Z44: =SUM(ENERO:DICIEMBRE!Z44) -> 12 | AA44: =SUM(ENERO:DICIEMBRE!AA44) -> 1 | AB44: =SUM(AC44+AD44+AE44) -> 3548 | AC44: =SUM(ENERO:DICIEMBRE!AC44) -> 1937 | AD44: =SUM(ENERO:DICIEMBRE!AD44) -> 1605 | AE44: =SUM(ENERO:DICIEMBRE!AE44) -> 6 | AF44: =SUM(ENERO:DICIEMBRE!AF44) -> 2 | AG44: =SUM(ENERO:DICIEMBRE!AG44) -> 126 | AH44: =CB44&CC44&CD44 | CB44: =IF(V44+W44<>B44," * La suma por Sexo (Hombres + Mujeres) NO DEBEN ser diferente al Total","") | CC44: =IF(AND(B44>0,U44="")," * No olvide digitar la variable Beneficiarios. Digite CERO si no tiene",IF(U44>B44," * La variable Beneficiarios No puede ser mayor al Total.","")) | CD44: =IF((X44+AB44)>B44," * La suma del Total de Consultas Nuevas según Origen NO DEBE ser MAYOR que el total de Consultas y Controles médicos.","") | CM44: =IF(V44+W44<>B44,1,0) -> 0 | CN44: =IF(AND(B44>0,U44=""),1,IF(U44>B44,1,0)) -> 0 | CO44: =IF((X44+AB44)>B44,1,0) -> 0
A45: Cirugía Digestiva (Alta) | B45: =SUM(C45:T45) -> 397 | C45: =SUM(ENERO:DICIEMBRE!C45) -> 0 | D45: =SUM(ENERO:DICIEMBRE!D45) -> 0 | E45: =SUM(ENERO:DICIEMBRE!E45) -> 0 | F45: =SUM(ENERO:DICIEMBRE!F45) -> 2 | G45: =SUM(ENERO:DICIEMBRE!G45) -> 0 | H45: =SUM(ENERO:DICIEMBRE!H45) -> 3 | I45: =SUM(ENERO:DICIEMBRE!I45) -> 4 | J45: =SUM(ENERO:DICIEMBRE!J45) -> 10 | ... W45: =SUM(ENERO:DICIEMBRE!W45) -> 202 | X45: =SUM(Y45+Z45+AA45) -> 1 | Y45: =SUM(ENERO:DICIEMBRE!Y45) -> 0 | Z45: =SUM(ENERO:DICIEMBRE!Z45) -> 1 | AA45: =SUM(ENERO:DICIEMBRE!AA45) -> 0 | AB45: =SUM(AC45+AD45+AE45) -> 240 | AC45: =SUM(ENERO:DICIEMBRE!AC45) -> 68 | AD45: =SUM(ENERO:DICIEMBRE!AD45) -> 170 | AE45: =SUM(ENERO:DICIEMBRE!AE45) -> 2 | AF45: =SUM(ENERO:DICIEMBRE!AF45) -> 0 | AG45: =SUM(ENERO:DICIEMBRE!AG45) -> 0 | AH45: =CB45&CC45&CD45 | CB45: =IF(V45+W45<>B45," * La suma por Sexo (Hombres + Mujeres) NO DEBEN ser diferente al Total","") | CC45: =IF(AND(B45>0,U45="")," * No olvide digitar la variable Beneficiarios. Digite CERO si no tiene",IF(U45>B45," * La variable Beneficiarios No puede ser mayor al Total.","")) | CD45: =IF((X45+AB45)>B45," * La suma del Total de Consultas Nuevas según Origen NO DEBE ser MAYOR que el total de Consultas y Controles médicos.","") | CM45: =IF(V45+W45<>B45,1,0) -> 0 | CN45: =IF(AND(B45>0,U45=""),1,IF(U45>B45,1,0)) -> 0 | CO45: =IF((X45+AB45)>B45,1,0) -> 0
A46: Cirugía de Cabeza, Cuello y Maxilofacial | B46: =SUM(C46:T46) -> 0 | C46: =SUM(ENERO:DICIEMBRE!C46) -> 0 | D46: =SUM(ENERO:DICIEMBRE!D46) -> 0 | E46: =SUM(ENERO:DICIEMBRE!E46) -> 0 | F46: =SUM(ENERO:DICIEMBRE!F46) -> 0 | G46: =SUM(ENERO:DICIEMBRE!G46) -> 0 | H46: =SUM(ENERO:DICIEMBRE!H46) -> 0 | I46: =SUM(ENERO:DICIEMBRE!I46) -> 0 | J46: =SUM(ENERO:DICIEMBRE!J46) -> 0 | ... W46: =SUM(ENERO:DICIEMBRE!W46) -> 0 | X46: =SUM(Y46+Z46+AA46) -> 0 | Y46: =SUM(ENERO:DICIEMBRE!Y46) -> 0 | Z46: =SUM(ENERO:DICIEMBRE!Z46) -> 0 | AA46: =SUM(ENERO:DICIEMBRE!AA46) -> 0 | AB46: =SUM(AC46+AD46+AE46) -> 0 | AC46: =SUM(ENERO:DICIEMBRE!AC46) -> 0 | AD46: =SUM(ENERO:DICIEMBRE!AD46) -> 0 | AE46: =SUM(ENERO:DICIEMBRE!AE46) -> 0 | AF46: =SUM(ENERO:DICIEMBRE!AF46) -> 0 | AG46: =SUM(ENERO:DICIEMBRE!AG46) -> 0 | AH46: =CB46&CC46&CD46 | CB46: =IF(V46+W46<>B46," * La suma por Sexo (Hombres + Mujeres) NO DEBEN ser diferente al Total","") | CC46: =IF(AND(B46>0,U46="")," * No olvide digitar la variable Beneficiarios. Digite CERO si no tiene",IF(U46>B46," * La variable Beneficiarios No puede ser mayor al Total.","")) | CD46: =IF((X46+AB46)>B46," * La suma del Total de Consultas Nuevas según Origen NO DEBE ser MAYOR que el total de Consultas y Controles médicos.","") | CM46: =IF(V46+W46<>B46,1,0) -> 0 | CN46: =IF(AND(B46>0,U46=""),1,IF(U46>B46,1,0)) -> 0 | CO46: =IF((X46+AB46)>B46,1,0) -> 0
A47: Cirugía Plástica y Reparadora | B47: =SUM(C47:T47) -> 0 | C47: =SUM(ENERO:DICIEMBRE!C47) -> 0 | D47: =SUM(ENERO:DICIEMBRE!D47) -> 0 | E47: =SUM(ENERO:DICIEMBRE!E47) -> 0 | F47: =SUM(ENERO:DICIEMBRE!F47) -> 0 | G47: =SUM(ENERO:DICIEMBRE!G47) -> 0 | H47: =SUM(ENERO:DICIEMBRE!H47) -> 0 | I47: =SUM(ENERO:DICIEMBRE!I47) -> 0 | J47: =SUM(ENERO:DICIEMBRE!J47) -> 0 | ... W47: =SUM(ENERO:DICIEMBRE!W47) -> 0 | X47: =SUM(Y47+Z47+AA47) -> 0 | Y47: =SUM(ENERO:DICIEMBRE!Y47) -> 0 | Z47: =SUM(ENERO:DICIEMBRE!Z47) -> 0 | AA47: =SUM(ENERO:DICIEMBRE!AA47) -> 0 | AB47: =SUM(AC47+AD47+AE47) -> 0 | AC47: =SUM(ENERO:DICIEMBRE!AC47) -> 0 | AD47: =SUM(ENERO:DICIEMBRE!AD47) -> 0 | AE47: =SUM(ENERO:DICIEMBRE!AE47) -> 0 | AF47: =SUM(ENERO:DICIEMBRE!AF47) -> 0 | AG47: =SUM(ENERO:DICIEMBRE!AG47) -> 0 | AH47: =CB47&CC47&CD47 | CB47: =IF(V47+W47<>B47," * La suma por Sexo (Hombres + Mujeres) NO DEBEN ser diferente al Total","") | CC47: =IF(AND(B47>0,U47="")," * No olvide digitar la variable Beneficiarios. Digite CERO si no tiene",IF(U47>B47," * La variable Beneficiarios No puede ser mayor al Total.","")) | CD47: =IF((X47+AB47)>B47," * La suma del Total de Consultas Nuevas según Origen NO DEBE ser MAYOR que el total de Consultas y Controles médicos.","") | CM47: =IF(V47+W47<>B47,1,0) -> 0 | CN47: =IF(AND(B47>0,U47=""),1,IF(U47>B47,1,0)) -> 0 | CO47: =IF((X47+AB47)>B47,1,0) -> 0
... A66: Radioterapia Oncológica | B66: =SUM(C66:T66) -> 0 | C66: =SUM(ENERO:DICIEMBRE!C66) -> 0 | D66: =SUM(ENERO:DICIEMBRE!D66) -> 0 | E66: =SUM(ENERO:DICIEMBRE!E66) -> 0 | F66: =SUM(ENERO:DICIEMBRE!F66) -> 0 | G66: =SUM(ENERO:DICIEMBRE!G66) -> 0 | H66: =SUM(ENERO:DICIEMBRE!H66) -> 0 | I66: =SUM(ENERO:DICIEMBRE!I66) -> 0 | J66: =SUM(ENERO:DICIEMBRE!J66) -> 0 | ... W66: =SUM(ENERO:DICIEMBRE!W66) -> 0 | X66: =SUM(Y66+Z66+AA66) -> 0 | Y66: =SUM(ENERO:DICIEMBRE!Y66) -> 0 | Z66: =SUM(ENERO:DICIEMBRE!Z66) -> 0 | AA66: =SUM(ENERO:DICIEMBRE!AA66) -> 0 | AB66: =SUM(AC66+AD66+AE66) -> 0 | AC66: =SUM(ENERO:DICIEMBRE!AC66) -> 0 | AD66: =SUM(ENERO:DICIEMBRE!AD66) -> 0 | AE66: =SUM(ENERO:DICIEMBRE!AE66) -> 0 | AF66: =SUM(ENERO:DICIEMBRE!AF66) -> 0 | AG66: =SUM(ENERO:DICIEMBRE!AG66) -> 0 | AH66: =CB66&CC66&CD66 | CB66: =IF(V66+W66<>B66," * La suma por Sexo (Hombres + Mujeres) NO DEBEN ser diferente al Total","") | CC66: =IF(AND(B66>0,U66="")," * No olvide digitar la variable Beneficiarios. Digite CERO si no tiene",IF(U66>B66," * La variable Beneficiarios No puede ser mayor al Total.","")) | CD66: =IF((X66+AB66)>B66," * La suma del Total de Consultas Nuevas según Origen NO DEBE ser MAYOR que el total de Consultas y Controles médicos.","") | CM66: =IF(V66+W66<>B66,1,0) -> 0 | CN66: =IF(AND(B66>0,U66=""),1,IF(U66>B66,1,0)) -> 0 | CO66: =IF((X66+AB66)>B66,1,0) -> 0
A67: TOTAL | B67: =SUM(B12:B66) -> 95606 | C67: =SUM(C12:C66) -> 5989 | D67: =SUM(D12:D66) -> 5544 | E67: =SUM(E12:E66) -> 5260 | F67: =SUM(F12:F66) -> 2290 | G67: =SUM(G12:G66) -> 875 | H67: =SUM(H12:H66) -> 2123 | I67: =SUM(I12:I66) -> 2973 | ... AG67: =SUM(AG12:AG66) -> 5510
A68: SECCIÓN A.1: ATRIBUTOS DE LAS ATENCIONES DE ESPECIALIDAD
A69: ESPECIALIDADES Y SUB-ESPECIALIDADES | B69: Interconsultas pertinentes según Criterio Clínico | F69: Consultas pertinentes según tiempo establecido en Box | J69: Consultas pertinentes según Criterio Clínico en Box | N69: Contrarreferencia inicial o retorno | Q69: Contrarreferencia al alta | S69: Alta de Consulta de Especialidad Ambulatoria | U69: Inasistente a consulta médica (NSP) | W69: CONSULTA ABREVIADA (Confección de recetas o lectura de exámenes) | X69: Atención Especialista en Sala | Z69: Consultas realizadas en APS e informadas (contenidas en sección A) | AB69: Compra de Servicios (No incluidas en total de atenciones) | AD69: Consultas Médicas por Operativos (no incluidas en produccion) | AE69: Total Interconsultas generadas en APS para derivación Especialidad | AG69: Consultorías de Médicos Especialistas otorgadas
B70: Total | C70: APS | D70: CDT/CAE/CRS/Hospitalizado | E70: Urgencia | F70: Total | G70: APS | H70: CDT/CAE/CRS/Hospitalizado | I70: Urgencia | J70: Total | K70: APS | L70: CDT/CAE/CRS/Hospitalizado | M70: Urgencia | N70: Total | O70: Menos 18 años | P70: 18 y más años | Q70: Menos 18 años | R70: 18 y más años | S70: Menos 18 años | T70: 18 y más años | U70: Nuevas | V70: Controles | X70: Menos 18 años | Y70: 18 y más años | Z70: Contratados por el Establecimiento o Dirección del Servicio | AA70: Especialistas de Hospitales | AB70: Red Pública | AC70: Privados | AE70: Menos 18 años | AF70: 18 y más años | AG70: Nº Consultorías | AH70: Nº de casos revisados por el equipo | AI70: Nº de casos atendidos | AJ70: no institucional
A71: Pediatría | B71: =SUM(C71:E71) -> 0 | C71: =SUM(ENERO:DICIEMBRE!C71) -> 0 | D71: =SUM(ENERO:DICIEMBRE!D71) -> 0 | E71: =SUM(ENERO:DICIEMBRE!E71) -> 0 | F71: =SUM(G71:I71) -> 411 | G71: =SUM(ENERO:DICIEMBRE!G71) -> 340 | H71: =SUM(ENERO:DICIEMBRE!H71) -> 68 | I71: =SUM(ENERO:DICIEMBRE!I71) -> 3 | J71: =SUM(K71:M71) -> 437 | K71: =SUM(ENERO:DICIEMBRE!K71) -> 364 | L71: =SUM(ENERO:DICIEMBRE!L71) -> 71 | M71: =SUM(ENERO:DICIEMBRE!M71) -> 2 | N71: =SUM(O71:P71) -> 504 | O71: =SUM(ENERO:DICIEMBRE!O71) -> 502 | P71: =SUM(ENERO:DICIEMBRE!P71) -> 2 | Q71: =SUM(ENERO:DICIEMBRE!Q71) -> 16 | R71: =SUM(ENERO:DICIEMBRE!R71) -> 0 | S71: =SUM(ENERO:DICIEMBRE!S71) -> 250 | T71: =SUM(ENERO:DICIEMBRE!T71) -> 7 | U71: =SUM(ENERO:DICIEMBRE!U71) -> 151 | V71: =SUM(ENERO:DICIEMBRE!V71) -> 347 | ... AI71: =SUM(ENERO:DICIEMBRE!AI71) -> 0 | AJ71: =AB71+AC71+AD71 -> 0
A72: Medicina Interna | B72: =SUM(C72:E72) -> 0 | C72: =SUM(ENERO:DICIEMBRE!C72) -> 0 | D72: =SUM(ENERO:DICIEMBRE!D72) -> 0 | E72: =SUM(ENERO:DICIEMBRE!E72) -> 0 | F72: =SUM(G72:I72) -> 706 | G72: =SUM(ENERO:DICIEMBRE!G72) -> 557 | H72: =SUM(ENERO:DICIEMBRE!H72) -> 137 | I72: =SUM(ENERO:DICIEMBRE!I72) -> 12 | J72: =SUM(K72:M72) -> 862 | K72: =SUM(ENERO:DICIEMBRE!K72) -> 686 | L72: =SUM(ENERO:DICIEMBRE!L72) -> 160 | M72: =SUM(ENERO:DICIEMBRE!M72) -> 16 | N72: =SUM(O72:P72) -> 843 | O72: =SUM(ENERO:DICIEMBRE!O72) -> 0 | P72: =SUM(ENERO:DICIEMBRE!P72) -> 843 | Q72: =SUM(ENERO:DICIEMBRE!Q72) -> 0 | R72: =SUM(ENERO:DICIEMBRE!R72) -> 172 | S72: =SUM(ENERO:DICIEMBRE!S72) -> 3 | T72: =SUM(ENERO:DICIEMBRE!T72) -> 650 | U72: =SUM(ENERO:DICIEMBRE!U72) -> 369 | V72: =SUM(ENERO:DICIEMBRE!V72) -> 777 | ... AI72: =SUM(ENERO:DICIEMBRE!AI72) -> 0 | AJ72: =AB72+AC72+AD72 -> 0
A73: Neonatología | B73: =SUM(C73:E73) -> 0 | C73: =SUM(ENERO:DICIEMBRE!C73) -> 0 | D73: =SUM(ENERO:DICIEMBRE!D73) -> 0 | E73: =SUM(ENERO:DICIEMBRE!E73) -> 0 | F73: =SUM(G73:I73) -> 0 | G73: =SUM(ENERO:DICIEMBRE!G73) -> 0 | H73: =SUM(ENERO:DICIEMBRE!H73) -> 0 | I73: =SUM(ENERO:DICIEMBRE!I73) -> 0 | J73: =SUM(K73:M73) -> 0 | K73: =SUM(ENERO:DICIEMBRE!K73) -> 0 | L73: =SUM(ENERO:DICIEMBRE!L73) -> 0 | M73: =SUM(ENERO:DICIEMBRE!M73) -> 0 | N73: =SUM(O73:P73) -> 0 | O73: =SUM(ENERO:DICIEMBRE!O73) -> 0 | P73: =SUM(ENERO:DICIEMBRE!P73) -> 0 | Q73: =SUM(ENERO:DICIEMBRE!Q73) -> 0 | R73: =SUM(ENERO:DICIEMBRE!R73) -> 0 | S73: =SUM(ENERO:DICIEMBRE!S73) -> 0 | T73: =SUM(ENERO:DICIEMBRE!T73) -> 0 | U73: =SUM(ENERO:DICIEMBRE!U73) -> 0 | V73: =SUM(ENERO:DICIEMBRE!V73) -> 0 | ... AI73: =SUM(ENERO:DICIEMBRE!AI73) -> 0 | AJ73: =AB73+AC73+AD73 -> 0
A74: Enfermedad Respiratoria Pediátrica (Broncopulmonar Infantil) | B74: =SUM(C74:E74) -> 0 | C74: =SUM(ENERO:DICIEMBRE!C74) -> 0 | D74: =SUM(ENERO:DICIEMBRE!D74) -> 0 | E74: =SUM(ENERO:DICIEMBRE!E74) -> 0 | F74: =SUM(G74:I74) -> 0 | G74: =SUM(ENERO:DICIEMBRE!G74) -> 0 | H74: =SUM(ENERO:DICIEMBRE!H74) -> 0 | I74: =SUM(ENERO:DICIEMBRE!I74) -> 0 | J74: =SUM(K74:M74) -> 0 | K74: =SUM(ENERO:DICIEMBRE!K74) -> 0 | L74: =SUM(ENERO:DICIEMBRE!L74) -> 0 | M74: =SUM(ENERO:DICIEMBRE!M74) -> 0 | N74: =SUM(O74:P74) -> 0 | O74: =SUM(ENERO:DICIEMBRE!O74) -> 0 | P74: =SUM(ENERO:DICIEMBRE!P74) -> 0 | Q74: =SUM(ENERO:DICIEMBRE!Q74) -> 0 | R74: =SUM(ENERO:DICIEMBRE!R74) -> 0 | S74: =SUM(ENERO:DICIEMBRE!S74) -> 16 | T74: =SUM(ENERO:DICIEMBRE!T74) -> 0 | U74: =SUM(ENERO:DICIEMBRE!U74) -> 3 | V74: =SUM(ENERO:DICIEMBRE!V74) -> 65 | ... AI74: =SUM(ENERO:DICIEMBRE!AI74) -> 0 | AJ74: =AB74+AC74+AD74 -> 0
A75: Enfermedad Respiratoria de Adulto (Broncopulmonar) | B75: =SUM(C75:E75) -> 0 | C75: =SUM(ENERO:DICIEMBRE!C75) -> 0 | D75: =SUM(ENERO:DICIEMBRE!D75) -> 0 | E75: =SUM(ENERO:DICIEMBRE!E75) -> 0 | F75: =SUM(G75:I75) -> 268 | G75: =SUM(ENERO:DICIEMBRE!G75) -> 236 | H75: =SUM(ENERO:DICIEMBRE!H75) -> 31 | I75: =SUM(ENERO:DICIEMBRE!I75) -> 1 | J75: =SUM(K75:M75) -> 342 | K75: =SUM(ENERO:DICIEMBRE!K75) -> 296 | L75: =SUM(ENERO:DICIEMBRE!L75) -> 44 | M75: =SUM(ENERO:DICIEMBRE!M75) -> 2 | N75: =SUM(O75:P75) -> 367 | O75: =SUM(ENERO:DICIEMBRE!O75) -> 0 | P75: =SUM(ENERO:DICIEMBRE!P75) -> 367 | Q75: =SUM(ENERO:DICIEMBRE!Q75) -> 0 | R75: =SUM(ENERO:DICIEMBRE!R75) -> 57 | S75: =SUM(ENERO:DICIEMBRE!S75) -> 0 | T75: =SUM(ENERO:DICIEMBRE!T75) -> 174 | U75: =SUM(ENERO:DICIEMBRE!U75) -> 57 | V75: =SUM(ENERO:DICIEMBRE!V75) -> 184 | ... AI75: =SUM(ENERO:DICIEMBRE!AI75) -> 0 | AJ75: =AB75+AC75+AD75 -> 0
A76: Cardiología | B76: =SUM(C76:E76) -> 0 | C76: =SUM(ENERO:DICIEMBRE!C76) -> 0 | D76: =SUM(ENERO:DICIEMBRE!D76) -> 0 | E76: =SUM(ENERO:DICIEMBRE!E76) -> 0 | F76: =SUM(G76:I76) -> 512 | G76: =SUM(ENERO:DICIEMBRE!G76) -> 405 | H76: =SUM(ENERO:DICIEMBRE!H76) -> 105 | I76: =SUM(ENERO:DICIEMBRE!I76) -> 2 | J76: =SUM(K76:M76) -> 579 | K76: =SUM(ENERO:DICIEMBRE!K76) -> 458 | L76: =SUM(ENERO:DICIEMBRE!L76) -> 119 | M76: =SUM(ENERO:DICIEMBRE!M76) -> 2 | N76: =SUM(O76:P76) -> 579 | O76: =SUM(ENERO:DICIEMBRE!O76) -> 1 | P76: =SUM(ENERO:DICIEMBRE!P76) -> 578 | Q76: =SUM(ENERO:DICIEMBRE!Q76) -> 0 | R76: =SUM(ENERO:DICIEMBRE!R76) -> 41 | S76: =SUM(ENERO:DICIEMBRE!S76) -> 59 | T76: =SUM(ENERO:DICIEMBRE!T76) -> 194 | U76: =SUM(ENERO:DICIEMBRE!U76) -> 148 | V76: =SUM(ENERO:DICIEMBRE!V76) -> 178 | ... AI76: =SUM(ENERO:DICIEMBRE!AI76) -> 0 | AJ76: =AB76+AC76+AD76 -> 283
A77: Mastología | B77: =SUM(C77:E77) -> 0 | C77: =SUM(ENERO:DICIEMBRE!C77) -> 0 | D77: =SUM(ENERO:DICIEMBRE!D77) -> 0 | E77: =SUM(ENERO:DICIEMBRE!E77) -> 0 | F77: =SUM(G77:I77) -> 0 | G77: =SUM(ENERO:DICIEMBRE!G77) -> 0 | H77: =SUM(ENERO:DICIEMBRE!H77) -> 0 | I77: =SUM(ENERO:DICIEMBRE!I77) -> 0 | J77: =SUM(K77:M77) -> 0 | K77: =SUM(ENERO:DICIEMBRE!K77) -> 0 | L77: =SUM(ENERO:DICIEMBRE!L77) -> 0 | M77: =SUM(ENERO:DICIEMBRE!M77) -> 0 | N77: =SUM(O77:P77) -> 0 | O77: =SUM(ENERO:DICIEMBRE!O77) -> 0 | P77: =SUM(ENERO:DICIEMBRE!P77) -> 0 | Q77: =SUM(ENERO:DICIEMBRE!Q77) -> 0 | R77: =SUM(ENERO:DICIEMBRE!R77) -> 0 | S77: =SUM(ENERO:DICIEMBRE!S77) -> 0 | T77: =SUM(ENERO:DICIEMBRE!T77) -> 68 | U77: =SUM(ENERO:DICIEMBRE!U77) -> 7 | V77: =SUM(ENERO:DICIEMBRE!V77) -> 0 | ... AI77: =SUM(ENERO:DICIEMBRE!AI77) -> 0 | AJ77: =AB77+AC77+AD77 -> 216
A78: Endocrinología Pediátrica | B78: =SUM(C78:E78) -> 0 | C78: =SUM(ENERO:DICIEMBRE!C78) -> 0 | D78: =SUM(ENERO:DICIEMBRE!D78) -> 0 | E78: =SUM(ENERO:DICIEMBRE!E78) -> 0 | F78: =SUM(G78:I78) -> 0 | G78: =SUM(ENERO:DICIEMBRE!G78) -> 0 | H78: =SUM(ENERO:DICIEMBRE!H78) -> 0 | I78: =SUM(ENERO:DICIEMBRE!I78) -> 0 | J78: =SUM(K78:M78) -> 0 | K78: =SUM(ENERO:DICIEMBRE!K78) -> 0 | L78: =SUM(ENERO:DICIEMBRE!L78) -> 0 | M78: =SUM(ENERO:DICIEMBRE!M78) -> 0 | N78: =SUM(O78:P78) -> 0 | O78: =SUM(ENERO:DICIEMBRE!O78) -> 0 | P78: =SUM(ENERO:DICIEMBRE!P78) -> 0 | Q78: =SUM(ENERO:DICIEMBRE!Q78) -> 0 | R78: =SUM(ENERO:DICIEMBRE!R78) -> 0 | S78: =SUM(ENERO:DICIEMBRE!S78) -> 0 | T78: =SUM(ENERO:DICIEMBRE!T78) -> 0 | U78: =SUM(ENERO:DICIEMBRE!U78) -> 0 | V78: =SUM(ENERO:DICIEMBRE!V78) -> 0 | ... AI78: =SUM(ENERO:DICIEMBRE!AI78) -> 0 | AJ78: =AB78+AC78+AD78 -> 0
A79: Endocrinología Adulto | B79: =SUM(C79:E79) -> 0 | C79: =SUM(ENERO:DICIEMBRE!C79) -> 0 | D79: =SUM(ENERO:DICIEMBRE!D79) -> 0 | E79: =SUM(ENERO:DICIEMBRE!E79) -> 0 | F79: =SUM(G79:I79) -> 213 | G79: =SUM(ENERO:DICIEMBRE!G79) -> 199 | H79: =SUM(ENERO:DICIEMBRE!H79) -> 13 | I79: =SUM(ENERO:DICIEMBRE!I79) -> 1 | J79: =SUM(K79:M79) -> 252 | K79: =SUM(ENERO:DICIEMBRE!K79) -> 235 | L79: =SUM(ENERO:DICIEMBRE!L79) -> 15 | M79: =SUM(ENERO:DICIEMBRE!M79) -> 2 | N79: =SUM(O79:P79) -> 255 | O79: =SUM(ENERO:DICIEMBRE!O79) -> 1 | P79: =SUM(ENERO:DICIEMBRE!P79) -> 254 | Q79: =SUM(ENERO:DICIEMBRE!Q79) -> 0 | R79: =SUM(ENERO:DICIEMBRE!R79) -> 18 | S79: =SUM(ENERO:DICIEMBRE!S79) -> 1 | T79: =SUM(ENERO:DICIEMBRE!T79) -> 92 | U79: =SUM(ENERO:DICIEMBRE!U79) -> 55 | V79: =SUM(ENERO:DICIEMBRE!V79) -> 61 | ... AI79: =SUM(ENERO:DICIEMBRE!AI79) -> 0 | AJ79: =AB79+AC79+AD79 -> 140
A80: Gastroenterología Pediátrica | B80: =SUM(C80:E80) -> 0 | C80: =SUM(ENERO:DICIEMBRE!C80) -> 0 | D80: =SUM(ENERO:DICIEMBRE!D80) -> 0 | E80: =SUM(ENERO:DICIEMBRE!E80) -> 0 | F80: =SUM(G80:I80) -> 0 | G80: =SUM(ENERO:DICIEMBRE!G80) -> 0 | H80: =SUM(ENERO:DICIEMBRE!H80) -> 0 | I80: =SUM(ENERO:DICIEMBRE!I80) -> 0 | J80: =SUM(K80:M80) -> 0 | K80: =SUM(ENERO:DICIEMBRE!K80) -> 0 | L80: =SUM(ENERO:DICIEMBRE!L80) -> 0 | M80: =SUM(ENERO:DICIEMBRE!M80) -> 0 | N80: =SUM(O80:P80) -> 0 | O80: =SUM(ENERO:DICIEMBRE!O80) -> 0 | P80: =SUM(ENERO:DICIEMBRE!P80) -> 0 | Q80: =SUM(ENERO:DICIEMBRE!Q80) -> 0 | R80: =SUM(ENERO:DICIEMBRE!R80) -> 0 | S80: =SUM(ENERO:DICIEMBRE!S80) -> 0 | T80: =SUM(ENERO:DICIEMBRE!T80) -> 0 | U80: =SUM(ENERO:DICIEMBRE!U80) -> 0 | V80: =SUM(ENERO:DICIEMBRE!V80) -> 0 | ... AI80: =SUM(ENERO:DICIEMBRE!AI80) -> 0 | AJ80: =AB80+AC80+AD80 -> 0
A81: Gastroenterología Adulto | B81: =SUM(C81:E81) -> 0 | C81: =SUM(ENERO:DICIEMBRE!C81) -> 0 | D81: =SUM(ENERO:DICIEMBRE!D81) -> 0 | E81: =SUM(ENERO:DICIEMBRE!E81) -> 0 | F81: =SUM(G81:I81) -> 215 | G81: =SUM(ENERO:DICIEMBRE!G81) -> 198 | H81: =SUM(ENERO:DICIEMBRE!H81) -> 17 | I81: =SUM(ENERO:DICIEMBRE!I81) -> 0 | J81: =SUM(K81:M81) -> 251 | K81: =SUM(ENERO:DICIEMBRE!K81) -> 230 | L81: =SUM(ENERO:DICIEMBRE!L81) -> 21 | M81: =SUM(ENERO:DICIEMBRE!M81) -> 0 | N81: =SUM(O81:P81) -> 282 | O81: =SUM(ENERO:DICIEMBRE!O81) -> 0 | P81: =SUM(ENERO:DICIEMBRE!P81) -> 282 | Q81: =SUM(ENERO:DICIEMBRE!Q81) -> 0 | R81: =SUM(ENERO:DICIEMBRE!R81) -> 44 | S81: =SUM(ENERO:DICIEMBRE!S81) -> 0 | T81: =SUM(ENERO:DICIEMBRE!T81) -> 169 | U81: =SUM(ENERO:DICIEMBRE!U81) -> 223 | V81: =SUM(ENERO:DICIEMBRE!V81) -> 96 | ... AI81: =SUM(ENERO:DICIEMBRE!AI81) -> 0 | AJ81: =AB81+AC81+AD81 -> 140
A82: Genética Clínica | B82: =SUM(C82:E82) -> 0 | C82: =SUM(ENERO:DICIEMBRE!C82) -> 0 | D82: =SUM(ENERO:DICIEMBRE!D82) -> 0 | E82: =SUM(ENERO:DICIEMBRE!E82) -> 0 | F82: =SUM(G82:I82) -> 0 | G82: =SUM(ENERO:DICIEMBRE!G82) -> 0 | H82: =SUM(ENERO:DICIEMBRE!H82) -> 0 | I82: =SUM(ENERO:DICIEMBRE!I82) -> 0 | J82: =SUM(K82:M82) -> 0 | K82: =SUM(ENERO:DICIEMBRE!K82) -> 0 | L82: =SUM(ENERO:DICIEMBRE!L82) -> 0 | M82: =SUM(ENERO:DICIEMBRE!M82) -> 0 | N82: =SUM(O82:P82) -> 0 | O82: =SUM(ENERO:DICIEMBRE!O82) -> 0 | P82: =SUM(ENERO:DICIEMBRE!P82) -> 0 | Q82: =SUM(ENERO:DICIEMBRE!Q82) -> 0 | R82: =SUM(ENERO:DICIEMBRE!R82) -> 0 | S82: =SUM(ENERO:DICIEMBRE!S82) -> 0 | T82: =SUM(ENERO:DICIEMBRE!T82) -> 0 | U82: =SUM(ENERO:DICIEMBRE!U82) -> 0 | V82: =SUM(ENERO:DICIEMBRE!V82) -> 0 | ... AI82: =SUM(ENERO:DICIEMBRE!AI82) -> 0 | AJ82: =AB82+AC82+AD82 -> 0
... A125: Radioterapia Oncológica | B125: =SUM(C125:E125) -> 0 | C125: =SUM(ENERO:DICIEMBRE!C125) -> 0 | D125: =SUM(ENERO:DICIEMBRE!D125) -> 0 | E125: =SUM(ENERO:DICIEMBRE!E125) -> 0 | F125: =SUM(G125:I125) -> 0 | G125: =SUM(ENERO:DICIEMBRE!G125) -> 0 | H125: =SUM(ENERO:DICIEMBRE!H125) -> 0 | I125: =SUM(ENERO:DICIEMBRE!I125) -> 0 | J125: =SUM(K125:M125) -> 0 | K125: =SUM(ENERO:DICIEMBRE!K125) -> 0 | L125: =SUM(ENERO:DICIEMBRE!L125) -> 0 | M125: =SUM(ENERO:DICIEMBRE!M125) -> 0 | N125: =SUM(O125:P125) -> 0 | O125: =SUM(ENERO:DICIEMBRE!O125) -> 0 | P125: =SUM(ENERO:DICIEMBRE!P125) -> 0 | Q125: =SUM(ENERO:DICIEMBRE!Q125) -> 0 | R125: =SUM(ENERO:DICIEMBRE!R125) -> 0 | S125: =SUM(ENERO:DICIEMBRE!S125) -> 0 | T125: =SUM(ENERO:DICIEMBRE!T125) -> 0 | U125: =SUM(ENERO:DICIEMBRE!U125) -> 0 | V125: =SUM(ENERO:DICIEMBRE!V125) -> 0 | ... AI125: =SUM(ENERO:DICIEMBRE!AI125) -> 0 | AJ125: =AB125+AC125+AD125 -> 0
A126: TOTAL | B126: =SUM(B71:B125) -> 0 | C126: =SUM(C71:C125) -> 0 | D126: =SUM(D71:D125) -> 0 | E126: =SUM(E71:E125) -> 0 | F126: =SUM(F71:F125) -> 13635 | G126: =SUM(G71:G125) -> 11894 | H126: =SUM(H71:H125) -> 1229 | I126: =SUM(I71:I125) -> 512 | ... AI126: =SUM(AI71:AI125) -> 105 | AJ126: =AB126+AC126+AD126 -> 15985
A127: SECCIÓN B: ATENCIONES MEDICAS POR PROGRAMAS Y POLICLÍNICOS (INCLUIDAS EN SECCION A)
A128: ATENCIONES | B128: TOTAL | C128: 0 - 4 años | D128: 5 - 9 años | E128: 10 - 14 años | F128: 15 - 17 años | G128: 18- 19 años | H128: 20 - 24 años | I128: 25 - 29 años | J128: 30 - 34 años | K128: 35 - 39 años | L128: 40 - 44 años | M128: 45 - 49 años | N128: 50 - 54 años | O128: 55 - 59 años | P128: 60 - 64 años | Q128: 65 - 69 años | R128: 70 - 74 años | S128: 75 - 79 años | T128: 80 años y mas | U128: Trans Masculino | V128: Trans Femenino
A129: Arritmias | B129: =SUM(C129:T129) -> 0 | C129: =SUM(ENERO:DICIEMBRE!C129) -> 0 | D129: =SUM(ENERO:DICIEMBRE!D129) -> 0 | E129: =SUM(ENERO:DICIEMBRE!E129) -> 0 | F129: =SUM(ENERO:DICIEMBRE!F129) -> 0 | G129: =SUM(ENERO:DICIEMBRE!G129) -> 0 | H129: =SUM(ENERO:DICIEMBRE!H129) -> 0 | I129: =SUM(ENERO:DICIEMBRE!I129) -> 0 | J129: =SUM(ENERO:DICIEMBRE!J129) -> 0 | ... V129: =SUM(ENERO:DICIEMBRE!V129) -> 0 | W129: =CB129&CC129&CD129 | CB129: =IF(AND(B129>0,U129="")," * No olvide digitar Trans Masculino. (Digite CERO si no tiene).","") | CC129: =IF(AND(B129>0,V129="")," * No olvide digitar Trans Femenino. (Digite CERO si no tiene).","") | CD129: =IF((U129+V129)>B129," * La suma de Trans Masculino + Trans Femenino No puede ser Mayor al Total.","") | CM129: =IF(AND(B129>0,U129=""),1,0) -> 0 | CN129: =IF(AND(B129>0,V129=""),1,0) -> 0 | CO129: =IF((U129+V129)>B129,1,0) -> 0
A130: Diabetes | B130: =SUM(C130:T130) -> 1043 | C130: =SUM(ENERO:DICIEMBRE!C130) -> 27 | D130: =SUM(ENERO:DICIEMBRE!D130) -> 90 | E130: =SUM(ENERO:DICIEMBRE!E130) -> 125 | F130: =SUM(ENERO:DICIEMBRE!F130) -> 44 | G130: =SUM(ENERO:DICIEMBRE!G130) -> 22 | H130: =SUM(ENERO:DICIEMBRE!H130) -> 35 | I130: =SUM(ENERO:DICIEMBRE!I130) -> 31 | J130: =SUM(ENERO:DICIEMBRE!J130) -> 34 | ... V130: =SUM(ENERO:DICIEMBRE!V130) -> 0 | W130: =CB130&CC130&CD130 | CB130: =IF(AND(B130>0,U130="")," * No olvide digitar Trans Masculino. (Digite CERO si no tiene).","") | CC130: =IF(AND(B130>0,V130="")," * No olvide digitar Trans Femenino. (Digite CERO si no tiene).","") | CD130: =IF((U130+V130)>B130," * La suma de Trans Masculino + Trans Femenino No puede ser Mayor al Total.","") | CM130: =IF(AND(B130>0,U130=""),1,0) -> 0 | CN130: =IF(AND(B130>0,V130=""),1,0) -> 0 | CO130: =IF((U130+V130)>B130,1,0) -> 0
A131: Cirugía de Mamas | B131: =SUM(C131:T131) -> 2246 | C131: =SUM(ENERO:DICIEMBRE!C131) -> 0 | D131: =SUM(ENERO:DICIEMBRE!D131) -> 0 | E131: =SUM(ENERO:DICIEMBRE!E131) -> 0 | F131: =SUM(ENERO:DICIEMBRE!F131) -> 14 | G131: =SUM(ENERO:DICIEMBRE!G131) -> 24 | H131: =SUM(ENERO:DICIEMBRE!H131) -> 55 | I131: =SUM(ENERO:DICIEMBRE!I131) -> 65 | J131: =SUM(ENERO:DICIEMBRE!J131) -> 91 | ... V131: =SUM(ENERO:DICIEMBRE!V131) -> 0 | W131: =CB131&CC131&CD131 | CB131: =IF(AND(B131>0,U131="")," * No olvide digitar Trans Masculino. (Digite CERO si no tiene).","") | CC131: =IF(AND(B131>0,V131="")," * No olvide digitar Trans Femenino. (Digite CERO si no tiene).","") | CD131: =IF((U131+V131)>B131," * La suma de Trans Masculino + Trans Femenino No puede ser Mayor al Total.","") | CM131: =IF(AND(B131>0,U131=""),1,0) -> 0 | CN131: =IF(AND(B131>0,V131=""),1,0) -> 0 | CO131: =IF((U131+V131)>B131,1,0) -> 0
A132: Alto Riesgo Obstétrico | B132: =SUM(C132:T132) -> 2599 | C132: =SUM(ENERO:DICIEMBRE!C132) -> 0 | D132: =SUM(ENERO:DICIEMBRE!D132) -> 0 | E132: =SUM(ENERO:DICIEMBRE!E132) -> 16 | F132: =SUM(ENERO:DICIEMBRE!F132) -> 19 | G132: =SUM(ENERO:DICIEMBRE!G132) -> 64 | H132: =SUM(ENERO:DICIEMBRE!H132) -> 311 | I132: =SUM(ENERO:DICIEMBRE!I132) -> 576 | J132: =SUM(ENERO:DICIEMBRE!J132) -> 676 | ... V132: =SUM(ENERO:DICIEMBRE!V132) -> 0 | W132: =CB132&CC132&CD132 | CB132: =IF(AND(B132>0,U132="")," * No olvide digitar Trans Masculino. (Digite CERO si no tiene).","") | CC132: =IF(AND(B132>0,V132="")," * No olvide digitar Trans Femenino. (Digite CERO si no tiene).","") | CD132: =IF((U132+V132)>B132," * La suma de Trans Masculino + Trans Femenino No puede ser Mayor al Total.","") | CM132: =IF(AND(B132>0,U132=""),1,0) -> 0 | CN132: =IF(AND(B132>0,V132=""),1,0) -> 0 | CO132: =IF((U132+V132)>B132,1,0) -> 0
A133: Atención Obstétrica por Ley IVE | B133: =SUM(C133:T133) -> 1 | C133: =SUM(ENERO:DICIEMBRE!C133) -> 0 | D133: =SUM(ENERO:DICIEMBRE!D133) -> 0 | E133: =SUM(ENERO:DICIEMBRE!E133) -> 0 | F133: =SUM(ENERO:DICIEMBRE!F133) -> 0 | G133: =SUM(ENERO:DICIEMBRE!G133) -> 1 | H133: =SUM(ENERO:DICIEMBRE!H133) -> 0 | I133: =SUM(ENERO:DICIEMBRE!I133) -> 0 | J133: =SUM(ENERO:DICIEMBRE!J133) -> 0 | ... V133: =SUM(ENERO:DICIEMBRE!V133) -> 0 | W133: =CB133&CC133&CD133 | CB133: =IF(AND(B133>0,U133="")," * No olvide digitar Trans Masculino. (Digite CERO si no tiene).","") | CC133: =IF(AND(B133>0,V133="")," * No olvide digitar Trans Femenino. (Digite CERO si no tiene).","") | CD133: =IF((U133+V133)>B133," * La suma de Trans Masculino + Trans Femenino No puede ser Mayor al Total.","") | CM133: =IF(AND(B133>0,U133=""),1,0) -> 0 | CN133: =IF(AND(B133>0,V133=""),1,0) -> 0 | CO133: =IF((U133+V133)>B133,1,0) -> 0
A134: Tratamiento Anticoagulante | B134: =SUM(C134:T134) -> 2848 | C134: =SUM(ENERO:DICIEMBRE!C134) -> 0 | D134: =SUM(ENERO:DICIEMBRE!D134) -> 0 | E134: =SUM(ENERO:DICIEMBRE!E134) -> 0 | F134: =SUM(ENERO:DICIEMBRE!F134) -> 2 | G134: =SUM(ENERO:DICIEMBRE!G134) -> 16 | H134: =SUM(ENERO:DICIEMBRE!H134) -> 14 | I134: =SUM(ENERO:DICIEMBRE!I134) -> 16 | J134: =SUM(ENERO:DICIEMBRE!J134) -> 36 | ... V134: =SUM(ENERO:DICIEMBRE!V134) -> 0 | W134: =CB134&CC134&CD134 | CB134: =IF(AND(B134>0,U134="")," * No olvide digitar Trans Masculino. (Digite CERO si no tiene).","") | CC134: =IF(AND(B134>0,V134="")," * No olvide digitar Trans Femenino. (Digite CERO si no tiene).","") | CD134: =IF((U134+V134)>B134," * La suma de Trans Masculino + Trans Femenino No puede ser Mayor al Total.","") | CM134: =IF(AND(B134>0,U134=""),1,0) -> 0 | CN134: =IF(AND(B134>0,V134=""),1,0) -> 0 | CO134: =IF((U134+V134)>B134,1,0) -> 0
A135: Cuidados Paliativos | B135: =SUM(C135:T135) -> 1817 | C135: =SUM(ENERO:DICIEMBRE!C135) -> 0 | D135: =SUM(ENERO:DICIEMBRE!D135) -> 0 | E135: =SUM(ENERO:DICIEMBRE!E135) -> 0 | F135: =SUM(ENERO:DICIEMBRE!F135) -> 0 | G135: =SUM(ENERO:DICIEMBRE!G135) -> 0 | H135: =SUM(ENERO:DICIEMBRE!H135) -> 6 | I135: =SUM(ENERO:DICIEMBRE!I135) -> 30 | J135: =SUM(ENERO:DICIEMBRE!J135) -> 22 | ... V135: =SUM(ENERO:DICIEMBRE!V135) -> 0 | W135: =CB135&CC135&CD135 | CB135: =IF(AND(B135>0,U135="")," * No olvide digitar Trans Masculino. (Digite CERO si no tiene).","") | CC135: =IF(AND(B135>0,V135="")," * No olvide digitar Trans Femenino. (Digite CERO si no tiene).","") | CD135: =IF((U135+V135)>B135," * La suma de Trans Masculino + Trans Femenino No puede ser Mayor al Total.","") | CM135: =IF(AND(B135>0,U135=""),1,0) -> 0 | CN135: =IF(AND(B135>0,V135=""),1,0) -> 0 | CO135: =IF((U135+V135)>B135,1,0) -> 0
A136: Infertilidad | B136: =SUM(C136:T136) -> 0 | C136: =SUM(ENERO:DICIEMBRE!C136) -> 0 | D136: =SUM(ENERO:DICIEMBRE!D136) -> 0 | E136: =SUM(ENERO:DICIEMBRE!E136) -> 0 | F136: =SUM(ENERO:DICIEMBRE!F136) -> 0 | G136: =SUM(ENERO:DICIEMBRE!G136) -> 0 | H136: =SUM(ENERO:DICIEMBRE!H136) -> 0 | I136: =SUM(ENERO:DICIEMBRE!I136) -> 0 | J136: =SUM(ENERO:DICIEMBRE!J136) -> 0 | ... V136: =SUM(ENERO:DICIEMBRE!V136) -> 0 | W136: =CB136&CC136&CD136 | CB136: =IF(AND(B136>0,U136="")," * No olvide digitar Trans Masculino. (Digite CERO si no tiene).","") | CC136: =IF(AND(B136>0,V136="")," * No olvide digitar Trans Femenino. (Digite CERO si no tiene).","") | CD136: =IF((U136+V136)>B136," * La suma de Trans Masculino + Trans Femenino No puede ser Mayor al Total.","") | CM136: =IF(AND(B136>0,U136=""),1,0) -> 0 | CN136: =IF(AND(B136>0,V136=""),1,0) -> 0 | CO136: =IF((U136+V136)>B136,1,0) -> 0
A137: Patología Cervical | B137: =SUM(C137:T137) -> 2653 | C137: =SUM(ENERO:DICIEMBRE!C137) -> 4 | D137: =SUM(ENERO:DICIEMBRE!D137) -> 17 | E137: =SUM(ENERO:DICIEMBRE!E137) -> 38 | F137: =SUM(ENERO:DICIEMBRE!F137) -> 27 | G137: =SUM(ENERO:DICIEMBRE!G137) -> 21 | H137: =SUM(ENERO:DICIEMBRE!H137) -> 63 | I137: =SUM(ENERO:DICIEMBRE!I137) -> 260 | J137: =SUM(ENERO:DICIEMBRE!J137) -> 440 | ... V137: =SUM(ENERO:DICIEMBRE!V137) -> 0 | W137: =CB137&CC137&CD137 | CB137: =IF(AND(B137>0,U137="")," * No olvide digitar Trans Masculino. (Digite CERO si no tiene).","") | CC137: =IF(AND(B137>0,V137="")," * No olvide digitar Trans Femenino. (Digite CERO si no tiene).","") | CD137: =IF((U137+V137)>B137," * La suma de Trans Masculino + Trans Femenino No puede ser Mayor al Total.","") | CM137: =IF(AND(B137>0,U137=""),1,0) -> 0 | CN137: =IF(AND(B137>0,V137=""),1,0) -> 0 | CO137: =IF((U137+V137)>B137,1,0) -> 0
A138: Patología de Mamas | B138: =SUM(C138:T138) -> 1731 | C138: =SUM(ENERO:DICIEMBRE!C138) -> 0 | D138: =SUM(ENERO:DICIEMBRE!D138) -> 0 | E138: =SUM(ENERO:DICIEMBRE!E138) -> 0 | F138: =SUM(ENERO:DICIEMBRE!F138) -> 10 | G138: =SUM(ENERO:DICIEMBRE!G138) -> 20 | H138: =SUM(ENERO:DICIEMBRE!H138) -> 47 | I138: =SUM(ENERO:DICIEMBRE!I138) -> 51 | J138: =SUM(ENERO:DICIEMBRE!J138) -> 75 | ... V138: =SUM(ENERO:DICIEMBRE!V138) -> 0 | W138: =CB138&CC138&CD138 | CB138: =IF(AND(B138>0,U138="")," * No olvide digitar Trans Masculino. (Digite CERO si no tiene).","") | CC138: =IF(AND(B138>0,V138="")," * No olvide digitar Trans Femenino. (Digite CERO si no tiene).","") | CD138: =IF((U138+V138)>B138," * La suma de Trans Masculino + Trans Femenino No puede ser Mayor al Total.","") | CM138: =IF(AND(B138>0,U138=""),1,0) -> 0 | CN138: =IF(AND(B138>0,V138=""),1,0) -> 0 | CO138: =IF((U138+V138)>B138,1,0) -> 0
A139: Adolescencia | B139: =SUM(C139:T139) -> 1883 | C139: =SUM(ENERO:DICIEMBRE!C139) -> 25 | D139: =SUM(ENERO:DICIEMBRE!D139) -> 378 | E139: =SUM(ENERO:DICIEMBRE!E139) -> 714 | F139: =SUM(ENERO:DICIEMBRE!F139) -> 697 | G139: =SUM(ENERO:DICIEMBRE!G139) -> 56 | H139: =SUM(ENERO:DICIEMBRE!H139) -> 12 | I139: =SUM(ENERO:DICIEMBRE!I139) -> 1 | J139: =SUM(ENERO:DICIEMBRE!J139) -> 0 | ... V139: =SUM(ENERO:DICIEMBRE!V139) -> 0 | W139: =CB139&CC139&CD139 | CB139: =IF(AND(B139>0,U139="")," * No olvide digitar Trans Masculino. (Digite CERO si no tiene).","") | CC139: =IF(AND(B139>0,V139="")," * No olvide digitar Trans Femenino. (Digite CERO si no tiene).","") | CD139: =IF((U139+V139)>B139," * La suma de Trans Masculino + Trans Femenino No puede ser Mayor al Total.","") | CM139: =IF(AND(B139>0,U139=""),1,0) -> 0 | CN139: =IF(AND(B139>0,V139=""),1,0) -> 0 | CO139: =IF((U139+V139)>B139,1,0) -> 0
A140: Naneas | B140: =SUM(C140:T140) -> 712 | C140: =SUM(ENERO:DICIEMBRE!C140) -> 400 | D140: =SUM(ENERO:DICIEMBRE!D140) -> 131 | E140: =SUM(ENERO:DICIEMBRE!E140) -> 90 | F140: =SUM(ENERO:DICIEMBRE!F140) -> 61 | G140: =SUM(ENERO:DICIEMBRE!G140) -> 19 | H140: =SUM(ENERO:DICIEMBRE!H140) -> 7 | I140: =SUM(ENERO:DICIEMBRE!I140) -> 3 | J140: =SUM(ENERO:DICIEMBRE!J140) -> 1 | ... V140: =SUM(ENERO:DICIEMBRE!V140) -> 0 | W140: =CB140&CC140&CD140 | CB140: =IF(AND(B140>0,U140="")," * No olvide digitar Trans Masculino. (Digite CERO si no tiene).","") | CC140: =IF(AND(B140>0,V140="")," * No olvide digitar Trans Femenino. (Digite CERO si no tiene).","") | CD140: =IF((U140+V140)>B140," * La suma de Trans Masculino + Trans Femenino No puede ser Mayor al Total.","") | CM140: =IF(AND(B140>0,U140=""),1,0) -> 0 | CN140: =IF(AND(B140>0,V140=""),1,0) -> 0 | CO140: =IF((U140+V140)>B140,1,0) -> 0
... A143: Medicinal Ocupacional (Salud del Personal) | B143: =SUM(C143:T143) -> 2388 | C143: =SUM(ENERO:DICIEMBRE!C143) -> 0 | D143: =SUM(ENERO:DICIEMBRE!D143) -> 0 | E143: =SUM(ENERO:DICIEMBRE!E143) -> 0 | F143: =SUM(ENERO:DICIEMBRE!F143) -> 2 | G143: =SUM(ENERO:DICIEMBRE!G143) -> 9 | H143: =SUM(ENERO:DICIEMBRE!H143) -> 68 | I143: =SUM(ENERO:DICIEMBRE!I143) -> 176 | J143: =SUM(ENERO:DICIEMBRE!J143) -> 249 | ... V143: =SUM(ENERO:DICIEMBRE!V143) -> 0 | W143: =CB143&CC143&CD143 | CB143: =IF(AND(B143>0,U143="")," * No olvide digitar Trans Masculino. (Digite CERO si no tiene).","") | CC143: =IF(AND(B143>0,V143="")," * No olvide digitar Trans Femenino. (Digite CERO si no tiene).","") | CD143: =IF((U143+V143)>B143," * La suma de Trans Masculino + Trans Femenino No puede ser Mayor al Total.","") | CM143: =IF(AND(B143>0,U143=""),1,0) -> 0 | CN143: =IF(AND(B143>0,V143=""),1,0) -> 0 | CO143: =IF((U143+V143)>B143,1,0) -> 0
A144: Unidad Trauma Ocular (excluye PACTO) | B144: =SUM(C144:T144) -> 0 | C144: =SUM(ENERO:DICIEMBRE!C144) -> 0 | D144: =SUM(ENERO:DICIEMBRE!D144) -> 0 | E144: =SUM(ENERO:DICIEMBRE!E144) -> 0 | F144: =SUM(ENERO:DICIEMBRE!F144) -> 0 | G144: =SUM(ENERO:DICIEMBRE!G144) -> 0 | H144: =SUM(ENERO:DICIEMBRE!H144) -> 0 | I144: =SUM(ENERO:DICIEMBRE!I144) -> 0 | J144: =SUM(ENERO:DICIEMBRE!J144) -> 0 | ... V144: =SUM(ENERO:DICIEMBRE!V144) -> 0 | CB144: =IF(AND(B144>0,U144="")," * No olvide digitar Trans Masculino. (Digite CERO si no tiene).","") | CC144: =IF(AND(B144>0,V144="")," * No olvide digitar Trans Femenino. (Digite CERO si no tiene).","") | CD144: =IF((U144+V144)>B144," * La suma de Trans Masculino + Trans Femenino No puede ser Mayor al Total.","") | CM144: =IF(AND(B144>0,U144=""),1,0) -> 0 | CN144: =IF(AND(B144>0,V144=""),1,0) -> 0 | CO144: =IF((U144+V144)>B144,1,0) -> 0
A145: Programa Acompañamiento y Cuidado a Personas Víctimas de Trauma Ocular, lesiones graves y lesionados por perdigones (PACTO) | B145: =SUM(C145:T145) -> 0 | C145: =SUM(ENERO:DICIEMBRE!C145) -> 0 | D145: =SUM(ENERO:DICIEMBRE!D145) -> 0 | E145: =SUM(ENERO:DICIEMBRE!E145) -> 0 | F145: =SUM(ENERO:DICIEMBRE!F145) -> 0 | G145: =SUM(ENERO:DICIEMBRE!G145) -> 0 | H145: =SUM(ENERO:DICIEMBRE!H145) -> 0 | I145: =SUM(ENERO:DICIEMBRE!I145) -> 0 | J145: =SUM(ENERO:DICIEMBRE!J145) -> 0 | ... V145: =SUM(ENERO:DICIEMBRE!V145) -> 0 | CB145: =IF(AND(B145>0,U145="")," * No olvide digitar Trans Masculino. (Digite CERO si no tiene).","") | CC145: =IF(AND(B145>0,V145="")," * No olvide digitar Trans Femenino. (Digite CERO si no tiene).","") | CD145: =IF((U145+V145)>B145," * La suma de Trans Masculino + Trans Femenino No puede ser Mayor al Total.","") | CM145: =IF(AND(B145>0,U145=""),1,0) -> 0 | CN145: =IF(AND(B145>0,V145=""),1,0) -> 0 | CO145: =IF((U145+V145)>B145,1,0) -> 0
A146: TOTAL | B146: =SUM(B129:B145) -> 20781 | C146: =SUM(C129:C145) -> 456 | D146: =SUM(D129:D145) -> 616 | E146: =SUM(E129:E145) -> 983 | F146: =SUM(F129:F145) -> 881 | G146: =SUM(G129:G145) -> 264 | H146: =SUM(H129:H145) -> 681 | I146: =SUM(I129:I145) -> 1275 | ... V146: =SUM(V129:V145) -> 0
A147: SECCIÓN C: CONSULTAS Y CONTROLES POR OTROS PROFESIONALES EN ESPECIALIDAD (NIVEL SECUNDARIO)
A148: PROFESIONAL | C148: TOTAL | F148: RANGO ETARIO Y SEXO | AP148: Beneficiarios | AQ148: Total Controles (incluidos en grupo de edad) | AR148: Pueblos Originarios | AS148: Migrantes | AT148: Atenciones pacientes oncológicos | AV148: Atenciones pacientes PACTO
F149: 0 - 4 años | H149: 5 - 9 años | J149: 10 - 14 años | L149: 15 - 17 años | N149: 18-19 años | P149: 20 - 24 años | R149: 25 - 29 años | T149: 30 - 34 años | V149: 35 - 39 años | X149: 40 - 44 años | Z149: 45 - 49 años | AB149: 50 - 54 años | AD149: 55 - 59 años | AF149: 60 - 64 años | AH149: 65 - 69 años | AJ149: 70 - 74 años | AL149: 75 - 79 años | AN149: 80 y más años
C150: Ambos Sexos | D150: Hombres | E150: Mujeres | F150: Hombres | G150: Mujeres | H150: Hombres | I150: Mujeres | J150: Hombres | K150: Mujeres | L150: Hombres | M150: Mujeres | N150: Hombres | O150: Mujeres | P150: Hombres | Q150: Mujeres | R150: Hombres | S150: Mujeres | T150: Hombres | U150: Mujeres | V150: Hombres | W150: Mujeres | X150: Hombres | Y150: Mujeres | Z150: Hombres | AA150: Mujeres | AB150: Hombres | AC150: Mujeres | AD150: Hombres | AE150: Mujeres | AF150: Hombres | AG150: Mujeres | AH150: Hombres | AI150: Mujeres | AJ150: Hombres | AK150: Mujeres | AL150: Hombres | AM150: Mujeres | AN150: Hombres | AO150: Mujeres | AT150: Menor 18 años | AU150: 18 y más años | AV150: 18 a 29 años | AW150: 30 y más años
A151: Enfermera/o | C151: =SUM(D151+E151) -> 15970 | D151: =SUM(F151+H151+J151+L151+N151+P151+R151+T151+V151+X151+Z151+AB151+AD151+AF151+AH151+AJ151+AL151+AN151) -> 7302 | E151: =SUM(G151+I151+K151+M151+O151+Q151+S151+U151+W151+Y151+AA151+AC151+AE151+AG151+AI151+AK151+AM151+AO151) -> 8668 | F151: =SUM(ENERO:DICIEMBRE!F151) -> 60 | G151: =SUM(ENERO:DICIEMBRE!G151) -> 43 | H151: =SUM(ENERO:DICIEMBRE!H151) -> 136 | I151: =SUM(ENERO:DICIEMBRE!I151) -> 63 | J151: =SUM(ENERO:DICIEMBRE!J151) -> 142 | K151: =SUM(ENERO:DICIEMBRE!K151) -> 74 | L151: =SUM(ENERO:DICIEMBRE!L151) -> 72 | M151: =SUM(ENERO:DICIEMBRE!M151) -> 53 | ... AW151: =SUM(ENERO:DICIEMBRE!AW151) -> 0 | AX151: =CB151&CC151&CD151&CE151&CF151&CG151 | CB151: =IF(AND(C151>0,AP151="")," * No olvide digitar la variable Beneficiarios. Digite Cero si no tiene.",IF(AP151>C151," * La variable Beneficiarios No puede ser mayor al Total Ambos Sexos.","")) | CC151: =IF(AND(C151>0,AQ151="")," * No olvide digitar la variable Total de Controles. Digite Cero si no tiene.",IF(AQ151>C151," * La variable Total de Controles No puede ser mayor al Total Ambos Sexos.","")) | CD151: =IF(AND(C151>0,AR151="")," * No olvide digitar la variable Pueblos Originarios. Digite Cero si no tiene.",IF(AR151>C151," * La variable Pueblos Originarios No puede ser mayor al Total Ambos Sexos.","")) | CE151: =IF(AND($C151>0,AS151="")," * No olvide digitar la variable Migrantes. Digite Cero si no tiene.",IF(AS151>$C151," * La variable Migrantes No puede ser mayor al Total Ambos Sexos.","")) | CF151: =IF(AND($C151>0,AT151="",AU151="")," * No olvide digitar la variable Atenciones pacientes oncológicos. Digite Cero si no tiene.",IF(AT151+AU151>$C151," * La suma de las variables Atenciones pacientes oncológicos No puede ser mayor al Total Ambos Sexos.","")) | CN151: =IF(AND(C151>0,AP151=""),1,IF(AP151>C151,1,0)) -> 0 | CO151: =IF(AND(C151>0,AQ151=""),1,IF(AQ151>C151,1,0)) -> 0 | CP151: =IF(AND(C151>0,AR151=""),1,IF(AR151>C151,1,0)) -> 0 | CQ151: =IF(AND(C151>0,AS151=""),1,IF(AS151>C151,1,0)) -> 0 | CR151: =IF(AND($C151>0,AT151="",AU151=""),1,IF(AT151+AU151>$C151,1,0)) -> 0
A152: Matrona/ón | B152: ARO | C152: =SUM(D152:E152) -> 2420 | E152: =SUM(K152+M152+O152+Q152+S152+U152+W152+Y152+AA152+AC152+AE152+AG152+AI152+AK152+AM152+AO152) -> 2420 | F152: =SUM(ENERO:DICIEMBRE!F152) -> 0 | G152: =SUM(ENERO:DICIEMBRE!G152) -> 0 | H152: =SUM(ENERO:DICIEMBRE!H152) -> 0 | I152: =SUM(ENERO:DICIEMBRE!I152) -> 0 | J152: =SUM(ENERO:DICIEMBRE!J152) -> 0 | K152: =SUM(ENERO:DICIEMBRE!K152) -> 18 | L152: =SUM(ENERO:DICIEMBRE!L152) -> 0 | M152: =SUM(ENERO:DICIEMBRE!M152) -> 46 | ... AW152: =SUM(ENERO:DICIEMBRE!AW152) -> 0 | AX152: =CB152&CC152&CD152&CE152&CF152&CG152 | CB152: =IF(AND(C152>0,AP152="")," * No olvide digitar la variable Beneficiarios. Digite Cero si no tiene.",IF(AP152>C152," * La variable Beneficiarios No puede ser mayor al Total Ambos Sexos.","")) | CC152: =IF(AND(C152>0,AQ152="")," * No olvide digitar la variable Total de Controles. Digite Cero si no tiene.",IF(AQ152>C152," * La variable Total de Controles No puede ser mayor al Total Ambos Sexos.","")) | CD152: =IF(AND(C152>0,AR152="")," * No olvide digitar la variable Pueblos Originarios. Digite Cero si no tiene.",IF(AR152>C152," * La variable Pueblos Originarios No puede ser mayor al Total Ambos Sexos.","")) | CE152: =IF(AND($C152>0,AS152="")," * No olvide digitar la variable Migrantes. Digite Cero si no tiene.",IF(AS152>$C152," * La variable Migrantes No puede ser mayor al Total Ambos Sexos.","")) | CF152: =IF(AND($C152>0,AT152="",AU152="")," * No olvide digitar la variable Atenciones pacientes oncológicos. Digite Cero si no tiene.",IF(AT152+AU152>$C152," * La suma de las variables Atenciones pacientes oncológicos No puede ser mayor al Total Ambos Sexos.","")) | CN152: =IF(AND(C152>0,AP152=""),1,IF(AP152>C152,1,0)) -> 0 | CO152: =IF(AND(C152>0,AQ152=""),1,IF(AQ152>C152,1,0)) -> 0 | CP152: =IF(AND(C152>0,AR152=""),1,IF(AR152>C152,1,0)) -> 0 | CQ152: =IF(AND(C152>0,AS152=""),1,IF(AS152>C152,1,0)) -> 0 | CR152: =IF(AND($C152>0,AT152="",AU152=""),1,IF(AT152+AU152>$C152,1,0)) -> 0
B153: ARO por Ley IVE | C153: =SUM(D153:E153) -> 0 | E153: =SUM(K153+M153+O153+Q153+S153+U153+W153+Y153+AA153+AC153+AE153+AG153+AI153+AK153+AM153+AO153) -> 0 | F153: =SUM(ENERO:DICIEMBRE!F153) -> 0 | G153: =SUM(ENERO:DICIEMBRE!G153) -> 0 | H153: =SUM(ENERO:DICIEMBRE!H153) -> 0 | I153: =SUM(ENERO:DICIEMBRE!I153) -> 0 | J153: =SUM(ENERO:DICIEMBRE!J153) -> 0 | K153: =SUM(ENERO:DICIEMBRE!K153) -> 0 | L153: =SUM(ENERO:DICIEMBRE!L153) -> 0 | M153: =SUM(ENERO:DICIEMBRE!M153) -> 0 | ... AW153: =SUM(ENERO:DICIEMBRE!AW153) -> 0 | AX153: =CB153&CC153&CD153&CE153&CF153&CG153 | CB153: =IF(AND(C153>0,AP153="")," * No olvide digitar la variable Beneficiarios. Digite Cero si no tiene.",IF(AP153>C153," * La variable Beneficiarios No puede ser mayor al Total Ambos Sexos.","")) | CC153: =IF(AND(C153>0,AQ153="")," * No olvide digitar la variable Total de Controles. Digite Cero si no tiene.",IF(AQ153>C153," * La variable Total de Controles No puede ser mayor al Total Ambos Sexos.","")) | CD153: =IF(AND(C153>0,AR153="")," * No olvide digitar la variable Pueblos Originarios. Digite Cero si no tiene.",IF(AR153>C153," * La variable Pueblos Originarios No puede ser mayor al Total Ambos Sexos.","")) | CE153: =IF(AND($C153>0,AS153="")," * No olvide digitar la variable Migrantes. Digite Cero si no tiene.",IF(AS153>$C153," * La variable Migrantes No puede ser mayor al Total Ambos Sexos.","")) | CF153: =IF(AND($C153>0,AT153="",AU153="")," * No olvide digitar la variable Atenciones pacientes oncológicos. Digite Cero si no tiene.",IF(AT153+AU153>$C153," * La suma de las variables Atenciones pacientes oncológicos No puede ser mayor al Total Ambos Sexos.","")) | CN153: =IF(AND(C153>0,AP153=""),1,IF(AP153>C153,1,0)) -> 0 | CO153: =IF(AND(C153>0,AQ153=""),1,IF(AQ153>C153,1,0)) -> 0 | CP153: =IF(AND(C153>0,AR153=""),1,IF(AR153>C153,1,0)) -> 0 | CQ153: =IF(AND(C153>0,AS153=""),1,IF(AS153>C153,1,0)) -> 0 | CR153: =IF(AND($C153>0,AT153="",AU153=""),1,IF(AT153+AU153>$C153,1,0)) -> 0
B154: Ginecología y otros | C154: =SUM(D154+E154) -> 5041 | D154: =SUM(F154+H154+J154+L154+N154+P154+R154+T154+V154+X154+Z154+AB154+AD154+AF154+AH154+AJ154+AL154+AN154) -> 1485 | E154: =SUM(G154+I154+K154+M154+O154+Q154+S154+U154+W154+Y154+AA154+AC154+AE154+AG154+AI154+AK154+AM154+AO154) -> 3556 | F154: =SUM(ENERO:DICIEMBRE!F154) -> 2 | G154: =SUM(ENERO:DICIEMBRE!G154) -> 0 | H154: =SUM(ENERO:DICIEMBRE!H154) -> 1 | I154: =SUM(ENERO:DICIEMBRE!I154) -> 1 | J154: =SUM(ENERO:DICIEMBRE!J154) -> 2 | K154: =SUM(ENERO:DICIEMBRE!K154) -> 3 | L154: =SUM(ENERO:DICIEMBRE!L154) -> 7 | M154: =SUM(ENERO:DICIEMBRE!M154) -> 6 | ... AW154: =SUM(ENERO:DICIEMBRE!AW154) -> 0 | AX154: =CB154&CC154&CD154&CE154&CF154&CG154 | CB154: =IF(AND(C154>0,AP154="")," * No olvide digitar la variable Beneficiarios. Digite Cero si no tiene.",IF(AP154>C154," * La variable Beneficiarios No puede ser mayor al Total Ambos Sexos.","")) | CC154: =IF(AND(C154>0,AQ154="")," * No olvide digitar la variable Total de Controles. Digite Cero si no tiene.",IF(AQ154>C154," * La variable Total de Controles No puede ser mayor al Total Ambos Sexos.","")) | CD154: =IF(AND(C154>0,AR154="")," * No olvide digitar la variable Pueblos Originarios. Digite Cero si no tiene.",IF(AR154>C154," * La variable Pueblos Originarios No puede ser mayor al Total Ambos Sexos.","")) | CE154: =IF(AND($C154>0,AS154="")," * No olvide digitar la variable Migrantes. Digite Cero si no tiene.",IF(AS154>$C154," * La variable Migrantes No puede ser mayor al Total Ambos Sexos.","")) | CF154: =IF(AND($C154>0,AT154="",AU154="")," * No olvide digitar la variable Atenciones pacientes oncológicos. Digite Cero si no tiene.",IF(AT154+AU154>$C154," * La suma de las variables Atenciones pacientes oncológicos No puede ser mayor al Total Ambos Sexos.","")) | CN154: =IF(AND(C154>0,AP154=""),1,IF(AP154>C154,1,0)) -> 0 | CO154: =IF(AND(C154>0,AQ154=""),1,IF(AQ154>C154,1,0)) -> 0 | CP154: =IF(AND(C154>0,AR154=""),1,IF(AR154>C154,1,0)) -> 0 | CQ154: =IF(AND(C154>0,AS154=""),1,IF(AS154>C154,1,0)) -> 0 | CR154: =IF(AND($C154>0,AT154="",AU154=""),1,IF(AT154+AU154>$C154,1,0)) -> 0
B155: Infertilidad | C155: =SUM(D155+E155) -> 0 | D155: =SUM(P155+R155+T155+V155+X155+Z155+AB155+AD155) -> 0 | E155: =SUM(Q155+S155+U155+W155+Y155+AA155+AC155+AE155) -> 0 | F155: =SUM(ENERO:DICIEMBRE!F155) -> 0 | G155: =SUM(ENERO:DICIEMBRE!G155) -> 0 | H155: =SUM(ENERO:DICIEMBRE!H155) -> 0 | I155: =SUM(ENERO:DICIEMBRE!I155) -> 0 | J155: =SUM(ENERO:DICIEMBRE!J155) -> 0 | K155: =SUM(ENERO:DICIEMBRE!K155) -> 0 | L155: =SUM(ENERO:DICIEMBRE!L155) -> 0 | M155: =SUM(ENERO:DICIEMBRE!M155) -> 0 | ... AW155: =SUM(ENERO:DICIEMBRE!AW155) -> 0 | AX155: =CB155&CC155&CD155&CE155&CF155&CG155 | CB155: =IF(AND(C155>0,AP155="")," * No olvide digitar la variable Beneficiarios. Digite Cero si no tiene.",IF(AP155>C155," * La variable Beneficiarios No puede ser mayor al Total Ambos Sexos.","")) | CC155: =IF(AND(C155>0,AQ155="")," * No olvide digitar la variable Total de Controles. Digite Cero si no tiene.",IF(AQ155>C155," * La variable Total de Controles No puede ser mayor al Total Ambos Sexos.","")) | CD155: =IF(AND(C155>0,AR155="")," * No olvide digitar la variable Pueblos Originarios. Digite Cero si no tiene.",IF(AR155>C155," * La variable Pueblos Originarios No puede ser mayor al Total Ambos Sexos.","")) | CE155: =IF(AND($C155>0,AS155="")," * No olvide digitar la variable Migrantes. Digite Cero si no tiene.",IF(AS155>$C155," * La variable Migrantes No puede ser mayor al Total Ambos Sexos.","")) | CF155: =IF(AND($C155>0,AT155="",AU155="")," * No olvide digitar la variable Atenciones pacientes oncológicos. Digite Cero si no tiene.",IF(AT155+AU155>$C155," * La suma de las variables Atenciones pacientes oncológicos No puede ser mayor al Total Ambos Sexos.","")) | CN155: =IF(AND(C155>0,AP155=""),1,IF(AP155>C155,1,0)) -> 0 | CO155: =IF(AND(C155>0,AQ155=""),1,IF(AQ155>C155,1,0)) -> 0 | CP155: =IF(AND(C155>0,AR155=""),1,IF(AR155>C155,1,0)) -> 0 | CQ155: =IF(AND(C155>0,AS155=""),1,IF(AS155>C155,1,0)) -> 0 | CR155: =IF(AND($C155>0,AT155="",AU155=""),1,IF(AT155+AU155>$C155,1,0)) -> 0
A156: Nutricionista | C156: =SUM(D156+E156) -> 5465 | D156: =SUM(F156+H156+J156+L156+N156+P156+R156+T156+V156+X156+Z156+AB156+AD156+AF156+AH156+AJ156+AL156+AN156) -> 2291 | E156: =SUM(G156+I156+K156+M156+O156+Q156+S156+U156+W156+Y156+AA156+AC156+AE156+AG156+AI156+AK156+AM156+AO156) -> 3174 | F156: =SUM(ENERO:DICIEMBRE!F156) -> 491 | G156: =SUM(ENERO:DICIEMBRE!G156) -> 394 | H156: =SUM(ENERO:DICIEMBRE!H156) -> 183 | I156: =SUM(ENERO:DICIEMBRE!I156) -> 170 | J156: =SUM(ENERO:DICIEMBRE!J156) -> 135 | K156: =SUM(ENERO:DICIEMBRE!K156) -> 89 | L156: =SUM(ENERO:DICIEMBRE!L156) -> 48 | M156: =SUM(ENERO:DICIEMBRE!M156) -> 31 | ... AW156: =SUM(ENERO:DICIEMBRE!AW156) -> 0 | AX156: =CB156&CC156&CD156&CE156&CF156&CG156 | CB156: =IF(AND(C156>0,AP156="")," * No olvide digitar la variable Beneficiarios. Digite Cero si no tiene.",IF(AP156>C156," * La variable Beneficiarios No puede ser mayor al Total Ambos Sexos.","")) | CC156: =IF(AND(C156>0,AQ156="")," * No olvide digitar la variable Total de Controles. Digite Cero si no tiene.",IF(AQ156>C156," * La variable Total de Controles No puede ser mayor al Total Ambos Sexos.","")) | CD156: =IF(AND(C156>0,AR156="")," * No olvide digitar la variable Pueblos Originarios. Digite Cero si no tiene.",IF(AR156>C156," * La variable Pueblos Originarios No puede ser mayor al Total Ambos Sexos.","")) | CE156: =IF(AND($C156>0,AS156="")," * No olvide digitar la variable Migrantes. Digite Cero si no tiene.",IF(AS156>$C156," * La variable Migrantes No puede ser mayor al Total Ambos Sexos.","")) | CF156: =IF(AND($C156>0,AT156="",AU156="")," * No olvide digitar la variable Atenciones pacientes oncológicos. Digite Cero si no tiene.",IF(AT156+AU156>$C156," * La suma de las variables Atenciones pacientes oncológicos No puede ser mayor al Total Ambos Sexos.","")) | CN156: =IF(AND(C156>0,AP156=""),1,IF(AP156>C156,1,0)) -> 0 | CO156: =IF(AND(C156>0,AQ156=""),1,IF(AQ156>C156,1,0)) -> 0 | CP156: =IF(AND(C156>0,AR156=""),1,IF(AR156>C156,1,0)) -> 0 | CQ156: =IF(AND(C156>0,AS156=""),1,IF(AS156>C156,1,0)) -> 0 | CR156: =IF(AND($C156>0,AT156="",AU156=""),1,IF(AT156+AU156>$C156,1,0)) -> 0
A157: Psicólogo/a (Excluye SM) | C157: =SUM(D157+E157) -> 2031 | D157: =SUM(F157+H157+J157+N157+L157+P157+R157+T157+V157+X157+Z157+AB157+AD157+AF157+AH157+AJ157+AL157+AN157) -> 451 | E157: =SUM(G157+I157+K157+M157+O157+Q157+S157+U157+W157+Y157+AA157+AC157+AE157+AG157+AI157+AK157+AM157+AO157) -> 1580 | F157: =SUM(ENERO:DICIEMBRE!F157) -> 0 | G157: =SUM(ENERO:DICIEMBRE!G157) -> 0 | H157: =SUM(ENERO:DICIEMBRE!H157) -> 0 | I157: =SUM(ENERO:DICIEMBRE!I157) -> 0 | J157: =SUM(ENERO:DICIEMBRE!J157) -> 0 | K157: =SUM(ENERO:DICIEMBRE!K157) -> 3 | L157: =SUM(ENERO:DICIEMBRE!L157) -> 7 | M157: =SUM(ENERO:DICIEMBRE!M157) -> 11 | ... AW157: =SUM(ENERO:DICIEMBRE!AW157) -> 0 | AX157: =CB157&CC157&CD157&CE157&CF157&CG157&CH157 | CB157: =IF(AND(C157>0,AP157="")," * No olvide digitar la variable Beneficiarios. Digite Cero si no tiene.",IF(AP157>C157," * La variable Beneficiarios No puede ser mayor al Total Ambos Sexos.","")) | CC157: =IF(AND(C157>0,AQ157="")," * No olvide digitar la variable Total de Controles. Digite Cero si no tiene.",IF(AQ157>C157," * La variable Total de Controles No puede ser mayor al Total Ambos Sexos.","")) | CD157: =IF(AND(C157>0,AR157="")," * No olvide digitar la variable Pueblos Originarios. Digite Cero si no tiene.",IF(AR157>C157," * La variable Pueblos Originarios No puede ser mayor al Total Ambos Sexos.","")) | CE157: =IF(AND($C157>0,AS157="")," * No olvide digitar la variable Migrantes. Digite Cero si no tiene.",IF(AS157>$C157," * La variable Migrantes No puede ser mayor al Total Ambos Sexos.","")) | CF157: =IF(AND($C157>0,AT157="",AU157="")," * No olvide digitar la variable Atenciones pacientes oncológicos. Digite Cero si no tiene.",IF(AT157+AU157>$C157," * La suma de las variables Atenciones pacientes oncológicos No puede ser mayor al Total Ambos Sexos.","")) | CG157: =IF(AND(N157+O157+P157+Q157+R157+S157>0,AV157="")," * No olvide digitar la variable Atenciones pacientes PACTOS 18 a 29 años. Digite Cero si no tiene.",IF(AV157>N157+O157+P157+Q157+R157+S157," * La variable Atenciones pacientes PACTOS 18 a 29 años No puede ser mayor la sumatoria de los grupos de edad de 18 a 29 años.","")) | CH157: =IF(AND(T157+U157+V157+W157+X157+Y157+Z157+AA157+AB157+AC157+AD157+AE157+AF157+AG157+AH157+AI157+AJ157+AK157+AL157+AM157+AN157+AO157>0,AW157="")," * No olvide digitar la variable Atenciones pacientes PACTOS 30 años y más. Digite Cero si no tiene.",IF(AW157>T157+U157+V157+W157+X157+Y157+Z157+AA157+AB157+AC157+AD157+AE157+AF157+AG157+AH157+AI157+AJ157+AK157+AL157+AM157+AN157+AO157," * La variable Atenciones pacientes PACTOS 30 años y más No puede ser mayor la sumatoria de los grupos de edad de 30 y más años.","")) | CN157: =IF(AND(C157>0,AP157=""),1,IF(AP157>C157,1,0)) -> 0 | CO157: =IF(AND(C157>0,AQ157=""),1,IF(AQ157>C157,1,0)) -> 0 | CP157: =IF(AND(C157>0,AR157=""),1,IF(AR157>C157,1,0)) -> 0 | CQ157: =IF(AND(C157>0,AS157=""),1,IF(AS157>C157,1,0)) -> 0 | CR157: =IF(AND($C157>0,AT157="",AU157=""),1,IF(AT157+AU157>$C157,1,0)) -> 0 | CS157: =IF(AND(N157+O157+P157+Q157+R157+S157>0,AV157=""),1,IF(AV157>N157+O157+P157+Q157+R157+S157,1,0)) -> 0 | CT157: =IF(AND(T157+U157+V157+W157+X157+Y157+Z157+AA157+AB157+AC157+AD157+AE157+AF157+AG157+AH157+AI157+AJ157+AK157+AL157+AM157+AN157+AO157>0,AW157=""),1,IF(AW157>T157+U157+V157+W157+X157+Y157+Z157+AA157+AB157+AC157+AD157+AE157+AF157+AG157+AH157+AI157+AJ157+AK157+AL157+AM157+AN157+AO157,1,0)) -> 0
A158: Fonoaudiólogo/a | C158: =SUM(D158+E158) -> 743 | D158: =SUM(F158+H158+J158+N158+L158+P158+R158+T158+V158+X158+Z158+AB158+AD158+AF158+AH158+AJ158+AL158+AN158) -> 519 | E158: =SUM(G158+I158+K158+M158+O158+Q158+S158+U158+W158+Y158+AA158+AC158+AE158+AG158+AI158+AK158+AM158+AO158) -> 224 | F158: =SUM(ENERO:DICIEMBRE!F158) -> 225 | G158: =SUM(ENERO:DICIEMBRE!G158) -> 75 | H158: =SUM(ENERO:DICIEMBRE!H158) -> 207 | I158: =SUM(ENERO:DICIEMBRE!I158) -> 89 | J158: =SUM(ENERO:DICIEMBRE!J158) -> 59 | K158: =SUM(ENERO:DICIEMBRE!K158) -> 10 | L158: =SUM(ENERO:DICIEMBRE!L158) -> 0 | M158: =SUM(ENERO:DICIEMBRE!M158) -> 1 | ... AW158: =SUM(ENERO:DICIEMBRE!AW158) -> 0 | AX158: =CB158&CC158&CD158&CE158&CF158&CG158 | CB158: =IF(AND(C158>0,AP158="")," * No olvide digitar la variable Beneficiarios. Digite Cero si no tiene.",IF(AP158>C158," * La variable Beneficiarios No puede ser mayor al Total Ambos Sexos.","")) | CC158: =IF(AND(C158>0,AQ158="")," * No olvide digitar la variable Total de Controles. Digite Cero si no tiene.",IF(AQ158>C158," * La variable Total de Controles No puede ser mayor al Total Ambos Sexos.","")) | CD158: =IF(AND(C158>0,AR158="")," * No olvide digitar la variable Pueblos Originarios. Digite Cero si no tiene.",IF(AR158>C158," * La variable Pueblos Originarios No puede ser mayor al Total Ambos Sexos.","")) | CE158: =IF(AND($C158>0,AS158="")," * No olvide digitar la variable Migrantes. Digite Cero si no tiene.",IF(AS158>$C158," * La variable Migrantes No puede ser mayor al Total Ambos Sexos.","")) | CF158: =IF(AND($C158>0,AT158="",AU158="")," * No olvide digitar la variable Atenciones pacientes oncológicos. Digite Cero si no tiene.",IF(AT158+AU158>$C158," * La suma de las variables Atenciones pacientes oncológicos No puede ser mayor al Total Ambos Sexos.","")) | CN158: =IF(AND(C158>0,AP158=""),1,IF(AP158>C158,1,0)) -> 0 | CO158: =IF(AND(C158>0,AQ158=""),1,IF(AQ158>C158,1,0)) -> 0 | CP158: =IF(AND(C158>0,AR158=""),1,IF(AR158>C158,1,0)) -> 0 | CQ158: =IF(AND(C158>0,AS158=""),1,IF(AS158>C158,1,0)) -> 0 | CR158: =IF(AND($C158>0,AT158="",AU158=""),1,IF(AT158+AU158>$C158,1,0)) -> 0
A159: Tecnólogo/a Médico/a | C159: =SUM(D159+E159) -> 6771 | D159: =SUM(F159+H159+J159+N159+L159+P159+R159+T159+V159+X159+Z159+AB159+AD159+AF159+AH159+AJ159+AL159+AN159) -> 3034 | E159: =SUM(G159+I159+K159+M159+O159+Q159+S159+U159+W159+Y159+AA159+AC159+AE159+AG159+AI159+AK159+AM159+AO159) -> 3737 | F159: =SUM(ENERO:DICIEMBRE!F159) -> 98 | G159: =SUM(ENERO:DICIEMBRE!G159) -> 91 | H159: =SUM(ENERO:DICIEMBRE!H159) -> 340 | I159: =SUM(ENERO:DICIEMBRE!I159) -> 361 | J159: =SUM(ENERO:DICIEMBRE!J159) -> 319 | K159: =SUM(ENERO:DICIEMBRE!K159) -> 320 | L159: =SUM(ENERO:DICIEMBRE!L159) -> 45 | M159: =SUM(ENERO:DICIEMBRE!M159) -> 30 | ... AW159: =SUM(ENERO:DICIEMBRE!AW159) -> 0 | AX159: =CB159&CC159&CD159&CE159&CF159&CG159&CH159 | CB159: =IF(AND(C159>0,AP159="")," * No olvide digitar la variable Beneficiarios. Digite Cero si no tiene.",IF(AP159>C159," * La variable Beneficiarios No puede ser mayor al Total Ambos Sexos.","")) | CC159: =IF(AND(C159>0,AQ159="")," * No olvide digitar la variable Total de Controles. Digite Cero si no tiene.",IF(AQ159>C159," * La variable Total de Controles No puede ser mayor al Total Ambos Sexos.","")) | CD159: =IF(AND(C159>0,AR159="")," * No olvide digitar la variable Pueblos Originarios. Digite Cero si no tiene.",IF(AR159>C159," * La variable Pueblos Originarios No puede ser mayor al Total Ambos Sexos.","")) | CE159: =IF(AND($C159>0,AS159="")," * No olvide digitar la variable Migrantes. Digite Cero si no tiene.",IF(AS159>$C159," * La variable Migrantes No puede ser mayor al Total Ambos Sexos.","")) | CF159: =IF(AND($C159>0,AT159="",AU159="")," * No olvide digitar la variable Atenciones pacientes oncológicos. Digite Cero si no tiene.",IF(AT159+AU159>$C159," * La suma de las variables Atenciones pacientes oncológicos No puede ser mayor al Total Ambos Sexos.","")) | CG159: =IF(AND(N159+O159+P159+Q159+R159+S159>0,AV159="")," * No olvide digitar la variable Atenciones pacientes PACTOS 18 a 29 años. Digite Cero si no tiene.",IF(AV159>N159+O159+P159+Q159+R159+S159," * La variable Atenciones pacientes PACTOS 18 a 29 años No puede ser mayor la sumatoria de los grupos de edad de 18 a 29 años.","")) | CH159: =IF(AND(T159+U159+V159+W159+X159+Y159+Z159+AA159+AB159+AC159+AD159+AE159+AF159+AG159+AH159+AI159+AJ159+AK159+AL159+AM159+AN159+AO159>0,AW159="")," * No olvide digitar la variable Atenciones pacientes PACTOS 30 años y más. Digite Cero si no tiene.",IF(AW159>T159+U159+V159+W159+X159+Y159+Z159+AA159+AB159+AC159+AD159+AE159+AF159+AG159+AH159+AI159+AJ159+AK159+AL159+AM159+AN159+AO159," * La variable Atenciones pacientes PACTOS 30 años y más No puede ser mayor la sumatoria de los grupos de edad de 30 y más años.","")) | CN159: =IF(AND(C159>0,AP159=""),1,IF(AP159>C159,1,0)) -> 0 | CO159: =IF(AND(C159>0,AQ159=""),1,IF(AQ159>C159,1,0)) -> 0 | CP159: =IF(AND(C159>0,AR159=""),1,IF(AR159>C159,1,0)) -> 0 | CQ159: =IF(AND(C159>0,AS159=""),1,IF(AS159>C159,1,0)) -> 0 | CR159: =IF(AND($C159>0,AT159="",AU159=""),1,IF(AT159+AU159>$C159,1,0)) -> 0 | CS159: =IF(AND(N159+O159+P159+Q159+R159+S159>0,AV159=""),1,IF(AV159>N159+O159+P159+Q159+R159+S159,1,0)) -> 0 | CT159: =IF(AND(T159+U159+V159+W159+X159+Y159+Z159+AA159+AB159+AC159+AD159+AE159+AF159+AG159+AH159+AI159+AJ159+AK159+AL159+AM159+AN159+AO159>0,AW159=""),1,IF(AW159>T159+U159+V159+W159+X159+Y159+Z159+AA159+AB159+AC159+AD159+AE159+AF159+AG159+AH159+AI159+AJ159+AK159+AL159+AM159+AN159+AO159,1,0)) -> 0
A160: Trabajador/a Social | C160: =SUM(D160+E160) -> 3571 | D160: =SUM(F160+H160+J160+N160+L160+P160+R160+T160+V160+X160+Z160+AB160+AD160+AF160+AH160+AJ160+AL160+AN160) -> 2152 | E160: =SUM(G160+I160+K160+M160+O160+Q160+S160+U160+W160+Y160+AA160+AC160+AE160+AG160+AI160+AK160+AM160+AO160) -> 1419 | F160: =SUM(ENERO:DICIEMBRE!F160) -> 112 | G160: =SUM(ENERO:DICIEMBRE!G160) -> 45 | H160: =SUM(ENERO:DICIEMBRE!H160) -> 78 | I160: =SUM(ENERO:DICIEMBRE!I160) -> 94 | J160: =SUM(ENERO:DICIEMBRE!J160) -> 78 | K160: =SUM(ENERO:DICIEMBRE!K160) -> 44 | L160: =SUM(ENERO:DICIEMBRE!L160) -> 40 | M160: =SUM(ENERO:DICIEMBRE!M160) -> 50 | ... AW160: =SUM(ENERO:DICIEMBRE!AW160) -> 0 | AX160: =CB160&CC160&CD160&CE160&CF160&CG160&CH160 | CB160: =IF(AND(C160>0,AP160="")," * No olvide digitar la variable Beneficiarios. Digite Cero si no tiene.",IF(AP160>C160," * La variable Beneficiarios No puede ser mayor al Total Ambos Sexos.","")) | CC160: =IF(AND(C160>0,AQ160="")," * No olvide digitar la variable Total de Controles. Digite Cero si no tiene.",IF(AQ160>C160," * La variable Total de Controles No puede ser mayor al Total Ambos Sexos.","")) | CD160: =IF(AND(C160>0,AR160="")," * No olvide digitar la variable Pueblos Originarios. Digite Cero si no tiene.",IF(AR160>C160," * La variable Pueblos Originarios No puede ser mayor al Total Ambos Sexos.","")) | CE160: =IF(AND($C160>0,AS160="")," * No olvide digitar la variable Migrantes. Digite Cero si no tiene.",IF(AS160>$C160," * La variable Migrantes No puede ser mayor al Total Ambos Sexos.","")) | CF160: =IF(AND($C160>0,AT160="",AU160="")," * No olvide digitar la variable Atenciones pacientes oncológicos. Digite Cero si no tiene.",IF(AT160+AU160>$C160," * La suma de las variables Atenciones pacientes oncológicos No puede ser mayor al Total Ambos Sexos.","")) | CG160: =IF(AND(N160+O160+P160+Q160+R160+S160>0,AV160="")," * No olvide digitar la variable Atenciones pacientes PACTOS 18 a 29 años. Digite Cero si no tiene.",IF(AV160>N160+O160+P160+Q160+R160+S160," * La variable Atenciones pacientes PACTOS 18 a 29 años No puede ser mayor la sumatoria de los grupos de edad de 18 a 29 años.","")) | CH160: =IF(AND(T160+U160+V160+W160+X160+Y160+Z160+AA160+AB160+AC160+AD160+AE160+AF160+AG160+AH160+AI160+AJ160+AK160+AL160+AM160+AN160+AO160>0,AW160="")," * No olvide digitar la variable Atenciones pacientes PACTOS 30 años y más. Digite Cero si no tiene.",IF(AW160>T160+U160+V160+W160+X160+Y160+Z160+AA160+AB160+AC160+AD160+AE160+AF160+AG160+AH160+AI160+AJ160+AK160+AL160+AM160+AN160+AO160," * La variable Atenciones pacientes PACTOS 30 años y más No puede ser mayor la sumatoria de los grupos de edad de 30 y más años.","")) | CN160: =IF(AND(C160>0,AP160=""),1,IF(AP160>C160,1,0)) -> 0 | CO160: =IF(AND(C160>0,AQ160=""),1,IF(AQ160>C160,1,0)) -> 0 | CP160: =IF(AND(C160>0,AR160=""),1,IF(AR160>C160,1,0)) -> 0 | CQ160: =IF(AND(C160>0,AS160=""),1,IF(AS160>C160,1,0)) -> 0 | CR160: =IF(AND($C160>0,AT160="",AU160=""),1,IF(AT160+AU160>$C160,1,0)) -> 0 | CS160: =IF(AND(N160+O160+P160+Q160+R160+S160>0,AV160=""),1,IF(AV160>N160+O160+P160+Q160+R160+S160,1,0)) -> 0 | CT160: =IF(AND(T160+U160+V160+W160+X160+Y160+Z160+AA160+AB160+AC160+AD160+AE160+AF160+AG160+AH160+AI160+AJ160+AK160+AL160+AM160+AN160+AO160>0,AW160=""),1,IF(AW160>T160+U160+V160+W160+X160+Y160+Z160+AA160+AB160+AC160+AD160+AE160+AF160+AG160+AH160+AI160+AJ160+AK160+AL160+AM160+AN160+AO160,1,0)) -> 0
A161: Terapeuta Ocupacional | C161: =SUM(D161+E161) -> 0 | D161: =SUM(F161+H161+J161+L161+N161+P161+R161+T161+V161+X161+Z161+AB161+AD161+AF161+AH161+AJ161+AL161+AN161) -> 0 | E161: =SUM(G161+I161+K161+M161+O161+Q161+S161+U161+W161+Y161+AA161+AC161+AE161+AG161+AI161+AK161+AM161+AO161) -> 0 | F161: =SUM(ENERO:DICIEMBRE!F161) -> 0 | G161: =SUM(ENERO:DICIEMBRE!G161) -> 0 | H161: =SUM(ENERO:DICIEMBRE!H161) -> 0 | I161: =SUM(ENERO:DICIEMBRE!I161) -> 0 | J161: =SUM(ENERO:DICIEMBRE!J161) -> 0 | K161: =SUM(ENERO:DICIEMBRE!K161) -> 0 | L161: =SUM(ENERO:DICIEMBRE!L161) -> 0 | M161: =SUM(ENERO:DICIEMBRE!M161) -> 0 | ... AW161: =SUM(ENERO:DICIEMBRE!AW161) -> 0 | AX161: =CB161&CC161&CD161&CE161&CF161&CG161&CH161 | CB161: =IF(AND(C161>0,AP161="")," * No olvide digitar la variable Beneficiarios. Digite Cero si no tiene.",IF(AP161>C161," * La variable Beneficiarios No puede ser mayor al Total Ambos Sexos.","")) | CC161: =IF(AND(C161>0,AQ161="")," * No olvide digitar la variable Total de Controles. Digite Cero si no tiene.",IF(AQ161>C161," * La variable Total de Controles No puede ser mayor al Total Ambos Sexos.","")) | CD161: =IF(AND(C161>0,AR161="")," * No olvide digitar la variable Pueblos Originarios. Digite Cero si no tiene.",IF(AR161>C161," * La variable Pueblos Originarios No puede ser mayor al Total Ambos Sexos.","")) | CE161: =IF(AND($C161>0,AS161="")," * No olvide digitar la variable Migrantes. Digite Cero si no tiene.",IF(AS161>$C161," * La variable Migrantes No puede ser mayor al Total Ambos Sexos.","")) | CF161: =IF(AND($C161>0,AT161="",AU161="")," * No olvide digitar la variable Atenciones pacientes oncológicos. Digite Cero si no tiene.",IF(AT161+AU161>$C161," * La suma de las variables Atenciones pacientes oncológicos No puede ser mayor al Total Ambos Sexos.","")) | CG161: =IF(AND(N161+O161+P161+Q161+R161+S161>0,AV161="")," * No olvide digitar la variable Atenciones pacientes PACTOS 18 a 29 años. Digite Cero si no tiene.",IF(AV161>N161+O161+P161+Q161+R161+S161," * La variable Atenciones pacientes PACTOS 18 a 29 años No puede ser mayor la sumatoria de los grupos de edad de 18 a 29 años.","")) | CH161: =IF(AND(T161+U161+V161+W161+X161+Y161+Z161+AA161+AB161+AC161+AD161+AE161+AF161+AG161+AH161+AI161+AJ161+AK161+AL161+AM161+AN161+AO161>0,AW161="")," * No olvide digitar la variable Atenciones pacientes PACTOS 30 años y más. Digite Cero si no tiene.",IF(AW161>T161+U161+V161+W161+X161+Y161+Z161+AA161+AB161+AC161+AD161+AE161+AF161+AG161+AH161+AI161+AJ161+AK161+AL161+AM161+AN161+AO161," * La variable Atenciones pacientes PACTOS 30 años y más No puede ser mayor la sumatoria de los grupos de edad de 30 y más años.","")) | CN161: =IF(AND(C161>0,AP161=""),1,IF(AP161>C161,1,0)) -> 0 | CO161: =IF(AND(C161>0,AQ161=""),1,IF(AQ161>C161,1,0)) -> 0 | CP161: =IF(AND(C161>0,AR161=""),1,IF(AR161>C161,1,0)) -> 0 | CQ161: =IF(AND(C161>0,AS161=""),1,IF(AS161>C161,1,0)) -> 0 | CR161: =IF(AND($C161>0,AT161="",AU161=""),1,IF(AT161+AU161>$C161,1,0)) -> 0 | CS161: =IF(AND(N161+O161+P161+Q161+R161+S161>0,AV161=""),1,IF(AV161>N161+O161+P161+Q161+R161+S161,1,0)) -> 0 | CT161: =IF(AND(T161+U161+V161+W161+X161+Y161+Z161+AA161+AB161+AC161+AD161+AE161+AF161+AG161+AH161+AI161+AJ161+AK161+AL161+AM161+AN161+AO161>0,AW161=""),1,IF(AW161>T161+U161+V161+W161+X161+Y161+Z161+AA161+AB161+AC161+AD161+AE161+AF161+AG161+AH161+AI161+AJ161+AK161+AL161+AM161+AN161+AO161,1,0)) -> 0
A162: TOTAL | C162: =SUM(C151:C161) -> 42012 | D162: =SUM(D151:D161) -> 17234 | E162: =SUM(E151:E161) -> 24778 | F162: =SUM(F151:F161) -> 988 | G162: =SUM(G151:G161) -> 648 | H162: =SUM(H151:H161) -> 945 | I162: =SUM(I151:I161) -> 778 | J162: =SUM(J151:J161) -> 735 | ... AU162: =SUM(AU151:AU161) -> 2502 | AV162: =SUM(AV159:AV161)+AV157 -> 0 | AW162: =SUM(AW159:AW161)+AW157 -> 0
A163: SECCIÓN D: CONSULTAS INFECCIÓN TRANSMISIÓN SEXUAL (ITS) Y CONTROLES DE SALUD SEXUAL EN EL NIVEL SECUNDARIO (Incluidas en Sección C)
A164: ACTIVIDAD | B164: PROFESIONAL | C164: TOTAL | F164: RANGO ETARIO Y SEXO | AP164: Beneficiarios | AQ164: TRANS | AS164: Pueblos Originarios | AT164: Migrantes | AU164: Niños, Niñas, Adolescentes SENAME | AV164: Niños, Niñas, Adolescentes y Jóvenes Mejor Niñez
F165: 0 - 4 años | H165: 5 - 9 años | J165: 10 - 14 años | L165: 15 - 17 años | N165: 18 - 19 años | P165: 20 - 24 años | R165: 25 - 29 años | T165: 30 - 34 años | V165: 35 - 39 años | X165: 40 - 44 años | Z165: 45 - 49 años | AB165: 50 - 54 años | AD165: 55 - 59 años | AF165: 60 - 64 años | AH165: 65 - 69 años | AJ165: 70 - 74 años | AL165: 75 - 79 años | AN165: 80 y más años
C166: Ambos Sexos | D166: Hombres | E166: Mujeres | F166: Hombre | G166: Mujer | H166: Hombre | I166: Mujer | J166: Hombre | K166: Mujer | L166: Hombre | M166: Mujer | N166: Hombre | O166: Mujer | P166: Hombre | Q166: Mujer | R166: Hombre | S166: Mujer | T166: Hombre | U166: Mujer | V166: Hombre | W166: Mujer | X166: Hombre | Y166: Mujer | Z166: Hombre | AA166: Mujer | AB166: Hombre | AC166: Mujer | AD166: Hombre | AE166: Mujer | AF166: Hombre | AG166: Mujer | AH166: Hombre | AI166: Mujer | AJ166: Hombre | AK166: Mujer | AL166: Hombre | AM166: Mujer | AN166: Hombre | AO166: Mujer | AQ166: Masculino | AR166: Femenino
A167: Consultas Infección Transmisión Sexual (ITS) (excluir VIH/SIDA) | B167: Enfermera/o | C167: =SUM(D167+E167) -> 0 | D167: =SUM(F167+H167+J167+L167+N167+P167+R167+T167+V167+X167+Z167+AB167+AD167+AF167+AH167+AJ167+AL167+AN167) -> 0 | E167: =SUM(G167+I167+K167+M167+O167+Q167+S167+U167+W167+Y167+AA167+AC167+AE167+AG167+AI167+AK167+AM167+AO167) -> 0 | F167: =SUM(ENERO:DICIEMBRE!F167) -> 0 | G167: =SUM(ENERO:DICIEMBRE!G167) -> 0 | H167: =SUM(ENERO:DICIEMBRE!H167) -> 0 | I167: =SUM(ENERO:DICIEMBRE!I167) -> 0 | J167: =SUM(ENERO:DICIEMBRE!J167) -> 0 | K167: =SUM(ENERO:DICIEMBRE!K167) -> 0 | L167: =SUM(ENERO:DICIEMBRE!L167) -> 0 | M167: =SUM(ENERO:DICIEMBRE!M167) -> 0 | ... AV167: =SUM(ENERO:DICIEMBRE!AV167) -> 0 | AW167: =CB167&CC167&CD167&CE167&CF167&CG167&CH167 | CB167: =IF(AND(C167>0,AP167="")," * No olvide digitar la variable Beneficiarios. Digite Cero si no tiene.",IF(AP167>C167," * La variable Beneficiarios No puede ser mayor al Total Ambos Sexos.","")) | CC167: =IF(AND(E167>0,OR(AQ167=""))," * No olvide digitar la variable Trans (Masculino). Digite Cero si no tiene.",IF((AQ167)>E167," * La variable Trans (Masculino) No puede ser mayor al Total Mujeres.","")) | CD167: =IF(AND(D167>0,OR(AR167=""))," * No olvide digitar la variable Trans (Femenino). Digite Cero si no tiene.",IF((AR167)>D167," * La variable Trans (Femenino) No puede ser mayor al Total Hombres.","")) | CE167: =IF(AND(C167>0,AS167="")," * No olvide digitar la variable Pueblos Originarios. Digite Cero si no tiene.",IF(AS167>C167," * La variable Pueblos Originarios No puede ser mayor al Total Ambos Sexos.","")) | CF167: =IF(AND(C167>0,AT167="")," * No olvide digitar la variable Migrantes. Digite Cero si no tiene.",IF(AT167>C167," * La variable Migrantes No puede ser mayor al Total Ambos Sexos.","")) | CG167: =IF(AND(C167>0,AU167="")," * No olvide digitar la variable Niños, niñas, Adolescentes SENAME. Digite Cero si no tiene.",IF(AU167>C167," * La variable Niños, niñas, Adolescentes SENAME No puede ser mayor al Total Ambos Sexos.","")) | CH167: =IF(AND(C167>0,AV167="")," * No olvide digitar la variable Niños, Niñas, Adolescentes y Jóvenes Mejor Niñez. Digite Cero si no tiene.",IF(AV167>C167," * La variable Niños, Niñas, Adolescentes y Jóvenes Mejor Niñez No puede ser mayor al Total Ambos Sexos.","")) | CN167: =IF(AND(C167>0,AP167=""),1,IF(AP167>C167,1,0)) -> 0 | CO167: =IF(AND(E167>0,OR(AQ167="")),1,IF((AQ167)>E167,1,0)) -> 0 | CP167: =IF(AND(D167>0,OR(AR167="")),1,IF((AR167)>D167,1,0)) -> 0 | CQ167: =IF(AND(C167>0,AS167=""),1,IF(AS167>C167,1,0)) -> 0 | CR167: =IF(AND(C167>0,AT167=""),1,IF(AT167>C167,1,0)) -> 0 | CS167: =IF(AND(C167>0,AU167=""),1,IF(AU167>C167,1,0)) -> 0 | CT167: =IF(AND(C167>0,AV167=""),1,IF(AV167>C167,1,0)) -> 0
B168: Matrona/ón | C168: =SUM(D168+E168) -> 616 | D168: =SUM(F168+H168+J168+L168+N168+P168+R168+T168+V168+X168+Z168+AB168+AD168+AF168+AH168+AJ168+AL168+AN168) -> 119 | E168: =SUM(G168+I168+K168+M168+O168+Q168+S168+U168+W168+Y168+AA168+AC168+AE168+AG168+AI168+AK168+AM168+AO168) -> 497 | F168: =SUM(ENERO:DICIEMBRE!F168) -> 0 | G168: =SUM(ENERO:DICIEMBRE!G168) -> 0 | H168: =SUM(ENERO:DICIEMBRE!H168) -> 0 | I168: =SUM(ENERO:DICIEMBRE!I168) -> 0 | J168: =SUM(ENERO:DICIEMBRE!J168) -> 1 | K168: =SUM(ENERO:DICIEMBRE!K168) -> 2 | L168: =SUM(ENERO:DICIEMBRE!L168) -> 3 | M168: =SUM(ENERO:DICIEMBRE!M168) -> 5 | ... AV168: =SUM(ENERO:DICIEMBRE!AV168) -> 0 | AW168: =CB168&CC168&CD168&CE168&CF168&CG168&CH168 | CB168: =IF(AND(C168>0,AP168="")," * No olvide digitar la variable Beneficiarios. Digite Cero si no tiene.",IF(AP168>C168," * La variable Beneficiarios No puede ser mayor al Total Ambos Sexos.","")) | CC168: =IF(AND(E168>0,OR(AQ168=""))," * No olvide digitar la variable Trans (Masculino). Digite Cero si no tiene.",IF((AQ168)>E168," * La variable Trans (Masculino) No puede ser mayor al Total Mujeres.","")) | CD168: =IF(AND(D168>0,OR(AR168=""))," * No olvide digitar la variable Trans (Femenino). Digite Cero si no tiene.",IF((AR168)>D168," * La variable Trans (Femenino) No puede ser mayor al Total Hombres.","")) | CE168: =IF(AND(C168>0,AS168="")," * No olvide digitar la variable Pueblos Originarios. Digite Cero si no tiene.",IF(AS168>C168," * La variable Pueblos Originarios No puede ser mayor al Total Ambos Sexos.","")) | CF168: =IF(AND(C168>0,AT168="")," * No olvide digitar la variable Migrantes. Digite Cero si no tiene.",IF(AT168>C168," * La variable Migrantes No puede ser mayor al Total Ambos Sexos.","")) | CG168: =IF(AND(C168>0,AU168="")," * No olvide digitar la variable Niños, niñas, Adolescentes SENAME. Digite Cero si no tiene.",IF(AU168>C168," * La variable Niños, niñas, Adolescentes SENAME No puede ser mayor al Total Ambos Sexos.","")) | CH168: =IF(AND(C168>0,AV168="")," * No olvide digitar la variable Niños, Niñas, Adolescentes y Jóvenes Mejor Niñez. Digite Cero si no tiene.",IF(AV168>C168," * La variable Niños, Niñas, Adolescentes y Jóvenes Mejor Niñez No puede ser mayor al Total Ambos Sexos.","")) | CN168: =IF(AND(C168>0,AP168=""),1,IF(AP168>C168,1,0)) -> 0 | CO168: =IF(AND(E168>0,OR(AQ168="")),1,IF((AQ168)>E168,1,0)) -> 0 | CP168: =IF(AND(D168>0,OR(AR168="")),1,IF((AR168)>D168,1,0)) -> 0 | CQ168: =IF(AND(C168>0,AS168=""),1,IF(AS168>C168,1,0)) -> 0 | CR168: =IF(AND(C168>0,AT168=""),1,IF(AT168>C168,1,0)) -> 0 | CS168: =IF(AND(C168>0,AU168=""),1,IF(AU168>C168,1,0)) -> 0 | CT168: =IF(AND(C168>0,AV168=""),1,IF(AV168>C168,1,0)) -> 0
A169: Consultas VIH/SIDA | B169: Enfermera/o | C169: =SUM(D169+E169) -> 0 | D169: =SUM(F169+H169+J169+L169+N169+P169+R169+T169+V169+X169+Z169+AB169+AD169+AF169+AH169+AJ169+AL169+AN169) -> 0 | E169: =SUM(G169+I169+K169+M169+O169+Q169+S169+U169+W169+Y169+AA169+AC169+AE169+AG169+AI169+AK169+AM169+AO169) -> 0 | F169: =SUM(ENERO:DICIEMBRE!F169) -> 0 | G169: =SUM(ENERO:DICIEMBRE!G169) -> 0 | H169: =SUM(ENERO:DICIEMBRE!H169) -> 0 | I169: =SUM(ENERO:DICIEMBRE!I169) -> 0 | J169: =SUM(ENERO:DICIEMBRE!J169) -> 0 | K169: =SUM(ENERO:DICIEMBRE!K169) -> 0 | L169: =SUM(ENERO:DICIEMBRE!L169) -> 0 | M169: =SUM(ENERO:DICIEMBRE!M169) -> 0 | ... AV169: =SUM(ENERO:DICIEMBRE!AV169) -> 0 | AW169: =CB169&CC169&CD169&CE169&CF169&CG169&CH169 | CB169: =IF(AND(C169>0,AP169="")," * No olvide digitar la variable Beneficiarios. Digite Cero si no tiene.",IF(AP169>C169," * La variable Beneficiarios No puede ser mayor al Total Ambos Sexos.","")) | CC169: =IF(AND(E169>0,OR(AQ169=""))," * No olvide digitar la variable Trans (Masculino). Digite Cero si no tiene.",IF((AQ169)>E169," * La variable Trans (Masculino) No puede ser mayor al Total Mujeres.","")) | CD169: =IF(AND(D169>0,OR(AR169=""))," * No olvide digitar la variable Trans (Femenino). Digite Cero si no tiene.",IF((AR169)>D169," * La variable Trans (Femenino) No puede ser mayor al Total Hombres.","")) | CE169: =IF(AND(C169>0,AS169="")," * No olvide digitar la variable Pueblos Originarios. Digite Cero si no tiene.",IF(AS169>C169," * La variable Pueblos Originarios No puede ser mayor al Total Ambos Sexos.","")) | CF169: =IF(AND(C169>0,AT169="")," * No olvide digitar la variable Migrantes. Digite Cero si no tiene.",IF(AT169>C169," * La variable Migrantes No puede ser mayor al Total Ambos Sexos.","")) | CG169: =IF(AND(C169>0,AU169="")," * No olvide digitar la variable Niños, niñas, Adolescentes SENAME. Digite Cero si no tiene.",IF(AU169>C169," * La variable Niños, niñas, Adolescentes SENAME No puede ser mayor al Total Ambos Sexos.","")) | CH169: =IF(AND(C169>0,AV169="")," * No olvide digitar la variable Niños, Niñas, Adolescentes y Jóvenes Mejor Niñez. Digite Cero si no tiene.",IF(AV169>C169," * La variable Niños, Niñas, Adolescentes y Jóvenes Mejor Niñez No puede ser mayor al Total Ambos Sexos.","")) | CN169: =IF(AND(C169>0,AP169=""),1,IF(AP169>C169,1,0)) -> 0 | CO169: =IF(AND(E169>0,OR(AQ169="")),1,IF((AQ169)>E169,1,0)) -> 0 | CP169: =IF(AND(D169>0,OR(AR169="")),1,IF((AR169)>D169,1,0)) -> 0 | CQ169: =IF(AND(C169>0,AS169=""),1,IF(AS169>C169,1,0)) -> 0 | CR169: =IF(AND(C169>0,AT169=""),1,IF(AT169>C169,1,0)) -> 0 | CS169: =IF(AND(C169>0,AU169=""),1,IF(AU169>C169,1,0)) -> 0 | CT169: =IF(AND(C169>0,AV169=""),1,IF(AV169>C169,1,0)) -> 0
B170: Matrona/ón | C170: =SUM(D170+E170) -> 0 | D170: =SUM(F170+H170+J170+L170+N170+P170+R170+T170+V170+X170+Z170+AB170+AD170+AF170+AH170+AJ170+AL170+AN170) -> 0 | E170: =SUM(G170+I170+K170+M170+O170+Q170+S170+U170+W170+Y170+AA170+AC170+AE170+AG170+AI170+AK170+AM170+AO170) -> 0 | F170: =SUM(ENERO:DICIEMBRE!F170) -> 0 | G170: =SUM(ENERO:DICIEMBRE!G170) -> 0 | H170: =SUM(ENERO:DICIEMBRE!H170) -> 0 | I170: =SUM(ENERO:DICIEMBRE!I170) -> 0 | J170: =SUM(ENERO:DICIEMBRE!J170) -> 0 | K170: =SUM(ENERO:DICIEMBRE!K170) -> 0 | L170: =SUM(ENERO:DICIEMBRE!L170) -> 0 | M170: =SUM(ENERO:DICIEMBRE!M170) -> 0 | ... AV170: =SUM(ENERO:DICIEMBRE!AV170) -> 0 | AW170: =CB170&CC170&CD170&CE170&CF170&CG170&CH170 | CB170: =IF(AND(C170>0,AP170="")," * No olvide digitar la variable Beneficiarios. Digite Cero si no tiene.",IF(AP170>C170," * La variable Beneficiarios No puede ser mayor al Total Ambos Sexos.","")) | CC170: =IF(AND(E170>0,OR(AQ170=""))," * No olvide digitar la variable Trans (Masculino). Digite Cero si no tiene.",IF((AQ170)>E170," * La variable Trans (Masculino) No puede ser mayor al Total Mujeres.","")) | CD170: =IF(AND(D170>0,OR(AR170=""))," * No olvide digitar la variable Trans (Femenino). Digite Cero si no tiene.",IF((AR170)>D170," * La variable Trans (Femenino) No puede ser mayor al Total Hombres.","")) | CE170: =IF(AND(C170>0,AS170="")," * No olvide digitar la variable Pueblos Originarios. Digite Cero si no tiene.",IF(AS170>C170," * La variable Pueblos Originarios No puede ser mayor al Total Ambos Sexos.","")) | CF170: =IF(AND(C170>0,AT170="")," * No olvide digitar la variable Migrantes. Digite Cero si no tiene.",IF(AT170>C170," * La variable Migrantes No puede ser mayor al Total Ambos Sexos.","")) | CG170: =IF(AND(C170>0,AU170="")," * No olvide digitar la variable Niños, niñas, Adolescentes SENAME. Digite Cero si no tiene.",IF(AU170>C170," * La variable Niños, niñas, Adolescentes SENAME No puede ser mayor al Total Ambos Sexos.","")) | CH170: =IF(AND(C170>0,AV170="")," * No olvide digitar la variable Niños, Niñas, Adolescentes y Jóvenes Mejor Niñez. Digite Cero si no tiene.",IF(AV170>C170," * La variable Niños, Niñas, Adolescentes y Jóvenes Mejor Niñez No puede ser mayor al Total Ambos Sexos.","")) | CN170: =IF(AND(C170>0,AP170=""),1,IF(AP170>C170,1,0)) -> 0 | CO170: =IF(AND(E170>0,OR(AQ170="")),1,IF((AQ170)>E170,1,0)) -> 0 | CP170: =IF(AND(D170>0,OR(AR170="")),1,IF((AR170)>D170,1,0)) -> 0 | CQ170: =IF(AND(C170>0,AS170=""),1,IF(AS170>C170,1,0)) -> 0 | CR170: =IF(AND(C170>0,AT170=""),1,IF(AT170>C170,1,0)) -> 0 | CS170: =IF(AND(C170>0,AU170=""),1,IF(AU170>C170,1,0)) -> 0 | CT170: =IF(AND(C170>0,AV170=""),1,IF(AV170>C170,1,0)) -> 0
...

Sheet ENERO
A1: SERVICIO DE SALUD
A2: =CONCATENATE("COMUNA: ",[2]NOMBRE!B2, " (",[2]NOMBRE!C2,[2]NOMBRE!D2,[2]NOMBRE!E2,[2]NOMBRE!F2,[2]NOMBRE!G2,")") -> COMUNA: LINARES (07401)
A3: =CONCATENATE("ESTABLECIMIENTO/ESTRATEGIA: ", [2]NOMBRE!B3, " (",[2]NOMBRE!C3,[2]NOMBRE!D3,[2]NOMBRE!E3,[2]NOMBRE!F3,[2]NOMBRE!G3,[2]NOMBRE!H3,")") -> ESTABLECIMIENTO/ESTRATEGIA: HOSPITAL PRESIDENTE CARLOS IBAÑEZ DEL CAMPO (116108)
A4: =CONCATENATE("MES: ",[2]NOMBRE!B6, " (",[2]NOMBRE!C6,[2]NOMBRE!D6,")") -> MES: ENERO (01)
A5: =CONCATENATE("AÑO: ",[2]NOMBRE!B7) -> AÑO: 2025
A6: REM-07. ATENCIÓN DE ESPECIALIDADES
A8: SECCIÓN A : CONSULTAS MÉDICAS DE ESPECIALIDAD
A9: ESPECIALIDADES Y SUB-ESPECIALIDADES | B9: CONSULTAS Y CONTROLES MÉDICOS | X9: CONSULTAS NUEVAS SEGÚN ORIGEN | AF9: Consultas de Especialidades resueltas por Médico General
B10: TOTAL | C10: RANGO ETARIO | U10: Beneficiarios | V10: Por Sexo | X10: Menores 18 años | AB10: De 18 y más años
C11: 0 - 4 años | D11: 5 - 9 años | E11: 10 - 14 años | F11: 15 - 17 años | G11: 18 - 19 años | H11: 20 - 24 años | I11: 25 - 29 años | J11: 30 - 34 años | K11: 35 - 39 años | L11: 40 - 44 años | M11: 45 - 49 años | N11: 50 - 54 años | O11: 55 - 59 años | P11: 60 - 64 años | Q11: 65 - 69 años | R11: 70 - 74 años | S11: 75 - 79 años | T11: 80 y más años | V11: Hombres | W11: Mujeres | X11: Total | Y11: APS | Z11: CAE/CDT/CRS/Hospitalización | AA11: Urgencia | AB11: Total | AC11: APS | AD11: CAE/CDT/CRS/Hospitalización | AE11: Urgencia | AF11: Menor 18 años | AG11: De 18 y más años
A12: Pediatría | B12: =SUM(C12:T12) -> 327 | C12: 147 | D12: 92 | E12: 77 | F12: 9 | G12: 0 | H12: 2 | I12: 0 | J12: 0 | K12: 0 | L12: 0 | M12: 0 | N12: 0 | O12: 0 | P12: 0 | Q12: 0 | R12: 0 | S12: 0 | T12: 0 | U12: 327 | V12: 146 | W12: 181 | X12: =SUM(Y12+Z12+AA12) -> 89 | Y12: 26 | Z12: 63 | AA12: 0 | AB12: =SUM(AC12+AD12+AE12) -> 34 | AC12: 12 | AD12: 22 | AE12: 0 | AF12: 0 | AG12: 0 | AH12: =CB12&CC12&CD12 | CB12: =IF(V12+W12<>B12," * La suma por Sexo (Hombres + Mujeres) NO DEBEN ser diferente al Total","") | CC12: =IF(AND(B12>0,U12="")," * No olvide digitar la variable Beneficiarios. Digite CERO si no tiene",IF(U12>B12," * La variable Beneficiarios No puede ser mayor al Total.","")) | CD12: =IF((X12+AB12)>B12," * La suma del Total de Consultas Nuevas según Origen NO DEBE ser MAYOR que el total de Consultas y Controles médicos.","") | CM12: =IF(V12+W12<>B12,1,0) -> 0 | CN12: =IF(AND(B12>0,U12=""),1,IF(U12>B12,1,0)) -> 0 | CO12: =IF((X12+AB12)>B12,1,0) -> 0
A13: Medicina Interna | B13: =SUM(C13:T13) -> 816 | C13: 0 | D13: 0 | E13: 0 | F13: 7 | G13: 6 | H13: 18 | I13: 28 | J13: 36 | K13: 60 | L13: 44 | M13: 49 | N13: 48 | O13: 71 | P13: 93 | Q13: 102 | R13: 90 | S13: 67 | T13: 97 | U13: 816 | V13: 319 | W13: 497 | X13: =SUM(Y13+Z13+AA13) -> 2 | Y13: 1 | Z13: 1 | AA13: 0 | AB13: =SUM(AC13+AD13+AE13) -> 275 | AC13: 74 | AD13: 201 | AE13: 0 | AF13: 0 | AG13: 50 | AH13: =CB13&CC13&CD13 | CB13: =IF(V13+W13<>B13," * La suma por Sexo (Hombres + Mujeres) NO DEBEN ser diferente al Total","") | CC13: =IF(AND(B13>0,U13="")," * No olvide digitar la variable Beneficiarios. Digite CERO si no tiene",IF(U13>B13," * La variable Beneficiarios No puede ser mayor al Total.","")) | CD13: =IF((X13+AB13)>B13," * La suma del Total de Consultas Nuevas según Origen NO DEBE ser MAYOR que el total de Consultas y Controles médicos.","") | CM13: =IF(V13+W13<>B13,1,0) -> 0 | CN13: =IF(AND(B13>0,U13=""),1,IF(U13>B13,1,0)) -> 0 | CO13: =IF((X13+AB13)>B13,1,0) -> 0
A14: Neonatología | B14: =SUM(C14:D14) -> 0 | X14: =SUM(Y14+Z14+AA14) -> 0 | Y14: 0 | Z14: 0 | AA14: 0 | AB14: =SUM(AC14+AD14+AE14) -> 0 | AC14: 0 | AD14: 0 | AE14: 0 | AF14: 0 | AG14: 0 | AH14: =CB14&CC14&CD14 | CB14: =IF(V14+W14<>B14," * La suma por Sexo (Hombres + Mujeres) NO DEBEN ser diferente al Total","") | CC14: =IF(AND(B14>0,U14="")," * No olvide digitar la variable Beneficiarios. Digite CERO si no tiene",IF(U14>B14," * La variable Beneficiarios No puede ser mayor al Total.","")) | CD14: =IF((X14+AB14)>B14," * La suma del Total de Consultas Nuevas según Origen NO DEBE ser MAYOR que el total de Consultas y Controles médicos.","") | CM14: =IF(V14+W14<>B14,1,0) -> 0 | CN14: =IF(AND(B14>0,U14=""),1,IF(U14>B14,1,0)) -> 0 | CO14: =IF((X14+AB14)>B14,1,0) -> 0
A15: Enfermedad Respiratoria Pediátrica (Broncopulmonar Infantil) | B15: =SUM(C15:T15) -> 50 | C15: 27 | D15: 13 | E15: 8 | F15: 2 | G15: 0 | H15: 0 | I15: 0 | J15: 0 | K15: 0 | L15: 0 | M15: 0 | N15: 0 | O15: 0 | P15: 0 | Q15: 0 | R15: 0 | S15: 0 | T15: 0 | U15: 50 | V15: 28 | W15: 22 | X15: =SUM(Y15+Z15+AA15) -> 7 | Y15: 3 | Z15: 4 | AA15: 0 | AB15: =SUM(AC15+AD15+AE15) -> 3 | AC15: 1 | AD15: 2 | AE15: 0 | AF15: 0 | AG15: 0 | AH15: =CB15&CC15&CD15 | CB15: =IF(V15+W15<>B15," * La suma por Sexo (Hombres + Mujeres) NO DEBEN ser diferente al Total","") | CC15: =IF(AND(B15>0,U15="")," * No olvide digitar la variable Beneficiarios. Digite CERO si no tiene",IF(U15>B15," * La variable Beneficiarios No puede ser mayor al Total.","")) | CD15: =IF((X15+AB15)>B15," * La suma del Total de Consultas Nuevas según Origen NO DEBE ser MAYOR que el total de Consultas y Controles médicos.","") | CM15: =IF(V15+W15<>B15,1,0) -> 0 | CN15: =IF(AND(B15>0,U15=""),1,IF(U15>B15,1,0)) -> 0 | CO15: =IF((X15+AB15)>B15,1,0) -> 0
A16: Enfermedad Respiratoria de Adulto (Broncopulmonar) | B16: =SUM(C16:T16) -> 143 | C16: 0 | D16: 0 | E16: 0 | F16: 2 | G16: 1 | H16: 5 | I16: 2 | J16: 0 | K16: 1 | L16: 1 | M16: 2 | N16: 6 | O16: 7 | P16: 20 | Q16: 22 | R16: 27 | S16: 22 | T16: 25 | U16: 143 | V16: 68 | W16: 75 | X16: =SUM(Y16+Z16+AA16) -> 1 | Y16: 0 | Z16: 1 | AA16: 0 | AB16: =SUM(AC16+AD16+AE16) -> 49 | AC16: 34 | AD16: 15 | AE16: 0 | AF16: 0 | AG16: 0 | AH16: =CB16&CC16&CD16 | CB16: =IF(V16+W16<>B16," * La suma por Sexo (Hombres + Mujeres) NO DEBEN ser diferente al Total","") | CC16: =IF(AND(B16>0,U16="")," * No olvide digitar la variable Beneficiarios. Digite CERO si no tiene",IF(U16>B16," * La variable Beneficiarios No puede ser mayor al Total.","")) | CD16: =IF((X16+AB16)>B16," * La suma del Total de Consultas Nuevas según Origen NO DEBE ser MAYOR que el total de Consultas y Controles médicos.","") | CM16: =IF(V16+W16<>B16,1,0) -> 0 | CN16: =IF(AND(B16>0,U16=""),1,IF(U16>B16,1,0)) -> 0 | CO16: =IF((X16+AB16)>B16,1,0) -> 0
A17: Cardiología | B17: =SUM(C17:T17) -> 276 | C17: 61 | D17: 30 | E17: 24 | F17: 3 | G17: 1 | H17: 3 | I17: 0 | J17: 1 | K17: 0 | L17: 2 | M17: 2 | N17: 8 | O17: 14 | P17: 25 | Q17: 27 | R17: 24 | S17: 15 | T17: 36 | U17: 276 | V17: 160 | W17: 116 | X17: =SUM(Y17+Z17+AA17) -> 29 | Y17: 14 | Z17: 15 | AA17: 0 | AB17: =SUM(AC17+AD17+AE17) -> 58 | AC17: 22 | AD17: 36 | AE17: 0 | AF17: 0 | AG17: 0 | AH17: =CB17&CC17&CD17 | CB17: =IF(V17+W17<>B17," * La suma por Sexo (Hombres + Mujeres) NO DEBEN ser diferente al Total","") | CC17: =IF(AND(B17>0,U17="")," * No olvide digitar la variable Beneficiarios. Digite CERO si no tiene",IF(U17>B17," * La variable Beneficiarios No puede ser mayor al Total.","")) | CD17: =IF((X17+AB17)>B17," * La suma del Total de Consultas Nuevas según Origen NO DEBE ser MAYOR que el total de Consultas y Controles médicos.","") | CM17: =IF(V17+W17<>B17,1,0) -> 0 | CN17: =IF(AND(B17>0,U17=""),1,IF(U17>B17,1,0)) -> 0 | CO17: =IF((X17+AB17)>B17,1,0) -> 0
A18: Mastología | B18: =SUM(C18:T18) -> 112 | C18: 0 | D18: 0 | E18: 0 | F18: 0 | G18: 0 | H18: 2 | I18: 6 | J18: 3 | K18: 7 | L18: 8 | M18: 15 | N18: 10 | O18: 17 | P18: 13 | Q18: 14 | R18: 11 | S18: 3 | T18: 3 | U18: 112 | V18: 0 | W18: 112 | X18: =SUM(Y18+Z18+AA18) -> 0 | Y18: 0 | Z18: 0 | AA18: 0 | AB18: =SUM(AC18+AD18+AE18) -> 24 | AC18: 15 | AD18: 8 | AE18: 1 | AF18: 0 | AG18: 0 | AH18: =CB18&CC18&CD18 | CB18: =IF(V18+W18<>B18," * La suma por Sexo (Hombres + Mujeres) NO DEBEN ser diferente al Total","") | CC18: =IF(AND(B18>0,U18="")," * No olvide digitar la variable Beneficiarios. Digite CERO si no tiene",IF(U18>B18," * La variable Beneficiarios No puede ser mayor al Total.","")) | CD18: =IF((X18+AB18)>B18," * La suma del Total de Consultas Nuevas según Origen NO DEBE ser MAYOR que el total de Consultas y Controles médicos.","") | CM18: =IF(V18+W18<>B18,1,0) -> 0 | CN18: =IF(AND(B18>0,U18=""),1,IF(U18>B18,1,0)) -> 0 | CO18: =IF((X18+AB18)>B18,1,0) -> 0
A19: Endocrinología Pediátrica | B19: =SUM(C19:T19) -> 0 | X19: =SUM(Y19+Z19+AA19) -> 0 | Y19: 0 | Z19: 0 | AA19: 0 | AB19: =SUM(AC19+AD19+AE19) -> 0 | AC19: 0 | AD19: 0 | AE19: 0 | AF19: 0 | AG19: 0 | AH19: =CB19&CC19&CD19 | CB19: =IF(V19+W19<>B19," * La suma por Sexo (Hombres + Mujeres) NO DEBEN ser diferente al Total","") | CC19: =IF(AND(B19>0,U19="")," * No olvide digitar la variable Beneficiarios. Digite CERO si no tiene",IF(U19>B19," * La variable Beneficiarios No puede ser mayor al Total.","")) | CD19: =IF((X19+AB19)>B19," * La suma del Total de Consultas Nuevas según Origen NO DEBE ser MAYOR que el total de Consultas y Controles médicos.","") | CM19: =IF(V19+W19<>B19,1,0) -> 0 | CN19: =IF(AND(B19>0,U19=""),1,IF(U19>B19,1,0)) -> 0 | CO19: =IF((X19+AB19)>B19,1,0) -> 0
A20: Endocrinología Adulto | B20: =SUM(C20:T20) -> 0 | X20: =SUM(Y20+Z20+AA20) -> 0 | Y20: 0 | Z20: 0 | AA20: 0 | AB20: =SUM(AC20+AD20+AE20) -> 0 | AC20: 0 | AD20: 0 | AE20: 0 | AF20: 0 | AG20: 0 | AH20: =CB20&CC20&CD20 | CB20: =IF(V20+W20<>B20," * La suma por Sexo (Hombres + Mujeres) NO DEBEN ser diferente al Total","") | CC20: =IF(AND(B20>0,U20="")," * No olvide digitar la variable Beneficiarios. Digite CERO si no tiene",IF(U20>B20," * La variable Beneficiarios No puede ser mayor al Total.","")) | CD20: =IF((X20+AB20)>B20," * La suma del Total de Consultas Nuevas según Origen NO DEBE ser MAYOR que el total de Consultas y Controles médicos.","") | CM20: =IF(V20+W20<>B20,1,0) -> 0 | CN20: =IF(AND(B20>0,U20=""),1,IF(U20>B20,1,0)) -> 0 | CO20: =IF((X20+AB20)>B20,1,0) -> 0
A21: Gastroenterología Pediátrica | B21: =SUM(C21:T21) -> 0 | X21: =SUM(Y21+Z21+AA21) -> 0 | Y21: 0 | Z21: 0 | AA21: 0 | AB21: =SUM(AC21+AD21+AE21) -> 0 | AC21: 0 | AD21: 0 | AE21: 0 | AF21: 0 | AG21: 0 | AH21: =CB21&CC21&CD21 | CB21: =IF(V21+W21<>B21," * La suma por Sexo (Hombres + Mujeres) NO DEBEN ser diferente al Total","") | CC21: =IF(AND(B21>0,U21="")," * No olvide digitar la variable Beneficiarios. Digite CERO si no tiene",IF(U21>B21," * La variable Beneficiarios No puede ser mayor al Total.","")) | CD21: =IF((X21+AB21)>B21," * La suma del Total de Consultas Nuevas según Origen NO DEBE ser MAYOR que el total de Consultas y Controles médicos.","") | CM21: =IF(V21+W21<>B21,1,0) -> 0 | CN21: =IF(AND(B21>0,U21=""),1,IF(U21>B21,1,0)) -> 0 | CO21: =IF((X21+AB21)>B21,1,0) -> 0
A22: Gastroenterología Adulto | B22: =SUM(C22:T22) -> 133 | C22: 0 | D22: 0 | E22: 0 | F22: 0 | G22: 1 | H22: 2 | I22: 2 | J22: 1 | K22: 5 | L22: 11 | M22: 9 | N22: 10 | O22: 11 | P22: 17 | Q22: 16 | R22: 19 | S22: 11 | T22: 18 | U22: 133 | V22: 53 | W22: 80 | X22: =SUM(Y22+Z22+AA22) -> 0 | Y22: 0 | Z22: 0 | AA22: 0 | AB22: =SUM(AC22+AD22+AE22) -> 68 | AC22: 34 | AD22: 34 | AE22: 0 | AF22: 0 | AG22: 0 | AH22: =CB22&CC22&CD22 | CB22: =IF(V22+W22<>B22," * La suma por Sexo (Hombres + Mujeres) NO DEBEN ser diferente al Total","") | CC22: =IF(AND(B22>0,U22="")," * No olvide digitar la variable Beneficiarios. Digite CERO si no tiene",IF(U22>B22," * La variable Beneficiarios No puede ser mayor al Total.","")) | CD22: =IF((X22+AB22)>B22," * La suma del Total de Consultas Nuevas según Origen NO DEBE ser MAYOR que el total de Consultas y Controles médicos.","") | CM22: =IF(V22+W22<>B22,1,0) -> 0 | CN22: =IF(AND(B22>0,U22=""),1,IF(U22>B22,1,0)) -> 0 | CO22: =IF((X22+AB22)>B22,1,0) -> 0
A23: Genética Clínica | B23: =SUM(C23:T23) -> 0 | X23: =SUM(Y23+Z23+AA23) -> 0 | Y23: 0 | Z23: 0 | AA23: 0 | AB23: =SUM(AC23+AD23+AE23) -> 0 | AC23: 0 | AD23: 0 | AE23: 0 | AF23: 0 | AG23: 0 | AH23: =CB23&CC23&CD23 | CB23: =IF(V23+W23<>B23," * La suma por Sexo (Hombres + Mujeres) NO DEBEN ser diferente al Total","") | CC23: =IF(AND(B23>0,U23="")," * No olvide digitar la variable Beneficiarios. Digite CERO si no tiene",IF(U23>B23," * La variable Beneficiarios No puede ser mayor al Total.","")) | CD23: =IF((X23+AB23)>B23," * La suma del Total de Consultas Nuevas según Origen NO DEBE ser MAYOR que el total de Consultas y Controles médicos.","") | CM23: =IF(V23+W23<>B23,1,0) -> 0 | CN23: =IF(AND(B23>0,U23=""),1,IF(U23>B23,1,0)) -> 0 | CO23: =IF((X23+AB23)>B23,1,0) -> 0
A24: Hematología | B24: =SUM(C24:T24) -> 0 | X24: =SUM(Y24+Z24+AA24) -> 0 | Y24: 0 | Z24: 0 | AA24: 0 | AB24: =SUM(AC24+AD24+AE24) -> 0 | AC24: 0 | AD24: 0 | AE24: 0 | AF24: 0 | AG24: 0 | AH24: =CB24&CC24&CD24 | CB24: =IF(V24+W24<>B24," * La suma por Sexo (Hombres + Mujeres) NO DEBEN ser diferente al Total","") | CC24: =IF(AND(B24>0,U24="")," * No olvide digitar la variable Beneficiarios. Digite CERO si no tiene",IF(U24>B24," * La variable Beneficiarios No puede ser mayor al Total.","")) | CD24: =IF((X24+AB24)>B24," * La suma del Total de Consultas Nuevas según Origen NO DEBE ser MAYOR que el total de Consultas y Controles médicos.","") | CM24: =IF(V24+W24<>B24,1,0) -> 0 | CN24: =IF(AND(B24>0,U24=""),1,IF(U24>B24,1,0)) -> 0 | CO24: =IF((X24+AB24)>B24,1,0) -> 0
A25: Medicina del adolescente | B25: =SUM(C25:T25) -> 0 | X25: =SUM(Y25+Z25+AA25) -> 0 | Y25: 0 | Z25: 0 | AA25: 0 | AB25: =SUM(AC25+AD25+AE25) -> 0 | AC25: 0 | AD25: 0 | AE25: 0 | AF25: 0 | AG25: 0 | AH25: =CB25&CC25&CD25 | CB25: =IF(V25+W25<>B25," * La suma por Sexo (Hombres + Mujeres) NO DEBEN ser diferente al Total","") | CC25: =IF(AND(B25>0,U25="")," * No olvide digitar la variable Beneficiarios. Digite CERO si no tiene",IF(U25>B25," * La variable Beneficiarios No puede ser mayor al Total.","")) | CD25: =IF((X25+AB25)>B25," * La suma del Total de Consultas Nuevas según Origen NO DEBE ser MAYOR que el total de Consultas y Controles médicos.","") | CM25: =IF(V25+W25<>B25,1,0) -> 0 | CN25: =IF(AND(B25>0,U25=""),1,IF(U25>B25,1,0)) -> 0 | CO25: =IF((X25+AB25)>B25,1,0) -> 0
A26: Nefrología Pediátrica | B26: =SUM(C26:T26) -> 0 | X26: =SUM(Y26+Z26+AA26) -> 0 | Y26: 0 | Z26: 0 | AA26: 0 | AB26: =SUM(AC26+AD26+AE26) -> 0 | AC26: 0 | AD26: 0 | AE26: 0 | AF26: 0 | AG26: 0 | AH26: =CB26&CC26&CD26 | CB26: =IF(V26+W26<>B26," * La suma por Sexo (Hombres + Mujeres) NO DEBEN ser diferente al Total","") | CC26: =IF(AND(B26>0,U26="")," * No olvide digitar la variable Beneficiarios. Digite CERO si no tiene",IF(U26>B26," * La variable Beneficiarios No puede ser mayor al Total.","")) | CD26: =IF((X26+AB26)>B26," * La suma del Total de Consultas Nuevas según Origen NO DEBE ser MAYOR que el total de Consultas y Controles médicos.","") | CM26: =IF(V26+W26<>B26,1,0) -> 0 | CN26: =IF(AND(B26>0,U26=""),1,IF(U26>B26,1,0)) -> 0 | CO26: =IF((X26+AB26)>B26,1,0) -> 0
A27: Nefrología Adulto | B27: =SUM(C27:T27) -> 0 | X27: =SUM(Y27+Z27+AA27) -> 0 | Y27: 0 | Z27: 0 | AA27: 0 | AB27: =SUM(AC27+AD27+AE27) -> 0 | AC27: 0 | AD27: 0 | AE27: 0 | AF27: 0 | AG27: 0 | AH27: =CB27&CC27&CD27 | CB27: =IF(V27+W27<>B27," * La suma por Sexo (Hombres + Mujeres) NO DEBEN ser diferente al Total","") | CC27: =IF(AND(B27>0,U27="")," * No olvide digitar la variable Beneficiarios. Digite CERO si no tiene",IF(U27>B27," * La variable Beneficiarios No puede ser mayor al Total.","")) | CD27: =IF((X27+AB27)>B27," * La suma del Total de Consultas Nuevas según Origen NO DEBE ser MAYOR que el total de Consultas y Controles médicos.","") | CM27: =IF(V27+W27<>B27,1,0) -> 0 | CN27: =IF(AND(B27>0,U27=""),1,IF(U27>B27,1,0)) -> 0 | CO27: =IF((X27+AB27)>B27,1,0) -> 0
A28: Nutrición clínica | B28: =SUM(C28:T28) -> 0 | X28: =SUM(Y28+Z28+AA28) -> 0 | Y28: 0 | Z28: 0 | AA28: 0 | AB28: =SUM(AC28+AD28+AE28) -> 0 | AC28: 0 | AD28: 0 | AE28: 0 | AF28: 0 | AG28: 0 | AH28: =CB28&CC28&CD28 | CB28: =IF(V28+W28<>B28," * La suma por Sexo (Hombres + Mujeres) NO DEBEN ser diferente al Total","") | CC28: =IF(AND(B28>0,U28="")," * No olvide digitar la variable Beneficiarios. Digite CERO si no tiene",IF(U28>B28," * La variable Beneficiarios No puede ser mayor al Total.","")) | CD28: =IF((X28+AB28)>B28," * La suma del Total de Consultas Nuevas según Origen NO DEBE ser MAYOR que el total de Consultas y Controles médicos.","") | CM28: =IF(V28+W28<>B28,1,0) -> 0 | CN28: =IF(AND(B28>0,U28=""),1,IF(U28>B28,1,0)) -> 0 | CO28: =IF((X28+AB28)>B28,1,0) -> 0
A29: Medicina Materno Infantil | B29: =SUM(C29:T29) -> 0 | X29: =SUM(Y29+Z29+AA29) -> 0 | Y29: 0 | Z29: 0 | AA29: 0 | AB29: =SUM(AC29+AD29+AE29) -> 0 | AC29: 0 | AD29: 0 | AE29: 0 | AF29: 0 | AG29: 0 | AH29: =CB29&CC29&CD29 | CB29: =IF(V29+W29<>B29," * La suma por Sexo (Hombres + Mujeres) NO DEBEN ser diferente al Total","") | CC29: =IF(AND(B29>0,U29="")," * No olvide digitar la variable Beneficiarios. Digite CERO si no tiene",IF(U29>B29," * La variable Beneficiarios No puede ser mayor al Total.","")) | CD29: =IF((X29+AB29)>B29," * La suma del Total de Consultas Nuevas según Origen NO DEBE ser MAYOR que el total de Consultas y Controles médicos.","") | CM29: =IF(V29+W29<>B29,1,0) -> 0 | CN29: =IF(AND(B29>0,U29=""),1,IF(U29>B29,1,0)) -> 0 | CO29: =IF((X29+AB29)>B29,1,0) -> 0
A30: Reumatología | B30: =SUM(C30:T30) -> 0 | X30: =SUM(Y30+Z30+AA30) -> 0 | Y30: 0 | Z30: 0 | AA30: 0 | AB30: =SUM(AC30+AD30+AE30) -> 0 | AC30: 0 | AD30: 0 | AE30: 0 | AF30: 0 | AG30: 0 | AH30: =CB30&CC30&CD30 | CB30: =IF(V30+W30<>B30," * La suma por Sexo (Hombres + Mujeres) NO DEBEN ser diferente al Total","") | CC30: =IF(AND(B30>0,U30="")," * No olvide digitar la variable Beneficiarios. Digite CERO si no tiene",IF(U30>B30," * La variable Beneficiarios No puede ser mayor al Total.","")) | CD30: =IF((X30+AB30)>B30," * La suma del Total de Consultas Nuevas según Origen NO DEBE ser MAYOR que el total de Consultas y Controles médicos.","") | CM30: =IF(V30+W30<>B30,1,0) -> 0 | CN30: =IF(AND(B30>0,U30=""),1,IF(U30>B30,1,0)) -> 0 | CO30: =IF((X30+AB30)>B30,1,0) -> 0
A31: Medicina Paliativa y de Manejo del Dolor | B31: =SUM(C31:T31) -> 0 | X31: =SUM(Y31+Z31+AA31) -> 0 | Y31: 0 | Z31: 0 | AA31: 0 | AB31: =SUM(AC31+AD31+AE31) -> 0 | AC31: 0 | AD31: 0 | AE31: 0 | AF31: 0 | AG31: 0 | AH31: =CB31&CC31&CD31 | CB31: =IF(V31+W31<>B31," * La suma por Sexo (Hombres + Mujeres) NO DEBEN ser diferente al Total","") | CC31: =IF(AND(B31>0,U31="")," * No olvide digitar la variable Beneficiarios. Digite CERO si no tiene",IF(U31>B31," * La variable Beneficiarios No puede ser mayor al Total.","")) | CD31: =IF((X31+AB31)>B31," * La suma del Total de Consultas Nuevas según Origen NO DEBE ser MAYOR que el total de Consultas y Controles médicos.","") | CM31: =IF(V31+W31<>B31,1,0) -> 0 | CN31: =IF(AND(B31>0,U31=""),1,IF(U31>B31,1,0)) -> 0 | CO31: =IF((X31+AB31)>B31,1,0) -> 0
A32: Dermatología | B32: =SUM(C32:T32) -> 160 | C32: 7 | D32: 5 | E32: 3 | F32: 1 | G32: 0 | H32: 2 | I32: 2 | J32: 5 | K32: 7 | L32: 9 | M32: 6 | N32: 10 | O32: 9 | P32: 19 | Q32: 16 | R32: 16 | S32: 18 | T32: 25 | U32: 160 | V32: 66 | W32: 94 | X32: =SUM(Y32+Z32+AA32) -> 6 | Y32: 2 | Z32: 4 | AA32: 0 | AB32: =SUM(AC32+AD32+AE32) -> 85 | AC32: 41 | AD32: 44 | AE32: 0 | AF32: 0 | AG32: 0 | AH32: =CB32&CC32&CD32 | CB32: =IF(V32+W32<>B32," * La suma por Sexo (Hombres + Mujeres) NO DEBEN ser diferente al Total","") | CC32: =IF(AND(B32>0,U32="")," * No olvide digitar la variable Beneficiarios. Digite CERO si no tiene",IF(U32>B32," * La variable Beneficiarios No puede ser mayor al Total.","")) | CD32: =IF((X32+AB32)>B32," * La suma del Total de Consultas Nuevas según Origen NO DEBE ser MAYOR que el total de Consultas y Controles médicos.","") | CM32: =IF(V32+W32<>B32,1,0) -> 0 | CN32: =IF(AND(B32>0,U32=""),1,IF(U32>B32,1,0)) -> 0 | CO32: =IF((X32+AB32)>B32,1,0) -> 0
A33: Infectología | B33: =SUM(C33:T33) -> 34 | C33: 0 | D33: 0 | E33: 0 | F33: 0 | G33: 0 | H33: 1 | I33: 0 | J33: 6 | K33: 15 | L33: 0 | M33: 5 | N33: 3 | O33: 2 | P33: 0 | Q33: 0 | R33: 0 | S33: 2 | T33: 0 | U33: 34 | V33: 21 | W33: 13 | X33: =SUM(Y33+Z33+AA33) -> 0 | Y33: 0 | Z33: 0 | AA33: 0 | AB33: =SUM(AC33+AD33+AE33) -> 8 | AC33: 2 | AD33: 5 | AE33: 1 | AF33: 0 | AG33: 0 | AH33: =CB33&CC33&CD33 | CB33: =IF(V33+W33<>B33," * La suma por Sexo (Hombres + Mujeres) NO DEBEN ser diferente al Total","") | CC33: =IF(AND(B33>0,U33="")," * No olvide digitar la variable Beneficiarios. Digite CERO si no tiene",IF(U33>B33," * La variable Beneficiarios No puede ser mayor al Total.","")) | CD33: =IF((X33+AB33)>B33," * La suma del Total de Consultas Nuevas según Origen NO DEBE ser MAYOR que el total de Consultas y Controles médicos.","") | CM33: =IF(V33+W33<>B33,1,0) -> 0 | CN33: =IF(AND(B33>0,U33=""),1,IF(U33>B33,1,0)) -> 0 | CO33: =IF((X33+AB33)>B33,1,0) -> 0
A34: Inmunología | B34: =SUM(C34:T34) -> 0 | X34: =SUM(Y34+Z34+AA34) -> 0 | Y34: 0 | Z34: 0 | AA34: 0 | AB34: =SUM(AC34+AD34+AE34) -> 0 | AC34: 0 | AD34: 0 | AE34: 0 | AF34: 0 | AG34: 0 | AH34: =CB34&CC34&CD34 | CB34: =IF(V34+W34<>B34," * La suma por Sexo (Hombres + Mujeres) NO DEBEN ser diferente al Total","") | CC34: =IF(AND(B34>0,U34="")," * No olvide digitar la variable Beneficiarios. Digite CERO si no tiene",IF(U34>B34," * La variable Beneficiarios No puede ser mayor al Total.","")) | CD34: =IF((X34+AB34)>B34," * La suma del Total de Consultas Nuevas según Origen NO DEBE ser MAYOR que el total de Consultas y Controles médicos.","") | CM34: =IF(V34+W34<>B34,1,0) -> 0 | CN34: =IF(AND(B34>0,U34=""),1,IF(U34>B34,1,0)) -> 0 | CO34: =IF((X34+AB34)>B34,1,0) -> 0
A35: Geriatría | B35: =SUM(P35:T35) -> 0 | X35: =SUM(Y35+Z35+AA35) -> 0 | Y35: 0 | Z35: 0 | AA35: 0 | AB35: =SUM(AC35+AD35+AE35) -> 0 | AC35: 0 | AD35: 0 | AE35: 0 | AF35: 0 | AG35: 0 | AH35: =CB35&CC35&CD35 | CB35: =IF(V35+W35<>B35," * La suma por Sexo (Hombres + Mujeres) NO DEBEN ser diferente al Total","") | CC35: =IF(AND(B35>0,U35="")," * No olvide digitar la variable Beneficiarios. Digite CERO si no tiene",IF(U35>B35," * La variable Beneficiarios No puede ser mayor al Total.","")) | CD35: =IF((X35+AB35)>B35," * La suma del Total de Consultas Nuevas según Origen NO DEBE ser MAYOR que el total de Consultas y Controles médicos.","") | CM35: =IF(V35+W35<>B35,1,0) -> 0 | CN35: =IF(AND(B35>0,U35=""),1,IF(U35>B35,1,0)) -> 0 | CO35: =IF((X35+AB35)>B35,1,0) -> 0
A36: Medicina Física y Rehabilitación | B36: =SUM(C36:T36) -> 0 | X36: =SUM(Y36+Z36+AA36) -> 0 | Y36: 0 | Z36: 0 | AA36: 0 | AB36: =SUM(AC36+AD36+AE36) -> 0 | AC36: 0 | AD36: 0 | AE36: 0 | AF36: 0 | AG36: 0 | AH36: =CB36&CC36&CD36 | CB36: =IF(V36+W36<>B36," * La suma por Sexo (Hombres + Mujeres) NO DEBEN ser diferente al Total","") | CC36: =IF(AND(B36>0,U36="")," * No olvide digitar la variable Beneficiarios. Digite CERO si no tiene",IF(U36>B36," * La variable Beneficiarios No puede ser mayor al Total.","")) | CD36: =IF((X36+AB36)>B36," * La suma del Total de Consultas Nuevas según Origen NO DEBE ser MAYOR que el total de Consultas y Controles médicos.","") | CM36: =IF(V36+W36<>B36,1,0) -> 0 | CN36: =IF(AND(B36>0,U36=""),1,IF(U36>B36,1,0)) -> 0 | CO36: =IF((X36+AB36)>B36,1,0) -> 0
A37: Medicina Reproductiva e Infertilidad | B37: =SUM(C37:T37) -> 0 | X37: =SUM(Y37+Z37+AA37) -> 0 | Y37: 0 | Z37: 0 | AA37: 0 | AB37: =SUM(AC37+AD37+AE37) -> 0 | AC37: 0 | AD37: 0 | AE37: 0 | AF37: 0 | AG37: 0 | AH37: =CB37&CC37&CD37 | CB37: =IF(V37+W37<>B37," * La suma por Sexo (Hombres + Mujeres) NO DEBEN ser diferente al Total","") | CC37: =IF(AND(B37>0,U37="")," * No olvide digitar la variable Beneficiarios. Digite CERO si no tiene",IF(U37>B37," * La variable Beneficiarios No puede ser mayor al Total.","")) | CD37: =IF((X37+AB37)>B37," * La suma del Total de Consultas Nuevas según Origen NO DEBE ser MAYOR que el total de Consultas y Controles médicos.","") | CM37: =IF(V37+W37<>B37,1,0) -> 0 | CN37: =IF(AND(B37>0,U37=""),1,IF(U37>B37,1,0)) -> 0 | CO37: =IF((X37+AB37)>B37,1,0) -> 0
A38: Neurología Pediátrica | B38: =SUM(C38:T38) -> 142 | C38: 37 | D38: 52 | E38: 40 | F38: 11 | G38: 2 | H38: 0 | I38: 0 | J38: 0 | K38: 0 | L38: 0 | M38: 0 | N38: 0 | O38: 0 | P38: 0 | Q38: 0 | R38: 0 | S38: 0 | T38: 0 | U38: 142 | V38: 106 | W38: 36 | X38: =SUM(Y38+Z38+AA38) -> 26 | Y38: 13 | Z38: 13 | AA38: 0 | AB38: =SUM(AC38+AD38+AE38) -> 10 | AC38: 7 | AD38: 3 | AE38: 0 | AF38: 0 | AG38: 0 | AH38: =CB38&CC38&CD38 | CB38: =IF(V38+W38<>B38," * La suma por Sexo (Hombres + Mujeres) NO DEBEN ser diferente al Total","") | CC38: =IF(AND(B38>0,U38="")," * No olvide digitar la variable Beneficiarios. Digite CERO si no tiene",IF(U38>B38," * La variable Beneficiarios No puede ser mayor al Total.","")) | CD38: =IF((X38+AB38)>B38," * La suma del Total de Consultas Nuevas según Origen NO DEBE ser MAYOR que el total de Consultas y Controles médicos.","") | CM38: =IF(V38+W38<>B38,1,0) -> 0 | CN38: =IF(AND(B38>0,U38=""),1,IF(U38>B38,1,0)) -> 0 | CO38: =IF((X38+AB38)>B38,1,0) -> 0
A39: Neurología Adulto | B39: =SUM(C39:T39) -> 85 | C39: 0 | D39: 0 | E39: 0 | F39: 3 | G39: 0 | H39: 5 | I39: 1 | J39: 1 | K39: 4 | L39: 4 | M39: 1 | N39: 6 | O39: 4 | P39: 7 | Q39: 13 | R39: 12 | S39: 9 | T39: 15 | U39: 85 | V39: 39 | W39: 46 | X39: =SUM(Y39+Z39+AA39) -> 2 | Y39: 2 | Z39: 0 | AA39: 0 | AB39: =SUM(AC39+AD39+AE39) -> 42 | AC39: 12 | AD39: 30 | AE39: 0 | AF39: 0 | AG39: 0 | AH39: =CB39&CC39&CD39 | CB39: =IF(V39+W39<>B39," * La suma por Sexo (Hombres + Mujeres) NO DEBEN ser diferente al Total","") | CC39: =IF(AND(B39>0,U39="")," * No olvide digitar la variable Beneficiarios. Digite CERO si no tiene",IF(U39>B39," * La variable Beneficiarios No puede ser mayor al Total.","")) | CD39: =IF((X39+AB39)>B39," * La suma del Total de Consultas Nuevas según Origen NO DEBE ser MAYOR que el total de Consultas y Controles médicos.","") | CM39: =IF(V39+W39<>B39,1,0) -> 0 | CN39: =IF(AND(B39>0,U39=""),1,IF(U39>B39,1,0)) -> 0 | CO39: =IF((X39+AB39)>B39,1,0) -> 0
A40: Oncología Médica | B40: =SUM(C40:T40) -> 0 | C40: 0 | D40: 0 | E40: 0 | F40: 0 | G40: 0 | H40: 0 | I40: 0 | J40: 0 | K40: 0 | L40: 0 | M40: 0 | N40: 0 | O40: 0 | P40: 0 | Q40: 0 | R40: 0 | S40: 0 | T40: 0 | U40: 0 | V40: 0 | W40: 0 | X40: =SUM(Y40+Z40+AA40) -> 0 | Y40: 0 | Z40: 0 | AA40: 0 | AB40: =SUM(AC40+AD40+AE40) -> 0 | AC40: 0 | AD40: 0 | AE40: 0 | AF40: 0 | AG40: 0 | AH40: =CB40&CC40&CD40 | CB40: =IF(V40+W40<>B40," * La suma por Sexo (Hombres + Mujeres) NO DEBEN ser diferente al Total","") | CC40: =IF(AND(B40>0,U40="")," * No olvide digitar la variable Beneficiarios. Digite CERO si no tiene",IF(U40>B40," * La variable Beneficiarios No puede ser mayor al Total.","")) | CD40: =IF((X40+AB40)>B40," * La suma del Total de Consultas Nuevas según Origen NO DEBE ser MAYOR que el total de Consultas y Controles médicos.","") | CM40: =IF(V40+W40<>B40,1,0) -> 0 | CN40: =IF(AND(B40>0,U40=""),1,IF(U40>B40,1,0)) -> 0 | CO40: =IF((X40+AB40)>B40,1,0) -> 0
A41: Psiquiatría Pediátrica y de La Adolescencia | B41: =SUM(C41:T41) -> 73 | C41: 0 | D41: 9 | E41: 18 | F41: 44 | G41: 2 | H41: 0 | I41: 0 | J41: 0 | K41: 0 | L41: 0 | M41: 0 | N41: 0 | O41: 0 | P41: 0 | Q41: 0 | R41: 0 | S41: 0 | T41: 0 | U41: 73 | V41: 21 | W41: 52 | X41: =SUM(Y41+Z41+AA41) -> 0 | Y41: 0 | Z41: 0 | AA41: 0 | AB41: =SUM(AC41+AD41+AE41) -> 0 | AC41: 0 | AD41: 0 | AE41: 0 | AF41: 0 | AG41: 0 | AH41: =CB41&CC41&CD41 | CB41: =IF(V41+W41<>B41," * La suma por Sexo (Hombres + Mujeres) NO DEBEN ser diferente al Total","") | CC41: =IF(AND(B41>0,U41="")," * No olvide digitar la variable Beneficiarios. Digite CERO si no tiene",IF(U41>B41," * La variable Beneficiarios No puede ser mayor al Total.","")) | CD41: =IF((X41+AB41)>B41," * La suma del Total de Consultas Nuevas según Origen NO DEBE ser MAYOR que el total de Consultas y Controles médicos.","") | CM41: =IF(V41+W41<>B41,1,0) -> 0 | CN41: =IF(AND(B41>0,U41=""),1,IF(U41>B41,1,0)) -> 0 | CO41: =IF((X41+AB41)>B41,1,0) -> 0
A42: Psiquiatría Adulto | B42: =SUM(C42:T42) -> 327 | C42: 0 | D42: 0 | E42: 0 | F42: 0 | G42: 5 | H42: 30 | I42: 26 | J42: 46 | K42: 32 | L42: 31 | M42: 44 | N42: 21 | O42: 32 | P42: 30 | Q42: 14 | R42: 12 | S42: 4 | T42: 0 | U42: 327 | V42: 148 | W42: 179 | X42: =SUM(Y42+Z42+AA42) -> 0 | Y42: 0 | Z42: 0 | AA42: 0 | AB42: =SUM(AC42+AD42+AE42) -> 59 | AC42: 11 | AD42: 47 | AE42: 1 | AF42: 0 | AG42: 124 | AH42: =CB42&CC42&CD42 | CB42: =IF(V42+W42<>B42," * La suma por Sexo (Hombres + Mujeres) NO DEBEN ser diferente al Total","") | CC42: =IF(AND(B42>0,U42="")," * No olvide digitar la variable Beneficiarios. Digite CERO si no tiene",IF(U42>B42," * La variable Beneficiarios No puede ser mayor al Total.","")) | CD42: =IF((X42+AB42)>B42," * La suma del Total de Consultas Nuevas según Origen NO DEBE ser MAYOR que el total de Consultas y Controles médicos.","") | CM42: =IF(V42+W42<>B42,1,0) -> 0 | CN42: =IF(AND(B42>0,U42=""),1,IF(U42>B42,1,0)) -> 0 | CO42: =IF((X42+AB42)>B42,1,0) -> 0
A43: Cirugía Pediátrica | B43: =SUM(C43:T43) -> 151 | C43: 60 | D43: 70 | E43: 21 | F43: 0 | G43: 0 | H43: 0 | I43: 0 | J43: 0 | K43: 0 | L43: 0 | M43: 0 | N43: 0 | O43: 0 | P43: 0 | Q43: 0 | R43: 0 | S43: 0 | T43: 0 | U43: 151 | V43: 131 | W43: 20 | X43: =SUM(Y43+Z43+AA43) -> 44 | Y43: 30 | Z43: 14 | AA43: 0 | AB43: =SUM(AC43+AD43+AE43) -> 32 | AC43: 21 | AD43: 11 | AE43: 0 | AF43: 0 | AG43: 0 | AH43: =CB43&CC43&CD43 | CB43: =IF(V43+W43<>B43," * La suma por Sexo (Hombres + Mujeres) NO DEBEN ser diferente al Total","") | CC43: =IF(AND(B43>0,U43="")," * No olvide digitar la variable Beneficiarios. Digite CERO si no tiene",IF(U43>B43," * La variable Beneficiarios No puede ser mayor al Total.","")) | CD43: =IF((X43+AB43)>B43," * La suma del Total de Consultas Nuevas según Origen NO DEBE ser MAYOR que el total de Consultas y Controles médicos.","") | CM43: =IF(V43+W43<>B43,1,0) -> 0 | CN43: =IF(AND(B43>0,U43=""),1,IF(U43>B43,1,0)) -> 0 | CO43: =IF((X43+AB43)>B43,1,0) -> 0
A44: Cirugía General | B44: =SUM(C44:T44) -> 805 | C44: 0 | D44: 0 | E44: 1 | F44: 4 | G44: 1 | H44: 15 | I44: 20 | J44: 25 | K44: 43 | L44: 37 | M44: 58 | N44: 65 | O44: 104 | P44: 97 | Q44: 106 | R44: 96 | S44: 77 | T44: 56 | U44: 805 | V44: 293 | W44: 512 | X44: =SUM(Y44+Z44+AA44) -> 2 | Y44: 0 | Z44: 2 | AA44: 0 | AB44: =SUM(AC44+AD44+AE44) -> 324 | AC44: 212 | AD44: 112 | AE44: 0 | AF44: 0 | AG44: 0 | AH44: =CB44&CC44&CD44 | CB44: =IF(V44+W44<>B44," * La suma por Sexo (Hombres + Mujeres) NO DEBEN ser diferente al Total","") | CC44: =IF(AND(B44>0,U44="")," * No olvide digitar la variable Beneficiarios. Digite CERO si no tiene",IF(U44>B44," * La variable Beneficiarios No puede ser mayor al Total.","")) | CD44: =IF((X44+AB44)>B44," * La suma del Total de Consultas Nuevas según Origen NO DEBE ser MAYOR que el total de Consultas y Controles médicos.","") | CM44: =IF(V44+W44<>B44,1,0) -> 0 | CN44: =IF(AND(B44>0,U44=""),1,IF(U44>B44,1,0)) -> 0 | CO44: =IF((X44+AB44)>B44,1,0) -> 0
A45: Cirugía Digestiva (Alta) | B45: =SUM(C45:T45) -> 34 | C45: 0 | D45: 0 | E45: 0 | F45: 0 | G45: 0 | H45: 0 | I45: 1 | J45: 0 | K45: 1 | L45: 0 | M45: 5 | N45: 0 | O45: 1 | P45: 4 | Q45: 8 | R45: 5 | S45: 6 | T45: 3 | U45: 34 | V45: 13 | W45: 21 | X45: =SUM(Y45+Z45+AA45) -> 0 | Y45: 0 | Z45: 0 | AA45: 0 | AB45: =SUM(AC45+AD45+AE45) -> 19 | AC45: 8 | AD45: 11 | AE45: 0 | AF45: 0 | AG45: 0 | AH45: =CB45&CC45&CD45 | CB45: =IF(V45+W45<>B45," * La suma por Sexo (Hombres + Mujeres) NO DEBEN ser diferente al Total","") | CC45: =IF(AND(B45>0,U45="")," * No olvide digitar la variable Beneficiarios. Digite CERO si no tiene",IF(U45>B45," * La variable Beneficiarios No puede ser mayor al Total.","")) | CD45: =IF((X45+AB45)>B45," * La suma del Total de Consultas Nuevas según Origen NO DEBE ser MAYOR que el total de Consultas y Controles médicos.","") | CM45: =IF(V45+W45<>B45,1,0) -> 0 | CN45: =IF(AND(B45>0,U45=""),1,IF(U45>B45,1,0)) -> 0 | CO45: =IF((X45+AB45)>B45,1,0) -> 0
A46: Cirugía de Cabeza, Cuello y Maxilofacial | B46: =SUM(C46:T46) -> 0 | X46: =SUM(Y46+Z46+AA46) -> 0 | Y46: 0 | Z46: 0 | AA46: 0 | AB46: =SUM(AC46+AD46+AE46) -> 0 | AC46: 0 | AD46: 0 | AE46: 0 | AF46: 0 | AG46: 0 | AH46: =CB46&CC46&CD46 | CB46: =IF(V46+W46<>B46," * La suma por Sexo (Hombres + Mujeres) NO DEBEN ser diferente al Total","") | CC46: =IF(AND(B46>0,U46="")," * No olvide digitar la variable Beneficiarios. Digite CERO si no tiene",IF(U46>B46," * La variable Beneficiarios No puede ser mayor al Total.","")) | CD46: =IF((X46+AB46)>B46," * La suma del Total de Consultas Nuevas según Origen NO DEBE ser MAYOR que el total de Consultas y Controles médicos.","") | CM46: =IF(V46+W46<>B46,1,0) -> 0 | CN46: =IF(AND(B46>0,U46=""),1,IF(U46>B46,1,0)) -> 0 | CO46: =IF((X46+AB46)>B46,1,0) -> 0
A47: Cirugía Plástica y Reparadora | B47: =SUM(C47:T47) -> 0 | X47: =SUM(Y47+Z47+AA47) -> 0 | Y47: 0 | Z47: 0 | AA47: 0 | AB47: =SUM(AC47+AD47+AE47) -> 0 | AC47: 0 | AD47: 0 | AE47: 0 | AF47: 0 | AG47: 0 | AH47: =CB47&CC47&CD47 | CB47: =IF(V47+W47<>B47," * La suma por Sexo (Hombres + Mujeres) NO DEBEN ser diferente al Total","") | CC47: =IF(AND(B47>0,U47="")," * No olvide digitar la variable Beneficiarios. Digite CERO si no tiene",IF(U47>B47," * La variable Beneficiarios No puede ser mayor al Total.","")) | CD47: =IF((X47+AB47)>B47," * La suma del Total de Consultas Nuevas según Origen NO DEBE ser MAYOR que el total de Consultas y Controles médicos.","") | CM47: =IF(V47+W47<>B47,1,0) -> 0 | CN47: =IF(AND(B47>0,U47=""),1,IF(U47>B47,1,0)) -> 0 | CO47: =IF((X47+AB47)>B47,1,0) -> 0
A48: Medicina del Deporte | B48: =SUM(C48:T48) -> 0 | X48: =SUM(Y48+Z48+AA48) -> 0 | Y48: 0 | Z48: 0 | AA48: 0 | AB48: =SUM(AC48+AD48+AE48) -> 0 | AC48: 0 | AD48: 0 | AE48: 0 | AF48: 0 | AG48: 0 | AH48: =CB48&CC48&CD48 | CB48: =IF(V48+W48<>B48," * La suma por Sexo (Hombres + Mujeres) NO DEBEN ser diferente al Total","") | CC48: =IF(AND(B48>0,U48="")," * No olvide digitar la variable Beneficiarios. Digite CERO si no tiene",IF(U48>B48," * La variable Beneficiarios No puede ser mayor al Total.","")) | CD48: =IF((X48+AB48)>B48," * La suma del Total de Consultas Nuevas según Origen NO DEBE ser MAYOR que el total de Consultas y Controles médicos.","") | CM48: =IF(V48+W48<>B48,1,0) -> 0 | CN48: =IF(AND(B48>0,U48=""),1,IF(U48>B48,1,0)) -> 0 | CO48: =IF((X48+AB48)>B48,1,0) -> 0
A49: Coloproctología (Cirugía Digestiva Baja) | B49: =SUM(C49:T49) -> 0 | X49: =SUM(Y49+Z49+AA49) -> 0 | Y49: 0 | Z49: 0 | AA49: 0 | AB49: =SUM(AC49+AD49+AE49) -> 0 | AC49: 0 | AD49: 0 | AE49: 0 | AF49: 0 | AG49: 0 | AH49: =CB49&CC49&CD49 | CB49: =IF(V49+W49<>B49," * La suma por Sexo (Hombres + Mujeres) NO DEBEN ser diferente al Total","") | CC49: =IF(AND(B49>0,U49="")," * No olvide digitar la variable Beneficiarios. Digite CERO si no tiene",IF(U49>B49," * La variable Beneficiarios No puede ser mayor al Total.","")) | CD49: =IF((X49+AB49)>B49," * La suma del Total de Consultas Nuevas según Origen NO DEBE ser MAYOR que el total de Consultas y Controles médicos.","") | CM49: =IF(V49+W49<>B49,1,0) -> 0 | CN49: =IF(AND(B49>0,U49=""),1,IF(U49>B49,1,0)) -> 0 | CO49: =IF((X49+AB49)>B49,1,0) -> 0
A50: Cirugía Tórax | B50: =SUM(C50:T50) -> 0 | X50: =SUM(Y50+Z50+AA50) -> 0 | Y50: 0 | Z50: 0 | AA50: 0 | AB50: =SUM(AC50+AD50+AE50) -> 0 | AC50: 0 | AD50: 0 | AE50: 0 | AF50: 0 | AG50: 0 | AH50: =CB50&CC50&CD50 | CB50: =IF(V50+W50<>B50," * La suma por Sexo (Hombres + Mujeres) NO DEBEN ser diferente al Total","") | CC50: =IF(AND(B50>0,U50="")," * No olvide digitar la variable Beneficiarios. Digite CERO si no tiene",IF(U50>B50," * La variable Beneficiarios No puede ser mayor al Total.","")) | CD50: =IF((X50+AB50)>B50," * La suma del Total de Consultas Nuevas según Origen NO DEBE ser MAYOR que el total de Consultas y Controles médicos.","") | CM50: =IF(V50+W50<>B50,1,0) -> 0 | CN50: =IF(AND(B50>0,U50=""),1,IF(U50>B50,1,0)) -> 0 | CO50: =IF((X50+AB50)>B50,1,0) -> 0
A51: Cirugía Vascular Periférica | B51: =SUM(C51:T51) -> 15 | C51: 0 | D51: 0 | E51: 0 | F51: 0 | G51: 0 | H51: 0 | I51: 0 | J51: 0 | K51: 0 | L51: 1 | M51: 1 | N51: 0 | O51: 3 | P51: 4 | Q51: 1 | R51: 4 | S51: 1 | T51: 0 | U51: 15 | V51: 10 | W51: 5 | X51: =SUM(Y51+Z51+AA51) -> 0 | Y51: 0 | Z51: 0 | AA51: 0 | AB51: =SUM(AC51+AD51+AE51) -> 11 | AC51: 4 | AD51: 7 | AE51: 0 | AF51: 0 | AG51: 0 | AH51: =CB51&CC51&CD51 | CB51: =IF(V51+W51<>B51," * La suma por Sexo (Hombres + Mujeres) NO DEBEN ser diferente al Total","") | CC51: =IF(AND(B51>0,U51="")," * No olvide digitar la variable Beneficiarios. Digite CERO si no tiene",IF(U51>B51," * La variable Beneficiarios No puede ser mayor al Total.","")) | CD51: =IF((X51+AB51)>B51," * La suma del Total de Consultas Nuevas según Origen NO DEBE ser MAYOR que el total de Consultas y Controles médicos.","") | CM51: =IF(V51+W51<>B51,1,0) -> 0 | CN51: =IF(AND(B51>0,U51=""),1,IF(U51>B51,1,0)) -> 0 | CO51: =IF((X51+AB51)>B51,1,0) -> 0
A52: Neurocirugía | B52: =SUM(C52:T52) -> 0 | C52: 0 | D52: 0 | E52: 0 | F52: 0 | G52: 0 | H52: 0 | I52: 0 | J52: 0 | K52: 0 | L52: 0 | M52: 0 | N52: 0 | O52: 0 | P52: 0 | Q52: 0 | R52: 0 | S52: 0 | T52: 0 | U52: 0 | V52: 0 | W52: 0 | X52: =SUM(Y52+Z52+AA52) -> 0 | Y52: 0 | Z52: 0 | AA52: 0 | AB52: =SUM(AC52+AD52+AE52) -> 0 | AC52: 0 | AD52: 0 | AE52: 0 | AF52: 0 | AG52: 0 | AH52: =CB52&CC52&CD52 | CB52: =IF(V52+W52<>B52," * La suma por Sexo (Hombres + Mujeres) NO DEBEN ser diferente al Total","") | CC52: =IF(AND(B52>0,U52="")," * No olvide digitar la variable Beneficiarios. Digite CERO si no tiene",IF(U52>B52," * La variable Beneficiarios No puede ser mayor al Total.","")) | CD52: =IF((X52+AB52)>B52," * La suma del Total de Consultas Nuevas según Origen NO DEBE ser MAYOR que el total de Consultas y Controles médicos.","") | CM52: =IF(V52+W52<>B52,1,0) -> 0 | CN52: =IF(AND(B52>0,U52=""),1,IF(U52>B52,1,0)) -> 0 | CO52: =IF((X52+AB52)>B52,1,0) -> 0
A53: Cirugía Cardiovascular | B53: =SUM(C53:T53) -> 0 | C53: 0 | D53: 0 | E53: 0 | F53: 0 | G53: 0 | H53: 0 | I53: 0 | J53: 0 | K53: 0 | L53: 0 | M53: 0 | N53: 0 | O53: 0 | P53: 0 | Q53: 0 | R53: 0 | S53: 0 | T53: 0 | U53: 0 | V53: 0 | W53: 0 | X53: =SUM(Y53+Z53+AA53) -> 0 | Y53: 0 | Z53: 0 | AA53: 0 | AB53: =SUM(AC53+AD53+AE53) -> 0 | AC53: 0 | AD53: 0 | AE53: 0 | AF53: 0 | AG53: 0 | AH53: =CB53&CC53&CD53 | CB53: =IF(V53+W53<>B53," * La suma por Sexo (Hombres + Mujeres) NO DEBEN ser diferente al Total","") | CC53: =IF(AND(B53>0,U53="")," * No olvide digitar la variable Beneficiarios. Digite CERO si no tiene",IF(U53>B53," * La variable Beneficiarios No puede ser mayor al Total.","")) | CD53: =IF((X53+AB53)>B53," * La suma del Total de Consultas Nuevas según Origen NO DEBE ser MAYOR que el total de Consultas y Controles médicos.","") | CM53: =IF(V53+W53<>B53,1,0) -> 0 | CN53: =IF(AND(B53>0,U53=""),1,IF(U53>B53,1,0)) -> 0 | CO53: =IF((X53+AB53)>B53,1,0) -> 0
A54: Anestesiología | B54: =SUM(C54:T54) -> 159 | C54: 0 | D54: 2 | E54: 0 | F54: 0 | G54: 0 | H54: 2 | I54: 1 | J54: 3 | K54: 4 | L54: 1 | M54: 7 | N54: 7 | O54: 8 | P54: 20 | Q54: 20 | R54: 24 | S54: 22 | T54: 38 | U54: 159 | V54: 65 | W54: 94 | X54: =SUM(Y54+Z54+AA54) -> 0 | Y54: 0 | Z54: 0 | AA54: 0 | AB54: =SUM(AC54+AD54+AE54) -> 26 | AC54: 2 | AD54: 24 | AE54: 0 | AF54: 0 | AG54: 0 | AH54: =CB54&CC54&CD54 | CB54: =IF(V54+W54<>B54," * La suma por Sexo (Hombres + Mujeres) NO DEBEN ser diferente al Total","") | CC54: =IF(AND(B54>0,U54="")," * No olvide digitar la variable Beneficiarios. Digite CERO si no tiene",IF(U54>B54," * La variable Beneficiarios No puede ser mayor al Total.","")) | CD54: =IF((X54+AB54)>B54," * La suma del Total de Consultas Nuevas según Origen NO DEBE ser MAYOR que el total de Consultas y Controles médicos.","") | CM54: =IF(V54+W54<>B54,1,0) -> 0 | CN54: =IF(AND(B54>0,U54=""),1,IF(U54>B54,1,0)) -> 0 | CO54: =IF((X54+AB54)>B54,1,0) -> 0
A55: Obstetricia y Ginecología | B55: =SUM(C55:T55) -> 569 | C55: 0 | D55: 8 | E55: 9 | F55: 9 | G55: 5 | H55: 24 | I55: 65 | J55: 98 | K55: 86 | L55: 55 | M55: 53 | N55: 35 | O55: 22 | P55: 35 | Q55: 23 | R55: 20 | S55: 13 | T55: 9 | U55: 569 | V55: 3 | W55: 566 | X55: =SUM(Y55+Z55+AA55) -> 6 | Y55: 0 | Z55: 6 | AA55: 0 | AB55: =SUM(AC55+AD55+AE55) -> 213 | AC55: 57 | AD55: 155 | AE55: 1 | AF55: 0 | AG55: 0 | AH55: =CB55&CC55&CD55 | CB55: =IF(V55+W55<>B55," * La suma por Sexo (Hombres + Mujeres) NO DEBEN ser diferente al Total","") | CC55: =IF(AND(B55>0,U55="")," * No olvide digitar la variable Beneficiarios. Digite CERO si no tiene",IF(U55>B55," * La variable Beneficiarios No puede ser mayor al Total.","")) | CD55: =IF((X55+AB55)>B55," * La suma del Total de Consultas Nuevas según Origen NO DEBE ser MAYOR que el total de Consultas y Controles médicos.","") | CM55: =IF(V55+W55<>B55,1,0) -> 0 | CN55: =IF(AND(B55>0,U55=""),1,IF(U55>B55,1,0)) -> 0 | CO55: =IF((X55+AB55)>B55,1,0) -> 0
A56: Ginecología oncológica | B56: =SUM(C56:T56) -> 0 | C56: 0 | D56: 0 | E56: 0 | F56: 0 | G56: 0 | H56: 0 | I56: 0 | J56: 0 | K56: 0 | L56: 0 | M56: 0 | N56: 0 | O56: 0 | P56: 0 | Q56: 0 | R56: 0 | S56: 0 | T56: 0 | U56: 0 | V56: 0 | W56: 0 | X56: =SUM(Y56+Z56+AA56) -> 0 | Y56: 0 | Z56: 0 | AA56: 0 | AB56: =SUM(AC56+AD56+AE56) -> 0 | AC56: 0 | AD56: 0 | AE56: 0 | AF56: 0 | AG56: 0 | AH56: =CB56&CC56&CD56 | CB56: =IF(V56+W56<>B56," * La suma por Sexo (Hombres + Mujeres) NO DEBEN ser diferente al Total","") | CC56: =IF(AND(B56>0,U56="")," * No olvide digitar la variable Beneficiarios. Digite CERO si no tiene",IF(U56>B56," * La variable Beneficiarios No puede ser mayor al Total.","")) | CD56: =IF((X56+AB56)>B56," * La suma del Total de Consultas Nuevas según Origen NO DEBE ser MAYOR que el total de Consultas y Controles médicos.","") | CM56: =IF(V56+W56<>B56,1,0) -> 0 | CN56: =IF(AND(B56>0,U56=""),1,IF(U56>B56,1,0)) -> 0 | CO56: =IF((X56+AB56)>B56,1,0) -> 0
A57: Neurorradiologia | B57: =SUM(C57:T57) -> 0 | C57: 0 | D57: 0 | E57: 0 | F57: 0 | G57: 0 | H57: 0 | I57: 0 | J57: 0 | K57: 0 | L57: 0 | M57: 0 | N57: 0 | O57: 0 | P57: 0 | Q57: 0 | R57: 0 | S57: 0 | T57: 0 | U57: 0 | V57: 0 | W57: 0 | X57: =SUM(Y57+Z57+AA57) -> 0 | Y57: 0 | Z57: 0 | AA57: 0 | AB57: =SUM(AC57+AD57+AE57) -> 0 | AC57: 0 | AD57: 0 | AE57: 0 | AF57: 0 | AG57: 0 | AH57: =CB57&CC57&CD57 | CB57: =IF(V57+W57<>B57," * La suma por Sexo (Hombres + Mujeres) NO DEBEN ser diferente al Total","") | CC57: =IF(AND(B57>0,U57="")," * No olvide digitar la variable Beneficiarios. Digite CERO si no tiene",IF(U57>B57," * La variable Beneficiarios No puede ser mayor al Total.","")) | CD57: =IF((X57+AB57)>B57," * La suma del Total de Consultas Nuevas según Origen NO DEBE ser MAYOR que el total de Consultas y Controles médicos.","") | CM57: =IF(V57+W57<>B57,1,0) -> 0 | CN57: =IF(AND(B57>0,U57=""),1,IF(U57>B57,1,0)) -> 0 | CO57: =IF((X57+AB57)>B57,1,0) -> 0
A58: Oftalmología | B58: =SUM(C58:T58) -> 789 | C58: 2 | D58: 3 | E58: 3 | F58: 1 | G58: 3 | H58: 2 | I58: 4 | J58: 6 | K58: 11 | L58: 7 | M58: 6 | N58: 24 | O58: 25 | P58: 73 | Q58: 120 | R58: 155 | S58: 171 | T58: 173 | U58: 789 | V58: 331 | W58: 458 | X58: =SUM(Y58+Z58+AA58) -> 2 | Y58: 0 | Z58: 2 | AA58: 0 | AB58: =SUM(AC58+AD58+AE58) -> 302 | AC58: 82 | AD58: 220 | AE58: 0 | AF58: 0 | AG58: 0 | AH58: =CB58&CC58&CD58 | CB58: =IF(V58+W58<>B58," * La suma por Sexo (Hombres + Mujeres) NO DEBEN ser diferente al Total","") | CC58: =IF(AND(B58>0,U58="")," * No olvide digitar la variable Beneficiarios. Digite CERO si no tiene",IF(U58>B58," * La variable Beneficiarios No puede ser mayor al Total.","")) | CD58: =IF((X58+AB58)>B58," * La suma del Total de Consultas Nuevas según Origen NO DEBE ser MAYOR que el total de Consultas y Controles médicos.","") | CM58: =IF(V58+W58<>B58,1,0) -> 0 | CN58: =IF(AND(B58>0,U58=""),1,IF(U58>B58,1,0)) -> 0 | CO58: =IF((X58+AB58)>B58,1,0) -> 0
A59: Otorrinolaringología | B59: =SUM(C59:T59) -> 379 | C59: 19 | D59: 37 | E59: 25 | F59: 7 | G59: 2 | H59: 8 | I59: 4 | J59: 3 | K59: 5 | L59: 8 | M59: 8 | N59: 11 | O59: 5 | P59: 8 | Q59: 25 | R59: 43 | S59: 69 | T59: 92 | U59: 379 | V59: 200 | W59: 179 | X59: =SUM(Y59+Z59+AA59) -> 19 | Y59: 4 | Z59: 15 | AA59: 0 | AB59: =SUM(AC59+AD59+AE59) -> 249 | AC59: 65 | AD59: 184 | AE59: 0 | AF59: 0 | AG59: 0 | AH59: =CB59&CC59&CD59 | CB59: =IF(V59+W59<>B59," * La suma por Sexo (Hombres + Mujeres) NO DEBEN ser diferente al Total","") | CC59: =IF(AND(B59>0,U59="")," * No olvide digitar la variable Beneficiarios. Digite CERO si no tiene",IF(U59>B59," * La variable Beneficiarios No puede ser mayor al Total.","")) | CD59: =IF((X59+AB59)>B59," * La suma del Total de Consultas Nuevas según Origen NO DEBE ser MAYOR que el total de Consultas y Controles médicos.","") | CM59: =IF(V59+W59<>B59,1,0) -> 0 | CN59: =IF(AND(B59>0,U59=""),1,IF(U59>B59,1,0)) -> 0 | CO59: =IF((X59+AB59)>B59,1,0) -> 0
A60: Traumatología y Ortopedia | B60: =SUM(C60:T60) -> 1039 | C60: 92 | D60: 76 | E60: 86 | F60: 25 | G60: 13 | H60: 33 | I60: 26 | J60: 38 | K60: 36 | L60: 50 | M60: 58 | N60: 66 | O60: 86 | P60: 96 | Q60: 92 | R60: 71 | S60: 50 | T60: 45 | U60: 1039 | V60: 442 | W60: 597 | X60: =SUM(Y60+Z60+AA60) -> 90 | Y60: 25 | Z60: 65 | AA60: 0 | AB60: =SUM(AC60+AD60+AE60) -> 335 | AC60: 114 | AD60: 221 | AE60: 0 | AF60: 0 | AG60: 0 | AH60: =CB60&CC60&CD60 | CB60: =IF(V60+W60<>B60," * La suma por Sexo (Hombres + Mujeres) NO DEBEN ser diferente al Total","") | CC60: =IF(AND(B60>0,U60="")," * No olvide digitar la variable Beneficiarios. Digite CERO si no tiene",IF(U60>B60," * La variable Beneficiarios No puede ser mayor al Total.","")) | CD60: =IF((X60+AB60)>B60," * La suma del Total de Consultas Nuevas según Origen NO DEBE ser MAYOR que el total de Consultas y Controles médicos.","") | CM60: =IF(V60+W60<>B60,1,0) -> 0 | CN60: =IF(AND(B60>0,U60=""),1,IF(U60>B60,1,0)) -> 0 | CO60: =IF((X60+AB60)>B60,1,0) -> 0
A61: Urología | B61: =SUM(C61:T61) -> 338 | C61: 0 | D61: 0 | E61: 0 | F61: 5 | G61: 2 | H61: 6 | I61: 2 | J61: 6 | K61: 11 | L61: 4 | M61: 6 | N61: 16 | O61: 26 | P61: 30 | Q61: 46 | R61: 66 | S61: 57 | T61: 55 | U61: 338 | V61: 274 | W61: 64 | X61: =SUM(Y61+Z61+AA61) -> 1 | Y61: 1 | Z61: 0 | AA61: 0 | AB61: =SUM(AC61+AD61+AE61) -> 83 | AC61: 58 | AD61: 25 | AE61: 0 | AF61: 1 | AG61: 130 | AH61: =CB61&CC61&CD61 | CB61: =IF(V61+W61<>B61," * La suma por Sexo (Hombres + Mujeres) NO DEBEN ser diferente al Total","") | CC61: =IF(AND(B61>0,U61="")," * No olvide digitar la variable Beneficiarios. Digite CERO si no tiene",IF(U61>B61," * La variable Beneficiarios No puede ser mayor al Total.","")) | CD61: =IF((X61+AB61)>B61," * La suma del Total de Consultas Nuevas según Origen NO DEBE ser MAYOR que el total de Consultas y Controles médicos.","") | CM61: =IF(V61+W61<>B61,1,0) -> 0 | CN61: =IF(AND(B61>0,U61=""),1,IF(U61>B61,1,0)) -> 0 | CO61: =IF((X61+AB61)>B61,1,0) -> 0
A62: Medicina Familiar | B62: =SUM(C62:T62) -> 58 | C62: 0 | D62: 0 | E62: 0 | F62: 0 | G62: 0 | H62: 0 | I62: 0 | J62: 0 | K62: 3 | L62: 2 | M62: 2 | N62: 2 | O62: 3 | P62: 5 | Q62: 5 | R62: 6 | S62: 14 | T62: 16 | U62: 58 | V62: 24 | W62: 34 | X62: =SUM(Y62+Z62+AA62) -> 0 | Y62: 0 | Z62: 0 | AA62: 0 | AB62: =SUM(AC62+AD62+AE62) -> 33 | AC62: 1 | AD62: 32 | AE62: 0 | AF62: 0 | AG62: 0 | AH62: =CB62&CC62&CD62 | CB62: =IF(V62+W62<>B62," * La suma por Sexo (Hombres + Mujeres) NO DEBEN ser diferente al Total","") | CC62: =IF(AND(B62>0,U62="")," * No olvide digitar la variable Beneficiarios. Digite CERO si no tiene",IF(U62>B62," * La variable Beneficiarios No puede ser mayor al Total.","")) | CD62: =IF((X62+AB62)>B62," * La suma del Total de Consultas Nuevas según Origen NO DEBE ser MAYOR que el total de Consultas y Controles médicos.","") | CM62: =IF(V62+W62<>B62,1,0) -> 0 | CN62: =IF(AND(B62>0,U62=""),1,IF(U62>B62,1,0)) -> 0 | CO62: =IF((X62+AB62)>B62,1,0) -> 0
A63: Diabetología | B63: =SUM(C63:T63) -> 0 | X63: =SUM(Y63+Z63+AA63) -> 0 | Y63: 0 | Z63: 0 | AA63: 0 | AB63: =SUM(AC63+AD63+AE63) -> 0 | AC63: 0 | AD63: 0 | AE63: 0 | AF63: 0 | AG63: 0 | AH63: =CB63&CC63&CD63 | CB63: =IF(V63+W63<>B63," * La suma por Sexo (Hombres + Mujeres) NO DEBEN ser diferente al Total","") | CC63: =IF(AND(B63>0,U63="")," * No olvide digitar la variable Beneficiarios. Digite CERO si no tiene",IF(U63>B63," * La variable Beneficiarios No puede ser mayor al Total.","")) | CD63: =IF((X63+AB63)>B63," * La suma del Total de Consultas Nuevas según Origen NO DEBE ser MAYOR que el total de Consultas y Controles médicos.","") | CM63: =IF(V63+W63<>B63,1,0) -> 0 | CN63: =IF(AND(B63>0,U63=""),1,IF(U63>B63,1,0)) -> 0 | CO63: =IF((X63+AB63)>B63,1,0) -> 0
A64: Medicina Nuclear (Excluye Informes) | B64: =SUM(C64:T64) -> 0 | X64: =SUM(Y64+Z64+AA64) -> 0 | Y64: 0 | Z64: 0 | AA64: 0 | AB64: =SUM(AC64+AD64+AE64) -> 0 | AC64: 0 | AD64: 0 | AE64: 0 | AF64: 0 | AG64: 0 | AH64: =CB64&CC64&CD64 | CB64: =IF(V64+W64<>B64," * La suma por Sexo (Hombres + Mujeres) NO DEBEN ser diferente al Total","") | CC64: =IF(AND(B64>0,U64="")," * No olvide digitar la variable Beneficiarios. Digite CERO si no tiene",IF(U64>B64," * La variable Beneficiarios No puede ser mayor al Total.","")) | CD64: =IF((X64+AB64)>B64," * La suma del Total de Consultas Nuevas según Origen NO DEBE ser MAYOR que el total de Consultas y Controles médicos.","") | CM64: =IF(V64+W64<>B64,1,0) -> 0 | CN64: =IF(AND(B64>0,U64=""),1,IF(U64>B64,1,0)) -> 0 | CO64: =IF((X64+AB64)>B64,1,0) -> 0
A65: Imagenología | B65: =SUM(C65:T65) -> 0 | X65: =SUM(Y65+Z65+AA65) -> 0 | Y65: 0 | Z65: 0 | AA65: 0 | AB65: =SUM(AC65+AD65+AE65) -> 0 | AC65: 0 | AD65: 0 | AE65: 0 | AF65: 0 | AG65: 0 | AH65: =CB65&CC65&CD65 | CB65: =IF(V65+W65<>B65," * La suma por Sexo (Hombres + Mujeres) NO DEBEN ser diferente al Total","") | CC65: =IF(AND(B65>0,U65="")," * No olvide digitar la variable Beneficiarios. Digite CERO si no tiene",IF(U65>B65," * La variable Beneficiarios No puede ser mayor al Total.","")) | CD65: =IF((X65+AB65)>B65," * La suma del Total de Consultas Nuevas según Origen NO DEBE ser MAYOR que el total de Consultas y Controles médicos.","") | CM65: =IF(V65+W65<>B65,1,0) -> 0 | CN65: =IF(AND(B65>0,U65=""),1,IF(U65>B65,1,0)) -> 0 | CO65: =IF((X65+AB65)>B65,1,0) -> 0
A66: Radioterapia Oncológica | B66: =SUM(C66:T66) -> 0 | X66: =SUM(Y66+Z66+AA66) -> 0 | Y66: 0 | Z66: 0 | AA66: 0 | AB66: =SUM(AC66+AD66+AE66) -> 0 | AC66: 0 | AD66: 0 | AE66: 0 | AF66: 0 | AG66: 0 | AH66: =CB66&CC66&CD66 | CB66: =IF(V66+W66<>B66," * La suma por Sexo (Hombres + Mujeres) NO DEBEN ser diferente al Total","") | CC66: =IF(AND(B66>0,U66="")," * No olvide digitar la variable Beneficiarios. Digite CERO si no tiene",IF(U66>B66," * La variable Beneficiarios No puede ser mayor al Total.","")) | CD66: =IF((X66+AB66)>B66," * La suma del Total de Consultas Nuevas según Origen NO DEBE ser MAYOR que el total de Consultas y Controles médicos.","") | CM66: =IF(V66+W66<>B66,1,0) -> 0 | CN66: =IF(AND(B66>0,U66=""),1,IF(U66>B66,1,0)) -> 0 | CO66: =IF((X66+AB66)>B66,1,0) -> 0
A67: TOTAL | B67: =SUM(B12:B66) -> 7014 | C67: =SUM(C12:C66) -> 452 | D67: =SUM(D12:D66) -> 397 | E67: =SUM(E12:E66) -> 315 | F67: =SUM(F12:F66) -> 133 | G67: =SUM(G12:G66) -> 44 | H67: =SUM(H12:H66) -> 160 | I67: =SUM(I12:I66) -> 190 | ... AG67: =SUM(AG12:AG66) -> 304
A68: SECCIÓN A.1: ATRIBUTOS DE LAS ATENCIONES DE ESPECIALIDAD
A69: ESPECIALIDADES Y SUB-ESPECIALIDADES | B69: Interconsultas pertinentes según Criterio Clínico | F69: Consultas pertinentes según tiempo establecido en Box | J69: Consultas pertinentes según Criterio Clínico en Box | N69: Contrarreferencia inicial o retorno | Q69: Contrarreferencia al alta | S69: Alta de Consulta de Especialidad Ambulatoria | U69: Inasistente a consulta médica (NSP) | W69: CONSULTA ABREVIADA (Confección de recetas o lectura de exámenes) | X69: Atención Especialista en Sala | Z69: Consultas realizadas en APS e informadas (contenidas en sección A) | AB69: Compra de Servicios (No incluidas en total de atenciones) | AD69: Consultas Médicas por Operativos (no incluidas en produccion) | AE69: Total Interconsultas generadas en APS para derivación Especialidad | AG69: Consultorías de Médicos Especialistas otorgadas
B70: Total | C70: APS | D70: CDT/CAE/CRS/Hospitalizado | E70: Urgencia | F70: Total | G70: APS | H70: CDT/CAE/CRS/Hospitalizado | I70: Urgencia | J70: Total | K70: APS | L70: CDT/CAE/CRS/Hospitalizado | M70: Urgencia | N70: Total | O70: Menos 18 años | P70: 18 y más años | Q70: Menos 18 años | R70: 18 y más años | S70: Menos 18 años | T70: 18 y más años | U70: Nuevas | V70: Controles | X70: Menos 18 años | Y70: 18 y más años | Z70: Contratados por el Establecimiento o Dirección del Servicio | AA70: Especialistas de Hospitales | AB70: Red Pública | AC70: Privados | AE70: Menos 18 años | AF70: 18 y más años | AG70: Nº Consultorías | AH70: Nº de casos revisados por el equipo | AI70: Nº de casos atendidos
A71: Pediatría | B71: =SUM(C71:E71) -> 0 | F71: =SUM(G71:I71) -> 46 | G71: 41 | H71: 5 | I71: 0 | J71: =SUM(K71:M71) -> 29 | K71: 25 | L71: 4 | M71: 0 | N71: =SUM(O71:P71) -> 47 | O71: 47 | P71: 0 | Q71: 2 | R71: 0 | S71: 7 | T71: 2 | U71: 9 | V71: 17 | W71: 140 | X71: 0 | Y71: 0 | Z71: 0 | AA71: 0 | AB71: 0
A72: Medicina Interna | B72: =SUM(C72:E72) -> 0 | F72: =SUM(G72:I72) -> 64 | G72: 57 | H72: 7 | I72: 0 | J72: =SUM(K72:M72) -> 80 | K72: 73 | L72: 7 | M72: 0 | N72: =SUM(O72:P72) -> 88 | O72: 0 | P72: 88 | Q72: 0 | R72: 12 | S72: 0 | T72: 32 | U72: 39 | V72: 70 | W72: 1726 | X72: 0 | Y72: 89 | Z72: 0 | AA72: 0 | AB72: 0
A73: Neonatología | B73: =SUM(C73:E73) -> 0 | F73: =SUM(G73:I73) -> 0 | G73: 0 | H73: 0 | I73: 0 | J73: =SUM(K73:M73) -> 0 | K73: 0 | L73: 0 | M73: 0 | N73: =SUM(O73:P73) -> 0 | O73: 0 | P73: 0 | Q73: 0 | R73: 0 | S73: 0 | T73: 0 | U73: 0 | V73: 0 | W73: 0 | X73: 0 | Y73: 0 | Z73: 0 | AA73: 0 | AB73: 0
A74: Enfermedad Respiratoria Pediátrica (Broncopulmonar Infantil) | B74: =SUM(C74:E74) -> 0 | F74: =SUM(G74:I74) -> 0 | G74: 0 | H74: 0 | I74: 0 | J74: =SUM(K74:M74) -> 0 | K74: 0 | L74: 0 | M74: 0 | N74: =SUM(O74:P74) -> 0 | O74: 0 | P74: 0 | Q74: 0 | R74: 0 | S74: 1 | T74: 0 | U74: 0 | V74: 8 | W74: 0 | X74: 0 | Y74: 0 | Z74: 0 | AA74: 0 | AB74: 0
A75: Enfermedad Respiratoria de Adulto (Broncopulmonar) | B75: =SUM(C75:E75) -> 0 | F75: =SUM(G75:I75) -> 29 | G75: 27 | H75: 2 | I75: 0 | J75: =SUM(K75:M75) -> 35 | K75: 33 | L75: 2 | M75: 0 | N75: =SUM(O75:P75) -> 36 | O75: 0 | P75: 36 | Q75: 0 | R75: 5 | S75: 0 | T75: 12 | U75: 7 | V75: 13 | W75: 61 | X75: 0 | Y75: 2 | Z75: 0 | AA75: 0 | AB75: 0
A76: Cardiología | B76: =SUM(C76:E76) -> 0 | F76: =SUM(G76:I76) -> 23 | G76: 18 | H76: 5 | I76: 0 | J76: =SUM(K76:M76) -> 23 | K76: 18 | L76: 5 | M76: 0 | N76: =SUM(O76:P76) -> 23 | O76: 0 | P76: 23 | Q76: 0 | R76: 3 | S76: 7 | T76: 29 | U76: 7 | V76: 13 | W76: 587 | X76: 0 | Y76: 0 | Z76: 0 | AA76: 0 | AB76: 0
A77: Mastología | B77: =SUM(C77:E77) -> 0 | F77: =SUM(G77:I77) -> 0 | G77: 0 | H77: 0 | I77: 0 | J77: =SUM(K77:M77) -> 0 | K77: 0 | L77: 0 | M77: 0 | N77: =SUM(O77:P77) -> 0 | O77: 0 | P77: 0 | Q77: 0 | R77: 0 | S77: 0 | T77: 2 | U77: 0 | V77: 0 | W77: 10 | X77: 0 | Y77: 2 | Z77: 0 | AA77: 0 | AB77: 0
A78: Endocrinología Pediátrica | B78: =SUM(C78:E78) -> 0 | F78: =SUM(G78:I78) -> 0 | G78: 0 | H78: 0 | I78: 0 | J78: =SUM(K78:M78) -> 0 | K78: 0 | L78: 0 | M78: 0 | N78: =SUM(O78:P78) -> 0 | O78: 0 | P78: 0 | Q78: 0 | R78: 0 | S78: 0 | T78: 0 | U78: 0 | V78: 0 | W78: 0 | X78: 0 | Y78: 0 | Z78: 0 | AA78: 0 | AB78: 0
A79: Endocrinología Adulto | B79: =SUM(C79:E79) -> 0 | F79: =SUM(G79:I79) -> 0 | G79: 0 | H79: 0 | I79: 0 | J79: =SUM(K79:M79) -> 0 | K79: 0 | L79: 0 | M79: 0 | N79: =SUM(O79:P79) -> 0 | O79: 0 | P79: 0 | Q79: 0 | R79: 0 | S79: 0 | T79: 0 | U79: 0 | V79: 0 | W79: 0 | X79: 0 | Y79: 0 | Z79: 0 | AA79: 0 | AB79: 0
A80: Gastroenterología Pediátrica | B80: =SUM(C80:E80) -> 0 | F80: =SUM(G80:I80) -> 0 | G80: 0 | H80: 0 | I80: 0 | J80: =SUM(K80:M80) -> 0 | K80: 0 | L80: 0 | M80: 0 | N80: =SUM(O80:P80) -> 0 | O80: 0 | P80: 0 | Q80: 0 | R80: 0 | S80: 0 | T80: 0 | U80: 0 | V80: 0 | W80: 0 | X80: 0 | Y80: 0 | Z80: 0 | AA80: 0 | AB80: 0
A81: Gastroenterología Adulto | B81: =SUM(C81:E81) -> 0 | F81: =SUM(G81:I81) -> 31 | G81: 30 | H81: 1 | I81: 0 | J81: =SUM(K81:M81) -> 26 | K81: 25 | L81: 1 | M81: 0 | N81: =SUM(O81:P81) -> 31 | O81: 0 | P81: 31 | Q81: 0 | R81: 4 | S81: 0 | T81: 12 | U81: 31 | V81: 7 | W81: 69 | X81: 0 | Y81: 0 | Z81: 0 | AA81: 0 | AB81: 0
A82: Genética Clínica | B82: =SUM(C82:E82) -> 0 | F82: =SUM(G82:I82) -> 0 | G82: 0 | H82: 0 | I82: 0 | J82: =SUM(K82:M82) -> 0 | K82: 0 | L82: 0 | M82: 0 | N82: =SUM(O82:P82) -> 0 | O82: 0 | P82: 0 | Q82: 0 | R82: 0 | S82: 0 | T82: 0 | U82: 0 | V82: 0 | W82: 0 | X82: 0 | Y82: 0 | Z82: 0 | AA82: 0 | AB82: 0
... A125: Radioterapia Oncológica | B125: =SUM(C125:E125) -> 0 | F125: =SUM(G125:I125) -> 0 | G125: 0 | H125: 0 | I125: 0 | J125: =SUM(K125:M125) -> 0 | K125: 0 | L125: 0 | M125: 0 | N125: =SUM(O125:P125) -> 0 | O125: 0 | P125: 0 | Q125: 0 | R125: 0 | S125: 0 | T125: 0 | U125: 0 | V125: 0 | W125: 0 | X125: 0 | Y125: 0 | Z125: 0 | AA125: 0 | AB125: 0
A126: TOTAL | B126: =SUM(B71:B125) -> 0 | C126: =SUM(C71:C125) -> 0 | D126: =SUM(D71:D125) -> 0 | E126: =SUM(E71:E125) -> 0 | F126: =SUM(F71:F125) -> 917 | G126: =SUM(G71:G125) -> 845 | H126: =SUM(H71:H125) -> 72 | I126: =SUM(I71:I125) -> 0 | ... AI126: =SUM(AI71:AI125) -> 0
A127: SECCIÓN B: ATENCIONES MEDICAS POR PROGRAMAS Y POLICLÍNICOS (INCLUIDAS EN SECCION A)
A128: ATENCIONES | B128: TOTAL | C128: 0 - 4 años | D128: 5 - 9 años | E128: 10 - 14 años | F128: 15 - 17 años | G128: 18- 19 años | H128: 20 - 24 años | I128: 25 - 29 años | J128: 30 - 34 años | K128: 35 - 39 años | L128: 40 - 44 años | M128: 45 - 49 años | N128: 50 - 54 años | O128: 55 - 59 años | P128: 60 - 64 años | Q128: 65 - 69 años | R128: 70 - 74 años | S128: 75 - 79 años | T128: 80 años y mas | U128: Trans Masculino | V128: Trans Femenino
A129: Arritmias | B129: =SUM(C129:T129) -> 0 | C129: 0 | W129: =CB129&CC129&CD129 | CB129: =IF(AND(B129>0,U129="")," * No olvide digitar Trans Masculino. (Digite CERO si no tiene).","") | CC129: =IF(AND(B129>0,V129="")," * No olvide digitar Trans Femenino. (Digite CERO si no tiene).","") | CD129: =IF((U129+V129)>B129," * La suma de Trans Masculino + Trans Femenino No puede ser Mayor al Total.","") | CM129: =IF(AND(B129>0,U129=""),1,0) -> 0 | CN129: =IF(AND(B129>0,V129=""),1,0) -> 0 | CO129: =IF((U129+V129)>B129,1,0) -> 0
A130: Diabetes | B130: =SUM(C130:T130) -> 89 | C130: 1 | D130: 11 | E130: 15 | F130: 4 | G130: 3 | H130: 2 | I130: 2 | J130: 1 | K130: 5 | L130: 1 | M130: 13 | N130: 10 | O130: 6 | P130: 9 | Q130: 2 | R130: 4 | T130: 0 | U130: 0 | V130: 0 | W130: =CB130&CC130&CD130 | CB130: =IF(AND(B130>0,U130="")," * No olvide digitar Trans Masculino. (Digite CERO si no tiene).","") | CC130: =IF(AND(B130>0,V130="")," * No olvide digitar Trans Femenino. (Digite CERO si no tiene).","") | CD130: =IF((U130+V130)>B130," * La suma de Trans Masculino + Trans Femenino No puede ser Mayor al Total.","") | CM130: =IF(AND(B130>0,U130=""),1,0) -> 0 | CN130: =IF(AND(B130>0,V130=""),1,0) -> 0 | CO130: =IF((U130+V130)>B130,1,0) -> 0
A131: Cirugía de Mamas | B131: =SUM(C131:T131) -> 317 | C131: 0 | D131: 0 | E131: 0 | F131: 0 | G131: 1 | H131: 6 | I131: 7 | J131: 9 | K131: 10 | L131: 20 | M131: 38 | N131: 34 | O131: 42 | P131: 32 | Q131: 47 | R131: 34 | S131: 23 | T131: 14 | U131: 0 | V131: 0 | W131: =CB131&CC131&CD131 | CB131: =IF(AND(B131>0,U131="")," * No olvide digitar Trans Masculino. (Digite CERO si no tiene).","") | CC131: =IF(AND(B131>0,V131="")," * No olvide digitar Trans Femenino. (Digite CERO si no tiene).","") | CD131: =IF((U131+V131)>B131," * La suma de Trans Masculino + Trans Femenino No puede ser Mayor al Total.","") | CM131: =IF(AND(B131>0,U131=""),1,0) -> 0 | CN131: =IF(AND(B131>0,V131=""),1,0) -> 0 | CO131: =IF((U131+V131)>B131,1,0) -> 0
A132: Alto Riesgo Obstétrico | B132: =SUM(C132:T132) -> 194 | C132: 0 | D132: 0 | E132: 0 | F132: 4 | G132: 3 | H132: 17 | I132: 44 | J132: 60 | K132: 48 | L132: 18 | M132: 0 | N132: 0 | O132: 0 | P132: 0 | Q132: 0 | R132: 0 | T132: 0 | U132: 0 | V132: 0 | W132: =CB132&CC132&CD132 | CB132: =IF(AND(B132>0,U132="")," * No olvide digitar Trans Masculino. (Digite CERO si no tiene).","") | CC132: =IF(AND(B132>0,V132="")," * No olvide digitar Trans Femenino. (Digite CERO si no tiene).","") | CD132: =IF((U132+V132)>B132," * La suma de Trans Masculino + Trans Femenino No puede ser Mayor al Total.","") | CM132: =IF(AND(B132>0,U132=""),1,0) -> 0 | CN132: =IF(AND(B132>0,V132=""),1,0) -> 0 | CO132: =IF((U132+V132)>B132,1,0) -> 0
A133: Atención Obstétrica por Ley IVE | B133: =SUM(C133:T133) -> 0 | C133: 0 | D133: 0 | E133: 0 | F133: 0 | G133: 0 | H133: 0 | I133: 0 | J133: 0 | K133: 0 | L133: 0 | M133: 0 | N133: 0 | O133: 0 | P133: 0 | Q133: 0 | R133: 0 | T133: 0 | U133: 0 | V133: 0 | W133: =CB133&CC133&CD133 | CB133: =IF(AND(B133>0,U133="")," * No olvide digitar Trans Masculino. (Digite CERO si no tiene).","") | CC133: =IF(AND(B133>0,V133="")," * No olvide digitar Trans Femenino. (Digite CERO si no tiene).","") | CD133: =IF((U133+V133)>B133," * La suma de Trans Masculino + Trans Femenino No puede ser Mayor al Total.","") | CM133: =IF(AND(B133>0,U133=""),1,0) -> 0 | CN133: =IF(AND(B133>0,V133=""),1,0) -> 0 | CO133: =IF((U133+V133)>B133,1,0) -> 0
A134: Tratamiento Anticoagulante | B134: =SUM(C134:T134) -> 214 | C134: 0 | D134: 0 | E134: 0 | F134: 0 | G134: 0 | H134: 1 | I134: 1 | J134: 2 | K134: 5 | L134: 3 | M134: 5 | N134: 14 | O134: 19 | P134: 32 | Q134: 41 | R134: 36 | S134: 55 | T134: 0 | U134: 0 | V134: 0 | W134: =CB134&CC134&CD134 | CB134: =IF(AND(B134>0,U134="")," * No olvide digitar Trans Masculino. (Digite CERO si no tiene).","") | CC134: =IF(AND(B134>0,V134="")," * No olvide digitar Trans Femenino. (Digite CERO si no tiene).","") | CD134: =IF((U134+V134)>B134," * La suma de Trans Masculino + Trans Femenino No puede ser Mayor al Total.","") | CM134: =IF(AND(B134>0,U134=""),1,0) -> 0 | CN134: =IF(AND(B134>0,V134=""),1,0) -> 0 | CO134: =IF((U134+V134)>B134,1,0) -> 0
A135: Cuidados Paliativos | B135: =SUM(C135:T135) -> 151 | C135: 0 | D135: 0 | E135: 0 | F135: 0 | G135: 0 | H135: 1 | I135: 1 | J135: 2 | K135: 6 | L135: 3 | M135: 9 | N135: 9 | O135: 8 | P135: 20 | Q135: 19 | R135: 24 | S135: 24 | T135: 25 | U135: 0 | V135: 0 | W135: =CB135&CC135&CD135 | CB135: =IF(AND(B135>0,U135="")," * No olvide digitar Trans Masculino. (Digite CERO si no tiene).","") | CC135: =IF(AND(B135>0,V135="")," * No olvide digitar Trans Femenino. (Digite CERO si no tiene).","") | CD135: =IF((U135+V135)>B135," * La suma de Trans Masculino + Trans Femenino No puede ser Mayor al Total.","") | CM135: =IF(AND(B135>0,U135=""),1,0) -> 0 | CN135: =IF(AND(B135>0,V135=""),1,0) -> 0 | CO135: =IF((U135+V135)>B135,1,0) -> 0
A136: Infertilidad | B136: =SUM(C136:T136) -> 0 | U136: 0 | V136: 0 | W136: =CB136&CC136&CD136 | CB136: =IF(AND(B136>0,U136="")," * No olvide digitar Trans Masculino. (Digite CERO si no tiene).","") | CC136: =IF(AND(B136>0,V136="")," * No olvide digitar Trans Femenino. (Digite CERO si no tiene).","") | CD136: =IF((U136+V136)>B136," * La suma de Trans Masculino + Trans Femenino No puede ser Mayor al Total.","") | CM136: =IF(AND(B136>0,U136=""),1,0) -> 0 | CN136: =IF(AND(B136>0,V136=""),1,0) -> 0 | CO136: =IF((U136+V136)>B136,1,0) -> 0
A137: Patología Cervical | B137: =SUM(C137:T137) -> 143 | C137: 0 | D137: 0 | E137: 0 | F137: 0 | G137: 0 | H137: 2 | I137: 12 | J137: 22 | K137: 24 | L137: 18 | M137: 18 | N137: 16 | O137: 10 | P137: 12 | Q137: 3 | R137: 5 | S137: 1 | T137: 0 | U137: 0 | V137: 0 | W137: =CB137&CC137&CD137 | CB137: =IF(AND(B137>0,U137="")," * No olvide digitar Trans Masculino. (Digite CERO si no tiene).","") | CC137: =IF(AND(B137>0,V137="")," * No olvide digitar Trans Femenino. (Digite CERO si no tiene).","") | CD137: =IF((U137+V137)>B137," * La suma de Trans Masculino + Trans Femenino No puede ser Mayor al Total.","") | CM137: =IF(AND(B137>0,U137=""),1,0) -> 0 | CN137: =IF(AND(B137>0,V137=""),1,0) -> 0 | CO137: =IF((U137+V137)>B137,1,0) -> 0
A138: Patología de Mamas | B138: =SUM(C138:T138) -> 0 | U138: 0 | V138: 0 | W138: =CB138&CC138&CD138 | CB138: =IF(AND(B138>0,U138="")," * No olvide digitar Trans Masculino. (Digite CERO si no tiene).","") | CC138: =IF(AND(B138>0,V138="")," * No olvide digitar Trans Femenino. (Digite CERO si no tiene).","") | CD138: =IF((U138+V138)>B138," * La suma de Trans Masculino + Trans Femenino No puede ser Mayor al Total.","") | CM138: =IF(AND(B138>0,U138=""),1,0) -> 0 | CN138: =IF(AND(B138>0,V138=""),1,0) -> 0 | CO138: =IF((U138+V138)>B138,1,0) -> 0
A139: Adolescencia | B139: =SUM(C139:T139) -> 97 | C139: 0 | D139: 17 | E139: 27 | F139: 49 | G139: 3 | H139: 1 | I139: 0 | J139: 0 | K139: 0 | L139: 0 | M139: 0 | N139: 0 | O139: 0 | P139: 0 | Q139: 0 | R139: 0 | S139: 0 | T139: 0 | U139: 0 | V139: 0 | W139: =CB139&CC139&CD139 | CB139: =IF(AND(B139>0,U139="")," * No olvide digitar Trans Masculino. (Digite CERO si no tiene).","") | CC139: =IF(AND(B139>0,V139="")," * No olvide digitar Trans Femenino. (Digite CERO si no tiene).","") | CD139: =IF((U139+V139)>B139," * La suma de Trans Masculino + Trans Femenino No puede ser Mayor al Total.","") | CM139: =IF(AND(B139>0,U139=""),1,0) -> 0 | CN139: =IF(AND(B139>0,V139=""),1,0) -> 0 | CO139: =IF((U139+V139)>B139,1,0) -> 0
A140: Naneas | B140: =SUM(C140:T140) -> 50 | C140: 35 | D140: 9 | E140: 4 | F140: 2 | G140: 0 | H140: 0 | I140: 0 | J140: 0 | K140: 0 | L140: 0 | M140: 0 | N140: 0 | U140: 0 | V140: 0 | W140: =CB140&CC140&CD140 | CB140: =IF(AND(B140>0,U140="")," * No olvide digitar Trans Masculino. (Digite CERO si no tiene).","") | CC140: =IF(AND(B140>0,V140="")," * No olvide digitar Trans Femenino. (Digite CERO si no tiene).","") | CD140: =IF((U140+V140)>B140," * La suma de Trans Masculino + Trans Femenino No puede ser Mayor al Total.","") | CM140: =IF(AND(B140>0,U140=""),1,0) -> 0 | CN140: =IF(AND(B140>0,V140=""),1,0) -> 0 | CO140: =IF((U140+V140)>B140,1,0) -> 0
A141: ITS | B141: =SUM(C141:T141) -> 39 | C141: 0 | D141: 0 | E141: 0 | F141: 0 | G141: 0 | H141: 1 | I141: 1 | J141: 6 | K141: 17 | L141: 0 | M141: 5 | N141: 3 | O141: 4 | P141: 0 | Q141: 0 | R141: 0 | S141: 2 | T141: 0 | U141: 0 | V141: 0 | W141: =CB141&CC141&CD141 | CB141: =IF(AND(B141>0,U141="")," * No olvide digitar Trans Masculino. (Digite CERO si no tiene).","") | CC141: =IF(AND(B141>0,V141="")," * No olvide digitar Trans Femenino. (Digite CERO si no tiene).","") | CD141: =IF((U141+V141)>B141," * La suma de Trans Masculino + Trans Femenino No puede ser Mayor al Total.","") | CM141: =IF(AND(B141>0,U141=""),1,0) -> 0 | CN141: =IF(AND(B141>0,V141=""),1,0) -> 0 | CO141: =IF((U141+V141)>B141,1,0) -> 0
A142: VIH/SIDA | B142: =SUM(C142:T142) -> 6 | C142: 0 | D142: 0 | E142: 0 | F142: 0 | G142: 0 | H142: 0 | I142: 0 | J142: 1 | K142: 0 | L142: 2 | M142: 2 | N142: 1 | O142: 0 | P142: 0 | Q142: 0 | R142: 0 | T142: 0 | U142: 0 | V142: 0 | W142: =CB142&CC142&CD142 | CB142: =IF(AND(B142>0,U142="")," * No olvide digitar Trans Masculino. (Digite CERO si no tiene).","") | CC142: =IF(AND(B142>0,V142="")," * No olvide digitar Trans Femenino. (Digite CERO si no tiene).","") | CD142: =IF((U142+V142)>B142," * La suma de Trans Masculino + Trans Femenino No puede ser Mayor al Total.","") | CM142: =IF(AND(B142>0,U142=""),1,0) -> 0 | CN142: =IF(AND(B142>0,V142=""),1,0) -> 0 | CO142: =IF((U142+V142)>B142,1,0) -> 0
A143: Medicinal Ocupacional (Salud del Personal) | B143: =SUM(C143:T143) -> 95 | C143: 0 | D143: 0 | E143: 0 | F143: 0 | G143: 0 | H143: 1 | I143: 7 | J143: 10 | K143: 17 | L143: 11 | M143: 10 | N143: 8 | O143: 9 | P143: 9 | Q143: 7 | R143: 4 | S143: 2 | T143: 0 | U143: 0 | V143: 0 | W143: =CB143&CC143&CD143 | CB143: =IF(AND(B143>0,U143="")," * No olvide digitar Trans Masculino. (Digite CERO si no tiene).","") | CC143: =IF(AND(B143>0,V143="")," * No olvide digitar Trans Femenino. (Digite CERO si no tiene).","") | CD143: =IF((U143+V143)>B143," * La suma de Trans Masculino + Trans Femenino No puede ser Mayor al Total.","") | CM143: =IF(AND(B143>0,U143=""),1,0) -> 0 | CN143: =IF(AND(B143>0,V143=""),1,0) -> 0 | CO143: =IF((U143+V143)>B143,1,0) -> 0
...

Sheet FEBRERO
A1: SERVICIO DE SALUD
A2: =CONCATENATE("COMUNA: ",[3]NOMBRE!B2, " (",[3]NOMBRE!C2,[3]NOMBRE!D2,[3]NOMBRE!E2,[3]NOMBRE!F2,[3]NOMBRE!G2,")") -> COMUNA: LINARES (07401)
A3: =CONCATENATE("ESTABLECIMIENTO/ESTRATEGIA: ", [3]NOMBRE!B3, " (",[3]NOMBRE!C3,[3]NOMBRE!D3,[3]NOMBRE!E3,[3]NOMBRE!F3,[3]NOMBRE!G3,[3]NOMBRE!H3,")") -> ESTABLECIMIENTO/ESTRATEGIA: HOSPITAL PRESIDENTE CARLOS IBAÑEZ DEL CAMPO (116108)
A4: =CONCATENATE("MES: ",[3]NOMBRE!B6, " (",[3]NOMBRE!C6,[3]NOMBRE!D6,")") -> MES: FEBRERO (02)
A5: =CONCATENATE("AÑO: ",[3]NOMBRE!B7) -> AÑO: 2025
A6: REM-07. ATENCIÓN DE ESPECIALIDADES
A8: SECCIÓN A : CONSULTAS MÉDICAS DE ESPECIALIDAD
A9: ESPECIALIDADES Y SUB-ESPECIALIDADES | B9: CONSULTAS Y CONTROLES MÉDICOS | X9: CONSULTAS NUEVAS SEGÚN ORIGEN | AF9: Consultas de Especialidades resueltas por Médico General
B10: TOTAL | C10: RANGO ETARIO | U10: Beneficiarios | V10: Por Sexo | X10: Menores 18 años | AB10: De 18 y más años
C11: 0 - 4 años | D11: 5 - 9 años | E11: 10 - 14 años | F11: 15 - 17 años | G11: 18 - 19 años | H11: 20 - 24 años | I11: 25 - 29 años | J11: 30 - 34 años | K11: 35 - 39 años | L11: 40 - 44 años | M11: 45 - 49 años | N11: 50 - 54 años | O11: 55 - 59 años | P11: 60 - 64 años | Q11: 65 - 69 años | R11: 70 - 74 años | S11: 75 - 79 años | T11: 80 y más años | V11: Hombres | W11: Mujeres | X11: Total | Y11: APS | Z11: CAE/CDT/CRS/Hospitalización | AA11: Urgencia | AB11: Total | AC11: APS | AD11: CAE/CDT/CRS/Hospitalización | AE11: Urgencia | AF11: Menor 18 años | AG11: De 18 y más años
A12: Pediatría | B12: =SUM(C12:T12) -> 421 | C12: 211 | D12: 107 | E12: 81 | F12: 22 | G12: 0 | H12: 0 | I12: 0 | J12: 0 | K12: 0 | L12: 0 | M12: 0 | N12: 0 | O12: 0 | P12: 0 | Q12: 0 | R12: 0 | S12: 0 | T12: 0 | U12: 421 | V12: 201 | W12: 220 | X12: =SUM(Y12+Z12+AA12) -> 142 | Y12: 33 | Z12: 109 | AA12: 0 | AB12: =SUM(AC12+AD12+AE12) -> 0 | AC12: 0 | AD12: 0 | AE12: 0 | AF12: 0 | AG12: 0 | AH12: =CB12&CC12&CD12 | CB12: =IF(V12+W12<>B12," * La suma por Sexo (Hombres + Mujeres) NO DEBEN ser diferente al Total","") | CC12: =IF(AND(B12>0,U12="")," * No olvide digitar la variable Beneficiarios. Digite CERO si no tiene",IF(U12>B12," * La variable Beneficiarios No puede ser mayor al Total.","")) | CD12: =IF((X12+AB12)>B12," * La suma del Total de Consultas Nuevas según Origen NO DEBE ser MAYOR que el total de Consultas y Controles médicos.","") | CM12: =IF(V12+W12<>B12,1,0) -> 0 | CN12: =IF(AND(B12>0,U12=""),1,IF(U12>B12,1,0)) -> 0 | CO12: =IF((X12+AB12)>B12,1,0) -> 0
A13: Medicina Interna | B13: =SUM(C13:T13) -> 1081 | C13: 0 | D13: 0 | E13: 0 | F13: 4 | G13: 3 | H13: 18 | I13: 45 | J13: 41 | K13: 49 | L13: 69 | M13: 70 | N13: 57 | O13: 90 | P13: 116 | Q13: 108 | R13: 130 | S13: 116 | T13: 165 | U13: 1081 | V13: 385 | W13: 696 | X13: =SUM(Y13+Z13+AA13) -> 0 | Y13: 0 | Z13: 0 | AA13: 0 | AB13: =SUM(AC13+AD13+AE13) -> 236 | AC13: 35 | AD13: 201 | AE13: 0 | AF13: 0 | AG13: 269 | AH13: =CB13&CC13&CD13 | CB13: =IF(V13+W13<>B13," * La suma por Sexo (Hombres + Mujeres) NO DEBEN ser diferente al Total","") | CC13: =IF(AND(B13>0,U13="")," * No olvide digitar la variable Beneficiarios. Digite CERO si no tiene",IF(U13>B13," * La variable Beneficiarios No puede ser mayor al Total.","")) | CD13: =IF((X13+AB13)>B13," * La suma del Total de Consultas Nuevas según Origen NO DEBE ser MAYOR que el total de Consultas y Controles médicos.","") | CM13: =IF(V13+W13<>B13,1,0) -> 0 | CN13: =IF(AND(B13>0,U13=""),1,IF(U13>B13,1,0)) -> 0 | CO13: =IF((X13+AB13)>B13,1,0) -> 0
A14: Neonatología | B14: =SUM(C14:D14) -> 0 | X14: =SUM(Y14+Z14+AA14) -> 0 | Y14: 0 | Z14: 0 | AA14: 0 | AB14: =SUM(AC14+AD14+AE14) -> 0 | AC14: 0 | AD14: 0 | AE14: 0 | AF14: 0 | AG14: 0 | AH14: =CB14&CC14&CD14 | CB14: =IF(V14+W14<>B14," * La suma por Sexo (Hombres + Mujeres) NO DEBEN ser diferente al Total","") | CC14: =IF(AND(B14>0,U14="")," * No olvide digitar la variable Beneficiarios. Digite CERO si no tiene",IF(U14>B14," * La variable Beneficiarios No puede ser mayor al Total.","")) | CD14: =IF((X14+AB14)>B14," * La suma del Total de Consultas Nuevas según Origen NO DEBE ser MAYOR que el total de Consultas y Controles médicos.","") | CM14: =IF(V14+W14<>B14,1,0) -> 0 | CN14: =IF(AND(B14>0,U14=""),1,IF(U14>B14,1,0)) -> 0 | CO14: =IF((X14+AB14)>B14,1,0) -> 0
A15: Enfermedad Respiratoria Pediátrica (Broncopulmonar Infantil) | B15: =SUM(C15:T15) -> 38 | C15: 13 | D15: 19 | E15: 5 | F15: 1 | G15: 0 | H15: 0 | I15: 0 | J15: 0 | K15: 0 | L15: 0 | M15: 0 | N15: 0 | O15: 0 | P15: 0 | Q15: 0 | R15: 0 | S15: 0 | T15: 0 | U15: 38 | V15: 20 | W15: 18 | X15: =SUM(Y15+Z15+AA15) -> 6 | Y15: 2 | Z15: 4 | AA15: 0 | AB15: =SUM(AC15+AD15+AE15) -> 0 | AC15: 0 | AD15: 0 | AE15: 0 | AF15: 0 | AG15: 0 | AH15: =CB15&CC15&CD15 | CB15: =IF(V15+W15<>B15," * La suma por Sexo (Hombres + Mujeres) NO DEBEN ser diferente al Total","") | CC15: =IF(AND(B15>0,U15="")," * No olvide digitar la variable Beneficiarios. Digite CERO si no tiene",IF(U15>B15," * La variable Beneficiarios No puede ser mayor al Total.","")) | CD15: =IF((X15+AB15)>B15," * La suma del Total de Consultas Nuevas según Origen NO DEBE ser MAYOR que el total de Consultas y Controles médicos.","") | CM15: =IF(V15+W15<>B15,1,0) -> 0 | CN15: =IF(AND(B15>0,U15=""),1,IF(U15>B15,1,0)) -> 0 | CO15: =IF((X15+AB15)>B15,1,0) -> 0
A16: Enfermedad Respiratoria de Adulto (Broncopulmonar) | B16: =SUM(C16:T16) -> 90 | C16: 0 | D16: 0 | E16: 0 | F16: 1 | G16: 1 | H16: 0 | I16: 0 | J16: 1 | K16: 1 | L16: 1 | M16: 3 | N16: 1 | O16: 6 | P16: 11 | Q16: 12 | R16: 14 | S16: 17 | T16: 21 | U16: 90 | V16: 32 | W16: 58 | X16: =SUM(Y16+Z16+AA16) -> 1 | Y16: 0 | Z16: 1 | AA16: 0 | AB16: =SUM(AC16+AD16+AE16) -> 27 | AC16: 15 | AD16: 12 | AE16: 0 | AF16: 0 | AG16: 0 | AH16: =CB16&CC16&CD16 | CB16: =IF(V16+W16<>B16," * La suma por Sexo (Hombres + Mujeres) NO DEBEN ser diferente al Total","") | CC16: =IF(AND(B16>0,U16="")," * No olvide digitar la variable Beneficiarios. Digite CERO si no tiene",IF(U16>B16," * La variable Beneficiarios No puede ser mayor al Total.","")) | CD16: =IF((X16+AB16)>B16," * La suma del Total de Consultas Nuevas según Origen NO DEBE ser MAYOR que el total de Consultas y Controles médicos.","") | CM16: =IF(V16+W16<>B16,1,0) -> 0 | CN16: =IF(AND(B16>0,U16=""),1,IF(U16>B16,1,0)) -> 0 | CO16: =IF((X16+AB16)>B16,1,0) -> 0
A17: Cardiología | B17: =SUM(C17:T17) -> 194 | C17: 36 | D17: 9 | E17: 12 | F17: 6 | G17: 1 | H17: 1 | I17: 0 | J17: 1 | K17: 1 | L17: 1 | M17: 1 | N17: 6 | O17: 18 | P17: 12 | Q17: 23 | R17: 21 | S17: 20 | T17: 25 | U17: 194 | V17: 103 | W17: 91 | X17: =SUM(Y17+Z17+AA17) -> 18 | Y17: 10 | Z17: 8 | AA17: 0 | AB17: =SUM(AC17+AD17+AE17) -> 41 | AC17: 11 | AD17: 30 | AE17: 0 | AF17: 0 | AG17: 0 | AH17: =CB17&CC17&CD17 | CB17: =IF(V17+W17<>B17," * La suma por Sexo (Hombres + Mujeres) NO DEBEN ser diferente al Total","") | CC17: =IF(AND(B17>0,U17="")," * No olvide digitar la variable Beneficiarios. Digite CERO si no tiene",IF(U17>B17," * La variable Beneficiarios No puede ser mayor al Total.","")) | CD17: =IF((X17+AB17)>B17," * La suma del Total de Consultas Nuevas según Origen NO DEBE ser MAYOR que el total de Consultas y Controles médicos.","") | CM17: =IF(V17+W17<>B17,1,0) -> 0 | CN17: =IF(AND(B17>0,U17=""),1,IF(U17>B17,1,0)) -> 0 | CO17: =IF((X17+AB17)>B17,1,0) -> 0
A18: Mastología | B18: =SUM(C18:T18) -> 197 | C18: 0 | D18: 0 | E18: 0 | F18: 1 | G18: 1 | H18: 3 | I18: 8 | J18: 11 | K18: 14 | L18: 21 | M18: 19 | N18: 27 | O18: 26 | P18: 15 | Q18: 17 | R18: 14 | S18: 10 | T18: 10 | U18: 197 | V18: 1 | W18: 196 | X18: =SUM(Y18+Z18+AA18) -> 1 | Y18: 1 | Z18: 0 | AA18: 0 | AB18: =SUM(AC18+AD18+AE18) -> 54 | AC18: 29 | AD18: 25 | AE18: 0 | AF18: 0 | AG18: 0 | AH18: =CB18&CC18&CD18 | CB18: =IF(V18+W18<>B18," * La suma por Sexo (Hombres + Mujeres) NO DEBEN ser diferente al Total","") | CC18: =IF(AND(B18>0,U18="")," * No olvide digitar la variable Beneficiarios. Digite CERO si no tiene",IF(U18>B18," * La variable Beneficiarios No puede ser mayor al Total.","")) | CD18: =IF((X18+AB18)>B18," * La suma del Total de Consultas Nuevas según Origen NO DEBE ser MAYOR que el total de Consultas y Controles médicos.","") | CM18: =IF(V18+W18<>B18,1,0) -> 0 | CN18: =IF(AND(B18>0,U18=""),1,IF(U18>B18,1,0)) -> 0 | CO18: =IF((X18+AB18)>B18,1,0) -> 0
A19: Endocrinología Pediátrica | B19: =SUM(C19:T19) -> 0 | C19: 0 | D19: 0 | E19: 0 | F19: 0 | G19: 0 | H19: 0 | I19: 0 | J19: 0 | K19: 0 | L19: 0 | M19: 0 | N19: 0 | O19: 0 | P19: 0 | Q19: 0 | R19: 0 | S19: 0 | T19: 0 | U19: 0 | V19: 0 | W19: 0 | X19: =SUM(Y19+Z19+AA19) -> 0 | Y19: 0 | Z19: 0 | AA19: 0 | AB19: =SUM(AC19+AD19+AE19) -> 0 | AC19: 0 | AD19: 0 | AE19: 0 | AF19: 0 | AG19: 0 | AH19: =CB19&CC19&CD19 | CB19: =IF(V19+W19<>B19," * La suma por Sexo (Hombres + Mujeres) NO DEBEN ser diferente al Total","") | CC19: =IF(AND(B19>0,U19="")," * No olvide digitar la variable Beneficiarios. Digite CERO si no tiene",IF(U19>B19," * La variable Beneficiarios No puede ser mayor al Total.","")) | CD19: =IF((X19+AB19)>B19," * La suma del Total de Consultas Nuevas según Origen NO DEBE ser MAYOR que el total de Consultas y Controles médicos.","") | CM19: =IF(V19+W19<>B19,1,0) -> 0 | CN19: =IF(AND(B19>0,U19=""),1,IF(U19>B19,1,0)) -> 0 | CO19: =IF((X19+AB19)>B19,1,0) -> 0
A20: Endocrinología Adulto | B20: =SUM(C20:T20) -> 117 | C20: 0 | D20: 0 | E20: 0 | F20: 2 | G20: 1 | H20: 3 | I20: 11 | J20: 5 | K20: 11 | L20: 3 | M20: 15 | N20: 12 | O20: 10 | P20: 11 | Q20: 10 | R20: 6 | S20: 9 | T20: 8 | U20: 117 | V20: 33 | W20: 84 | X20: =SUM(Y20+Z20+AA20) -> 0 | Y20: 0 | Z20: 0 | AA20: 0 | AB20: =SUM(AC20+AD20+AE20) -> 30 | AC20: 13 | AD20: 17 | AE20: 0 | AF20: 0 | AG20: 0 | AH20: =CB20&CC20&CD20 | CB20: =IF(V20+W20<>B20," * La suma por Sexo (Hombres + Mujeres) NO DEBEN ser diferente al Total","") | CC20: =IF(AND(B20>0,U20="")," * No olvide digitar la variable Beneficiarios. Digite CERO si no tiene",IF(U20>B20," * La variable Beneficiarios No puede ser mayor al Total.","")) | CD20: =IF((X20+AB20)>B20," * La suma del Total de Consultas Nuevas según Origen NO DEBE ser MAYOR que el total de Consultas y Controles médicos.","") | CM20: =IF(V20+W20<>B20,1,0) -> 0 | CN20: =IF(AND(B20>0,U20=""),1,IF(U20>B20,1,0)) -> 0 | CO20: =IF((X20+AB20)>B20,1,0) -> 0
A21: Gastroenterología Pediátrica | B21: =SUM(C21:T21) -> 0 | C21: 0 | D21: 0 | E21: 0 | F21: 0 | G21: 0 | H21: 0 | I21: 0 | J21: 0 | K21: 0 | L21: 0 | M21: 0 | N21: 0 | O21: 0 | P21: 0 | Q21: 0 | R21: 0 | S21: 0 | T21: 0 | U21: 0 | V21: 0 | W21: 0 | X21: =SUM(Y21+Z21+AA21) -> 0 | Y21: 0 | Z21: 0 | AA21: 0 | AB21: =SUM(AC21+AD21+AE21) -> 0 | AC21: 0 | AD21: 0 | AE21: 0 | AF21: 0 | AG21: 0 | AH21: =CB21&CC21&CD21 | CB21: =IF(V21+W21<>B21," * La suma por Sexo (Hombres + Mujeres) NO DEBEN ser diferente al Total","") | CC21: =IF(AND(B21>0,U21="")," * No olvide digitar la variable Beneficiarios. Digite CERO si no tiene",IF(U21>B21," * La variable Beneficiarios No puede ser mayor al Total.","")) | CD21: =IF((X21+AB21)>B21," * La suma del Total de Consultas Nuevas según Origen NO DEBE ser MAYOR que el total de Consultas y Controles médicos.","") | CM21: =IF(V21+W21<>B21,1,0) -> 0 | CN21: =IF(AND(B21>0,U21=""),1,IF(U21>B21,1,0)) -> 0 | CO21: =IF((X21+AB21)>B21,1,0) -> 0
A22: Gastroenterología Adulto | B22: =SUM(C22:T22) -> 141 | C22: 0 | D22: 0 | E22: 0 | F22: 1 | G22: 3 | H22: 2 | I22: 10 | J22: 11 | K22: 5 | L22: 5 | M22: 6 | N22: 11 | O22: 16 | P22: 19 | Q22: 20 | R22: 14 | S22: 9 | T22: 9 | U22: 141 | V22: 53 | W22: 88 | X22: =SUM(Y22+Z22+AA22) -> 1 | Y22: 0 | Z22: 1 | AA22: 0 | AB22: =SUM(AC22+AD22+AE22) -> 60 | AC22: 21 | AD22: 39 | AE22: 0 | AF22: 0 | AG22: 0 | AH22: =CB22&CC22&CD22 | CB22: =IF(V22+W22<>B22," * La suma por Sexo (Hombres + Mujeres) NO DEBEN ser diferente al Total","") | CC22: =IF(AND(B22>0,U22="")," * No olvide digitar la variable Beneficiarios. Digite CERO si no tiene",IF(U22>B22," * La variable Beneficiarios No puede ser mayor al Total.","")) | CD22: =IF((X22+AB22)>B22," * La suma del Total de Consultas Nuevas según Origen NO DEBE ser MAYOR que el total de Consultas y Controles médicos.","") | CM22: =IF(V22+W22<>B22,1,0) -> 0 | CN22: =IF(AND(B22>0,U22=""),1,IF(U22>B22,1,0)) -> 0 | CO22: =IF((X22+AB22)>B22,1,0) -> 0
A23: Genética Clínica | B23: =SUM(C23:T23) -> 0 | C23: 0 | D23: 0 | E23: 0 | F23: 0 | G23: 0 | H23: 0 | I23: 0 | J23: 0 | K23: 0 | L23: 0 | M23: 0 | N23: 0 | O23: 0 | P23: 0 | Q23: 0 | R23: 0 | S23: 0 | T23: 0 | U23: 0 | V23: 0 | W23: 0 | X23: =SUM(Y23+Z23+AA23) -> 0 | Y23: 0 | Z23: 0 | AA23: 0 | AB23: =SUM(AC23+AD23+AE23) -> 0 | AC23: 0 | AD23: 0 | AE23: 0 | AF23: 0 | AG23: 0 | AH23: =CB23&CC23&CD23 | CB23: =IF(V23+W23<>B23," * La suma por Sexo (Hombres + Mujeres) NO DEBEN ser diferente al Total","") | CC23: =IF(AND(B23>0,U23="")," * No olvide digitar la variable Beneficiarios. Digite CERO si no tiene",IF(U23>B23," * La variable Beneficiarios No puede ser mayor al Total.","")) | CD23: =IF((X23+AB23)>B23," * La suma del Total de Consultas Nuevas según Origen NO DEBE ser MAYOR que el total de Consultas y Controles médicos.","") | CM23: =IF(V23+W23<>B23,1,0) -> 0 | CN23: =IF(AND(B23>0,U23=""),1,IF(U23>B23,1,0)) -> 0 | CO23: =IF((X23+AB23)>B23,1,0) -> 0
A24: Hematología | B24: =SUM(C24:T24) -> 0 | C24: 0 | D24: 0 | E24: 0 | F24: 0 | G24: 0 | H24: 0 | I24: 0 | J24: 0 | K24: 0 | L24: 0 | M24: 0 | N24: 0 | O24: 0 | P24: 0 | Q24: 0 | R24: 0 | S24: 0 | T24: 0 | U24: 0 | V24: 0 | W24: 0 | X24: =SUM(Y24+Z24+AA24) -> 0 | Y24: 0 | Z24: 0 | AA24: 0 | AB24: =SUM(AC24+AD24+AE24) -> 0 | AC24: 0 | AD24: 0 | AE24: 0 | AF24: 0 | AG24: 0 | AH24: =CB24&CC24&CD24 | CB24: =IF(V24+W24<>B24," * La suma por Sexo (Hombres + Mujeres) NO DEBEN ser diferente al Total","") | CC24: =IF(AND(B24>0,U24="")," * No olvide digitar la variable Beneficiarios. Digite CERO si no tiene",IF(U24>B24," * La variable Beneficiarios No puede ser mayor al Total.","")) | CD24: =IF((X24+AB24)>B24," * La suma del Total de Consultas Nuevas según Origen NO DEBE ser MAYOR que el total de Consultas y Controles médicos.","") | CM24: =IF(V24+W24<>B24,1,0) -> 0 | CN24: =IF(AND(B24>0,U24=""),1,IF(U24>B24,1,0)) -> 0 | CO24: =IF((X24+AB24)>B24,1,0) -> 0
A25: Medicina del adolescente | B25: =SUM(C25:T25) -> 0 | C25: 0 | D25: 0 | E25: 0 | F25: 0 | G25: 0 | H25: 0 | I25: 0 | J25: 0 | K25: 0 | L25: 0 | M25: 0 | N25: 0 | O25: 0 | P25: 0 | Q25: 0 | R25: 0 | S25: 0 | T25: 0 | U25: 0 | V25: 0 | W25: 0 | X25: =SUM(Y25+Z25+AA25) -> 0 | Y25: 0 | Z25: 0 | AA25: 0 | AB25: =SUM(AC25+AD25+AE25) -> 0 | AC25: 0 | AD25: 0 | AE25: 0 | AF25: 0 | AG25: 0 | AH25: =CB25&CC25&CD25 | CB25: =IF(V25+W25<>B25," * La suma por Sexo (Hombres + Mujeres) NO DEBEN ser diferente al Total","") | CC25: =IF(AND(B25>0,U25="")," * No olvide digitar la variable Beneficiarios. Digite CERO si no tiene",IF(U25>B25," * La variable Beneficiarios No puede ser mayor al Total.","")) | CD25: =IF((X25+AB25)>B25," * La suma del Total de Consultas Nuevas según Origen NO DEBE ser MAYOR que el total de Consultas y Controles médicos.","") | CM25: =IF(V25+W25<>B25,1,0) -> 0 | CN25: =IF(AND(B25>0,U25=""),1,IF(U25>B25,1,0)) -> 0 | CO25: =IF((X25+AB25)>B25,1,0) -> 0
A26: Nefrología Pediátrica | B26: =SUM(C26:T26) -> 0 | C26: 0 | D26: 0 | E26: 0 | F26: 0 | G26: 0 | H26: 0 | I26: 0 | J26: 0 | K26: 0 | L26: 0 | M26: 0 | N26: 0 | O26: 0 | P26: 0 | Q26: 0 | R26: 0 | S26: 0 | T26: 0 | U26: 0 | V26: 0 | W26: 0 | X26: =SUM(Y26+Z26+AA26) -> 0 | Y26: 0 | Z26: 0 | AA26: 0 | AB26: =SUM(AC26+AD26+AE26) -> 0 | AC26: 0 | AD26: 0 | AE26: 0 | AF26: 0 | AG26: 0 | AH26: =CB26&CC26&CD26 | CB26: =IF(V26+W26<>B26," * La suma por Sexo (Hombres + Mujeres) NO DEBEN ser diferente al Total","") | CC26: =IF(AND(B26>0,U26="")," * No olvide digitar la variable Beneficiarios. Digite CERO si no tiene",IF(U26>B26," * La variable Beneficiarios No puede ser mayor al Total.","")) | CD26: =IF((X26+AB26)>B26," * La suma del Total de Consultas Nuevas según Origen NO DEBE ser MAYOR que el total de Consultas y Controles médicos.","") | CM26: =IF(V26+W26<>B26,1,0) -> 0 | CN26: =IF(AND(B26>0,U26=""),1,IF(U26>B26,1,0)) -> 0 | CO26: =IF((X26+AB26)>B26,1,0) -> 0
... A33: Infectología | B33: =SUM(C33:T33) -> 35 | C33: 0 | D33: 0 | E33: 0 | F33: 0 | G33: 0 | H33: 2 | I33: 2 | J33: 4 | K33: 5 | L33: 4 | M33: 7 | N33: 5 | O33: 3 | P33: 1 | Q33: 1 | R33: 1 | S33: 0 | T33: 0 | U33: 35 | V33: 23 | W33: 12 | X33: =SUM(Y33+Z33+AA33) -> 0 | Y33: 0 | Z33: 0 | AA33: 0 | AB33: =SUM(AC33+AD33+AE33) -> 11 | AC33: 0 | AD33: 11 | AE33: 0 | AF33: 0 | AG33: 0 | AH33: =CB33&CC33&CD33 | CB33: =IF(V33+W33<>B33," * La suma por Sexo (Hombres + Mujeres) NO DEBEN ser diferente al Total","") | CC33: =IF(AND(B33>0,U33="")," * No olvide digitar la variable Beneficiarios. Digite CERO si no tiene",IF(U33>B33," * La variable Beneficiarios No puede ser mayor al Total.","")) | CD33: =IF((X33+AB33)>B33," * La suma del Total de Consultas Nuevas según Origen NO DEBE ser MAYOR que el total de Consultas y Controles médicos.","") | CM33: =IF(V33+W33<>B33,1,0) -> 0 | CN33: =IF(AND(B33>0,U33=""),1,IF(U33>B33,1,0)) -> 0 | CO33: =IF((X33+AB33)>B33,1,0) -> 0
A34: Inmunología | B34: =SUM(C34:T34) -> 0 | X34: =SUM(Y34+Z34+AA34) -> 0 | Y34: 0 | Z34: 0 | AA34: 0 | AB34: =SUM(AC34+AD34+AE34) -> 0 | AC34: 0 | AD34: 0 | AE34: 0 | AF34: 0 | AG34: 0 | AH34: =CB34&CC34&CD34 | CB34: =IF(V34+W34<>B34," * La suma por Sexo (Hombres + Mujeres) NO DEBEN ser diferente al Total","") | CC34: =IF(AND(B34>0,U34="")," * No olvide digitar la variable Beneficiarios. Digite CERO si no tiene",IF(U34>B34," * La variable Beneficiarios No puede ser mayor al Total.","")) | CD34: =IF((X34+AB34)>B34," * La suma del Total de Consultas Nuevas según Origen NO DEBE ser MAYOR que el total de Consultas y Controles médicos.","") | CM34: =IF(V34+W34<>B34,1,0) -> 0 | CN34: =IF(AND(B34>0,U34=""),1,IF(U34>B34,1,0)) -> 0 | CO34: =IF((X34+AB34)>B34,1,0) -> 0
A35: Geriatría | B35: =SUM(P35:T35) -> 0 | X35: =SUM(Y35+Z35+AA35) -> 0 | Y35: 0 | Z35: 0 | AA35: 0 | AB35: =SUM(AC35+AD35+AE35) -> 0 | AC35: 0 | AD35: 0 | AE35: 0 | AF35: 0 | AG35: 0 | AH35: =CB35&CC35&CD35 | CB35: =IF(V35+W35<>B35," * La suma por Sexo (Hombres + Mujeres) NO DEBEN ser diferente al Total","") | CC35: =IF(AND(B35>0,U35="")," * No olvide digitar la variable Beneficiarios. Digite CERO si no tiene",IF(U35>B35," * La variable Beneficiarios No puede ser mayor al Total.","")) | CD35: =IF((X35+AB35)>B35," * La suma del Total de Consultas Nuevas según Origen NO DEBE ser MAYOR que el total de Consultas y Controles médicos.","") | CM35: =IF(V35+W35<>B35,1,0) -> 0 | CN35: =IF(AND(B35>0,U35=""),1,IF(U35>B35,1,0)) -> 0 | CO35: =IF((X35+AB35)>B35,1,0) -> 0
A36: Medicina Física y Rehabilitación | B36: =SUM(C36:T36) -> 0 | X36: =SUM(Y36+Z36+AA36) -> 0 | Y36: 0 | Z36: 0 | AA36: 0 | AB36: =SUM(AC36+AD36+AE36) -> 0 | AC36: 0 | AD36: 0 | AE36: 0 | AF36: 0 | AG36: 0 | AH36: =CB36&CC36&CD36 | CB36: =IF(V36+W36<>B36," * La suma por Sexo (Hombres + Mujeres) NO DEBEN ser diferente al Total","") | CC36: =IF(AND(B36>0,U36="")," * No olvide digitar la variable Beneficiarios. Digite CERO si no tiene",IF(U36>B36," * La variable Beneficiarios No puede ser mayor al Total.","")) | CD36: =IF((X36+AB36)>B36," * La suma del Total de Consultas Nuevas según Origen NO DEBE ser MAYOR que el total de Consultas y Controles médicos.","") | CM36: =IF(V36+W36<>B36,1,0) -> 0 | CN36: =IF(AND(B36>0,U36=""),1,IF(U36>B36,1,0)) -> 0 | CO36: =IF((X36+AB36)>B36,1,0) -> 0
