Workbook

Sheet CONSOLIDADO
A1: SERVICIO DE SALUD
A2: =CONCATENATE("COMUNA: ",[1]NOMBRE!B2, " (",[1]NOMBRE!C2,[1]NOMBRE!D2,[1]NOMBRE!E2,[1]NOMBRE!F2,[1]NOMBRE!G2,")") -> COMUNA: 0 (00000)
A3: =CONCATENATE("ESTABLECIMIENTO/ESTRATEGIA: ", [1]NOMBRE!B3, " (",[1]NOMBRE!C3,[1]NOMBRE!D3,[1]NOMBRE!E3,[1]NOMBRE!F3,[1]NOMBRE!G3,[1]NOMBRE!H3,")") -> ESTABLECIMIENTO/ESTRATEGIA: 0 (000000)
A4: =CONCATENATE("MES: ",[1]NOMBRE!B6, " (",[1]NOMBRE!C6,[1]NOMBRE!D6,")") -> MES: 0 (00)
A5: =CONCATENATE("AÑO: ",[1]NOMBRE!B7) -> AÑO: 2025
A6: REM-07. ATENCIÓN DE ESPECIALIDADES
A8: SECCIÓN A : CONSULTAS MÉDICAS DE ESPECIALIDAD
A9: ESPECIALIDADES Y SUB-ESPECIALIDADES | B9: CONSULTAS Y CONTROLES MÉDICOS | X9: CONSULTAS NUEVAS SEGÚN ORIGEN | AF9: Consultas de Especialidades resueltas por Médico General
B10: TOTAL | C10: RANGO ETARIO | U10: Beneficiarios | V10: Por Sexo | X10: Menores 18 años | AB10: De 18 y más años
C11: 0 - 4 años | D11: 5 - 9 años | E11: 10 - 14 años | F11: 15 - 17 años | G11: 18 - 19 años | H11: 20 - 24 años | I11: 25 - 29 años | J11: 30 - 34 años | K11: 35 - 39 años | L11: 40 - 44 años | M11: 45 - 49 años | N11: 50 - 54 años | O11: 55 - 59 años | P11: 60 - 64 años | Q11: 65 - 69 años | R11: 70 - 74 años | S11: 75 - 79 años | T11: 80 y más años | V11: Hombres | W11: Mujeres | X11: Total | Y11: APS | Z11: CAE/CDT/CRS/Hospitalización | AA11: Urgencia | AB11: Total | AC11: APS | AD11: CAE/CDT/CRS/Hospitalización | AE11: Urgencia | AF11: Menor 18 años | AG11: De 18 y más años
A12: Pediatría | B12: =SUM(C12:T12) -> 5252 | C12: =SUM(ENERO:DICIEMBRE!C12) -> 2678 | D12: =SUM(ENERO:DICIEMBRE!D12) -> 1256 | E12: =SUM(ENERO:DICIEMBRE!E12) -> 1078 | F12: =SUM(ENERO:DICIEMBRE!F12) -> 210 | G12: =SUM(ENERO:DICIEMBRE!G12) -> 21 | H12: =SUM(ENERO:DICIEMBRE!H12) -> 8 | I12: =SUM(ENERO:DICIEMBRE!I12) -> 1 | J12: =SUM(ENERO:DICIEMBRE!J12) -> 0 | ... W12: =SUM(ENERO:DICIEMBRE!W12) -> 2673 | X12: =SUM(Y12+Z12+AA12) -> 1846 | Y12: =SUM(ENERO:DICIEMBRE!Y12) -> 369 | Z12: =SUM(ENERO:DICIEMBRE!Z12) -> 1474 | AA12: =SUM(ENERO:DICIEMBRE!AA12) -> 3 | AB12: =SUM(AC12+AD12+AE12) -> 39 | AC12: =SUM(ENERO:DICIEMBRE!AC12) -> 12 | AD12: =SUM(ENERO:DICIEMBRE!AD12) -> 27 | AE12: =SUM(ENERO:DICIEMBRE!AE12) -> 0 | AF12: =SUM(ENERO:DICIEMBRE!AF12) -> 0 | AG12: =SUM(ENERO:DICIEMBRE!AG12) -> 0 | AH12: =CB12&CC12&CD12 | CB12: =IF(V12+W12<>B12," * La suma por Sexo (Hombres + Mujeres) NO DEBEN ser diferente al Total","") | CC12: =IF(AND(B12>0,U12="")," * No olvide digitar la variable Beneficiarios. Digite CERO si no tiene",IF(U12>B12," * La variable Beneficiarios No puede ser mayor al Total.","")) | CD12: =IF((X12+AB12)>B12," * La suma del Total de Consultas Nuevas según Origen NO DEBE ser MAYOR que el total de Consultas y Controles médicos.","") | CM12: =IF(V12+W12<>B12,1,0) -> 0 | CN12: =IF(AND(B12>0,U12=""),1,IF(U12>B12,1,0)) -> 0 | CO12: =IF((X12+AB12)>B12,1,0) -> 0
A13: Medicina Interna | B13: =SUM(C13:T13) -> 12219 | C13: =SUM(ENERO:DICIEMBRE!C13) -> 0 | D13: =SUM(ENERO:DICIEMBRE!D13) -> 0 | E13: =SUM(ENERO:DICIEMBRE!E13) -> 0 | F13: =SUM(ENERO:DICIEMBRE!F13) -> 65 | G13: =SUM(ENERO:DICIEMBRE!G13) -> 69 | H13: =SUM(ENERO:DICIEMBRE!H13) -> 258 | I13: =SUM(ENERO:DICIEMBRE!I13) -> 439 | J13: =SUM(ENERO:DICIEMBRE!J13) -> 582 | ... W13: =SUM(ENERO:DICIEMBRE!W13) -> 7736 | X13: =SUM(Y13+Z13+AA13) -> 24 | Y13: =SUM(ENERO:DICIEMBRE!Y13) -> 9 | Z13: =SUM(ENERO:DICIEMBRE!Z13) -> 14 | AA13: =SUM(ENERO:DICIEMBRE!AA13) -> 1 | AB13: =SUM(AC13+AD13+AE13) -> 4097 | AC13: =SUM(ENERO:DICIEMBRE!AC13) -> 735 | AD13: =SUM(ENERO:DICIEMBRE!AD13) -> 3345 | AE13: =SUM(ENERO:DICIEMBRE!AE13) -> 17 | AF13: =SUM(ENERO:DICIEMBRE!AF13) -> 1 | AG13: =SUM(ENERO:DICIEMBRE!AG13) -> 2759 | AH13: =CB13&CC13&CD13 | CB13: =IF(V13+W13<>B13," * La suma por Sexo (Hombres + Mujeres) NO DEBEN ser diferente al Total","") | CC13: =IF(AND(B13>0,U13="")," * No olvide digitar la variable Beneficiarios. Digite CERO si no tiene",IF(U13>B13," * La variable Beneficiarios No puede ser mayor al Total.","")) | CD13: =IF((X13+AB13)>B13," * La suma del Total de Consultas Nuevas según Origen NO DEBE ser MAYOR que el total de Consultas y Controles médicos.","") | CM13: =IF(V13+W13<>B13,1,0) -> 0 | CN13: =IF(AND(B13>0,U13=""),1,IF(U13>B13,1,0)) -> 0 | CO13: =IF((X13+AB13)>B13,1,0) -> 0
A14: Neonatología | B14: =SUM(C14:D14) -> 0 | C14: =SUM(ENERO:DICIEMBRE!C14) -> 0 | D14: =SUM(ENERO:DICIEMBRE!D14) -> 0 | E14: =SUM(ENERO:DICIEMBRE!E14) -> 0 | F14: =SUM(ENERO:DICIEMBRE!F14) -> 0 | G14: =SUM(ENERO:DICIEMBRE!G14) -> 0 | H14: =SUM(ENERO:DICIEMBRE!H14) -> 0 | I14: =SUM(ENERO:DICIEMBRE!I14) -> 0 | J14: =SUM(ENERO:DICIEMBRE!J14) -> 0 | ... W14: =SUM(ENERO:DICIEMBRE!W14) -> 0 | X14: =SUM(Y14+Z14+AA14) -> 0 | Y14: =SUM(ENERO:DICIEMBRE!Y14) -> 0 | Z14: =SUM(ENERO:DICIEMBRE!Z14) -> 0 | AA14: =SUM(ENERO:DICIEMBRE!AA14) -> 0 | AB14: =SUM(AC14+AD14+AE14) -> 0 | AC14: =SUM(ENERO:DICIEMBRE!AC14) -> 0 | AD14: =SUM(ENERO:DICIEMBRE!AD14) -> 0 | AE14: =SUM(ENERO:DICIEMBRE!AE14) -> 0 | AF14: =SUM(ENERO:DICIEMBRE!AF14) -> 0 | AG14: =SUM(ENERO:DICIEMBRE!AG14) -> 0 | AH14: =CB14&CC14&CD14 | CB14: =IF(V14+W14<>B14," * La suma por Sexo (Hombres + Mujeres) NO DEBEN ser diferente al Total","") | CC14: =IF(AND(B14>0,U14="")," * No olvide digitar la variable Beneficiarios. Digite CERO si no tiene",IF(U14>B14," * La variable Beneficiarios No puede ser mayor al Total.","")) | CD14: =IF((X14+AB14)>B14," * La suma del Total de Consultas Nuevas según Origen NO DEBE ser MAYOR que el total de Consultas y Controles médicos.","") | CM14: =IF(V14+W14<>B14,1,0) -> 0 | CN14: =IF(AND(B14>0,U14=""),1,IF(U14>B14,1,0)) -> 0 | CO14: =IF((X14+AB14)>B14,1,0) -> 0
A15: Enfermedad Respiratoria Pediátrica (Broncopulmonar Infantil) | B15: =SUM(C15:T15) -> 488 | C15: =SUM(ENERO:DICIEMBRE!C15) -> 229 | D15: =SUM(ENERO:DICIEMBRE!D15) -> 159 | E15: =SUM(ENERO:DICIEMBRE!E15) -> 85 | F15: =SUM(ENERO:DICIEMBRE!F15) -> 15 | G15: =SUM(ENERO:DICIEMBRE!G15) -> 0 | H15: =SUM(ENERO:DICIEMBRE!H15) -> 0 | I15: =SUM(ENERO:DICIEMBRE!I15) -> 0 | J15: =SUM(ENERO:DICIEMBRE!J15) -> 0 | ... W15: =SUM(ENERO:DICIEMBRE!W15) -> 192 | X15: =SUM(Y15+Z15+AA15) -> 93 | Y15: =SUM(ENERO:DICIEMBRE!Y15) -> 46 | Z15: =SUM(ENERO:DICIEMBRE!Z15) -> 47 | AA15: =SUM(ENERO:DICIEMBRE!AA15) -> 0 | AB15: =SUM(AC15+AD15+AE15) -> 3 | AC15: =SUM(ENERO:DICIEMBRE!AC15) -> 1 | AD15: =SUM(ENERO:DICIEMBRE!AD15) -> 2 | AE15: =SUM(ENERO:DICIEMBRE!AE15) -> 0 | AF15: =SUM(ENERO:DICIEMBRE!AF15) -> 0 | AG15: =SUM(ENERO:DICIEMBRE!AG15) -> 0 | AH15: =CB15&CC15&CD15 | CB15: =IF(V15+W15<>B15," * La suma por Sexo (Hombres + Mujeres) NO DEBEN ser diferente al Total","") | CC15: =IF(AND(B15>0,U15="")," * No olvide digitar la variable Beneficiarios. Digite CERO si no tiene",IF(U15>B15," * La variable Beneficiarios No puede ser mayor al Total.","")) | CD15: =IF((X15+AB15)>B15," * La suma del Total de Consultas Nuevas según Origen NO DEBE ser MAYOR que el total de Consultas y Controles médicos.","") | CM15: =IF(V15+W15<>B15,1,0) -> 0 | CN15: =IF(AND(B15>0,U15=""),1,IF(U15>B15,1,0)) -> 0 | CO15: =IF((X15+AB15)>B15,1,0) -> 0
A16: Enfermedad Respiratoria de Adulto (Broncopulmonar) | B16: =SUM(C16:T16) -> 1653 | C16: =SUM(ENERO:DICIEMBRE!C16) -> 0 | D16: =SUM(ENERO:DICIEMBRE!D16) -> 0 | E16: =SUM(ENERO:DICIEMBRE!E16) -> 0 | F16: =SUM(ENERO:DICIEMBRE!F16) -> 20 | G16: =SUM(ENERO:DICIEMBRE!G16) -> 11 | H16: =SUM(ENERO:DICIEMBRE!H16) -> 20 | I16: =SUM(ENERO:DICIEMBRE!I16) -> 18 | J16: =SUM(ENERO:DICIEMBRE!J16) -> 19 | ... W16: =SUM(ENERO:DICIEMBRE!W16) -> 970 | X16: =SUM(Y16+Z16+AA16) -> 6 | Y16: =SUM(ENERO:DICIEMBRE!Y16) -> 1 | Z16: =SUM(ENERO:DICIEMBRE!Z16) -> 5 | AA16: =SUM(ENERO:DICIEMBRE!AA16) -> 0 | AB16: =SUM(AC16+AD16+AE16) -> 537 | AC16: =SUM(ENERO:DICIEMBRE!AC16) -> 339 | AD16: =SUM(ENERO:DICIEMBRE!AD16) -> 196 | AE16: =SUM(ENERO:DICIEMBRE!AE16) -> 2 | AF16: =SUM(ENERO:DICIEMBRE!AF16) -> 0 | AG16: =SUM(ENERO:DICIEMBRE!AG16) -> 0 | AH16: =CB16&CC16&CD16 | CB16: =IF(V16+W16<>B16," * La suma por Sexo (Hombres + Mujeres) NO DEBEN ser diferente al Total","") | CC16: =IF(AND(B16>0,U16="")," * No olvide digitar la variable Beneficiarios. Digite CERO si no tiene",IF(U16>B16," * La variable Beneficiarios No puede ser mayor al Total.","")) | CD16: =IF((X16+AB16)>B16," * La suma del Total de Consultas Nuevas según Origen NO DEBE ser MAYOR que el total de Consultas y Controles médicos.","") | CM16: =IF(V16+W16<>B16,1,0) -> 0 | CN16: =IF(AND(B16>0,U16=""),1,IF(U16>B16,1,0)) -> 0 | CO16: =IF((X16+AB16)>B16,1,0) -> 0
A17: Cardiología | B17: =SUM(C17:T17) -> 3431 | C17: =SUM(ENERO:DICIEMBRE!C17) -> 452 | D17: =SUM(ENERO:DICIEMBRE!D17) -> 244 | E17: =SUM(ENERO:DICIEMBRE!E17) -> 199 | F17: =SUM(ENERO:DICIEMBRE!F17) -> 60 | G17: =SUM(ENERO:DICIEMBRE!G17) -> 16 | H17: =SUM(ENERO:DICIEMBRE!H17) -> 16 | I17: =SUM(ENERO:DICIEMBRE!I17) -> 10 | J17: =SUM(ENERO:DICIEMBRE!J17) -> 15 | ... W17: =SUM(ENERO:DICIEMBRE!W17) -> 1499 | X17: =SUM(Y17+Z17+AA17) -> 275 | Y17: =SUM(ENERO:DICIEMBRE!Y17) -> 140 | Z17: =SUM(ENERO:DICIEMBRE!Z17) -> 133 | AA17: =SUM(ENERO:DICIEMBRE!AA17) -> 2 | AB17: =SUM(AC17+AD17+AE17) -> 1155 | AC17: =SUM(ENERO:DICIEMBRE!AC17) -> 527 | AD17: =SUM(ENERO:DICIEMBRE!AD17) -> 626 | AE17: =SUM(ENERO:DICIEMBRE!AE17) -> 2 | AF17: =SUM(ENERO:DICIEMBRE!AF17) -> 0 | AG17: =SUM(ENERO:DICIEMBRE!AG17) -> 0 | AH17: =CB17&CC17&CD17 | CB17: =IF(V17+W17<>B17," * La suma por Sexo (Hombres + Mujeres) NO DEBEN ser diferente al Total","") | CC17: =IF(AND(B17>0,U17="")," * No olvide digitar la variable Beneficiarios. Digite CERO si no tiene",IF(U17>B17," * La variable Beneficiarios No puede ser mayor al Total.","")) | CD17: =IF((X17+AB17)>B17," * La suma del Total de Consultas Nuevas según Origen NO DEBE ser MAYOR que el total de Consultas y Controles médicos.","") | CM17: =IF(V17+W17<>B17,1,0) -> 0 | CN17: =IF(AND(B17>0,U17=""),1,IF(U17>B17,1,0)) -> 0 | CO17: =IF((X17+AB17)>B17,1,0) -> 0
A18: Mastología | B18: =SUM(C18:T18) -> 1954 | C18: =SUM(ENERO:DICIEMBRE!C18) -> 0 | D18: =SUM(ENERO:DICIEMBRE!D18) -> 0 | E18: =SUM(ENERO:DICIEMBRE!E18) -> 0 | F18: =SUM(ENERO:DICIEMBRE!F18) -> 12 | G18: =SUM(ENERO:DICIEMBRE!G18) -> 15 | H18: =SUM(ENERO:DICIEMBRE!H18) -> 37 | I18: =SUM(ENERO:DICIEMBRE!I18) -> 62 | J18: =SUM(ENERO:DICIEMBRE!J18) -> 73 | ... W18: =SUM(ENERO:DICIEMBRE!W18) -> 1936 | X18: =SUM(Y18+Z18+AA18) -> 2 | Y18: =SUM(ENERO:DICIEMBRE!Y18) -> 2 | Z18: =SUM(ENERO:DICIEMBRE!Z18) -> 0 | AA18: =SUM(ENERO:DICIEMBRE!AA18) -> 0 | AB18: =SUM(AC18+AD18+AE18) -> 652 | AC18: =SUM(ENERO:DICIEMBRE!AC18) -> 209 | AD18: =SUM(ENERO:DICIEMBRE!AD18) -> 442 | AE18: =SUM(ENERO:DICIEMBRE!AE18) -> 1 | AF18: =SUM(ENERO:DICIEMBRE!AF18) -> 0 | AG18: =SUM(ENERO:DICIEMBRE!AG18) -> 0 | AH18: =CB18&CC18&CD18 | CB18: =IF(V18+W18<>B18," * La suma por Sexo (Hombres + Mujeres) NO DEBEN ser diferente al Total","") | CC18: =IF(AND(B18>0,U18="")," * No olvide digitar la variable Beneficiarios. Digite CERO si no tiene",IF(U18>B18," * La variable Beneficiarios No puede ser mayor al Total.","")) | CD18: =IF((X18+AB18)>B18," * La suma del Total de Consultas Nuevas según Origen NO DEBE ser MAYOR que el total de Consultas y Controles médicos.","") | CM18: =IF(V18+W18<>B18,1,0) -> 0 | CN18: =IF(AND(B18>0,U18=""),1,IF(U18>B18,1,0)) -> 0 | CO18: =IF((X18+AB18)>B18,1,0) -> 0
A19: Endocrinología Pediátrica | B19: =SUM(C19:T19) -> 0 | C19: =SUM(ENERO:DICIEMBRE!C19) -> 0 | D19: =SUM(ENERO:DICIEMBRE!D19) -> 0 | E19: =SUM(ENERO:DICIEMBRE!E19) -> 0 | F19: =SUM(ENERO:DICIEMBRE!F19) -> 0 | G19: =SUM(ENERO:DICIEMBRE!G19) -> 0 | H19: =SUM(ENERO:DICIEMBRE!H19) -> 0 | I19: =SUM(ENERO:DICIEMBRE!I19) -> 0 | J19: =SUM(ENERO:DICIEMBRE!J19) -> 0 | ... W19: =SUM(ENERO:DICIEMBRE!W19) -> 0 | X19: =SUM(Y19+Z19+AA19) -> 0 | Y19: =SUM(ENERO:DICIEMBRE!Y19) -> 0 | Z19: =SUM(ENERO:DICIEMBRE!Z19) -> 0 | AA19: =SUM(ENERO:DICIEMBRE!AA19) -> 0 | AB19: =SUM(AC19+AD19+AE19) -> 0 | AC19: =SUM(ENERO:DICIEMBRE!AC19) -> 0 | AD19: =SUM(ENERO:DICIEMBRE!AD19) -> 0 | AE19: =SUM(ENERO:DICIEMBRE!AE19) -> 0 | AF19: =SUM(ENERO:DICIEMBRE!AF19) -> 0 | AG19: =SUM(ENERO:DICIEMBRE!AG19) -> 0 | AH19: =CB19&CC19&CD19 | CB19: =IF(V19+W19<>B19," * La suma por Sexo (Hombres + Mujeres) NO DEBEN ser diferente al Total","") | CC19: =IF(AND(B19>0,U19="")," * No olvide digitar la variable Beneficiarios. Digite CERO si no tiene",IF(U19>B19," * La variable Beneficiarios No puede ser mayor al Total.","")) | CD19: =IF((X19+AB19)>B19," * La suma del Total de Consultas Nuevas según Origen NO DEBE ser MAYOR que el total de Consultas y Controles médicos.","") | CM19: =IF(V19+W19<>B19,1,0) -> 0 | CN19: =IF(AND(B19>0,U19=""),1,IF(U19>B19,1,0)) -> 0 | CO19: =IF((X19+AB19)>B19,1,0) -> 0
A20: Endocrinología Adulto | B20: =SUM(C20:T20) -> 1383 | C20: =SUM(ENERO:DICIEMBRE!C20) -> 0 | D20: =SUM(ENERO:DICIEMBRE!D20) -> 0 | E20: =SUM(ENERO:DICIEMBRE!E20) -> 0 | F20: =SUM(ENERO:DICIEMBRE!F20) -> 27 | G20: =SUM(ENERO:DICIEMBRE!G20) -> 21 | H20: =SUM(ENERO:DICIEMBRE!H20) -> 54 | I20: =SUM(ENERO:DICIEMBRE!I20) -> 53 | J20: =SUM(ENERO:DICIEMBRE!J20) -> 56 | ... W20: =SUM(ENERO:DICIEMBRE!W20) -> 1093 | X20: =SUM(Y20+Z20+AA20) -> 12 | Y20: =SUM(ENERO:DICIEMBRE!Y20) -> 8 | Z20: =SUM(ENERO:DICIEMBRE!Z20) -> 3 | AA20: =SUM(ENERO:DICIEMBRE!AA20) -> 1 | AB20: =SUM(AC20+AD20+AE20) -> 540 | AC20: =SUM(ENERO:DICIEMBRE!AC20) -> 287 | AD20: =SUM(ENERO:DICIEMBRE!AD20) -> 251 | AE20: =SUM(ENERO:DICIEMBRE!AE20) -> 2 | AF20: =SUM(ENERO:DICIEMBRE!AF20) -> 0 | AG20: =SUM(ENERO:DICIEMBRE!AG20) -> 0 | AH20: =CB20&CC20&CD20 | CB20: =IF(V20+W20<>B20," * La suma por Sexo (Hombres + Mujeres) NO DEBEN ser diferente al Total","") | CC20: =IF(AND(B20>0,U20="")," * No olvide digitar la variable Beneficiarios. Digite CERO si no tiene",IF(U20>B20," * La variable Beneficiarios No puede ser mayor al Total.","")) | CD20: =IF((X20+AB20)>B20," * La suma del Total de Consultas Nuevas según Origen NO DEBE ser MAYOR que el total de Consultas y Controles médicos.","") | CM20: =IF(V20+W20<>B20,1,0) -> 0 | CN20: =IF(AND(B20>0,U20=""),1,IF(U20>B20,1,0)) -> 0 | CO20: =IF((X20+AB20)>B20,1,0) -> 0
A21: Gastroenterología Pediátrica | B21: =SUM(C21:T21) -> 0 | C21: =SUM(ENERO:DICIEMBRE!C21) -> 0 | D21: =SUM(ENERO:DICIEMBRE!D21) -> 0 | E21: =SUM(ENERO:DICIEMBRE!E21) -> 0 | F21: =SUM(ENERO:DICIEMBRE!F21) -> 0 | G21: =SUM(ENERO:DICIEMBRE!G21) -> 0 | H21: =SUM(ENERO:DICIEMBRE!H21) -> 0 | I21: =SUM(ENERO:DICIEMBRE!I21) -> 0 | J21: =SUM(ENERO:DICIEMBRE!J21) -> 0 | ... W21: =SUM(ENERO:DICIEMBRE!W21) -> 0 | X21: =SUM(Y21+Z21+AA21) -> 0 | Y21: =SUM(ENERO:DICIEMBRE!Y21) -> 0 | Z21: =SUM(ENERO:DICIEMBRE!Z21) -> 0 | AA21: =SUM(ENERO:DICIEMBRE!AA21) -> 0 | AB21: =SUM(AC21+AD21+AE21) -> 0 | AC21: =SUM(ENERO:DICIEMBRE!AC21) -> 0 | AD21: =SUM(ENERO:DICIEMBRE!AD21) -> 0 | AE21: =SUM(ENERO:DICIEMBRE!AE21) -> 0 | AF21: =SUM(ENERO:DICIEMBRE!AF21) -> 0 | AG21: =SUM(ENERO:DICIEMBRE!AG21) -> 0 | AH21: =CB21&CC21&CD21 | CB21: =IF(V21+W21<>B21," * La suma por Sexo (Hombres + Mujeres) NO DEBEN ser diferente al Total","") | CC21: =IF(AND(B21>0,U21="")," * No olvide digitar la variable Beneficiarios. Digite CERO si no tiene",IF(U21>B21," * La variable Beneficiarios No puede ser mayor al Total.","")) | CD21: =IF((X21+AB21)>B21," * La suma del Total de Consultas Nuevas según Origen NO DEBE ser MAYOR que el total de Consultas y Controles médicos.","") | CM21: =IF(V21+W21<>B21,1,0) -> 0 | CN21: =IF(AND(B21>0,U21=""),1,IF(U21>B21,1,0)) -> 0 | CO21: =IF((X21+AB21)>B21,1,0) -> 0
A22: Gastroenterología Adulto | B22: =SUM(C22:T22) -> 1473 | C22: =SUM(ENERO:DICIEMBRE!C22) -> 0 | D22: =SUM(ENERO:DICIEMBRE!D22) -> 0 | E22: =SUM(ENERO:DICIEMBRE!E22) -> 0 | F22: =SUM(ENERO:DICIEMBRE!F22) -> 8 | G22: =SUM(ENERO:DICIEMBRE!G22) -> 13 | H22: =SUM(ENERO:DICIEMBRE!H22) -> 24 | I22: =SUM(ENERO:DICIEMBRE!I22) -> 49 | J22: =SUM(ENERO:DICIEMBRE!J22) -> 48 | ... W22: =SUM(ENERO:DICIEMBRE!W22) -> 926 | X22: =SUM(Y22+Z22+AA22) -> 3 | Y22: =SUM(ENERO:DICIEMBRE!Y22) -> 2 | Z22: =SUM(ENERO:DICIEMBRE!Z22) -> 1 | AA22: =SUM(ENERO:DICIEMBRE!AA22) -> 0 | AB22: =SUM(AC22+AD22+AE22) -> 785 | AC22: =SUM(ENERO:DICIEMBRE!AC22) -> 377 | AD22: =SUM(ENERO:DICIEMBRE!AD22) -> 408 | AE22: =SUM(ENERO:DICIEMBRE!AE22) -> 0 | AF22: =SUM(ENERO:DICIEMBRE!AF22) -> 0 | AG22: =SUM(ENERO:DICIEMBRE!AG22) -> 0 | AH22: =CB22&CC22&CD22 | CB22: =IF(V22+W22<>B22," * La suma por Sexo (Hombres + Mujeres) NO DEBEN ser diferente al Total","") | CC22: =IF(AND(B22>0,U22="")," * No olvide digitar la variable Beneficiarios. Digite CERO si no tiene",IF(U22>B22," * La variable Beneficiarios No puede ser mayor al Total.","")) | CD22: =IF((X22+AB22)>B22," * La suma del Total de Consultas Nuevas según Origen NO DEBE ser MAYOR que el total de Consultas y Controles médicos.","") | CM22: =IF(V22+W22<>B22,1,0) -> 0 | CN22: =IF(AND(B22>0,U22=""),1,IF(U22>B22,1,0)) -> 0 | CO22: =IF((X22+AB22)>B22,1,0) -> 0
A23: Genética Clínica | B23: =SUM(C23:T23) -> 0 | C23: =SUM(ENERO:DICIEMBRE!C23) -> 0 | D23: =SUM(ENERO:DICIEMBRE!D23) -> 0 | E23: =SUM(ENERO:DICIEMBRE!E23) -> 0 | F23: =SUM(ENERO:DICIEMBRE!F23) -> 0 | G23: =SUM(ENERO:DICIEMBRE!G23) -> 0 | H23: =SUM(ENERO:DICIEMBRE!H23) -> 0 | I23: =SUM(ENERO:DICIEMBRE!I23) -> 0 | J23: =SUM(ENERO:DICIEMBRE!J23) -> 0 | ... W23: =SUM(ENERO:DICIEMBRE!W23) -> 0 | X23: =SUM(Y23+Z23+AA23) -> 0 | Y23: =SUM(ENERO:DICIEMBRE!Y23) -> 0 | Z23: =SUM(ENERO:DICIEMBRE!Z23) -> 0 | AA23: =SUM(ENERO:DICIEMBRE!AA23) -> 0 | AB23: =SUM(AC23+AD23+AE23) -> 0 | AC23: =SUM(ENERO:DICIEMBRE!AC23) -> 0 | AD23: =SUM(ENERO:DICIEMBRE!AD23) -> 0 | AE23: =SUM(ENERO:DICIEMBRE!AE23) -> 0 | AF23: =SUM(ENERO:DICIEMBRE!AF23) -> 0 | AG23: =SUM(ENERO:DICIEMBRE!AG23) -> 0 | AH23: =CB23&CC23&CD23 | CB23: =IF(V23+W23<>B23," * La suma por Sexo (Hombres + Mujeres) NO DEBEN ser diferente al Total","") | CC23: =IF(AND(B23>0,U23="")," * No olvide digitar la variable Beneficiarios. Digite CERO si no tiene",IF(U23>B23," * La variable Beneficiarios No puede ser mayor al Total.","")) | CD23: =IF((X23+AB23)>B23," * La suma del Total de Consultas Nuevas según Origen NO DEBE ser MAYOR que el total de Consultas y Controles médicos.","") | CM23: =IF(V23+W23<>B23,1,0) -> 0 | CN23: =IF(AND(B23>0,U23=""),1,IF(U23>B23,1,0)) -> 0 | CO23: =IF((X23+AB23)>B23,1,0) -> 0
A24: Hematología | B24: =SUM(C24:T24) -> 0 | C24: =SUM(ENERO:DICIEMBRE!C24) -> 0 | D24: =SUM(ENERO:DICIEMBRE!D24) -> 0 | E24: =SUM(ENERO:DICIEMBRE!E24) -> 0 | F24: =SUM(ENERO:DICIEMBRE!F24) -> 0 | G24: =SUM(ENERO:DICIEMBRE!G24) -> 0 | H24: =SUM(ENERO:DICIEMBRE!H24) -> 0 | I24: =SUM(ENERO:DICIEMBRE!I24) -> 0 | J24: =SUM(ENERO:DICIEMBRE!J24) -> 0 | ... W24: =SUM(ENERO:DICIEMBRE!W24) -> 0 | X24: =SUM(Y24+Z24+AA24) -> 0 | Y24: =SUM(ENERO:DICIEMBRE!Y24) -> 0 | Z24: =SUM(ENERO:DICIEMBRE!Z24) -> 0 | AA24: =SUM(ENERO:DICIEMBRE!AA24) -> 0 | AB24: =SUM(AC24+AD24+AE24) -> 0 | AC24: =SUM(ENERO:DICIEMBRE!AC24) -> 0 | AD24: =SUM(ENERO:DICIEMBRE!AD24) -> 0 | AE24: =SUM(ENERO:DICIEMBRE!AE24) -> 0 | AF24: =SUM(ENERO:DICIEMBRE!AF24) -> 0 | AG24: =SUM(ENERO:DICIEMBRE!AG24) -> 0 | AH24: =CB24&CC24&CD24 | CB24: =IF(V24+W24<>B24," * La suma por Sexo (Hombres + Mujeres) NO DEBEN ser diferente al Total","") | CC24: =IF(AND(B24>0,U24="")," * No olvide digitar la variable Beneficiarios. Digite CERO si no tiene",IF(U24>B24," * La variable Beneficiarios No puede ser mayor al Total.","")) | CD24: =IF((X24+AB24)>B24," * La suma del Total de Consultas Nuevas según Origen NO DEBE ser MAYOR que el total de Consultas y Controles médicos.","") | CM24: =IF(V24+W24<>B24,1,0) -> 0 | CN24: =IF(AND(B24>0,U24=""),1,IF(U24>B24,1,0)) -> 0 | CO24: =IF((X24+AB24)>B24,1,0) -> 0
A25: Medicina del adolescente | B25: =SUM(C25:T25) -> 0 | C25: =SUM(ENERO:DICIEMBRE!C25) -> 0 | D25: =SUM(ENERO:DICIEMBRE!D25) -> 0 | E25: =SUM(ENERO:DICIEMBRE!E25) -> 0 | F25: =SUM(ENERO:DICIEMBRE!F25) -> 0 | G25: =SUM(ENERO:DICIEMBRE!G25) -> 0 | H25: =SUM(ENERO:DICIEMBRE!H25) -> 0 | I25: =SUM(ENERO:DICIEMBRE!I25) -> 0 | J25: =SUM(ENERO:DICIEMBRE!J25) -> 0 | ... W25: =SUM(ENERO:DICIEMBRE!W25) -> 0 | X25: =SUM(Y25+Z25+AA25) -> 0 | Y25: =SUM(ENERO:DICIEMBRE!Y25) -> 0 | Z25: =SUM(ENERO:DICIEMBRE!Z25) -> 0 | AA25: =SUM(ENERO:DICIEMBRE!AA25) -> 0 | AB25: =SUM(AC25+AD25+AE25) -> 0 | AC25: =SUM(ENERO:DICIEMBRE!AC25) -> 0 | AD25: =SUM(ENERO:DICIEMBRE!AD25) -> 0 | AE25: =SUM(ENERO:DICIEMBRE!AE25) -> 0 | AF25: =SUM(ENERO:DICIEMBRE!AF25) -> 0 | AG25: =SUM(ENERO:DICIEMBRE!AG25) -> 0 | AH25: =CB25&CC25&CD25 | CB25: =IF(V25+W25<>B25," * La suma por Sexo (Hombres + Mujeres) NO DEBEN ser diferente al Total","") | CC25: =IF(AND(B25>0,U25="")," * No olvide digitar la variable Beneficiarios. Digite CERO si no tiene",IF(U25>B25," * La variable Beneficiarios No puede ser mayor al Total.","")) | CD25: =IF((X25+AB25)>B25," * La suma del Total de Consultas Nuevas según Origen NO DEBE ser MAYOR que el total de Consultas y Controles médicos.","") | CM25: =IF(V25+W25<>B25,1,0) -> 0 | CN25: =IF(AND(B25>0,U25=""),1,IF(U25>B25,1,0)) -> 0 | CO25: =IF((X25+AB25)>B25,1,0) -> 0
A26: Nefrología Pediátrica | B26: =SUM(C26:T26) -> 0 | C26: =SUM(ENERO:DICIEMBRE!C26) -> 0 | D26: =SUM(ENERO:DICIEMBRE!D26) -> 0 | E26: =SUM(ENERO:DICIEMBRE!E26) -> 0 | F26: =SUM(ENERO:DICIEMBRE!F26) -> 0 | G26: =SUM(ENERO:DICIEMBRE!G26) -> 0 | H26: =SUM(ENERO:DICIEMBRE!H26) -> 0 | I26: =SUM(ENERO:DICIEMBRE!I26) -> 0 | J26: =SUM(ENERO:DICIEMBRE!J26) -> 0 | ... W26: =SUM(ENERO:DICIEMBRE!W26) -> 0 | X26: =SUM(Y26+Z26+AA26) -> 0 | Y26: =SUM(ENERO:DICIEMBRE!Y26) -> 0 | Z26: =SUM(ENERO:DICIEMBRE!Z26) -> 0 | AA26: =SUM(ENERO:DICIEMBRE!AA26) -> 0 | AB26: =SUM(AC26+AD26+AE26) -> 0 | AC26: =SUM(ENERO:DICIEMBRE!AC26) -> 0 | AD26: =SUM(ENERO:DICIEMBRE!AD26) -> 0 | AE26: =SUM(ENERO:DICIEMBRE!AE26) -> 0 | AF26: =SUM(ENERO:DICIEMBRE!AF26) -> 0 | AG26: =SUM(ENERO:DICIEMBRE!AG26) -> 0 | AH26: =CB26&CC26&CD26 | CB26: =IF(V26+W26<>B26," * La suma por Sexo (Hombres + Mujeres) NO DEBEN ser diferente al Total","") | CC26: =IF(AND(B26>0,U26="")," * No olvide digitar la variable Beneficiarios. Digite CERO si no tiene",IF(U26>B26," * La variable Beneficiarios No puede ser mayor al Total.","")) | CD26: =IF((X26+AB26)>B26," * La suma del Total de Consultas Nuevas según Origen NO DEBE ser MAYOR que el total de Consultas y Controles médicos.","") | CM26: =IF(V26+W26<>B26,1,0) -> 0 | CN26: =IF(AND(B26>0,U26=""),1,IF(U26>B26,1,0)) -> 0 | CO26: =IF((X26+AB26)>B26,1,0) -> 0
... A34: Inmunología | B34: =SUM(C34:T34) -> 0 | C34: =SUM(ENERO:DICIEMBRE!C34) -> 0 | D34: =SUM(ENERO:DICIEMBRE!D34) -> 0 | E34: =SUM(ENERO:DICIEMBRE!E34) -> 0 | F34: =SUM(ENERO:DICIEMBRE!F34) -> 0 | G34: =SUM(ENERO:DICIEMBRE!G34) -> 0 | H34: =SUM(ENERO:DICIEMBRE!H34) -> 0 | I34: =SUM(ENERO:DICIEMBRE!I34) -> 0 | J34: =SUM(ENERO:DICIEMBRE!J34) -> 0 | ... W34: =SUM(ENERO:DICIEMBRE!W34) -> 0 | X34: =SUM(Y34+Z34+AA34) -> 0 | Y34: =SUM(ENERO:DICIEMBRE!Y34) -> 0 | Z34: =SUM(ENERO:DICIEMBRE!Z34) -> 0 | AA34: =SUM(ENERO:DICIEMBRE!AA34) -> 0 | AB34: =SUM(AC34+AD34+AE34) -> 0 | AC34: =SUM(ENERO:DICIEMBRE!AC34) -> 0 | AD34: =SUM(ENERO:DICIEMBRE!AD34) -> 0 | AE34: =SUM(ENERO:DICIEMBRE!AE34) -> 0 | AF34: =SUM(ENERO:DICIEMBRE!AF34) -> 0 | AG34: =SUM(ENERO:DICIEMBRE!AG34) -> 0 | AH34: =CB34&CC34&CD34 | CB34: =IF(V34+W34<>B34," * La suma por Sexo (Hombres + Mujeres) NO DEBEN ser diferente al Total","") | CC34: =IF(AND(B34>0,U34="")," * No olvide digitar la variable Beneficiarios. Digite CERO si no tiene",IF(U34>B34," * La variable Beneficiarios No puede ser mayor al Total.","")) | CD34: =IF((X34+AB34)>B34," * La suma del Total de Consultas Nuevas según Origen NO DEBE ser MAYOR que el total de Consultas y Controles médicos.","") | CM34: =IF(V34+W34<>B34,1,0) -> 0 | CN34: =IF(AND(B34>0,U34=""),1,IF(U34>B34,1,0)) -> 0 | CO34: =IF((X34+AB34)>B34,1,0) -> 0
A35: Geriatría | B35: =SUM(P35:T35) -> 0 | C35: =SUM(ENERO:DICIEMBRE!C35) -> 0 | D35: =SUM(ENERO:DICIEMBRE!D35) -> 0 | E35: =SUM(ENERO:DICIEMBRE!E35) -> 0 | F35: =SUM(ENERO:DICIEMBRE!F35) -> 0 | G35: =SUM(ENERO:DICIEMBRE!G35) -> 0 | H35: =SUM(ENERO:DICIEMBRE!H35) -> 0 | I35: =SUM(ENERO:DICIEMBRE!I35) -> 0 | J35: =SUM(ENERO:DICIEMBRE!J35) -> 0 | ... W35: =SUM(ENERO:DICIEMBRE!W35) -> 0 | X35: =SUM(Y35+Z35+AA35) -> 0 | Y35: =SUM(ENERO:DICIEMBRE!Y35) -> 0 | Z35: =SUM(ENERO:DICIEMBRE!Z35) -> 0 | AA35: =SUM(ENERO:DICIEMBRE!AA35) -> 0 | AB35: =SUM(AC35+AD35+AE35) -> 0 | AC35: =SUM(ENERO:DICIEMBRE!AC35) -> 0 | AD35: =SUM(ENERO:DICIEMBRE!AD35) -> 0 | AE35: =SUM(ENERO:DICIEMBRE!AE35) -> 0 | AF35: =SUM(ENERO:DICIEMBRE!AF35) -> 0 | AG35: =SUM(ENERO:DICIEMBRE!AG35) -> 0 | AH35: =CB35&CC35&CD35 | CB35: =IF(V35+W35<>B35," * La suma por Sexo (Hombres + Mujeres) NO DEBEN ser diferente al Total","") | CC35: =IF(AND(B35>0,U35="")," * No olvide digitar la variable Beneficiarios. Digite CERO si no tiene",IF(U35>B35," * La variable Beneficiarios No puede ser mayor al Total.","")) | CD35: =IF((X35+AB35)>B35," * La suma del Total de Consultas Nuevas según Origen NO DEBE ser MAYOR que el total de Consultas y Controles médicos.","") | CM35: =IF(V35+W35<>B35,1,0) -> 0 | CN35: =IF(AND(B35>0,U35=""),1,IF(U35>B35,1,0)) -> 0 | CO35: =IF((X35+AB35)>B35,1,0) -> 0
A36: Medicina Física y Rehabilitación | B36: =SUM(C36:T36) -> 0 | C36: =SUM(ENERO:DICIEMBRE!C36) -> 0 | D36: =SUM(ENERO:DICIEMBRE!D36) -> 0 | E36: =SUM(ENERO:DICIEMBRE!E36) -> 0 | F36: =SUM(ENERO:DICIEMBRE!F36) -> 0 | G36: =SUM(ENERO:DICIEMBRE!G36) -> 0 | H36: =SUM(ENERO:DICIEMBRE!H36) -> 0 | I36: =SUM(ENERO:DICIEMBRE!I36) -> 0 | J36: =SUM(ENERO:DICIEMBRE!J36) -> 0 | ... W36: =SUM(ENERO:DICIEMBRE!W36) -> 0 | X36: =SUM(Y36+Z36+AA36) -> 0 | Y36: =SUM(ENERO:DICIEMBRE!Y36) -> 0 | Z36: =SUM(ENERO:DICIEMBRE!Z36) -> 0 | AA36: =SUM(ENERO:DICIEMBRE!AA36) -> 0 | AB36: =SUM(AC36+AD36+AE36) -> 0 | AC36: =SUM(ENERO:DICIEMBRE!AC36) -> 0 | AD36: =SUM(ENERO:DICIEMBRE!AD36) -> 0 | AE36: =SUM(ENERO:DICIEMBRE!AE36) -> 0 | AF36: =SUM(ENERO:DICIEMBRE!AF36) -> 0 | AG36: =SUM(ENERO:DICIEMBRE!AG36) -> 0 | AH36: =CB36&CC36&CD36 | CB36: =IF(V36+W36<>B36," * La suma por Sexo (Hombres + Mujeres) NO DEBEN ser diferente al Total","") | CC36: =IF(AND(B36>0,U36="")," * No olvide digitar la variable Beneficiarios. Digite CERO si no tiene",IF(U36>B36," * La variable Beneficiarios No puede ser mayor al Total.","")) | CD36: =IF((X36+AB36)>B36," * La suma del Total de Consultas Nuevas según Origen NO DEBE ser MAYOR que el total de Consultas y Controles médicos.","") | CM36: =IF(V36+W36<>B36,1,0) -> 0 | CN36: =IF(AND(B36>0,U36=""),1,IF(U36>B36,1,0)) -> 0 | CO36: =IF((X36+AB36)>B36,1,0) -> 0
A37: Medicina Reproductiva e Infertilidad | B37: =SUM(C37:T37) -> 0 | C37: =SUM(ENERO:DICIEMBRE!C37) -> 0 | D37: =SUM(ENERO:DICIEMBRE!D37) -> 0 | E37: =SUM(ENERO:DICIEMBRE!E37) -> 0 | F37: =SUM(ENERO:DICIEMBRE!F37) -> 0 | G37: =SUM(ENERO:DICIEMBRE!G37) -> 0 | H37: =SUM(ENERO:DICIEMBRE!H37) -> 0 | I37: =SUM(ENERO:DICIEMBRE!I37) -> 0 | J37: =SUM(ENERO:DICIEMBRE!J37) -> 0 | ... W37: =SUM(ENERO:DICIEMBRE!W37) -> 0 | X37: =SUM(Y37+Z37+AA37) -> 0 | Y37: =SUM(ENERO:DICIEMBRE!Y37) -> 0 | Z37: =SUM(ENERO:DICIEMBRE!Z37) -> 0 | AA37: =SUM(ENERO:DICIEMBRE!AA37) -> 0 | AB37: =SUM(AC37+AD37+AE37) -> 0 | AC37: =SUM(ENERO:DICIEMBRE!AC37) -> 0 | AD37: =SUM(ENERO:DICIEMBRE!AD37) -> 0 | AE37: =SUM(ENERO:DICIEMBRE!AE37) -> 0 | AF37: =SUM(ENERO:DICIEMBRE!AF37) -> 0 | AG37: =SUM(ENERO:DICIEMBRE!AG37) -> 0 | AH37: =CB37&CC37&CD37 | CB37: =IF(V37+W37<>B37," * La suma por Sexo (Hombres + Mujeres) NO DEBEN ser diferente al Total","") | CC37: =IF(AND(B37>0,U37="")," * No olvide digitar la variable Beneficiarios. Digite CERO si no tiene",IF(U37>B37," * La variable Beneficiarios No puede ser mayor al Total.","")) | CD37: =IF((X37+AB37)>B37," * La suma del Total de Consultas Nuevas según Origen NO DEBE ser MAYOR que el total de Consultas y Controles médicos.","") | CM37: =IF(V37+W37<>B37,1,0) -> 0 | CN37: =IF(AND(B37>0,U37=""),1,IF(U37>B37,1,0)) -> 0 | CO37: =IF((X37+AB37)>B37,1,0) -> 0
A38: Neurología Pediátrica | B38: =SUM(C38:T38) -> 1927 | C38: =SUM(ENERO:DICIEMBRE!C38) -> 404 | D38: =SUM(ENERO:DICIEMBRE!D38) -> 690 | E38: =SUM(ENERO:DICIEMBRE!E38) -> 648 | F38: =SUM(ENERO:DICIEMBRE!F38) -> 160 | G38: =SUM(ENERO:DICIEMBRE!G38) -> 23 | H38: =SUM(ENERO:DICIEMBRE!H38) -> 2 | I38: =SUM(ENERO:DICIEMBRE!I38) -> 0 | J38: =SUM(ENERO:DICIEMBRE!J38) -> 0 | ... W38: =SUM(ENERO:DICIEMBRE!W38) -> 594 | X38: =SUM(Y38+Z38+AA38) -> 529 | Y38: =SUM(ENERO:DICIEMBRE!Y38) -> 382 | Z38: =SUM(ENERO:DICIEMBRE!Z38) -> 147 | AA38: =SUM(ENERO:DICIEMBRE!AA38) -> 0 | AB38: =SUM(AC38+AD38+AE38) -> 14 | AC38: =SUM(ENERO:DICIEMBRE!AC38) -> 7 | AD38: =SUM(ENERO:DICIEMBRE!AD38) -> 7 | AE38: =SUM(ENERO:DICIEMBRE!AE38) -> 0 | AF38: =SUM(ENERO:DICIEMBRE!AF38) -> 0 | AG38: =SUM(ENERO:DICIEMBRE!AG38) -> 0 | AH38: =CB38&CC38&CD38 | CB38: =IF(V38+W38<>B38," * La suma por Sexo (Hombres + Mujeres) NO DEBEN ser diferente al Total","") | CC38: =IF(AND(B38>0,U38="")," * No olvide digitar la variable Beneficiarios. Digite CERO si no tiene",IF(U38>B38," * La variable Beneficiarios No puede ser mayor al Total.","")) | CD38: =IF((X38+AB38)>B38," * La suma del Total de Consultas Nuevas según Origen NO DEBE ser MAYOR que el total de Consultas y Controles médicos.","") | CM38: =IF(V38+W38<>B38,1,0) -> 0 | CN38: =IF(AND(B38>0,U38=""),1,IF(U38>B38,1,0)) -> 0 | CO38: =IF((X38+AB38)>B38,1,0) -> 0
A39: Neurología Adulto | B39: =SUM(C39:T39) -> 2398 | C39: =SUM(ENERO:DICIEMBRE!C39) -> 0 | D39: =SUM(ENERO:DICIEMBRE!D39) -> 0 | E39: =SUM(ENERO:DICIEMBRE!E39) -> 2 | F39: =SUM(ENERO:DICIEMBRE!F39) -> 102 | G39: =SUM(ENERO:DICIEMBRE!G39) -> 60 | H39: =SUM(ENERO:DICIEMBRE!H39) -> 91 | I39: =SUM(ENERO:DICIEMBRE!I39) -> 57 | J39: =SUM(ENERO:DICIEMBRE!J39) -> 57 | ... W39: =SUM(ENERO:DICIEMBRE!W39) -> 1286 | X39: =SUM(Y39+Z39+AA39) -> 86 | Y39: =SUM(ENERO:DICIEMBRE!Y39) -> 37 | Z39: =SUM(ENERO:DICIEMBRE!Z39) -> 49 | AA39: =SUM(ENERO:DICIEMBRE!AA39) -> 0 | AB39: =SUM(AC39+AD39+AE39) -> 1155 | AC39: =SUM(ENERO:DICIEMBRE!AC39) -> 505 | AD39: =SUM(ENERO:DICIEMBRE!AD39) -> 648 | AE39: =SUM(ENERO:DICIEMBRE!AE39) -> 2 | AF39: =SUM(ENERO:DICIEMBRE!AF39) -> 19 | AG39: =SUM(ENERO:DICIEMBRE!AG39) -> 299 | AH39: =CB39&CC39&CD39 | CB39: =IF(V39+W39<>B39," * La suma por Sexo (Hombres + Mujeres) NO DEBEN ser diferente al Total","") | CC39: =IF(AND(B39>0,U39="")," * No olvide digitar la variable Beneficiarios. Digite CERO si no tiene",IF(U39>B39," * La variable Beneficiarios No puede ser mayor al Total.","")) | CD39: =IF((X39+AB39)>B39," * La suma del Total de Consultas Nuevas según Origen NO DEBE ser MAYOR que el total de Consultas y Controles médicos.","") | CM39: =IF(V39+W39<>B39,1,0) -> 0 | CN39: =IF(AND(B39>0,U39=""),1,IF(U39>B39,1,0)) -> 0 | CO39: =IF((X39+AB39)>B39,1,0) -> 0
A40: Oncología Médica | B40: =SUM(C40:T40) -> 0 | C40: =SUM(ENERO:DICIEMBRE!C40) -> 0 | D40: =SUM(ENERO:DICIEMBRE!D40) -> 0 | E40: =SUM(ENERO:DICIEMBRE!E40) -> 0 | F40: =SUM(ENERO:DICIEMBRE!F40) -> 0 | G40: =SUM(ENERO:DICIEMBRE!G40) -> 0 | H40: =SUM(ENERO:DICIEMBRE!H40) -> 0 | I40: =SUM(ENERO:DICIEMBRE!I40) -> 0 | J40: =SUM(ENERO:DICIEMBRE!J40) -> 0 | ... W40: =SUM(ENERO:DICIEMBRE!W40) -> 0 | X40: =SUM(Y40+Z40+AA40) -> 0 | Y40: =SUM(ENERO:DICIEMBRE!Y40) -> 0 | Z40: =SUM(ENERO:DICIEMBRE!Z40) -> 0 | AA40: =SUM(ENERO:DICIEMBRE!AA40) -> 0 | AB40: =SUM(AC40+AD40+AE40) -> 0 | AC40: =SUM(ENERO:DICIEMBRE!AC40) -> 0 | AD40: =SUM(ENERO:DICIEMBRE!AD40) -> 0 | AE40: =SUM(ENERO:DICIEMBRE!AE40) -> 0 | AF40: =SUM(ENERO:DICIEMBRE!AF40) -> 0 | AG40: =SUM(ENERO:DICIEMBRE!AG40) -> 0 | AH40: =CB40&CC40&CD40 | CB40: =IF(V40+W40<>B40," * La suma por Sexo (Hombres + Mujeres) NO DEBEN ser diferente al Total","") | CC40: =IF(AND(B40>0,U40="")," * No olvide digitar la variable Beneficiarios. Digite CERO si no tiene",IF(U40>B40," * La variable Beneficiarios No puede ser mayor al Total.","")) | CD40: =IF((X40+AB40)>B40," * La suma del Total de Consultas Nuevas según Origen NO DEBE ser MAYOR que el total de Consultas y Controles médicos.","") | CM40: =IF(V40+W40<>B40,1,0) -> 0 | CN40: =IF(AND(B40>0,U40=""),1,IF(U40>B40,1,0)) -> 0 | CO40: =IF((X40+AB40)>B40,1,0) -> 0
A41: Psiquiatría Pediátrica y de La Adolescencia | B41: =SUM(C41:T41) -> 1001 | C41: =SUM(ENERO:DICIEMBRE!C41) -> 8 | D41: =SUM(ENERO:DICIEMBRE!D41) -> 95 | E41: =SUM(ENERO:DICIEMBRE!E41) -> 368 | F41: =SUM(ENERO:DICIEMBRE!F41) -> 521 | G41: =SUM(ENERO:DICIEMBRE!G41) -> 9 | H41: =SUM(ENERO:DICIEMBRE!H41) -> 0 | I41: =SUM(ENERO:DICIEMBRE!I41) -> 0 | J41: =SUM(ENERO:DICIEMBRE!J41) -> 0 | ... W41: =SUM(ENERO:DICIEMBRE!W41) -> 621 | X41: =SUM(Y41+Z41+AA41) -> 252 | Y41: =SUM(ENERO:DICIEMBRE!Y41) -> 128 | Z41: =SUM(ENERO:DICIEMBRE!Z41) -> 87 | AA41: =SUM(ENERO:DICIEMBRE!AA41) -> 37 | AB41: =SUM(AC41+AD41+AE41) -> 1 | AC41: =SUM(ENERO:DICIEMBRE!AC41) -> 0 | AD41: =SUM(ENERO:DICIEMBRE!AD41) -> 1 | AE41: =SUM(ENERO:DICIEMBRE!AE41) -> 0 | AF41: =SUM(ENERO:DICIEMBRE!AF41) -> 280 | AG41: =SUM(ENERO:DICIEMBRE!AG41) -> 0 | AH41: =CB41&CC41&CD41 | CB41: =IF(V41+W41<>B41," * La suma por Sexo (Hombres + Mujeres) NO DEBEN ser diferente al Total","") | CC41: =IF(AND(B41>0,U41="")," * No olvide digitar la variable Beneficiarios. Digite CERO si no tiene",IF(U41>B41," * La variable Beneficiarios No puede ser mayor al Total.","")) | CD41: =IF((X41+AB41)>B41," * La suma del Total de Consultas Nuevas según Origen NO DEBE ser MAYOR que el total de Consultas y Controles médicos.","") | CM41: =IF(V41+W41<>B41,1,0) -> 0 | CN41: =IF(AND(B41>0,U41=""),1,IF(U41>B41,1,0)) -> 0 | CO41: =IF((X41+AB41)>B41,1,0) -> 0
A42: Psiquiatría Adulto | B42: =SUM(C42:T42) -> 3938 | C42: =SUM(ENERO:DICIEMBRE!C42) -> 0 | D42: =SUM(ENERO:DICIEMBRE!D42) -> 2 | E42: =SUM(ENERO:DICIEMBRE!E42) -> 4 | F42: =SUM(ENERO:DICIEMBRE!F42) -> 27 | G42: =SUM(ENERO:DICIEMBRE!G42) -> 76 | H42: =SUM(ENERO:DICIEMBRE!H42) -> 391 | I42: =SUM(ENERO:DICIEMBRE!I42) -> 325 | J42: =SUM(ENERO:DICIEMBRE!J42) -> 392 | ... W42: =SUM(ENERO:DICIEMBRE!W42) -> 2362 | X42: =SUM(Y42+Z42+AA42) -> 116 | Y42: =SUM(ENERO:DICIEMBRE!Y42) -> 49 | Z42: =SUM(ENERO:DICIEMBRE!Z42) -> 66 | AA42: =SUM(ENERO:DICIEMBRE!AA42) -> 1 | AB42: =SUM(AC42+AD42+AE42) -> 710 | AC42: =SUM(ENERO:DICIEMBRE!AC42) -> 170 | AD42: =SUM(ENERO:DICIEMBRE!AD42) -> 472 | AE42: =SUM(ENERO:DICIEMBRE!AE42) -> 68 | AF42: =SUM(ENERO:DICIEMBRE!AF42) -> 18 | AG42: =SUM(ENERO:DICIEMBRE!AG42) -> 1119 | AH42: =CB42&CC42&CD42 | CB42: =IF(V42+W42<>B42," * La suma por Sexo (Hombres + Mujeres) NO DEBEN ser diferente al Total","") | CC42: =IF(AND(B42>0,U42="")," * No olvide digitar la variable Beneficiarios. Digite CERO si no tiene",IF(U42>B42," * La variable Beneficiarios No puede ser mayor al Total.","")) | CD42: =IF((X42+AB42)>B42," * La suma del Total de Consultas Nuevas según Origen NO DEBE ser MAYOR que el total de Consultas y Controles médicos.","") | CM42: =IF(V42+W42<>B42,1,0) -> 0 | CN42: =IF(AND(B42>0,U42=""),1,IF(U42>B42,1,0)) -> 0 | CO42: =IF((X42+AB42)>B42,1,0) -> 0
A43: Cirugía Pediátrica | B43: =SUM(C43:T43) -> 1730 | C43: =SUM(ENERO:DICIEMBRE!C43) -> 612 | D43: =SUM(ENERO:DICIEMBRE!D43) -> 810 | E43: =SUM(ENERO:DICIEMBRE!E43) -> 296 | F43: =SUM(ENERO:DICIEMBRE!F43) -> 12 | G43: =SUM(ENERO:DICIEMBRE!G43) -> 0 | H43: =SUM(ENERO:DICIEMBRE!H43) -> 0 | I43: =SUM(ENERO:DICIEMBRE!I43) -> 0 | J43: =SUM(ENERO:DICIEMBRE!J43) -> 0 | ... W43: =SUM(ENERO:DICIEMBRE!W43) -> 215 | X43: =SUM(Y43+Z43+AA43) -> 698 | Y43: =SUM(ENERO:DICIEMBRE!Y43) -> 325 | Z43: =SUM(ENERO:DICIEMBRE!Z43) -> 366 | AA43: =SUM(ENERO:DICIEMBRE!AA43) -> 7 | AB43: =SUM(AC43+AD43+AE43) -> 32 | AC43: =SUM(ENERO:DICIEMBRE!AC43) -> 21 | AD43: =SUM(ENERO:DICIEMBRE!AD43) -> 11 | AE43: =SUM(ENERO:DICIEMBRE!AE43) -> 0 | AF43: =SUM(ENERO:DICIEMBRE!AF43) -> 0 | AG43: =SUM(ENERO:DICIEMBRE!AG43) -> 0 | AH43: =CB43&CC43&CD43 | CB43: =IF(V43+W43<>B43," * La suma por Sexo (Hombres + Mujeres) NO DEBEN ser diferente al Total","") | CC43: =IF(AND(B43>0,U43="")," * No olvide digitar la variable Beneficiarios. Digite CERO si no tiene",IF(U43>B43," * La variable Beneficiarios No puede ser mayor al Total.","")) | CD43: =IF((X43+AB43)>B43," * La suma del Total de Consultas Nuevas según Origen NO DEBE ser MAYOR que el total de Consultas y Controles médicos.","") | CM43: =IF(V43+W43<>B43,1,0) -> 0 | CN43: =IF(AND(B43>0,U43=""),1,IF(U43>B43,1,0)) -> 0 | CO43: =IF((X43+AB43)>B43,1,0) -> 0
A44: Cirugía General | B44: =SUM(C44:T44) -> 9140 | C44: =SUM(ENERO:DICIEMBRE!C44) -> 0 | D44: =SUM(ENERO:DICIEMBRE!D44) -> 0 | E44: =SUM(ENERO:DICIEMBRE!E44) -> 1 | F44: =SUM(ENERO:DICIEMBRE!F44) -> 79 | G44: =SUM(ENERO:DICIEMBRE!G44) -> 63 | H44: =SUM(ENERO:DICIEMBRE!H44) -> 155 | I44: =SUM(ENERO:DICIEMBRE!I44) -> 221 | J44: =SUM(ENERO:DICIEMBRE!J44) -> 304 | ... W44: =SUM(ENERO:DICIEMBRE!W44) -> 5721 | X44: =SUM(Y44+Z44+AA44) -> 33 | Y44: =SUM(ENERO:DICIEMBRE!Y44) -> 20 | Z44: =SUM(ENERO:DICIEMBRE!Z44) -> 12 | AA44: =SUM(ENERO:DICIEMBRE!AA44) -> 1 | AB44: =SUM(AC44+AD44+AE44) -> 3548 | AC44: =SUM(ENERO:DICIEMBRE!AC44) -> 1937 | AD44: =SUM(ENERO:DICIEMBRE!AD44) -> 1605 | AE44: =SUM(ENERO:DICIEMBRE!AE44) -> 6 | AF44: =SUM(ENERO:DICIEMBRE!AF44) -> 2 | AG44: =SUM(ENERO:DICIEMBRE!AG44) -> 126 | AH44: =CB44&CC44&CD44 | CB44: =IF(V44+W44<>B44," * La suma por Sexo (Hombres + Mujeres) NO DEBEN ser diferente al Total","") | CC44: =IF(AND(B44>0,U44="")," * No olvide digitar la variable Beneficiarios. Digite CERO si no tiene",IF(U44>B44," * La variable Beneficiarios No puede ser mayor al Total.","")) | CD44: =IF((X44+AB44)>B44," * La suma del Total de Consultas Nuevas según Origen NO DEBE ser MAYOR que el total de Consultas y Controles médicos.","") | CM44: =IF(V44+W44<>B44,1,0) -> 0 | CN44: =IF(AND(B44>0,U44=""),1,IF(U44>B44,1,0)) -> 0 | CO44: =IF((X44+AB44)>B44,1,0) -> 0
A45: Cirugía Digestiva (Alta) | B45: =SUM(C45:T45) -> 397 | C45: =SUM(ENERO:DICIEMBRE!C45) -> 0 | D45: =SUM(ENERO:DICIEMBRE!D45) -> 0 | E45: =SUM(ENERO:DICIEMBRE!E45) -> 0 | F45: =SUM(ENERO:DICIEMBRE!F45) -> 2 | G45: =SUM(ENERO:DICIEMBRE!G45) -> 0 | H45: =SUM(ENERO:DICIEMBRE!H45) -> 3 | I45: =SUM(ENERO:DICIEMBRE!I45) -> 4 | J45: =SUM(ENERO:DICIEMBRE!J45) -> 10 | ... W45: =SUM(ENERO:DICIEMBRE!W45) -> 202 | X45: =SUM(Y45+Z45+AA45) -> 1 | Y45: =SUM(ENERO:DICIEMBRE!Y45) -> 0 | Z45: =SUM(ENERO:DICIEMBRE!Z45) -> 1 | AA45: =SUM(ENERO:DICIEMBRE!AA45) -> 0 | AB45: =SUM(AC45+AD45+AE45) -> 240 | AC45: =SUM(ENERO:DICIEMBRE!AC45) -> 68 | AD45: =SUM(ENERO:DICIEMBRE!AD45) -> 170 | AE45: =SUM(ENERO:DICIEMBRE!AE45) -> 2 | AF45: =SUM(ENERO:DICIEMBRE!AF45) -> 0 | AG45: =SUM(ENERO:DICIEMBRE!AG45) -> 0 | AH45: =CB45&CC45&CD45 | CB45: =IF(V45+W45<>B45," * La suma por Sexo (Hombres + Mujeres) NO DEBEN ser diferente al Total","") | CC45: =IF(AND(B45>0,U45="")," * No olvide digitar la variable Beneficiarios. Digite CERO si no tiene",IF(U45>B45," * La variable Beneficiarios No puede ser mayor al Total.","")) | CD45: =IF((X45+AB45)>B45," * La suma del Total de Consultas Nuevas según Origen NO DEBE ser MAYOR que el total de Consultas y Controles médicos.","") | CM45: =IF(V45+W45<>B45,1,0) -> 0 | CN45: =IF(AND(B45>0,U45=""),1,IF(U45>B45,1,0)) -> 0 | CO45: =IF((X45+AB45)>B45,1,0) -> 0
A46: Cirugía de Cabeza, Cuello y Maxilofacial | B46: =SUM(C46:T46) -> 0 | C46: =SUM(ENERO:DICIEMBRE!C46) -> 0 | D46: =SUM(ENERO:DICIEMBRE!D46) -> 0 | E46: =SUM(ENERO:DICIEMBRE!E46) -> 0 | F46: =SUM(ENERO:DICIEMBRE!F46) -> 0 | G46: =SUM(ENERO:DICIEMBRE!G46) -> 0 | H46: =SUM(ENERO:DICIEMBRE!H46) -> 0 | I46: =SUM(ENERO:DICIEMBRE!I46) -> 0 | J46: =SUM(ENERO:DICIEMBRE!J46) -> 0 | ... W46: =SUM(ENERO:DICIEMBRE!W46) -> 0 | X46: =SUM(Y46+Z46+AA46) -> 0 | Y46: =SUM(ENERO:DICIEMBRE!Y46) -> 0 | Z46: =SUM(ENERO:DICIEMBRE!Z46) -> 0 | AA46: =SUM(ENERO:DICIEMBRE!AA46) -> 0 | AB46: =SUM(AC46+AD46+AE46) -> 0 | AC46: =SUM(ENERO:DICIEMBRE!AC46) -> 0 | AD46: =SUM(ENERO:DICIEMBRE!AD46) -> 0 | AE46: =SUM(ENERO:DICIEMBRE!AE46) -> 0 | AF46: =SUM(ENERO:DICIEMBRE!AF46) -> 0 | AG46: =SUM(ENERO:DICIEMBRE!AG46) -> 0 | AH46: =CB46&CC46&CD46 | CB46: =IF(V46+W46<>B46," * La suma por Sexo (Hombres + Mujeres) NO DEBEN ser diferente al Total","") | CC46: =IF(AND(B46>0,U46="")," * No olvide digitar la variable Beneficiarios. Digite CERO si no tiene",IF(U46>B46," * La variable Beneficiarios No puede ser mayor al Total.","")) | CD46: =IF((X46+AB46)>B46," * La suma del Total de Consultas Nuevas según Origen NO DEBE ser MAYOR que el total de Consultas y Controles médicos.","") | CM46: =IF(V46+W46<>B46,1,0) -> 0 | CN46: =IF(AND(B46>0,U46=""),1,IF(U46>B46,1,0)) -> 0 | CO46: =IF((X46+AB46)>B46,1,0) -> 0
A47: Cirugía Plástica y Reparadora | B47: =SUM(C47:T47) -> 0 | C47: =SUM(ENERO:DICIEMBRE!C47) -> 0 | D47: =SUM(ENERO:DICIEMBRE!D47) -> 0 | E47: =SUM(ENERO:DICIEMBRE!E47) -> 0 | F47: =SUM(ENERO:DICIEMBRE!F47) -> 0 | G47: =SUM(ENERO:DICIEMBRE!G47) -> 0 | H47: =SUM(ENERO:DICIEMBRE!H47) -> 0 | I47: =SUM(ENERO:DICIEMBRE!I47) -> 0 | J47: =SUM(ENERO:DICIEMBRE!J47) -> 0 | ... W47: =SUM(ENERO:DICIEMBRE!W47) -> 0 | X47: =SUM(Y47+Z47+AA47) -> 0 | Y47: =SUM(ENERO:DICIEMBRE!Y47) -> 0 | Z47: =SUM(ENERO:DICIEMBRE!Z47) -> 0 | AA47: =SUM(ENERO:DICIEMBRE!AA47) -> 0 | AB47: =SUM(AC47+AD47+AE47) -> 0 | AC47: =SUM(ENERO:DICIEMBRE!AC47) -> 0 | AD47: =SUM(ENERO:DICIEMBRE!AD47) -> 0 | AE47: =SUM(ENERO:DICIEMBRE!AE47) -> 0 | AF47: =SUM(ENERO:DICIEMBRE!AF47) -> 0 | AG47: =SUM(ENERO:DICIEMBRE!AG47) -> 0 | AH47: =CB47&CC47&CD47 | CB47: =IF(V47+W47<>B47," * La suma por Sexo (Hombres + Mujeres) NO DEBEN ser diferente al Total","") | CC47: =IF(AND(B47>0,U47="")," * No olvide digitar la variable Beneficiarios. Digite CERO si no tiene",IF(U47>B47," * La variable Beneficiarios No puede ser mayor al Total.","")) | CD47: =IF((X47+AB47)>B47," * La suma del Total de Consultas Nuevas según Origen NO DEBE ser MAYOR que el total de Consultas y Controles médicos.","") | CM47: =IF(V47+W47<>B47,1,0) -> 0 | CN47: =IF(AND(B47>0,U47=""),1,IF(U47>B47,1,0)) -> 0 | CO47: =IF((X47+AB47)>B47,1,0) -> 0
... A66: Radioterapia Oncológica | B66: =SUM(C66:T66) -> 0 | C66: =SUM(ENERO:DICIEMBRE!C66) -> 0 | D66: =SUM(ENERO:DICIEMBRE!D66) -> 0 | E66: =SUM(ENERO:DICIEMBRE!E66) -> 0 | F66: =SUM(ENERO:DICIEMBRE!F66) -> 0 | G66: =SUM(ENERO:DICIEMBRE!G66) -> 0 | H66: =SUM(ENERO:DICIEMBRE!H66) -> 0 | I66: =SUM(ENERO:DICIEMBRE!I66) -> 0 | J66: =SUM(ENERO:DICIEMBRE!J66) -> 0 | ... W66: =SUM(ENERO:DICIEMBRE!W66) -> 0 | X66: =SUM(Y66+Z66+AA66) -> 0 | Y66: =SUM(ENERO:DICIEMBRE!Y66) -> 0 | Z66: =SUM(ENERO:DICIEMBRE!Z66) -> 0 | AA66: =SUM(ENERO:DICIEMBRE!AA66) -> 0 | AB66: =SUM(AC66+AD66+AE66) -> 0 | AC66: =SUM(ENERO:DICIEMBRE!AC66) -> 0 | AD66: =SUM(ENERO:DICIEMBRE!AD66) -> 0 | AE66: =SUM(ENERO:DICIEMBRE!AE66) -> 0 | AF66: =SUM(ENERO:DICIEMBRE!AF66) -> 0 | AG66: =SUM(ENERO:DICIEMBRE!AG66) -> 0 | AH66: =CB66&CC66&CD66 | CB66: =IF(V66+W66<>B66," * La suma por Sexo (Hombres + Mujeres) NO DEBEN ser diferente al Total","") | CC66: =IF(AND(B66>0,U66="")," * No olvide digitar la variable Beneficiarios. Digite CERO si no tiene",IF(U66>B66," * La variable Beneficiarios No puede ser mayor al Total.","")) | CD66: =IF((X66+AB66)>B66," * La suma del Total de Consultas Nuevas según Origen NO DEBE ser MAYOR que el total de Consultas y Controles médicos.","") | CM66: =IF(V66+W66<>B66,1,0) -> 0 | CN66: =IF(AND(B66>0,U66=""),1,IF(U66>B66,1,0)) -> 0 | CO66: =IF((X66+AB66)>B66,1,0) -> 0
...

Sheet ENERO
A1: SERVICIO DE SALUD
A2: =CONCATENATE("COMUNA: ",[2]NOMBRE!B2, " (",[2]NOMBRE!C2,[2]NOMBRE!D2,[2]NOMBRE!E2,[2]NOMBRE!F2,[2]NOMBRE!G2,")") -> COMUNA: LINARES (07401)
A3: =CONCATENATE("ESTABLECIMIENTO/ESTRATEGIA: ", [2]NOMBRE!B3, " (",[2]NOMBRE!C3,[2]NOMBRE!D3,[2]NOMBRE!E3,[2]NOMBRE!F3,[2]NOMBRE!G3,[2]NOMBRE!H3,")") -> ESTABLECIMIENTO/ESTRATEGIA: HOSPITAL PRESIDENTE CARLOS IBAÑEZ DEL CAMPO (116108)
A4: =CONCATENATE("MES: ",[2]NOMBRE!B6, " (",[2]NOMBRE!C6,[2]NOMBRE!D6,")") -> MES: ENERO (01)
A5: =CONCATENATE("AÑO: ",[2]NOMBRE!B7) -> AÑO: 2025
A6: REM-07. ATENCIÓN DE ESPECIALIDADES
A8: SECCIÓN A : CONSULTAS MÉDICAS DE ESPECIALIDAD
A9: ESPECIALIDADES Y SUB-ESPECIALIDADES | B9: CONSULTAS Y CONTROLES MÉDICOS | X9: CONSULTAS NUEVAS SEGÚN ORIGEN | AF9: Consultas de Especialidades resueltas por Médico General
B10: TOTAL | C10: RANGO ETARIO | U10: Beneficiarios | V10: Por Sexo | X10: Menores 18 años | AB10: De 18 y más años
C11: 0 - 4 años | D11: 5 - 9 años | E11: 10 - 14 años | F11: 15 - 17 años | G11: 18 - 19 años | H11: 20 - 24 años | I11: 25 - 29 años | J11: 30 - 34 años | K11: 35 - 39 años | L11: 40 - 44 años | M11: 45 - 49 años | N11: 50 - 54 años | O11: 55 - 59 años | P11: 60 - 64 años | Q11: 65 - 69 años | R11: 70 - 74 años | S11: 75 - 79 años | T11: 80 y más años | V11: Hombres | W11: Mujeres | X11: Total | Y11: APS | Z11: CAE/CDT/CRS/Hospitalización | AA11: Urgencia | AB11: Total | AC11: APS | AD11: CAE/CDT/CRS/Hospitalización | AE11: Urgencia | AF11: Menor 18 años | AG11: De 18 y más años
A12: Pediatría | B12: =SUM(C12:T12) -> 327 | C12: 147 | D12: 92 | E12: 77 | F12: 9 | G12: 0 | H12: 2 | I12: 0 | J12: 0 | K12: 0 | L12: 0 | M12: 0 | N12: 0 | O12: 0 | P12: 0 | Q12: 0 | R12: 0 | S12: 0 | T12: 0 | U12: 327 | V12: 146 | W12: 181 | X12: =SUM(Y12+Z12+AA12) -> 89 | Y12: 26 | Z12: 63 | AA12: 0 | AB12: =SUM(AC12+AD12+AE12) -> 34 | AC12: 12 | AD12: 22 | AE12: 0 | AF12: 0 | AG12: 0 | AH12: =CB12&CC12&CD12 | CB12: =IF(V12+W12<>B12," * La suma por Sexo (Hombres + Mujeres) NO DEBEN ser diferente al Total","") | CC12: =IF(AND(B12>0,U12="")," * No olvide digitar la variable Beneficiarios. Digite CERO si no tiene",IF(U12>B12," * La variable Beneficiarios No puede ser mayor al Total.","")) | CD12: =IF((X12+AB12)>B12," * La suma del Total de Consultas Nuevas según Origen NO DEBE ser MAYOR que el total de Consultas y Controles médicos.","") | CM12: =IF(V12+W12<>B12,1,0) -> 0 | CN12: =IF(AND(B12>0,U12=""),1,IF(U12>B12,1,0)) -> 0 | CO12: =IF((X12+AB12)>B12,1,0) -> 0
A13: Medicina Interna | B13: =SUM(C13:T13) -> 816 | C13: 0 | D13: 0 | E13: 0 | F13: 7 | G13: 6 | H13: 18 | I13: 28 | J13: 36 | K13: 60 | L13: 44 | M13: 49 | N13: 48 | O13: 71 | P13: 93 | Q13: 102 | R13: 90 | S13: 67 | T13: 97 | U13: 816 | V13: 319 | W13: 497 | X13: =SUM(Y13+Z13+AA13) -> 2 | Y13: 1 | Z13: 1 | AA13: 0 | AB13: =SUM(AC13+AD13+AE13) -> 275 | AC13: 74 | AD13: 201 | AE13: 0 | AF13: 0 | AG13: 50 | AH13: =CB13&CC13&CD13 | CB13: =IF(V13+W13<>B13," * La suma por Sexo (Hombres + Mujeres) NO DEBEN ser diferente al Total","") | CC13: =IF(AND(B13>0,U13="")," * No olvide digitar la variable Beneficiarios. Digite CERO si no tiene",IF(U13>B13," * La variable Beneficiarios No puede ser mayor al Total.","")) | CD13: =IF((X13+AB13)>B13," * La suma del Total de Consultas Nuevas según Origen NO DEBE ser MAYOR que el total de Consultas y Controles médicos.","") | CM13: =IF(V13+W13<>B13,1,0) -> 0 | CN13: =IF(AND(B13>0,U13=""),1,IF(U13>B13,1,0)) -> 0 | CO13: =IF((X13+AB13)>B13,1,0) -> 0
A14: Neonatología | B14: =SUM(C14:D14) -> 0 | X14: =SUM(Y14+Z14+AA14) -> 0 | Y14: 0 | Z14: 0 | AA14: 0 | AB14: =SUM(AC14+AD14+AE14) -> 0 | AC14: 0 | AD14: 0 | AE14: 0 | AF14: 0 | AG14: 0 | AH14: =CB14&CC14&CD14 | CB14: =IF(V14+W14<>B14," * La suma por Sexo (Hombres + Mujeres) NO DEBEN ser diferente al Total","") | CC14: =IF(AND(B14>0,U14="")," * No olvide digitar la variable Beneficiarios. Digite CERO si no tiene",IF(U14>B14," * La variable Beneficiarios No puede ser mayor al Total.","")) | CD14: =IF((X14+AB14)>B14," * La suma del Total de Consultas Nuevas según Origen NO DEBE ser MAYOR que el total de Consultas y Controles médicos.","") | CM14: =IF(V14+W14<>B14,1,0) -> 0 | CN14: =IF(AND(B14>0,U14=""),1,IF(U14>B14,1,0)) -> 0 | CO14: =IF((X14+AB14)>B14,1,0) -> 0
A15: Enfermedad Respiratoria Pediátrica (Broncopulmonar Infantil) | B15: =SUM(C15:T15) -> 50 | C15: 27 | D15: 13 | E15: 8 | F15: 2 | G15: 0 | H15: 0 | I15: 0 | J15: 0 | K15: 0 | L15: 0 | M15: 0 | N15: 0 | O15: 0 | P15: 0 | Q15: 0 | R15: 0 | S15: 0 | T15: 0 | U15: 50 | V15: 28 | W15: 22 | X15: =SUM(Y15+Z15+AA15) -> 7 | Y15: 3 | Z15: 4 | AA15: 0 | AB15: =SUM(AC15+AD15+AE15) -> 3 | AC15: 1 | AD15: 2 | AE15: 0 | AF15: 0 | AG15: 0 | AH15: =CB15&CC15&CD15 | CB15: =IF(V15+W15<>B15," * La suma por Sexo (Hombres + Mujeres) NO DEBEN ser diferente al Total","") | CC15: =IF(AND(B15>0,U15="")," * No olvide digitar la variable Beneficiarios. Digite CERO si no tiene",IF(U15>B15," * La variable Beneficiarios No puede ser mayor al Total.","")) | CD15: =IF((X15+AB15)>B15," * La suma del Total de Consultas Nuevas según Origen NO DEBE ser MAYOR que el total de Consultas y Controles médicos.","") | CM15: =IF(V15+W15<>B15,1,0) -> 0 | CN15: =IF(AND(B15>0,U15=""),1,IF(U15>B15,1,0)) -> 0 | CO15: =IF((X15+AB15)>B15,1,0) -> 0
A16: Enfermedad Respiratoria de Adulto (Broncopulmonar) | B16: =SUM(C16:T16) -> 143 | C16: 0 | D16: 0 | E16: 0 | F16: 2 | G16: 1 | H16: 5 | I16: 2 | J16: 0 | K16: 1 | L16: 1 | M16: 2 | N16: 6 | O16: 7 | P16: 20 | Q16: 22 | R16: 27 | S16: 22 | T16: 25 | U16: 143 | V16: 68 | W16: 75 | X16: =SUM(Y16+Z16+AA16) -> 1 | Y16: 0 | Z16: 1 | AA16: 0 | AB16: =SUM(AC16+AD16+AE16) -> 49 | AC16: 34 | AD16: 15 | AE16: 0 | AF16: 0 | AG16: 0 | AH16: =CB16&CC16&CD16 | CB16: =IF(V16+W16<>B16," * La suma por Sexo (Hombres + Mujeres) NO DEBEN ser diferente al Total","") | CC16: =IF(AND(B16>0,U16="")," * No olvide digitar la variable Beneficiarios. Digite CERO si no tiene",IF(U16>B16," * La variable Beneficiarios No puede ser mayor al Total.","")) | CD16: =IF((X16+AB16)>B16," * La suma del Total de Consultas Nuevas según Origen NO DEBE ser MAYOR que el total de Consultas y Controles médicos.","") | CM16: =IF(V16+W16<>B16,1,0) -> 0 | CN16: =IF(AND(B16>0,U16=""),1,IF(U16>B16,1,0)) -> 0 | CO16: =IF((X16+AB16)>B16,1,0) -> 0
A17: Cardiología | B17: =SUM(C17:T17) -> 276 | C17: 61 | D17: 30 | E17: 24 | F17: 3 | G17: 1 | H17: 3 | I17: 0 | J17: 1 | K17: 0 | L17: 2 | M17: 2 | N17: 8 | O17: 14 | P17: 25 | Q17: 27 | R17: 24 | S17: 15 | T17: 36 | U17: 276 | V17: 160 | W17: 116 | X17: =SUM(Y17+Z17+AA17) -> 29 | Y17: 14 | Z17: 15 | AA17: 0 | AB17: =SUM(AC17+AD17+AE17) -> 58 | AC17: 22 | AD17: 36 | AE17: 0 | AF17: 0 | AG17: 0 | AH17: =CB17&CC17&CD17 | CB17: =IF(V17+W17<>B17," * La suma por Sexo (Hombres + Mujeres) NO DEBEN ser diferente al Total","") | CC17: =IF(AND(B17>0,U17="")," * No olvide digitar la variable Beneficiarios. Digite CERO si no tiene",IF(U17>B17," * La variable Beneficiarios No puede ser mayor al Total.","")) | CD17: =IF((X17+AB17)>B17," * La suma del Total de Consultas Nuevas según Origen NO DEBE ser MAYOR que el total de Consultas y Controles médicos.","") | CM17: =IF(V17+W17<>B17,1,0) -> 0 | CN17: =IF(AND(B17>0,U17=""),1,IF(U17>B17,1,0)) -> 0 | CO17: =IF((X17+AB17)>B17,1,0) -> 0
A18: Mastología | B18: =SUM(C18:T18) -> 112 | C18: 0 | D18: 0 | E18: 0 | F18: 0 | G18: 0 | H18: 2 | I18: 6 | J18: 3 | K18: 7 | L18: 8 | M18: 15 | N18: 10 | O18: 17 | P18: 13 | Q18: 14 | R18: 11 | S18: 3 | T18: 3 | U18: 112 | V18: 0 | W18: 112 | X18: =SUM(Y18+Z18+AA18) -> 0 | Y18: 0 | Z18: 0 | AA18: 0 | AB18: =SUM(AC18+AD18+AE18) -> 24 | AC18: 15 | AD18: 8 | AE18: 1 | AF18: 0 | AG18: 0 | AH18: =CB18&CC18&CD18 | CB18: =IF(V18+W18<>B18," * La suma por Sexo (Hombres + Mujeres) NO DEBEN ser diferente al Total","") | CC18: =IF(AND(B18>0,U18="")," * No olvide digitar la variable Beneficiarios. Digite CERO si no tiene",IF(U18>B18," * La variable Beneficiarios No puede ser mayor al Total.","")) | CD18: =IF((X18+AB18)>B18," * La suma del Total de Consultas Nuevas según Origen NO DEBE ser MAYOR que el total de Consultas y Controles médicos.","") | CM18: =IF(V18+W18<>B18,1,0) -> 0 | CN18: =IF(AND(B18>0,U18=""),1,IF(U18>B18,1,0)) -> 0 | CO18: =IF((X18+AB18)>B18,1,0) -> 0
A19: Endocrinología Pediátrica | B19: =SUM(C19:T19) -> 0 | X19: =SUM(Y19+Z19+AA19) -> 0 | Y19: 0 | Z19: 0 | AA19: 0 | AB19: =SUM(AC19+AD19+AE19) -> 0 | AC19: 0 | AD19: 0 | AE19: 0 | AF19: 0 | AG19: 0 | AH19: =CB19&CC19&CD19 | CB19: =IF(V19+W19<>B19," * La suma por Sexo (Hombres + Mujeres) NO DEBEN ser diferente al Total","") | CC19: =IF(AND(B19>0,U19="")," * No olvide digitar la variable Beneficiarios. Digite CERO si no tiene",IF(U19>B19," * La variable Beneficiarios No puede ser mayor al Total.","")) | CD19: =IF((X19+AB19)>B19," * La suma del Total de Consultas Nuevas según Origen NO DEBE ser MAYOR que el total de Consultas y Controles médicos.","") | CM19: =IF(V19+W19<>B19,1,0) -> 0 | CN19: =IF(AND(B19>0,U19=""),1,IF(U19>B19,1,0)) -> 0 | CO19: =IF((X19+AB19)>B19,1,0) -> 0
A20: Endocrinología Adulto | B20: =SUM(C20:T20) -> 0 | X20: =SUM(Y20+Z20+AA20) -> 0 | Y20: 0 | Z20: 0 | AA20: 0 | AB20: =SUM(AC20+AD20+AE20) -> 0 | AC20: 0 | AD20: 0 | AE20: 0 | AF20: 0 | AG20: 0 | AH20: =CB20&CC20&CD20 | CB20: =IF(V20+W20<>B20," * La suma por Sexo (Hombres + Mujeres) NO DEBEN ser diferente al Total","") | CC20: =IF(AND(B20>0,U20="")," * No olvide digitar la variable Beneficiarios. Digite CERO si no tiene",IF(U20>B20," * La variable Beneficiarios No puede ser mayor al Total.","")) | CD20: =IF((X20+AB20)>B20," * La suma del Total de Consultas Nuevas según Origen NO DEBE ser MAYOR que el total de Consultas y Controles médicos.","") | CM20: =IF(V20+W20<>B20,1,0) -> 0 | CN20: =IF(AND(B20>0,U20=""),1,IF(U20>B20,1,0)) -> 0 | CO20: =IF((X20+AB20)>B20,1,0) -> 0
A21: Gastroenterología Pediátrica | B21: =SUM(C21:T21) -> 0 | X21: =SUM(Y21+Z21+AA21) -> 0 | Y21: 0 | Z21: 0 | AA21: 0 | AB21: =SUM(AC21+AD21+AE21) -> 0 | AC21: 0 | AD21: 0 | AE21: 0 | AF21: 0 | AG21: 0 | AH21: =CB21&CC21&CD21 | CB21: =IF(V21+W21<>B21," * La suma por Sexo (Hombres + Mujeres) NO DEBEN ser diferente al Total","") | CC21: =IF(AND(B21>0,U21="")," * No olvide digitar la variable Beneficiarios. Digite CERO si no tiene",IF(U21>B21," * La variable Beneficiarios No puede ser mayor al Total.","")) | CD21: =IF((X21+AB21)>B21," * La suma del Total de Consultas Nuevas según Origen NO DEBE ser MAYOR que el total de Consultas y Controles médicos.","") | CM21: =IF(V21+W21<>B21,1,0) -> 0 | CN21: =IF(AND(B21>0,U21=""),1,IF(U21>B21,1,0)) -> 0 | CO21: =IF((X21+AB21)>B21,1,0) -> 0
A22: Gastroenterología Adulto | B22: =SUM(C22:T22) -> 133 | C22: 0 | D22: 0 | E22: 0 | F22: 0 | G22: 1 | H22: 2 | I22: 2 | J22: 1 | K22: 5 | L22: 11 | M22: 9 | N22: 10 | O22: 11 | P22: 17 | Q22: 16 | R22: 19 | S22: 11 | T22: 18 | U22: 133 | V22: 53 | W22: 80 | X22: =SUM(Y22+Z22+AA22) -> 0 | Y22: 0 | Z22: 0 | AA22: 0 | AB22: =SUM(AC22+AD22+AE22) -> 68 | AC22: 34 | AD22: 34 | AE22: 0 | AF22: 0 | AG22: 0 | AH22: =CB22&CC22&CD22 | CB22: =IF(V22+W22<>B22," * La suma por Sexo (Hombres + Mujeres) NO DEBEN ser diferente al Total","") | CC22: =IF(AND(B22>0,U22="")," * No olvide digitar la variable Beneficiarios. Digite CERO si no tiene",IF(U22>B22," * La variable Beneficiarios No puede ser mayor al Total.","")) | CD22: =IF((X22+AB22)>B22," * La suma del Total de Consultas Nuevas según Origen NO DEBE ser MAYOR que el total de Consultas y Controles médicos.","") | CM22: =IF(V22+W22<>B22,1,0) -> 0 | CN22: =IF(AND(B22>0,U22=""),1,IF(U22>B22,1,0)) -> 0 | CO22: =IF((X22+AB22)>B22,1,0) -> 0
A23: Genética Clínica | B23: =SUM(C23:T23) -> 0 | X23: =SUM(Y23+Z23+AA23) -> 0 | Y23: 0 | Z23: 0 | AA23: 0 | AB23: =SUM(AC23+AD23+AE23) -> 0 | AC23: 0 | AD23: 0 | AE23: 0 | AF23: 0 | AG23: 0 | AH23: =CB23&CC23&CD23 | CB23: =IF(V23+W23<>B23," * La suma por Sexo (Hombres + Mujeres) NO DEBEN ser diferente al Total","") | CC23: =IF(AND(B23>0,U23="")," * No olvide digitar la variable Beneficiarios. Digite CERO si no tiene",IF(U23>B23," * La variable Beneficiarios No puede ser mayor al Total.","")) | CD23: =IF((X23+AB23)>B23," * La suma del Total de Consultas Nuevas según Origen NO DEBE ser MAYOR que el total de Consultas y Controles médicos.","") | CM23: =IF(V23+W23<>B23,1,0) -> 0 | CN23: =IF(AND(B23>0,U23=""),1,IF(U23>B23,1,0)) -> 0 | CO23: =IF((X23+AB23)>B23,1,0) -> 0
A24: Hematología | B24: =SUM(C24:T24) -> 0 | X24: =SUM(Y24+Z24+AA24) -> 0 | Y24: 0 | Z24: 0 | AA24: 0 | AB24: =SUM(AC24+AD24+AE24) -> 0 | AC24: 0 | AD24: 0 | AE24: 0 | AF24: 0 | AG24: 0 | AH24: =CB24&CC24&CD24 | CB24: =IF(V24+W24<>B24," * La suma por Sexo (Hombres + Mujeres) NO DEBEN ser diferente al Total","") | CC24: =IF(AND(B24>0,U24="")," * No olvide digitar la variable Beneficiarios. Digite CERO si no tiene",IF(U24>B24," * La variable Beneficiarios No puede ser mayor al Total.","")) | CD24: =IF((X24+AB24)>B24," * La suma del Total de Consultas Nuevas según Origen NO DEBE ser MAYOR que el total de Consultas y Controles médicos.","") | CM24: =IF(V24+W24<>B24,1,0) -> 0 | CN24: =IF(AND(B24>0,U24=""),1,IF(U24>B24,1,0)) -> 0 | CO24: =IF((X24+AB24)>B24,1,0) -> 0
A25: Medicina del adolescente | B25: =SUM(C25:T25) -> 0 | X25: =SUM(Y25+Z25+AA25) -> 0 | Y25: 0 | Z25: 0 | AA25: 0 | AB25: =SUM(AC25+AD25+AE25) -> 0 | AC25: 0 | AD25: 0 | AE25: 0 | AF25: 0 | AG25: 0 | AH25: =CB25&CC25&CD25 | CB25: =IF(V25+W25<>B25," * La suma por Sexo (Hombres + Mujeres) NO DEBEN ser diferente al Total","") | CC25: =IF(AND(B25>0,U25="")," * No olvide digitar la variable Beneficiarios. Digite CERO si no tiene",IF(U25>B25," * La variable Beneficiarios No puede ser mayor al Total.","")) | CD25: =IF((X25+AB25)>B25," * La suma del Total de Consultas Nuevas según Origen NO DEBE ser MAYOR que el total de Consultas y Controles médicos.","") | CM25: =IF(V25+W25<>B25,1,0) -> 0 | CN25: =IF(AND(B25>0,U25=""),1,IF(U25>B25,1,0)) -> 0 | CO25: =IF((X25+AB25)>B25,1,0) -> 0
A26: Nefrología Pediátrica | B26: =SUM(C26:T26) -> 0 | X26: =SUM(Y26+Z26+AA26) -> 0 | Y26: 0 | Z26: 0 | AA26: 0 | AB26: =SUM(AC26+AD26+AE26) -> 0 | AC26: 0 | AD26: 0 | AE26: 0 | AF26: 0 | AG26: 0 | AH26: =CB26&CC26&CD26 | CB26: =IF(V26+W26<>B26," * La suma por Sexo (Hombres + Mujeres) NO DEBEN ser diferente al Total","") | CC26: =IF(AND(B26>0,U26="")," * No olvide digitar la variable Beneficiarios. Digite CERO si no tiene",IF(U26>B26," * La variable Beneficiarios No puede ser mayor al Total.","")) | CD26: =IF((X26+AB26)>B26," * La suma del Total de Consultas Nuevas según Origen NO DEBE ser MAYOR que el total de Consultas y Controles médicos.","") | CM26: =IF(V26+W26<>B26,1,0) -> 0 | CN26: =IF(AND(B26>0,U26=""),1,IF(U26>B26,1,0)) -> 0 | CO26: =IF((X26+AB26)>B26,1,0) -> 0
A27: Nefrología Adulto | B27: =SUM(C27:T27) -> 0 | X27: =SUM(Y27+Z27+AA27) -> 0 | Y27: 0 | Z27: 0 | AA27: 0 | AB27: =SUM(AC27+AD27+AE27) -> 0 | AC27: 0 | AD27: 0 | AE27: 0 | AF27: 0 | AG27: 0 | AH27: =CB27&CC27&CD27 | CB27: =IF(V27+W27<>B27," * La suma por Sexo (Hombres + Mujeres) NO DEBEN ser diferente al Total","") | CC27: =IF(AND(B27>0,U27="")," * No olvide digitar la variable Beneficiarios. Digite CERO si no tiene",IF(U27>B27," * La variable Beneficiarios No puede ser mayor al Total.","")) | CD27: =IF((X27+AB27)>B27," * La suma del Total de Consultas Nuevas según Origen NO DEBE ser MAYOR que el total de Consultas y Controles médicos.","") | CM27: =IF(V27+W27<>B27,1,0) -> 0 | CN27: =IF(AND(B27>0,U27=""),1,IF(U27>B27,1,0)) -> 0 | CO27: =IF((X27+AB27)>B27,1,0) -> 0
A28: Nutrición clínica | B28: =SUM(C28:T28) -> 0 | X28: =SUM(Y28+Z28+AA28) -> 0 | Y28: 0 | Z28: 0 | AA28: 0 | AB28: =SUM(AC28+AD28+AE28) -> 0 | AC28: 0 | AD28: 0 | AE28: 0 | AF28: 0 | AG28: 0 | AH28: =CB28&CC28&CD28 | CB28: =IF(V28+W28<>B28," * La suma por Sexo (Hombres + Mujeres) NO DEBEN ser diferente al Total","") | CC28: =IF(AND(B28>0,U28="")," * No olvide digitar la variable Beneficiarios. Digite CERO si no tiene",IF(U28>B28," * La variable Beneficiarios No puede ser mayor al Total.","")) | CD28: =IF((X28+AB28)>B28," * La suma del Total de Consultas Nuevas según Origen NO DEBE ser MAYOR que el total de Consultas y Controles médicos.","") | CM28: =IF(V28+W28<>B28,1,0) -> 0 | CN28: =IF(AND(B28>0,U28=""),1,IF(U28>B28,1,0)) -> 0 | CO28: =IF((X28+AB28)>B28,1,0) -> 0
A29: Medicina Materno Infantil | B29: =SUM(C29:T29) -> 0 | X29: =SUM(Y29+Z29+AA29) -> 0 | Y29: 0 | Z29: 0 | AA29: 0 | AB29: =SUM(AC29+AD29+AE29) -> 0 | AC29: 0 | AD29: 0 | AE29: 0 | AF29: 0 | AG29: 0 | AH29: =CB29&CC29&CD29 | CB29: =IF(V29+W29<>B29," * La suma por Sexo (Hombres + Mujeres) NO DEBEN ser diferente al Total","") | CC29: =IF(AND(B29>0,U29="")," * No olvide digitar la variable Beneficiarios. Digite CERO si no tiene",IF(U29>B29," * La variable Beneficiarios No puede ser mayor al Total.","")) | CD29: =IF((X29+AB29)>B29," * La suma del Total de Consultas Nuevas según Origen NO DEBE ser MAYOR que el total de Consultas y Controles médicos.","") | CM29: =IF(V29+W29<>B29,1,0) -> 0 | CN29: =IF(AND(B29>0,U29=""),1,IF(U29>B29,1,0)) -> 0 | CO29: =IF((X29+AB29)>B29,1,0) -> 0
