Workbook

Sheet CONSOLIDADO
A1: SERVICIO DE SALUD
A2: =CONCATENATE("COMUNA: ",[1]NOMBRE!B2, " (",[1]NOMBRE!C2,[1]NOMBRE!D2,[1]NOMBRE!E2,[1]NOMBRE!F2,[1]NOMBRE!G2,")") -> COMUNA: 0 (00000)
A3: =CONCATENATE("ESTABLECIMIENTO/ESTRATEGIA: ", [1]NOMBRE!B3, " (",[1]NOMBRE!C3,[1]NOMBRE!D3,[1]NOMBRE!E3,[1]NOMBRE!F3,[1]NOMBRE!G3,[1]NOMBRE!H3,")") -> ESTABLECIMIENTO/ESTRATEGIA: 0 (000000)
A4: =CONCATENATE("MES: ",[1]NOMBRE!B6, " (",[1]NOMBRE!C6,[1]NOMBRE!D6,")") -> MES: 0 (00)
A5: =CONCATENATE("AÑO: ",[1]NOMBRE!B7) -> AÑO: 2025
A6: REM-06. PROGRAMA DE SALUD MENTAL ATENCIÓN PRIMARIA Y ESPECIALIDADES
A8: SECCIÓN A.1: CONTROLES DE ATENCIÓN PRIMARIA / ESPECIALIDADES
A9: ACTIVIDAD | B9: PROFESIONAL | C9: TOTAL | F9: RANGO ETARIO Y SEXO | AN9: Beneficiarios | AO9: Niños, Niñas, Adolescentes y Jóvenes SENAME | AP9: Niños, Niñas, Adolescentes y Jóvenes Mejor Niñez | AQ9: Pueblos Originarios | AR9: Migrantes | AS9: Demencia | AT9: TRANS | AV9: Cuidadores de personas con demencia
F10: 0 - 4 años | H10: 5 - 9 años | J10: 10 - 14 años | L10: 15 - 19 años | N10: 20 - 24 años | P10: 25 - 29 años | R10: 30 - 34 años | T10: 35 - 39 años | V10: 40 - 44 años | X10: 45 - 49 años | Z10: 50 - 54 años | AB10: 55 - 59 años | AD10: 60 - 64 años | AF10: 65 - 69 años | AH10: 70 - 74 años | AJ10: 75 - 79 años | AL10: 80 y más años | AT10: Masculino | AU10: Femenino
C11: Ambos Sexos | D11: Hombres | E11: Mujeres | F11: Hombres | G11: Mujeres | H11: Hombres | I11: Mujeres | J11: Hombres | K11: Mujeres | L11: Hombres | M11: Mujeres | N11: Hombres | O11: Mujeres | P11: Hombres | Q11: Mujeres | R11: Hombres | S11: Mujeres | T11: Hombres | U11: Mujeres | V11: Hombres | W11: Mujeres | X11: Hombres | Y11: Mujeres | Z11: Hombres | AA11: Mujeres | AB11: Hombres | AC11: Mujeres | AD11: Hombres | AE11: Mujeres | AF11: Hombres | AG11: Mujeres | AH11: Hombres | AI11: Mujeres | AJ11: Hombres | AK11: Mujeres | AL11: Hombres | AM11: Mujeres
A12: Controles Salud Mental | B12: Médico/a | C12: =SUM(D12+E12) -> 0 | D12: =SUM(F12+H12+J12+L12+N12+P12+R12+T12+V12+X12+Z12+AB12+AD12+AF12+AH12+AJ12+AL12) -> 0 | E12: =SUM(G12+I12+K12+M12+O12+Q12+S12+U12+W12+Y12+AA12+AC12+AE12+AG12+AI12+AK12+AM12) -> 0 | F12: =SUM(ENERO:DICIEMBRE!F12) -> 0 | G12: =SUM(ENERO:DICIEMBRE!G12) -> 0 | H12: =SUM(ENERO:DICIEMBRE!H12) -> 0 | I12: =SUM(ENERO:DICIEMBRE!I12) -> 0 | J12: =SUM(ENERO:DICIEMBRE!J12) -> 0 | K12: =SUM(ENERO:DICIEMBRE!K12) -> 0 | L12: =SUM(ENERO:DICIEMBRE!L12) -> 0 | M12: =SUM(ENERO:DICIEMBRE!M12) -> 0 | ... AV12: =SUM(ENERO:DICIEMBRE!AV12) -> 0 | AW12: =CA12&CB12&CC12&CD12&CE12&CF12&CG12&CH12&CI12 | CA12: =IF(AND($C12>0,AN12="")," * No olvide digitar la variable Beneficiarios. Digite Cero si no tiene.",IF(AN12>$C12," * La variable Beneficiarios No puede ser mayor al Total Ambos Sexos.","")) | CB12: =IF(AND($C12>0,AO12="")," * No olvide digitar la variable Niños, Niñas, adolescentes y Jóvenes SENAME. Digite Cero si no tiene.",IF(AO12>$C12," * La variable Niños, Niñas, adolescentes y Jóvenes SENAME No puede ser mayor al Total Ambos Sexos.","")) | CC12: =IF(AND($C12>0,AP12="")," * No olvide digitar la variable Niños, Niñas, adolescentes y Jóvenes Mejor Niñez. Digite Cero si no tiene.",IF(AP12>$C12," * La variable Niños, Niñas, adolescentes y Jóvenes Mejor Niñez No puede ser mayor al Total Ambos Sexos.","")) | CD12: =IF(AND($C12>0,AQ12="")," * No olvide digitar la variable Pueblos originarios. Digite Cero si no tiene.",IF(AQ12>$C12," * La variable Pueblos Originarios No puede ser mayor al Total Ambos Sexos.","")) | CE12: =IF(AND($C12>0,AR12="")," * No olvide digitar la variable Migrantes. Digite Cero si no tiene.",IF(AR12>$C12," * La variable Migrantes No puede ser mayor al Total Ambos Sexos.","")) | CF12: =IF(AND($C12>0,AS12="")," * No olvide digitar la variable Demencia. Digite Cero si no tiene.",IF(AS12>$C12," * La variable Demencia No puede ser mayor al Total Ambos Sexos.","")) | CG12: =IF(AND($E12>0,OR(AT12=""))," * No olvide digitar la variable Trans (Masculino). Digite Cero si no tiene.",IF((AT12)>$E12," * La variable Trans (Masculino) No puede ser mayor al Total Mujeres.","")) | CH12: =IF(AND(D12>0,OR(AU12=""))," * No olvide digitar la variable Trans (Femenino). Digite Cero si no tiene.",IF((AU12)>D12," * La variable Trans (Femenino) No puede ser mayor al Total Hombres.","")) | CI12: =IF(AND($C12>0,AV12="")," * No olvide digitar la variable Cuidadores de personas con demencia. Digite Cero si no tiene.",IF(AV12>$C12," * La variable Cuidadores de personas con demencia No puede ser mayor al Total Ambos Sexos.","")) | CK12: =IF(AND($C12>0,AN12=""),1,IF(AN12>$C12,1,0)) -> 0 | CL12: =IF(AND($C12>0,AO12=""),1,IF(AO12>$C12,1,0)) -> 0 | CM12: =IF(AND($C12>0,AP12=""),1,IF(AP12>$C12,1,0)) -> 0 | CN12: =IF(AND($C12>0,AQ12=""),1,IF(AQ12>$C12,1,0)) -> 0 | CO12: =IF(AND($C12>0,AR12=""),1,IF(AR12>$C12,1,0)) -> 0 | CP12: =IF(AND($C12>0,AS12=""),1,IF(AS12>$C12,1,0)) -> 0 | CQ12: =IF(AND($E12>0,OR(AT12="")),1,IF((AT12)>$E12,1,0)) -> 0 | CR12: =IF(AND($D12>0,OR(AU12="")),1,IF((AU12)>$D12,1,0)) -> 0 | CS12: =IF(AND($C12>0,AV12=""),1,IF(AV12>$C12,1,0)) -> 0
B13: Psicólogo/a | C13: =SUM(D13+E13) -> 1776 | D13: =SUM(F13+H13+J13+L13+N13+P13+R13+T13+V13+X13+Z13+AB13+AD13+AF13+AH13+AJ13+AL13) -> 419 | E13: =SUM(G13+I13+K13+M13+O13+Q13+S13+U13+W13+Y13+AA13+AC13+AE13+AG13+AI13+AK13+AM13) -> 1357 | F13: =SUM(ENERO:DICIEMBRE!F13) -> 0 | G13: =SUM(ENERO:DICIEMBRE!G13) -> 2 | H13: =SUM(ENERO:DICIEMBRE!H13) -> 9 | I13: =SUM(ENERO:DICIEMBRE!I13) -> 16 | J13: =SUM(ENERO:DICIEMBRE!J13) -> 89 | K13: =SUM(ENERO:DICIEMBRE!K13) -> 384 | L13: =SUM(ENERO:DICIEMBRE!L13) -> 179 | M13: =SUM(ENERO:DICIEMBRE!M13) -> 654 | ... AV13: =SUM(ENERO:DICIEMBRE!AV13) -> 0 | AW13: =CA13&CB13&CC13&CD13&CE13&CF13&CG13&CH13&CI13 | CA13: =IF(AND($C13>0,AN13="")," * No olvide digitar la variable Beneficiarios. Digite Cero si no tiene.",IF(AN13>$C13," * La variable Beneficiarios No puede ser mayor al Total Ambos Sexos.","")) | CB13: =IF(AND($C13>0,AO13="")," * No olvide digitar la variable Niños, Niñas, adolescentes y Jóvenes SENAME. Digite Cero si no tiene.",IF(AO13>$C13," * La variable Niños, Niñas, adolescentes y Jóvenes SENAME No puede ser mayor al Total Ambos Sexos.","")) | CC13: =IF(AND($C13>0,AP13="")," * No olvide digitar la variable Niños, Niñas, adolescentes y Jóvenes Mejor Niñez. Digite Cero si no tiene.",IF(AP13>$C13," * La variable Niños, Niñas, adolescentes y Jóvenes Mejor Niñez No puede ser mayor al Total Ambos Sexos.","")) | CD13: =IF(AND($C13>0,AQ13="")," * No olvide digitar la variable Pueblos originarios. Digite Cero si no tiene.",IF(AQ13>$C13," * La variable Pueblos Originarios No puede ser mayor al Total Ambos Sexos.","")) | CE13: =IF(AND($C13>0,AR13="")," * No olvide digitar la variable Migrantes. Digite Cero si no tiene.",IF(AR13>$C13," * La variable Migrantes No puede ser mayor al Total Ambos Sexos.","")) | CF13: =IF(AND($C13>0,AS13="")," * No olvide digitar la variable Demencia. Digite Cero si no tiene.",IF(AS13>$C13," * La variable Demencia No puede ser mayor al Total Ambos Sexos.","")) | CG13: =IF(AND($E13>0,OR(AT13=""))," * No olvide digitar la variable Trans (Masculino). Digite Cero si no tiene.",IF((AT13)>$E13," * La variable Trans (Masculino) No puede ser mayor al Total Mujeres.","")) | CH13: =IF(AND(D13>0,OR(AU13=""))," * No olvide digitar la variable Trans (Femenino). Digite Cero si no tiene.",IF((AU13)>D13," * La variable Trans (Femenino) No puede ser mayor al Total Hombres.","")) | CI13: =IF(AND($C13>0,AV13="")," * No olvide digitar la variable Cuidadores de personas con demencia. Digite Cero si no tiene.",IF(AV13>$C13," * La variable Cuidadores de personas con demencia No puede ser mayor al Total Ambos Sexos.","")) | CK13: =IF(AND(C13>0,AN13=""),1,IF(AN13>C13,1,0)) -> 0 | CL13: =IF(AND(C13>0,AO13=""),1,IF(AO13>C13,1,0)) -> 0 | CM13: =IF(AND(C13>0,AP13=""),1,IF(AP13>C13,1,0)) -> 0 | CN13: =IF(AND(C13>0,AQ13=""),1,IF(AQ13>C13,1,0)) -> 0 | CO13: =IF(AND(C13>0,AR13=""),1,IF(AR13>C13,1,0)) -> 0 | CP13: =IF(AND(C13>0,AS13=""),1,IF(AS13>C13,1,0)) -> 0 | CQ13: =IF(AND(E13>0,OR(AT13="")),1,IF((AT13)>E13,1,0)) -> 0 | CR13: =IF(AND(D13>0,OR(AU13="")),1,IF((AU13)>D13,1,0)) -> 0 | CS13: =IF(AND($C13>0,AV13=""),1,IF(AV13>$C13,1,0)) -> 0
B14: Enfermera/o | C14: =SUM(D14+E14) -> 2731 | D14: =SUM(F14+H14+J14+L14+N14+P14+R14+T14+V14+X14+Z14+AB14+AD14+AF14+AH14+AJ14+AL14) -> 1296 | E14: =SUM(G14+I14+K14+M14+O14+Q14+S14+U14+W14+Y14+AA14+AC14+AE14+AG14+AI14+AK14+AM14) -> 1435 | F14: =SUM(ENERO:DICIEMBRE!F14) -> 0 | G14: =SUM(ENERO:DICIEMBRE!G14) -> 0 | H14: =SUM(ENERO:DICIEMBRE!H14) -> 0 | I14: =SUM(ENERO:DICIEMBRE!I14) -> 0 | J14: =SUM(ENERO:DICIEMBRE!J14) -> 1 | K14: =SUM(ENERO:DICIEMBRE!K14) -> 3 | L14: =SUM(ENERO:DICIEMBRE!L14) -> 15 | M14: =SUM(ENERO:DICIEMBRE!M14) -> 34 | ... AV14: =SUM(ENERO:DICIEMBRE!AV14) -> 0 | AW14: =CA14&CB14&CC14&CD14&CE14&CF14&CG14&CH14&CI14 | CA14: =IF(AND($C14>0,AN14="")," * No olvide digitar la variable Beneficiarios. Digite Cero si no tiene.",IF(AN14>$C14," * La variable Beneficiarios No puede ser mayor al Total Ambos Sexos.","")) | CB14: =IF(AND($C14>0,AO14="")," * No olvide digitar la variable Niños, Niñas, adolescentes y Jóvenes SENAME. Digite Cero si no tiene.",IF(AO14>$C14," * La variable Niños, Niñas, adolescentes y Jóvenes SENAME No puede ser mayor al Total Ambos Sexos.","")) | CC14: =IF(AND($C14>0,AP14="")," * No olvide digitar la variable Niños, Niñas, adolescentes y Jóvenes Mejor Niñez. Digite Cero si no tiene.",IF(AP14>$C14," * La variable Niños, Niñas, adolescentes y Jóvenes Mejor Niñez No puede ser mayor al Total Ambos Sexos.","")) | CD14: =IF(AND($C14>0,AQ14="")," * No olvide digitar la variable Pueblos originarios. Digite Cero si no tiene.",IF(AQ14>$C14," * La variable Pueblos Originarios No puede ser mayor al Total Ambos Sexos.","")) | CE14: =IF(AND($C14>0,AR14="")," * No olvide digitar la variable Migrantes. Digite Cero si no tiene.",IF(AR14>$C14," * La variable Migrantes No puede ser mayor al Total Ambos Sexos.","")) | CF14: =IF(AND($C14>0,AS14="")," * No olvide digitar la variable Demencia. Digite Cero si no tiene.",IF(AS14>$C14," * La variable Demencia No puede ser mayor al Total Ambos Sexos.","")) | CG14: =IF(AND($E14>0,OR(AT14=""))," * No olvide digitar la variable Trans (Masculino). Digite Cero si no tiene.",IF((AT14)>$E14," * La variable Trans (Masculino) No puede ser mayor al Total Mujeres.","")) | CH14: =IF(AND(D14>0,OR(AU14=""))," * No olvide digitar la variable Trans (Femenino). Digite Cero si no tiene.",IF((AU14)>D14," * La variable Trans (Femenino) No puede ser mayor al Total Hombres.","")) | CI14: =IF(AND($C14>0,AV14="")," * No olvide digitar la variable Cuidadores de personas con demencia. Digite Cero si no tiene.",IF(AV14>$C14," * La variable Cuidadores de personas con demencia No puede ser mayor al Total Ambos Sexos.","")) | CK14: =IF(AND(C14>0,AN14=""),1,IF(AN14>C14,1,0)) -> 0 | CL14: =IF(AND(C14>0,AO14=""),1,IF(AO14>C14,1,0)) -> 0 | CM14: =IF(AND(C14>0,AP14=""),1,IF(AP14>C14,1,0)) -> 0 | CN14: =IF(AND(C14>0,AQ14=""),1,IF(AQ14>C14,1,0)) -> 0 | CO14: =IF(AND(C14>0,AR14=""),1,IF(AR14>C14,1,0)) -> 0 | CP14: =IF(AND(C14>0,AS14=""),1,IF(AS14>C14,1,0)) -> 0 | CQ14: =IF(AND(E14>0,OR(AT14="")),1,IF((AT14)>E14,1,0)) -> 0 | CR14: =IF(AND(D14>0,OR(AU14="")),1,IF((AU14)>D14,1,0)) -> 0 | CS14: =IF(AND($C14>0,AV14=""),1,IF(AV14>$C14,1,0)) -> 0
B15: Matrona/ón | C15: =SUM(D15+E15) -> 0 | D15: =SUM(F15+H15+J15+L15+N15+P15+R15+T15+V15+X15+Z15+AB15+AD15+AF15+AH15+AJ15+AL15) -> 0 | E15: =SUM(G15+I15+K15+M15+O15+Q15+S15+U15+W15+Y15+AA15+AC15+AE15+AG15+AI15+AK15+AM15) -> 0 | F15: =SUM(ENERO:DICIEMBRE!F15) -> 0 | G15: =SUM(ENERO:DICIEMBRE!G15) -> 0 | H15: =SUM(ENERO:DICIEMBRE!H15) -> 0 | I15: =SUM(ENERO:DICIEMBRE!I15) -> 0 | J15: =SUM(ENERO:DICIEMBRE!J15) -> 0 | K15: =SUM(ENERO:DICIEMBRE!K15) -> 0 | L15: =SUM(ENERO:DICIEMBRE!L15) -> 0 | M15: =SUM(ENERO:DICIEMBRE!M15) -> 0 | ... AV15: =SUM(ENERO:DICIEMBRE!AV15) -> 0 | AW15: =CA15&CB15&CC15&CD15&CE15&CF15&CG15&CH15&CI15 | CA15: =IF(AND($C15>0,AN15="")," * No olvide digitar la variable Beneficiarios. Digite Cero si no tiene.",IF(AN15>$C15," * La variable Beneficiarios No puede ser mayor al Total Ambos Sexos.","")) | CB15: =IF(AND($C15>0,AO15="")," * No olvide digitar la variable Niños, Niñas, adolescentes y Jóvenes SENAME. Digite Cero si no tiene.",IF(AO15>$C15," * La variable Niños, Niñas, adolescentes y Jóvenes SENAME No puede ser mayor al Total Ambos Sexos.","")) | CC15: =IF(AND($C15>0,AP15="")," * No olvide digitar la variable Niños, Niñas, adolescentes y Jóvenes Mejor Niñez. Digite Cero si no tiene.",IF(AP15>$C15," * La variable Niños, Niñas, adolescentes y Jóvenes Mejor Niñez No puede ser mayor al Total Ambos Sexos.","")) | CD15: =IF(AND($C15>0,AQ15="")," * No olvide digitar la variable Pueblos originarios. Digite Cero si no tiene.",IF(AQ15>$C15," * La variable Pueblos Originarios No puede ser mayor al Total Ambos Sexos.","")) | CE15: =IF(AND($C15>0,AR15="")," * No olvide digitar la variable Migrantes. Digite Cero si no tiene.",IF(AR15>$C15," * La variable Migrantes No puede ser mayor al Total Ambos Sexos.","")) | CF15: =IF(AND($C15>0,AS15="")," * No olvide digitar la variable Demencia. Digite Cero si no tiene.",IF(AS15>$C15," * La variable Demencia No puede ser mayor al Total Ambos Sexos.","")) | CG15: =IF(AND($E15>0,OR(AT15=""))," * No olvide digitar la variable Trans (Masculino). Digite Cero si no tiene.",IF((AT15)>$E15," * La variable Trans (Masculino) No puede ser mayor al Total Mujeres.","")) | CH15: =IF(AND(D15>0,OR(AU15=""))," * No olvide digitar la variable Trans (Femenino). Digite Cero si no tiene.",IF((AU15)>D15," * La variable Trans (Femenino) No puede ser mayor al Total Hombres.","")) | CI15: =IF(AND($C15>0,AV15="")," * No olvide digitar la variable Cuidadores de personas con demencia. Digite Cero si no tiene.",IF(AV15>$C15," * La variable Cuidadores de personas con demencia No puede ser mayor al Total Ambos Sexos.","")) | CK15: =IF(AND(C15>0,AN15=""),1,IF(AN15>C15,1,0)) -> 0 | CL15: =IF(AND(C15>0,AO15=""),1,IF(AO15>C15,1,0)) -> 0 | CM15: =IF(AND(C15>0,AP15=""),1,IF(AP15>C15,1,0)) -> 0 | CN15: =IF(AND(C15>0,AQ15=""),1,IF(AQ15>C15,1,0)) -> 0 | CO15: =IF(AND(C15>0,AR15=""),1,IF(AR15>C15,1,0)) -> 0 | CP15: =IF(AND(C15>0,AS15=""),1,IF(AS15>C15,1,0)) -> 0 | CQ15: =IF(AND(E15>0,OR(AT15="")),1,IF((AT15)>E15,1,0)) -> 0 | CR15: =IF(AND(D15>0,OR(AU15="")),1,IF((AU15)>D15,1,0)) -> 0 | CS15: =IF(AND($C15>0,AV15=""),1,IF(AV15>$C15,1,0)) -> 0
B16: Trabajador/a Social | C16: =SUM(D16+E16) -> 2014 | D16: =SUM(F16+H16+J16+L16+N16+P16+R16+T16+V16+X16+Z16+AB16+AD16+AF16+AH16+AJ16+AL16) -> 776 | E16: =SUM(G16+I16+K16+M16+O16+Q16+S16+U16+W16+Y16+AA16+AC16+AE16+AG16+AI16+AK16+AM16) -> 1238 | F16: =SUM(ENERO:DICIEMBRE!F16) -> 1 | G16: =SUM(ENERO:DICIEMBRE!G16) -> 0 | H16: =SUM(ENERO:DICIEMBRE!H16) -> 8 | I16: =SUM(ENERO:DICIEMBRE!I16) -> 10 | J16: =SUM(ENERO:DICIEMBRE!J16) -> 61 | K16: =SUM(ENERO:DICIEMBRE!K16) -> 246 | L16: =SUM(ENERO:DICIEMBRE!L16) -> 146 | M16: =SUM(ENERO:DICIEMBRE!M16) -> 383 | ... AV16: =SUM(ENERO:DICIEMBRE!AV16) -> 0 | AW16: =CA16&CB16&CC16&CD16&CE16&CF16&CG16&CH16&CI16 | CA16: =IF(AND($C16>0,AN16="")," * No olvide digitar la variable Beneficiarios. Digite Cero si no tiene.",IF(AN16>$C16," * La variable Beneficiarios No puede ser mayor al Total Ambos Sexos.","")) | CB16: =IF(AND($C16>0,AO16="")," * No olvide digitar la variable Niños, Niñas, adolescentes y Jóvenes SENAME. Digite Cero si no tiene.",IF(AO16>$C16," * La variable Niños, Niñas, adolescentes y Jóvenes SENAME No puede ser mayor al Total Ambos Sexos.","")) | CC16: =IF(AND($C16>0,AP16="")," * No olvide digitar la variable Niños, Niñas, adolescentes y Jóvenes Mejor Niñez. Digite Cero si no tiene.",IF(AP16>$C16," * La variable Niños, Niñas, adolescentes y Jóvenes Mejor Niñez No puede ser mayor al Total Ambos Sexos.","")) | CD16: =IF(AND($C16>0,AQ16="")," * No olvide digitar la variable Pueblos originarios. Digite Cero si no tiene.",IF(AQ16>$C16," * La variable Pueblos Originarios No puede ser mayor al Total Ambos Sexos.","")) | CE16: =IF(AND($C16>0,AR16="")," * No olvide digitar la variable Migrantes. Digite Cero si no tiene.",IF(AR16>$C16," * La variable Migrantes No puede ser mayor al Total Ambos Sexos.","")) | CF16: =IF(AND($C16>0,AS16="")," * No olvide digitar la variable Demencia. Digite Cero si no tiene.",IF(AS16>$C16," * La variable Demencia No puede ser mayor al Total Ambos Sexos.","")) | CG16: =IF(AND($E16>0,OR(AT16=""))," * No olvide digitar la variable Trans (Masculino). Digite Cero si no tiene.",IF((AT16)>$E16," * La variable Trans (Masculino) No puede ser mayor al Total Mujeres.","")) | CH16: =IF(AND(D16>0,OR(AU16=""))," * No olvide digitar la variable Trans (Femenino). Digite Cero si no tiene.",IF((AU16)>D16," * La variable Trans (Femenino) No puede ser mayor al Total Hombres.","")) | CI16: =IF(AND($C16>0,AV16="")," * No olvide digitar la variable Cuidadores de personas con demencia. Digite Cero si no tiene.",IF(AV16>$C16," * La variable Cuidadores de personas con demencia No puede ser mayor al Total Ambos Sexos.","")) | CK16: =IF(AND(C16>0,AN16=""),1,IF(AN16>C16,1,0)) -> 0 | CL16: =IF(AND(C16>0,AO16=""),1,IF(AO16>C16,1,0)) -> 0 | CM16: =IF(AND(C16>0,AP16=""),1,IF(AP16>C16,1,0)) -> 0 | CN16: =IF(AND(C16>0,AQ16=""),1,IF(AQ16>C16,1,0)) -> 0 | CO16: =IF(AND(C16>0,AR16=""),1,IF(AR16>C16,1,0)) -> 0 | CP16: =IF(AND(C16>0,AS16=""),1,IF(AS16>C16,1,0)) -> 0 | CQ16: =IF(AND(E16>0,OR(AT16="")),1,IF((AT16)>E16,1,0)) -> 0 | CR16: =IF(AND(D16>0,OR(AU16="")),1,IF((AU16)>D16,1,0)) -> 0 | CS16: =IF(AND($C16>0,AV16=""),1,IF(AV16>$C16,1,0)) -> 0
B17: Otros Profesionales Capacitados (Salud Mental) | C17: =SUM(D17+E17) -> 0 | D17: =SUM(F17+H17+J17+L17+N17+P17+R17+T17+V17+X17+Z17+AB17+AD17+AF17+AH17+AJ17+AL17) -> 0 | E17: =SUM(G17+I17+K17+M17+O17+Q17+S17+U17+W17+Y17+AA17+AC17+AE17+AG17+AI17+AK17+AM17) -> 0 | F17: =SUM(ENERO:DICIEMBRE!F17) -> 0 | G17: =SUM(ENERO:DICIEMBRE!G17) -> 0 | H17: =SUM(ENERO:DICIEMBRE!H17) -> 0 | I17: =SUM(ENERO:DICIEMBRE!I17) -> 0 | J17: =SUM(ENERO:DICIEMBRE!J17) -> 0 | K17: =SUM(ENERO:DICIEMBRE!K17) -> 0 | L17: =SUM(ENERO:DICIEMBRE!L17) -> 0 | M17: =SUM(ENERO:DICIEMBRE!M17) -> 0 | ... AV17: =SUM(ENERO:DICIEMBRE!AV17) -> 0 | AW17: =CA17&CB17&CC17&CD17&CE17&CF17&CG17&CH17&CI17 | CA17: =IF(AND($C17>0,AN17="")," * No olvide digitar la variable Beneficiarios. Digite Cero si no tiene.",IF(AN17>$C17," * La variable Beneficiarios No puede ser mayor al Total Ambos Sexos.","")) | CB17: =IF(AND($C17>0,AO17="")," * No olvide digitar la variable Niños, Niñas, adolescentes y Jóvenes SENAME. Digite Cero si no tiene.",IF(AO17>$C17," * La variable Niños, Niñas, adolescentes y Jóvenes SENAME No puede ser mayor al Total Ambos Sexos.","")) | CC17: =IF(AND($C17>0,AP17="")," * No olvide digitar la variable Niños, Niñas, adolescentes y Jóvenes Mejor Niñez. Digite Cero si no tiene.",IF(AP17>$C17," * La variable Niños, Niñas, adolescentes y Jóvenes Mejor Niñez No puede ser mayor al Total Ambos Sexos.","")) | CD17: =IF(AND($C17>0,AQ17="")," * No olvide digitar la variable Pueblos originarios. Digite Cero si no tiene.",IF(AQ17>$C17," * La variable Pueblos Originarios No puede ser mayor al Total Ambos Sexos.","")) | CE17: =IF(AND($C17>0,AR17="")," * No olvide digitar la variable Migrantes. Digite Cero si no tiene.",IF(AR17>$C17," * La variable Migrantes No puede ser mayor al Total Ambos Sexos.","")) | CF17: =IF(AND($C17>0,AS17="")," * No olvide digitar la variable Demencia. Digite Cero si no tiene.",IF(AS17>$C17," * La variable Demencia No puede ser mayor al Total Ambos Sexos.","")) | CG17: =IF(AND($E17>0,OR(AT17=""))," * No olvide digitar la variable Trans (Masculino). Digite Cero si no tiene.",IF((AT17)>$E17," * La variable Trans (Masculino) No puede ser mayor al Total Mujeres.","")) | CH17: =IF(AND(D17>0,OR(AU17=""))," * No olvide digitar la variable Trans (Femenino). Digite Cero si no tiene.",IF((AU17)>D17," * La variable Trans (Femenino) No puede ser mayor al Total Hombres.","")) | CI17: =IF(AND($C17>0,AV17="")," * No olvide digitar la variable Cuidadores de personas con demencia. Digite Cero si no tiene.",IF(AV17>$C17," * La variable Cuidadores de personas con demencia No puede ser mayor al Total Ambos Sexos.","")) | CK17: =IF(AND(C17>0,AN17=""),1,IF(AN17>C17,1,0)) -> 0 | CL17: =IF(AND(C17>0,AO17=""),1,IF(AO17>C17,1,0)) -> 0 | CM17: =IF(AND(C17>0,AP17=""),1,IF(AP17>C17,1,0)) -> 0 | CN17: =IF(AND(C17>0,AQ17=""),1,IF(AQ17>C17,1,0)) -> 0 | CO17: =IF(AND(C17>0,AR17=""),1,IF(AR17>C17,1,0)) -> 0 | CP17: =IF(AND(C17>0,AS17=""),1,IF(AS17>C17,1,0)) -> 0 | CQ17: =IF(AND(E17>0,OR(AT17="")),1,IF((AT17)>E17,1,0)) -> 0 | CR17: =IF(AND(D17>0,OR(AU17="")),1,IF((AU17)>D17,1,0)) -> 0 | CS17: =IF(AND($C17>0,AV17=""),1,IF(AV17>$C17,1,0)) -> 0
B18: Terapeuta Ocupacional | C18: =SUM(D18+E18) -> 880 | D18: =SUM(F18+H18+J18+L18+N18+P18+R18+T18+V18+X18+Z18+AB18+AD18+AF18+AH18+AJ18+AL18) -> 479 | E18: =SUM(G18+I18+K18+M18+O18+Q18+S18+U18+W18+Y18+AA18+AC18+AE18+AG18+AI18+AK18+AM18) -> 401 | F18: =SUM(ENERO:DICIEMBRE!F18) -> 1 | G18: =SUM(ENERO:DICIEMBRE!G18) -> 21 | H18: =SUM(ENERO:DICIEMBRE!H18) -> 148 | I18: =SUM(ENERO:DICIEMBRE!I18) -> 69 | J18: =SUM(ENERO:DICIEMBRE!J18) -> 200 | K18: =SUM(ENERO:DICIEMBRE!K18) -> 110 | L18: =SUM(ENERO:DICIEMBRE!L18) -> 129 | M18: =SUM(ENERO:DICIEMBRE!M18) -> 201 | ... AV18: =SUM(ENERO:DICIEMBRE!AV18) -> 0 | AW18: =CA18&CB18&CC18&CD18&CE18&CF18&CG18&CH18&CI18 | CA18: =IF(AND($C18>0,AN18="")," * No olvide digitar la variable Beneficiarios. Digite Cero si no tiene.",IF(AN18>$C18," * La variable Beneficiarios No puede ser mayor al Total Ambos Sexos.","")) | CB18: =IF(AND($C18>0,AO18="")," * No olvide digitar la variable Niños, Niñas, adolescentes y Jóvenes SENAME. Digite Cero si no tiene.",IF(AO18>$C18," * La variable Niños, Niñas, adolescentes y Jóvenes SENAME No puede ser mayor al Total Ambos Sexos.","")) | CC18: =IF(AND($C18>0,AP18="")," * No olvide digitar la variable Niños, Niñas, adolescentes y Jóvenes Mejor Niñez. Digite Cero si no tiene.",IF(AP18>$C18," * La variable Niños, Niñas, adolescentes y Jóvenes Mejor Niñez No puede ser mayor al Total Ambos Sexos.","")) | CD18: =IF(AND($C18>0,AQ18="")," * No olvide digitar la variable Pueblos originarios. Digite Cero si no tiene.",IF(AQ18>$C18," * La variable Pueblos Originarios No puede ser mayor al Total Ambos Sexos.","")) | CE18: =IF(AND($C18>0,AR18="")," * No olvide digitar la variable Migrantes. Digite Cero si no tiene.",IF(AR18>$C18," * La variable Migrantes No puede ser mayor al Total Ambos Sexos.","")) | CF18: =IF(AND($C18>0,AS18="")," * No olvide digitar la variable Demencia. Digite Cero si no tiene.",IF(AS18>$C18," * La variable Demencia No puede ser mayor al Total Ambos Sexos.","")) | CG18: =IF(AND($E18>0,OR(AT18=""))," * No olvide digitar la variable Trans (Masculino). Digite Cero si no tiene.",IF((AT18)>$E18," * La variable Trans (Masculino) No puede ser mayor al Total Mujeres.","")) | CH18: =IF(AND(D18>0,OR(AU18=""))," * No olvide digitar la variable Trans (Femenino). Digite Cero si no tiene.",IF((AU18)>D18," * La variable Trans (Femenino) No puede ser mayor al Total Hombres.","")) | CI18: =IF(AND($C18>0,AV18="")," * No olvide digitar la variable Cuidadores de personas con demencia. Digite Cero si no tiene.",IF(AV18>$C18," * La variable Cuidadores de personas con demencia No puede ser mayor al Total Ambos Sexos.","")) | CK18: =IF(AND(C18>0,AN18=""),1,IF(AN18>C18,1,0)) -> 0 | CL18: =IF(AND(C18>0,AO18=""),1,IF(AO18>C18,1,0)) -> 0 | CM18: =IF(AND(C18>0,AP18=""),1,IF(AP18>C18,1,0)) -> 0 | CN18: =IF(AND(C18>0,AQ18=""),1,IF(AQ18>C18,1,0)) -> 0 | CO18: =IF(AND(C18>0,AR18=""),1,IF(AR18>C18,1,0)) -> 0 | CP18: =IF(AND(C18>0,AS18=""),1,IF(AS18>C18,1,0)) -> 0 | CQ18: =IF(AND(E18>0,OR(AT18="")),1,IF((AT18)>E18,1,0)) -> 0 | CR18: =IF(AND(D18>0,OR(AU18="")),1,IF((AU18)>D18,1,0)) -> 0 | CS18: =IF(AND($C18>0,AV18=""),1,IF(AV18>$C18,1,0)) -> 0
B19: Técnico en Enfermería en Salud Mental | C19: =SUM(D19+E19) -> 0 | D19: =SUM(F19+H19+J19+L19+N19+P19+R19+T19+V19+X19+Z19+AB19+AD19+AF19+AH19+AJ19+AL19) -> 0 | E19: =SUM(G19+I19+K19+M19+O19+Q19+S19+U19+W19+Y19+AA19+AC19+AE19+AG19+AI19+AK19+AM19) -> 0 | F19: =SUM(ENERO:DICIEMBRE!F19) -> 0 | G19: =SUM(ENERO:DICIEMBRE!G19) -> 0 | H19: =SUM(ENERO:DICIEMBRE!H19) -> 0 | I19: =SUM(ENERO:DICIEMBRE!I19) -> 0 | J19: =SUM(ENERO:DICIEMBRE!J19) -> 0 | K19: =SUM(ENERO:DICIEMBRE!K19) -> 0 | L19: =SUM(ENERO:DICIEMBRE!L19) -> 0 | M19: =SUM(ENERO:DICIEMBRE!M19) -> 0 | ... AV19: =SUM(ENERO:DICIEMBRE!AV19) -> 0 | AW19: =CA19&CB19&CC19&CD19&CE19&CF19&CG19&CH19&CI19 | CA19: =IF(AND($C19>0,AN19="")," * No olvide digitar la variable Beneficiarios. Digite Cero si no tiene.",IF(AN19>$C19," * La variable Beneficiarios No puede ser mayor al Total Ambos Sexos.","")) | CB19: =IF(AND($C19>0,AO19="")," * No olvide digitar la variable Niños, Niñas, adolescentes y Jóvenes SENAME. Digite Cero si no tiene.",IF(AO19>$C19," * La variable Niños, Niñas, adolescentes y Jóvenes SENAME No puede ser mayor al Total Ambos Sexos.","")) | CC19: =IF(AND($C19>0,AP19="")," * No olvide digitar la variable Niños, Niñas, adolescentes y Jóvenes Mejor Niñez. Digite Cero si no tiene.",IF(AP19>$C19," * La variable Niños, Niñas, adolescentes y Jóvenes Mejor Niñez No puede ser mayor al Total Ambos Sexos.","")) | CD19: =IF(AND($C19>0,AQ19="")," * No olvide digitar la variable Pueblos originarios. Digite Cero si no tiene.",IF(AQ19>$C19," * La variable Pueblos Originarios No puede ser mayor al Total Ambos Sexos.","")) | CE19: =IF(AND($C19>0,AR19="")," * No olvide digitar la variable Migrantes. Digite Cero si no tiene.",IF(AR19>$C19," * La variable Migrantes No puede ser mayor al Total Ambos Sexos.","")) | CF19: =IF(AND($C19>0,AS19="")," * No olvide digitar la variable Demencia. Digite Cero si no tiene.",IF(AS19>$C19," * La variable Demencia No puede ser mayor al Total Ambos Sexos.","")) | CG19: =IF(AND($E19>0,OR(AT19=""))," * No olvide digitar la variable Trans (Masculino). Digite Cero si no tiene.",IF((AT19)>$E19," * La variable Trans (Masculino) No puede ser mayor al Total Mujeres.","")) | CH19: =IF(AND(D19>0,OR(AU19=""))," * No olvide digitar la variable Trans (Femenino). Digite Cero si no tiene.",IF((AU19)>D19," * La variable Trans (Femenino) No puede ser mayor al Total Hombres.","")) | CI19: =IF(AND($C19>0,AV19="")," * No olvide digitar la variable Cuidadores de personas con demencia. Digite Cero si no tiene.",IF(AV19>$C19," * La variable Cuidadores de personas con demencia No puede ser mayor al Total Ambos Sexos.","")) | CK19: =IF(AND(C19>0,AN19=""),1,IF(AN19>C19,1,0)) -> 0 | CL19: =IF(AND(C19>0,AO19=""),1,IF(AO19>C19,1,0)) -> 0 | CM19: =IF(AND(C19>0,AP19=""),1,IF(AP19>C19,1,0)) -> 0 | CN19: =IF(AND(C19>0,AQ19=""),1,IF(AQ19>C19,1,0)) -> 0 | CO19: =IF(AND(C19>0,AR19=""),1,IF(AR19>C19,1,0)) -> 0 | CP19: =IF(AND(C19>0,AS19=""),1,IF(AS19>C19,1,0)) -> 0 | CQ19: =IF(AND(E19>0,OR(AT19="")),1,IF((AT19)>E19,1,0)) -> 0 | CR19: =IF(AND(D19>0,OR(AU19="")),1,IF((AU19)>D19,1,0)) -> 0 | CS19: =IF(AND($C19>0,AV19=""),1,IF(AV19>$C19,1,0)) -> 0
B20: Gestor Comunitario | C20: =SUM(D20+E20) -> 0 | D20: =SUM(F20+H20+J20+L20+N20+P20+R20+T20+V20+X20+Z20+AB20+AD20+AF20+AH20+AJ20+AL20) -> 0 | E20: =SUM(G20+I20+K20+M20+O20+Q20+S20+U20+W20+Y20+AA20+AC20+AE20+AG20+AI20+AK20+AM20) -> 0 | F20: =SUM(ENERO:DICIEMBRE!F20) -> 0 | G20: =SUM(ENERO:DICIEMBRE!G20) -> 0 | H20: =SUM(ENERO:DICIEMBRE!H20) -> 0 | I20: =SUM(ENERO:DICIEMBRE!I20) -> 0 | J20: =SUM(ENERO:DICIEMBRE!J20) -> 0 | K20: =SUM(ENERO:DICIEMBRE!K20) -> 0 | L20: =SUM(ENERO:DICIEMBRE!L20) -> 0 | M20: =SUM(ENERO:DICIEMBRE!M20) -> 0 | ... AV20: =SUM(ENERO:DICIEMBRE!AV20) -> 0 | AW20: =CA20&CB20&CC20&CD20&CE20&CF20&CG20&CH20&CI20 | CA20: =IF(AND($C20>0,AN20="")," * No olvide digitar la variable Beneficiarios. Digite Cero si no tiene.",IF(AN20>$C20," * La variable Beneficiarios No puede ser mayor al Total Ambos Sexos.","")) | CB20: =IF(AND($C20>0,AO20="")," * No olvide digitar la variable Niños, Niñas, adolescentes y Jóvenes SENAME. Digite Cero si no tiene.",IF(AO20>$C20," * La variable Niños, Niñas, adolescentes y Jóvenes SENAME No puede ser mayor al Total Ambos Sexos.","")) | CC20: =IF(AND($C20>0,AP20="")," * No olvide digitar la variable Niños, Niñas, adolescentes y Jóvenes Mejor Niñez. Digite Cero si no tiene.",IF(AP20>$C20," * La variable Niños, Niñas, adolescentes y Jóvenes Mejor Niñez No puede ser mayor al Total Ambos Sexos.","")) | CD20: =IF(AND($C20>0,AQ20="")," * No olvide digitar la variable Pueblos originarios. Digite Cero si no tiene.",IF(AQ20>$C20," * La variable Pueblos Originarios No puede ser mayor al Total Ambos Sexos.","")) | CE20: =IF(AND($C20>0,AR20="")," * No olvide digitar la variable Migrantes. Digite Cero si no tiene.",IF(AR20>$C20," * La variable Migrantes No puede ser mayor al Total Ambos Sexos.","")) | CF20: =IF(AND($C20>0,AS20="")," * No olvide digitar la variable Demencia. Digite Cero si no tiene.",IF(AS20>$C20," * La variable Demencia No puede ser mayor al Total Ambos Sexos.","")) | CG20: =IF(AND($E20>0,OR(AT20=""))," * No olvide digitar la variable Trans (Masculino). Digite Cero si no tiene.",IF((AT20)>$E20," * La variable Trans (Masculino) No puede ser mayor al Total Mujeres.","")) | CH20: =IF(AND(D20>0,OR(AU20=""))," * No olvide digitar la variable Trans (Femenino). Digite Cero si no tiene.",IF((AU20)>D20," * La variable Trans (Femenino) No puede ser mayor al Total Hombres.","")) | CI20: =IF(AND($C20>0,AV20="")," * No olvide digitar la variable Cuidadores de personas con demencia. Digite Cero si no tiene.",IF(AV20>$C20," * La variable Cuidadores de personas con demencia No puede ser mayor al Total Ambos Sexos.","")) | CK20: =IF(AND(C20>0,AN20=""),1,IF(AN20>C20,1,0)) -> 0 | CL20: =IF(AND(C20>0,AO20=""),1,IF(AO20>C20,1,0)) -> 0 | CM20: =IF(AND(C20>0,AP20=""),1,IF(AP20>C20,1,0)) -> 0 | CN20: =IF(AND(C20>0,AQ20=""),1,IF(AQ20>C20,1,0)) -> 0 | CO20: =IF(AND(C20>0,AR20=""),1,IF(AR20>C20,1,0)) -> 0 | CP20: =IF(AND(C20>0,AS20=""),1,IF(AS20>C20,1,0)) -> 0 | CQ20: =IF(AND(E20>0,OR(AT20="")),1,IF((AT20)>E20,1,0)) -> 0 | CR20: =IF(AND(D20>0,OR(AU20="")),1,IF((AU20)>D20,1,0)) -> 0 | CS20: =IF(AND($C20>0,AV20=""),1,IF(AV20>$C20,1,0)) -> 0
B21: Técnico Rehabilitación Alcohol y Drogas | C21: =SUM(D21+E21) -> 0 | D21: =SUM(F21+H21+J21+L21+N21+P21+R21+T21+V21+X21+Z21+AB21+AD21+AF21+AH21+AJ21+AL21) -> 0 | E21: =SUM(G21+I21+K21+M21+O21+Q21+S21+U21+W21+Y21+AA21+AC21+AE21+AG21+AI21+AK21+AM21) -> 0 | F21: =SUM(ENERO:DICIEMBRE!F21) -> 0 | G21: =SUM(ENERO:DICIEMBRE!G21) -> 0 | H21: =SUM(ENERO:DICIEMBRE!H21) -> 0 | I21: =SUM(ENERO:DICIEMBRE!I21) -> 0 | J21: =SUM(ENERO:DICIEMBRE!J21) -> 0 | K21: =SUM(ENERO:DICIEMBRE!K21) -> 0 | L21: =SUM(ENERO:DICIEMBRE!L21) -> 0 | M21: =SUM(ENERO:DICIEMBRE!M21) -> 0 | ... AV21: =SUM(ENERO:DICIEMBRE!AV21) -> 0 | AW21: =CA21&CB21&CC21&CD21&CE21&CF21&CG21&CH21&CI21 | CA21: =IF(AND($C21>0,AN21="")," * No olvide digitar la variable Beneficiarios. Digite Cero si no tiene.",IF(AN21>$C21," * La variable Beneficiarios No puede ser mayor al Total Ambos Sexos.","")) | CB21: =IF(AND($C21>0,AO21="")," * No olvide digitar la variable Niños, Niñas, adolescentes y Jóvenes SENAME. Digite Cero si no tiene.",IF(AO21>$C21," * La variable Niños, Niñas, adolescentes y Jóvenes SENAME No puede ser mayor al Total Ambos Sexos.","")) | CC21: =IF(AND($C21>0,AP21="")," * No olvide digitar la variable Niños, Niñas, adolescentes y Jóvenes Mejor Niñez. Digite Cero si no tiene.",IF(AP21>$C21," * La variable Niños, Niñas, adolescentes y Jóvenes Mejor Niñez No puede ser mayor al Total Ambos Sexos.","")) | CD21: =IF(AND($C21>0,AQ21="")," * No olvide digitar la variable Pueblos originarios. Digite Cero si no tiene.",IF(AQ21>$C21," * La variable Pueblos Originarios No puede ser mayor al Total Ambos Sexos.","")) | CE21: =IF(AND($C21>0,AR21="")," * No olvide digitar la variable Migrantes. Digite Cero si no tiene.",IF(AR21>$C21," * La variable Migrantes No puede ser mayor al Total Ambos Sexos.","")) | CF21: =IF(AND($C21>0,AS21="")," * No olvide digitar la variable Demencia. Digite Cero si no tiene.",IF(AS21>$C21," * La variable Demencia No puede ser mayor al Total Ambos Sexos.","")) | CG21: =IF(AND($E21>0,OR(AT21=""))," * No olvide digitar la variable Trans (Masculino). Digite Cero si no tiene.",IF((AT21)>$E21," * La variable Trans (Masculino) No puede ser mayor al Total Mujeres.","")) | CH21: =IF(AND(D21>0,OR(AU21=""))," * No olvide digitar la variable Trans (Femenino). Digite Cero si no tiene.",IF((AU21)>D21," * La variable Trans (Femenino) No puede ser mayor al Total Hombres.","")) | CI21: =IF(AND($C21>0,AV21="")," * No olvide digitar la variable Cuidadores de personas con demencia. Digite Cero si no tiene.",IF(AV21>$C21," * La variable Cuidadores de personas con demencia No puede ser mayor al Total Ambos Sexos.","")) | CK21: =IF(AND(C21>0,AN21=""),1,IF(AN21>C21,1,0)) -> 0 | CL21: =IF(AND(C21>0,AO21=""),1,IF(AO21>C21,1,0)) -> 0 | CM21: =IF(AND(C21>0,AP21=""),1,IF(AP21>C21,1,0)) -> 0 | CN21: =IF(AND(C21>0,AQ21=""),1,IF(AQ21>C21,1,0)) -> 0 | CO21: =IF(AND(C21>0,AR21=""),1,IF(AR21>C21,1,0)) -> 0 | CP21: =IF(AND(C21>0,AS21=""),1,IF(AS21>C21,1,0)) -> 0 | CQ21: =IF(AND(E21>0,OR(AT21="")),1,IF((AT21)>E21,1,0)) -> 0 | CR21: =IF(AND(D21>0,OR(AU21="")),1,IF((AU21)>D21,1,0)) -> 0 | CS21: =IF(AND($C21>0,AV21=""),1,IF(AV21>$C21,1,0)) -> 0
B22: TOTAL | C22: =SUM(D22+E22) -> 7401 | D22: =SUM(F22+H22+J22+L22+N22+P22+R22+T22+V22+X22+Z22+AB22+AD22+AF22+AH22+AJ22+AL22) -> 2970 | E22: =SUM(G22+I22+K22+M22+O22+Q22+S22+U22+W22+Y22+AA22+AC22+AE22+AG22+AI22+AK22+AM22) -> 4431 | F22: =SUM(F12:F21) -> 2 | G22: =SUM(G12:G21) -> 23 | H22: =SUM(H12:H21) -> 165 | I22: =SUM(I12:I21) -> 95 | J22: =SUM(J12:J21) -> 351 | K22: =SUM(K12:K21) -> 743 | L22: =SUM(L12:L21) -> 469 | M22: =SUM(M12:M21) -> 1272 | ... AV22: =SUM(AV12:AV21) -> 0
A23: Intervención Psicosocial Grupal | C23: =SUM(D23+E23) -> 68 | D23: =SUM(F23+H23+J23+L23+N23+P23+R23+T23+V23+X23+Z23+AB23+AD23+AF23+AH23+AJ23+AL23) -> 30 | E23: =SUM(G23+I23+K23+M23+O23+Q23+S23+U23+W23+Y23+AA23+AC23+AE23+AG23+AI23+AK23+AM23) -> 38 | F23: =SUM(ENERO:DICIEMBRE!F23) -> 0 | G23: =SUM(ENERO:DICIEMBRE!G23) -> 0 | H23: =SUM(ENERO:DICIEMBRE!H23) -> 2 | I23: =SUM(ENERO:DICIEMBRE!I23) -> 2 | J23: =SUM(ENERO:DICIEMBRE!J23) -> 16 | K23: =SUM(ENERO:DICIEMBRE!K23) -> 10 | L23: =SUM(ENERO:DICIEMBRE!L23) -> 8 | M23: =SUM(ENERO:DICIEMBRE!M23) -> 7 | ... AV23: =SUM(ENERO:DICIEMBRE!AV23) -> 0 | AW23: =CA23&CB23&CC23&CD23&CE23&CF23&CG23&CH23&CI23 | CA23: =IF(AND($C23>0,AN23="")," * No olvide digitar la variable Beneficiarios. Digite Cero si no tiene.",IF(AN23>$C23," * La variable Beneficiarios No puede ser mayor al Total Ambos Sexos.","")) | CB23: =IF(AND($C23>0,AO23="")," * No olvide digitar la variable Niños, Niñas, adolescentes y Jóvenes SENAME. Digite Cero si no tiene.",IF(AO23>$C23," * La variable Niños, Niñas, adolescentes y Jóvenes SENAME No puede ser mayor al Total Ambos Sexos.","")) | CC23: =IF(AND($C23>0,AP23="")," * No olvide digitar la variable Niños, Niñas, adolescentes y Jóvenes Mejor Niñez. Digite Cero si no tiene.",IF(AP23>$C23," * La variable Niños, Niñas, adolescentes y Jóvenes Mejor Niñez No puede ser mayor al Total Ambos Sexos.","")) | CD23: =IF(AND($C23>0,AQ23="")," * No olvide digitar la variable Pueblos originarios. Digite Cero si no tiene.",IF(AQ23>$C23," * La variable Pueblos Originarios No puede ser mayor al Total Ambos Sexos.","")) | CE23: =IF(AND($C23>0,AR23="")," * No olvide digitar la variable Migrantes. Digite Cero si no tiene.",IF(AR23>$C23," * La variable Migrantes No puede ser mayor al Total Ambos Sexos.","")) | CF23: =IF(AND($C23>0,AS23="")," * No olvide digitar la variable Demencia. Digite Cero si no tiene.",IF(AS23>$C23," * La variable Demencia No puede ser mayor al Total Ambos Sexos.","")) | CG23: =IF(AND($E23>0,OR(AT23=""))," * No olvide digitar la variable Trans (Masculino). Digite Cero si no tiene.",IF((AT23)>$E23," * La variable Trans (Masculino) No puede ser mayor al Total Mujeres.","")) | CH23: =IF(AND(D23>0,OR(AU23=""))," * No olvide digitar la variable Trans (Femenino). Digite Cero si no tiene.",IF((AU23)>D23," * La variable Trans (Femenino) No puede ser mayor al Total Hombres.","")) | CI23: =IF(AND($C23>0,AV23="")," * No olvide digitar la variable Cuidadores de personas con demencia. Digite Cero si no tiene.",IF(AV23>$C23," * La variable Cuidadores de personas con demencia No puede ser mayor al Total Ambos Sexos.","")) | CK23: =IF(AND(C23>0,AN23=""),1,IF(AN23>C23,1,0)) -> 0 | CL23: =IF(AND(C23>0,AO23=""),1,IF(AO23>C23,1,0)) -> 0 | CM23: =IF(AND(C23>0,AP23=""),1,IF(AP23>C23,1,0)) -> 0 | CN23: =IF(AND(C23>0,AQ23=""),1,IF(AQ23>C23,1,0)) -> 0 | CO23: =IF(AND(C23>0,AR23=""),1,IF(AR23>C23,1,0)) -> 0 | CP23: =IF(AND(C23>0,AS23=""),1,IF(AS23>C23,1,0)) -> 0 | CQ23: =IF(AND(E23>0,OR(AT23="")),1,IF((AT23)>E23,1,0)) -> 0 | CR23: =IF(AND(D23>0,OR(AU23="")),1,IF((AU23)>D23,1,0)) -> 0 | CS23: =IF(AND($C23>0,AV23=""),1,IF(AV23>$C23,1,0)) -> 0
A24: Psicodiagnóstico | B24: Psicólogo/a | C24: =SUM(D24+E24) -> 30 | D24: =SUM(F24+H24+J24+L24+N24+P24+R24+T24+V24+X24+Z24+AB24+AD24+AF24+AH24+AJ24+AL24) -> 13 | E24: =SUM(G24+I24+K24+M24+O24+Q24+S24+U24+W24+Y24+AA24+AC24+AE24+AG24+AI24+AK24+AM24) -> 17 | F24: =SUM(ENERO:DICIEMBRE!F24) -> 3 | G24: =SUM(ENERO:DICIEMBRE!G24) -> 0 | H24: =SUM(ENERO:DICIEMBRE!H24) -> 5 | I24: =SUM(ENERO:DICIEMBRE!I24) -> 0 | J24: =SUM(ENERO:DICIEMBRE!J24) -> 2 | K24: =SUM(ENERO:DICIEMBRE!K24) -> 3 | L24: =SUM(ENERO:DICIEMBRE!L24) -> 0 | M24: =SUM(ENERO:DICIEMBRE!M24) -> 7 | ... AV24: =SUM(ENERO:DICIEMBRE!AV24) -> 0 | AW24: =CA24&CB24&CC24&CD24&CE24&CF24&CG24&CH24&CI24 | CA24: =IF(AND($C24>0,AN24="")," * No olvide digitar la variable Beneficiarios. Digite Cero si no tiene.",IF(AN24>$C24," * La variable Beneficiarios No puede ser mayor al Total Ambos Sexos.","")) | CB24: =IF(AND($C24>0,AO24="")," * No olvide digitar la variable Niños, Niñas, adolescentes y Jóvenes SENAME. Digite Cero si no tiene.",IF(AO24>$C24," * La variable Niños, Niñas, adolescentes y Jóvenes SENAME No puede ser mayor al Total Ambos Sexos.","")) | CC24: =IF(AND($C24>0,AP24="")," * No olvide digitar la variable Niños, Niñas, adolescentes y Jóvenes Mejor Niñez. Digite Cero si no tiene.",IF(AP24>$C24," * La variable Niños, Niñas, adolescentes y Jóvenes Mejor Niñez No puede ser mayor al Total Ambos Sexos.","")) | CD24: =IF(AND($C24>0,AQ24="")," * No olvide digitar la variable Pueblos originarios. Digite Cero si no tiene.",IF(AQ24>$C24," * La variable Pueblos Originarios No puede ser mayor al Total Ambos Sexos.","")) | CE24: =IF(AND($C24>0,AR24="")," * No olvide digitar la variable Migrantes. Digite Cero si no tiene.",IF(AR24>$C24," * La variable Migrantes No puede ser mayor al Total Ambos Sexos.","")) | CF24: =IF(AND($C24>0,AS24="")," * No olvide digitar la variable Demencia. Digite Cero si no tiene.",IF(AS24>$C24," * La variable Demencia No puede ser mayor al Total Ambos Sexos.","")) | CG24: =IF(AND($E24>0,OR(AT24=""))," * No olvide digitar la variable Trans (Masculino). Digite Cero si no tiene.",IF((AT24)>$E24," * La variable Trans (Masculino) No puede ser mayor al Total Mujeres.","")) | CH24: =IF(AND(D24>0,OR(AU24=""))," * No olvide digitar la variable Trans (Femenino). Digite Cero si no tiene.",IF((AU24)>D24," * La variable Trans (Femenino) No puede ser mayor al Total Hombres.","")) | CI24: =IF(AND($C24>0,AV24="")," * No olvide digitar la variable Cuidadores de personas con demencia. Digite Cero si no tiene.",IF(AV24>$C24," * La variable Cuidadores de personas con demencia No puede ser mayor al Total Ambos Sexos.","")) | CK24: =IF(AND(C24>0,AN24=""),1,IF(AN24>C24,1,0)) -> 0 | CL24: =IF(AND(C24>0,AO24=""),1,IF(AO24>C24,1,0)) -> 0 | CM24: =IF(AND(C24>0,AP24=""),1,IF(AP24>C24,1,0)) -> 0 | CN24: =IF(AND(C24>0,AQ24=""),1,IF(AQ24>C24,1,0)) -> 0 | CO24: =IF(AND(C24>0,AR24=""),1,IF(AR24>C24,1,0)) -> 0 | CP24: =IF(AND(C24>0,AS24=""),1,IF(AS24>C24,1,0)) -> 0 | CQ24: =IF(AND(E24>0,OR(AT24="")),1,IF((AT24)>E24,1,0)) -> 0 | CR24: =IF(AND(D24>0,OR(AU24="")),1,IF((AU24)>D24,1,0)) -> 0 | CS24: =IF(AND($C24>0,AV24=""),1,IF(AV24>$C24,1,0)) -> 0
A25: Psicoterapia Individual | B25: Psicólogo/a | C25: =SUM(D25+E25) -> 3119 | D25: =SUM(F25+H25+J25+L25+N25+P25+R25+T25+V25+X25+Z25+AB25+AD25+AF25+AH25+AJ25+AL25) -> 864 | E25: =SUM(G25+I25+K25+M25+O25+Q25+S25+U25+W25+Y25+AA25+AC25+AE25+AG25+AI25+AK25+AM25) -> 2255 | F25: =SUM(ENERO:DICIEMBRE!F25) -> 0 | G25: =SUM(ENERO:DICIEMBRE!G25) -> 1 | H25: =SUM(ENERO:DICIEMBRE!H25) -> 9 | I25: =SUM(ENERO:DICIEMBRE!I25) -> 9 | J25: =SUM(ENERO:DICIEMBRE!J25) -> 40 | K25: =SUM(ENERO:DICIEMBRE!K25) -> 133 | L25: =SUM(ENERO:DICIEMBRE!L25) -> 28 | M25: =SUM(ENERO:DICIEMBRE!M25) -> 408 | ... AV25: =SUM(ENERO:DICIEMBRE!AV25) -> 0 | AW25: =CA25&CB25&CC25&CD25&CE25&CF25&CG25&CH25&CI25 | CA25: =IF(AND($C25>0,AN25="")," * No olvide digitar la variable Beneficiarios. Digite Cero si no tiene.",IF(AN25>$C25," * La variable Beneficiarios No puede ser mayor al Total Ambos Sexos.","")) | CB25: =IF(AND($C25>0,AO25="")," * No olvide digitar la variable Niños, Niñas, adolescentes y Jóvenes SENAME. Digite Cero si no tiene.",IF(AO25>$C25," * La variable Niños, Niñas, adolescentes y Jóvenes SENAME No puede ser mayor al Total Ambos Sexos.","")) | CC25: =IF(AND($C25>0,AP25="")," * No olvide digitar la variable Niños, Niñas, adolescentes y Jóvenes Mejor Niñez. Digite Cero si no tiene.",IF(AP25>$C25," * La variable Niños, Niñas, adolescentes y Jóvenes Mejor Niñez No puede ser mayor al Total Ambos Sexos.","")) | CD25: =IF(AND($C25>0,AQ25="")," * No olvide digitar la variable Pueblos originarios. Digite Cero si no tiene.",IF(AQ25>$C25," * La variable Pueblos Originarios No puede ser mayor al Total Ambos Sexos.","")) | CE25: =IF(AND($C25>0,AR25="")," * No olvide digitar la variable Migrantes. Digite Cero si no tiene.",IF(AR25>$C25," * La variable Migrantes No puede ser mayor al Total Ambos Sexos.","")) | CF25: =IF(AND($C25>0,AS25="")," * No olvide digitar la variable Demencia. Digite Cero si no tiene.",IF(AS25>$C25," * La variable Demencia No puede ser mayor al Total Ambos Sexos.","")) | CG25: =IF(AND($E25>0,OR(AT25=""))," * No olvide digitar la variable Trans (Masculino). Digite Cero si no tiene.",IF((AT25)>$E25," * La variable Trans (Masculino) No puede ser mayor al Total Mujeres.","")) | CH25: =IF(AND(D25>0,OR(AU25=""))," * No olvide digitar la variable Trans (Femenino). Digite Cero si no tiene.",IF((AU25)>D25," * La variable Trans (Femenino) No puede ser mayor al Total Hombres.","")) | CI25: =IF(AND($C25>0,AV25="")," * No olvide digitar la variable Cuidadores de personas con demencia. Digite Cero si no tiene.",IF(AV25>$C25," * La variable Cuidadores de personas con demencia No puede ser mayor al Total Ambos Sexos.","")) | CK25: =IF(AND(C25>0,AN25=""),1,IF(AN25>C25,1,0)) -> 0 | CL25: =IF(AND(C25>0,AO25=""),1,IF(AO25>C25,1,0)) -> 0 | CM25: =IF(AND(C25>0,AP25=""),1,IF(AP25>C25,1,0)) -> 0 | CN25: =IF(AND(C25>0,AQ25=""),1,IF(AQ25>C25,1,0)) -> 0 | CO25: =IF(AND(C25>0,AR25=""),1,IF(AR25>C25,1,0)) -> 0 | CP25: =IF(AND(C25>0,AS25=""),1,IF(AS25>C25,1,0)) -> 0 | CQ25: =IF(AND(E25>0,OR(AT25="")),1,IF((AT25)>E25,1,0)) -> 0 | CR25: =IF(AND(D25>0,OR(AU25="")),1,IF((AU25)>D25,1,0)) -> 0 | CS25: =IF(AND($C25>0,AV25=""),1,IF(AV25>$C25,1,0)) -> 0
B26: Médico/a Psiquiatra | C26: =SUM(D26+E26) -> 0 | D26: =SUM(F26+H26+J26+L26+N26+P26+R26+T26+V26+X26+Z26+AB26+AD26+AF26+AH26+AJ26+AL26) -> 0 | E26: =SUM(G26+I26+K26+M26+O26+Q26+S26+U26+W26+Y26+AA26+AC26+AE26+AG26+AI26+AK26+AM26) -> 0 | F26: =SUM(ENERO:DICIEMBRE!F26) -> 0 | G26: =SUM(ENERO:DICIEMBRE!G26) -> 0 | H26: =SUM(ENERO:DICIEMBRE!H26) -> 0 | I26: =SUM(ENERO:DICIEMBRE!I26) -> 0 | J26: =SUM(ENERO:DICIEMBRE!J26) -> 0 | K26: =SUM(ENERO:DICIEMBRE!K26) -> 0 | L26: =SUM(ENERO:DICIEMBRE!L26) -> 0 | M26: =SUM(ENERO:DICIEMBRE!M26) -> 0 | ... AV26: =SUM(ENERO:DICIEMBRE!AV26) -> 0 | AW26: =CA26&CB26&CC26&CD26&CE26&CF26&CG26&CH26&CI26 | CA26: =IF(AND($C26>0,AN26="")," * No olvide digitar la variable Beneficiarios. Digite Cero si no tiene.",IF(AN26>$C26," * La variable Beneficiarios No puede ser mayor al Total Ambos Sexos.","")) | CB26: =IF(AND($C26>0,AO26="")," * No olvide digitar la variable Niños, Niñas, adolescentes y Jóvenes SENAME. Digite Cero si no tiene.",IF(AO26>$C26," * La variable Niños, Niñas, adolescentes y Jóvenes SENAME No puede ser mayor al Total Ambos Sexos.","")) | CC26: =IF(AND($C26>0,AP26="")," * No olvide digitar la variable Niños, Niñas, adolescentes y Jóvenes Mejor Niñez. Digite Cero si no tiene.",IF(AP26>$C26," * La variable Niños, Niñas, adolescentes y Jóvenes Mejor Niñez No puede ser mayor al Total Ambos Sexos.","")) | CD26: =IF(AND($C26>0,AQ26="")," * No olvide digitar la variable Pueblos originarios. Digite Cero si no tiene.",IF(AQ26>$C26," * La variable Pueblos Originarios No puede ser mayor al Total Ambos Sexos.","")) | CE26: =IF(AND($C26>0,AR26="")," * No olvide digitar la variable Migrantes. Digite Cero si no tiene.",IF(AR26>$C26," * La variable Migrantes No puede ser mayor al Total Ambos Sexos.","")) | CF26: =IF(AND($C26>0,AS26="")," * No olvide digitar la variable Demencia. Digite Cero si no tiene.",IF(AS26>$C26," * La variable Demencia No puede ser mayor al Total Ambos Sexos.","")) | CG26: =IF(AND($E26>0,OR(AT26=""))," * No olvide digitar la variable Trans (Masculino). Digite Cero si no tiene.",IF((AT26)>$E26," * La variable Trans (Masculino) No puede ser mayor al Total Mujeres.","")) | CH26: =IF(AND(D26>0,OR(AU26=""))," * No olvide digitar la variable Trans (Femenino). Digite Cero si no tiene.",IF((AU26)>D26," * La variable Trans (Femenino) No puede ser mayor al Total Hombres.","")) | CI26: =IF(AND($C26>0,AV26="")," * No olvide digitar la variable Cuidadores de personas con demencia. Digite Cero si no tiene.",IF(AV26>$C26," * La variable Cuidadores de personas con demencia No puede ser mayor al Total Ambos Sexos.","")) | CK26: =IF(AND(C26>0,AN26=""),1,IF(AN26>C26,1,0)) -> 0 | CL26: =IF(AND(C26>0,AO26=""),1,IF(AO26>C26,1,0)) -> 0 | CM26: =IF(AND(C26>0,AP26=""),1,IF(AP26>C26,1,0)) -> 0 | CN26: =IF(AND(C26>0,AQ26=""),1,IF(AQ26>C26,1,0)) -> 0 | CO26: =IF(AND(C26>0,AR26=""),1,IF(AR26>C26,1,0)) -> 0 | CP26: =IF(AND(C26>0,AS26=""),1,IF(AS26>C26,1,0)) -> 0 | CQ26: =IF(AND(E26>0,OR(AT26="")),1,IF((AT26)>E26,1,0)) -> 0 | CR26: =IF(AND(D26>0,OR(AU26="")),1,IF((AU26)>D26,1,0)) -> 0 | CS26: =IF(AND($C26>0,AV26=""),1,IF(AV26>$C26,1,0)) -> 0
A27: SECCIÓN A.2: CONSULTORÍAS DE SALUD MENTAL EN APS
A28: ACTIVIDAD | B28: TOTAL CONSULTORÍAS Y TELECONSULTORÍAS RECIBIDAS | C28: CONSULTORÍAS Y TELECONSULTORÍAS RECIBIDAS | E28: TOTAL Nº DE CASOS REVISADOS | H28: 0 - 4 años | J28: 5 - 9 años | L28: 10 - 14 años | N28: 15 - 19 años | P28: 20 - 24 años | R28: 25 - 29 años | T28: 30 - 34 años | V28: 35 - 39 años | X28: 40 - 44 años | Z28: 45 - 49 años | AB28: 50 - 54 años | AD28: 55 - 59 años | AF28: 60 - 64 años | AH28: 65 - 69 años | AJ28: 70 - 74 años | AL28: 75 - 79 años | AN28: 80 y más años | AP28: Pueblos Originarios | AQ28: Migrantes | AR28: Niños, Niñas, Adolescentes y Jóvenes SENAME | AS28: Niños, Niñas, Adolescentes y Jóvenes Mejor Niñez | AT28: Personas con sospecha de demencia | AU28: Personas con diagnóstico de demencia
C29: Consultorías y Teleconsultorías de Salud Mental Infanto Adolescente | D29: Consultorías Y Teleconsultorías de Salud Mental Adulto | E29: Ambos Sexos | F29: Hombres | G29: Mujeres | H29: Hombres | I29: Mujeres | J29: Hombres | K29: Mujeres | L29: Hombres | M29: Mujeres | N29: Hombres | O29: Mujeres | P29: Hombres | Q29: Mujeres | R29: Hombres | S29: Mujeres | T29: Hombres | U29: Mujeres | V29: Hombres | W29: Mujeres | X29: Hombres | Y29: Mujeres | Z29: Hombres | AA29: Mujeres | AB29: Hombres | AC29: Mujeres | AD29: Hombres | AE29: Mujeres | AF29: Hombres | AG29: Mujeres | AH29: Hombres | AI29: Mujeres | AJ29: Hombres | AK29: Mujeres | AL29: Hombres | AM29: Mujeres | AN29: Hombres | AO29: Mujeres
A30: Consultorías de Salud Mental | B30: =SUM(C30:D30) -> 0 | E30: =SUM(F30+G30) -> 0 | F30: =SUM(H30+J30+L30+N30+P30+R30+T30+V30+X30+Z30+AB30+AD30+AF30+AH30+AJ30+AL30+AN30) -> 0 | G30: =SUM(I30+K30+M30+O30+Q30+S30+U30+W30+Y30+AA30+AC30+AE30+AG30+AI30+AK30+AM30+AO30) -> 0 | AV30: =CA30&CB30&CC30&CD30&CE30&CF30 | CA30: =IF(AND($E30>0,AP30="")," * No olvide digitar la variable Pueblos originarios. Digite Cero si no tiene.",IF(AP30>E30," * La variable Pueblos originarios No puede ser mayor al Total Ambos Sexos.","")) | CB30: =IF(AND($E30>0,AQ30="")," * No olvide digitar la variable Migrantes. Digite Cero si no tiene.",IF(AQ30>$E30," * La variable Migrantes No puede ser mayor al Total Ambos Sexos.","")) | CC30: =IF(AND($E30>0,AR30="")," * No olvide digitar la variable Niños, Niñas, adolescentes y jóvenes SENAME. Digite Cero si no tiene.",IF(AR30>$E30," * La variable Niños, Niñas, adolescentes y jóvenes SENAME No puede ser mayor al Total Ambos Sexos.","")) | CD30: =IF(AND($E30>0,AS30="")," * No olvide digitar la variable Niños, Niñas, adolescentes y jóvenes Mejor Niñez. Digite Cero si no tiene.",IF(AS30>$E30," * La variable Niños, Niñas, adolescentes y jóvenes Mejor Niñez No puede ser mayor al Total Ambos Sexos.","")) | CE30: =IF(AND($E30>0,AT30="")," * No olvide digitar la variable Personas con sospecha de demencia. Digite Cero si no tiene.",IF(AT30>$E30," * La variable Personas con sospecha de demencia No puede ser mayor al Total Ambos Sexos.","")) | CF30: =IF(AND($E30>0,AU30="")," * No olvide digitar la variable Personas con diagnóstico de demencia. Digite Cero si no tiene.",IF(AU30>$E30," * La variable Personas con diagnóstico de demencia No puede ser mayor al Total Ambos Sexos.","")) | CK30: =IF(AND(E30>0,AP30=""),1,IF(AP30>E30,1,0)) -> 0 | CL30: =IF(AND(E30>0,AQ30=""),1,IF(AQ30>E30,1,0)) -> 0 | CM30: =IF(AND(E30>0,AR30=""),1,IF(AR30>E30,1,0)) -> 0 | CN30: =IF(AND(E30>0,AS30=""),1,IF(AS30>E30,1,0)) -> 0 | CO30: =IF(AND(E30>0,AT30=""),1,IF(AT30>E30,1,0)) -> 0 | CP30: =IF(AND(E30>0,AU30=""),1,IF(AU30>E30,1,0)) -> 0
A31: Teleconsultorías de Salud Mental | B31: =SUM(C31:D31) -> 0 | E31: =SUM(F31+G31) -> 0 | F31: =SUM(H31+J31+L31+N31+P31+R31+T31+V31+X31+Z31+AB31+AD31+AF31+AH31+AJ31+AL31+AN31) -> 0 | G31: =SUM(I31+K31+M31+O31+Q31+S31+U31+W31+Y31+AA31+AC31+AE31+AG31+AI31+AK31+AM31+AO31) -> 0 | AV31: =CA31&CB31&CC31&CD31&CE31&CF31 | CA31: =IF(AND($E31>0,AP31="")," * No olvide digitar la variable Pueblos originarios. Digite Cero si no tiene.",IF(AP31>E31," * La variable Pueblos originarios No puede ser mayor al Total Ambos Sexos.","")) | CB31: =IF(AND($E31>0,AQ31="")," * No olvide digitar la variable Migrantes. Digite Cero si no tiene.",IF(AQ31>$E31," * La variable Migrantes No puede ser mayor al Total Ambos Sexos.","")) | CC31: =IF(AND($E31>0,AR31="")," * No olvide digitar la variable Niños, Niñas, adolescentes y jóvenes SENAME. Digite Cero si no tiene.",IF(AR31>$E31," * La variable Niños, Niñas, adolescentes y jóvenes SENAME No puede ser mayor al Total Ambos Sexos.","")) | CD31: =IF(AND($E31>0,AS31="")," * No olvide digitar la variable Niños, Niñas, adolescentes y jóvenes Mejor Niñez. Digite Cero si no tiene.",IF(AS31>$E31," * La variable Niños, Niñas, adolescentes y jóvenes Mejor Niñez No puede ser mayor al Total Ambos Sexos.","")) | CE31: =IF(AND($E31>0,AT31="")," * No olvide digitar la variable Personas con sospecha de demencia. Digite Cero si no tiene.",IF(AT31>$E31," * La variable Personas con sospecha de demencia No puede ser mayor al Total Ambos Sexos.","")) | CF31: =IF(AND($E31>0,AU31="")," * No olvide digitar la variable Personas con diagnóstico de demencia. Digite Cero si no tiene.",IF(AU31>$E31," * La variable Personas con diagnóstico de demencia No puede ser mayor al Total Ambos Sexos.","")) | CK31: =IF(AND(E31>0,AP31=""),1,IF(AP31>E31,1,0)) -> 0 | CL31: =IF(AND(E31>0,AQ31=""),1,IF(AQ31>E31,1,0)) -> 0 | CM31: =IF(AND(E31>0,AR31=""),1,IF(AR31>E31,1,0)) -> 0 | CN31: =IF(AND(E31>0,AS31=""),1,IF(AS31>E31,1,0)) -> 0 | CO31: =IF(AND(E31>0,AT31=""),1,IF(AT31>E31,1,0)) -> 0 | CP31: =IF(AND(E31>0,AU31=""),1,IF(AU31>E31,1,0)) -> 0
A32: TOTAL | B32: =SUM(B30:B31) -> 0 | C32: =SUM(C30:C31) -> 0 | D32: =SUM(D30:D31) -> 0 | E32: =SUM(E30:E31) -> 0 | F32: =SUM(F30:F31) -> 0 | G32: =SUM(G30:G31) -> 0 | H32: =SUM(H30:H31) -> 0 | I32: =SUM(I30:I31) -> 0 | ... AU32: =SUM(AU30:AU31) -> 0
A33: SECCIÓN A.3: CONSULTORÍAS DE SALUD MENTAL OTORGADA POR EL NIVEL DE ESPECIALIDAD
A34: ACTIVIDAD | B34: TOTAL CONSULTORÍAS Y TELECONSULTORÍAS OTORGADAS | C34: CONSULTORÍAS Y TELECONSULTORÍAS OTORGADAS | E34: TOTAL Nº DE CASOS REVISADOS | H34: Participantes
C35: Consultorías y Teleconsultorías de Salud Mental Infanto Adolescente | D35: Consultorías y Teleconsultorías de Salud Mental Adulto | E35: Ambos Sexos | F35: Hombres | G35: Mujeres | H35: Médico psiquiatra | I35: Médico Psiquiatría más un profesional | J35: Médico Psiquiatría más dos Profesionales | K35: Médico Psiquiatría con más de dos Profesionales | L35: Dos profesionales | M35: Más de dos profesionales
A36: Consultorías de Salud Mental | B36: =SUM(C36:D36) -> 29 | C36: =SUM(ENERO:DICIEMBRE!C36) -> 0 | D36: =SUM(ENERO:DICIEMBRE!D36) -> 29 | E36: =SUM(F36:G36) -> 105 | F36: =SUM(ENERO:DICIEMBRE!F36) -> 37 | G36: =SUM(ENERO:DICIEMBRE!G36) -> 68 | H36: =SUM(ENERO:DICIEMBRE!H36) -> 0 | I36: =SUM(ENERO:DICIEMBRE!I36) -> 0 | J36: =SUM(ENERO:DICIEMBRE!J36) -> 0 | K36: =SUM(ENERO:DICIEMBRE!K36) -> 29 | L36: =SUM(ENERO:DICIEMBRE!L36) -> 0 | M36: =SUM(ENERO:DICIEMBRE!M36) -> 0
A37: Teleconsultorías de Salud Mental | B37: =SUM(C37:D37) -> 0 | C37: =SUM(ENERO:DICIEMBRE!C37) -> 0 | D37: =SUM(ENERO:DICIEMBRE!D37) -> 0 | E37: =SUM(F37:G37) -> 0 | F37: =SUM(ENERO:DICIEMBRE!F37) -> 0 | G37: =SUM(ENERO:DICIEMBRE!G37) -> 0 | H37: =SUM(ENERO:DICIEMBRE!H37) -> 0 | I37: =SUM(ENERO:DICIEMBRE!I37) -> 0 | J37: =SUM(ENERO:DICIEMBRE!J37) -> 0 | K37: =SUM(ENERO:DICIEMBRE!K37) -> 0 | L37: =SUM(ENERO:DICIEMBRE!L37) -> 0 | M37: =SUM(ENERO:DICIEMBRE!M37) -> 0
A38: TOTAL | B38: =SUM(B36:B37) -> 29 | C38: =SUM(C36:C37) -> 0 | D38: =SUM(D36:D37) -> 29 | E38: =SUM(E36:E37) -> 105 | F38: =SUM(F36:F37) -> 37 | G38: =SUM(G36:G37) -> 68 | H38: =SUM(H36:H37) -> 0 | I38: =SUM(I36:I37) -> 0 | ... M38: =SUM(M36:M37) -> 0
A39: SECCIÓN B.1: ACTIVIDADES GRUPALES (NÚMERO DE SESIONES)
A40: ACTIVIDAD | B40: PROFESIONAL | C40: TOTAL
A41: Psicoterapia Grupal | B41: Médico/a Psiquiatra | C41: =SUM(ENERO:DICIEMBRE!C41) -> 0
...

Sheet ENERO
A1: SERVICIO DE SALUD
A2: =CONCATENATE("COMUNA: ",[2]NOMBRE!B2, " (",[2]NOMBRE!C2,[2]NOMBRE!D2,[2]NOMBRE!E2,[2]NOMBRE!F2,[2]NOMBRE!G2,")") -> COMUNA: LINARES (07401)
A3: =CONCATENATE("ESTABLECIMIENTO/ESTRATEGIA: ", [2]NOMBRE!B3, " (",[2]NOMBRE!C3,[2]NOMBRE!D3,[2]NOMBRE!E3,[2]NOMBRE!F3,[2]NOMBRE!G3,[2]NOMBRE!H3,")") -> ESTABLECIMIENTO/ESTRATEGIA: HOSPITAL PRESIDENTE CARLOS IBAÑEZ DEL CAMPO (116108)
A4: =CONCATENATE("MES: ",[2]NOMBRE!B6, " (",[2]NOMBRE!C6,[2]NOMBRE!D6,")") -> MES: ENERO (01)
A5: =CONCATENATE("AÑO: ",[2]NOMBRE!B7) -> AÑO: 2025
A6: REM-06. PROGRAMA DE SALUD MENTAL ATENCIÓN PRIMARIA Y ESPECIALIDADES
A8: SECCIÓN A.1: CONTROLES DE ATENCIÓN PRIMARIA / ESPECIALIDADES
A9: ACTIVIDAD | B9: PROFESIONAL | C9: TOTAL | F9: RANGO ETARIO Y SEXO | AN9: Beneficiarios | AO9: Niños, Niñas, Adolescentes y Jóvenes SENAME | AP9: Niños, Niñas, Adolescentes y Jóvenes Mejor Niñez | AQ9: Pueblos Originarios | AR9: Migrantes | AS9: Demencia | AT9: TRANS | AV9: Cuidadores de personas con demencia
F10: 0 - 4 años | H10: 5 - 9 años | J10: 10 - 14 años | L10: 15 - 19 años | N10: 20 - 24 años | P10: 25 - 29 años | R10: 30 - 34 años | T10: 35 - 39 años | V10: 40 - 44 años | X10: 45 - 49 años | Z10: 50 - 54 años | AB10: 55 - 59 años | AD10: 60 - 64 años | AF10: 65 - 69 años | AH10: 70 - 74 años | AJ10: 75 - 79 años | AL10: 80 y más años | AT10: Masculino | AU10: Femenino
C11: Ambos Sexos | D11: Hombres | E11: Mujeres | F11: Hombres | G11: Mujeres | H11: Hombres | I11: Mujeres | J11: Hombres | K11: Mujeres | L11: Hombres | M11: Mujeres | N11: Hombres | O11: Mujeres | P11: Hombres | Q11: Mujeres | R11: Hombres | S11: Mujeres | T11: Hombres | U11: Mujeres | V11: Hombres | W11: Mujeres | X11: Hombres | Y11: Mujeres | Z11: Hombres | AA11: Mujeres | AB11: Hombres | AC11: Mujeres | AD11: Hombres | AE11: Mujeres | AF11: Hombres | AG11: Mujeres | AH11: Hombres | AI11: Mujeres | AJ11: Hombres | AK11: Mujeres | AL11: Hombres | AM11: Mujeres
A12: Controles Salud Mental | B12: Médico/a | C12: =SUM(D12+E12) -> 0 | D12: =SUM(F12+H12+J12+L12+N12+P12+R12+T12+V12+X12+Z12+AB12+AD12+AF12+AH12+AJ12+AL12) -> 0 | E12: =SUM(G12+I12+K12+M12+O12+Q12+S12+U12+W12+Y12+AA12+AC12+AE12+AG12+AI12+AK12+AM12) -> 0 | AW12: =CA12&CB12&CC12&CD12&CE12&CF12&CG12&CH12&CI12 | CA12: =IF(AND($C12>0,AN12="")," * No olvide digitar la variable Beneficiarios. Digite Cero si no tiene.",IF(AN12>$C12," * La variable Beneficiarios No puede ser mayor al Total Ambos Sexos.","")) | CB12: =IF(AND($C12>0,AO12="")," * No olvide digitar la variable Niños, Niñas, adolescentes y Jóvenes SENAME. Digite Cero si no tiene.",IF(AO12>$C12," * La variable Niños, Niñas, adolescentes y Jóvenes SENAME No puede ser mayor al Total Ambos Sexos.","")) | CC12: =IF(AND($C12>0,AP12="")," * No olvide digitar la variable Niños, Niñas, adolescentes y Jóvenes Mejor Niñez. Digite Cero si no tiene.",IF(AP12>$C12," * La variable Niños, Niñas, adolescentes y Jóvenes Mejor Niñez No puede ser mayor al Total Ambos Sexos.","")) | CD12: =IF(AND($C12>0,AQ12="")," * No olvide digitar la variable Pueblos originarios. Digite Cero si no tiene.",IF(AQ12>$C12," * La variable Pueblos Originarios No puede ser mayor al Total Ambos Sexos.","")) | CE12: =IF(AND($C12>0,AR12="")," * No olvide digitar la variable Migrantes. Digite Cero si no tiene.",IF(AR12>$C12," * La variable Migrantes No puede ser mayor al Total Ambos Sexos.","")) | CF12: =IF(AND($C12>0,AS12="")," * No olvide digitar la variable Demencia. Digite Cero si no tiene.",IF(AS12>$C12," * La variable Demencia No puede ser mayor al Total Ambos Sexos.","")) | CG12: =IF(AND($E12>0,OR(AT12=""))," * No olvide digitar la variable Trans (Masculino). Digite Cero si no tiene.",IF((AT12)>$E12," * La variable Trans (Masculino) No puede ser mayor al Total Mujeres.","")) | CH12: =IF(AND(D12>0,OR(AU12=""))," * No olvide digitar la variable Trans (Femenino). Digite Cero si no tiene.",IF((AU12)>D12," * La variable Trans (Femenino) No puede ser mayor al Total Hombres.","")) | CI12: =IF(AND($C12>0,AV12="")," * No olvide digitar la variable Cuidadores de personas con demencia. Digite Cero si no tiene.",IF(AV12>$C12," * La variable Cuidadores de personas con demencia No puede ser mayor al Total Ambos Sexos.","")) | CK12: =IF(AND($C12>0,AN12=""),1,IF(AN12>$C12,1,0)) -> 0 | CL12: =IF(AND($C12>0,AO12=""),1,IF(AO12>$C12,1,0)) -> 0 | CM12: =IF(AND($C12>0,AP12=""),1,IF(AP12>$C12,1,0)) -> 0 | CN12: =IF(AND($C12>0,AQ12=""),1,IF(AQ12>$C12,1,0)) -> 0 | CO12: =IF(AND($C12>0,AR12=""),1,IF(AR12>$C12,1,0)) -> 0 | CP12: =IF(AND($C12>0,AS12=""),1,IF(AS12>$C12,1,0)) -> 0 | CQ12: =IF(AND($E12>0,OR(AT12="")),1,IF((AT12)>$E12,1,0)) -> 0 | CR12: =IF(AND($D12>0,OR(AU12="")),1,IF((AU12)>$D12,1,0)) -> 0 | CS12: =IF(AND($C12>0,AV12=""),1,IF(AV12>$C12,1,0)) -> 0
