Workbook

Sheet CONSOLIDADO
A1: SERVICIO DE SALUD
A2: =CONCATENATE("COMUNA: ",[1]NOMBRE!B2, " (",[1]NOMBRE!C2,[1]NOMBRE!D2,[1]NOMBRE!E2,[1]NOMBRE!F2,[1]NOMBRE!G2,")") -> COMUNA: 0 (00000)
A3: =CONCATENATE("ESTABLECIMIENTO/ESTRATEGIA: ", [1]NOMBRE!B3, " (",[1]NOMBRE!C3,[1]NOMBRE!D3,[1]NOMBRE!E3,[1]NOMBRE!F3,[1]NOMBRE!G3,[1]NOMBRE!H3,")") -> ESTABLECIMIENTO/ESTRATEGIA: 0 (000000)
A4: =CONCATENATE("MES: ",[1]NOMBRE!B6, " (",[1]NOMBRE!C6,[1]NOMBRE!D6,")") -> MES: 0 (00)
A5: =CONCATENATE("AÑO: ",[1]NOMBRE!B7) -> AÑO: 2025
A6: REM-06. PROGRAMA DE SALUD MENTAL ATENCIÓN PRIMARIA Y ESPECIALIDADES
A8: SECCIÓN A.1: CONTROLES DE ATENCIÓN PRIMARIA / ESPECIALIDADES
A9: ACTIVIDAD | B9: PROFESIONAL | C9: TOTAL | F9: RANGO ETARIO Y SEXO | AN9: Beneficiarios | AO9: Niños, Niñas, Adolescentes y Jóvenes SENAME | AP9: Niños, Niñas, Adolescentes y Jóvenes Mejor Niñez | AQ9: Pueblos Originarios | AR9: Migrantes | AS9: Demencia | AT9: TRANS | AV9: Cuidadores de personas con demencia
F10: 0 - 4 años | H10: 5 - 9 años | J10: 10 - 14 años | L10: 15 - 19 años | N10: 20 - 24 años | P10: 25 - 29 años | R10: 30 - 34 años | T10: 35 - 39 años | V10: 40 - 44 años | X10: 45 - 49 años | Z10: 50 - 54 años | AB10: 55 - 59 años | AD10: 60 - 64 años | AF10: 65 - 69 años | AH10: 70 - 74 años | AJ10: 75 - 79 años | AL10: 80 y más años | AT10: Masculino | AU10: Femenino
C11: Ambos Sexos | D11: Hombres | E11: Mujeres | F11: Hombres | G11: Mujeres | H11: Hombres | I11: Mujeres | J11: Hombres | K11: Mujeres | L11: Hombres | M11: Mujeres | N11: Hombres | O11: Mujeres | P11: Hombres | Q11: Mujeres | R11: Hombres | S11: Mujeres | T11: Hombres | U11: Mujeres | V11: Hombres | W11: Mujeres | X11: Hombres | Y11: Mujeres | Z11: Hombres | AA11: Mujeres | AB11: Hombres | AC11: Mujeres | AD11: Hombres | AE11: Mujeres | AF11: Hombres | AG11: Mujeres | AH11: Hombres | AI11: Mujeres | AJ11: Hombres | AK11: Mujeres | AL11: Hombres | AM11: Mujeres
A12: Controles Salud Mental | B12: Médico/a | C12: =SUM(D12+E12) -> 0 | D12: =SUM(F12+H12+J12+L12+N12+P12+R12+T12+V12+X12+Z12+AB12+AD12+AF12+AH12+AJ12+AL12) -> 0 | E12: =SUM(G12+I12+K12+M12+O12+Q12+S12+U12+W12+Y12+AA12+AC12+AE12+AG12+AI12+AK12+AM12) -> 0 | F12: =SUM(ENERO:DICIEMBRE!F12) -> 0 | G12: =SUM(ENERO:DICIEMBRE!G12) -> 0 | H12: =SUM(ENERO:DICIEMBRE!H12) -> 0 | I12: =SUM(ENERO:DICIEMBRE!I12) -> 0 | J12: =SUM(ENERO:DICIEMBRE!J12) -> 0 | K12: =SUM(ENERO:DICIEMBRE!K12) -> 0 | L12: =SUM(ENERO:DICIEMBRE!L12) -> 0 | M12: =SUM(ENERO:DICIEMBRE!M12) -> 0 | ... AV12: =SUM(ENERO:DICIEMBRE!AV12) -> 0 | AW12: =CA12&CB12&CC12&CD12&CE12&CF12&CG12&CH12&CI12 | CA12: =IF(AND($C12>0,AN12="")," * No olvide digitar la variable Beneficiarios. Digite Cero si no tiene.",IF(AN12>$C12," * La variable Beneficiarios No puede ser mayor al Total Ambos Sexos.","")) | CB12: =IF(AND($C12>0,AO12="")," * No olvide digitar la variable Niños, Niñas, adolescentes y Jóvenes SENAME. Digite Cero si no tiene.",IF(AO12>$C12," * La variable Niños, Niñas, adolescentes y Jóvenes SENAME No puede ser mayor al Total Ambos Sexos.","")) | CC12: =IF(AND($C12>0,AP12="")," * No olvide digitar la variable Niños, Niñas, adolescentes y Jóvenes Mejor Niñez. Digite Cero si no tiene.",IF(AP12>$C12," * La variable Niños, Niñas, adolescentes y Jóvenes Mejor Niñez No puede ser mayor al Total Ambos Sexos.","")) | CD12: =IF(AND($C12>0,AQ12="")," * No olvide digitar la variable Pueblos originarios. Digite Cero si no tiene.",IF(AQ12>$C12," * La variable Pueblos Originarios No puede ser mayor al Total Ambos Sexos.","")) | CE12: =IF(AND($C12>0,AR12="")," * No olvide digitar la variable Migrantes. Digite Cero si no tiene.",IF(AR12>$C12," * La variable Migrantes No puede ser mayor al Total Ambos Sexos.","")) | CF12: =IF(AND($C12>0,AS12="")," * No olvide digitar la variable Demencia. Digite Cero si no tiene.",IF(AS12>$C12," * La variable Demencia No puede ser mayor al Total Ambos Sexos.","")) | CG12: =IF(AND($E12>0,OR(AT12=""))," * No olvide digitar la variable Trans (Masculino). Digite Cero si no tiene.",IF((AT12)>$E12," * La variable Trans (Masculino) No puede ser mayor al Total Mujeres.","")) | CH12: =IF(AND(D12>0,OR(AU12=""))," * No olvide digitar la variable Trans (Femenino). Digite Cero si no tiene.",IF((AU12)>D12," * La variable Trans (Femenino) No puede ser mayor al Total Hombres.","")) | CI12: =IF(AND($C12>0,AV12="")," * No olvide digitar la variable Cuidadores de personas con demencia. Digite Cero si no tiene.",IF(AV12>$C12," * La variable Cuidadores de personas con demencia No puede ser mayor al Total Ambos Sexos.","")) | CK12: =IF(AND($C12>0,AN12=""),1,IF(AN12>$C12,1,0)) -> 0 | CL12: =IF(AND($C12>0,AO12=""),1,IF(AO12>$C12,1,0)) -> 0 | CM12: =IF(AND($C12>0,AP12=""),1,IF(AP12>$C12,1,0)) -> 0 | CN12: =IF(AND($C12>0,AQ12=""),1,IF(AQ12>$C12,1,0)) -> 0 | CO12: =IF(AND($C12>0,AR12=""),1,IF(AR12>$C12,1,0)) -> 0 | CP12: =IF(AND($C12>0,AS12=""),1,IF(AS12>$C12,1,0)) -> 0 | CQ12: =IF(AND($E12>0,OR(AT12="")),1,IF((AT12)>$E12,1,0)) -> 0 | CR12: =IF(AND($D12>0,OR(AU12="")),1,IF((AU12)>$D12,1,0)) -> 0 | CS12: =IF(AND($C12>0,AV12=""),1,IF(AV12>$C12,1,0)) -> 0
B13: Psicólogo/a | C13: =SUM(D13+E13) -> 1776 | D13: =SUM(F13+H13+J13+L13+N13+P13+R13+T13+V13+X13+Z13+AB13+AD13+AF13+AH13+AJ13+AL13) -> 419 | E13: =SUM(G13+I13+K13+M13+O13+Q13+S13+U13+W13+Y13+AA13+AC13+AE13+AG13+AI13+AK13+AM13) -> 1357 | F13: =SUM(ENERO:DICIEMBRE!F13) -> 0 | G13: =SUM(ENERO:DICIEMBRE!G13) -> 2 | H13: =SUM(ENERO:DICIEMBRE!H13) -> 9 | I13: =SUM(ENERO:DICIEMBRE!I13) -> 16 | J13: =SUM(ENERO:DICIEMBRE!J13) -> 89 | K13: =SUM(ENERO:DICIEMBRE!K13) -> 384 | L13: =SUM(ENERO:DICIEMBRE!L13) -> 179 | M13: =SUM(ENERO:DICIEMBRE!M13) -> 654 | ... AV13: =SUM(ENERO:DICIEMBRE!AV13) -> 0 | AW13: =CA13&CB13&CC13&CD13&CE13&CF13&CG13&CH13&CI13 | CA13: =IF(AND($C13>0,AN13="")," * No olvide digitar la variable Beneficiarios. Digite Cero si no tiene.",IF(AN13>$C13," * La variable Beneficiarios No puede ser mayor al Total Ambos Sexos.","")) | CB13: =IF(AND($C13>0,AO13="")," * No olvide digitar la variable Niños, Niñas, adolescentes y Jóvenes SENAME. Digite Cero si no tiene.",IF(AO13>$C13," * La variable Niños, Niñas, adolescentes y Jóvenes SENAME No puede ser mayor al Total Ambos Sexos.","")) | CC13: =IF(AND($C13>0,AP13="")," * No olvide digitar la variable Niños, Niñas, adolescentes y Jóvenes Mejor Niñez. Digite Cero si no tiene.",IF(AP13>$C13," * La variable Niños, Niñas, adolescentes y Jóvenes Mejor Niñez No puede ser mayor al Total Ambos Sexos.","")) | CD13: =IF(AND($C13>0,AQ13="")," * No olvide digitar la variable Pueblos originarios. Digite Cero si no tiene.",IF(AQ13>$C13," * La variable Pueblos Originarios No puede ser mayor al Total Ambos Sexos.","")) | CE13: =IF(AND($C13>0,AR13="")," * No olvide digitar la variable Migrantes. Digite Cero si no tiene.",IF(AR13>$C13," * La variable Migrantes No puede ser mayor al Total Ambos Sexos.","")) | CF13: =IF(AND($C13>0,AS13="")," * No olvide digitar la variable Demencia. Digite Cero si no tiene.",IF(AS13>$C13," * La variable Demencia No puede ser mayor al Total Ambos Sexos.","")) | CG13: =IF(AND($E13>0,OR(AT13=""))," * No olvide digitar la variable Trans (Masculino). Digite Cero si no tiene.",IF((AT13)>$E13," * La variable Trans (Masculino) No puede ser mayor al Total Mujeres.","")) | CH13: =IF(AND(D13>0,OR(AU13=""))," * No olvide digitar la variable Trans (Femenino). Digite Cero si no tiene.",IF((AU13)>D13," * La variable Trans (Femenino) No puede ser mayor al Total Hombres.","")) | CI13: =IF(AND($C13>0,AV13="")," * No olvide digitar la variable Cuidadores de personas con demencia. Digite Cero si no tiene.",IF(AV13>$C13," * La variable Cuidadores de personas con demencia No puede ser mayor al Total Ambos Sexos.","")) | CK13: =IF(AND(C13>0,AN13=""),1,IF(AN13>C13,1,0)) -> 0 | CL13: =IF(AND(C13>0,AO13=""),1,IF(AO13>C13,1,0)) -> 0 | CM13: =IF(AND(C13>0,AP13=""),1,IF(AP13>C13,1,0)) -> 0 | CN13: =IF(AND(C13>0,AQ13=""),1,IF(AQ13>C13,1,0)) -> 0 | CO13: =IF(AND(C13>0,AR13=""),1,IF(AR13>C13,1,0)) -> 0 | CP13: =IF(AND(C13>0,AS13=""),1,IF(AS13>C13,1,0)) -> 0 | CQ13: =IF(AND(E13>0,OR(AT13="")),1,IF((AT13)>E13,1,0)) -> 0 | CR13: =IF(AND(D13>0,OR(AU13="")),1,IF((AU13)>D13,1,0)) -> 0 | CS13: =IF(AND($C13>0,AV13=""),1,IF(AV13>$C13,1,0)) -> 0
B14: Enfermera/o | C14: =SUM(D14+E14) -> 2731 | D14: =SUM(F14+H14+J14+L14+N14+P14+R14+T14+V14+X14+Z14+AB14+AD14+AF14+AH14+AJ14+AL14) -> 1296 | E14: =SUM(G14+I14+K14+M14+O14+Q14+S14+U14+W14+Y14+AA14+AC14+AE14+AG14+AI14+AK14+AM14) -> 1435 | F14: =SUM(ENERO:DICIEMBRE!F14) -> 0 | G14: =SUM(ENERO:DICIEMBRE!G14) -> 0 | H14: =SUM(ENERO:DICIEMBRE!H14) -> 0 | I14: =SUM(ENERO:DICIEMBRE!I14) -> 0 | J14: =SUM(ENERO:DICIEMBRE!J14) -> 1 | K14: =SUM(ENERO:DICIEMBRE!K14) -> 3 | L14: =SUM(ENERO:DICIEMBRE!L14) -> 15 | M14: =SUM(ENERO:DICIEMBRE!M14) -> 34 | ... AV14: =SUM(ENERO:DICIEMBRE!AV14) -> 0 | AW14: =CA14&CB14&CC14&CD14&CE14&CF14&CG14&CH14&CI14 | CA14: =IF(AND($C14>0,AN14="")," * No olvide digitar la variable Beneficiarios. Digite Cero si no tiene.",IF(AN14>$C14," * La variable Beneficiarios No puede ser mayor al Total Ambos Sexos.","")) | CB14: =IF(AND($C14>0,AO14="")," * No olvide digitar la variable Niños, Niñas, adolescentes y Jóvenes SENAME. Digite Cero si no tiene.",IF(AO14>$C14," * La variable Niños, Niñas, adolescentes y Jóvenes SENAME No puede ser mayor al Total Ambos Sexos.","")) | CC14: =IF(AND($C14>0,AP14="")," * No olvide digitar la variable Niños, Niñas, adolescentes y Jóvenes Mejor Niñez. Digite Cero si no tiene.",IF(AP14>$C14," * La variable Niños, Niñas, adolescentes y Jóvenes Mejor Niñez No puede ser mayor al Total Ambos Sexos.","")) | CD14: =IF(AND($C14>0,AQ14="")," * No olvide digitar la variable Pueblos originarios. Digite Cero si no tiene.",IF(AQ14>$C14," * La variable Pueblos Originarios No puede ser mayor al Total Ambos Sexos.","")) | CE14: =IF(AND($C14>0,AR14="")," * No olvide digitar la variable Migrantes. Digite Cero si no tiene.",IF(AR14>$C14," * La variable Migrantes No puede ser mayor al Total Ambos Sexos.","")) | CF14: =IF(AND($C14>0,AS14="")," * No olvide digitar la variable Demencia. Digite Cero si no tiene.",IF(AS14>$C14," * La variable Demencia No puede ser mayor al Total Ambos Sexos.","")) | CG14: =IF(AND($E14>0,OR(AT14=""))," * No olvide digitar la variable Trans (Masculino). Digite Cero si no tiene.",IF((AT14)>$E14," * La variable Trans (Masculino) No puede ser mayor al Total Mujeres.","")) | CH14: =IF(AND(D14>0,OR(AU14=""))," * No olvide digitar la variable Trans (Femenino). Digite Cero si no tiene.",IF((AU14)>D14," * La variable Trans (Femenino) No puede ser mayor al Total Hombres.","")) | CI14: =IF(AND($C14>0,AV14="")," * No olvide digitar la variable Cuidadores de personas con demencia. Digite Cero si no tiene.",IF(AV14>$C14," * La variable Cuidadores de personas con demencia No puede ser mayor al Total Ambos Sexos.","")) | CK14: =IF(AND(C14>0,AN14=""),1,IF(AN14>C14,1,0)) -> 0 | CL14: =IF(AND(C14>0,AO14=""),1,IF(AO14>C14,1,0)) -> 0 | CM14: =IF(AND(C14>0,AP14=""),1,IF(AP14>C14,1,0)) -> 0 | CN14: =IF(AND(C14>0,AQ14=""),1,IF(AQ14>C14,1,0)) -> 0 | CO14: =IF(AND(C14>0,AR14=""),1,IF(AR14>C14,1,0)) -> 0 | CP14: =IF(AND(C14>0,AS14=""),1,IF(AS14>C14,1,0)) -> 0 | CQ14: =IF(AND(E14>0,OR(AT14="")),1,IF((AT14)>E14,1,0)) -> 0 | CR14: =IF(AND(D14>0,OR(AU14="")),1,IF((AU14)>D14,1,0)) -> 0 | CS14: =IF(AND($C14>0,AV14=""),1,IF(AV14>$C14,1,0)) -> 0
B15: Matrona/ón | C15: =SUM(D15+E15) -> 0 | D15: =SUM(F15+H15+J15+L15+N15+P15+R15+T15+V15+X15+Z15+AB15+AD15+AF15+AH15+AJ15+AL15) -> 0 | E15: =SUM(G15+I15+K15+M15+O15+Q15+S15+U15+W15+Y15+AA15+AC15+AE15+AG15+AI15+AK15+AM15) -> 0 | F15: =SUM(ENERO:DICIEMBRE!F15) -> 0 | G15: =SUM(ENERO:DICIEMBRE!G15) -> 0 | H15: =SUM(ENERO:DICIEMBRE!H15) -> 0 | I15: =SUM(ENERO:DICIEMBRE!I15) -> 0 | J15: =SUM(ENERO:DICIEMBRE!J15) -> 0 | K15: =SUM(ENERO:DICIEMBRE!K15) -> 0 | L15: =SUM(ENERO:DICIEMBRE!L15) -> 0 | M15: =SUM(ENERO:DICIEMBRE!M15) -> 0 | ... AV15: =SUM(ENERO:DICIEMBRE!AV15) -> 0 | AW15: =CA15&CB15&CC15&CD15&CE15&CF15&CG15&CH15&CI15 | CA15: =IF(AND($C15>0,AN15="")," * No olvide digitar la variable Beneficiarios. Digite Cero si no tiene.",IF(AN15>$C15," * La variable Beneficiarios No puede ser mayor al Total Ambos Sexos.","")) | CB15: =IF(AND($C15>0,AO15="")," * No olvide digitar la variable Niños, Niñas, adolescentes y Jóvenes SENAME. Digite Cero si no tiene.",IF(AO15>$C15," * La variable Niños, Niñas, adolescentes y Jóvenes SENAME No puede ser mayor al Total Ambos Sexos.","")) | CC15: =IF(AND($C15>0,AP15="")," * No olvide digitar la variable Niños, Niñas, adolescentes y Jóvenes Mejor Niñez. Digite Cero si no tiene.",IF(AP15>$C15," * La variable Niños, Niñas, adolescentes y Jóvenes Mejor Niñez No puede ser mayor al Total Ambos Sexos.","")) | CD15: =IF(AND($C15>0,AQ15="")," * No olvide digitar la variable Pueblos originarios. Digite Cero si no tiene.",IF(AQ15>$C15," * La variable Pueblos Originarios No puede ser mayor al Total Ambos Sexos.","")) | CE15: =IF(AND($C15>0,AR15="")," * No olvide digitar la variable Migrantes. Digite Cero si no tiene.",IF(AR15>$C15," * La variable Migrantes No puede ser mayor al Total Ambos Sexos.","")) | CF15: =IF(AND($C15>0,AS15="")," * No olvide digitar la variable Demencia. Digite Cero si no tiene.",IF(AS15>$C15," * La variable Demencia No puede ser mayor al Total Ambos Sexos.","")) | CG15: =IF(AND($E15>0,OR(AT15=""))," * No olvide digitar la variable Trans (Masculino). Digite Cero si no tiene.",IF((AT15)>$E15," * La variable Trans (Masculino) No puede ser mayor al Total Mujeres.","")) | CH15: =IF(AND(D15>0,OR(AU15=""))," * No olvide digitar la variable Trans (Femenino). Digite Cero si no tiene.",IF((AU15)>D15," * La variable Trans (Femenino) No puede ser mayor al Total Hombres.","")) | CI15: =IF(AND($C15>0,AV15="")," * No olvide digitar la variable Cuidadores de personas con demencia. Digite Cero si no tiene.",IF(AV15>$C15," * La variable Cuidadores de personas con demencia No puede ser mayor al Total Ambos Sexos.","")) | CK15: =IF(AND(C15>0,AN15=""),1,IF(AN15>C15,1,0)) -> 0 | CL15: =IF(AND(C15>0,AO15=""),1,IF(AO15>C15,1,0)) -> 0 | CM15: =IF(AND(C15>0,AP15=""),1,IF(AP15>C15,1,0)) -> 0 | CN15: =IF(AND(C15>0,AQ15=""),1,IF(AQ15>C15,1,0)) -> 0 | CO15: =IF(AND(C15>0,AR15=""),1,IF(AR15>C15,1,0)) -> 0 | CP15: =IF(AND(C15>0,AS15=""),1,IF(AS15>C15,1,0)) -> 0 | CQ15: =IF(AND(E15>0,OR(AT15="")),1,IF((AT15)>E15,1,0)) -> 0 | CR15: =IF(AND(D15>0,OR(AU15="")),1,IF((AU15)>D15,1,0)) -> 0 | CS15: =IF(AND($C15>0,AV15=""),1,IF(AV15>$C15,1,0)) -> 0
B16: Trabajador/a Social | C16: =SUM(D16+E16) -> 2014 | D16: =SUM(F16+H16+J16+L16+N16+P16+R16+T16+V16+X16+Z16+AB16+AD16+AF16+AH16+AJ16+AL16) -> 776 | E16: =SUM(G16+I16+K16+M16+O16+Q16+S16+U16+W16+Y16+AA16+AC16+AE16+AG16+AI16+AK16+AM16) -> 1238 | F16: =SUM(ENERO:DICIEMBRE!F16) -> 1 | G16: =SUM(ENERO:DICIEMBRE!G16) -> 0 | H16: =SUM(ENERO:DICIEMBRE!H16) -> 8 | I16: =SUM(ENERO:DICIEMBRE!I16) -> 10 | J16: =SUM(ENERO:DICIEMBRE!J16) -> 61 | K16: =SUM(ENERO:DICIEMBRE!K16) -> 246 | L16: =SUM(ENERO:DICIEMBRE!L16) -> 146 | M16: =SUM(ENERO:DICIEMBRE!M16) -> 383 | ... AV16: =SUM(ENERO:DICIEMBRE!AV16) -> 0 | AW16: =CA16&CB16&CC16&CD16&CE16&CF16&CG16&CH16&CI16 | CA16: =IF(AND($C16>0,AN16="")," * No olvide digitar la variable Beneficiarios. Digite Cero si no tiene.",IF(AN16>$C16," * La variable Beneficiarios No puede ser mayor al Total Ambos Sexos.","")) | CB16: =IF(AND($C16>0,AO16="")," * No olvide digitar la variable Niños, Niñas, adolescentes y Jóvenes SENAME. Digite Cero si no tiene.",IF(AO16>$C16," * La variable Niños, Niñas, adolescentes y Jóvenes SENAME No puede ser mayor al Total Ambos Sexos.","")) | CC16: =IF(AND($C16>0,AP16="")," * No olvide digitar la variable Niños, Niñas, adolescentes y Jóvenes Mejor Niñez. Digite Cero si no tiene.",IF(AP16>$C16," * La variable Niños, Niñas, adolescentes y Jóvenes Mejor Niñez No puede ser mayor al Total Ambos Sexos.","")) | CD16: =IF(AND($C16>0,AQ16="")," * No olvide digitar la variable Pueblos originarios. Digite Cero si no tiene.",IF(AQ16>$C16," * La variable Pueblos Originarios No puede ser mayor al Total Ambos Sexos.","")) | CE16: =IF(AND($C16>0,AR16="")," * No olvide digitar la variable Migrantes. Digite Cero si no tiene.",IF(AR16>$C16," * La variable Migrantes No puede ser mayor al Total Ambos Sexos.","")) | CF16: =IF(AND($C16>0,AS16="")," * No olvide digitar la variable Demencia. Digite Cero si no tiene.",IF(AS16>$C16," * La variable Demencia No puede ser mayor al Total Ambos Sexos.","")) | CG16: =IF(AND($E16>0,OR(AT16=""))," * No olvide digitar la variable Trans (Masculino). Digite Cero si no tiene.",IF((AT16)>$E16," * La variable Trans (Masculino) No puede ser mayor al Total Mujeres.","")) | CH16: =IF(AND(D16>0,OR(AU16=""))," * No olvide digitar la variable Trans (Femenino). Digite Cero si no tiene.",IF((AU16)>D16," * La variable Trans (Femenino) No puede ser mayor al Total Hombres.","")) | CI16: =IF(AND($C16>0,AV16="")," * No olvide digitar la variable Cuidadores de personas con demencia. Digite Cero si no tiene.",IF(AV16>$C16," * La variable Cuidadores de personas con demencia No puede ser mayor al Total Ambos Sexos.","")) | CK16: =IF(AND(C16>0,AN16=""),1,IF(AN16>C16,1,0)) -> 0 | CL16: =IF(AND(C16>0,AO16=""),1,IF(AO16>C16,1,0)) -> 0 | CM16: =IF(AND(C16>0,AP16=""),1,IF(AP16>C16,1,0)) -> 0 | CN16: =IF(AND(C16>0,AQ16=""),1,IF(AQ16>C16,1,0)) -> 0 | CO16: =IF(AND(C16>0,AR16=""),1,IF(AR16>C16,1,0)) -> 0 | CP16: =IF(AND(C16>0,AS16=""),1,IF(AS16>C16,1,0)) -> 0 | CQ16: =IF(AND(E16>0,OR(AT16="")),1,IF((AT16)>E16,1,0)) -> 0 | CR16: =IF(AND(D16>0,OR(AU16="")),1,IF((AU16)>D16,1,0)) -> 0 | CS16: =IF(AND($C16>0,AV16=""),1,IF(AV16>$C16,1,0)) -> 0
B17: Otros Profesionales Capacitados (Salud Mental) | C17: =SUM(D17+E17) -> 0 | D17: =SUM(F17+H17+J17+L17+N17+P17+R17+T17+V17+X17+Z17+AB17+AD17+AF17+AH17+AJ17+AL17) -> 0 | E17: =SUM(G17+I17+K17+M17+O17+Q17+S17+U17+W17+Y17+AA17+AC17+AE17+AG17+AI17+AK17+AM17) -> 0 | F17: =SUM(ENERO:DICIEMBRE!F17) -> 0 | G17: =SUM(ENERO:DICIEMBRE!G17) -> 0 | H17: =SUM(ENERO:DICIEMBRE!H17) -> 0 | I17: =SUM(ENERO:DICIEMBRE!I17) -> 0 | J17: =SUM(ENERO:DICIEMBRE!J17) -> 0 | K17: =SUM(ENERO:DICIEMBRE!K17) -> 0 | L17: =SUM(ENERO:DICIEMBRE!L17) -> 0 | M17: =SUM(ENERO:DICIEMBRE!M17) -> 0 | ... AV17: =SUM(ENERO:DICIEMBRE!AV17) -> 0 | AW17: =CA17&CB17&CC17&CD17&CE17&CF17&CG17&CH17&CI17 | CA17: =IF(AND($C17>0,AN17="")," * No olvide digitar la variable Beneficiarios. Digite Cero si no tiene.",IF(AN17>$C17," * La variable Beneficiarios No puede ser mayor al Total Ambos Sexos.","")) | CB17: =IF(AND($C17>0,AO17="")," * No olvide digitar la variable Niños, Niñas, adolescentes y Jóvenes SENAME. Digite Cero si no tiene.",IF(AO17>$C17," * La variable Niños, Niñas, adolescentes y Jóvenes SENAME No puede ser mayor al Total Ambos Sexos.","")) | CC17: =IF(AND($C17>0,AP17="")," * No olvide digitar la variable Niños, Niñas, adolescentes y Jóvenes Mejor Niñez. Digite Cero si no tiene.",IF(AP17>$C17," * La variable Niños, Niñas, adolescentes y Jóvenes Mejor Niñez No puede ser mayor al Total Ambos Sexos.","")) | CD17: =IF(AND($C17>0,AQ17="")," * No olvide digitar la variable Pueblos originarios. Digite Cero si no tiene.",IF(AQ17>$C17," * La variable Pueblos Originarios No puede ser mayor al Total Ambos Sexos.","")) | CE17: =IF(AND($C17>0,AR17="")," * No olvide digitar la variable Migrantes. Digite Cero si no tiene.",IF(AR17>$C17," * La variable Migrantes No puede ser mayor al Total Ambos Sexos.","")) | CF17: =IF(AND($C17>0,AS17="")," * No olvide digitar la variable Demencia. Digite Cero si no tiene.",IF(AS17>$C17," * La variable Demencia No puede ser mayor al Total Ambos Sexos.","")) | CG17: =IF(AND($E17>0,OR(AT17=""))," * No olvide digitar la variable Trans (Masculino). Digite Cero si no tiene.",IF((AT17)>$E17," * La variable Trans (Masculino) No puede ser mayor al Total Mujeres.","")) | CH17: =IF(AND(D17>0,OR(AU17=""))," * No olvide digitar la variable Trans (Femenino). Digite Cero si no tiene.",IF((AU17)>D17," * La variable Trans (Femenino) No puede ser mayor al Total Hombres.","")) | CI17: =IF(AND($C17>0,AV17="")," * No olvide digitar la variable Cuidadores de personas con demencia. Digite Cero si no tiene.",IF(AV17>$C17," * La variable Cuidadores de personas con demencia No puede ser mayor al Total Ambos Sexos.","")) | CK17: =IF(AND(C17>0,AN17=""),1,IF(AN17>C17,1,0)) -> 0 | CL17: =IF(AND(C17>0,AO17=""),1,IF(AO17>C17,1,0)) -> 0 | CM17: =IF(AND(C17>0,AP17=""),1,IF(AP17>C17,1,0)) -> 0 | CN17: =IF(AND(C17>0,AQ17=""),1,IF(AQ17>C17,1,0)) -> 0 | CO17: =IF(AND(C17>0,AR17=""),1,IF(AR17>C17,1,0)) -> 0 | CP17: =IF(AND(C17>0,AS17=""),1,IF(AS17>C17,1,0)) -> 0 | CQ17: =IF(AND(E17>0,OR(AT17="")),1,IF((AT17)>E17,1,0)) -> 0 | CR17: =IF(AND(D17>0,OR(AU17="")),1,IF((AU17)>D17,1,0)) -> 0 | CS17: =IF(AND($C17>0,AV17=""),1,IF(AV17>$C17,1,0)) -> 0
B18: Terapeuta Ocupacional | C18: =SUM(D18+E18) -> 880 | D18: =SUM(F18+H18+J18+L18+N18+P18+R18+T18+V18+X18+Z18+AB18+AD18+AF18+AH18+AJ18+AL18) -> 479 | E18: =SUM(G18+I18+K18+M18+O18+Q18+S18+U18+W18+Y18+AA18+AC18+AE18+AG18+AI18+AK18+AM18) -> 401 | F18: =SUM(ENERO:DICIEMBRE!F18) -> 1 | G18: =SUM(ENERO:DICIEMBRE!G18) -> 21 | H18: =SUM(ENERO:DICIEMBRE!H18) -> 148 | I18: =SUM(ENERO:DICIEMBRE!I18) -> 69 | J18: =SUM(ENERO:DICIEMBRE!J18) -> 200 | K18: =SUM(ENERO:DICIEMBRE!K18) -> 110 | L18: =SUM(ENERO:DICIEMBRE!L18) -> 129 | M18: =SUM(ENERO:DICIEMBRE!M18) -> 201 | ... AV18: =SUM(ENERO:DICIEMBRE!AV18) -> 0 | AW18: =CA18&CB18&CC18&CD18&CE18&CF18&CG18&CH18&CI18 | CA18: =IF(AND($C18>0,AN18="")," * No olvide digitar la variable Beneficiarios. Digite Cero si no tiene.",IF(AN18>$C18," * La variable Beneficiarios No puede ser mayor al Total Ambos Sexos.","")) | CB18: =IF(AND($C18>0,AO18="")," * No olvide digitar la variable Niños, Niñas, adolescentes y Jóvenes SENAME. Digite Cero si no tiene.",IF(AO18>$C18," * La variable Niños, Niñas, adolescentes y Jóvenes SENAME No puede ser mayor al Total Ambos Sexos.","")) | CC18: =IF(AND($C18>0,AP18="")," * No olvide digitar la variable Niños, Niñas, adolescentes y Jóvenes Mejor Niñez. Digite Cero si no tiene.",IF(AP18>$C18," * La variable Niños, Niñas, adolescentes y Jóvenes Mejor Niñez No puede ser mayor al Total Ambos Sexos.","")) | CD18: =IF(AND($C18>0,AQ18="")," * No olvide digitar la variable Pueblos originarios. Digite Cero si no tiene.",IF(AQ18>$C18," * La variable Pueblos Originarios No puede ser mayor al Total Ambos Sexos.","")) | CE18: =IF(AND($C18>0,AR18="")," * No olvide digitar la variable Migrantes. Digite Cero si no tiene.",IF(AR18>$C18," * La variable Migrantes No puede ser mayor al Total Ambos Sexos.","")) | CF18: =IF(AND($C18>0,AS18="")," * No olvide digitar la variable Demencia. Digite Cero si no tiene.",IF(AS18>$C18," * La variable Demencia No puede ser mayor al Total Ambos Sexos.","")) | CG18: =IF(AND($E18>0,OR(AT18=""))," * No olvide digitar la variable Trans (Masculino). Digite Cero si no tiene.",IF((AT18)>$E18," * La variable Trans (Masculino) No puede ser mayor al Total Mujeres.","")) | CH18: =IF(AND(D18>0,OR(AU18=""))," * No olvide digitar la variable Trans (Femenino). Digite Cero si no tiene.",IF((AU18)>D18," * La variable Trans (Femenino) No puede ser mayor al Total Hombres.","")) | CI18: =IF(AND($C18>0,AV18="")," * No olvide digitar la variable Cuidadores de personas con demencia. Digite Cero si no tiene.",IF(AV18>$C18," * La variable Cuidadores de personas con demencia No puede ser mayor al Total Ambos Sexos.","")) | CK18: =IF(AND(C18>0,AN18=""),1,IF(AN18>C18,1,0)) -> 0 | CL18: =IF(AND(C18>0,AO18=""),1,IF(AO18>C18,1,0)) -> 0 | CM18: =IF(AND(C18>0,AP18=""),1,IF(AP18>C18,1,0)) -> 0 | CN18: =IF(AND(C18>0,AQ18=""),1,IF(AQ18>C18,1,0)) -> 0 | CO18: =IF(AND(C18>0,AR18=""),1,IF(AR18>C18,1,0)) -> 0 | CP18: =IF(AND(C18>0,AS18=""),1,IF(AS18>C18,1,0)) -> 0 | CQ18: =IF(AND(E18>0,OR(AT18="")),1,IF((AT18)>E18,1,0)) -> 0 | CR18: =IF(AND(D18>0,OR(AU18="")),1,IF((AU18)>D18,1,0)) -> 0 | CS18: =IF(AND($C18>0,AV18=""),1,IF(AV18>$C18,1,0)) -> 0
B19: Técnico en Enfermería en Salud Mental | C19: =SUM(D19+E19) -> 0 | D19: =SUM(F19+H19+J19+L19+N19+P19+R19+T19+V19+X19+Z19+AB19+AD19+AF19+AH19+AJ19+AL19) -> 0 | E19: =SUM(G19+I19+K19+M19+O19+Q19+S19+U19+W19+Y19+AA19+AC19+AE19+AG19+AI19+AK19+AM19) -> 0 | F19: =SUM(ENERO:DICIEMBRE!F19) -> 0 | G19: =SUM(ENERO:DICIEMBRE!G19) -> 0 | H19: =SUM(ENERO:DICIEMBRE!H19) -> 0 | I19: =SUM(ENERO:DICIEMBRE!I19) -> 0 | J19: =SUM(ENERO:DICIEMBRE!J19) -> 0 | K19: =SUM(ENERO:DICIEMBRE!K19) -> 0 | L19: =SUM(ENERO:DICIEMBRE!L19) -> 0 | M19: =SUM(ENERO:DICIEMBRE!M19) -> 0 | ... AV19: =SUM(ENERO:DICIEMBRE!AV19) -> 0 | AW19: =CA19&CB19&CC19&CD19&CE19&CF19&CG19&CH19&CI19 | CA19: =IF(AND($C19>0,AN19="")," * No olvide digitar la variable Beneficiarios. Digite Cero si no tiene.",IF(AN19>$C19," * La variable Beneficiarios No puede ser mayor al Total Ambos Sexos.","")) | CB19: =IF(AND($C19>0,AO19="")," * No olvide digitar la variable Niños, Niñas, adolescentes y Jóvenes SENAME. Digite Cero si no tiene.",IF(AO19>$C19," * La variable Niños, Niñas, adolescentes y Jóvenes SENAME No puede ser mayor al Total Ambos Sexos.","")) | CC19: =IF(AND($C19>0,AP19="")," * No olvide digitar la variable Niños, Niñas, adolescentes y Jóvenes Mejor Niñez. Digite Cero si no tiene.",IF(AP19>$C19," * La variable Niños, Niñas, adolescentes y Jóvenes Mejor Niñez No puede ser mayor al Total Ambos Sexos.","")) | CD19: =IF(AND($C19>0,AQ19="")," * No olvide digitar la variable Pueblos originarios. Digite Cero si no tiene.",IF(AQ19>$C19," * La variable Pueblos Originarios No puede ser mayor al Total Ambos Sexos.","")) | CE19: =IF(AND($C19>0,AR19="")," * No olvide digitar la variable Migrantes. Digite Cero si no tiene.",IF(AR19>$C19," * La variable Migrantes No puede ser mayor al Total Ambos Sexos.","")) | CF19: =IF(AND($C19>0,AS19="")," * No olvide digitar la variable Demencia. Digite Cero si no tiene.",IF(AS19>$C19," * La variable Demencia No puede ser mayor al Total Ambos Sexos.","")) | CG19: =IF(AND($E19>0,OR(AT19=""))," * No olvide digitar la variable Trans (Masculino). Digite Cero si no tiene.",IF((AT19)>$E19," * La variable Trans (Masculino) No puede ser mayor al Total Mujeres.","")) | CH19: =IF(AND(D19>0,OR(AU19=""))," * No olvide digitar la variable Trans (Femenino). Digite Cero si no tiene.",IF((AU19)>D19," * La variable Trans (Femenino) No puede ser mayor al Total Hombres.","")) | CI19: =IF(AND($C19>0,AV19="")," * No olvide digitar la variable Cuidadores de personas con demencia. Digite Cero si no tiene.",IF(AV19>$C19," * La variable Cuidadores de personas con demencia No puede ser mayor al Total Ambos Sexos.","")) | CK19: =IF(AND(C19>0,AN19=""),1,IF(AN19>C19,1,0)) -> 0 | CL19: =IF(AND(C19>0,AO19=""),1,IF(AO19>C19,1,0)) -> 0 | CM19: =IF(AND(C19>0,AP19=""),1,IF(AP19>C19,1,0)) -> 0 | CN19: =IF(AND(C19>0,AQ19=""),1,IF(AQ19>C19,1,0)) -> 0 | CO19: =IF(AND(C19>0,AR19=""),1,IF(AR19>C19,1,0)) -> 0 | CP19: =IF(AND(C19>0,AS19=""),1,IF(AS19>C19,1,0)) -> 0 | CQ19: =IF(AND(E19>0,OR(AT19="")),1,IF((AT19)>E19,1,0)) -> 0 | CR19: =IF(AND(D19>0,OR(AU19="")),1,IF((AU19)>D19,1,0)) -> 0 | CS19: =IF(AND($C19>0,AV19=""),1,IF(AV19>$C19,1,0)) -> 0
B20: Gestor Comunitario | C20: =SUM(D20+E20) -> 0 | D20: =SUM(F20+H20+J20+L20+N20+P20+R20+T20+V20+X20+Z20+AB20+AD20+AF20+AH20+AJ20+AL20) -> 0 | E20: =SUM(G20+I20+K20+M20+O20+Q20+S20+U20+W20+Y20+AA20+AC20+AE20+AG20+AI20+AK20+AM20) -> 0 | F20: =SUM(ENERO:DICIEMBRE!F20) -> 0 | G20: =SUM(ENERO:DICIEMBRE!G20) -> 0 | H20: =SUM(ENERO:DICIEMBRE!H20) -> 0 | I20: =SUM(ENERO:DICIEMBRE!I20) -> 0 | J20: =SUM(ENERO:DICIEMBRE!J20) -> 0 | K20: =SUM(ENERO:DICIEMBRE!K20) -> 0 | L20: =SUM(ENERO:DICIEMBRE!L20) -> 0 | M20: =SUM(ENERO:DICIEMBRE!M20) -> 0 | ... AV20: =SUM(ENERO:DICIEMBRE!AV20) -> 0 | AW20: =CA20&CB20&CC20&CD20&CE20&CF20&CG20&CH20&CI20 | CA20: =IF(AND($C20>0,AN20="")," * No olvide digitar la variable Beneficiarios. Digite Cero si no tiene.",IF(AN20>$C20," * La variable Beneficiarios No puede ser mayor al Total Ambos Sexos.","")) | CB20: =IF(AND($C20>0,AO20="")," * No olvide digitar la variable Niños, Niñas, adolescentes y Jóvenes SENAME. Digite Cero si no tiene.",IF(AO20>$C20," * La variable Niños, Niñas, adolescentes y Jóvenes SENAME No puede ser mayor al Total Ambos Sexos.","")) | CC20: =IF(AND($C20>0,AP20="")," * No olvide digitar la variable Niños, Niñas, adolescentes y Jóvenes Mejor Niñez. Digite Cero si no tiene.",IF(AP20>$C20," * La variable Niños, Niñas, adolescentes y Jóvenes Mejor Niñez No puede ser mayor al Total Ambos Sexos.","")) | CD20: =IF(AND($C20>0,AQ20="")," * No olvide digitar la variable Pueblos originarios. Digite Cero si no tiene.",IF(AQ20>$C20," * La variable Pueblos Originarios No puede ser mayor al Total Ambos Sexos.","")) | CE20: =IF(AND($C20>0,AR20="")," * No olvide digitar la variable Migrantes. Digite Cero si no tiene.",IF(AR20>$C20," * La variable Migrantes No puede ser mayor al Total Ambos Sexos.","")) | CF20: =IF(AND($C20>0,AS20="")," * No olvide digitar la variable Demencia. Digite Cero si no tiene.",IF(AS20>$C20," * La variable Demencia No puede ser mayor al Total Ambos Sexos.","")) | CG20: =IF(AND($E20>0,OR(AT20=""))," * No olvide digitar la variable Trans (Masculino). Digite Cero si no tiene.",IF((AT20)>$E20," * La variable Trans (Masculino) No puede ser mayor al Total Mujeres.","")) | CH20: =IF(AND(D20>0,OR(AU20=""))," * No olvide digitar la variable Trans (Femenino). Digite Cero si no tiene.",IF((AU20)>D20," * La variable Trans (Femenino) No puede ser mayor al Total Hombres.","")) | CI20: =IF(AND($C20>0,AV20="")," * No olvide digitar la variable Cuidadores de personas con demencia. Digite Cero si no tiene.",IF(AV20>$C20," * La variable Cuidadores de personas con demencia No puede ser mayor al Total Ambos Sexos.","")) | CK20: =IF(AND(C20>0,AN20=""),1,IF(AN20>C20,1,0)) -> 0 | CL20: =IF(AND(C20>0,AO20=""),1,IF(AO20>C20,1,0)) -> 0 | CM20: =IF(AND(C20>0,AP20=""),1,IF(AP20>C20,1,0)) -> 0 | CN20: =IF(AND(C20>0,AQ20=""),1,IF(AQ20>C20,1,0)) -> 0 | CO20: =IF(AND(C20>0,AR20=""),1,IF(AR20>C20,1,0)) -> 0 | CP20: =IF(AND(C20>0,AS20=""),1,IF(AS20>C20,1,0)) -> 0 | CQ20: =IF(AND(E20>0,OR(AT20="")),1,IF((AT20)>E20,1,0)) -> 0 | CR20: =IF(AND(D20>0,OR(AU20="")),1,IF((AU20)>D20,1,0)) -> 0 | CS20: =IF(AND($C20>0,AV20=""),1,IF(AV20>$C20,1,0)) -> 0
B21: Técnico Rehabilitación Alcohol y Drogas | C21: =SUM(D21+E21) -> 0 | D21: =SUM(F21+H21+J21+L21+N21+P21+R21+T21+V21+X21+Z21+AB21+AD21+AF21+AH21+AJ21+AL21) -> 0 | E21: =SUM(G21+I21+K21+M21+O21+Q21+S21+U21+W21+Y21+AA21+AC21+AE21+AG21+AI21+AK21+AM21) -> 0 | F21: =SUM(ENERO:DICIEMBRE!F21) -> 0 | G21: =SUM(ENERO:DICIEMBRE!G21) -> 0 | H21: =SUM(ENERO:DICIEMBRE!H21) -> 0 | I21: =SUM(ENERO:DICIEMBRE!I21) -> 0 | J21: =SUM(ENERO:DICIEMBRE!J21) -> 0 | K21: =SUM(ENERO:DICIEMBRE!K21) -> 0 | L21: =SUM(ENERO:DICIEMBRE!L21) -> 0 | M21: =SUM(ENERO:DICIEMBRE!M21) -> 0 | ... AV21: =SUM(ENERO:DICIEMBRE!AV21) -> 0 | AW21: =CA21&CB21&CC21&CD21&CE21&CF21&CG21&CH21&CI21 | CA21: =IF(AND($C21>0,AN21="")," * No olvide digitar la variable Beneficiarios. Digite Cero si no tiene.",IF(AN21>$C21," * La variable Beneficiarios No puede ser mayor al Total Ambos Sexos.","")) | CB21: =IF(AND($C21>0,AO21="")," * No olvide digitar la variable Niños, Niñas, adolescentes y Jóvenes SENAME. Digite Cero si no tiene.",IF(AO21>$C21," * La variable Niños, Niñas, adolescentes y Jóvenes SENAME No puede ser mayor al Total Ambos Sexos.","")) | CC21: =IF(AND($C21>0,AP21="")," * No olvide digitar la variable Niños, Niñas, adolescentes y Jóvenes Mejor Niñez. Digite Cero si no tiene.",IF(AP21>$C21," * La variable Niños, Niñas, adolescentes y Jóvenes Mejor Niñez No puede ser mayor al Total Ambos Sexos.","")) | CD21: =IF(AND($C21>0,AQ21="")," * No olvide digitar la variable Pueblos originarios. Digite Cero si no tiene.",IF(AQ21>$C21," * La variable Pueblos Originarios No puede ser mayor al Total Ambos Sexos.","")) | CE21: =IF(AND($C21>0,AR21="")," * No olvide digitar la variable Migrantes. Digite Cero si no tiene.",IF(AR21>$C21," * La variable Migrantes No puede ser mayor al Total Ambos Sexos.","")) | CF21: =IF(AND($C21>0,AS21="")," * No olvide digitar la variable Demencia. Digite Cero si no tiene.",IF(AS21>$C21," * La variable Demencia No puede ser mayor al Total Ambos Sexos.","")) | CG21: =IF(AND($E21>0,OR(AT21=""))," * No olvide digitar la variable Trans (Masculino). Digite Cero si no tiene.",IF((AT21)>$E21," * La variable Trans (Masculino) No puede ser mayor al Total Mujeres.","")) | CH21: =IF(AND(D21>0,OR(AU21=""))," * No olvide digitar la variable Trans (Femenino). Digite Cero si no tiene.",IF((AU21)>D21," * La variable Trans (Femenino) No puede ser mayor al Total Hombres.","")) | CI21: =IF(AND($C21>0,AV21="")," * No olvide digitar la variable Cuidadores de personas con demencia. Digite Cero si no tiene.",IF(AV21>$C21," * La variable Cuidadores de personas con demencia No puede ser mayor al Total Ambos Sexos.","")) | CK21: =IF(AND(C21>0,AN21=""),1,IF(AN21>C21,1,0)) -> 0 | CL21: =IF(AND(C21>0,AO21=""),1,IF(AO21>C21,1,0)) -> 0 | CM21: =IF(AND(C21>0,AP21=""),1,IF(AP21>C21,1,0)) -> 0 | CN21: =IF(AND(C21>0,AQ21=""),1,IF(AQ21>C21,1,0)) -> 0 | CO21: =IF(AND(C21>0,AR21=""),1,IF(AR21>C21,1,0)) -> 0 | CP21: =IF(AND(C21>0,AS21=""),1,IF(AS21>C21,1,0)) -> 0 | CQ21: =IF(AND(E21>0,OR(AT21="")),1,IF((AT21)>E21,1,0)) -> 0 | CR21: =IF(AND(D21>0,OR(AU21="")),1,IF((AU21)>D21,1,0)) -> 0 | CS21: =IF(AND($C21>0,AV21=""),1,IF(AV21>$C21,1,0)) -> 0
B22: TOTAL | C22: =SUM(D22+E22) -> 7401 | D22: =SUM(F22+H22+J22+L22+N22+P22+R22+T22+V22+X22+Z22+AB22+AD22+AF22+AH22+AJ22+AL22) -> 2970 | E22: =SUM(G22+I22+K22+M22+O22+Q22+S22+U22+W22+Y22+AA22+AC22+AE22+AG22+AI22+AK22+AM22) -> 4431 | F22: =SUM(F12:F21) -> 2 | G22: =SUM(G12:G21) -> 23 | H22: =SUM(H12:H21) -> 165 | I22: =SUM(I12:I21) -> 95 | J22: =SUM(J12:J21) -> 351 | K22: =SUM(K12:K21) -> 743 | L22: =SUM(L12:L21) -> 469 | M22: =SUM(M12:M21) -> 1272 | ... AV22: =SUM(AV12:AV21) -> 0
A23: Intervención Psicosocial Grupal | C23: =SUM(D23+E23) -> 68 | D23: =SUM(F23+H23+J23+L23+N23+P23+R23+T23+V23+X23+Z23+AB23+AD23+AF23+AH23+AJ23+AL23) -> 30 | E23: =SUM(G23+I23+K23+M23+O23+Q23+S23+U23+W23+Y23+AA23+AC23+AE23+AG23+AI23+AK23+AM23) -> 38 | F23: =SUM(ENERO:DICIEMBRE!F23) -> 0 | G23: =SUM(ENERO:DICIEMBRE!G23) -> 0 | H23: =SUM(ENERO:DICIEMBRE!H23) -> 2 | I23: =SUM(ENERO:DICIEMBRE!I23) -> 2 | J23: =SUM(ENERO:DICIEMBRE!J23) -> 16 | K23: =SUM(ENERO:DICIEMBRE!K23) -> 10 | L23: =SUM(ENERO:DICIEMBRE!L23) -> 8 | M23: =SUM(ENERO:DICIEMBRE!M23) -> 7 | ... AV23: =SUM(ENERO:DICIEMBRE!AV23) -> 0 | AW23: =CA23&CB23&CC23&CD23&CE23&CF23&CG23&CH23&CI23 | CA23: =IF(AND($C23>0,AN23="")," * No olvide digitar la variable Beneficiarios. Digite Cero si no tiene.",IF(AN23>$C23," * La variable Beneficiarios No puede ser mayor al Total Ambos Sexos.","")) | CB23: =IF(AND($C23>0,AO23="")," * No olvide digitar la variable Niños, Niñas, adolescentes y Jóvenes SENAME. Digite Cero si no tiene.",IF(AO23>$C23," * La variable Niños, Niñas, adolescentes y Jóvenes SENAME No puede ser mayor al Total Ambos Sexos.","")) | CC23: =IF(AND($C23>0,AP23="")," * No olvide digitar la variable Niños, Niñas, adolescentes y Jóvenes Mejor Niñez. Digite Cero si no tiene.",IF(AP23>$C23," * La variable Niños, Niñas, adolescentes y Jóvenes Mejor Niñez No puede ser mayor al Total Ambos Sexos.","")) | CD23: =IF(AND($C23>0,AQ23="")," * No olvide digitar la variable Pueblos originarios. Digite Cero si no tiene.",IF(AQ23>$C23," * La variable Pueblos Originarios No puede ser mayor al Total Ambos Sexos.","")) | CE23: =IF(AND($C23>0,AR23="")," * No olvide digitar la variable Migrantes. Digite Cero si no tiene.",IF(AR23>$C23," * La variable Migrantes No puede ser mayor al Total Ambos Sexos.","")) | CF23: =IF(AND($C23>0,AS23="")," * No olvide digitar la variable Demencia. Digite Cero si no tiene.",IF(AS23>$C23," * La variable Demencia No puede ser mayor al Total Ambos Sexos.","")) | CG23: =IF(AND($E23>0,OR(AT23=""))," * No olvide digitar la variable Trans (Masculino). Digite Cero si no tiene.",IF((AT23)>$E23," * La variable Trans (Masculino) No puede ser mayor al Total Mujeres.","")) | CH23: =IF(AND(D23>0,OR(AU23=""))," * No olvide digitar la variable Trans (Femenino). Digite Cero si no tiene.",IF((AU23)>D23," * La variable Trans (Femenino) No puede ser mayor al Total Hombres.","")) | CI23: =IF(AND($C23>0,AV23="")," * No olvide digitar la variable Cuidadores de personas con demencia. Digite Cero si no tiene.",IF(AV23>$C23," * La variable Cuidadores de personas con demencia No puede ser mayor al Total Ambos Sexos.","")) | CK23: =IF(AND(C23>0,AN23=""),1,IF(AN23>C23,1,0)) -> 0 | CL23: =IF(AND(C23>0,AO23=""),1,IF(AO23>C23,1,0)) -> 0 | CM23: =IF(AND(C23>0,AP23=""),1,IF(AP23>C23,1,0)) -> 0 | CN23: =IF(AND(C23>0,AQ23=""),1,IF(AQ23>C23,1,0)) -> 0 | CO23: =IF(AND(C23>0,AR23=""),1,IF(AR23>C23,1,0)) -> 0 | CP23: =IF(AND(C23>0,AS23=""),1,IF(AS23>C23,1,0)) -> 0 | CQ23: =IF(AND(E23>0,OR(AT23="")),1,IF((AT23)>E23,1,0)) -> 0 | CR23: =IF(AND(D23>0,OR(AU23="")),1,IF((AU23)>D23,1,0)) -> 0 | CS23: =IF(AND($C23>0,AV23=""),1,IF(AV23>$C23,1,0)) -> 0
A24: Psicodiagnóstico | B24: Psicólogo/a | C24: =SUM(D24+E24) -> 30 | D24: =SUM(F24+H24+J24+L24+N24+P24+R24+T24+V24+X24+Z24+AB24+AD24+AF24+AH24+AJ24+AL24) -> 13 | E24: =SUM(G24+I24+K24+M24+O24+Q24+S24+U24+W24+Y24+AA24+AC24+AE24+AG24+AI24+AK24+AM24) -> 17 | F24: =SUM(ENERO:DICIEMBRE!F24) -> 3 | G24: =SUM(ENERO:DICIEMBRE!G24) -> 0 | H24: =SUM(ENERO:DICIEMBRE!H24) -> 5 | I24: =SUM(ENERO:DICIEMBRE!I24) -> 0 | J24: =SUM(ENERO:DICIEMBRE!J24) -> 2 | K24: =SUM(ENERO:DICIEMBRE!K24) -> 3 | L24: =SUM(ENERO:DICIEMBRE!L24) -> 0 | M24: =SUM(ENERO:DICIEMBRE!M24) -> 7 | ... AV24: =SUM(ENERO:DICIEMBRE!AV24) -> 0 | AW24: =CA24&CB24&CC24&CD24&CE24&CF24&CG24&CH24&CI24 | CA24: =IF(AND($C24>0,AN24="")," * No olvide digitar la variable Beneficiarios. Digite Cero si no tiene.",IF(AN24>$C24," * La variable Beneficiarios No puede ser mayor al Total Ambos Sexos.","")) | CB24: =IF(AND($C24>0,AO24="")," * No olvide digitar la variable Niños, Niñas, adolescentes y Jóvenes SENAME. Digite Cero si no tiene.",IF(AO24>$C24," * La variable Niños, Niñas, adolescentes y Jóvenes SENAME No puede ser mayor al Total Ambos Sexos.","")) | CC24: =IF(AND($C24>0,AP24="")," * No olvide digitar la variable Niños, Niñas, adolescentes y Jóvenes Mejor Niñez. Digite Cero si no tiene.",IF(AP24>$C24," * La variable Niños, Niñas, adolescentes y Jóvenes Mejor Niñez No puede ser mayor al Total Ambos Sexos.","")) | CD24: =IF(AND($C24>0,AQ24="")," * No olvide digitar la variable Pueblos originarios. Digite Cero si no tiene.",IF(AQ24>$C24," * La variable Pueblos Originarios No puede ser mayor al Total Ambos Sexos.","")) | CE24: =IF(AND($C24>0,AR24="")," * No olvide digitar la variable Migrantes. Digite Cero si no tiene.",IF(AR24>$C24," * La variable Migrantes No puede ser mayor al Total Ambos Sexos.","")) | CF24: =IF(AND($C24>0,AS24="")," * No olvide digitar la variable Demencia. Digite Cero si no tiene.",IF(AS24>$C24," * La variable Demencia No puede ser mayor al Total Ambos Sexos.","")) | CG24: =IF(AND($E24>0,OR(AT24=""))," * No olvide digitar la variable Trans (Masculino). Digite Cero si no tiene.",IF((AT24)>$E24," * La variable Trans (Masculino) No puede ser mayor al Total Mujeres.","")) | CH24: =IF(AND(D24>0,OR(AU24=""))," * No olvide digitar la variable Trans (Femenino). Digite Cero si no tiene.",IF((AU24)>D24," * La variable Trans (Femenino) No puede ser mayor al Total Hombres.","")) | CI24: =IF(AND($C24>0,AV24="")," * No olvide digitar la variable Cuidadores de personas con demencia. Digite Cero si no tiene.",IF(AV24>$C24," * La variable Cuidadores de personas con demencia No puede ser mayor al Total Ambos Sexos.","")) | CK24: =IF(AND(C24>0,AN24=""),1,IF(AN24>C24,1,0)) -> 0 | CL24: =IF(AND(C24>0,AO24=""),1,IF(AO24>C24,1,0)) -> 0 | CM24: =IF(AND(C24>0,AP24=""),1,IF(AP24>C24,1,0)) -> 0 | CN24: =IF(AND(C24>0,AQ24=""),1,IF(AQ24>C24,1,0)) -> 0 | CO24: =IF(AND(C24>0,AR24=""),1,IF(AR24>C24,1,0)) -> 0 | CP24: =IF(AND(C24>0,AS24=""),1,IF(AS24>C24,1,0)) -> 0 | CQ24: =IF(AND(E24>0,OR(AT24="")),1,IF((AT24)>E24,1,0)) -> 0 | CR24: =IF(AND(D24>0,OR(AU24="")),1,IF((AU24)>D24,1,0)) -> 0 | CS24: =IF(AND($C24>0,AV24=""),1,IF(AV24>$C24,1,0)) -> 0
A25: Psicoterapia Individual | B25: Psicólogo/a | C25: =SUM(D25+E25) -> 3119 | D25: =SUM(F25+H25+J25+L25+N25+P25+R25+T25+V25+X25+Z25+AB25+AD25+AF25+AH25+AJ25+AL25) -> 864 | E25: =SUM(G25+I25+K25+M25+O25+Q25+S25+U25+W25+Y25+AA25+AC25+AE25+AG25+AI25+AK25+AM25) -> 2255 | F25: =SUM(ENERO:DICIEMBRE!F25) -> 0 | G25: =SUM(ENERO:DICIEMBRE!G25) -> 1 | H25: =SUM(ENERO:DICIEMBRE!H25) -> 9 | I25: =SUM(ENERO:DICIEMBRE!I25) -> 9 | J25: =SUM(ENERO:DICIEMBRE!J25) -> 40 | K25: =SUM(ENERO:DICIEMBRE!K25) -> 133 | L25: =SUM(ENERO:DICIEMBRE!L25) -> 28 | M25: =SUM(ENERO:DICIEMBRE!M25) -> 408 | ... AV25: =SUM(ENERO:DICIEMBRE!AV25) -> 0 | AW25: =CA25&CB25&CC25&CD25&CE25&CF25&CG25&CH25&CI25 | CA25: =IF(AND($C25>0,AN25="")," * No olvide digitar la variable Beneficiarios. Digite Cero si no tiene.",IF(AN25>$C25," * La variable Beneficiarios No puede ser mayor al Total Ambos Sexos.","")) | CB25: =IF(AND($C25>0,AO25="")," * No olvide digitar la variable Niños, Niñas, adolescentes y Jóvenes SENAME. Digite Cero si no tiene.",IF(AO25>$C25," * La variable Niños, Niñas, adolescentes y Jóvenes SENAME No puede ser mayor al Total Ambos Sexos.","")) | CC25: =IF(AND($C25>0,AP25="")," * No olvide digitar la variable Niños, Niñas, adolescentes y Jóvenes Mejor Niñez. Digite Cero si no tiene.",IF(AP25>$C25," * La variable Niños, Niñas, adolescentes y Jóvenes Mejor Niñez No puede ser mayor al Total Ambos Sexos.","")) | CD25: =IF(AND($C25>0,AQ25="")," * No olvide digitar la variable Pueblos originarios. Digite Cero si no tiene.",IF(AQ25>$C25," * La variable Pueblos Originarios No puede ser mayor al Total Ambos Sexos.","")) | CE25: =IF(AND($C25>0,AR25="")," * No olvide digitar la variable Migrantes. Digite Cero si no tiene.",IF(AR25>$C25," * La variable Migrantes No puede ser mayor al Total Ambos Sexos.","")) | CF25: =IF(AND($C25>0,AS25="")," * No olvide digitar la variable Demencia. Digite Cero si no tiene.",IF(AS25>$C25," * La variable Demencia No puede ser mayor al Total Ambos Sexos.","")) | CG25: =IF(AND($E25>0,OR(AT25=""))," * No olvide digitar la variable Trans (Masculino). Digite Cero si no tiene.",IF((AT25)>$E25," * La variable Trans (Masculino) No puede ser mayor al Total Mujeres.","")) | CH25: =IF(AND(D25>0,OR(AU25=""))," * No olvide digitar la variable Trans (Femenino). Digite Cero si no tiene.",IF((AU25)>D25," * La variable Trans (Femenino) No puede ser mayor al Total Hombres.","")) | CI25: =IF(AND($C25>0,AV25="")," * No olvide digitar la variable Cuidadores de personas con demencia. Digite Cero si no tiene.",IF(AV25>$C25," * La variable Cuidadores de personas con demencia No puede ser mayor al Total Ambos Sexos.","")) | CK25: =IF(AND(C25>0,AN25=""),1,IF(AN25>C25,1,0)) -> 0 | CL25: =IF(AND(C25>0,AO25=""),1,IF(AO25>C25,1,0)) -> 0 | CM25: =IF(AND(C25>0,AP25=""),1,IF(AP25>C25,1,0)) -> 0 | CN25: =IF(AND(C25>0,AQ25=""),1,IF(AQ25>C25,1,0)) -> 0 | CO25: =IF(AND(C25>0,AR25=""),1,IF(AR25>C25,1,0)) -> 0 | CP25: =IF(AND(C25>0,AS25=""),1,IF(AS25>C25,1,0)) -> 0 | CQ25: =IF(AND(E25>0,OR(AT25="")),1,IF((AT25)>E25,1,0)) -> 0 | CR25: =IF(AND(D25>0,OR(AU25="")),1,IF((AU25)>D25,1,0)) -> 0 | CS25: =IF(AND($C25>0,AV25=""),1,IF(AV25>$C25,1,0)) -> 0
B26: Médico/a Psiquiatra | C26: =SUM(D26+E26) -> 0 | D26: =SUM(F26+H26+J26+L26+N26+P26+R26+T26+V26+X26+Z26+AB26+AD26+AF26+AH26+AJ26+AL26) -> 0 | E26: =SUM(G26+I26+K26+M26+O26+Q26+S26+U26+W26+Y26+AA26+AC26+AE26+AG26+AI26+AK26+AM26) -> 0 | F26: =SUM(ENERO:DICIEMBRE!F26) -> 0 | G26: =SUM(ENERO:DICIEMBRE!G26) -> 0 | H26: =SUM(ENERO:DICIEMBRE!H26) -> 0 | I26: =SUM(ENERO:DICIEMBRE!I26) -> 0 | J26: =SUM(ENERO:DICIEMBRE!J26) -> 0 | K26: =SUM(ENERO:DICIEMBRE!K26) -> 0 | L26: =SUM(ENERO:DICIEMBRE!L26) -> 0 | M26: =SUM(ENERO:DICIEMBRE!M26) -> 0 | ... AV26: =SUM(ENERO:DICIEMBRE!AV26) -> 0 | AW26: =CA26&CB26&CC26&CD26&CE26&CF26&CG26&CH26&CI26 | CA26: =IF(AND($C26>0,AN26="")," * No olvide digitar la variable Beneficiarios. Digite Cero si no tiene.",IF(AN26>$C26," * La variable Beneficiarios No puede ser mayor al Total Ambos Sexos.","")) | CB26: =IF(AND($C26>0,AO26="")," * No olvide digitar la variable Niños, Niñas, adolescentes y Jóvenes SENAME. Digite Cero si no tiene.",IF(AO26>$C26," * La variable Niños, Niñas, adolescentes y Jóvenes SENAME No puede ser mayor al Total Ambos Sexos.","")) | CC26: =IF(AND($C26>0,AP26="")," * No olvide digitar la variable Niños, Niñas, adolescentes y Jóvenes Mejor Niñez. Digite Cero si no tiene.",IF(AP26>$C26," * La variable Niños, Niñas, adolescentes y Jóvenes Mejor Niñez No puede ser mayor al Total Ambos Sexos.","")) | CD26: =IF(AND($C26>0,AQ26="")," * No olvide digitar la variable Pueblos originarios. Digite Cero si no tiene.",IF(AQ26>$C26," * La variable Pueblos Originarios No puede ser mayor al Total Ambos Sexos.","")) | CE26: =IF(AND($C26>0,AR26="")," * No olvide digitar la variable Migrantes. Digite Cero si no tiene.",IF(AR26>$C26," * La variable Migrantes No puede ser mayor al Total Ambos Sexos.","")) | CF26: =IF(AND($C26>0,AS26="")," * No olvide digitar la variable Demencia. Digite Cero si no tiene.",IF(AS26>$C26," * La variable Demencia No puede ser mayor al Total Ambos Sexos.","")) | CG26: =IF(AND($E26>0,OR(AT26=""))," * No olvide digitar la variable Trans (Masculino). Digite Cero si no tiene.",IF((AT26)>$E26," * La variable Trans (Masculino) No puede ser mayor al Total Mujeres.","")) | CH26: =IF(AND(D26>0,OR(AU26=""))," * No olvide digitar la variable Trans (Femenino). Digite Cero si no tiene.",IF((AU26)>D26," * La variable Trans (Femenino) No puede ser mayor al Total Hombres.","")) | CI26: =IF(AND($C26>0,AV26="")," * No olvide digitar la variable Cuidadores de personas con demencia. Digite Cero si no tiene.",IF(AV26>$C26," * La variable Cuidadores de personas con demencia No puede ser mayor al Total Ambos Sexos.","")) | CK26: =IF(AND(C26>0,AN26=""),1,IF(AN26>C26,1,0)) -> 0 | CL26: =IF(AND(C26>0,AO26=""),1,IF(AO26>C26,1,0)) -> 0 | CM26: =IF(AND(C26>0,AP26=""),1,IF(AP26>C26,1,0)) -> 0 | CN26: =IF(AND(C26>0,AQ26=""),1,IF(AQ26>C26,1,0)) -> 0 | CO26: =IF(AND(C26>0,AR26=""),1,IF(AR26>C26,1,0)) -> 0 | CP26: =IF(AND(C26>0,AS26=""),1,IF(AS26>C26,1,0)) -> 0 | CQ26: =IF(AND(E26>0,OR(AT26="")),1,IF((AT26)>E26,1,0)) -> 0 | CR26: =IF(AND(D26>0,OR(AU26="")),1,IF((AU26)>D26,1,0)) -> 0 | CS26: =IF(AND($C26>0,AV26=""),1,IF(AV26>$C26,1,0)) -> 0
A27: SECCIÓN A.2: CONSULTORÍAS DE SALUD MENTAL EN APS
A28: ACTIVIDAD | B28: TOTAL CONSULTORÍAS Y TELECONSULTORÍAS RECIBIDAS | C28: CONSULTORÍAS Y TELECONSULTORÍAS RECIBIDAS | E28: TOTAL Nº DE CASOS REVISADOS | H28: 0 - 4 años | J28: 5 - 9 años | L28: 10 - 14 años | N28: 15 - 19 años | P28: 20 - 24 años | R28: 25 - 29 años | T28: 30 - 34 años | V28: 35 - 39 años | X28: 40 - 44 años | Z28: 45 - 49 años | AB28: 50 - 54 años | AD28: 55 - 59 años | AF28: 60 - 64 años | AH28: 65 - 69 años | AJ28: 70 - 74 años | AL28: 75 - 79 años | AN28: 80 y más años | AP28: Pueblos Originarios | AQ28: Migrantes | AR28: Niños, Niñas, Adolescentes y Jóvenes SENAME | AS28: Niños, Niñas, Adolescentes y Jóvenes Mejor Niñez | AT28: Personas con sospecha de demencia | AU28: Personas con diagnóstico de demencia
C29: Consultorías y Teleconsultorías de Salud Mental Infanto Adolescente | D29: Consultorías Y Teleconsultorías de Salud Mental Adulto | E29: Ambos Sexos | F29: Hombres | G29: Mujeres | H29: Hombres | I29: Mujeres | J29: Hombres | K29: Mujeres | L29: Hombres | M29: Mujeres | N29: Hombres | O29: Mujeres | P29: Hombres | Q29: Mujeres | R29: Hombres | S29: Mujeres | T29: Hombres | U29: Mujeres | V29: Hombres | W29: Mujeres | X29: Hombres | Y29: Mujeres | Z29: Hombres | AA29: Mujeres | AB29: Hombres | AC29: Mujeres | AD29: Hombres | AE29: Mujeres | AF29: Hombres | AG29: Mujeres | AH29: Hombres | AI29: Mujeres | AJ29: Hombres | AK29: Mujeres | AL29: Hombres | AM29: Mujeres | AN29: Hombres | AO29: Mujeres
A30: Consultorías de Salud Mental | B30: =SUM(C30:D30) -> 0 | E30: =SUM(F30+G30) -> 0 | F30: =SUM(H30+J30+L30+N30+P30+R30+T30+V30+X30+Z30+AB30+AD30+AF30+AH30+AJ30+AL30+AN30) -> 0 | G30: =SUM(I30+K30+M30+O30+Q30+S30+U30+W30+Y30+AA30+AC30+AE30+AG30+AI30+AK30+AM30+AO30) -> 0 | AV30: =CA30&CB30&CC30&CD30&CE30&CF30 | CA30: =IF(AND($E30>0,AP30="")," * No olvide digitar la variable Pueblos originarios. Digite Cero si no tiene.",IF(AP30>E30," * La variable Pueblos originarios No puede ser mayor al Total Ambos Sexos.","")) | CB30: =IF(AND($E30>0,AQ30="")," * No olvide digitar la variable Migrantes. Digite Cero si no tiene.",IF(AQ30>$E30," * La variable Migrantes No puede ser mayor al Total Ambos Sexos.","")) | CC30: =IF(AND($E30>0,AR30="")," * No olvide digitar la variable Niños, Niñas, adolescentes y jóvenes SENAME. Digite Cero si no tiene.",IF(AR30>$E30," * La variable Niños, Niñas, adolescentes y jóvenes SENAME No puede ser mayor al Total Ambos Sexos.","")) | CD30: =IF(AND($E30>0,AS30="")," * No olvide digitar la variable Niños, Niñas, adolescentes y jóvenes Mejor Niñez. Digite Cero si no tiene.",IF(AS30>$E30," * La variable Niños, Niñas, adolescentes y jóvenes Mejor Niñez No puede ser mayor al Total Ambos Sexos.","")) | CE30: =IF(AND($E30>0,AT30="")," * No olvide digitar la variable Personas con sospecha de demencia. Digite Cero si no tiene.",IF(AT30>$E30," * La variable Personas con sospecha de demencia No puede ser mayor al Total Ambos Sexos.","")) | CF30: =IF(AND($E30>0,AU30="")," * No olvide digitar la variable Personas con diagnóstico de demencia. Digite Cero si no tiene.",IF(AU30>$E30," * La variable Personas con diagnóstico de demencia No puede ser mayor al Total Ambos Sexos.","")) | CK30: =IF(AND(E30>0,AP30=""),1,IF(AP30>E30,1,0)) -> 0 | CL30: =IF(AND(E30>0,AQ30=""),1,IF(AQ30>E30,1,0)) -> 0 | CM30: =IF(AND(E30>0,AR30=""),1,IF(AR30>E30,1,0)) -> 0 | CN30: =IF(AND(E30>0,AS30=""),1,IF(AS30>E30,1,0)) -> 0 | CO30: =IF(AND(E30>0,AT30=""),1,IF(AT30>E30,1,0)) -> 0 | CP30: =IF(AND(E30>0,AU30=""),1,IF(AU30>E30,1,0)) -> 0
A31: Teleconsultorías de Salud Mental | B31: =SUM(C31:D31) -> 0 | E31: =SUM(F31+G31) -> 0 | F31: =SUM(H31+J31+L31+N31+P31+R31+T31+V31+X31+Z31+AB31+AD31+AF31+AH31+AJ31+AL31+AN31) -> 0 | G31: =SUM(I31+K31+M31+O31+Q31+S31+U31+W31+Y31+AA31+AC31+AE31+AG31+AI31+AK31+AM31+AO31) -> 0 | AV31: =CA31&CB31&CC31&CD31&CE31&CF31 | CA31: =IF(AND($E31>0,AP31="")," * No olvide digitar la variable Pueblos originarios. Digite Cero si no tiene.",IF(AP31>E31," * La variable Pueblos originarios No puede ser mayor al Total Ambos Sexos.","")) | CB31: =IF(AND($E31>0,AQ31="")," * No olvide digitar la variable Migrantes. Digite Cero si no tiene.",IF(AQ31>$E31," * La variable Migrantes No puede ser mayor al Total Ambos Sexos.","")) | CC31: =IF(AND($E31>0,AR31="")," * No olvide digitar la variable Niños, Niñas, adolescentes y jóvenes SENAME. Digite Cero si no tiene.",IF(AR31>$E31," * La variable Niños, Niñas, adolescentes y jóvenes SENAME No puede ser mayor al Total Ambos Sexos.","")) | CD31: =IF(AND($E31>0,AS31="")," * No olvide digitar la variable Niños, Niñas, adolescentes y jóvenes Mejor Niñez. Digite Cero si no tiene.",IF(AS31>$E31," * La variable Niños, Niñas, adolescentes y jóvenes Mejor Niñez No puede ser mayor al Total Ambos Sexos.","")) | CE31: =IF(AND($E31>0,AT31="")," * No olvide digitar la variable Personas con sospecha de demencia. Digite Cero si no tiene.",IF(AT31>$E31," * La variable Personas con sospecha de demencia No puede ser mayor al Total Ambos Sexos.","")) | CF31: =IF(AND($E31>0,AU31="")," * No olvide digitar la variable Personas con diagnóstico de demencia. Digite Cero si no tiene.",IF(AU31>$E31," * La variable Personas con diagnóstico de demencia No puede ser mayor al Total Ambos Sexos.","")) | CK31: =IF(AND(E31>0,AP31=""),1,IF(AP31>E31,1,0)) -> 0 | CL31: =IF(AND(E31>0,AQ31=""),1,IF(AQ31>E31,1,0)) -> 0 | CM31: =IF(AND(E31>0,AR31=""),1,IF(AR31>E31,1,0)) -> 0 | CN31: =IF(AND(E31>0,AS31=""),1,IF(AS31>E31,1,0)) -> 0 | CO31: =IF(AND(E31>0,AT31=""),1,IF(AT31>E31,1,0)) -> 0 | CP31: =IF(AND(E31>0,AU31=""),1,IF(AU31>E31,1,0)) -> 0
A32: TOTAL | B32: =SUM(B30:B31) -> 0 | C32: =SUM(C30:C31) -> 0 | D32: =SUM(D30:D31) -> 0 | E32: =SUM(E30:E31) -> 0 | F32: =SUM(F30:F31) -> 0 | G32: =SUM(G30:G31) -> 0 | H32: =SUM(H30:H31) -> 0 | I32: =SUM(I30:I31) -> 0 | ... AU32: =SUM(AU30:AU31) -> 0
A33: SECCIÓN A.3: CONSULTORÍAS DE SALUD MENTAL OTORGADA POR EL NIVEL DE ESPECIALIDAD
A34: ACTIVIDAD | B34: TOTAL CONSULTORÍAS Y TELECONSULTORÍAS OTORGADAS | C34: CONSULTORÍAS Y TELECONSULTORÍAS OTORGADAS | E34: TOTAL Nº DE CASOS REVISADOS | H34: Participantes
C35: Consultorías y Teleconsultorías de Salud Mental Infanto Adolescente | D35: Consultorías y Teleconsultorías de Salud Mental Adulto | E35: Ambos Sexos | F35: Hombres | G35: Mujeres | H35: Médico psiquiatra | I35: Médico Psiquiatría más un profesional | J35: Médico Psiquiatría más dos Profesionales | K35: Médico Psiquiatría con más de dos Profesionales | L35: Dos profesionales | M35: Más de dos profesionales
A36: Consultorías de Salud Mental | B36: =SUM(C36:D36) -> 29 | C36: =SUM(ENERO:DICIEMBRE!C36) -> 0 | D36: =SUM(ENERO:DICIEMBRE!D36) -> 29 | E36: =SUM(F36:G36) -> 105 | F36: =SUM(ENERO:DICIEMBRE!F36) -> 37 | G36: =SUM(ENERO:DICIEMBRE!G36) -> 68 | H36: =SUM(ENERO:DICIEMBRE!H36) -> 0 | I36: =SUM(ENERO:DICIEMBRE!I36) -> 0 | J36: =SUM(ENERO:DICIEMBRE!J36) -> 0 | K36: =SUM(ENERO:DICIEMBRE!K36) -> 29 | L36: =SUM(ENERO:DICIEMBRE!L36) -> 0 | M36: =SUM(ENERO:DICIEMBRE!M36) -> 0
A37: Teleconsultorías de Salud Mental | B37: =SUM(C37:D37) -> 0 | C37: =SUM(ENERO:DICIEMBRE!C37) -> 0 | D37: =SUM(ENERO:DICIEMBRE!D37) -> 0 | E37: =SUM(F37:G37) -> 0 | F37: =SUM(ENERO:DICIEMBRE!F37) -> 0 | G37: =SUM(ENERO:DICIEMBRE!G37) -> 0 | H37: =SUM(ENERO:DICIEMBRE!H37) -> 0 | I37: =SUM(ENERO:DICIEMBRE!I37) -> 0 | J37: =SUM(ENERO:DICIEMBRE!J37) -> 0 | K37: =SUM(ENERO:DICIEMBRE!K37) -> 0 | L37: =SUM(ENERO:DICIEMBRE!L37) -> 0 | M37: =SUM(ENERO:DICIEMBRE!M37) -> 0
A38: TOTAL | B38: =SUM(B36:B37) -> 29 | C38: =SUM(C36:C37) -> 0 | D38: =SUM(D36:D37) -> 29 | E38: =SUM(E36:E37) -> 105 | F38: =SUM(F36:F37) -> 37 | G38: =SUM(G36:G37) -> 68 | H38: =SUM(H36:H37) -> 0 | I38: =SUM(I36:I37) -> 0 | ... M38: =SUM(M36:M37) -> 0
A39: SECCIÓN B.1: ACTIVIDADES GRUPALES (NÚMERO DE SESIONES)
A40: ACTIVIDAD | B40: PROFESIONAL | C40: TOTAL
A41: Psicoterapia Grupal | B41: Médico/a Psiquiatra | C41: =SUM(ENERO:DICIEMBRE!C41) -> 0
B42: Psicólogo/a | C42: =SUM(ENERO:DICIEMBRE!C42) -> 0
A43: Psicoterapia Familiar | B43: Médico/a Psiquiatra | C43: =SUM(ENERO:DICIEMBRE!C43) -> 0
B44: Psicólogo/a | C44: =SUM(ENERO:DICIEMBRE!C44) -> 0
A45: SECCIÓN B.2: PROGRAMA DE REHABILITACIÓN (PERSONAS CON TRASTORNOS PSIQUIÁTRICOS)
A46: TIPO | C46: TOTAL | F46: RANGO ETARIO Y SEXO | AL46: Beneficiarios | AM46: Pueblos Originarios | AN46: Migrantes
F47: 5 - 9 años | H47: 10 - 14 años | J47: 15 - 19 años | L47: 20 - 24 años | N47: 25 - 29 años | P47: 30 - 34 años | R47: 35 - 39 años | T47: 40 - 44 años | V47: 45 - 49 años | X47: 50 - 54 años | Z47: 55 - 59 años | AB47: 60 - 64 años | AD47: 65 - 69 años | AF47: 70 - 74 años | AH47: 75 - 79 años | AJ47: 80 y más años
C48: Ambos Sexos | D48: Hombres | E48: Mujeres | F48: Hombres | G48: Mujeres | H48: Hombres | I48: Mujeres | J48: Hombres | K48: Mujeres | L48: Hombres | M48: Mujeres | N48: Hombres | O48: Mujeres | P48: Hombres | Q48: Mujeres | R48: Hombres | S48: Mujeres | T48: Hombres | U48: Mujeres | V48: Hombres | W48: Mujeres | X48: Hombres | Y48: Mujeres | Z48: Hombres | AA48: Mujeres | AB48: Hombres | AC48: Mujeres | AD48: Hombres | AE48: Mujeres | AF48: Hombres | AG48: Mujeres | AH48: Hombres | AI48: Mujeres | AJ48: Hombres | AK48: Mujeres
A49: Programa de Rehabilitación Tipo I | B49: Días Persona | C49: =SUM(D49+E49) -> 0 | D49: =SUM(F49+H49+J49+L49+N49+P49+R49+T49+V49+X49+Z49+AB49+AD49+AF49+AH49+AJ49) -> 0 | E49: =SUM(G49+I49+K49+M49+O49+Q49+S49+U49+W49+Y49+AA49+AC49+AE49+AG49+AI49+AK49) -> 0 | F49: =SUM(ENERO:DICIEMBRE!F49) -> 0 | G49: =SUM(ENERO:DICIEMBRE!G49) -> 0 | H49: =SUM(ENERO:DICIEMBRE!H49) -> 0 | I49: =SUM(ENERO:DICIEMBRE!I49) -> 0 | J49: =SUM(ENERO:DICIEMBRE!J49) -> 0 | K49: =SUM(ENERO:DICIEMBRE!K49) -> 0 | L49: =SUM(ENERO:DICIEMBRE!L49) -> 0 | M49: =SUM(ENERO:DICIEMBRE!M49) -> 0 | ... AN49: =SUM(ENERO:DICIEMBRE!AN49) -> 0 | AO49: =CA49&CB49&CC49&CD49 | CA49: =IF(AND($C49>0,AL49="")," * No olvide digitar la variable Beneficiarios. Digite Cero si no tiene.",IF(AL49>$C49," * La variable Beneficiarios No puede ser mayor al Total Ambos Sexos.","")) | CB49: =IF(AND($C49>0,AM49="")," * No olvide digitar la variable Pueblos originarios. Digite Cero si no tiene.",IF(AM49>$C49," * La variable Pueblos originarios No puede ser mayor al Total Ambos Sexos.","")) | CC49: =IF(AND($C49>0,AN49="")," * No olvide digitar la variable Migrantes. Digite Cero si no tiene.",IF(AN49>$C49," * La variable Migrantes No puede ser mayor al Total Ambos Sexos.","")) | CK49: =IF(AND(C49>0,AL49=""),1,IF(AL49>C49,1,0)) -> 0 | CL49: =IF(AND(C49>0,AM49=""),1,IF(AM49>C49,1,0)) -> 0 | CM49: =IF(AND(C49>0,AN49=""),1,IF(AN49>C49,1,0)) -> 0
A50: Programa de Rehabilitación Tipo II | B50: Días Persona | C50: =SUM(D50+E50) -> 0 | D50: =SUM(F50+H50+J50+L50+N50+P50+R50+T50+V50+X50+Z50+AB50+AD50+AF50+AH50+AJ50) -> 0 | E50: =SUM(G50+I50+K50+M50+O50+Q50+S50+U50+W50+Y50+AA50+AC50+AE50+AG50+AI50+AK50) -> 0 | F50: =SUM(ENERO:DICIEMBRE!F50) -> 0 | G50: =SUM(ENERO:DICIEMBRE!G50) -> 0 | H50: =SUM(ENERO:DICIEMBRE!H50) -> 0 | I50: =SUM(ENERO:DICIEMBRE!I50) -> 0 | J50: =SUM(ENERO:DICIEMBRE!J50) -> 0 | K50: =SUM(ENERO:DICIEMBRE!K50) -> 0 | L50: =SUM(ENERO:DICIEMBRE!L50) -> 0 | M50: =SUM(ENERO:DICIEMBRE!M50) -> 0 | ... AN50: =SUM(ENERO:DICIEMBRE!AN50) -> 0 | AO50: =CA50&CB50&CC50&CD50 | CA50: =IF(AND($C50>0,AL50="")," * No olvide digitar la variable Beneficiarios. Digite Cero si no tiene.",IF(AL50>$C50," * La variable Beneficiarios No puede ser mayor al Total Ambos Sexos.","")) | CB50: =IF(AND($C50>0,AM50="")," * No olvide digitar la variable Pueblos originarios. Digite Cero si no tiene.",IF(AM50>$C50," * La variable Pueblos originarios No puede ser mayor al Total Ambos Sexos.","")) | CC50: =IF(AND($C50>0,AN50="")," * No olvide digitar la variable Migrantes. Digite Cero si no tiene.",IF(AN50>$C50," * La variable Migrantes No puede ser mayor al Total Ambos Sexos.","")) | CK50: =IF(AND(C50>0,AL50=""),1,IF(AL50>C50,1,0)) -> 0 | CL50: =IF(AND(C50>0,AM50=""),1,IF(AM50>C50,1,0)) -> 0 | CM50: =IF(AND(C50>0,AN50=""),1,IF(AN50>C50,1,0)) -> 0
A51: SECCIÓN B.3: ACTIVIDADES DE PSIQUIATRÍA FORENSE PARA PERSONAS EN CONFLICTO CON LA JUSTICIA (En lo Penal, Civil, Familiar, etc.)
A52: ACTIVIDAD | C52: TOTAL | F52: RANGO ETARIO Y SEXO | AL52: Pueblos Originarios | AM52: Migrantes
F53: 5 - 9 años | H53: 10 - 14 años | J53: 15 - 19 años | L53: 20 - 24 años | N53: 25 - 29 años | P53: 30 - 34 años | R53: 35 - 39 años | T53: 40 - 44 años | V53: 45 - 49 años | X53: 50 - 54 años | Z53: 55 - 59 años | AB53: 60 - 64 años | AD53: 65 - 69 años | AF53: 70 - 74 años | AH53: 75 - 79 años | AJ53: 80 y más años
C54: Ambos Sexos | D54: Hombres | E54: Mujeres | F54: Hombres | G54: Mujeres | H54: Hombres | I54: Mujeres | J54: Hombres | K54: Mujeres | L54: Hombres | M54: Mujeres | N54: Hombres | O54: Mujeres | P54: Hombres | Q54: Mujeres | R54: Hombres | S54: Mujeres | T54: Hombres | U54: Mujeres | V54: Hombres | W54: Mujeres | X54: Hombres | Y54: Mujeres | Z54: Hombres | AA54: Mujeres | AB54: Hombres | AC54: Mujeres | AD54: Hombres | AE54: Mujeres | AF54: Hombres | AG54: Mujeres | AH54: Hombres | AI54: Mujeres | AJ54: Hombres | AK54: Mujeres
A55: Peritaje Psiquiátrico Judicial | B55: Médico/a | C55: =SUM(D55+E55) -> 0 | D55: =SUM(F55+H55+J55+L55+N55+P55+R55+T55+V55+X55+Z55+AB55+AD55+AF55+AH55+AJ55) -> 0 | E55: =SUM(G55+I55+K55+M55+O55+Q55+S55+U55+W55+Y55+AA55+AC55+AE55+AG55+AI55+AK55) -> 0 | AN55: =CA55&CB55&CC55 | CA55: =IF(AND($C55>0,AL55="")," * No olvide digitar la variable Pueblos Originarios. Digite cero si no tiene.",IF(AL55>$C55," * La variable Pueblos Originarios no puede ser mayor al Total Ambos Sexos.","")) | CB55: =IF(AND($C55>0,AM55="")," * No olvide digitar la variable Migrantes. Digite cero si no tiene.",IF(AM55>$C55," * La variable Migrantes no puede ser mayor al Total Ambos Sexos.","")) | CK55: =IF(AND(C55>0,AL55=""),1,IF(AL55>C55,1,0)) -> 0 | CL55: =IF(AND(C55>0,AM55=""),1,IF(AM55>C55,1,0)) -> 0
B56: Médico/a Psiquiatra | C56: =SUM(D56+E56) -> 0 | D56: =SUM(F56+H56+J56+L56+N56+P56+R56+T56+V56+X56+Z56+AB56+AD56+AF56+AH56+AJ56) -> 0 | E56: =SUM(G56+I56+K56+M56+O56+Q56+S56+U56+W56+Y56+AA56+AC56+AE56+AG56+AI56+AK56) -> 0 | AN56: =CA56&CB56&CC56 | CA56: =IF(AND($C56>0,AL56="")," * No olvide digitar la variable Pueblos Originarios. Digite cero si no tiene.",IF(AL56>$C56," * La variable Pueblos Originarios no puede ser mayor al Total Ambos Sexos.","")) | CB56: =IF(AND($C56>0,AM56="")," * No olvide digitar la variable Migrantes. Digite cero si no tiene.",IF(AM56>$C56," * La variable Migrantes no puede ser mayor al Total Ambos Sexos.","")) | CK56: =IF(AND(C56>0,AL56=""),1,IF(AL56>C56,1,0)) -> 0 | CL56: =IF(AND(C56>0,AM56=""),1,IF(AM56>C56,1,0)) -> 0
B57: Psicólogo/a | C57: =SUM(D57+E57) -> 0 | D57: =SUM(F57+H57+J57+L57+N57+P57+R57+T57+V57+X57+Z57+AB57+AD57+AF57+AH57+AJ57) -> 0 | E57: =SUM(G57+I57+K57+M57+O57+Q57+S57+U57+W57+Y57+AA57+AC57+AE57+AG57+AI57+AK57) -> 0 | AN57: =CA57&CB57&CC57 | CA57: =IF(AND($C57>0,AL57="")," * No olvide digitar la variable Pueblos Originarios. Digite cero si no tiene.",IF(AL57>$C57," * La variable Pueblos Originarios no puede ser mayor al Total Ambos Sexos.","")) | CB57: =IF(AND($C57>0,AM57="")," * No olvide digitar la variable Migrantes. Digite cero si no tiene.",IF(AM57>$C57," * La variable Migrantes no puede ser mayor al Total Ambos Sexos.","")) | CK57: =IF(AND(C57>0,AL57=""),1,IF(AL57>C57,1,0)) -> 0 | CL57: =IF(AND(C57>0,AM57=""),1,IF(AM57>C57,1,0)) -> 0
B58: Enfermero/a | C58: =SUM(D58+E58) -> 0 | D58: =SUM(F58+H58+J58+L58+N58+P58+R58+T58+V58+X58+Z58+AB58+AD58+AF58+AH58+AJ58) -> 0 | E58: =SUM(G58+I58+K58+M58+O58+Q58+S58+U58+W58+Y58+AA58+AC58+AE58+AG58+AI58+AK58) -> 0 | AN58: =CA58&CB58&CC58 | CA58: =IF(AND($C58>0,AL58="")," * No olvide digitar la variable Pueblos Originarios. Digite cero si no tiene.",IF(AL58>$C58," * La variable Pueblos Originarios no puede ser mayor al Total Ambos Sexos.","")) | CB58: =IF(AND($C58>0,AM58="")," * No olvide digitar la variable Migrantes. Digite cero si no tiene.",IF(AM58>$C58," * La variable Migrantes no puede ser mayor al Total Ambos Sexos.","")) | CK58: =IF(AND(C58>0,AL58=""),1,IF(AL58>C58,1,0)) -> 0 | CL58: =IF(AND(C58>0,AM58=""),1,IF(AM58>C58,1,0)) -> 0
B59: Trabajador/a Social | C59: =SUM(D59+E59) -> 0 | D59: =SUM(F59+H59+J59+L59+N59+P59+R59+T59+V59+X59+Z59+AB59+AD59+AF59+AH59+AJ59) -> 0 | E59: =SUM(G59+I59+K59+M59+O59+Q59+S59+U59+W59+Y59+AA59+AC59+AE59+AG59+AI59+AK59) -> 0 | AN59: =CA59&CB59&CC59 | CA59: =IF(AND($C59>0,AL59="")," * No olvide digitar la variable Pueblos Originarios. Digite cero si no tiene.",IF(AL59>$C59," * La variable Pueblos Originarios no puede ser mayor al Total Ambos Sexos.","")) | CB59: =IF(AND($C59>0,AM59="")," * No olvide digitar la variable Migrantes. Digite cero si no tiene.",IF(AM59>$C59," * La variable Migrantes no puede ser mayor al Total Ambos Sexos.","")) | CK59: =IF(AND(C59>0,AL59=""),1,IF(AL59>C59,1,0)) -> 0 | CL59: =IF(AND(C59>0,AM59=""),1,IF(AM59>C59,1,0)) -> 0
B60: Otros Profesionales | C60: =SUM(D60+E60) -> 0 | D60: =SUM(F60+H60+J60+L60+N60+P60+R60+T60+V60+X60+Z60+AB60+AD60+AF60+AH60+AJ60) -> 0 | E60: =SUM(G60+I60+K60+M60+O60+Q60+S60+U60+W60+Y60+AA60+AC60+AE60+AG60+AI60+AK60) -> 0 | AN60: =CA60&CB60&CC60 | CA60: =IF(AND($C60>0,AL60="")," * No olvide digitar la variable Pueblos Originarios. Digite cero si no tiene.",IF(AL60>$C60," * La variable Pueblos Originarios no puede ser mayor al Total Ambos Sexos.","")) | CB60: =IF(AND($C60>0,AM60="")," * No olvide digitar la variable Migrantes. Digite cero si no tiene.",IF(AM60>$C60," * La variable Migrantes no puede ser mayor al Total Ambos Sexos.","")) | CK60: =IF(AND(C60>0,AL60=""),1,IF(AL60>C60,1,0)) -> 0 | CL60: =IF(AND(C60>0,AM60=""),1,IF(AM60>C60,1,0)) -> 0
A61: Examen Preliminar en Drogas para Adolescentes Imputados / Condenados | B61: Psicólogo/a | C61: =SUM(D61+E61) -> 0 | D61: =SUM(H61+J61+L61) -> 0 | E61: =SUM(I61+K61+M61) -> 0 | AN61: =CA61&CB61&CC61 | CA61: =IF(AND($C61>0,AL61="")," * No olvide digitar la variable Pueblos Originarios. Digite cero si no tiene.",IF(AL61>$C61," * La variable Pueblos Originarios no puede ser mayor al Total Ambos Sexos.","")) | CB61: =IF(AND($C61>0,AM61="")," * No olvide digitar la variable Migrantes. Digite cero si no tiene.",IF(AM61>$C61," * La variable Migrantes no puede ser mayor al Total Ambos Sexos.","")) | CK61: =IF(AND(C61>0,AL61=""),1,IF(AL61>C61,1,0)) -> 0 | CL61: =IF(AND(C61>0,AM61=""),1,IF(AM61>C61,1,0)) -> 0
B62: Trabajador/a Social | C62: =SUM(D62+E62) -> 0 | D62: =SUM(H62+J62+L62) -> 0 | E62: =SUM(I62+K62+M62) -> 0 | AN62: =CA62&CB62&CC62 | CA62: =IF(AND($C62>0,AL62="")," * No olvide digitar la variable Pueblos Originarios. Digite cero si no tiene.",IF(AL62>$C62," * La variable Pueblos Originarios no puede ser mayor al Total Ambos Sexos.","")) | CB62: =IF(AND($C62>0,AM62="")," * No olvide digitar la variable Migrantes. Digite cero si no tiene.",IF(AM62>$C62," * La variable Migrantes no puede ser mayor al Total Ambos Sexos.","")) | CK62: =IF(AND(C62>0,AL62=""),1,IF(AL62>C62,1,0)) -> 0 | CL62: =IF(AND(C62>0,AM62=""),1,IF(AM62>C62,1,0)) -> 0
A63: Evaluación Clínica para Adolescentes Imputados con Consumo de Drogas | B63: Médico/a | C63: =SUM(D63+E63) -> 0 | D63: =SUM(H63+J63+L63) -> 0 | E63: =SUM(I63+K63+M63) -> 0 | AN63: =CA63&CB63&CC63 | CA63: =IF(AND($C63>0,AL63="")," * No olvide digitar la variable Pueblos Originarios. Digite cero si no tiene.",IF(AL63>$C63," * La variable Pueblos Originarios no puede ser mayor al Total Ambos Sexos.","")) | CB63: =IF(AND($C63>0,AM63="")," * No olvide digitar la variable Migrantes. Digite cero si no tiene.",IF(AM63>$C63," * La variable Migrantes no puede ser mayor al Total Ambos Sexos.","")) | CK63: =IF(AND(C63>0,AL63=""),1,IF(AL63>C63,1,0)) -> 0 | CL63: =IF(AND(C63>0,AM63=""),1,IF(AM63>C63,1,0)) -> 0
B64: Médico/a Psiquiatra | C64: =SUM(D64+E64) -> 0 | D64: =SUM(H64+J64+L64) -> 0 | E64: =SUM(I64+K64+M64) -> 0 | AN64: =CA64&CB64&CC64 | CA64: =IF(AND($C64>0,AL64="")," * No olvide digitar la variable Pueblos Originarios. Digite cero si no tiene.",IF(AL64>$C64," * La variable Pueblos Originarios no puede ser mayor al Total Ambos Sexos.","")) | CB64: =IF(AND($C64>0,AM64="")," * No olvide digitar la variable Migrantes. Digite cero si no tiene.",IF(AM64>$C64," * La variable Migrantes no puede ser mayor al Total Ambos Sexos.","")) | CK64: =IF(AND(C64>0,AL64=""),1,IF(AL64>C64,1,0)) -> 0 | CL64: =IF(AND(C64>0,AM64=""),1,IF(AM64>C64,1,0)) -> 0
B65: Psicólogo/a | C65: =SUM(D65+E65) -> 0 | D65: =SUM(H65+J65+L65) -> 0 | E65: =SUM(I65+K65+M65) -> 0 | AN65: =CA65&CB65&CC65 | CA65: =IF(AND($C65>0,AL65="")," * No olvide digitar la variable Pueblos Originarios. Digite cero si no tiene.",IF(AL65>$C65," * La variable Pueblos Originarios no puede ser mayor al Total Ambos Sexos.","")) | CB65: =IF(AND($C65>0,AM65="")," * No olvide digitar la variable Migrantes. Digite cero si no tiene.",IF(AM65>$C65," * La variable Migrantes no puede ser mayor al Total Ambos Sexos.","")) | CK65: =IF(AND(C65>0,AL65=""),1,IF(AL65>C65,1,0)) -> 0 | CL65: =IF(AND(C65>0,AM65=""),1,IF(AM65>C65,1,0)) -> 0
B66: Trabajador/a Social | C66: =SUM(D66+E66) -> 0 | D66: =SUM(H66+J66+L66) -> 0 | E66: =SUM(I66+K66+M66) -> 0 | AN66: =CA66&CB66&CC66 | CA66: =IF(AND($C66>0,AL66="")," * No olvide digitar la variable Pueblos Originarios. Digite cero si no tiene.",IF(AL66>$C66," * La variable Pueblos Originarios no puede ser mayor al Total Ambos Sexos.","")) | CB66: =IF(AND($C66>0,AM66="")," * No olvide digitar la variable Migrantes. Digite cero si no tiene.",IF(AM66>$C66," * La variable Migrantes no puede ser mayor al Total Ambos Sexos.","")) | CK66: =IF(AND(C66>0,AL66=""),1,IF(AL66>C66,1,0)) -> 0 | CL66: =IF(AND(C66>0,AM66=""),1,IF(AM66>C66,1,0)) -> 0
A67: Examen Mental Preliminar a Personas Imputadas | B67: Médico/a | C67: =SUM(D67+E67) -> 0 | D67: =SUM(H67+J67+L67+N67+P67+R67+T67+V67+X67+Z67+AB67+AD67+AF67+AH67+AJ67) -> 0 | E67: =SUM(I67+K67+M67+O67+Q67+S67+U67+W67+Y67+AA67+AC67+AE67+AG67+AI67+AK67) -> 0 | AN67: =CA67&CB67&CC67 | CA67: =IF(AND($C67>0,AL67="")," * No olvide digitar la variable Pueblos Originarios. Digite cero si no tiene.",IF(AL67>$C67," * La variable Pueblos Originarios no puede ser mayor al Total Ambos Sexos.","")) | CB67: =IF(AND($C67>0,AM67="")," * No olvide digitar la variable Migrantes. Digite cero si no tiene.",IF(AM67>$C67," * La variable Migrantes no puede ser mayor al Total Ambos Sexos.","")) | CK67: =IF(AND(C67>0,AL67=""),1,IF(AL67>C67,1,0)) -> 0 | CL67: =IF(AND(C67>0,AM67=""),1,IF(AM67>C67,1,0)) -> 0
B68: Médico/a Psiquiatra | C68: =SUM(D68+E68) -> 0 | D68: =SUM(H68+J68+L68+N68+P68+R68+T68+V68+X68+Z68+AB68+AD68+AF68+AH68+AJ68) -> 0 | E68: =SUM(I68+K68+M68+O68+Q68+S68+U68+W68+Y68+AA68+AC68+AE68+AG68+AI68+AK68) -> 0 | AN68: =CA68&CB68&CC68 | CA68: =IF(AND($C68>0,AL68="")," * No olvide digitar la variable Pueblos Originarios. Digite cero si no tiene.",IF(AL68>$C68," * La variable Pueblos Originarios no puede ser mayor al Total Ambos Sexos.","")) | CB68: =IF(AND($C68>0,AM68="")," * No olvide digitar la variable Migrantes. Digite cero si no tiene.",IF(AM68>$C68," * La variable Migrantes no puede ser mayor al Total Ambos Sexos.","")) | CK68: =IF(AND(C68>0,AL68=""),1,IF(AL68>C68,1,0)) -> 0 | CL68: =IF(AND(C68>0,AM68=""),1,IF(AM68>C68,1,0)) -> 0
A69: Peritaje Drogas | B69: Médico/a | C69: =SUM(D69+E69) -> 0 | D69: =SUM(H69+J69+L69+N69+P69+R69+T69+V69+X69+Z69+AB69+AD69+AF69+AH69+AJ69) -> 0 | E69: =SUM(I69+K69+M69+O69+Q69+S69+U69+W69+Y69+AA69+AC69+AE69+AG69+AI69+AK69) -> 0 | AN69: =CA69&CB69&CC69 | CA69: =IF(AND($C69>0,AL69="")," * No olvide digitar la variable Pueblos Originarios. Digite cero si no tiene.",IF(AL69>$C69," * La variable Pueblos Originarios no puede ser mayor al Total Ambos Sexos.","")) | CB69: =IF(AND($C69>0,AM69="")," * No olvide digitar la variable Migrantes. Digite cero si no tiene.",IF(AM69>$C69," * La variable Migrantes no puede ser mayor al Total Ambos Sexos.","")) | CK69: =IF(AND(C69>0,AL69=""),1,IF(AL69>C69,1,0)) -> 0 | CL69: =IF(AND(C69>0,AM69=""),1,IF(AM69>C69,1,0)) -> 0
B70: Médico/a Psiquiatra | C70: =SUM(D70+E70) -> 0 | D70: =SUM(H70+J70+L70+N70+P70+R70+T70+V70+X70+Z70+AB70+AD70+AF70+AH70+AJ70) -> 0 | E70: =SUM(I70+K70+M70+O70+Q70+S70+U70+W70+Y70+AA70+AC70+AE70+AG70+AI70+AK70) -> 0 | AN70: =CA70&CB70&CC70 | CA70: =IF(AND($C70>0,AL70="")," * No olvide digitar la variable Pueblos Originarios. Digite cero si no tiene.",IF(AL70>$C70," * La variable Pueblos Originarios no puede ser mayor al Total Ambos Sexos.","")) | CB70: =IF(AND($C70>0,AM70="")," * No olvide digitar la variable Migrantes. Digite cero si no tiene.",IF(AM70>$C70," * La variable Migrantes no puede ser mayor al Total Ambos Sexos.","")) | CK70: =IF(AND(C70>0,AL70=""),1,IF(AL70>C70,1,0)) -> 0 | CL70: =IF(AND(C70>0,AM70=""),1,IF(AM70>C70,1,0)) -> 0
A71: Atención a Agresores Derivados de Tribunales (Ley de Violencia Intrafamiliar) | B71: Médico/a | C71: =SUM(D71+E71) -> 0 | D71: =SUM(H71+J71+L71+N71+P71+R71+T71+V71+X71+Z71+AB71+AD71+AF71+AH71+AJ71) -> 0 | E71: =SUM(I71+K71+M71+O71+Q71+S71+U71+W71+Y71+AA71+AC71+AE71+AG71+AI71+AK71) -> 0 | AN71: =CA71&CB71&CC71 | CA71: =IF(AND($C71>0,AL71="")," * No olvide digitar la variable Pueblos Originarios. Digite cero si no tiene.",IF(AL71>$C71," * La variable Pueblos Originarios no puede ser mayor al Total Ambos Sexos.","")) | CB71: =IF(AND($C71>0,AM71="")," * No olvide digitar la variable Migrantes. Digite cero si no tiene.",IF(AM71>$C71," * La variable Migrantes no puede ser mayor al Total Ambos Sexos.","")) | CK71: =IF(AND(C71>0,AL71=""),1,IF(AL71>C71,1,0)) -> 0 | CL71: =IF(AND(C71>0,AM71=""),1,IF(AM71>C71,1,0)) -> 0
B72: Médico/a Psiquiatra | C72: =SUM(D72+E72) -> 0 | D72: =SUM(H72+J72+L72+N72+P72+R72+T72+V72+X72+Z72+AB72+AD72+AF72+AH72+AJ72) -> 0 | E72: =SUM(I72+K72+M72+O72+Q72+S72+U72+W72+Y72+AA72+AC72+AE72+AG72+AI72+AK72) -> 0 | AN72: =CA72&CB72&CC72 | CA72: =IF(AND($C72>0,AL72="")," * No olvide digitar la variable Pueblos Originarios. Digite cero si no tiene.",IF(AL72>$C72," * La variable Pueblos Originarios no puede ser mayor al Total Ambos Sexos.","")) | CB72: =IF(AND($C72>0,AM72="")," * No olvide digitar la variable Migrantes. Digite cero si no tiene.",IF(AM72>$C72," * La variable Migrantes no puede ser mayor al Total Ambos Sexos.","")) | CK72: =IF(AND(C72>0,AL72=""),1,IF(AL72>C72,1,0)) -> 0 | CL72: =IF(AND(C72>0,AM72=""),1,IF(AM72>C72,1,0)) -> 0
B73: Psicólogo/a | C73: =SUM(D73+E73) -> 0 | D73: =SUM(H73+J73+L73+N73+P73+R73+T73+V73+X73+Z73+AB73+AD73+AF73+AH73+AJ73) -> 0 | E73: =SUM(I73+K73+M73+O73+Q73+S73+U73+W73+Y73+AA73+AC73+AE73+AG73+AI73+AK73) -> 0 | AN73: =CA73&CB73&CC73 | CA73: =IF(AND($C73>0,AL73="")," * No olvide digitar la variable Pueblos Originarios. Digite cero si no tiene.",IF(AL73>$C73," * La variable Pueblos Originarios no puede ser mayor al Total Ambos Sexos.","")) | CB73: =IF(AND($C73>0,AM73="")," * No olvide digitar la variable Migrantes. Digite cero si no tiene.",IF(AM73>$C73," * La variable Migrantes no puede ser mayor al Total Ambos Sexos.","")) | CK73: =IF(AND(C73>0,AL73=""),1,IF(AL73>C73,1,0)) -> 0 | CL73: =IF(AND(C73>0,AM73=""),1,IF(AM73>C73,1,0)) -> 0
B74: Enfermero/a | C74: =SUM(D74+E74) -> 0 | D74: =SUM(H74+J74+L74+N74+P74+R74+T74+V74+X74+Z74+AB74+AD74+AF74+AH74+AJ74) -> 0 | E74: =SUM(I74+K74+M74+O74+Q74+S74+U74+W74+Y74+AA74+AC74+AE74+AG74+AI74+AK74) -> 0 | AN74: =CA74&CB74&CC74 | CA74: =IF(AND($C74>0,AL74="")," * No olvide digitar la variable Pueblos Originarios. Digite cero si no tiene.",IF(AL74>$C74," * La variable Pueblos Originarios no puede ser mayor al Total Ambos Sexos.","")) | CB74: =IF(AND($C74>0,AM74="")," * No olvide digitar la variable Migrantes. Digite cero si no tiene.",IF(AM74>$C74," * La variable Migrantes no puede ser mayor al Total Ambos Sexos.","")) | CK74: =IF(AND(C74>0,AL74=""),1,IF(AL74>C74,1,0)) -> 0 | CL74: =IF(AND(C74>0,AM74=""),1,IF(AM74>C74,1,0)) -> 0
B75: Trabajador/a Social | C75: =SUM(D75+E75) -> 0 | D75: =SUM(H75+J75+L75+N75+P75+R75+T75+V75+X75+Z75+AB75+AD75+AF75+AH75+AJ75) -> 0 | E75: =SUM(I75+K75+M75+O75+Q75+S75+U75+W75+Y75+AA75+AC75+AE75+AG75+AI75+AK75) -> 0 | AN75: =CA75&CB75&CC75 | CA75: =IF(AND($C75>0,AL75="")," * No olvide digitar la variable Pueblos Originarios. Digite cero si no tiene.",IF(AL75>$C75," * La variable Pueblos Originarios no puede ser mayor al Total Ambos Sexos.","")) | CB75: =IF(AND($C75>0,AM75="")," * No olvide digitar la variable Migrantes. Digite cero si no tiene.",IF(AM75>$C75," * La variable Migrantes no puede ser mayor al Total Ambos Sexos.","")) | CK75: =IF(AND(C75>0,AL75=""),1,IF(AL75>C75,1,0)) -> 0 | CL75: =IF(AND(C75>0,AM75=""),1,IF(AM75>C75,1,0)) -> 0
B76: Otros Profesionales | C76: =SUM(D76+E76) -> 0 | D76: =SUM(H76+J76+L76+N76+P76+R76+T76+V76+X76+Z76+AB76+AD76+AF76+AH76+AJ76) -> 0 | E76: =SUM(I76+K76+M76+O76+Q76+S76+U76+W76+Y76+AA76+AC76+AE76+AG76+AI76+AK76) -> 0 | AN76: =CA76&CB76&CC76 | CA76: =IF(AND($C76>0,AL76="")," * No olvide digitar la variable Pueblos Originarios. Digite cero si no tiene.",IF(AL76>$C76," * La variable Pueblos Originarios no puede ser mayor al Total Ambos Sexos.","")) | CB76: =IF(AND($C76>0,AM76="")," * No olvide digitar la variable Migrantes. Digite cero si no tiene.",IF(AM76>$C76," * La variable Migrantes no puede ser mayor al Total Ambos Sexos.","")) | CK76: =IF(AND(C76>0,AL76=""),1,IF(AL76>C76,1,0)) -> 0 | CL76: =IF(AND(C76>0,AM76=""),1,IF(AM76>C76,1,0)) -> 0
A77: SECCIÓN B.4: DISPOSITIVOS DE SALUD MENTAL
A78: TIPO DE DISPOSITIVO | B78: Nº DE PERSONAS ATENDIDAS | D78: DÍAS DE ESTADA DE PERSONAS ATENDIDAS EN EL MES | F78: Nº DE EGRESOS | H78: Nº DE PERSONAS EN LISTA DE ESPERA
B79: Menos de 20 años | C79: 20 y más años | D79: Menos de 20 años | E79: 20 y más años | F79: Menos de 20 años | G79: 20 y más años | H79: Menos de 20 años | I79: 20 y más años
A80: Hogar Protegido
A81: Residencia Protegida
A82: Hospital Psiquiátrico Diurno
A83: Centro Privativo de Libertad (SENAME)
A84: SECCIÓN C.1: ACTIVIDADES DE COORDINACION SECTORIAL, INTERSECTORIAL Y COMUNITARIA
A85: ACTIVIDADES | B85: TOTAL DE PARTICIPANTES | C85: Nº REUNIONES / SESIONES | D85: Nº INSTITUCIONES, ORGANIZACIONES PARTICIPANTES
A86: Trabajo Intersectorial | B86: =SUM(ENERO:DICIEMBRE!B86) -> 692 | C86: =SUM(ENERO:DICIEMBRE!C86) -> 275 | D86: =SUM(ENERO:DICIEMBRE!D86) -> 428
A87: Trabajo con Organizaciones Comunitarias de Base | B87: =SUM(ENERO:DICIEMBRE!B87) -> 0 | C87: =SUM(ENERO:DICIEMBRE!C87) -> 0 | D87: =SUM(ENERO:DICIEMBRE!D87) -> 0
A88: Trabajo con Organizaciones de Usuarios y Familiares | B88: =SUM(ENERO:DICIEMBRE!B88) -> 0 | C88: =SUM(ENERO:DICIEMBRE!C88) -> 0 | D88: =SUM(ENERO:DICIEMBRE!D88) -> 0
A89: Colaboración con Grupo de Autoayuda | B89: =SUM(ENERO:DICIEMBRE!B89) -> 0 | C89: =SUM(ENERO:DICIEMBRE!C89) -> 0 | D89: =SUM(ENERO:DICIEMBRE!D89) -> 0
A90: Reuniones con Instituciones del Sector Salud Programa Acompañamiento Psicosocial | B90: =SUM(ENERO:DICIEMBRE!B90) -> 0 | C90: =SUM(ENERO:DICIEMBRE!C90) -> 0 | D90: =SUM(ENERO:DICIEMBRE!D90) -> 0
A91: Reuniones con Instituciones del Intersector Acompañamiento Psicosocial | B91: =SUM(ENERO:DICIEMBRE!B91) -> 0 | C91: =SUM(ENERO:DICIEMBRE!C91) -> 0 | D91: =SUM(ENERO:DICIEMBRE!D91) -> 0
A92: Reuniones con Organizaciones Comunitarias Acompañamiento Psicosocial | B92: =SUM(ENERO:DICIEMBRE!B92) -> 0 | C92: =SUM(ENERO:DICIEMBRE!C92) -> 0 | D92: =SUM(ENERO:DICIEMBRE!D92) -> 0
A93: Reuniones con el sector salud | B93: =SUM(ENERO:DICIEMBRE!B93) -> 0 | C93: =SUM(ENERO:DICIEMBRE!C93) -> 0 | D93: =SUM(ENERO:DICIEMBRE!D93) -> 0
A94: SECCIÓN C.2: INFORMES A TRIBUNALES
A95: TRIBUNALES | B95: Menos de 18 años | C95: 18 y más años | D95: Nº informes | E95: ASISTENCIA A TRIBUNALES
E96: Nº de profesionales | F96: Nº de veces
A97: De Familia | B97: =SUM(ENERO:DICIEMBRE!B97) -> 341 | C97: =SUM(ENERO:DICIEMBRE!C97) -> 33 | D97: =SUM(ENERO:DICIEMBRE!D97) -> 327 | E97: =SUM(ENERO:DICIEMBRE!E97) -> 11 | F97: =SUM(ENERO:DICIEMBRE!F97) -> 10
A98: Penales | B98: =SUM(ENERO:DICIEMBRE!B98) -> 0 | C98: =SUM(ENERO:DICIEMBRE!C98) -> 0 | D98: =SUM(ENERO:DICIEMBRE!D98) -> 0 | E98: =SUM(ENERO:DICIEMBRE!E98) -> 0 | F98: =SUM(ENERO:DICIEMBRE!F98) -> 0
A99: Civiles | B99: =SUM(ENERO:DICIEMBRE!B99) -> 0 | C99: =SUM(ENERO:DICIEMBRE!C99) -> 0 | D99: =SUM(ENERO:DICIEMBRE!D99) -> 0 | E99: =SUM(ENERO:DICIEMBRE!E99) -> 0 | F99: =SUM(ENERO:DICIEMBRE!F99) -> 0
A100: Policía Local | B100: =SUM(ENERO:DICIEMBRE!B100) -> 0 | C100: =SUM(ENERO:DICIEMBRE!C100) -> 1 | D100: =SUM(ENERO:DICIEMBRE!D100) -> 1 | E100: =SUM(ENERO:DICIEMBRE!E100) -> 1 | F100: =SUM(ENERO:DICIEMBRE!F100) -> 1
A101: Laborales | B101: =SUM(ENERO:DICIEMBRE!B101) -> 0 | C101: =SUM(ENERO:DICIEMBRE!C101) -> 0 | D101: =SUM(ENERO:DICIEMBRE!D101) -> 0 | E101: =SUM(ENERO:DICIEMBRE!E101) -> 0 | F101: =SUM(ENERO:DICIEMBRE!F101) -> 0
...

Sheet ENERO
A1: SERVICIO DE SALUD
A2: =CONCATENATE("COMUNA: ",[2]NOMBRE!B2, " (",[2]NOMBRE!C2,[2]NOMBRE!D2,[2]NOMBRE!E2,[2]NOMBRE!F2,[2]NOMBRE!G2,")") -> COMUNA: LINARES (07401)
A3: =CONCATENATE("ESTABLECIMIENTO/ESTRATEGIA: ", [2]NOMBRE!B3, " (",[2]NOMBRE!C3,[2]NOMBRE!D3,[2]NOMBRE!E3,[2]NOMBRE!F3,[2]NOMBRE!G3,[2]NOMBRE!H3,")") -> ESTABLECIMIENTO/ESTRATEGIA: HOSPITAL PRESIDENTE CARLOS IBAÑEZ DEL CAMPO (116108)
A4: =CONCATENATE("MES: ",[2]NOMBRE!B6, " (",[2]NOMBRE!C6,[2]NOMBRE!D6,")") -> MES: ENERO (01)
A5: =CONCATENATE("AÑO: ",[2]NOMBRE!B7) -> AÑO: 2025
A6: REM-06. PROGRAMA DE SALUD MENTAL ATENCIÓN PRIMARIA Y ESPECIALIDADES
A8: SECCIÓN A.1: CONTROLES DE ATENCIÓN PRIMARIA / ESPECIALIDADES
A9: ACTIVIDAD | B9: PROFESIONAL | C9: TOTAL | F9: RANGO ETARIO Y SEXO | AN9: Beneficiarios | AO9: Niños, Niñas, Adolescentes y Jóvenes SENAME | AP9: Niños, Niñas, Adolescentes y Jóvenes Mejor Niñez | AQ9: Pueblos Originarios | AR9: Migrantes | AS9: Demencia | AT9: TRANS | AV9: Cuidadores de personas con demencia
F10: 0 - 4 años | H10: 5 - 9 años | J10: 10 - 14 años | L10: 15 - 19 años | N10: 20 - 24 años | P10: 25 - 29 años | R10: 30 - 34 años | T10: 35 - 39 años | V10: 40 - 44 años | X10: 45 - 49 años | Z10: 50 - 54 años | AB10: 55 - 59 años | AD10: 60 - 64 años | AF10: 65 - 69 años | AH10: 70 - 74 años | AJ10: 75 - 79 años | AL10: 80 y más años | AT10: Masculino | AU10: Femenino
C11: Ambos Sexos | D11: Hombres | E11: Mujeres | F11: Hombres | G11: Mujeres | H11: Hombres | I11: Mujeres | J11: Hombres | K11: Mujeres | L11: Hombres | M11: Mujeres | N11: Hombres | O11: Mujeres | P11: Hombres | Q11: Mujeres | R11: Hombres | S11: Mujeres | T11: Hombres | U11: Mujeres | V11: Hombres | W11: Mujeres | X11: Hombres | Y11: Mujeres | Z11: Hombres | AA11: Mujeres | AB11: Hombres | AC11: Mujeres | AD11: Hombres | AE11: Mujeres | AF11: Hombres | AG11: Mujeres | AH11: Hombres | AI11: Mujeres | AJ11: Hombres | AK11: Mujeres | AL11: Hombres | AM11: Mujeres
A12: Controles Salud Mental | B12: Médico/a | C12: =SUM(D12+E12) -> 0 | D12: =SUM(F12+H12+J12+L12+N12+P12+R12+T12+V12+X12+Z12+AB12+AD12+AF12+AH12+AJ12+AL12) -> 0 | E12: =SUM(G12+I12+K12+M12+O12+Q12+S12+U12+W12+Y12+AA12+AC12+AE12+AG12+AI12+AK12+AM12) -> 0 | AW12: =CA12&CB12&CC12&CD12&CE12&CF12&CG12&CH12&CI12 | CA12: =IF(AND($C12>0,AN12="")," * No olvide digitar la variable Beneficiarios. Digite Cero si no tiene.",IF(AN12>$C12," * La variable Beneficiarios No puede ser mayor al Total Ambos Sexos.","")) | CB12: =IF(AND($C12>0,AO12="")," * No olvide digitar la variable Niños, Niñas, adolescentes y Jóvenes SENAME. Digite Cero si no tiene.",IF(AO12>$C12," * La variable Niños, Niñas, adolescentes y Jóvenes SENAME No puede ser mayor al Total Ambos Sexos.","")) | CC12: =IF(AND($C12>0,AP12="")," * No olvide digitar la variable Niños, Niñas, adolescentes y Jóvenes Mejor Niñez. Digite Cero si no tiene.",IF(AP12>$C12," * La variable Niños, Niñas, adolescentes y Jóvenes Mejor Niñez No puede ser mayor al Total Ambos Sexos.","")) | CD12: =IF(AND($C12>0,AQ12="")," * No olvide digitar la variable Pueblos originarios. Digite Cero si no tiene.",IF(AQ12>$C12," * La variable Pueblos Originarios No puede ser mayor al Total Ambos Sexos.","")) | CE12: =IF(AND($C12>0,AR12="")," * No olvide digitar la variable Migrantes. Digite Cero si no tiene.",IF(AR12>$C12," * La variable Migrantes No puede ser mayor al Total Ambos Sexos.","")) | CF12: =IF(AND($C12>0,AS12="")," * No olvide digitar la variable Demencia. Digite Cero si no tiene.",IF(AS12>$C12," * La variable Demencia No puede ser mayor al Total Ambos Sexos.","")) | CG12: =IF(AND($E12>0,OR(AT12=""))," * No olvide digitar la variable Trans (Masculino). Digite Cero si no tiene.",IF((AT12)>$E12," * La variable Trans (Masculino) No puede ser mayor al Total Mujeres.","")) | CH12: =IF(AND(D12>0,OR(AU12=""))," * No olvide digitar la variable Trans (Femenino). Digite Cero si no tiene.",IF((AU12)>D12," * La variable Trans (Femenino) No puede ser mayor al Total Hombres.","")) | CI12: =IF(AND($C12>0,AV12="")," * No olvide digitar la variable Cuidadores de personas con demencia. Digite Cero si no tiene.",IF(AV12>$C12," * La variable Cuidadores de personas con demencia No puede ser mayor al Total Ambos Sexos.","")) | CK12: =IF(AND($C12>0,AN12=""),1,IF(AN12>$C12,1,0)) -> 0 | CL12: =IF(AND($C12>0,AO12=""),1,IF(AO12>$C12,1,0)) -> 0 | CM12: =IF(AND($C12>0,AP12=""),1,IF(AP12>$C12,1,0)) -> 0 | CN12: =IF(AND($C12>0,AQ12=""),1,IF(AQ12>$C12,1,0)) -> 0 | CO12: =IF(AND($C12>0,AR12=""),1,IF(AR12>$C12,1,0)) -> 0 | CP12: =IF(AND($C12>0,AS12=""),1,IF(AS12>$C12,1,0)) -> 0 | CQ12: =IF(AND($E12>0,OR(AT12="")),1,IF((AT12)>$E12,1,0)) -> 0 | CR12: =IF(AND($D12>0,OR(AU12="")),1,IF((AU12)>$D12,1,0)) -> 0 | CS12: =IF(AND($C12>0,AV12=""),1,IF(AV12>$C12,1,0)) -> 0
B13: Psicólogo/a | C13: =SUM(D13+E13) -> 40 | D13: =SUM(F13+H13+J13+L13+N13+P13+R13+T13+V13+X13+Z13+AB13+AD13+AF13+AH13+AJ13+AL13) -> 9 | E13: =SUM(G13+I13+K13+M13+O13+Q13+S13+U13+W13+Y13+AA13+AC13+AE13+AG13+AI13+AK13+AM13) -> 31 | F13: 0 | G13: 0 | H13: 0 | I13: 0 | J13: 0 | K13: 0 | L13: 0 | M13: 0 | N13: 0 | O13: 5 | P13: 1 | Q13: 3 | R13: 1 | S13: 1 | T13: 1 | U13: 1 | V13: 2 | W13: 1 | X13: 1 | Y13: 11 | Z13: 2 | AA13: 0 | AB13: 0 | AC13: 3 | AD13: 0 | AE13: 1 | AF13: 0 | AG13: 3 | AH13: 1 | AI13: 2 | AJ13: 0 | AK13: 0 | AL13: 0 | AM13: 0 | AN13: 40 | AO13: 0 | AP13: 0 | AQ13: 0 | AR13: 0 | AS13: 0 | AT13: 0 | AU13: 0 | AV13: 0 | AW13: =CA13&CB13&CC13&CD13&CE13&CF13&CG13&CH13&CI13 | CA13: =IF(AND($C13>0,AN13="")," * No olvide digitar la variable Beneficiarios. Digite Cero si no tiene.",IF(AN13>$C13," * La variable Beneficiarios No puede ser mayor al Total Ambos Sexos.","")) | CB13: =IF(AND($C13>0,AO13="")," * No olvide digitar la variable Niños, Niñas, adolescentes y Jóvenes SENAME. Digite Cero si no tiene.",IF(AO13>$C13," * La variable Niños, Niñas, adolescentes y Jóvenes SENAME No puede ser mayor al Total Ambos Sexos.","")) | CC13: =IF(AND($C13>0,AP13="")," * No olvide digitar la variable Niños, Niñas, adolescentes y Jóvenes Mejor Niñez. Digite Cero si no tiene.",IF(AP13>$C13," * La variable Niños, Niñas, adolescentes y Jóvenes Mejor Niñez No puede ser mayor al Total Ambos Sexos.","")) | CD13: =IF(AND($C13>0,AQ13="")," * No olvide digitar la variable Pueblos originarios. Digite Cero si no tiene.",IF(AQ13>$C13," * La variable Pueblos Originarios No puede ser mayor al Total Ambos Sexos.","")) | CE13: =IF(AND($C13>0,AR13="")," * No olvide digitar la variable Migrantes. Digite Cero si no tiene.",IF(AR13>$C13," * La variable Migrantes No puede ser mayor al Total Ambos Sexos.","")) | CF13: =IF(AND($C13>0,AS13="")," * No olvide digitar la variable Demencia. Digite Cero si no tiene.",IF(AS13>$C13," * La variable Demencia No puede ser mayor al Total Ambos Sexos.","")) | CG13: =IF(AND($E13>0,OR(AT13=""))," * No olvide digitar la variable Trans (Masculino). Digite Cero si no tiene.",IF((AT13)>$E13," * La variable Trans (Masculino) No puede ser mayor al Total Mujeres.","")) | CH13: =IF(AND(D13>0,OR(AU13=""))," * No olvide digitar la variable Trans (Femenino). Digite Cero si no tiene.",IF((AU13)>D13," * La variable Trans (Femenino) No puede ser mayor al Total Hombres.","")) | CI13: =IF(AND($C13>0,AV13="")," * No olvide digitar la variable Cuidadores de personas con demencia. Digite Cero si no tiene.",IF(AV13>$C13," * La variable Cuidadores de personas con demencia No puede ser mayor al Total Ambos Sexos.","")) | CK13: =IF(AND(C13>0,AN13=""),1,IF(AN13>C13,1,0)) -> 0 | CL13: =IF(AND(C13>0,AO13=""),1,IF(AO13>C13,1,0)) -> 0 | CM13: =IF(AND(C13>0,AP13=""),1,IF(AP13>C13,1,0)) -> 0 | CN13: =IF(AND(C13>0,AQ13=""),1,IF(AQ13>C13,1,0)) -> 0 | CO13: =IF(AND(C13>0,AR13=""),1,IF(AR13>C13,1,0)) -> 0 | CP13: =IF(AND(C13>0,AS13=""),1,IF(AS13>C13,1,0)) -> 0 | CQ13: =IF(AND(E13>0,OR(AT13="")),1,IF((AT13)>E13,1,0)) -> 0 | CR13: =IF(AND(D13>0,OR(AU13="")),1,IF((AU13)>D13,1,0)) -> 0 | CS13: =IF(AND($C13>0,AV13=""),1,IF(AV13>$C13,1,0)) -> 0
B14: Enfermera/o | C14: =SUM(D14+E14) -> 278 | D14: =SUM(F14+H14+J14+L14+N14+P14+R14+T14+V14+X14+Z14+AB14+AD14+AF14+AH14+AJ14+AL14) -> 138 | E14: =SUM(G14+I14+K14+M14+O14+Q14+S14+U14+W14+Y14+AA14+AC14+AE14+AG14+AI14+AK14+AM14) -> 140 | F14: 0 | G14: 0 | H14: 0 | I14: 0 | J14: 0 | K14: 0 | L14: 3 | M14: 2 | N14: 6 | O14: 2 | P14: 4 | Q14: 3 | R14: 8 | S14: 7 | T14: 19 | U14: 10 | V14: 18 | W14: 14 | X14: 13 | Y14: 11 | Z14: 23 | AA14: 12 | AB14: 12 | AC14: 24 | AD14: 15 | AE14: 30 | AF14: 8 | AG14: 13 | AH14: 6 | AI14: 10 | AJ14: 2 | AK14: 0 | AL14: 1 | AM14: 2 | AN14: 278 | AO14: 0 | AP14: 0 | AQ14: 0 | AR14: 0 | AS14: 0 | AT14: 0 | AU14: 0 | AV14: 0 | AW14: =CA14&CB14&CC14&CD14&CE14&CF14&CG14&CH14&CI14 | CA14: =IF(AND($C14>0,AN14="")," * No olvide digitar la variable Beneficiarios. Digite Cero si no tiene.",IF(AN14>$C14," * La variable Beneficiarios No puede ser mayor al Total Ambos Sexos.","")) | CB14: =IF(AND($C14>0,AO14="")," * No olvide digitar la variable Niños, Niñas, adolescentes y Jóvenes SENAME. Digite Cero si no tiene.",IF(AO14>$C14," * La variable Niños, Niñas, adolescentes y Jóvenes SENAME No puede ser mayor al Total Ambos Sexos.","")) | CC14: =IF(AND($C14>0,AP14="")," * No olvide digitar la variable Niños, Niñas, adolescentes y Jóvenes Mejor Niñez. Digite Cero si no tiene.",IF(AP14>$C14," * La variable Niños, Niñas, adolescentes y Jóvenes Mejor Niñez No puede ser mayor al Total Ambos Sexos.","")) | CD14: =IF(AND($C14>0,AQ14="")," * No olvide digitar la variable Pueblos originarios. Digite Cero si no tiene.",IF(AQ14>$C14," * La variable Pueblos Originarios No puede ser mayor al Total Ambos Sexos.","")) | CE14: =IF(AND($C14>0,AR14="")," * No olvide digitar la variable Migrantes. Digite Cero si no tiene.",IF(AR14>$C14," * La variable Migrantes No puede ser mayor al Total Ambos Sexos.","")) | CF14: =IF(AND($C14>0,AS14="")," * No olvide digitar la variable Demencia. Digite Cero si no tiene.",IF(AS14>$C14," * La variable Demencia No puede ser mayor al Total Ambos Sexos.","")) | CG14: =IF(AND($E14>0,OR(AT14=""))," * No olvide digitar la variable Trans (Masculino). Digite Cero si no tiene.",IF((AT14)>$E14," * La variable Trans (Masculino) No puede ser mayor al Total Mujeres.","")) | CH14: =IF(AND(D14>0,OR(AU14=""))," * No olvide digitar la variable Trans (Femenino). Digite Cero si no tiene.",IF((AU14)>D14," * La variable Trans (Femenino) No puede ser mayor al Total Hombres.","")) | CI14: =IF(AND($C14>0,AV14="")," * No olvide digitar la variable Cuidadores de personas con demencia. Digite Cero si no tiene.",IF(AV14>$C14," * La variable Cuidadores de personas con demencia No puede ser mayor al Total Ambos Sexos.","")) | CK14: =IF(AND(C14>0,AN14=""),1,IF(AN14>C14,1,0)) -> 0 | CL14: =IF(AND(C14>0,AO14=""),1,IF(AO14>C14,1,0)) -> 0 | CM14: =IF(AND(C14>0,AP14=""),1,IF(AP14>C14,1,0)) -> 0 | CN14: =IF(AND(C14>0,AQ14=""),1,IF(AQ14>C14,1,0)) -> 0 | CO14: =IF(AND(C14>0,AR14=""),1,IF(AR14>C14,1,0)) -> 0 | CP14: =IF(AND(C14>0,AS14=""),1,IF(AS14>C14,1,0)) -> 0 | CQ14: =IF(AND(E14>0,OR(AT14="")),1,IF((AT14)>E14,1,0)) -> 0 | CR14: =IF(AND(D14>0,OR(AU14="")),1,IF((AU14)>D14,1,0)) -> 0 | CS14: =IF(AND($C14>0,AV14=""),1,IF(AV14>$C14,1,0)) -> 0
B15: Matrona/ón | C15: =SUM(D15+E15) -> 0 | D15: =SUM(F15+H15+J15+L15+N15+P15+R15+T15+V15+X15+Z15+AB15+AD15+AF15+AH15+AJ15+AL15) -> 0 | E15: =SUM(G15+I15+K15+M15+O15+Q15+S15+U15+W15+Y15+AA15+AC15+AE15+AG15+AI15+AK15+AM15) -> 0 | AN15: 0 | AO15: 0 | AP15: 0 | AQ15: 0 | AR15: 0 | AS15: 0 | AT15: 0 | AU15: 0 | AV15: 0 | AW15: =CA15&CB15&CC15&CD15&CE15&CF15&CG15&CH15&CI15 | CA15: =IF(AND($C15>0,AN15="")," * No olvide digitar la variable Beneficiarios. Digite Cero si no tiene.",IF(AN15>$C15," * La variable Beneficiarios No puede ser mayor al Total Ambos Sexos.","")) | CB15: =IF(AND($C15>0,AO15="")," * No olvide digitar la variable Niños, Niñas, adolescentes y Jóvenes SENAME. Digite Cero si no tiene.",IF(AO15>$C15," * La variable Niños, Niñas, adolescentes y Jóvenes SENAME No puede ser mayor al Total Ambos Sexos.","")) | CC15: =IF(AND($C15>0,AP15="")," * No olvide digitar la variable Niños, Niñas, adolescentes y Jóvenes Mejor Niñez. Digite Cero si no tiene.",IF(AP15>$C15," * La variable Niños, Niñas, adolescentes y Jóvenes Mejor Niñez No puede ser mayor al Total Ambos Sexos.","")) | CD15: =IF(AND($C15>0,AQ15="")," * No olvide digitar la variable Pueblos originarios. Digite Cero si no tiene.",IF(AQ15>$C15," * La variable Pueblos Originarios No puede ser mayor al Total Ambos Sexos.","")) | CE15: =IF(AND($C15>0,AR15="")," * No olvide digitar la variable Migrantes. Digite Cero si no tiene.",IF(AR15>$C15," * La variable Migrantes No puede ser mayor al Total Ambos Sexos.","")) | CF15: =IF(AND($C15>0,AS15="")," * No olvide digitar la variable Demencia. Digite Cero si no tiene.",IF(AS15>$C15," * La variable Demencia No puede ser mayor al Total Ambos Sexos.","")) | CG15: =IF(AND($E15>0,OR(AT15=""))," * No olvide digitar la variable Trans (Masculino). Digite Cero si no tiene.",IF((AT15)>$E15," * La variable Trans (Masculino) No puede ser mayor al Total Mujeres.","")) | CH15: =IF(AND(D15>0,OR(AU15=""))," * No olvide digitar la variable Trans (Femenino). Digite Cero si no tiene.",IF((AU15)>D15," * La variable Trans (Femenino) No puede ser mayor al Total Hombres.","")) | CI15: =IF(AND($C15>0,AV15="")," * No olvide digitar la variable Cuidadores de personas con demencia. Digite Cero si no tiene.",IF(AV15>$C15," * La variable Cuidadores de personas con demencia No puede ser mayor al Total Ambos Sexos.","")) | CK15: =IF(AND(C15>0,AN15=""),1,IF(AN15>C15,1,0)) -> 0 | CL15: =IF(AND(C15>0,AO15=""),1,IF(AO15>C15,1,0)) -> 0 | CM15: =IF(AND(C15>0,AP15=""),1,IF(AP15>C15,1,0)) -> 0 | CN15: =IF(AND(C15>0,AQ15=""),1,IF(AQ15>C15,1,0)) -> 0 | CO15: =IF(AND(C15>0,AR15=""),1,IF(AR15>C15,1,0)) -> 0 | CP15: =IF(AND(C15>0,AS15=""),1,IF(AS15>C15,1,0)) -> 0 | CQ15: =IF(AND(E15>0,OR(AT15="")),1,IF((AT15)>E15,1,0)) -> 0 | CR15: =IF(AND(D15>0,OR(AU15="")),1,IF((AU15)>D15,1,0)) -> 0 | CS15: =IF(AND($C15>0,AV15=""),1,IF(AV15>$C15,1,0)) -> 0
B16: Trabajador/a Social | C16: =SUM(D16+E16) -> 52 | D16: =SUM(F16+H16+J16+L16+N16+P16+R16+T16+V16+X16+Z16+AB16+AD16+AF16+AH16+AJ16+AL16) -> 32 | E16: =SUM(G16+I16+K16+M16+O16+Q16+S16+U16+W16+Y16+AA16+AC16+AE16+AG16+AI16+AK16+AM16) -> 20 | F16: 0 | G16: 0 | H16: 0 | I16: 0 | J16: 2 | K16: 1 | L16: 1 | M16: 0 | N16: 8 | O16: 1 | P16: 4 | Q16: 0 | R16: 0 | S16: 2 | T16: 2 | U16: 3 | V16: 0 | W16: 1 | X16: 2 | Y16: 2 | Z16: 3 | AA16: 1 | AB16: 1 | AC16: 4 | AD16: 6 | AE16: 0 | AF16: 1 | AG16: 2 | AH16: 1 | AI16: 3 | AJ16: 0 | AK16: 0 | AL16: 1 | AM16: 0 | AN16: 52 | AO16: 0 | AP16: 3 | AQ16: 0 | AR16: 0 | AS16: 0 | AT16: 0 | AU16: 0 | AV16: 0 | AW16: =CA16&CB16&CC16&CD16&CE16&CF16&CG16&CH16&CI16 | CA16: =IF(AND($C16>0,AN16="")," * No olvide digitar la variable Beneficiarios. Digite Cero si no tiene.",IF(AN16>$C16," * La variable Beneficiarios No puede ser mayor al Total Ambos Sexos.","")) | CB16: =IF(AND($C16>0,AO16="")," * No olvide digitar la variable Niños, Niñas, adolescentes y Jóvenes SENAME. Digite Cero si no tiene.",IF(AO16>$C16," * La variable Niños, Niñas, adolescentes y Jóvenes SENAME No puede ser mayor al Total Ambos Sexos.","")) | CC16: =IF(AND($C16>0,AP16="")," * No olvide digitar la variable Niños, Niñas, adolescentes y Jóvenes Mejor Niñez. Digite Cero si no tiene.",IF(AP16>$C16," * La variable Niños, Niñas, adolescentes y Jóvenes Mejor Niñez No puede ser mayor al Total Ambos Sexos.","")) | CD16: =IF(AND($C16>0,AQ16="")," * No olvide digitar la variable Pueblos originarios. Digite Cero si no tiene.",IF(AQ16>$C16," * La variable Pueblos Originarios No puede ser mayor al Total Ambos Sexos.","")) | CE16: =IF(AND($C16>0,AR16="")," * No olvide digitar la variable Migrantes. Digite Cero si no tiene.",IF(AR16>$C16," * La variable Migrantes No puede ser mayor al Total Ambos Sexos.","")) | CF16: =IF(AND($C16>0,AS16="")," * No olvide digitar la variable Demencia. Digite Cero si no tiene.",IF(AS16>$C16," * La variable Demencia No puede ser mayor al Total Ambos Sexos.","")) | CG16: =IF(AND($E16>0,OR(AT16=""))," * No olvide digitar la variable Trans (Masculino). Digite Cero si no tiene.",IF((AT16)>$E16," * La variable Trans (Masculino) No puede ser mayor al Total Mujeres.","")) | CH16: =IF(AND(D16>0,OR(AU16=""))," * No olvide digitar la variable Trans (Femenino). Digite Cero si no tiene.",IF((AU16)>D16," * La variable Trans (Femenino) No puede ser mayor al Total Hombres.","")) | CI16: =IF(AND($C16>0,AV16="")," * No olvide digitar la variable Cuidadores de personas con demencia. Digite Cero si no tiene.",IF(AV16>$C16," * La variable Cuidadores de personas con demencia No puede ser mayor al Total Ambos Sexos.","")) | CK16: =IF(AND(C16>0,AN16=""),1,IF(AN16>C16,1,0)) -> 0 | CL16: =IF(AND(C16>0,AO16=""),1,IF(AO16>C16,1,0)) -> 0 | CM16: =IF(AND(C16>0,AP16=""),1,IF(AP16>C16,1,0)) -> 0 | CN16: =IF(AND(C16>0,AQ16=""),1,IF(AQ16>C16,1,0)) -> 0 | CO16: =IF(AND(C16>0,AR16=""),1,IF(AR16>C16,1,0)) -> 0 | CP16: =IF(AND(C16>0,AS16=""),1,IF(AS16>C16,1,0)) -> 0 | CQ16: =IF(AND(E16>0,OR(AT16="")),1,IF((AT16)>E16,1,0)) -> 0 | CR16: =IF(AND(D16>0,OR(AU16="")),1,IF((AU16)>D16,1,0)) -> 0 | CS16: =IF(AND($C16>0,AV16=""),1,IF(AV16>$C16,1,0)) -> 0
B17: Otros Profesionales Capacitados (Salud Mental) | C17: =SUM(D17+E17) -> 0 | D17: =SUM(F17+H17+J17+L17+N17+P17+R17+T17+V17+X17+Z17+AB17+AD17+AF17+AH17+AJ17+AL17) -> 0 | E17: =SUM(G17+I17+K17+M17+O17+Q17+S17+U17+W17+Y17+AA17+AC17+AE17+AG17+AI17+AK17+AM17) -> 0 | AN17: 0 | AO17: 0 | AP17: 0 | AQ17: 0 | AR17: 0 | AS17: 0 | AT17: 0 | AU17: 0 | AV17: 0 | AW17: =CA17&CB17&CC17&CD17&CE17&CF17&CG17&CH17&CI17 | CA17: =IF(AND($C17>0,AN17="")," * No olvide digitar la variable Beneficiarios. Digite Cero si no tiene.",IF(AN17>$C17," * La variable Beneficiarios No puede ser mayor al Total Ambos Sexos.","")) | CB17: =IF(AND($C17>0,AO17="")," * No olvide digitar la variable Niños, Niñas, adolescentes y Jóvenes SENAME. Digite Cero si no tiene.",IF(AO17>$C17," * La variable Niños, Niñas, adolescentes y Jóvenes SENAME No puede ser mayor al Total Ambos Sexos.","")) | CC17: =IF(AND($C17>0,AP17="")," * No olvide digitar la variable Niños, Niñas, adolescentes y Jóvenes Mejor Niñez. Digite Cero si no tiene.",IF(AP17>$C17," * La variable Niños, Niñas, adolescentes y Jóvenes Mejor Niñez No puede ser mayor al Total Ambos Sexos.","")) | CD17: =IF(AND($C17>0,AQ17="")," * No olvide digitar la variable Pueblos originarios. Digite Cero si no tiene.",IF(AQ17>$C17," * La variable Pueblos Originarios No puede ser mayor al Total Ambos Sexos.","")) | CE17: =IF(AND($C17>0,AR17="")," * No olvide digitar la variable Migrantes. Digite Cero si no tiene.",IF(AR17>$C17," * La variable Migrantes No puede ser mayor al Total Ambos Sexos.","")) | CF17: =IF(AND($C17>0,AS17="")," * No olvide digitar la variable Demencia. Digite Cero si no tiene.",IF(AS17>$C17," * La variable Demencia No puede ser mayor al Total Ambos Sexos.","")) | CG17: =IF(AND($E17>0,OR(AT17=""))," * No olvide digitar la variable Trans (Masculino). Digite Cero si no tiene.",IF((AT17)>$E17," * La variable Trans (Masculino) No puede ser mayor al Total Mujeres.","")) | CH17: =IF(AND(D17>0,OR(AU17=""))," * No olvide digitar la variable Trans (Femenino). Digite Cero si no tiene.",IF((AU17)>D17," * La variable Trans (Femenino) No puede ser mayor al Total Hombres.","")) | CI17: =IF(AND($C17>0,AV17="")," * No olvide digitar la variable Cuidadores de personas con demencia. Digite Cero si no tiene.",IF(AV17>$C17," * La variable Cuidadores de personas con demencia No puede ser mayor al Total Ambos Sexos.","")) | CK17: =IF(AND(C17>0,AN17=""),1,IF(AN17>C17,1,0)) -> 0 | CL17: =IF(AND(C17>0,AO17=""),1,IF(AO17>C17,1,0)) -> 0 | CM17: =IF(AND(C17>0,AP17=""),1,IF(AP17>C17,1,0)) -> 0 | CN17: =IF(AND(C17>0,AQ17=""),1,IF(AQ17>C17,1,0)) -> 0 | CO17: =IF(AND(C17>0,AR17=""),1,IF(AR17>C17,1,0)) -> 0 | CP17: =IF(AND(C17>0,AS17=""),1,IF(AS17>C17,1,0)) -> 0 | CQ17: =IF(AND(E17>0,OR(AT17="")),1,IF((AT17)>E17,1,0)) -> 0 | CR17: =IF(AND(D17>0,OR(AU17="")),1,IF((AU17)>D17,1,0)) -> 0 | CS17: =IF(AND($C17>0,AV17=""),1,IF(AV17>$C17,1,0)) -> 0
B18: Terapeuta Ocupacional | C18: =SUM(D18+E18) -> 40 | D18: =SUM(F18+H18+J18+L18+N18+P18+R18+T18+V18+X18+Z18+AB18+AD18+AF18+AH18+AJ18+AL18) -> 23 | E18: =SUM(G18+I18+K18+M18+O18+Q18+S18+U18+W18+Y18+AA18+AC18+AE18+AG18+AI18+AK18+AM18) -> 17 | F18: 0 | G18: 0 | H18: 8 | I18: 0 | J18: 4 | K18: 9 | L18: 11 | M18: 8 | N18: 0 | O18: 0 | P18: 0 | Q18: 0 | R18: 0 | S18: 0 | T18: 0 | U18: 0 | V18: 0 | W18: 0 | X18: 0 | Y18: 0 | Z18: 0 | AA18: 0 | AB18: 0 | AC18: 0 | AD18: 0 | AE18: 0 | AF18: 0 | AG18: 0 | AH18: 0 | AI18: 0 | AJ18: 0 | AK18: 0 | AL18: 0 | AM18: 0 | AN18: 40 | AO18: 0 | AP18: 14 | AQ18: 0 | AR18: 0 | AS18: 0 | AT18: 0 | AU18: 0 | AV18: 0 | AW18: =CA18&CB18&CC18&CD18&CE18&CF18&CG18&CH18&CI18 | CA18: =IF(AND($C18>0,AN18="")," * No olvide digitar la variable Beneficiarios. Digite Cero si no tiene.",IF(AN18>$C18," * La variable Beneficiarios No puede ser mayor al Total Ambos Sexos.","")) | CB18: =IF(AND($C18>0,AO18="")," * No olvide digitar la variable Niños, Niñas, adolescentes y Jóvenes SENAME. Digite Cero si no tiene.",IF(AO18>$C18," * La variable Niños, Niñas, adolescentes y Jóvenes SENAME No puede ser mayor al Total Ambos Sexos.","")) | CC18: =IF(AND($C18>0,AP18="")," * No olvide digitar la variable Niños, Niñas, adolescentes y Jóvenes Mejor Niñez. Digite Cero si no tiene.",IF(AP18>$C18," * La variable Niños, Niñas, adolescentes y Jóvenes Mejor Niñez No puede ser mayor al Total Ambos Sexos.","")) | CD18: =IF(AND($C18>0,AQ18="")," * No olvide digitar la variable Pueblos originarios. Digite Cero si no tiene.",IF(AQ18>$C18," * La variable Pueblos Originarios No puede ser mayor al Total Ambos Sexos.","")) | CE18: =IF(AND($C18>0,AR18="")," * No olvide digitar la variable Migrantes. Digite Cero si no tiene.",IF(AR18>$C18," * La variable Migrantes No puede ser mayor al Total Ambos Sexos.","")) | CF18: =IF(AND($C18>0,AS18="")," * No olvide digitar la variable Demencia. Digite Cero si no tiene.",IF(AS18>$C18," * La variable Demencia No puede ser mayor al Total Ambos Sexos.","")) | CG18: =IF(AND($E18>0,OR(AT18=""))," * No olvide digitar la variable Trans (Masculino). Digite Cero si no tiene.",IF((AT18)>$E18," * La variable Trans (Masculino) No puede ser mayor al Total Mujeres.","")) | CH18: =IF(AND(D18>0,OR(AU18=""))," * No olvide digitar la variable Trans (Femenino). Digite Cero si no tiene.",IF((AU18)>D18," * La variable Trans (Femenino) No puede ser mayor al Total Hombres.","")) | CI18: =IF(AND($C18>0,AV18="")," * No olvide digitar la variable Cuidadores de personas con demencia. Digite Cero si no tiene.",IF(AV18>$C18," * La variable Cuidadores de personas con demencia No puede ser mayor al Total Ambos Sexos.","")) | CK18: =IF(AND(C18>0,AN18=""),1,IF(AN18>C18,1,0)) -> 0 | CL18: =IF(AND(C18>0,AO18=""),1,IF(AO18>C18,1,0)) -> 0 | CM18: =IF(AND(C18>0,AP18=""),1,IF(AP18>C18,1,0)) -> 0 | CN18: =IF(AND(C18>0,AQ18=""),1,IF(AQ18>C18,1,0)) -> 0 | CO18: =IF(AND(C18>0,AR18=""),1,IF(AR18>C18,1,0)) -> 0 | CP18: =IF(AND(C18>0,AS18=""),1,IF(AS18>C18,1,0)) -> 0 | CQ18: =IF(AND(E18>0,OR(AT18="")),1,IF((AT18)>E18,1,0)) -> 0 | CR18: =IF(AND(D18>0,OR(AU18="")),1,IF((AU18)>D18,1,0)) -> 0 | CS18: =IF(AND($C18>0,AV18=""),1,IF(AV18>$C18,1,0)) -> 0
B19: Técnico en Enfermería en Salud Mental | C19: =SUM(D19+E19) -> 0 | D19: =SUM(F19+H19+J19+L19+N19+P19+R19+T19+V19+X19+Z19+AB19+AD19+AF19+AH19+AJ19+AL19) -> 0 | E19: =SUM(G19+I19+K19+M19+O19+Q19+S19+U19+W19+Y19+AA19+AC19+AE19+AG19+AI19+AK19+AM19) -> 0 | AO19: 0 | AP19: 0 | AQ19: 0 | AR19: 0 | AS19: 0 | AT19: 0 | AU19: 0 | AV19: 0 | AW19: =CA19&CB19&CC19&CD19&CE19&CF19&CG19&CH19&CI19 | CA19: =IF(AND($C19>0,AN19="")," * No olvide digitar la variable Beneficiarios. Digite Cero si no tiene.",IF(AN19>$C19," * La variable Beneficiarios No puede ser mayor al Total Ambos Sexos.","")) | CB19: =IF(AND($C19>0,AO19="")," * No olvide digitar la variable Niños, Niñas, adolescentes y Jóvenes SENAME. Digite Cero si no tiene.",IF(AO19>$C19," * La variable Niños, Niñas, adolescentes y Jóvenes SENAME No puede ser mayor al Total Ambos Sexos.","")) | CC19: =IF(AND($C19>0,AP19="")," * No olvide digitar la variable Niños, Niñas, adolescentes y Jóvenes Mejor Niñez. Digite Cero si no tiene.",IF(AP19>$C19," * La variable Niños, Niñas, adolescentes y Jóvenes Mejor Niñez No puede ser mayor al Total Ambos Sexos.","")) | CD19: =IF(AND($C19>0,AQ19="")," * No olvide digitar la variable Pueblos originarios. Digite Cero si no tiene.",IF(AQ19>$C19," * La variable Pueblos Originarios No puede ser mayor al Total Ambos Sexos.","")) | CE19: =IF(AND($C19>0,AR19="")," * No olvide digitar la variable Migrantes. Digite Cero si no tiene.",IF(AR19>$C19," * La variable Migrantes No puede ser mayor al Total Ambos Sexos.","")) | CF19: =IF(AND($C19>0,AS19="")," * No olvide digitar la variable Demencia. Digite Cero si no tiene.",IF(AS19>$C19," * La variable Demencia No puede ser mayor al Total Ambos Sexos.","")) | CG19: =IF(AND($E19>0,OR(AT19=""))," * No olvide digitar la variable Trans (Masculino). Digite Cero si no tiene.",IF((AT19)>$E19," * La variable Trans (Masculino) No puede ser mayor al Total Mujeres.","")) | CH19: =IF(AND(D19>0,OR(AU19=""))," * No olvide digitar la variable Trans (Femenino). Digite Cero si no tiene.",IF((AU19)>D19," * La variable Trans (Femenino) No puede ser mayor al Total Hombres.","")) | CI19: =IF(AND($C19>0,AV19="")," * No olvide digitar la variable Cuidadores de personas con demencia. Digite Cero si no tiene.",IF(AV19>$C19," * La variable Cuidadores de personas con demencia No puede ser mayor al Total Ambos Sexos.","")) | CK19: =IF(AND(C19>0,AN19=""),1,IF(AN19>C19,1,0)) -> 0 | CL19: =IF(AND(C19>0,AO19=""),1,IF(AO19>C19,1,0)) -> 0 | CM19: =IF(AND(C19>0,AP19=""),1,IF(AP19>C19,1,0)) -> 0 | CN19: =IF(AND(C19>0,AQ19=""),1,IF(AQ19>C19,1,0)) -> 0 | CO19: =IF(AND(C19>0,AR19=""),1,IF(AR19>C19,1,0)) -> 0 | CP19: =IF(AND(C19>0,AS19=""),1,IF(AS19>C19,1,0)) -> 0 | CQ19: =IF(AND(E19>0,OR(AT19="")),1,IF((AT19)>E19,1,0)) -> 0 | CR19: =IF(AND(D19>0,OR(AU19="")),1,IF((AU19)>D19,1,0)) -> 0 | CS19: =IF(AND($C19>0,AV19=""),1,IF(AV19>$C19,1,0)) -> 0
B20: Gestor Comunitario | C20: =SUM(D20+E20) -> 0 | D20: =SUM(F20+H20+J20+L20+N20+P20+R20+T20+V20+X20+Z20+AB20+AD20+AF20+AH20+AJ20+AL20) -> 0 | E20: =SUM(G20+I20+K20+M20+O20+Q20+S20+U20+W20+Y20+AA20+AC20+AE20+AG20+AI20+AK20+AM20) -> 0 | AW20: =CA20&CB20&CC20&CD20&CE20&CF20&CG20&CH20&CI20 | CA20: =IF(AND($C20>0,AN20="")," * No olvide digitar la variable Beneficiarios. Digite Cero si no tiene.",IF(AN20>$C20," * La variable Beneficiarios No puede ser mayor al Total Ambos Sexos.","")) | CB20: =IF(AND($C20>0,AO20="")," * No olvide digitar la variable Niños, Niñas, adolescentes y Jóvenes SENAME. Digite Cero si no tiene.",IF(AO20>$C20," * La variable Niños, Niñas, adolescentes y Jóvenes SENAME No puede ser mayor al Total Ambos Sexos.","")) | CC20: =IF(AND($C20>0,AP20="")," * No olvide digitar la variable Niños, Niñas, adolescentes y Jóvenes Mejor Niñez. Digite Cero si no tiene.",IF(AP20>$C20," * La variable Niños, Niñas, adolescentes y Jóvenes Mejor Niñez No puede ser mayor al Total Ambos Sexos.","")) | CD20: =IF(AND($C20>0,AQ20="")," * No olvide digitar la variable Pueblos originarios. Digite Cero si no tiene.",IF(AQ20>$C20," * La variable Pueblos Originarios No puede ser mayor al Total Ambos Sexos.","")) | CE20: =IF(AND($C20>0,AR20="")," * No olvide digitar la variable Migrantes. Digite Cero si no tiene.",IF(AR20>$C20," * La variable Migrantes No puede ser mayor al Total Ambos Sexos.","")) | CF20: =IF(AND($C20>0,AS20="")," * No olvide digitar la variable Demencia. Digite Cero si no tiene.",IF(AS20>$C20," * La variable Demencia No puede ser mayor al Total Ambos Sexos.","")) | CG20: =IF(AND($E20>0,OR(AT20=""))," * No olvide digitar la variable Trans (Masculino). Digite Cero si no tiene.",IF((AT20)>$E20," * La variable Trans (Masculino) No puede ser mayor al Total Mujeres.","")) | CH20: =IF(AND(D20>0,OR(AU20=""))," * No olvide digitar la variable Trans (Femenino). Digite Cero si no tiene.",IF((AU20)>D20," * La variable Trans (Femenino) No puede ser mayor al Total Hombres.","")) | CI20: =IF(AND($C20>0,AV20="")," * No olvide digitar la variable Cuidadores de personas con demencia. Digite Cero si no tiene.",IF(AV20>$C20," * La variable Cuidadores de personas con demencia No puede ser mayor al Total Ambos Sexos.","")) | CK20: =IF(AND(C20>0,AN20=""),1,IF(AN20>C20,1,0)) -> 0 | CL20: =IF(AND(C20>0,AO20=""),1,IF(AO20>C20,1,0)) -> 0 | CM20: =IF(AND(C20>0,AP20=""),1,IF(AP20>C20,1,0)) -> 0 | CN20: =IF(AND(C20>0,AQ20=""),1,IF(AQ20>C20,1,0)) -> 0 | CO20: =IF(AND(C20>0,AR20=""),1,IF(AR20>C20,1,0)) -> 0 | CP20: =IF(AND(C20>0,AS20=""),1,IF(AS20>C20,1,0)) -> 0 | CQ20: =IF(AND(E20>0,OR(AT20="")),1,IF((AT20)>E20,1,0)) -> 0 | CR20: =IF(AND(D20>0,OR(AU20="")),1,IF((AU20)>D20,1,0)) -> 0 | CS20: =IF(AND($C20>0,AV20=""),1,IF(AV20>$C20,1,0)) -> 0
B21: Técnico Rehabilitación Alcohol y Drogas | C21: =SUM(D21+E21) -> 0 | D21: =SUM(F21+H21+J21+L21+N21+P21+R21+T21+V21+X21+Z21+AB21+AD21+AF21+AH21+AJ21+AL21) -> 0 | E21: =SUM(G21+I21+K21+M21+O21+Q21+S21+U21+W21+Y21+AA21+AC21+AE21+AG21+AI21+AK21+AM21) -> 0 | AW21: =CA21&CB21&CC21&CD21&CE21&CF21&CG21&CH21&CI21 | CA21: =IF(AND($C21>0,AN21="")," * No olvide digitar la variable Beneficiarios. Digite Cero si no tiene.",IF(AN21>$C21," * La variable Beneficiarios No puede ser mayor al Total Ambos Sexos.","")) | CB21: =IF(AND($C21>0,AO21="")," * No olvide digitar la variable Niños, Niñas, adolescentes y Jóvenes SENAME. Digite Cero si no tiene.",IF(AO21>$C21," * La variable Niños, Niñas, adolescentes y Jóvenes SENAME No puede ser mayor al Total Ambos Sexos.","")) | CC21: =IF(AND($C21>0,AP21="")," * No olvide digitar la variable Niños, Niñas, adolescentes y Jóvenes Mejor Niñez. Digite Cero si no tiene.",IF(AP21>$C21," * La variable Niños, Niñas, adolescentes y Jóvenes Mejor Niñez No puede ser mayor al Total Ambos Sexos.","")) | CD21: =IF(AND($C21>0,AQ21="")," * No olvide digitar la variable Pueblos originarios. Digite Cero si no tiene.",IF(AQ21>$C21," * La variable Pueblos Originarios No puede ser mayor al Total Ambos Sexos.","")) | CE21: =IF(AND($C21>0,AR21="")," * No olvide digitar la variable Migrantes. Digite Cero si no tiene.",IF(AR21>$C21," * La variable Migrantes No puede ser mayor al Total Ambos Sexos.","")) | CF21: =IF(AND($C21>0,AS21="")," * No olvide digitar la variable Demencia. Digite Cero si no tiene.",IF(AS21>$C21," * La variable Demencia No puede ser mayor al Total Ambos Sexos.","")) | CG21: =IF(AND($E21>0,OR(AT21=""))," * No olvide digitar la variable Trans (Masculino). Digite Cero si no tiene.",IF((AT21)>$E21," * La variable Trans (Masculino) No puede ser mayor al Total Mujeres.","")) | CH21: =IF(AND(D21>0,OR(AU21=""))," * No olvide digitar la variable Trans (Femenino). Digite Cero si no tiene.",IF((AU21)>D21," * La variable Trans (Femenino) No puede ser mayor al Total Hombres.","")) | CI21: =IF(AND($C21>0,AV21="")," * No olvide digitar la variable Cuidadores de personas con demencia. Digite Cero si no tiene.",IF(AV21>$C21," * La variable Cuidadores de personas con demencia No puede ser mayor al Total Ambos Sexos.","")) | CK21: =IF(AND(C21>0,AN21=""),1,IF(AN21>C21,1,0)) -> 0 | CL21: =IF(AND(C21>0,AO21=""),1,IF(AO21>C21,1,0)) -> 0 | CM21: =IF(AND(C21>0,AP21=""),1,IF(AP21>C21,1,0)) -> 0 | CN21: =IF(AND(C21>0,AQ21=""),1,IF(AQ21>C21,1,0)) -> 0 | CO21: =IF(AND(C21>0,AR21=""),1,IF(AR21>C21,1,0)) -> 0 | CP21: =IF(AND(C21>0,AS21=""),1,IF(AS21>C21,1,0)) -> 0 | CQ21: =IF(AND(E21>0,OR(AT21="")),1,IF((AT21)>E21,1,0)) -> 0 | CR21: =IF(AND(D21>0,OR(AU21="")),1,IF((AU21)>D21,1,0)) -> 0 | CS21: =IF(AND($C21>0,AV21=""),1,IF(AV21>$C21,1,0)) -> 0
B22: TOTAL | C22: =SUM(D22+E22) -> 410 | D22: =SUM(F22+H22+J22+L22+N22+P22+R22+T22+V22+X22+Z22+AB22+AD22+AF22+AH22+AJ22+AL22) -> 202 | E22: =SUM(G22+I22+K22+M22+O22+Q22+S22+U22+W22+Y22+AA22+AC22+AE22+AG22+AI22+AK22+AM22) -> 208 | F22: =SUM(F12:F21) -> 0 | G22: =SUM(G12:G21) -> 0 | H22: =SUM(H12:H21) -> 8 | I22: =SUM(I12:I21) -> 0 | J22: =SUM(J12:J21) -> 6 | K22: =SUM(K12:K21) -> 10 | L22: =SUM(L12:L21) -> 15 | M22: =SUM(M12:M21) -> 10 | ... AV22: =SUM(AV12:AV21) -> 0
A23: Intervención Psicosocial Grupal | C23: =SUM(D23+E23) -> 23 | D23: =SUM(F23+H23+J23+L23+N23+P23+R23+T23+V23+X23+Z23+AB23+AD23+AF23+AH23+AJ23+AL23) -> 4 | E23: =SUM(G23+I23+K23+M23+O23+Q23+S23+U23+W23+Y23+AA23+AC23+AE23+AG23+AI23+AK23+AM23) -> 19 | F23: 0 | G23: 0 | H23: 0 | I23: 0 | J23: 0 | K23: 0 | L23: 0 | M23: 0 | N23: 0 | O23: 0 | P23: 0 | Q23: 0 | R23: 0 | S23: 4 | T23: 0 | U23: 5 | V23: 0 | W23: 3 | X23: 4 | Y23: 0 | Z23: 0 | AA23: 0 | AB23: 0 | AC23: 0 | AD23: 0 | AE23: 7 | AF23: 0 | AG23: 0 | AH23: 0 | AI23: 0 | AJ23: 0 | AK23: 0 | AL23: 0 | AM23: 0 | AN23: 23 | AO23: 0 | AP23: 0 | AQ23: 0 | AR23: 0 | AS23: 0 | AT23: 0 | AU23: 0 | AV23: 0 | AW23: =CA23&CB23&CC23&CD23&CE23&CF23&CG23&CH23&CI23 | CA23: =IF(AND($C23>0,AN23="")," * No olvide digitar la variable Beneficiarios. Digite Cero si no tiene.",IF(AN23>$C23," * La variable Beneficiarios No puede ser mayor al Total Ambos Sexos.","")) | CB23: =IF(AND($C23>0,AO23="")," * No olvide digitar la variable Niños, Niñas, adolescentes y Jóvenes SENAME. Digite Cero si no tiene.",IF(AO23>$C23," * La variable Niños, Niñas, adolescentes y Jóvenes SENAME No puede ser mayor al Total Ambos Sexos.","")) | CC23: =IF(AND($C23>0,AP23="")," * No olvide digitar la variable Niños, Niñas, adolescentes y Jóvenes Mejor Niñez. Digite Cero si no tiene.",IF(AP23>$C23," * La variable Niños, Niñas, adolescentes y Jóvenes Mejor Niñez No puede ser mayor al Total Ambos Sexos.","")) | CD23: =IF(AND($C23>0,AQ23="")," * No olvide digitar la variable Pueblos originarios. Digite Cero si no tiene.",IF(AQ23>$C23," * La variable Pueblos Originarios No puede ser mayor al Total Ambos Sexos.","")) | CE23: =IF(AND($C23>0,AR23="")," * No olvide digitar la variable Migrantes. Digite Cero si no tiene.",IF(AR23>$C23," * La variable Migrantes No puede ser mayor al Total Ambos Sexos.","")) | CF23: =IF(AND($C23>0,AS23="")," * No olvide digitar la variable Demencia. Digite Cero si no tiene.",IF(AS23>$C23," * La variable Demencia No puede ser mayor al Total Ambos Sexos.","")) | CG23: =IF(AND($E23>0,OR(AT23=""))," * No olvide digitar la variable Trans (Masculino). Digite Cero si no tiene.",IF((AT23)>$E23," * La variable Trans (Masculino) No puede ser mayor al Total Mujeres.","")) | CH23: =IF(AND(D23>0,OR(AU23=""))," * No olvide digitar la variable Trans (Femenino). Digite Cero si no tiene.",IF((AU23)>D23," * La variable Trans (Femenino) No puede ser mayor al Total Hombres.","")) | CI23: =IF(AND($C23>0,AV23="")," * No olvide digitar la variable Cuidadores de personas con demencia. Digite Cero si no tiene.",IF(AV23>$C23," * La variable Cuidadores de personas con demencia No puede ser mayor al Total Ambos Sexos.","")) | CK23: =IF(AND(C23>0,AN23=""),1,IF(AN23>C23,1,0)) -> 0 | CL23: =IF(AND(C23>0,AO23=""),1,IF(AO23>C23,1,0)) -> 0 | CM23: =IF(AND(C23>0,AP23=""),1,IF(AP23>C23,1,0)) -> 0 | CN23: =IF(AND(C23>0,AQ23=""),1,IF(AQ23>C23,1,0)) -> 0 | CO23: =IF(AND(C23>0,AR23=""),1,IF(AR23>C23,1,0)) -> 0 | CP23: =IF(AND(C23>0,AS23=""),1,IF(AS23>C23,1,0)) -> 0 | CQ23: =IF(AND(E23>0,OR(AT23="")),1,IF((AT23)>E23,1,0)) -> 0 | CR23: =IF(AND(D23>0,OR(AU23="")),1,IF((AU23)>D23,1,0)) -> 0 | CS23: =IF(AND($C23>0,AV23=""),1,IF(AV23>$C23,1,0)) -> 0
A24: Psicodiagnóstico | B24: Psicólogo/a | C24: =SUM(D24+E24) -> 0 | D24: =SUM(F24+H24+J24+L24+N24+P24+R24+T24+V24+X24+Z24+AB24+AD24+AF24+AH24+AJ24+AL24) -> 0 | E24: =SUM(G24+I24+K24+M24+O24+Q24+S24+U24+W24+Y24+AA24+AC24+AE24+AG24+AI24+AK24+AM24) -> 0 | F24: 0 | G24: 0 | H24: 0 | I24: 0 | J24: 0 | K24: 0 | L24: 0 | M24: 0 | N24: 0 | O24: 0 | P24: 0 | Q24: 0 | R24: 0 | S24: 0 | T24: 0 | U24: 0 | V24: 0 | W24: 0 | X24: 0 | Y24: 0 | Z24: 0 | AA24: 0 | AB24: 0 | AC24: 0 | AD24: 0 | AE24: 0 | AF24: 0 | AG24: 0 | AH24: 0 | AI24: 0 | AJ24: 0 | AK24: 0 | AL24: 0 | AM24: 0 | AN24: 0 | AO24: 0 | AP24: 0 | AQ24: 0 | AR24: 0 | AS24: 0 | AT24: 0 | AU24: 0 | AV24: 0 | AW24: =CA24&CB24&CC24&CD24&CE24&CF24&CG24&CH24&CI24 | CA24: =IF(AND($C24>0,AN24="")," * No olvide digitar la variable Beneficiarios. Digite Cero si no tiene.",IF(AN24>$C24," * La variable Beneficiarios No puede ser mayor al Total Ambos Sexos.","")) | CB24: =IF(AND($C24>0,AO24="")," * No olvide digitar la variable Niños, Niñas, adolescentes y Jóvenes SENAME. Digite Cero si no tiene.",IF(AO24>$C24," * La variable Niños, Niñas, adolescentes y Jóvenes SENAME No puede ser mayor al Total Ambos Sexos.","")) | CC24: =IF(AND($C24>0,AP24="")," * No olvide digitar la variable Niños, Niñas, adolescentes y Jóvenes Mejor Niñez. Digite Cero si no tiene.",IF(AP24>$C24," * La variable Niños, Niñas, adolescentes y Jóvenes Mejor Niñez No puede ser mayor al Total Ambos Sexos.","")) | CD24: =IF(AND($C24>0,AQ24="")," * No olvide digitar la variable Pueblos originarios. Digite Cero si no tiene.",IF(AQ24>$C24," * La variable Pueblos Originarios No puede ser mayor al Total Ambos Sexos.","")) | CE24: =IF(AND($C24>0,AR24="")," * No olvide digitar la variable Migrantes. Digite Cero si no tiene.",IF(AR24>$C24," * La variable Migrantes No puede ser mayor al Total Ambos Sexos.","")) | CF24: =IF(AND($C24>0,AS24="")," * No olvide digitar la variable Demencia. Digite Cero si no tiene.",IF(AS24>$C24," * La variable Demencia No puede ser mayor al Total Ambos Sexos.","")) | CG24: =IF(AND($E24>0,OR(AT24=""))," * No olvide digitar la variable Trans (Masculino). Digite Cero si no tiene.",IF((AT24)>$E24," * La variable Trans (Masculino) No puede ser mayor al Total Mujeres.","")) | CH24: =IF(AND(D24>0,OR(AU24=""))," * No olvide digitar la variable Trans (Femenino). Digite Cero si no tiene.",IF((AU24)>D24," * La variable Trans (Femenino) No puede ser mayor al Total Hombres.","")) | CI24: =IF(AND($C24>0,AV24="")," * No olvide digitar la variable Cuidadores de personas con demencia. Digite Cero si no tiene.",IF(AV24>$C24," * La variable Cuidadores de personas con demencia No puede ser mayor al Total Ambos Sexos.","")) | CK24: =IF(AND(C24>0,AN24=""),1,IF(AN24>C24,1,0)) -> 0 | CL24: =IF(AND(C24>0,AO24=""),1,IF(AO24>C24,1,0)) -> 0 | CM24: =IF(AND(C24>0,AP24=""),1,IF(AP24>C24,1,0)) -> 0 | CN24: =IF(AND(C24>0,AQ24=""),1,IF(AQ24>C24,1,0)) -> 0 | CO24: =IF(AND(C24>0,AR24=""),1,IF(AR24>C24,1,0)) -> 0 | CP24: =IF(AND(C24>0,AS24=""),1,IF(AS24>C24,1,0)) -> 0 | CQ24: =IF(AND(E24>0,OR(AT24="")),1,IF((AT24)>E24,1,0)) -> 0 | CR24: =IF(AND(D24>0,OR(AU24="")),1,IF((AU24)>D24,1,0)) -> 0 | CS24: =IF(AND($C24>0,AV24=""),1,IF(AV24>$C24,1,0)) -> 0
A25: Psicoterapia Individual | B25: Psicólogo/a | C25: =SUM(D25+E25) -> 346 | D25: =SUM(F25+H25+J25+L25+N25+P25+R25+T25+V25+X25+Z25+AB25+AD25+AF25+AH25+AJ25+AL25) -> 94 | E25: =SUM(G25+I25+K25+M25+O25+Q25+S25+U25+W25+Y25+AA25+AC25+AE25+AG25+AI25+AK25+AM25) -> 252 | F25: 0 | G25: 0 | H25: 0 | I25: 0 | J25: 6 | K25: 22 | L25: 6 | M25: 60 | N25: 10 | O25: 17 | P25: 14 | Q25: 15 | R25: 12 | S25: 35 | T25: 2 | U25: 21 | V25: 7 | W25: 12 | X25: 9 | Y25: 25 | Z25: 6 | AA25: 14 | AB25: 7 | AC25: 11 | AD25: 11 | AE25: 12 | AF25: 4 | AG25: 5 | AH25: 0 | AI25: 2 | AJ25: 0 | AK25: 1 | AL25: 0 | AM25: 0 | AN25: 346 | AO25: 0 | AP25: 19 | AQ25: 3 | AR25: 0 | AS25: 0 | AT25: 0 | AU25: 0 | AV25: 0 | AW25: =CA25&CB25&CC25&CD25&CE25&CF25&CG25&CH25&CI25 | CA25: =IF(AND($C25>0,AN25="")," * No olvide digitar la variable Beneficiarios. Digite Cero si no tiene.",IF(AN25>$C25," * La variable Beneficiarios No puede ser mayor al Total Ambos Sexos.","")) | CB25: =IF(AND($C25>0,AO25="")," * No olvide digitar la variable Niños, Niñas, adolescentes y Jóvenes SENAME. Digite Cero si no tiene.",IF(AO25>$C25," * La variable Niños, Niñas, adolescentes y Jóvenes SENAME No puede ser mayor al Total Ambos Sexos.","")) | CC25: =IF(AND($C25>0,AP25="")," * No olvide digitar la variable Niños, Niñas, adolescentes y Jóvenes Mejor Niñez. Digite Cero si no tiene.",IF(AP25>$C25," * La variable Niños, Niñas, adolescentes y Jóvenes Mejor Niñez No puede ser mayor al Total Ambos Sexos.","")) | CD25: =IF(AND($C25>0,AQ25="")," * No olvide digitar la variable Pueblos originarios. Digite Cero si no tiene.",IF(AQ25>$C25," * La variable Pueblos Originarios No puede ser mayor al Total Ambos Sexos.","")) | CE25: =IF(AND($C25>0,AR25="")," * No olvide digitar la variable Migrantes. Digite Cero si no tiene.",IF(AR25>$C25," * La variable Migrantes No puede ser mayor al Total Ambos Sexos.","")) | CF25: =IF(AND($C25>0,AS25="")," * No olvide digitar la variable Demencia. Digite Cero si no tiene.",IF(AS25>$C25," * La variable Demencia No puede ser mayor al Total Ambos Sexos.","")) | CG25: =IF(AND($E25>0,OR(AT25=""))," * No olvide digitar la variable Trans (Masculino). Digite Cero si no tiene.",IF((AT25)>$E25," * La variable Trans (Masculino) No puede ser mayor al Total Mujeres.","")) | CH25: =IF(AND(D25>0,OR(AU25=""))," * No olvide digitar la variable Trans (Femenino). Digite Cero si no tiene.",IF((AU25)>D25," * La variable Trans (Femenino) No puede ser mayor al Total Hombres.","")) | CI25: =IF(AND($C25>0,AV25="")," * No olvide digitar la variable Cuidadores de personas con demencia. Digite Cero si no tiene.",IF(AV25>$C25," * La variable Cuidadores de personas con demencia No puede ser mayor al Total Ambos Sexos.","")) | CK25: =IF(AND(C25>0,AN25=""),1,IF(AN25>C25,1,0)) -> 0 | CL25: =IF(AND(C25>0,AO25=""),1,IF(AO25>C25,1,0)) -> 0 | CM25: =IF(AND(C25>0,AP25=""),1,IF(AP25>C25,1,0)) -> 0 | CN25: =IF(AND(C25>0,AQ25=""),1,IF(AQ25>C25,1,0)) -> 0 | CO25: =IF(AND(C25>0,AR25=""),1,IF(AR25>C25,1,0)) -> 0 | CP25: =IF(AND(C25>0,AS25=""),1,IF(AS25>C25,1,0)) -> 0 | CQ25: =IF(AND(E25>0,OR(AT25="")),1,IF((AT25)>E25,1,0)) -> 0 | CR25: =IF(AND(D25>0,OR(AU25="")),1,IF((AU25)>D25,1,0)) -> 0 | CS25: =IF(AND($C25>0,AV25=""),1,IF(AV25>$C25,1,0)) -> 0
B26: Médico/a Psiquiatra | C26: =SUM(D26+E26) -> 0 | D26: =SUM(F26+H26+J26+L26+N26+P26+R26+T26+V26+X26+Z26+AB26+AD26+AF26+AH26+AJ26+AL26) -> 0 | E26: =SUM(G26+I26+K26+M26+O26+Q26+S26+U26+W26+Y26+AA26+AC26+AE26+AG26+AI26+AK26+AM26) -> 0 | AN26: 0 | AO26: 0 | AP26: 0 | AQ26: 0 | AR26: 0 | AS26: 0 | AT26: 0 | AU26: 0 | AV26: 0 | AW26: =CA26&CB26&CC26&CD26&CE26&CF26&CG26&CH26&CI26 | CA26: =IF(AND($C26>0,AN26="")," * No olvide digitar la variable Beneficiarios. Digite Cero si no tiene.",IF(AN26>$C26," * La variable Beneficiarios No puede ser mayor al Total Ambos Sexos.","")) | CB26: =IF(AND($C26>0,AO26="")," * No olvide digitar la variable Niños, Niñas, adolescentes y Jóvenes SENAME. Digite Cero si no tiene.",IF(AO26>$C26," * La variable Niños, Niñas, adolescentes y Jóvenes SENAME No puede ser mayor al Total Ambos Sexos.","")) | CC26: =IF(AND($C26>0,AP26="")," * No olvide digitar la variable Niños, Niñas, adolescentes y Jóvenes Mejor Niñez. Digite Cero si no tiene.",IF(AP26>$C26," * La variable Niños, Niñas, adolescentes y Jóvenes Mejor Niñez No puede ser mayor al Total Ambos Sexos.","")) | CD26: =IF(AND($C26>0,AQ26="")," * No olvide digitar la variable Pueblos originarios. Digite Cero si no tiene.",IF(AQ26>$C26," * La variable Pueblos Originarios No puede ser mayor al Total Ambos Sexos.","")) | CE26: =IF(AND($C26>0,AR26="")," * No olvide digitar la variable Migrantes. Digite Cero si no tiene.",IF(AR26>$C26," * La variable Migrantes No puede ser mayor al Total Ambos Sexos.","")) | CF26: =IF(AND($C26>0,AS26="")," * No olvide digitar la variable Demencia. Digite Cero si no tiene.",IF(AS26>$C26," * La variable Demencia No puede ser mayor al Total Ambos Sexos.","")) | CG26: =IF(AND($E26>0,OR(AT26=""))," * No olvide digitar la variable Trans (Masculino). Digite Cero si no tiene.",IF((AT26)>$E26," * La variable Trans (Masculino) No puede ser mayor al Total Mujeres.","")) | CH26: =IF(AND(D26>0,OR(AU26=""))," * No olvide digitar la variable Trans (Femenino). Digite Cero si no tiene.",IF((AU26)>D26," * La variable Trans (Femenino) No puede ser mayor al Total Hombres.","")) | CI26: =IF(AND($C26>0,AV26="")," * No olvide digitar la variable Cuidadores de personas con demencia. Digite Cero si no tiene.",IF(AV26>$C26," * La variable Cuidadores de personas con demencia No puede ser mayor al Total Ambos Sexos.","")) | CK26: =IF(AND(C26>0,AN26=""),1,IF(AN26>C26,1,0)) -> 0 | CL26: =IF(AND(C26>0,AO26=""),1,IF(AO26>C26,1,0)) -> 0 | CM26: =IF(AND(C26>0,AP26=""),1,IF(AP26>C26,1,0)) -> 0 | CN26: =IF(AND(C26>0,AQ26=""),1,IF(AQ26>C26,1,0)) -> 0 | CO26: =IF(AND(C26>0,AR26=""),1,IF(AR26>C26,1,0)) -> 0 | CP26: =IF(AND(C26>0,AS26=""),1,IF(AS26>C26,1,0)) -> 0 | CQ26: =IF(AND(E26>0,OR(AT26="")),1,IF((AT26)>E26,1,0)) -> 0 | CR26: =IF(AND(D26>0,OR(AU26="")),1,IF((AU26)>D26,1,0)) -> 0 | CS26: =IF(AND($C26>0,AV26=""),1,IF(AV26>$C26,1,0)) -> 0
A27: SECCIÓN A.2: CONSULTORÍAS DE SALUD MENTAL EN APS
A28: ACTIVIDAD | B28: TOTAL CONSULTORÍAS Y TELECONSULTORÍAS RECIBIDAS | C28: CONSULTORÍAS Y TELECONSULTORÍAS RECIBIDAS | E28: TOTAL Nº DE CASOS REVISADOS | H28: 0 - 4 años | J28: 5 - 9 años | L28: 10 - 14 años | N28: 15 - 19 años | P28: 20 - 24 años | R28: 25 - 29 años | T28: 30 - 34 años | V28: 35 - 39 años | X28: 40 - 44 años | Z28: 45 - 49 años | AB28: 50 - 54 años | AD28: 55 - 59 años | AF28: 60 - 64 años | AH28: 65 - 69 años | AJ28: 70 - 74 años | AL28: 75 - 79 años | AN28: 80 y más años | AP28: Pueblos Originarios | AQ28: Migrantes | AR28: Niños, Niñas, Adolescentes y Jóvenes SENAME | AS28: Niños, Niñas, Adolescentes y Jóvenes Mejor Niñez | AT28: Personas con sospecha de demencia | AU28: Personas con diagnóstico de demencia
C29: Consultorías y Teleconsultorías de Salud Mental Infanto Adolescente | D29: Consultorías Y Teleconsultorías de Salud Mental Adulto | E29: Ambos Sexos | F29: Hombres | G29: Mujeres | H29: Hombres | I29: Mujeres | J29: Hombres | K29: Mujeres | L29: Hombres | M29: Mujeres | N29: Hombres | O29: Mujeres | P29: Hombres | Q29: Mujeres | R29: Hombres | S29: Mujeres | T29: Hombres | U29: Mujeres | V29: Hombres | W29: Mujeres | X29: Hombres | Y29: Mujeres | Z29: Hombres | AA29: Mujeres | AB29: Hombres | AC29: Mujeres | AD29: Hombres | AE29: Mujeres | AF29: Hombres | AG29: Mujeres | AH29: Hombres | AI29: Mujeres | AJ29: Hombres | AK29: Mujeres | AL29: Hombres | AM29: Mujeres | AN29: Hombres | AO29: Mujeres
A30: Consultorías de Salud Mental | B30: =SUM(C30:D30) -> 0 | E30: =SUM(F30+G30) -> 0 | F30: =SUM(H30+J30+L30+N30+P30+R30+T30+V30+X30+Z30+AB30+AD30+AF30+AH30+AJ30+AL30+AN30) -> 0 | G30: =SUM(I30+K30+M30+O30+Q30+S30+U30+W30+Y30+AA30+AC30+AE30+AG30+AI30+AK30+AM30+AO30) -> 0 | AV30: =CA30&CB30&CC30&CD30&CE30&CF30 | CA30: =IF(AND($E30>0,AP30="")," * No olvide digitar la variable Pueblos originarios. Digite Cero si no tiene.",IF(AP30>E30," * La variable Pueblos originarios No puede ser mayor al Total Ambos Sexos.","")) | CB30: =IF(AND($E30>0,AQ30="")," * No olvide digitar la variable Migrantes. Digite Cero si no tiene.",IF(AQ30>$E30," * La variable Migrantes No puede ser mayor al Total Ambos Sexos.","")) | CC30: =IF(AND($E30>0,AR30="")," * No olvide digitar la variable Niños, Niñas, adolescentes y jóvenes SENAME. Digite Cero si no tiene.",IF(AR30>$E30," * La variable Niños, Niñas, adolescentes y jóvenes SENAME No puede ser mayor al Total Ambos Sexos.","")) | CD30: =IF(AND($E30>0,AS30="")," * No olvide digitar la variable Niños, Niñas, adolescentes y jóvenes Mejor Niñez. Digite Cero si no tiene.",IF(AS30>$E30," * La variable Niños, Niñas, adolescentes y jóvenes Mejor Niñez No puede ser mayor al Total Ambos Sexos.","")) | CE30: =IF(AND($E30>0,AT30="")," * No olvide digitar la variable Personas con sospecha de demencia. Digite Cero si no tiene.",IF(AT30>$E30," * La variable Personas con sospecha de demencia No puede ser mayor al Total Ambos Sexos.","")) | CF30: =IF(AND($E30>0,AU30="")," * No olvide digitar la variable Personas con diagnóstico de demencia. Digite Cero si no tiene.",IF(AU30>$E30," * La variable Personas con diagnóstico de demencia No puede ser mayor al Total Ambos Sexos.","")) | CK30: =IF(AND(E30>0,AP30=""),1,IF(AP30>E30,1,0)) -> 0 | CL30: =IF(AND(E30>0,AQ30=""),1,IF(AQ30>E30,1,0)) -> 0 | CM30: =IF(AND(E30>0,AR30=""),1,IF(AR30>E30,1,0)) -> 0 | CN30: =IF(AND(E30>0,AS30=""),1,IF(AS30>E30,1,0)) -> 0 | CO30: =IF(AND(E30>0,AT30=""),1,IF(AT30>E30,1,0)) -> 0 | CP30: =IF(AND(E30>0,AU30=""),1,IF(AU30>E30,1,0)) -> 0
A31: Teleconsultorías de Salud Mental | B31: =SUM(C31:D31) -> 0 | E31: =SUM(F31+G31) -> 0 | F31: =SUM(H31+J31+L31+N31+P31+R31+T31+V31+X31+Z31+AB31+AD31+AF31+AH31+AJ31+AL31+AN31) -> 0 | G31: =SUM(I31+K31+M31+O31+Q31+S31+U31+W31+Y31+AA31+AC31+AE31+AG31+AI31+AK31+AM31+AO31) -> 0 | AV31: =CA31&CB31&CC31&CD31&CE31&CF31 | CA31: =IF(AND($E31>0,AP31="")," * No olvide digitar la variable Pueblos originarios. Digite Cero si no tiene.",IF(AP31>E31," * La variable Pueblos originarios No puede ser mayor al Total Ambos Sexos.","")) | CB31: =IF(AND($E31>0,AQ31="")," * No olvide digitar la variable Migrantes. Digite Cero si no tiene.",IF(AQ31>$E31," * La variable Migrantes No puede ser mayor al Total Ambos Sexos.","")) | CC31: =IF(AND($E31>0,AR31="")," * No olvide digitar la variable Niños, Niñas, adolescentes y jóvenes SENAME. Digite Cero si no tiene.",IF(AR31>$E31," * La variable Niños, Niñas, adolescentes y jóvenes SENAME No puede ser mayor al Total Ambos Sexos.","")) | CD31: =IF(AND($E31>0,AS31="")," * No olvide digitar la variable Niños, Niñas, adolescentes y jóvenes Mejor Niñez. Digite Cero si no tiene.",IF(AS31>$E31," * La variable Niños, Niñas, adolescentes y jóvenes Mejor Niñez No puede ser mayor al Total Ambos Sexos.","")) | CE31: =IF(AND($E31>0,AT31="")," * No olvide digitar la variable Personas con sospecha de demencia. Digite Cero si no tiene.",IF(AT31>$E31," * La variable Personas con sospecha de demencia No puede ser mayor al Total Ambos Sexos.","")) | CF31: =IF(AND($E31>0,AU31="")," * No olvide digitar la variable Personas con diagnóstico de demencia. Digite Cero si no tiene.",IF(AU31>$E31," * La variable Personas con diagnóstico de demencia No puede ser mayor al Total Ambos Sexos.","")) | CK31: =IF(AND(E31>0,AP31=""),1,IF(AP31>E31,1,0)) -> 0 | CL31: =IF(AND(E31>0,AQ31=""),1,IF(AQ31>E31,1,0)) -> 0 | CM31: =IF(AND(E31>0,AR31=""),1,IF(AR31>E31,1,0)) -> 0 | CN31: =IF(AND(E31>0,AS31=""),1,IF(AS31>E31,1,0)) -> 0 | CO31: =IF(AND(E31>0,AT31=""),1,IF(AT31>E31,1,0)) -> 0 | CP31: =IF(AND(E31>0,AU31=""),1,IF(AU31>E31,1,0)) -> 0
A32: TOTAL | B32: =SUM(B30:B31) -> 0 | C32: =SUM(C30:C31) -> 0 | D32: =SUM(D30:D31) -> 0 | E32: =SUM(E30:E31) -> 0 | F32: =SUM(F30:F31) -> 0 | G32: =SUM(G30:G31) -> 0 | H32: =SUM(H30:H31) -> 0 | I32: =SUM(I30:I31) -> 0 | ... AU32: =SUM(AU30:AU31) -> 0
A33: SECCIÓN A.3: CONSULTORÍAS DE SALUD MENTAL OTORGADA POR EL NIVEL DE ESPECIALIDAD
A34: ACTIVIDAD | B34: TOTAL CONSULTORÍAS Y TELECONSULTORÍAS OTORGADAS | C34: CONSULTORÍAS Y TELECONSULTORÍAS OTORGADAS | E34: TOTAL Nº DE CASOS REVISADOS | H34: Participantes
C35: Consultorías y Teleconsultorías de Salud Mental Infanto Adolescente | D35: Consultorías y Teleconsultorías de Salud Mental Adulto | E35: Ambos Sexos | F35: Hombres | G35: Mujeres | H35: Médico psiquiatra | I35: Médico Psiquiatría más un profesional | J35: Médico Psiquiatría más dos Profesionales | K35: Médico Psiquiatría con más de dos Profesionales | L35: Dos profesionales | M35: Más de dos profesionales
A36: Consultorías de Salud Mental | B36: =SUM(C36:D36) -> 0 | E36: =SUM(F36:G36) -> 0
A37: Teleconsultorías de Salud Mental | B37: =SUM(C37:D37) -> 0 | E37: =SUM(F37:G37) -> 0
A38: TOTAL | B38: =SUM(B36:B37) -> 0 | C38: =SUM(C36:C37) -> 0 | D38: =SUM(D36:D37) -> 0 | E38: =SUM(E36:E37) -> 0 | F38: =SUM(F36:F37) -> 0 | G38: =SUM(G36:G37) -> 0 | H38: =SUM(H36:H37) -> 0 | I38: =SUM(I36:I37) -> 0 | ... M38: =SUM(M36:M37) -> 0
A39: SECCIÓN B.1: ACTIVIDADES GRUPALES (NÚMERO DE SESIONES)
A40: ACTIVIDAD | B40: PROFESIONAL | C40: TOTAL
A41: Psicoterapia Grupal | B41: Médico/a Psiquiatra
B42: Psicólogo/a
A43: Psicoterapia Familiar | B43: Médico/a Psiquiatra
B44: Psicólogo/a
A45: SECCIÓN B.2: PROGRAMA DE REHABILITACIÓN (PERSONAS CON TRASTORNOS PSIQUIÁTRICOS)
A46: TIPO | C46: TOTAL | F46: RANGO ETARIO Y SEXO | AL46: Beneficiarios | AM46: Pueblos Originarios | AN46: Migrantes
F47: 5 - 9 años | H47: 10 - 14 años | J47: 15 - 19 años | L47: 20 - 24 años | N47: 25 - 29 años | P47: 30 - 34 años | R47: 35 - 39 años | T47: 40 - 44 años | V47: 45 - 49 años | X47: 50 - 54 años | Z47: 55 - 59 años | AB47: 60 - 64 años | AD47: 65 - 69 años | AF47: 70 - 74 años | AH47: 75 - 79 años | AJ47: 80 y más años
C48: Ambos Sexos | D48: Hombres | E48: Mujeres | F48: Hombres | G48: Mujeres | H48: Hombres | I48: Mujeres | J48: Hombres | K48: Mujeres | L48: Hombres | M48: Mujeres | N48: Hombres | O48: Mujeres | P48: Hombres | Q48: Mujeres | R48: Hombres | S48: Mujeres | T48: Hombres | U48: Mujeres | V48: Hombres | W48: Mujeres | X48: Hombres | Y48: Mujeres | Z48: Hombres | AA48: Mujeres | AB48: Hombres | AC48: Mujeres | AD48: Hombres | AE48: Mujeres | AF48: Hombres | AG48: Mujeres | AH48: Hombres | AI48: Mujeres | AJ48: Hombres | AK48: Mujeres
A49: Programa de Rehabilitación Tipo I | B49: Días Persona | C49: =SUM(D49+E49) -> 0 | D49: =SUM(F49+H49+J49+L49+N49+P49+R49+T49+V49+X49+Z49+AB49+AD49+AF49+AH49+AJ49) -> 0 | E49: =SUM(G49+I49+K49+M49+O49+Q49+S49+U49+W49+Y49+AA49+AC49+AE49+AG49+AI49+AK49) -> 0 | AO49: =CA49&CB49&CC49&CD49 | CA49: =IF(AND($C49>0,AL49="")," * No olvide digitar la variable Beneficiarios. Digite Cero si no tiene.",IF(AL49>$C49," * La variable Beneficiarios No puede ser mayor al Total Ambos Sexos.","")) | CB49: =IF(AND($C49>0,AM49="")," * No olvide digitar la variable Pueblos originarios. Digite Cero si no tiene.",IF(AM49>$C49," * La variable Pueblos originarios No puede ser mayor al Total Ambos Sexos.","")) | CC49: =IF(AND($C49>0,AN49="")," * No olvide digitar la variable Migrantes. Digite Cero si no tiene.",IF(AN49>$C49," * La variable Migrantes No puede ser mayor al Total Ambos Sexos.","")) | CK49: =IF(AND(C49>0,AL49=""),1,IF(AL49>C49,1,0)) -> 0 | CL49: =IF(AND(C49>0,AM49=""),1,IF(AM49>C49,1,0)) -> 0 | CM49: =IF(AND(C49>0,AN49=""),1,IF(AN49>C49,1,0)) -> 0
A50: Programa de Rehabilitación Tipo II | B50: Días Persona | C50: =SUM(D50+E50) -> 0 | D50: =SUM(F50+H50+J50+L50+N50+P50+R50+T50+V50+X50+Z50+AB50+AD50+AF50+AH50+AJ50) -> 0 | E50: =SUM(G50+I50+K50+M50+O50+Q50+S50+U50+W50+Y50+AA50+AC50+AE50+AG50+AI50+AK50) -> 0 | AO50: =CA50&CB50&CC50&CD50 | CA50: =IF(AND($C50>0,AL50="")," * No olvide digitar la variable Beneficiarios. Digite Cero si no tiene.",IF(AL50>$C50," * La variable Beneficiarios No puede ser mayor al Total Ambos Sexos.","")) | CB50: =IF(AND($C50>0,AM50="")," * No olvide digitar la variable Pueblos originarios. Digite Cero si no tiene.",IF(AM50>$C50," * La variable Pueblos originarios No puede ser mayor al Total Ambos Sexos.","")) | CC50: =IF(AND($C50>0,AN50="")," * No olvide digitar la variable Migrantes. Digite Cero si no tiene.",IF(AN50>$C50," * La variable Migrantes No puede ser mayor al Total Ambos Sexos.","")) | CK50: =IF(AND(C50>0,AL50=""),1,IF(AL50>C50,1,0)) -> 0 | CL50: =IF(AND(C50>0,AM50=""),1,IF(AM50>C50,1,0)) -> 0 | CM50: =IF(AND(C50>0,AN50=""),1,IF(AN50>C50,1,0)) -> 0
A51: SECCIÓN B.3: ACTIVIDADES DE PSIQUIATRÍA FORENSE PARA PERSONAS EN CONFLICTO CON LA JUSTICIA (En lo Penal, Civil, Familiar, etc.)
A52: ACTIVIDAD | C52: TOTAL | F52: RANGO ETARIO Y SEXO | AL52: Pueblos Originarios | AM52: Migrantes
F53: 5 - 9 años | H53: 10 - 14 años | J53: 15 - 19 años | L53: 20 - 24 años | N53: 25 - 29 años | P53: 30 - 34 años | R53: 35 - 39 años | T53: 40 - 44 años | V53: 45 - 49 años | X53: 50 - 54 años | Z53: 55 - 59 años | AB53: 60 - 64 años | AD53: 65 - 69 años | AF53: 70 - 74 años | AH53: 75 - 79 años | AJ53: 80 y más años
C54: Ambos Sexos | D54: Hombres | E54: Mujeres | F54: Hombres | G54: Mujeres | H54: Hombres | I54: Mujeres | J54: Hombres | K54: Mujeres | L54: Hombres | M54: Mujeres | N54: Hombres | O54: Mujeres | P54: Hombres | Q54: Mujeres | R54: Hombres | S54: Mujeres | T54: Hombres | U54: Mujeres | V54: Hombres | W54: Mujeres | X54: Hombres | Y54: Mujeres | Z54: Hombres | AA54: Mujeres | AB54: Hombres | AC54: Mujeres | AD54: Hombres | AE54: Mujeres | AF54: Hombres | AG54: Mujeres | AH54: Hombres | AI54: Mujeres | AJ54: Hombres | AK54: Mujeres
A55: Peritaje Psiquiátrico Judicial | B55: Médico/a | C55: =SUM(D55+E55) -> 0 | D55: =SUM(F55+H55+J55+L55+N55+P55+R55+T55+V55+X55+Z55+AB55+AD55+AF55+AH55+AJ55) -> 0 | E55: =SUM(G55+I55+K55+M55+O55+Q55+S55+U55+W55+Y55+AA55+AC55+AE55+AG55+AI55+AK55) -> 0 | AN55: =CA55&CB55&CC55 | CA55: =IF(AND($C55>0,AL55="")," * No olvide digitar la variable Pueblos Originarios. Digite cero si no tiene.",IF(AL55>$C55," * La variable Pueblos Originarios no puede ser mayor al Total Ambos Sexos.","")) | CB55: =IF(AND($C55>0,AM55="")," * No olvide digitar la variable Migrantes. Digite cero si no tiene.",IF(AM55>$C55," * La variable Migrantes no puede ser mayor al Total Ambos Sexos.","")) | CK55: =IF(AND(C55>0,AL55=""),1,IF(AL55>C55,1,0)) -> 0 | CL55: =IF(AND(C55>0,AM55=""),1,IF(AM55>C55,1,0)) -> 0
B56: Médico/a Psiquiatra | C56: =SUM(D56+E56) -> 0 | D56: =SUM(F56+H56+J56+L56+N56+P56+R56+T56+V56+X56+Z56+AB56+AD56+AF56+AH56+AJ56) -> 0 | E56: =SUM(G56+I56+K56+M56+O56+Q56+S56+U56+W56+Y56+AA56+AC56+AE56+AG56+AI56+AK56) -> 0 | AN56: =CA56&CB56&CC56 | CA56: =IF(AND($C56>0,AL56="")," * No olvide digitar la variable Pueblos Originarios. Digite cero si no tiene.",IF(AL56>$C56," * La variable Pueblos Originarios no puede ser mayor al Total Ambos Sexos.","")) | CB56: =IF(AND($C56>0,AM56="")," * No olvide digitar la variable Migrantes. Digite cero si no tiene.",IF(AM56>$C56," * La variable Migrantes no puede ser mayor al Total Ambos Sexos.","")) | CK56: =IF(AND(C56>0,AL56=""),1,IF(AL56>C56,1,0)) -> 0 | CL56: =IF(AND(C56>0,AM56=""),1,IF(AM56>C56,1,0)) -> 0
B57: Psicólogo/a | C57: =SUM(D57+E57) -> 0 | D57: =SUM(F57+H57+J57+L57+N57+P57+R57+T57+V57+X57+Z57+AB57+AD57+AF57+AH57+AJ57) -> 0 | E57: =SUM(G57+I57+K57+M57+O57+Q57+S57+U57+W57+Y57+AA57+AC57+AE57+AG57+AI57+AK57) -> 0 | AN57: =CA57&CB57&CC57 | CA57: =IF(AND($C57>0,AL57="")," * No olvide digitar la variable Pueblos Originarios. Digite cero si no tiene.",IF(AL57>$C57," * La variable Pueblos Originarios no puede ser mayor al Total Ambos Sexos.","")) | CB57: =IF(AND($C57>0,AM57="")," * No olvide digitar la variable Migrantes. Digite cero si no tiene.",IF(AM57>$C57," * La variable Migrantes no puede ser mayor al Total Ambos Sexos.","")) | CK57: =IF(AND(C57>0,AL57=""),1,IF(AL57>C57,1,0)) -> 0 | CL57: =IF(AND(C57>0,AM57=""),1,IF(AM57>C57,1,0)) -> 0
B58: Enfermero/a | C58: =SUM(D58+E58) -> 0 | D58: =SUM(F58+H58+J58+L58+N58+P58+R58+T58+V58+X58+Z58+AB58+AD58+AF58+AH58+AJ58) -> 0 | E58: =SUM(G58+I58+K58+M58+O58+Q58+S58+U58+W58+Y58+AA58+AC58+AE58+AG58+AI58+AK58) -> 0 | AN58: =CA58&CB58&CC58 | CA58: =IF(AND($C58>0,AL58="")," * No olvide digitar la variable Pueblos Originarios. Digite cero si no tiene.",IF(AL58>$C58," * La variable Pueblos Originarios no puede ser mayor al Total Ambos Sexos.","")) | CB58: =IF(AND($C58>0,AM58="")," * No olvide digitar la variable Migrantes. Digite cero si no tiene.",IF(AM58>$C58," * La variable Migrantes no puede ser mayor al Total Ambos Sexos.","")) | CK58: =IF(AND(C58>0,AL58=""),1,IF(AL58>C58,1,0)) -> 0 | CL58: =IF(AND(C58>0,AM58=""),1,IF(AM58>C58,1,0)) -> 0
B59: Trabajador/a Social | C59: =SUM(D59+E59) -> 0 | D59: =SUM(F59+H59+J59+L59+N59+P59+R59+T59+V59+X59+Z59+AB59+AD59+AF59+AH59+AJ59) -> 0 | E59: =SUM(G59+I59+K59+M59+O59+Q59+S59+U59+W59+Y59+AA59+AC59+AE59+AG59+AI59+AK59) -> 0 | AN59: =CA59&CB59&CC59 | CA59: =IF(AND($C59>0,AL59="")," * No olvide digitar la variable Pueblos Originarios. Digite cero si no tiene.",IF(AL59>$C59," * La variable Pueblos Originarios no puede ser mayor al Total Ambos Sexos.","")) | CB59: =IF(AND($C59>0,AM59="")," * No olvide digitar la variable Migrantes. Digite cero si no tiene.",IF(AM59>$C59," * La variable Migrantes no puede ser mayor al Total Ambos Sexos.","")) | CK59: =IF(AND(C59>0,AL59=""),1,IF(AL59>C59,1,0)) -> 0 | CL59: =IF(AND(C59>0,AM59=""),1,IF(AM59>C59,1,0)) -> 0
B60: Otros Profesionales | C60: =SUM(D60+E60) -> 0 | D60: =SUM(F60+H60+J60+L60+N60+P60+R60+T60+V60+X60+Z60+AB60+AD60+AF60+AH60+AJ60) -> 0 | E60: =SUM(G60+I60+K60+M60+O60+Q60+S60+U60+W60+Y60+AA60+AC60+AE60+AG60+AI60+AK60) -> 0 | AN60: =CA60&CB60&CC60 | CA60: =IF(AND($C60>0,AL60="")," * No olvide digitar la variable Pueblos Originarios. Digite cero si no tiene.",IF(AL60>$C60," * La variable Pueblos Originarios no puede ser mayor al Total Ambos Sexos.","")) | CB60: =IF(AND($C60>0,AM60="")," * No olvide digitar la variable Migrantes. Digite cero si no tiene.",IF(AM60>$C60," * La variable Migrantes no puede ser mayor al Total Ambos Sexos.","")) | CK60: =IF(AND(C60>0,AL60=""),1,IF(AL60>C60,1,0)) -> 0 | CL60: =IF(AND(C60>0,AM60=""),1,IF(AM60>C60,1,0)) -> 0
A61: Examen Preliminar en Drogas para Adolescentes Imputados / Condenados | B61: Psicólogo/a | C61: =SUM(D61+E61) -> 0 | D61: =SUM(H61+J61+L61) -> 0 | E61: =SUM(I61+K61+M61) -> 0 | AN61: =CA61&CB61&CC61 | CA61: =IF(AND($C61>0,AL61="")," * No olvide digitar la variable Pueblos Originarios. Digite cero si no tiene.",IF(AL61>$C61," * La variable Pueblos Originarios no puede ser mayor al Total Ambos Sexos.","")) | CB61: =IF(AND($C61>0,AM61="")," * No olvide digitar la variable Migrantes. Digite cero si no tiene.",IF(AM61>$C61," * La variable Migrantes no puede ser mayor al Total Ambos Sexos.","")) | CK61: =IF(AND(C61>0,AL61=""),1,IF(AL61>C61,1,0)) -> 0 | CL61: =IF(AND(C61>0,AM61=""),1,IF(AM61>C61,1,0)) -> 0
B62: Trabajador/a Social | C62: =SUM(D62+E62) -> 0 | D62: =SUM(H62+J62+L62) -> 0 | E62: =SUM(I62+K62+M62) -> 0 | AN62: =CA62&CB62&CC62 | CA62: =IF(AND($C62>0,AL62="")," * No olvide digitar la variable Pueblos Originarios. Digite cero si no tiene.",IF(AL62>$C62," * La variable Pueblos Originarios no puede ser mayor al Total Ambos Sexos.","")) | CB62: =IF(AND($C62>0,AM62="")," * No olvide digitar la variable Migrantes. Digite cero si no tiene.",IF(AM62>$C62," * La variable Migrantes no puede ser mayor al Total Ambos Sexos.","")) | CK62: =IF(AND(C62>0,AL62=""),1,IF(AL62>C62,1,0)) -> 0 | CL62: =IF(AND(C62>0,AM62=""),1,IF(AM62>C62,1,0)) -> 0
A63: Evaluación Clínica para Adolescentes Imputados con Consumo de Drogas | B63: Médico/a | C63: =SUM(D63+E63) -> 0 | D63: =SUM(H63+J63+L63) -> 0 | E63: =SUM(I63+K63+M63) -> 0 | AN63: =CA63&CB63&CC63 | CA63: =IF(AND($C63>0,AL63="")," * No olvide digitar la variable Pueblos Originarios. Digite cero si no tiene.",IF(AL63>$C63," * La variable Pueblos Originarios no puede ser mayor al Total Ambos Sexos.","")) | CB63: =IF(AND($C63>0,AM63="")," * No olvide digitar la variable Migrantes. Digite cero si no tiene.",IF(AM63>$C63," * La variable Migrantes no puede ser mayor al Total Ambos Sexos.","")) | CK63: =IF(AND(C63>0,AL63=""),1,IF(AL63>C63,1,0)) -> 0 | CL63: =IF(AND(C63>0,AM63=""),1,IF(AM63>C63,1,0)) -> 0
B64: Médico/a Psiquiatra | C64: =SUM(D64+E64) -> 0 | D64: =SUM(H64+J64+L64) -> 0 | E64: =SUM(I64+K64+M64) -> 0 | AN64: =CA64&CB64&CC64 | CA64: =IF(AND($C64>0,AL64="")," * No olvide digitar la variable Pueblos Originarios. Digite cero si no tiene.",IF(AL64>$C64," * La variable Pueblos Originarios no puede ser mayor al Total Ambos Sexos.","")) | CB64: =IF(AND($C64>0,AM64="")," * No olvide digitar la variable Migrantes. Digite cero si no tiene.",IF(AM64>$C64," * La variable Migrantes no puede ser mayor al Total Ambos Sexos.","")) | CK64: =IF(AND(C64>0,AL64=""),1,IF(AL64>C64,1,0)) -> 0 | CL64: =IF(AND(C64>0,AM64=""),1,IF(AM64>C64,1,0)) -> 0
B65: Psicólogo/a | C65: =SUM(D65+E65) -> 0 | D65: =SUM(H65+J65+L65) -> 0 | E65: =SUM(I65+K65+M65) -> 0 | AN65: =CA65&CB65&CC65 | CA65: =IF(AND($C65>0,AL65="")," * No olvide digitar la variable Pueblos Originarios. Digite cero si no tiene.",IF(AL65>$C65," * La variable Pueblos Originarios no puede ser mayor al Total Ambos Sexos.","")) | CB65: =IF(AND($C65>0,AM65="")," * No olvide digitar la variable Migrantes. Digite cero si no tiene.",IF(AM65>$C65," * La variable Migrantes no puede ser mayor al Total Ambos Sexos.","")) | CK65: =IF(AND(C65>0,AL65=""),1,IF(AL65>C65,1,0)) -> 0 | CL65: =IF(AND(C65>0,AM65=""),1,IF(AM65>C65,1,0)) -> 0
B66: Trabajador/a Social | C66: =SUM(D66+E66) -> 0 | D66: =SUM(H66+J66+L66) -> 0 | E66: =SUM(I66+K66+M66) -> 0 | AN66: =CA66&CB66&CC66 | CA66: =IF(AND($C66>0,AL66="")," * No olvide digitar la variable Pueblos Originarios. Digite cero si no tiene.",IF(AL66>$C66," * La variable Pueblos Originarios no puede ser mayor al Total Ambos Sexos.","")) | CB66: =IF(AND($C66>0,AM66="")," * No olvide digitar la variable Migrantes. Digite cero si no tiene.",IF(AM66>$C66," * La variable Migrantes no puede ser mayor al Total Ambos Sexos.","")) | CK66: =IF(AND(C66>0,AL66=""),1,IF(AL66>C66,1,0)) -> 0 | CL66: =IF(AND(C66>0,AM66=""),1,IF(AM66>C66,1,0)) -> 0
A67: Examen Mental Preliminar a Personas Imputadas | B67: Médico/a | C67: =SUM(D67+E67) -> 0 | D67: =SUM(H67+J67+L67+N67+P67+R67+T67+V67+X67+Z67+AB67+AD67+AF67+AH67+AJ67) -> 0 | E67: =SUM(I67+K67+M67+O67+Q67+S67+U67+W67+Y67+AA67+AC67+AE67+AG67+AI67+AK67) -> 0 | AN67: =CA67&CB67&CC67 | CA67: =IF(AND($C67>0,AL67="")," * No olvide digitar la variable Pueblos Originarios. Digite cero si no tiene.",IF(AL67>$C67," * La variable Pueblos Originarios no puede ser mayor al Total Ambos Sexos.","")) | CB67: =IF(AND($C67>0,AM67="")," * No olvide digitar la variable Migrantes. Digite cero si no tiene.",IF(AM67>$C67," * La variable Migrantes no puede ser mayor al Total Ambos Sexos.","")) | CK67: =IF(AND(C67>0,AL67=""),1,IF(AL67>C67,1,0)) -> 0 | CL67: =IF(AND(C67>0,AM67=""),1,IF(AM67>C67,1,0)) -> 0
B68: Médico/a Psiquiatra | C68: =SUM(D68+E68) -> 0 | D68: =SUM(H68+J68+L68+N68+P68+R68+T68+V68+X68+Z68+AB68+AD68+AF68+AH68+AJ68) -> 0 | E68: =SUM(I68+K68+M68+O68+Q68+S68+U68+W68+Y68+AA68+AC68+AE68+AG68+AI68+AK68) -> 0 | AN68: =CA68&CB68&CC68 | CA68: =IF(AND($C68>0,AL68="")," * No olvide digitar la variable Pueblos Originarios. Digite cero si no tiene.",IF(AL68>$C68," * La variable Pueblos Originarios no puede ser mayor al Total Ambos Sexos.","")) | CB68: =IF(AND($C68>0,AM68="")," * No olvide digitar la variable Migrantes. Digite cero si no tiene.",IF(AM68>$C68," * La variable Migrantes no puede ser mayor al Total Ambos Sexos.","")) | CK68: =IF(AND(C68>0,AL68=""),1,IF(AL68>C68,1,0)) -> 0 | CL68: =IF(AND(C68>0,AM68=""),1,IF(AM68>C68,1,0)) -> 0
A69: Peritaje Drogas | B69: Médico/a | C69: =SUM(D69+E69) -> 0 | D69: =SUM(H69+J69+L69+N69+P69+R69+T69+V69+X69+Z69+AB69+AD69+AF69+AH69+AJ69) -> 0 | E69: =SUM(I69+K69+M69+O69+Q69+S69+U69+W69+Y69+AA69+AC69+AE69+AG69+AI69+AK69) -> 0 | AN69: =CA69&CB69&CC69 | CA69: =IF(AND($C69>0,AL69="")," * No olvide digitar la variable Pueblos Originarios. Digite cero si no tiene.",IF(AL69>$C69," * La variable Pueblos Originarios no puede ser mayor al Total Ambos Sexos.","")) | CB69: =IF(AND($C69>0,AM69="")," * No olvide digitar la variable Migrantes. Digite cero si no tiene.",IF(AM69>$C69," * La variable Migrantes no puede ser mayor al Total Ambos Sexos.","")) | CK69: =IF(AND(C69>0,AL69=""),1,IF(AL69>C69,1,0)) -> 0 | CL69: =IF(AND(C69>0,AM69=""),1,IF(AM69>C69,1,0)) -> 0
B70: Médico/a Psiquiatra | C70: =SUM(D70+E70) -> 0 | D70: =SUM(H70+J70+L70+N70+P70+R70+T70+V70+X70+Z70+AB70+AD70+AF70+AH70+AJ70) -> 0 | E70: =SUM(I70+K70+M70+O70+Q70+S70+U70+W70+Y70+AA70+AC70+AE70+AG70+AI70+AK70) -> 0 | AN70: =CA70&CB70&CC70 | CA70: =IF(AND($C70>0,AL70="")," * No olvide digitar la variable Pueblos Originarios. Digite cero si no tiene.",IF(AL70>$C70," * La variable Pueblos Originarios no puede ser mayor al Total Ambos Sexos.","")) | CB70: =IF(AND($C70>0,AM70="")," * No olvide digitar la variable Migrantes. Digite cero si no tiene.",IF(AM70>$C70," * La variable Migrantes no puede ser mayor al Total Ambos Sexos.","")) | CK70: =IF(AND(C70>0,AL70=""),1,IF(AL70>C70,1,0)) -> 0 | CL70: =IF(AND(C70>0,AM70=""),1,IF(AM70>C70,1,0)) -> 0
A71: Atención a Agresores Derivados de Tribunales (Ley de Violencia Intrafamiliar) | B71: Médico/a | C71: =SUM(D71+E71) -> 0 | D71: =SUM(H71+J71+L71+N71+P71+R71+T71+V71+X71+Z71+AB71+AD71+AF71+AH71+AJ71) -> 0 | E71: =SUM(I71+K71+M71+O71+Q71+S71+U71+W71+Y71+AA71+AC71+AE71+AG71+AI71+AK71) -> 0 | AN71: =CA71&CB71&CC71 | CA71: =IF(AND($C71>0,AL71="")," * No olvide digitar la variable Pueblos Originarios. Digite cero si no tiene.",IF(AL71>$C71," * La variable Pueblos Originarios no puede ser mayor al Total Ambos Sexos.","")) | CB71: =IF(AND($C71>0,AM71="")," * No olvide digitar la variable Migrantes. Digite cero si no tiene.",IF(AM71>$C71," * La variable Migrantes no puede ser mayor al Total Ambos Sexos.","")) | CK71: =IF(AND(C71>0,AL71=""),1,IF(AL71>C71,1,0)) -> 0 | CL71: =IF(AND(C71>0,AM71=""),1,IF(AM71>C71,1,0)) -> 0
B72: Médico/a Psiquiatra | C72: =SUM(D72+E72) -> 0 | D72: =SUM(H72+J72+L72+N72+P72+R72+T72+V72+X72+Z72+AB72+AD72+AF72+AH72+AJ72) -> 0 | E72: =SUM(I72+K72+M72+O72+Q72+S72+U72+W72+Y72+AA72+AC72+AE72+AG72+AI72+AK72) -> 0 | AN72: =CA72&CB72&CC72 | CA72: =IF(AND($C72>0,AL72="")," * No olvide digitar la variable Pueblos Originarios. Digite cero si no tiene.",IF(AL72>$C72," * La variable Pueblos Originarios no puede ser mayor al Total Ambos Sexos.","")) | CB72: =IF(AND($C72>0,AM72="")," * No olvide digitar la variable Migrantes. Digite cero si no tiene.",IF(AM72>$C72," * La variable Migrantes no puede ser mayor al Total Ambos Sexos.","")) | CK72: =IF(AND(C72>0,AL72=""),1,IF(AL72>C72,1,0)) -> 0 | CL72: =IF(AND(C72>0,AM72=""),1,IF(AM72>C72,1,0)) -> 0
B73: Psicólogo/a | C73: =SUM(D73+E73) -> 0 | D73: =SUM(H73+J73+L73+N73+P73+R73+T73+V73+X73+Z73+AB73+AD73+AF73+AH73+AJ73) -> 0 | E73: =SUM(I73+K73+M73+O73+Q73+S73+U73+W73+Y73+AA73+AC73+AE73+AG73+AI73+AK73) -> 0 | AN73: =CA73&CB73&CC73 | CA73: =IF(AND($C73>0,AL73="")," * No olvide digitar la variable Pueblos Originarios. Digite cero si no tiene.",IF(AL73>$C73," * La variable Pueblos Originarios no puede ser mayor al Total Ambos Sexos.","")) | CB73: =IF(AND($C73>0,AM73="")," * No olvide digitar la variable Migrantes. Digite cero si no tiene.",IF(AM73>$C73," * La variable Migrantes no puede ser mayor al Total Ambos Sexos.","")) | CK73: =IF(AND(C73>0,AL73=""),1,IF(AL73>C73,1,0)) -> 0 | CL73: =IF(AND(C73>0,AM73=""),1,IF(AM73>C73,1,0)) -> 0
B74: Enfermero/a | C74: =SUM(D74+E74) -> 0 | D74: =SUM(H74+J74+L74+N74+P74+R74+T74+V74+X74+Z74+AB74+AD74+AF74+AH74+AJ74) -> 0 | E74: =SUM(I74+K74+M74+O74+Q74+S74+U74+W74+Y74+AA74+AC74+AE74+AG74+AI74+AK74) -> 0 | AN74: =CA74&CB74&CC74 | CA74: =IF(AND($C74>0,AL74="")," * No olvide digitar la variable Pueblos Originarios. Digite cero si no tiene.",IF(AL74>$C74," * La variable Pueblos Originarios no puede ser mayor al Total Ambos Sexos.","")) | CB74: =IF(AND($C74>0,AM74="")," * No olvide digitar la variable Migrantes. Digite cero si no tiene.",IF(AM74>$C74," * La variable Migrantes no puede ser mayor al Total Ambos Sexos.","")) | CK74: =IF(AND(C74>0,AL74=""),1,IF(AL74>C74,1,0)) -> 0 | CL74: =IF(AND(C74>0,AM74=""),1,IF(AM74>C74,1,0)) -> 0
B75: Trabajador/a Social | C75: =SUM(D75+E75) -> 0 | D75: =SUM(H75+J75+L75+N75+P75+R75+T75+V75+X75+Z75+AB75+AD75+AF75+AH75+AJ75) -> 0 | E75: =SUM(I75+K75+M75+O75+Q75+S75+U75+W75+Y75+AA75+AC75+AE75+AG75+AI75+AK75) -> 0 | AN75: =CA75&CB75&CC75 | CA75: =IF(AND($C75>0,AL75="")," * No olvide digitar la variable Pueblos Originarios. Digite cero si no tiene.",IF(AL75>$C75," * La variable Pueblos Originarios no puede ser mayor al Total Ambos Sexos.","")) | CB75: =IF(AND($C75>0,AM75="")," * No olvide digitar la variable Migrantes. Digite cero si no tiene.",IF(AM75>$C75," * La variable Migrantes no puede ser mayor al Total Ambos Sexos.","")) | CK75: =IF(AND(C75>0,AL75=""),1,IF(AL75>C75,1,0)) -> 0 | CL75: =IF(AND(C75>0,AM75=""),1,IF(AM75>C75,1,0)) -> 0
B76: Otros Profesionales | C76: =SUM(D76+E76) -> 0 | D76: =SUM(H76+J76+L76+N76+P76+R76+T76+V76+X76+Z76+AB76+AD76+AF76+AH76+AJ76) -> 0 | E76: =SUM(I76+K76+M76+O76+Q76+S76+U76+W76+Y76+AA76+AC76+AE76+AG76+AI76+AK76) -> 0 | AN76: =CA76&CB76&CC76 | CA76: =IF(AND($C76>0,AL76="")," * No olvide digitar la variable Pueblos Originarios. Digite cero si no tiene.",IF(AL76>$C76," * La variable Pueblos Originarios no puede ser mayor al Total Ambos Sexos.","")) | CB76: =IF(AND($C76>0,AM76="")," * No olvide digitar la variable Migrantes. Digite cero si no tiene.",IF(AM76>$C76," * La variable Migrantes no puede ser mayor al Total Ambos Sexos.","")) | CK76: =IF(AND(C76>0,AL76=""),1,IF(AL76>C76,1,0)) -> 0 | CL76: =IF(AND(C76>0,AM76=""),1,IF(AM76>C76,1,0)) -> 0
A77: SECCIÓN B.4: DISPOSITIVOS DE SALUD MENTAL
A78: TIPO DE DISPOSITIVO | B78: Nº DE PERSONAS ATENDIDAS | D78: DÍAS DE ESTADA DE PERSONAS ATENDIDAS EN EL MES | F78: Nº DE EGRESOS | H78: Nº DE PERSONAS EN LISTA DE ESPERA
B79: Menos de 20 años | C79: 20 y más años | D79: Menos de 20 años | E79: 20 y más años | F79: Menos de 20 años | G79: 20 y más años | H79: Menos de 20 años | I79: 20 y más años
A80: Hogar Protegido
A81: Residencia Protegida
A82: Hospital Psiquiátrico Diurno
A83: Centro Privativo de Libertad (SENAME)
A84: SECCIÓN C.1: ACTIVIDADES DE COORDINACION SECTORIAL, INTERSECTORIAL Y COMUNITARIA
A85: ACTIVIDADES | B85: TOTAL DE PARTICIPANTES | C85: Nº REUNIONES / SESIONES | D85: Nº INSTITUCIONES, ORGANIZACIONES PARTICIPANTES
A86: Trabajo Intersectorial
A87: Trabajo con Organizaciones Comunitarias de Base
A88: Trabajo con Organizaciones de Usuarios y Familiares
A89: Colaboración con Grupo de Autoayuda
A90: Reuniones con Instituciones del Sector Salud Programa Acompañamiento Psicosocial
A91: Reuniones con Instituciones del Intersector Acompañamiento Psicosocial
A92: Reuniones con Organizaciones Comunitarias Acompañamiento Psicosocial
A93: Reuniones con el sector salud
A94: SECCIÓN C.2: INFORMES A TRIBUNALES
A95: TRIBUNALES | B95: Menos de 18 años | C95: 18 y más años | D95: Nº informes | E95: ASISTENCIA A TRIBUNALES
E96: Nº de profesionales | F96: Nº de veces
A97: De Familia | B97: 20 | D97: 20
A98: Penales
A99: Civiles
A100: Policía Local
A101: Laborales
...

Sheet FEBRERO
A1: SERVICIO DE SALUD
A2: =CONCATENATE("COMUNA: ",[3]NOMBRE!B2, " (",[3]NOMBRE!C2,[3]NOMBRE!D2,[3]NOMBRE!E2,[3]NOMBRE!F2,[3]NOMBRE!G2,")") -> COMUNA: LINARES (07401)
A3: =CONCATENATE("ESTABLECIMIENTO/ESTRATEGIA: ", [3]NOMBRE!B3, " (",[3]NOMBRE!C3,[3]NOMBRE!D3,[3]NOMBRE!E3,[3]NOMBRE!F3,[3]NOMBRE!G3,[3]NOMBRE!H3,")") -> ESTABLECIMIENTO/ESTRATEGIA: HOSPITAL PRESIDENTE CARLOS IBAÑEZ DEL CAMPO (116108)
A4: =CONCATENATE("MES: ",[3]NOMBRE!B6, " (",[3]NOMBRE!C6,[3]NOMBRE!D6,")") -> MES: FEBRERO (02)
A5: =CONCATENATE("AÑO: ",[3]NOMBRE!B7) -> AÑO: 2025
A6: REM-06. PROGRAMA DE SALUD MENTAL ATENCIÓN PRIMARIA Y ESPECIALIDADES
A8: SECCIÓN A.1: CONTROLES DE ATENCIÓN PRIMARIA / ESPECIALIDADES
A9: ACTIVIDAD | B9: PROFESIONAL | C9: TOTAL | F9: RANGO ETARIO Y SEXO | AN9: Beneficiarios | AO9: Niños, Niñas, Adolescentes y Jóvenes SENAME | AP9: Niños, Niñas, Adolescentes y Jóvenes Mejor Niñez | AQ9: Pueblos Originarios | AR9: Migrantes | AS9: Demencia | AT9: TRANS | AV9: Cuidadores de personas con demencia
F10: 0 - 4 años | H10: 5 - 9 años | J10: 10 - 14 años | L10: 15 - 19 años | N10: 20 - 24 años | P10: 25 - 29 años | R10: 30 - 34 años | T10: 35 - 39 años | V10: 40 - 44 años | X10: 45 - 49 años | Z10: 50 - 54 años | AB10: 55 - 59 años | AD10: 60 - 64 años | AF10: 65 - 69 años | AH10: 70 - 74 años | AJ10: 75 - 79 años | AL10: 80 y más años | AT10: Masculino | AU10: Femenino
C11: Ambos Sexos | D11: Hombres | E11: Mujeres | F11: Hombres | G11: Mujeres | H11: Hombres | I11: Mujeres | J11: Hombres | K11: Mujeres | L11: Hombres | M11: Mujeres | N11: Hombres | O11: Mujeres | P11: Hombres | Q11: Mujeres | R11: Hombres | S11: Mujeres | T11: Hombres | U11: Mujeres | V11: Hombres | W11: Mujeres | X11: Hombres | Y11: Mujeres | Z11: Hombres | AA11: Mujeres | AB11: Hombres | AC11: Mujeres | AD11: Hombres | AE11: Mujeres | AF11: Hombres | AG11: Mujeres | AH11: Hombres | AI11: Mujeres | AJ11: Hombres | AK11: Mujeres | AL11: Hombres | AM11: Mujeres
A12: Controles Salud Mental | B12: Médico/a | C12: =SUM(D12+E12) -> 0 | D12: =SUM(F12+H12+J12+L12+N12+P12+R12+T12+V12+X12+Z12+AB12+AD12+AF12+AH12+AJ12+AL12) -> 0 | E12: =SUM(G12+I12+K12+M12+O12+Q12+S12+U12+W12+Y12+AA12+AC12+AE12+AG12+AI12+AK12+AM12) -> 0 | AW12: =CA12&CB12&CC12&CD12&CE12&CF12&CG12&CH12&CI12 | CA12: =IF(AND($C12>0,AN12="")," * No olvide digitar la variable Beneficiarios. Digite Cero si no tiene.",IF(AN12>$C12," * La variable Beneficiarios No puede ser mayor al Total Ambos Sexos.","")) | CB12: =IF(AND($C12>0,AO12="")," * No olvide digitar la variable Niños, Niñas, adolescentes y Jóvenes SENAME. Digite Cero si no tiene.",IF(AO12>$C12," * La variable Niños, Niñas, adolescentes y Jóvenes SENAME No puede ser mayor al Total Ambos Sexos.","")) | CC12: =IF(AND($C12>0,AP12="")," * No olvide digitar la variable Niños, Niñas, adolescentes y Jóvenes Mejor Niñez. Digite Cero si no tiene.",IF(AP12>$C12," * La variable Niños, Niñas, adolescentes y Jóvenes Mejor Niñez No puede ser mayor al Total Ambos Sexos.","")) | CD12: =IF(AND($C12>0,AQ12="")," * No olvide digitar la variable Pueblos originarios. Digite Cero si no tiene.",IF(AQ12>$C12," * La variable Pueblos Originarios No puede ser mayor al Total Ambos Sexos.","")) | CE12: =IF(AND($C12>0,AR12="")," * No olvide digitar la variable Migrantes. Digite Cero si no tiene.",IF(AR12>$C12," * La variable Migrantes No puede ser mayor al Total Ambos Sexos.","")) | CF12: =IF(AND($C12>0,AS12="")," * No olvide digitar la variable Demencia. Digite Cero si no tiene.",IF(AS12>$C12," * La variable Demencia No puede ser mayor al Total Ambos Sexos.","")) | CG12: =IF(AND($E12>0,OR(AT12=""))," * No olvide digitar la variable Trans (Masculino). Digite Cero si no tiene.",IF((AT12)>$E12," * La variable Trans (Masculino) No puede ser mayor al Total Mujeres.","")) | CH12: =IF(AND(D12>0,OR(AU12=""))," * No olvide digitar la variable Trans (Femenino). Digite Cero si no tiene.",IF((AU12)>D12," * La variable Trans (Femenino) No puede ser mayor al Total Hombres.","")) | CI12: =IF(AND($C12>0,AV12="")," * No olvide digitar la variable Cuidadores de personas con demencia. Digite Cero si no tiene.",IF(AV12>$C12," * La variable Cuidadores de personas con demencia No puede ser mayor al Total Ambos Sexos.","")) | CK12: =IF(AND($C12>0,AN12=""),1,IF(AN12>$C12,1,0)) -> 0 | CL12: =IF(AND($C12>0,AO12=""),1,IF(AO12>$C12,1,0)) -> 0 | CM12: =IF(AND($C12>0,AP12=""),1,IF(AP12>$C12,1,0)) -> 0 | CN12: =IF(AND($C12>0,AQ12=""),1,IF(AQ12>$C12,1,0)) -> 0 | CO12: =IF(AND($C12>0,AR12=""),1,IF(AR12>$C12,1,0)) -> 0 | CP12: =IF(AND($C12>0,AS12=""),1,IF(AS12>$C12,1,0)) -> 0 | CQ12: =IF(AND($E12>0,OR(AT12="")),1,IF((AT12)>$E12,1,0)) -> 0 | CR12: =IF(AND($D12>0,OR(AU12="")),1,IF((AU12)>$D12,1,0)) -> 0 | CS12: =IF(AND($C12>0,AV12=""),1,IF(AV12>$C12,1,0)) -> 0
B13: Psicólogo/a | C13: =SUM(D13+E13) -> 95 | D13: =SUM(F13+H13+J13+L13+N13+P13+R13+T13+V13+X13+Z13+AB13+AD13+AF13+AH13+AJ13+AL13) -> 15 | E13: =SUM(G13+I13+K13+M13+O13+Q13+S13+U13+W13+Y13+AA13+AC13+AE13+AG13+AI13+AK13+AM13) -> 80 | F13: 0 | G13: 0 | H13: 0 | I13: 0 | J13: 0 | K13: 19 | L13: 9 | M13: 44 | N13: 1 | O13: 2 | P13: 0 | Q13: 0 | R13: 1 | S13: 0 | T13: 0 | U13: 2 | V13: 0 | W13: 1 | X13: 1 | Y13: 7 | Z13: 1 | AA13: 0 | AB13: 0 | AC13: 4 | AD13: 0 | AE13: 1 | AF13: 1 | AG13: 0 | AH13: 1 | AI13: 0 | AJ13: 0 | AK13: 0 | AL13: 0 | AM13: 0 | AN13: 95 | AO13: 2 | AP13: 12 | AQ13: 0 | AR13: 0 | AS13: 0 | AT13: 0 | AU13: 0 | AV13: 0 | AW13: =CA13&CB13&CC13&CD13&CE13&CF13&CG13&CH13&CI13 | CA13: =IF(AND($C13>0,AN13="")," * No olvide digitar la variable Beneficiarios. Digite Cero si no tiene.",IF(AN13>$C13," * La variable Beneficiarios No puede ser mayor al Total Ambos Sexos.","")) | CB13: =IF(AND($C13>0,AO13="")," * No olvide digitar la variable Niños, Niñas, adolescentes y Jóvenes SENAME. Digite Cero si no tiene.",IF(AO13>$C13," * La variable Niños, Niñas, adolescentes y Jóvenes SENAME No puede ser mayor al Total Ambos Sexos.","")) | CC13: =IF(AND($C13>0,AP13="")," * No olvide digitar la variable Niños, Niñas, adolescentes y Jóvenes Mejor Niñez. Digite Cero si no tiene.",IF(AP13>$C13," * La variable Niños, Niñas, adolescentes y Jóvenes Mejor Niñez No puede ser mayor al Total Ambos Sexos.","")) | CD13: =IF(AND($C13>0,AQ13="")," * No olvide digitar la variable Pueblos originarios. Digite Cero si no tiene.",IF(AQ13>$C13," * La variable Pueblos Originarios No puede ser mayor al Total Ambos Sexos.","")) | CE13: =IF(AND($C13>0,AR13="")," * No olvide digitar la variable Migrantes. Digite Cero si no tiene.",IF(AR13>$C13," * La variable Migrantes No puede ser mayor al Total Ambos Sexos.","")) | CF13: =IF(AND($C13>0,AS13="")," * No olvide digitar la variable Demencia. Digite Cero si no tiene.",IF(AS13>$C13," * La variable Demencia No puede ser mayor al Total Ambos Sexos.","")) | CG13: =IF(AND($E13>0,OR(AT13=""))," * No olvide digitar la variable Trans (Masculino). Digite Cero si no tiene.",IF((AT13)>$E13," * La variable Trans (Masculino) No puede ser mayor al Total Mujeres.","")) | CH13: =IF(AND(D13>0,OR(AU13=""))," * No olvide digitar la variable Trans (Femenino). Digite Cero si no tiene.",IF((AU13)>D13," * La variable Trans (Femenino) No puede ser mayor al Total Hombres.","")) | CI13: =IF(AND($C13>0,AV13="")," * No olvide digitar la variable Cuidadores de personas con demencia. Digite Cero si no tiene.",IF(AV13>$C13," * La variable Cuidadores de personas con demencia No puede ser mayor al Total Ambos Sexos.","")) | CK13: =IF(AND(C13>0,AN13=""),1,IF(AN13>C13,1,0)) -> 0 | CL13: =IF(AND(C13>0,AO13=""),1,IF(AO13>C13,1,0)) -> 0 | CM13: =IF(AND(C13>0,AP13=""),1,IF(AP13>C13,1,0)) -> 0 | CN13: =IF(AND(C13>0,AQ13=""),1,IF(AQ13>C13,1,0)) -> 0 | CO13: =IF(AND(C13>0,AR13=""),1,IF(AR13>C13,1,0)) -> 0 | CP13: =IF(AND(C13>0,AS13=""),1,IF(AS13>C13,1,0)) -> 0 | CQ13: =IF(AND(E13>0,OR(AT13="")),1,IF((AT13)>E13,1,0)) -> 0 | CR13: =IF(AND(D13>0,OR(AU13="")),1,IF((AU13)>D13,1,0)) -> 0 | CS13: =IF(AND($C13>0,AV13=""),1,IF(AV13>$C13,1,0)) -> 0
B14: Enfermera/o | C14: =SUM(D14+E14) -> 206 | D14: =SUM(F14+H14+J14+L14+N14+P14+R14+T14+V14+X14+Z14+AB14+AD14+AF14+AH14+AJ14+AL14) -> 95 | E14: =SUM(G14+I14+K14+M14+O14+Q14+S14+U14+W14+Y14+AA14+AC14+AE14+AG14+AI14+AK14+AM14) -> 111 | F14: 0 | G14: 0 | H14: 0 | I14: 0 | J14: 0 | K14: 0 | L14: 2 | M14: 3 | N14: 3 | O14: 2 | P14: 5 | Q14: 2 | R14: 8 | S14: 6 | T14: 16 | U14: 9 | V14: 11 | W14: 8 | X14: 9 | Y14: 9 | Z14: 13 | AA14: 12 | AB14: 9 | AC14: 18 | AD14: 8 | AE14: 21 | AF14: 5 | AG14: 11 | AH14: 4 | AI14: 8 | AJ14: 2 | AK14: 0 | AL14: 0 | AM14: 2 | AN14: 206 | AO14: 0 | AP14: 0 | AQ14: 0 | AR14: 0 | AS14: 0 | AT14: 0 | AU14: 0 | AV14: 0 | AW14: =CA14&CB14&CC14&CD14&CE14&CF14&CG14&CH14&CI14 | CA14: =IF(AND($C14>0,AN14="")," * No olvide digitar la variable Beneficiarios. Digite Cero si no tiene.",IF(AN14>$C14," * La variable Beneficiarios No puede ser mayor al Total Ambos Sexos.","")) | CB14: =IF(AND($C14>0,AO14="")," * No olvide digitar la variable Niños, Niñas, adolescentes y Jóvenes SENAME. Digite Cero si no tiene.",IF(AO14>$C14," * La variable Niños, Niñas, adolescentes y Jóvenes SENAME No puede ser mayor al Total Ambos Sexos.","")) | CC14: =IF(AND($C14>0,AP14="")," * No olvide digitar la variable Niños, Niñas, adolescentes y Jóvenes Mejor Niñez. Digite Cero si no tiene.",IF(AP14>$C14," * La variable Niños, Niñas, adolescentes y Jóvenes Mejor Niñez No puede ser mayor al Total Ambos Sexos.","")) | CD14: =IF(AND($C14>0,AQ14="")," * No olvide digitar la variable Pueblos originarios. Digite Cero si no tiene.",IF(AQ14>$C14," * La variable Pueblos Originarios No puede ser mayor al Total Ambos Sexos.","")) | CE14: =IF(AND($C14>0,AR14="")," * No olvide digitar la variable Migrantes. Digite Cero si no tiene.",IF(AR14>$C14," * La variable Migrantes No puede ser mayor al Total Ambos Sexos.","")) | CF14: =IF(AND($C14>0,AS14="")," * No olvide digitar la variable Demencia. Digite Cero si no tiene.",IF(AS14>$C14," * La variable Demencia No puede ser mayor al Total Ambos Sexos.","")) | CG14: =IF(AND($E14>0,OR(AT14=""))," * No olvide digitar la variable Trans (Masculino). Digite Cero si no tiene.",IF((AT14)>$E14," * La variable Trans (Masculino) No puede ser mayor al Total Mujeres.","")) | CH14: =IF(AND(D14>0,OR(AU14=""))," * No olvide digitar la variable Trans (Femenino). Digite Cero si no tiene.",IF((AU14)>D14," * La variable Trans (Femenino) No puede ser mayor al Total Hombres.","")) | CI14: =IF(AND($C14>0,AV14="")," * No olvide digitar la variable Cuidadores de personas con demencia. Digite Cero si no tiene.",IF(AV14>$C14," * La variable Cuidadores de personas con demencia No puede ser mayor al Total Ambos Sexos.","")) | CK14: =IF(AND(C14>0,AN14=""),1,IF(AN14>C14,1,0)) -> 0 | CL14: =IF(AND(C14>0,AO14=""),1,IF(AO14>C14,1,0)) -> 0 | CM14: =IF(AND(C14>0,AP14=""),1,IF(AP14>C14,1,0)) -> 0 | CN14: =IF(AND(C14>0,AQ14=""),1,IF(AQ14>C14,1,0)) -> 0 | CO14: =IF(AND(C14>0,AR14=""),1,IF(AR14>C14,1,0)) -> 0 | CP14: =IF(AND(C14>0,AS14=""),1,IF(AS14>C14,1,0)) -> 0 | CQ14: =IF(AND(E14>0,OR(AT14="")),1,IF((AT14)>E14,1,0)) -> 0 | CR14: =IF(AND(D14>0,OR(AU14="")),1,IF((AU14)>D14,1,0)) -> 0 | CS14: =IF(AND($C14>0,AV14=""),1,IF(AV14>$C14,1,0)) -> 0
B15: Matrona/ón | C15: =SUM(D15+E15) -> 0 | D15: =SUM(F15+H15+J15+L15+N15+P15+R15+T15+V15+X15+Z15+AB15+AD15+AF15+AH15+AJ15+AL15) -> 0 | E15: =SUM(G15+I15+K15+M15+O15+Q15+S15+U15+W15+Y15+AA15+AC15+AE15+AG15+AI15+AK15+AM15) -> 0 | AN15: 0 | AO15: 0 | AP15: 0 | AQ15: 0 | AR15: 0 | AS15: 0 | AT15: 0 | AU15: 0 | AV15: 0 | AW15: =CA15&CB15&CC15&CD15&CE15&CF15&CG15&CH15&CI15 | CA15: =IF(AND($C15>0,AN15="")," * No olvide digitar la variable Beneficiarios. Digite Cero si no tiene.",IF(AN15>$C15," * La variable Beneficiarios No puede ser mayor al Total Ambos Sexos.","")) | CB15: =IF(AND($C15>0,AO15="")," * No olvide digitar la variable Niños, Niñas, adolescentes y Jóvenes SENAME. Digite Cero si no tiene.",IF(AO15>$C15," * La variable Niños, Niñas, adolescentes y Jóvenes SENAME No puede ser mayor al Total Ambos Sexos.","")) | CC15: =IF(AND($C15>0,AP15="")," * No olvide digitar la variable Niños, Niñas, adolescentes y Jóvenes Mejor Niñez. Digite Cero si no tiene.",IF(AP15>$C15," * La variable Niños, Niñas, adolescentes y Jóvenes Mejor Niñez No puede ser mayor al Total Ambos Sexos.","")) | CD15: =IF(AND($C15>0,AQ15="")," * No olvide digitar la variable Pueblos originarios. Digite Cero si no tiene.",IF(AQ15>$C15," * La variable Pueblos Originarios No puede ser mayor al Total Ambos Sexos.","")) | CE15: =IF(AND($C15>0,AR15="")," * No olvide digitar la variable Migrantes. Digite Cero si no tiene.",IF(AR15>$C15," * La variable Migrantes No puede ser mayor al Total Ambos Sexos.","")) | CF15: =IF(AND($C15>0,AS15="")," * No olvide digitar la variable Demencia. Digite Cero si no tiene.",IF(AS15>$C15," * La variable Demencia No puede ser mayor al Total Ambos Sexos.","")) | CG15: =IF(AND($E15>0,OR(AT15=""))," * No olvide digitar la variable Trans (Masculino). Digite Cero si no tiene.",IF((AT15)>$E15," * La variable Trans (Masculino) No puede ser mayor al Total Mujeres.","")) | CH15: =IF(AND(D15>0,OR(AU15=""))," * No olvide digitar la variable Trans (Femenino). Digite Cero si no tiene.",IF((AU15)>D15," * La variable Trans (Femenino) No puede ser mayor al Total Hombres.","")) | CI15: =IF(AND($C15>0,AV15="")," * No olvide digitar la variable Cuidadores de personas con demencia. Digite Cero si no tiene.",IF(AV15>$C15," * La variable Cuidadores de personas con demencia No puede ser mayor al Total Ambos Sexos.","")) | CK15: =IF(AND(C15>0,AN15=""),1,IF(AN15>C15,1,0)) -> 0 | CL15: =IF(AND(C15>0,AO15=""),1,IF(AO15>C15,1,0)) -> 0 | CM15: =IF(AND(C15>0,AP15=""),1,IF(AP15>C15,1,0)) -> 0 | CN15: =IF(AND(C15>0,AQ15=""),1,IF(AQ15>C15,1,0)) -> 0 | CO15: =IF(AND(C15>0,AR15=""),1,IF(AR15>C15,1,0)) -> 0 | CP15: =IF(AND(C15>0,AS15=""),1,IF(AS15>C15,1,0)) -> 0 | CQ15: =IF(AND(E15>0,OR(AT15="")),1,IF((AT15)>E15,1,0)) -> 0 | CR15: =IF(AND(D15>0,OR(AU15="")),1,IF((AU15)>D15,1,0)) -> 0 | CS15: =IF(AND($C15>0,AV15=""),1,IF(AV15>$C15,1,0)) -> 0
B16: Trabajador/a Social | C16: =SUM(D16+E16) -> 180 | D16: =SUM(F16+H16+J16+L16+N16+P16+R16+T16+V16+X16+Z16+AB16+AD16+AF16+AH16+AJ16+AL16) -> 65 | E16: =SUM(G16+I16+K16+M16+O16+Q16+S16+U16+W16+Y16+AA16+AC16+AE16+AG16+AI16+AK16+AM16) -> 115 | F16: 0 | G16: 0 | H16: 0 | I16: 0 | J16: 2 | K16: 19 | L16: 7 | M16: 37 | N16: 9 | O16: 4 | P16: 10 | Q16: 0 | R16: 4 | S16: 14 | T16: 4 | U16: 16 | V16: 7 | W16: 5 | X16: 5 | Y16: 3 | Z16: 4 | AA16: 3 | AB16: 4 | AC16: 4 | AD16: 5 | AE16: 7 | AF16: 1 | AG16: 0 | AH16: 3 | AI16: 1 | AJ16: 0 | AK16: 0 | AL16: 0 | AM16: 2 | AN16: 180 | AO16: 0 | AP16: 14 | AQ16: 0 | AR16: 0 | AS16: 0 | AT16: 0 | AU16: 0 | AV16: 0 | AW16: =CA16&CB16&CC16&CD16&CE16&CF16&CG16&CH16&CI16 | CA16: =IF(AND($C16>0,AN16="")," * No olvide digitar la variable Beneficiarios. Digite Cero si no tiene.",IF(AN16>$C16," * La variable Beneficiarios No puede ser mayor al Total Ambos Sexos.","")) | CB16: =IF(AND($C16>0,AO16="")," * No olvide digitar la variable Niños, Niñas, adolescentes y Jóvenes SENAME. Digite Cero si no tiene.",IF(AO16>$C16," * La variable Niños, Niñas, adolescentes y Jóvenes SENAME No puede ser mayor al Total Ambos Sexos.","")) | CC16: =IF(AND($C16>0,AP16="")," * No olvide digitar la variable Niños, Niñas, adolescentes y Jóvenes Mejor Niñez. Digite Cero si no tiene.",IF(AP16>$C16," * La variable Niños, Niñas, adolescentes y Jóvenes Mejor Niñez No puede ser mayor al Total Ambos Sexos.","")) | CD16: =IF(AND($C16>0,AQ16="")," * No olvide digitar la variable Pueblos originarios. Digite Cero si no tiene.",IF(AQ16>$C16," * La variable Pueblos Originarios No puede ser mayor al Total Ambos Sexos.","")) | CE16: =IF(AND($C16>0,AR16="")," * No olvide digitar la variable Migrantes. Digite Cero si no tiene.",IF(AR16>$C16," * La variable Migrantes No puede ser mayor al Total Ambos Sexos.","")) | CF16: =IF(AND($C16>0,AS16="")," * No olvide digitar la variable Demencia. Digite Cero si no tiene.",IF(AS16>$C16," * La variable Demencia No puede ser mayor al Total Ambos Sexos.","")) | CG16: =IF(AND($E16>0,OR(AT16=""))," * No olvide digitar la variable Trans (Masculino). Digite Cero si no tiene.",IF((AT16)>$E16," * La variable Trans (Masculino) No puede ser mayor al Total Mujeres.","")) | CH16: =IF(AND(D16>0,OR(AU16=""))," * No olvide digitar la variable Trans (Femenino). Digite Cero si no tiene.",IF((AU16)>D16," * La variable Trans (Femenino) No puede ser mayor al Total Hombres.","")) | CI16: =IF(AND($C16>0,AV16="")," * No olvide digitar la variable Cuidadores de personas con demencia. Digite Cero si no tiene.",IF(AV16>$C16," * La variable Cuidadores de personas con demencia No puede ser mayor al Total Ambos Sexos.","")) | CK16: =IF(AND(C16>0,AN16=""),1,IF(AN16>C16,1,0)) -> 0 | CL16: =IF(AND(C16>0,AO16=""),1,IF(AO16>C16,1,0)) -> 0 | CM16: =IF(AND(C16>0,AP16=""),1,IF(AP16>C16,1,0)) -> 0 | CN16: =IF(AND(C16>0,AQ16=""),1,IF(AQ16>C16,1,0)) -> 0 | CO16: =IF(AND(C16>0,AR16=""),1,IF(AR16>C16,1,0)) -> 0 | CP16: =IF(AND(C16>0,AS16=""),1,IF(AS16>C16,1,0)) -> 0 | CQ16: =IF(AND(E16>0,OR(AT16="")),1,IF((AT16)>E16,1,0)) -> 0 | CR16: =IF(AND(D16>0,OR(AU16="")),1,IF((AU16)>D16,1,0)) -> 0 | CS16: =IF(AND($C16>0,AV16=""),1,IF(AV16>$C16,1,0)) -> 0
B17: Otros Profesionales Capacitados (Salud Mental) | C17: =SUM(D17+E17) -> 0 | D17: =SUM(F17+H17+J17+L17+N17+P17+R17+T17+V17+X17+Z17+AB17+AD17+AF17+AH17+AJ17+AL17) -> 0 | E17: =SUM(G17+I17+K17+M17+O17+Q17+S17+U17+W17+Y17+AA17+AC17+AE17+AG17+AI17+AK17+AM17) -> 0 | AN17: 0 | AO17: 0 | AP17: 0 | AQ17: 0 | AR17: 0 | AS17: 0 | AT17: 0 | AU17: 0 | AV17: 0 | AW17: =CA17&CB17&CC17&CD17&CE17&CF17&CG17&CH17&CI17 | CA17: =IF(AND($C17>0,AN17="")," * No olvide digitar la variable Beneficiarios. Digite Cero si no tiene.",IF(AN17>$C17," * La variable Beneficiarios No puede ser mayor al Total Ambos Sexos.","")) | CB17: =IF(AND($C17>0,AO17="")," * No olvide digitar la variable Niños, Niñas, adolescentes y Jóvenes SENAME. Digite Cero si no tiene.",IF(AO17>$C17," * La variable Niños, Niñas, adolescentes y Jóvenes SENAME No puede ser mayor al Total Ambos Sexos.","")) | CC17: =IF(AND($C17>0,AP17="")," * No olvide digitar la variable Niños, Niñas, adolescentes y Jóvenes Mejor Niñez. Digite Cero si no tiene.",IF(AP17>$C17," * La variable Niños, Niñas, adolescentes y Jóvenes Mejor Niñez No puede ser mayor al Total Ambos Sexos.","")) | CD17: =IF(AND($C17>0,AQ17="")," * No olvide digitar la variable Pueblos originarios. Digite Cero si no tiene.",IF(AQ17>$C17," * La variable Pueblos Originarios No puede ser mayor al Total Ambos Sexos.","")) | CE17: =IF(AND($C17>0,AR17="")," * No olvide digitar la variable Migrantes. Digite Cero si no tiene.",IF(AR17>$C17," * La variable Migrantes No puede ser mayor al Total Ambos Sexos.","")) | CF17: =IF(AND($C17>0,AS17="")," * No olvide digitar la variable Demencia. Digite Cero si no tiene.",IF(AS17>$C17," * La variable Demencia No puede ser mayor al Total Ambos Sexos.","")) | CG17: =IF(AND($E17>0,OR(AT17=""))," * No olvide digitar la variable Trans (Masculino). Digite Cero si no tiene.",IF((AT17)>$E17," * La variable Trans (Masculino) No puede ser mayor al Total Mujeres.","")) | CH17: =IF(AND(D17>0,OR(AU17=""))," * No olvide digitar la variable Trans (Femenino). Digite Cero si no tiene.",IF((AU17)>D17," * La variable Trans (Femenino) No puede ser mayor al Total Hombres.","")) | CI17: =IF(AND($C17>0,AV17="")," * No olvide digitar la variable Cuidadores de personas con demencia. Digite Cero si no tiene.",IF(AV17>$C17," * La variable Cuidadores de personas con demencia No puede ser mayor al Total Ambos Sexos.","")) | CK17: =IF(AND(C17>0,AN17=""),1,IF(AN17>C17,1,0)) -> 0 | CL17: =IF(AND(C17>0,AO17=""),1,IF(AO17>C17,1,0)) -> 0 | CM17: =IF(AND(C17>0,AP17=""),1,IF(AP17>C17,1,0)) -> 0 | CN17: =IF(AND(C17>0,AQ17=""),1,IF(AQ17>C17,1,0)) -> 0 | CO17: =IF(AND(C17>0,AR17=""),1,IF(AR17>C17,1,0)) -> 0 | CP17: =IF(AND(C17>0,AS17=""),1,IF(AS17>C17,1,0)) -> 0 | CQ17: =IF(AND(E17>0,OR(AT17="")),1,IF((AT17)>E17,1,0)) -> 0 | CR17: =IF(AND(D17>0,OR(AU17="")),1,IF((AU17)>D17,1,0)) -> 0 | CS17: =IF(AND($C17>0,AV17=""),1,IF(AV17>$C17,1,0)) -> 0
B18: Terapeuta Ocupacional | C18: =SUM(D18+E18) -> 64 | D18: =SUM(F18+H18+J18+L18+N18+P18+R18+T18+V18+X18+Z18+AB18+AD18+AF18+AH18+AJ18+AL18) -> 37 | E18: =SUM(G18+I18+K18+M18+O18+Q18+S18+U18+W18+Y18+AA18+AC18+AE18+AG18+AI18+AK18+AM18) -> 27 | F18: 0 | G18: 0 | H18: 11 | I18: 2 | J18: 12 | K18: 7 | L18: 14 | M18: 18 | N18: 0 | O18: 0 | P18: 0 | Q18: 0 | R18: 0 | S18: 0 | T18: 0 | U18: 0 | V18: 0 | W18: 0 | X18: 0 | Y18: 0 | Z18: 0 | AA18: 0 | AB18: 0 | AC18: 0 | AD18: 0 | AE18: 0 | AF18: 0 | AG18: 0 | AH18: 0 | AI18: 0 | AJ18: 0 | AK18: 0 | AL18: 0 | AM18: 0 | AN18: 64 | AO18: 0 | AP18: 20 | AQ18: 0 | AR18: 0 | AS18: 0 | AT18: 0 | AU18: 0 | AV18: 0 | AW18: =CA18&CB18&CC18&CD18&CE18&CF18&CG18&CH18&CI18 | CA18: =IF(AND($C18>0,AN18="")," * No olvide digitar la variable Beneficiarios. Digite Cero si no tiene.",IF(AN18>$C18," * La variable Beneficiarios No puede ser mayor al Total Ambos Sexos.","")) | CB18: =IF(AND($C18>0,AO18="")," * No olvide digitar la variable Niños, Niñas, adolescentes y Jóvenes SENAME. Digite Cero si no tiene.",IF(AO18>$C18," * La variable Niños, Niñas, adolescentes y Jóvenes SENAME No puede ser mayor al Total Ambos Sexos.","")) | CC18: =IF(AND($C18>0,AP18="")," * No olvide digitar la variable Niños, Niñas, adolescentes y Jóvenes Mejor Niñez. Digite Cero si no tiene.",IF(AP18>$C18," * La variable Niños, Niñas, adolescentes y Jóvenes Mejor Niñez No puede ser mayor al Total Ambos Sexos.","")) | CD18: =IF(AND($C18>0,AQ18="")," * No olvide digitar la variable Pueblos originarios. Digite Cero si no tiene.",IF(AQ18>$C18," * La variable Pueblos Originarios No puede ser mayor al Total Ambos Sexos.","")) | CE18: =IF(AND($C18>0,AR18="")," * No olvide digitar la variable Migrantes. Digite Cero si no tiene.",IF(AR18>$C18," * La variable Migrantes No puede ser mayor al Total Ambos Sexos.","")) | CF18: =IF(AND($C18>0,AS18="")," * No olvide digitar la variable Demencia. Digite Cero si no tiene.",IF(AS18>$C18," * La variable Demencia No puede ser mayor al Total Ambos Sexos.","")) | CG18: =IF(AND($E18>0,OR(AT18=""))," * No olvide digitar la variable Trans (Masculino). Digite Cero si no tiene.",IF((AT18)>$E18," * La variable Trans (Masculino) No puede ser mayor al Total Mujeres.","")) | CH18: =IF(AND(D18>0,OR(AU18=""))," * No olvide digitar la variable Trans (Femenino). Digite Cero si no tiene.",IF((AU18)>D18," * La variable Trans (Femenino) No puede ser mayor al Total Hombres.","")) | CI18: =IF(AND($C18>0,AV18="")," * No olvide digitar la variable Cuidadores de personas con demencia. Digite Cero si no tiene.",IF(AV18>$C18," * La variable Cuidadores de personas con demencia No puede ser mayor al Total Ambos Sexos.","")) | CK18: =IF(AND(C18>0,AN18=""),1,IF(AN18>C18,1,0)) -> 0 | CL18: =IF(AND(C18>0,AO18=""),1,IF(AO18>C18,1,0)) -> 0 | CM18: =IF(AND(C18>0,AP18=""),1,IF(AP18>C18,1,0)) -> 0 | CN18: =IF(AND(C18>0,AQ18=""),1,IF(AQ18>C18,1,0)) -> 0 | CO18: =IF(AND(C18>0,AR18=""),1,IF(AR18>C18,1,0)) -> 0 | CP18: =IF(AND(C18>0,AS18=""),1,IF(AS18>C18,1,0)) -> 0 | CQ18: =IF(AND(E18>0,OR(AT18="")),1,IF((AT18)>E18,1,0)) -> 0 | CR18: =IF(AND(D18>0,OR(AU18="")),1,IF((AU18)>D18,1,0)) -> 0 | CS18: =IF(AND($C18>0,AV18=""),1,IF(AV18>$C18,1,0)) -> 0
B19: Técnico en Enfermería en Salud Mental | C19: =SUM(D19+E19) -> 0 | D19: =SUM(F19+H19+J19+L19+N19+P19+R19+T19+V19+X19+Z19+AB19+AD19+AF19+AH19+AJ19+AL19) -> 0 | E19: =SUM(G19+I19+K19+M19+O19+Q19+S19+U19+W19+Y19+AA19+AC19+AE19+AG19+AI19+AK19+AM19) -> 0 | AW19: =CA19&CB19&CC19&CD19&CE19&CF19&CG19&CH19&CI19 | CA19: =IF(AND($C19>0,AN19="")," * No olvide digitar la variable Beneficiarios. Digite Cero si no tiene.",IF(AN19>$C19," * La variable Beneficiarios No puede ser mayor al Total Ambos Sexos.","")) | CB19: =IF(AND($C19>0,AO19="")," * No olvide digitar la variable Niños, Niñas, adolescentes y Jóvenes SENAME. Digite Cero si no tiene.",IF(AO19>$C19," * La variable Niños, Niñas, adolescentes y Jóvenes SENAME No puede ser mayor al Total Ambos Sexos.","")) | CC19: =IF(AND($C19>0,AP19="")," * No olvide digitar la variable Niños, Niñas, adolescentes y Jóvenes Mejor Niñez. Digite Cero si no tiene.",IF(AP19>$C19," * La variable Niños, Niñas, adolescentes y Jóvenes Mejor Niñez No puede ser mayor al Total Ambos Sexos.","")) | CD19: =IF(AND($C19>0,AQ19="")," * No olvide digitar la variable Pueblos originarios. Digite Cero si no tiene.",IF(AQ19>$C19," * La variable Pueblos Originarios No puede ser mayor al Total Ambos Sexos.","")) | CE19: =IF(AND($C19>0,AR19="")," * No olvide digitar la variable Migrantes. Digite Cero si no tiene.",IF(AR19>$C19," * La variable Migrantes No puede ser mayor al Total Ambos Sexos.","")) | CF19: =IF(AND($C19>0,AS19="")," * No olvide digitar la variable Demencia. Digite Cero si no tiene.",IF(AS19>$C19," * La variable Demencia No puede ser mayor al Total Ambos Sexos.","")) | CG19: =IF(AND($E19>0,OR(AT19=""))," * No olvide digitar la variable Trans (Masculino). Digite Cero si no tiene.",IF((AT19)>$E19," * La variable Trans (Masculino) No puede ser mayor al Total Mujeres.","")) | CH19: =IF(AND(D19>0,OR(AU19=""))," * No olvide digitar la variable Trans (Femenino). Digite Cero si no tiene.",IF((AU19)>D19," * La variable Trans (Femenino) No puede ser mayor al Total Hombres.","")) | CI19: =IF(AND($C19>0,AV19="")," * No olvide digitar la variable Cuidadores de personas con demencia. Digite Cero si no tiene.",IF(AV19>$C19," * La variable Cuidadores de personas con demencia No puede ser mayor al Total Ambos Sexos.","")) | CK19: =IF(AND(C19>0,AN19=""),1,IF(AN19>C19,1,0)) -> 0 | CL19: =IF(AND(C19>0,AO19=""),1,IF(AO19>C19,1,0)) -> 0 | CM19: =IF(AND(C19>0,AP19=""),1,IF(AP19>C19,1,0)) -> 0 | CN19: =IF(AND(C19>0,AQ19=""),1,IF(AQ19>C19,1,0)) -> 0 | CO19: =IF(AND(C19>0,AR19=""),1,IF(AR19>C19,1,0)) -> 0 | CP19: =IF(AND(C19>0,AS19=""),1,IF(AS19>C19,1,0)) -> 0 | CQ19: =IF(AND(E19>0,OR(AT19="")),1,IF((AT19)>E19,1,0)) -> 0 | CR19: =IF(AND(D19>0,OR(AU19="")),1,IF((AU19)>D19,1,0)) -> 0 | CS19: =IF(AND($C19>0,AV19=""),1,IF(AV19>$C19,1,0)) -> 0
B20: Gestor Comunitario | C20: =SUM(D20+E20) -> 0 | D20: =SUM(F20+H20+J20+L20+N20+P20+R20+T20+V20+X20+Z20+AB20+AD20+AF20+AH20+AJ20+AL20) -> 0 | E20: =SUM(G20+I20+K20+M20+O20+Q20+S20+U20+W20+Y20+AA20+AC20+AE20+AG20+AI20+AK20+AM20) -> 0 | AW20: =CA20&CB20&CC20&CD20&CE20&CF20&CG20&CH20&CI20 | CA20: =IF(AND($C20>0,AN20="")," * No olvide digitar la variable Beneficiarios. Digite Cero si no tiene.",IF(AN20>$C20," * La variable Beneficiarios No puede ser mayor al Total Ambos Sexos.","")) | CB20: =IF(AND($C20>0,AO20="")," * No olvide digitar la variable Niños, Niñas, adolescentes y Jóvenes SENAME. Digite Cero si no tiene.",IF(AO20>$C20," * La variable Niños, Niñas, adolescentes y Jóvenes SENAME No puede ser mayor al Total Ambos Sexos.","")) | CC20: =IF(AND($C20>0,AP20="")," * No olvide digitar la variable Niños, Niñas, adolescentes y Jóvenes Mejor Niñez. Digite Cero si no tiene.",IF(AP20>$C20," * La variable Niños, Niñas, adolescentes y Jóvenes Mejor Niñez No puede ser mayor al Total Ambos Sexos.","")) | CD20: =IF(AND($C20>0,AQ20="")," * No olvide digitar la variable Pueblos originarios. Digite Cero si no tiene.",IF(AQ20>$C20," * La variable Pueblos Originarios No puede ser mayor al Total Ambos Sexos.","")) | CE20: =IF(AND($C20>0,AR20="")," * No olvide digitar la variable Migrantes. Digite Cero si no tiene.",IF(AR20>$C20," * La variable Migrantes No puede ser mayor al Total Ambos Sexos.","")) | CF20: =IF(AND($C20>0,AS20="")," * No olvide digitar la variable Demencia. Digite Cero si no tiene.",IF(AS20>$C20," * La variable Demencia No puede ser mayor al Total Ambos Sexos.","")) | CG20: =IF(AND($E20>0,OR(AT20=""))," * No olvide digitar la variable Trans (Masculino). Digite Cero si no tiene.",IF((AT20)>$E20," * La variable Trans (Masculino) No puede ser mayor al Total Mujeres.","")) | CH20: =IF(AND(D20>0,OR(AU20=""))," * No olvide digitar la variable Trans (Femenino). Digite Cero si no tiene.",IF((AU20)>D20," * La variable Trans (Femenino) No puede ser mayor al Total Hombres.","")) | CI20: =IF(AND($C20>0,AV20="")," * No olvide digitar la variable Cuidadores de personas con demencia. Digite Cero si no tiene.",IF(AV20>$C20," * La variable Cuidadores de personas con demencia No puede ser mayor al Total Ambos Sexos.","")) | CK20: =IF(AND(C20>0,AN20=""),1,IF(AN20>C20,1,0)) -> 0 | CL20: =IF(AND(C20>0,AO20=""),1,IF(AO20>C20,1,0)) -> 0 | CM20: =IF(AND(C20>0,AP20=""),1,IF(AP20>C20,1,0)) -> 0 | CN20: =IF(AND(C20>0,AQ20=""),1,IF(AQ20>C20,1,0)) -> 0 | CO20: =IF(AND(C20>0,AR20=""),1,IF(AR20>C20,1,0)) -> 0 | CP20: =IF(AND(C20>0,AS20=""),1,IF(AS20>C20,1,0)) -> 0 | CQ20: =IF(AND(E20>0,OR(AT20="")),1,IF((AT20)>E20,1,0)) -> 0 | CR20: =IF(AND(D20>0,OR(AU20="")),1,IF((AU20)>D20,1,0)) -> 0 | CS20: =IF(AND($C20>0,AV20=""),1,IF(AV20>$C20,1,0)) -> 0
B21: Técnico Rehabilitación Alcohol y Drogas | C21: =SUM(D21+E21) -> 0 | D21: =SUM(F21+H21+J21+L21+N21+P21+R21+T21+V21+X21+Z21+AB21+AD21+AF21+AH21+AJ21+AL21) -> 0 | E21: =SUM(G21+I21+K21+M21+O21+Q21+S21+U21+W21+Y21+AA21+AC21+AE21+AG21+AI21+AK21+AM21) -> 0 | AW21: =CA21&CB21&CC21&CD21&CE21&CF21&CG21&CH21&CI21 | CA21: =IF(AND($C21>0,AN21="")," * No olvide digitar la variable Beneficiarios. Digite Cero si no tiene.",IF(AN21>$C21," * La variable Beneficiarios No puede ser mayor al Total Ambos Sexos.","")) | CB21: =IF(AND($C21>0,AO21="")," * No olvide digitar la variable Niños, Niñas, adolescentes y Jóvenes SENAME. Digite Cero si no tiene.",IF(AO21>$C21," * La variable Niños, Niñas, adolescentes y Jóvenes SENAME No puede ser mayor al Total Ambos Sexos.","")) | CC21: =IF(AND($C21>0,AP21="")," * No olvide digitar la variable Niños, Niñas, adolescentes y Jóvenes Mejor Niñez. Digite Cero si no tiene.",IF(AP21>$C21," * La variable Niños, Niñas, adolescentes y Jóvenes Mejor Niñez No puede ser mayor al Total Ambos Sexos.","")) | CD21: =IF(AND($C21>0,AQ21="")," * No olvide digitar la variable Pueblos originarios. Digite Cero si no tiene.",IF(AQ21>$C21," * La variable Pueblos Originarios No puede ser mayor al Total Ambos Sexos.","")) | CE21: =IF(AND($C21>0,AR21="")," * No olvide digitar la variable Migrantes. Digite Cero si no tiene.",IF(AR21>$C21," * La variable Migrantes No puede ser mayor al Total Ambos Sexos.","")) | CF21: =IF(AND($C21>0,AS21="")," * No olvide digitar la variable Demencia. Digite Cero si no tiene.",IF(AS21>$C21," * La variable Demencia No puede ser mayor al Total Ambos Sexos.","")) | CG21: =IF(AND($E21>0,OR(AT21=""))," * No olvide digitar la variable Trans (Masculino). Digite Cero si no tiene.",IF((AT21)>$E21," * La variable Trans (Masculino) No puede ser mayor al Total Mujeres.","")) | CH21: =IF(AND(D21>0,OR(AU21=""))," * No olvide digitar la variable Trans (Femenino). Digite Cero si no tiene.",IF((AU21)>D21," * La variable Trans (Femenino) No puede ser mayor al Total Hombres.","")) | CI21: =IF(AND($C21>0,AV21="")," * No olvide digitar la variable Cuidadores de personas con demencia. Digite Cero si no tiene.",IF(AV21>$C21," * La variable Cuidadores de personas con demencia No puede ser mayor al Total Ambos Sexos.","")) | CK21: =IF(AND(C21>0,AN21=""),1,IF(AN21>C21,1,0)) -> 0 | CL21: =IF(AND(C21>0,AO21=""),1,IF(AO21>C21,1,0)) -> 0 | CM21: =IF(AND(C21>0,AP21=""),1,IF(AP21>C21,1,0)) -> 0 | CN21: =IF(AND(C21>0,AQ21=""),1,IF(AQ21>C21,1,0)) -> 0 | CO21: =IF(AND(C21>0,AR21=""),1,IF(AR21>C21,1,0)) -> 0 | CP21: =IF(AND(C21>0,AS21=""),1,IF(AS21>C21,1,0)) -> 0 | CQ21: =IF(AND(E21>0,OR(AT21="")),1,IF((AT21)>E21,1,0)) -> 0 | CR21: =IF(AND(D21>0,OR(AU21="")),1,IF((AU21)>D21,1,0)) -> 0 | CS21: =IF(AND($C21>0,AV21=""),1,IF(AV21>$C21,1,0)) -> 0
B22: TOTAL | C22: =SUM(D22+E22) -> 545 | D22: =SUM(F22+H22+J22+L22+N22+P22+R22+T22+V22+X22+Z22+AB22+AD22+AF22+AH22+AJ22+AL22) -> 212 | E22: =SUM(G22+I22+K22+M22+O22+Q22+S22+U22+W22+Y22+AA22+AC22+AE22+AG22+AI22+AK22+AM22) -> 333 | F22: =SUM(F12:F21) -> 0 | G22: =SUM(G12:G21) -> 0 | H22: =SUM(H12:H21) -> 11 | I22: =SUM(I12:I21) -> 2 | J22: =SUM(J12:J21) -> 14 | K22: =SUM(K12:K21) -> 45 | L22: =SUM(L12:L21) -> 32 | M22: =SUM(M12:M21) -> 102 | ... AV22: =SUM(AV12:AV21) -> 0
A23: Intervención Psicosocial Grupal | C23: =SUM(D23+E23) -> 6 | D23: =SUM(F23+H23+J23+L23+N23+P23+R23+T23+V23+X23+Z23+AB23+AD23+AF23+AH23+AJ23+AL23) -> 0 | E23: =SUM(G23+I23+K23+M23+O23+Q23+S23+U23+W23+Y23+AA23+AC23+AE23+AG23+AI23+AK23+AM23) -> 6 | F23: 0 | G23: 0 | H23: 0 | I23: 0 | J23: 0 | K23: 3 | L23: 0 | M23: 3 | N23: 0 | O23: 0 | P23: 0 | Q23: 0 | R23: 0 | S23: 0 | T23: 0 | U23: 0 | V23: 0 | W23: 0 | X23: 0 | Y23: 0 | Z23: 0 | AA23: 0 | AB23: 0 | AC23: 0 | AD23: 0 | AE23: 0 | AF23: 0 | AG23: 0 | AH23: 0 | AI23: 0 | AJ23: 0 | AK23: 0 | AL23: 0 | AM23: 0 | AN23: 6 | AO23: 0 | AP23: 0 | AQ23: 0 | AR23: 0 | AS23: 0 | AT23: 0 | AU23: 0 | AV23: 0 | AW23: =CA23&CB23&CC23&CD23&CE23&CF23&CG23&CH23&CI23 | CA23: =IF(AND($C23>0,AN23="")," * No olvide digitar la variable Beneficiarios. Digite Cero si no tiene.",IF(AN23>$C23," * La variable Beneficiarios No puede ser mayor al Total Ambos Sexos.","")) | CB23: =IF(AND($C23>0,AO23="")," * No olvide digitar la variable Niños, Niñas, adolescentes y Jóvenes SENAME. Digite Cero si no tiene.",IF(AO23>$C23," * La variable Niños, Niñas, adolescentes y Jóvenes SENAME No puede ser mayor al Total Ambos Sexos.","")) | CC23: =IF(AND($C23>0,AP23="")," * No olvide digitar la variable Niños, Niñas, adolescentes y Jóvenes Mejor Niñez. Digite Cero si no tiene.",IF(AP23>$C23," * La variable Niños, Niñas, adolescentes y Jóvenes Mejor Niñez No puede ser mayor al Total Ambos Sexos.","")) | CD23: =IF(AND($C23>0,AQ23="")," * No olvide digitar la variable Pueblos originarios. Digite Cero si no tiene.",IF(AQ23>$C23," * La variable Pueblos Originarios No puede ser mayor al Total Ambos Sexos.","")) | CE23: =IF(AND($C23>0,AR23="")," * No olvide digitar la variable Migrantes. Digite Cero si no tiene.",IF(AR23>$C23," * La variable Migrantes No puede ser mayor al Total Ambos Sexos.","")) | CF23: =IF(AND($C23>0,AS23="")," * No olvide digitar la variable Demencia. Digite Cero si no tiene.",IF(AS23>$C23," * La variable Demencia No puede ser mayor al Total Ambos Sexos.","")) | CG23: =IF(AND($E23>0,OR(AT23=""))," * No olvide digitar la variable Trans (Masculino). Digite Cero si no tiene.",IF((AT23)>$E23," * La variable Trans (Masculino) No puede ser mayor al Total Mujeres.","")) | CH23: =IF(AND(D23>0,OR(AU23=""))," * No olvide digitar la variable Trans (Femenino). Digite Cero si no tiene.",IF((AU23)>D23," * La variable Trans (Femenino) No puede ser mayor al Total Hombres.","")) | CI23: =IF(AND($C23>0,AV23="")," * No olvide digitar la variable Cuidadores de personas con demencia. Digite Cero si no tiene.",IF(AV23>$C23," * La variable Cuidadores de personas con demencia No puede ser mayor al Total Ambos Sexos.","")) | CK23: =IF(AND(C23>0,AN23=""),1,IF(AN23>C23,1,0)) -> 0 | CL23: =IF(AND(C23>0,AO23=""),1,IF(AO23>C23,1,0)) -> 0 | CM23: =IF(AND(C23>0,AP23=""),1,IF(AP23>C23,1,0)) -> 0 | CN23: =IF(AND(C23>0,AQ23=""),1,IF(AQ23>C23,1,0)) -> 0 | CO23: =IF(AND(C23>0,AR23=""),1,IF(AR23>C23,1,0)) -> 0 | CP23: =IF(AND(C23>0,AS23=""),1,IF(AS23>C23,1,0)) -> 0 | CQ23: =IF(AND(E23>0,OR(AT23="")),1,IF((AT23)>E23,1,0)) -> 0 | CR23: =IF(AND(D23>0,OR(AU23="")),1,IF((AU23)>D23,1,0)) -> 0 | CS23: =IF(AND($C23>0,AV23=""),1,IF(AV23>$C23,1,0)) -> 0
A24: Psicodiagnóstico | B24: Psicólogo/a | C24: =SUM(D24+E24) -> 1 | D24: =SUM(F24+H24+J24+L24+N24+P24+R24+T24+V24+X24+Z24+AB24+AD24+AF24+AH24+AJ24+AL24) -> 1 | E24: =SUM(G24+I24+K24+M24+O24+Q24+S24+U24+W24+Y24+AA24+AC24+AE24+AG24+AI24+AK24+AM24) -> 0 | F24: 0 | G24: 0 | H24: 0 | I24: 0 | J24: 0 | K24: 0 | L24: 0 | M24: 0 | N24: 0 | O24: 0 | P24: 0 | Q24: 0 | R24: 0 | S24: 0 | T24: 0 | U24: 0 | V24: 0 | W24: 0 | X24: 0 | Y24: 0 | Z24: 1 | AA24: 0 | AB24: 0 | AC24: 0 | AD24: 0 | AE24: 0 | AF24: 0 | AG24: 0 | AH24: 0 | AI24: 0 | AJ24: 0 | AK24: 0 | AL24: 0 | AM24: 0 | AN24: 1 | AO24: 0 | AP24: 0 | AQ24: 0 | AR24: 0 | AS24: 0 | AT24: 0 | AU24: 0 | AV24: 0 | AW24: =CA24&CB24&CC24&CD24&CE24&CF24&CG24&CH24&CI24 | CA24: =IF(AND($C24>0,AN24="")," * No olvide digitar la variable Beneficiarios. Digite Cero si no tiene.",IF(AN24>$C24," * La variable Beneficiarios No puede ser mayor al Total Ambos Sexos.","")) | CB24: =IF(AND($C24>0,AO24="")," * No olvide digitar la variable Niños, Niñas, adolescentes y Jóvenes SENAME. Digite Cero si no tiene.",IF(AO24>$C24," * La variable Niños, Niñas, adolescentes y Jóvenes SENAME No puede ser mayor al Total Ambos Sexos.","")) | CC24: =IF(AND($C24>0,AP24="")," * No olvide digitar la variable Niños, Niñas, adolescentes y Jóvenes Mejor Niñez. Digite Cero si no tiene.",IF(AP24>$C24," * La variable Niños, Niñas, adolescentes y Jóvenes Mejor Niñez No puede ser mayor al Total Ambos Sexos.","")) | CD24: =IF(AND($C24>0,AQ24="")," * No olvide digitar la variable Pueblos originarios. Digite Cero si no tiene.",IF(AQ24>$C24," * La variable Pueblos Originarios No puede ser mayor al Total Ambos Sexos.","")) | CE24: =IF(AND($C24>0,AR24="")," * No olvide digitar la variable Migrantes. Digite Cero si no tiene.",IF(AR24>$C24," * La variable Migrantes No puede ser mayor al Total Ambos Sexos.","")) | CF24: =IF(AND($C24>0,AS24="")," * No olvide digitar la variable Demencia. Digite Cero si no tiene.",IF(AS24>$C24," * La variable Demencia No puede ser mayor al Total Ambos Sexos.","")) | CG24: =IF(AND($E24>0,OR(AT24=""))," * No olvide digitar la variable Trans (Masculino). Digite Cero si no tiene.",IF((AT24)>$E24," * La variable Trans (Masculino) No puede ser mayor al Total Mujeres.","")) | CH24: =IF(AND(D24>0,OR(AU24=""))," * No olvide digitar la variable Trans (Femenino). Digite Cero si no tiene.",IF((AU24)>D24," * La variable Trans (Femenino) No puede ser mayor al Total Hombres.","")) | CI24: =IF(AND($C24>0,AV24="")," * No olvide digitar la variable Cuidadores de personas con demencia. Digite Cero si no tiene.",IF(AV24>$C24," * La variable Cuidadores de personas con demencia No puede ser mayor al Total Ambos Sexos.","")) | CK24: =IF(AND(C24>0,AN24=""),1,IF(AN24>C24,1,0)) -> 0 | CL24: =IF(AND(C24>0,AO24=""),1,IF(AO24>C24,1,0)) -> 0 | CM24: =IF(AND(C24>0,AP24=""),1,IF(AP24>C24,1,0)) -> 0 | CN24: =IF(AND(C24>0,AQ24=""),1,IF(AQ24>C24,1,0)) -> 0 | CO24: =IF(AND(C24>0,AR24=""),1,IF(AR24>C24,1,0)) -> 0 | CP24: =IF(AND(C24>0,AS24=""),1,IF(AS24>C24,1,0)) -> 0 | CQ24: =IF(AND(E24>0,OR(AT24="")),1,IF((AT24)>E24,1,0)) -> 0 | CR24: =IF(AND(D24>0,OR(AU24="")),1,IF((AU24)>D24,1,0)) -> 0 | CS24: =IF(AND($C24>0,AV24=""),1,IF(AV24>$C24,1,0)) -> 0
A25: Psicoterapia Individual | B25: Psicólogo/a | C25: =SUM(D25+E25) -> 299 | D25: =SUM(F25+H25+J25+L25+N25+P25+R25+T25+V25+X25+Z25+AB25+AD25+AF25+AH25+AJ25+AL25) -> 74 | E25: =SUM(G25+I25+K25+M25+O25+Q25+S25+U25+W25+Y25+AA25+AC25+AE25+AG25+AI25+AK25+AM25) -> 225 | F25: 0 | G25: 0 | H25: 2 | I25: 3 | J25: 4 | K25: 21 | L25: 4 | M25: 68 | N25: 6 | O25: 12 | P25: 5 | Q25: 9 | R25: 10 | S25: 19 | T25: 8 | U25: 20 | V25: 7 | W25: 16 | X25: 9 | Y25: 15 | Z25: 7 | AA25: 10 | AB25: 1 | AC25: 16 | AD25: 5 | AE25: 6 | AF25: 5 | AG25: 5 | AH25: 1 | AI25: 2 | AJ25: 0 | AK25: 3 | AL25: 0 | AM25: 0 | AN25: 299 | AO25: 0 | AP25: 29 | AQ25: 5 | AR25: 0 | AS25: 0 | AT25: 0 | AU25: 0 | AV25: 0 | AW25: =CA25&CB25&CC25&CD25&CE25&CF25&CG25&CH25&CI25 | CA25: =IF(AND($C25>0,AN25="")," * No olvide digitar la variable Beneficiarios. Digite Cero si no tiene.",IF(AN25>$C25," * La variable Beneficiarios No puede ser mayor al Total Ambos Sexos.","")) | CB25: =IF(AND($C25>0,AO25="")," * No olvide digitar la variable Niños, Niñas, adolescentes y Jóvenes SENAME. Digite Cero si no tiene.",IF(AO25>$C25," * La variable Niños, Niñas, adolescentes y Jóvenes SENAME No puede ser mayor al Total Ambos Sexos.","")) | CC25: =IF(AND($C25>0,AP25="")," * No olvide digitar la variable Niños, Niñas, adolescentes y Jóvenes Mejor Niñez. Digite Cero si no tiene.",IF(AP25>$C25," * La variable Niños, Niñas, adolescentes y Jóvenes Mejor Niñez No puede ser mayor al Total Ambos Sexos.","")) | CD25: =IF(AND($C25>0,AQ25="")," * No olvide digitar la variable Pueblos originarios. Digite Cero si no tiene.",IF(AQ25>$C25," * La variable Pueblos Originarios No puede ser mayor al Total Ambos Sexos.","")) | CE25: =IF(AND($C25>0,AR25="")," * No olvide digitar la variable Migrantes. Digite Cero si no tiene.",IF(AR25>$C25," * La variable Migrantes No puede ser mayor al Total Ambos Sexos.","")) | CF25: =IF(AND($C25>0,AS25="")," * No olvide digitar la variable Demencia. Digite Cero si no tiene.",IF(AS25>$C25," * La variable Demencia No puede ser mayor al Total Ambos Sexos.","")) | CG25: =IF(AND($E25>0,OR(AT25=""))," * No olvide digitar la variable Trans (Masculino). Digite Cero si no tiene.",IF((AT25)>$E25," * La variable Trans (Masculino) No puede ser mayor al Total Mujeres.","")) | CH25: =IF(AND(D25>0,OR(AU25=""))," * No olvide digitar la variable Trans (Femenino). Digite Cero si no tiene.",IF((AU25)>D25," * La variable Trans (Femenino) No puede ser mayor al Total Hombres.","")) | CI25: =IF(AND($C25>0,AV25="")," * No olvide digitar la variable Cuidadores de personas con demencia. Digite Cero si no tiene.",IF(AV25>$C25," * La variable Cuidadores de personas con demencia No puede ser mayor al Total Ambos Sexos.","")) | CK25: =IF(AND(C25>0,AN25=""),1,IF(AN25>C25,1,0)) -> 0 | CL25: =IF(AND(C25>0,AO25=""),1,IF(AO25>C25,1,0)) -> 0 | CM25: =IF(AND(C25>0,AP25=""),1,IF(AP25>C25,1,0)) -> 0 | CN25: =IF(AND(C25>0,AQ25=""),1,IF(AQ25>C25,1,0)) -> 0 | CO25: =IF(AND(C25>0,AR25=""),1,IF(AR25>C25,1,0)) -> 0 | CP25: =IF(AND(C25>0,AS25=""),1,IF(AS25>C25,1,0)) -> 0 | CQ25: =IF(AND(E25>0,OR(AT25="")),1,IF((AT25)>E25,1,0)) -> 0 | CR25: =IF(AND(D25>0,OR(AU25="")),1,IF((AU25)>D25,1,0)) -> 0 | CS25: =IF(AND($C25>0,AV25=""),1,IF(AV25>$C25,1,0)) -> 0
B26: Médico/a Psiquiatra | C26: =SUM(D26+E26) -> 0 | D26: =SUM(F26+H26+J26+L26+N26+P26+R26+T26+V26+X26+Z26+AB26+AD26+AF26+AH26+AJ26+AL26) -> 0 | E26: =SUM(G26+I26+K26+M26+O26+Q26+S26+U26+W26+Y26+AA26+AC26+AE26+AG26+AI26+AK26+AM26) -> 0 | AW26: =CA26&CB26&CC26&CD26&CE26&CF26&CG26&CH26&CI26 | CA26: =IF(AND($C26>0,AN26="")," * No olvide digitar la variable Beneficiarios. Digite Cero si no tiene.",IF(AN26>$C26," * La variable Beneficiarios No puede ser mayor al Total Ambos Sexos.","")) | CB26: =IF(AND($C26>0,AO26="")," * No olvide digitar la variable Niños, Niñas, adolescentes y Jóvenes SENAME. Digite Cero si no tiene.",IF(AO26>$C26," * La variable Niños, Niñas, adolescentes y Jóvenes SENAME No puede ser mayor al Total Ambos Sexos.","")) | CC26: =IF(AND($C26>0,AP26="")," * No olvide digitar la variable Niños, Niñas, adolescentes y Jóvenes Mejor Niñez. Digite Cero si no tiene.",IF(AP26>$C26," * La variable Niños, Niñas, adolescentes y Jóvenes Mejor Niñez No puede ser mayor al Total Ambos Sexos.","")) | CD26: =IF(AND($C26>0,AQ26="")," * No olvide digitar la variable Pueblos originarios. Digite Cero si no tiene.",IF(AQ26>$C26," * La variable Pueblos Originarios No puede ser mayor al Total Ambos Sexos.","")) | CE26: =IF(AND($C26>0,AR26="")," * No olvide digitar la variable Migrantes. Digite Cero si no tiene.",IF(AR26>$C26," * La variable Migrantes No puede ser mayor al Total Ambos Sexos.","")) | CF26: =IF(AND($C26>0,AS26="")," * No olvide digitar la variable Demencia. Digite Cero si no tiene.",IF(AS26>$C26," * La variable Demencia No puede ser mayor al Total Ambos Sexos.","")) | CG26: =IF(AND($E26>0,OR(AT26=""))," * No olvide digitar la variable Trans (Masculino). Digite Cero si no tiene.",IF((AT26)>$E26," * La variable Trans (Masculino) No puede ser mayor al Total Mujeres.","")) | CH26: =IF(AND(D26>0,OR(AU26=""))," * No olvide digitar la variable Trans (Femenino). Digite Cero si no tiene.",IF((AU26)>D26," * La variable Trans (Femenino) No puede ser mayor al Total Hombres.","")) | CI26: =IF(AND($C26>0,AV26="")," * No olvide digitar la variable Cuidadores de personas con demencia. Digite Cero si no tiene.",IF(AV26>$C26," * La variable Cuidadores de personas con demencia No puede ser mayor al Total Ambos Sexos.","")) | CK26: =IF(AND(C26>0,AN26=""),1,IF(AN26>C26,1,0)) -> 0 | CL26: =IF(AND(C26>0,AO26=""),1,IF(AO26>C26,1,0)) -> 0 | CM26: =IF(AND(C26>0,AP26=""),1,IF(AP26>C26,1,0)) -> 0 | CN26: =IF(AND(C26>0,AQ26=""),1,IF(AQ26>C26,1,0)) -> 0 | CO26: =IF(AND(C26>0,AR26=""),1,IF(AR26>C26,1,0)) -> 0 | CP26: =IF(AND(C26>0,AS26=""),1,IF(AS26>C26,1,0)) -> 0 | CQ26: =IF(AND(E26>0,OR(AT26="")),1,IF((AT26)>E26,1,0)) -> 0 | CR26: =IF(AND(D26>0,OR(AU26="")),1,IF((AU26)>D26,1,0)) -> 0 | CS26: =IF(AND($C26>0,AV26=""),1,IF(AV26>$C26,1,0)) -> 0
A27: SECCIÓN A.2: CONSULTORÍAS DE SALUD MENTAL EN APS
A28: ACTIVIDAD | B28: TOTAL CONSULTORÍAS Y TELECONSULTORÍAS RECIBIDAS | C28: CONSULTORÍAS Y TELECONSULTORÍAS RECIBIDAS | E28: TOTAL Nº DE CASOS REVISADOS | H28: 0 - 4 años | J28: 5 - 9 años | L28: 10 - 14 años | N28: 15 - 19 años | P28: 20 - 24 años | R28: 25 - 29 años | T28: 30 - 34 años | V28: 35 - 39 años | X28: 40 - 44 años | Z28: 45 - 49 años | AB28: 50 - 54 años | AD28: 55 - 59 años | AF28: 60 - 64 años | AH28: 65 - 69 años | AJ28: 70 - 74 años | AL28: 75 - 79 años | AN28: 80 y más años | AP28: Pueblos Originarios | AQ28: Migrantes | AR28: Niños, Niñas, Adolescentes y Jóvenes SENAME | AS28: Niños, Niñas, Adolescentes y Jóvenes Mejor Niñez | AT28: Personas con sospecha de demencia | AU28: Personas con diagnóstico de demencia
C29: Consultorías y Teleconsultorías de Salud Mental Infanto Adolescente | D29: Consultorías Y Teleconsultorías de Salud Mental Adulto | E29: Ambos Sexos | F29: Hombres | G29: Mujeres | H29: Hombres | I29: Mujeres | J29: Hombres | K29: Mujeres | L29: Hombres | M29: Mujeres | N29: Hombres | O29: Mujeres | P29: Hombres | Q29: Mujeres | R29: Hombres | S29: Mujeres | T29: Hombres | U29: Mujeres | V29: Hombres | W29: Mujeres | X29: Hombres | Y29: Mujeres | Z29: Hombres | AA29: Mujeres | AB29: Hombres | AC29: Mujeres | AD29: Hombres | AE29: Mujeres | AF29: Hombres | AG29: Mujeres | AH29: Hombres | AI29: Mujeres | AJ29: Hombres | AK29: Mujeres | AL29: Hombres | AM29: Mujeres | AN29: Hombres | AO29: Mujeres
