Workbook

Sheet CONSOLIDADO
A1: SERVICIO DE SALUD
A2: =CONCATENATE("COMUNA: ",[1]NOMBRE!B2," (",[1]NOMBRE!C2,[1]NOMBRE!D2,[1]NOMBRE!E2,[1]NOMBRE!F2,[1]NOMBRE!G2,")") -> COMUNA: 0 (00000)
A3: =CONCATENATE("ESTABLECIMIENTO/ESTRATEGIA: ", [1]NOMBRE!B3," (",[1]NOMBRE!C3,[1]NOMBRE!D3,[1]NOMBRE!E3,[1]NOMBRE!F3,[1]NOMBRE!G3,[1]NOMBRE!H3,")") -> ESTABLECIMIENTO/ESTRATEGIA: 0 (000000)
A4: =CONCATENATE("MES: ",[1]NOMBRE!B6," (",[1]NOMBRE!C6,[1]NOMBRE!D6,")") -> MES: 0 (00)
A5: =CONCATENATE("AÑO: ",[1]NOMBRE!B7) -> AÑO: 2025
A6: REM-A05. INGRESOS Y EGRESOS POR CONDICIÓN Y PROBLEMAS DE SALUD
A8: SECCIÓN A: INGRESOS DE GESTANTES A PROGRAMA PRENATAL
A9: CONDICIÓN | C9: TOTAL | D9: RANGO ETARIO | O9: Víctima de Violencia de Género | P9: Ingresos por Traslado | Q9: Ingresos con Control Precoz Extrasistema | R9: Derivación por IVE causal 3 <14 años | S9: Identidad de género | U9: Personas con discapacidad | V9: Pueblos Originarios | W9: Migrantes
D10: Menor de 14 años | E10: 14 años | F10: 15 - 19 años | G10: 20 - 24 años | H10: 25 - 29 años | I10: 30 - 34 años | J10: 35 - 39 años | K10: 40 - 44 años | L10: 45 - 49 años | M10: 50 - 54 años | N10: 55 y más años | S10: Trans masculino | T10: No binarie | W10: Menor de 20 años | X10: 20 y más años
A11: Gestantes Ingresadas | C11: =SUM(D11:N11) -> 0 | Y11: =CA11&CB11&CC11&CD11&CE11&CF11&CG11&CH11&CI11&CJ11 | CA11: =IF(AND($C11>0,O11="")," * No olvide digitar la variable Víctima de Violencia de Género. Digite Cero si no tiene.",IF(O11>$C11," * La variable Víctima de Violencia de Género No puede ser mayor al Total.","")) | CB11: =IF(AND(C11>0,P11="")," * No olvide digitar la variable Ingresos por Traslados. Digite Cero si no tiene.",IF(P11>C11," * La variable Ingresos por Traslados No puede ser mayor al Total.","")) | CC11: =IF(AND($C11>0,Q11="")," * No olvide digitar la variable Ingresos con Control Precoz Extrasistema. Digite Cero si no tiene.",IF(Q11>$C11," * La variable Ingresos con Control Precoz Extrasistema No puede ser mayor al Total.","")) | CD11: =IF(AND($C11>0,R11="")," * No olvide digitar la variable Derivación por IVE causal 3 <14 años. Digite Cero si no tiene.",IF(R11>$C11," * La variable Derivación por IVE causal 3 <14 años No puede ser mayor al Total.","")) | CE11: =IF(AND($C11>0,S11="")," * No olvide digitar la variable Trans masculino. Digite Cero si no tiene.",IF(S11>$C11," * La variable Trans masculino No puede ser mayor al Total.","")) | CF11: =IF(AND($C11>0,T11="")," * No olvide digitar la variable No binarie. Digite Cero si no tiene.",IF(T11>$C11," * La variable No binarie No puede ser mayor al Total.","")) | CG11: =IF(AND($C11>0,U11="")," * No olvide digitar la variable Personas con discapacidad. Digite Cero si no tiene.",IF(U11>$C11," *La variable Personas con discapacidad No puede ser mayor al Total.","")) | CH11: =IF(AND($C11>0,V11="")," * No olvide digitar la variable Pueblos Originarios. Digite Cero si no tiene.",IF(V11>$C11," *La variable Pueblos Originarios No puede ser mayor al Total.","")) | CI11: =IF(AND($D11+E11+F11>0,W11="")," * No olvide digitar la variable Migrantes Menor de 20 años. Digite Cero si no tiene.",IF(W11>$D11+E11+F11," * La variable Migrantes Menor de 20 años No puede ser mayor a la suma del grupo Migrantes Menor de 20 años.","")) | CJ11: =IF(AND($H11+I11+J11+K11+L11+M11+N11>0,X11="")," * No olvide digitar la variable Migrantes 20 y más años. Digite Cero si no tiene.",IF(H11+I11+J11+K11+L11+M11+N11<$X11," * La variable Migrantes 20 y más años No puede ser mayor a la suma del grupo Migrantes 20 y más años.","")) | CO11: =IF(AND($C11>0,O11=""),1,IF(O11>$C11,1,0)) -> 0 | CP11: =IF(AND($C11>0,P11=""),1,IF(P11>$C11,1,0)) -> 0 | CQ11: =IF(AND($C11>0,Q11=""),1,IF(Q11>$C11,1,0)) -> 0 | CR11: =IF(R11>$E11+D11,1,0) -> 0 | CS11: =IF(AND($C11>0,S11=""),1,IF(S11>$C11,1,0)) -> 0 | CT11: =IF(AND($C11>0,T11=""),1,IF(T11>$C11,1,0)) -> 0 | CU11: =IF(AND($C11>0,U11=""),1,IF(U11>$C11,1,0)) -> 0 | CV11: =IF(AND($C11>0,V11=""),1,IF(V11>$C11,1,0)) -> 0 | CW11: =IF(AND(D11+E11+F11>0,W11=""),1,IF(W11>D11+E11+F11,1,0)) -> 0 | CX11: =IF(AND($H11+I11+J11+K11+L11+M11+N1>0,X11=""),1,IF(H11+I11+J11+K11+L11+M11+N11<X11,1,0)) -> 0
A12: Primigestas Ingresadas | C12: =SUM(D12:N12) -> 0 | Y12: =CA12&CB12&CC12&CD12&CE12&CF12&CG12&CH12&CI12&CJ12 | CA12: =IF(AND($C12>0,O12="")," * No olvide digitar la variable Víctima de Violencia de Género. Digite Cero si no tiene.",IF(O12>$C12," * La variable Víctima de Violencia de Género No puede ser mayor al Total.","")) | CB12: =IF(AND(C12>0,P12="")," * No olvide digitar la variable Ingresos por Traslados. Digite Cero si no tiene.",IF(P12>C12," * La variable Ingresos por Traslados No puede ser mayor al Total.","")) | CC12: =IF(AND($C12>0,Q12="")," * No olvide digitar la variable Ingresos con Control Precoz Extrasistema. Digite Cero si no tiene.",IF(Q12>$C12," * La variable Ingresos con Control Precoz Extrasistema No puede ser mayor al Total.","")) | CD12: =IF(AND($C12>0,R12="")," * No olvide digitar la variable Derivación por IVE causal 3 <14 años. Digite Cero si no tiene.",IF(R12>$C12," * La variable Derivación por IVE causal 3 <14 años No puede ser mayor al Total.","")) | CE12: =IF(AND($C12>0,S12="")," * No olvide digitar la variable Trans masculino. Digite Cero si no tiene.",IF(S12>$C12," * La variable Trans masculino No puede ser mayor al Total.","")) | CF12: =IF(AND($C12>0,T12="")," * No olvide digitar la variable No binarie. Digite Cero si no tiene.",IF(T12>$C12," * La variable No binarie No puede ser mayor al Total.","")) | CG12: =IF(AND($C12>0,U12="")," * No olvide digitar la variable Personas con discapacidad. Digite Cero si no tiene.",IF(U12>$C12," *La variable Personas con discapacidad No puede ser mayor al Total.","")) | CH12: =IF(AND($C12>0,V12="")," * No olvide digitar la variable Pueblos Originarios. Digite Cero si no tiene.",IF(V12>$C12," *La variable Pueblos Originarios No puede ser mayor al Total.","")) | CI12: =IF(AND($D12+E12+F12>0,W12="")," * No olvide digitar la variable Migrantes Menor de 20 años. Digite Cero si no tiene.",IF(W12>$D12+E12+F12," * La variable Migrantes Menor de 20 años No puede ser mayor a la suma del grupo Migrantes Menor de 20 años.","")) | CJ12: =IF(AND($H12+I12+J12+K12+L12+M12+N12>0,X12="")," * No olvide digitar la variable Migrantes 20 y más años. Digite Cero si no tiene.",IF(H12+I12+J12+K12+L12+M12+N12<$X12," * La variable Migrantes 20 y más años No puede ser mayor a la suma del grupo Migrantes 20 y más años.","")) | CO12: =IF(AND($C12>0,O12=""),1,IF(O12>$C12,1,0)) -> 0 | CP12: =IF(AND($C12>0,P12=""),1,IF(P12>$C12,1,0)) -> 0 | CQ12: =IF(AND($C12>0,Q12=""),1,IF(Q12>$C12,1,0)) -> 0 | CR12: =IF(R12>$E12+D12,1,0) -> 0 | CS12: =IF(AND($C12>0,S12=""),1,IF(S12>$C12,1,0)) -> 0 | CT12: =IF(AND($C12>0,T12=""),1,IF(T12>$C12,1,0)) -> 0 | CU12: =IF(AND($C12>0,U12=""),1,IF(U12>$C12,1,0)) -> 0 | CV12: =IF(AND($C12>0,V12=""),1,IF(V12>$C12,1,0)) -> 0 | CW12: =IF(AND(D12+E12+F12>0,W12=""),1,IF(W12>D12+E12+F12,1,0)) -> 0 | CX12: =IF(AND($H12+I12+J12+K12+L12+M12+N2>0,X12=""),1,IF(H12+I12+J12+K12+L12+M12+N12<X12,1,0)) -> 0
A13: Gestantes Ingresadas antes de las 14 Semanas | C13: =SUM(D13:N13) -> 0 | Y13: =CA13&CB13&CC13&CD13&CE13&CF13&CG13&CH13&CI13&CJ13 | CA13: =IF(AND($C13>0,O13="")," * No olvide digitar la variable Víctima de Violencia de Género. Digite Cero si no tiene.",IF(O13>$C13," * La variable Víctima de Violencia de Género No puede ser mayor al Total.","")) | CB13: =IF(AND(C13>0,P13="")," * No olvide digitar la variable Ingresos por Traslados. Digite Cero si no tiene.",IF(P13>C13," * La variable Ingresos por Traslados No puede ser mayor al Total.","")) | CC13: =IF(AND($C13>0,Q13="")," * No olvide digitar la variable Ingresos con Control Precoz Extrasistema. Digite Cero si no tiene.",IF(Q13>$C13," * La variable Ingresos con Control Precoz Extrasistema No puede ser mayor al Total.","")) | CD13: =IF(AND($C13>0,R13="")," * No olvide digitar la variable Derivación por IVE causal 3 <14 años. Digite Cero si no tiene.",IF(R13>$C13," * La variable Derivación por IVE causal 3 <14 años No puede ser mayor al Total.","")) | CE13: =IF(AND($C13>0,S13="")," * No olvide digitar la variable Trans masculino. Digite Cero si no tiene.",IF(S13>$C13," * La variable Trans masculino No puede ser mayor al Total.","")) | CF13: =IF(AND($C13>0,T13="")," * No olvide digitar la variable No binarie. Digite Cero si no tiene.",IF(T13>$C13," * La variable No binarie No puede ser mayor al Total.","")) | CG13: =IF(AND($C13>0,U13="")," * No olvide digitar la variable Personas con discapacidad. Digite Cero si no tiene.",IF(U13>$C13," *La variable Personas con discapacidad No puede ser mayor al Total.","")) | CH13: =IF(AND($C13>0,V13="")," * No olvide digitar la variable Pueblos Originarios. Digite Cero si no tiene.",IF(V13>$C13," *La variable Pueblos Originarios No puede ser mayor al Total.","")) | CI13: =IF(AND($D13+E13+F13>0,W13="")," * No olvide digitar la variable Migrantes Menor de 20 años. Digite Cero si no tiene.",IF(W13>$D13+E13+F13," * La variable Migrantes Menor de 20 años No puede ser mayor a la suma del grupo Migrantes Menor de 20 años.","")) | CJ13: =IF(AND($H13+I13+J13+K13+L13+M13+N13>0,X13="")," * No olvide digitar la variable Migrantes 20 y más años. Digite Cero si no tiene.",IF(H13+I13+J13+K13+L13+M13+N13<$X13," * La variable Migrantes 20 y más años No puede ser mayor a la suma del grupo Migrantes 20 y más años.","")) | CO13: =IF(AND($C13>0,O13=""),1,IF(O13>$C13,1,0)) -> 0 | CP13: =IF(AND($C13>0,P13=""),1,IF(P13>$C13,1,0)) -> 0 | CQ13: =IF(AND($C13>0,Q13=""),1,IF(Q13>$C13,1,0)) -> 0 | CR13: =IF(R13>$E13+D13,1,0) -> 0 | CS13: =IF(AND($C13>0,S13=""),1,IF(S13>$C13,1,0)) -> 0 | CT13: =IF(AND($C13>0,T13=""),1,IF(T13>$C13,1,0)) -> 0 | CU13: =IF(AND($C13>0,U13=""),1,IF(U13>$C13,1,0)) -> 0 | CV13: =IF(AND($C13>0,V13=""),1,IF(V13>$C13,1,0)) -> 0 | CW13: =IF(AND(D13+E13+F13>0,W13=""),1,IF(W13>D13+E13+F13,1,0)) -> 0 | CX13: =IF(AND($H13+I13+J13+K13+L13+M13+N3>0,X13=""),1,IF(H13+I13+J13+K13+L13+M13+N13<X13,1,0)) -> 0
A14: Gestantes con Embarazo no Planificado | C14: =SUM(D14:N14) -> 0 | Y14: =CA14&CB14&CC14&CD14&CE14&CF14&CG14&CH14&CI14&CJ14 | CA14: =IF(AND($C14>0,O14="")," * No olvide digitar la variable Víctima de Violencia de Género. Digite Cero si no tiene.",IF(O14>$C14," * La variable Víctima de Violencia de Género No puede ser mayor al Total.","")) | CB14: =IF(AND(C14>0,P14="")," * No olvide digitar la variable Ingresos por Traslados. Digite Cero si no tiene.",IF(P14>C14," * La variable Ingresos por Traslados No puede ser mayor al Total.","")) | CC14: =IF(AND($C14>0,Q14="")," * No olvide digitar la variable Ingresos con Control Precoz Extrasistema. Digite Cero si no tiene.",IF(Q14>$C14," * La variable Ingresos con Control Precoz Extrasistema No puede ser mayor al Total.","")) | CD14: =IF(AND($C14>0,R14="")," * No olvide digitar la variable Derivación por IVE causal 3 <14 años. Digite Cero si no tiene.",IF(R14>$C14," * La variable Derivación por IVE causal 3 <14 años No puede ser mayor al Total.","")) | CE14: =IF(AND($C14>0,S14="")," * No olvide digitar la variable Trans masculino. Digite Cero si no tiene.",IF(S14>$C14," * La variable Trans masculino No puede ser mayor al Total.","")) | CF14: =IF(AND($C14>0,T14="")," * No olvide digitar la variable No binarie. Digite Cero si no tiene.",IF(T14>$C14," * La variable No binarie No puede ser mayor al Total.","")) | CG14: =IF(AND($C14>0,U14="")," * No olvide digitar la variable Personas con discapacidad. Digite Cero si no tiene.",IF(U14>$C14," *La variable Personas con discapacidad No puede ser mayor al Total.","")) | CH14: =IF(AND($C14>0,V14="")," * No olvide digitar la variable Pueblos Originarios. Digite Cero si no tiene.",IF(V14>$C14," *La variable Pueblos Originarios No puede ser mayor al Total.","")) | CI14: =IF(AND($D14+E14+F14>0,W14="")," * No olvide digitar la variable Migrantes Menor de 20 años. Digite Cero si no tiene.",IF(W14>$D14+E14+F14," * La variable Migrantes Menor de 20 años No puede ser mayor a la suma del grupo Migrantes Menor de 20 años.","")) | CJ14: =IF(AND($H14+I14+J14+K14+L14+M14+N14>0,X14="")," * No olvide digitar la variable Migrantes 20 y más años. Digite Cero si no tiene.",IF(H14+I14+J14+K14+L14+M14+N14<$X14," * La variable Migrantes 20 y más años No puede ser mayor a la suma del grupo Migrantes 20 y más años.","")) | CO14: =IF(AND($C14>0,O14=""),1,IF(O14>$C14,1,0)) -> 0 | CP14: =IF(AND($C14>0,P14=""),1,IF(P14>$C14,1,0)) -> 0 | CQ14: =IF(AND($C14>0,Q14=""),1,IF(Q14>$C14,1,0)) -> 0 | CR14: =IF(R14>$E14+D14,1,0) -> 0 | CS14: =IF(AND($C14>0,S14=""),1,IF(S14>$C14,1,0)) -> 0 | CT14: =IF(AND($C14>0,T14=""),1,IF(T14>$C14,1,0)) -> 0 | CU14: =IF(AND($C14>0,U14=""),1,IF(U14>$C14,1,0)) -> 0 | CV14: =IF(AND($C14>0,V14=""),1,IF(V14>$C14,1,0)) -> 0 | CW14: =IF(AND(D14+E14+F14>0,W14=""),1,IF(W14>D14+E14+F14,1,0)) -> 0 | CX14: =IF(AND($H14+I14+J14+K14+L14+M14+N4>0,X14=""),1,IF(H14+I14+J14+K14+L14+M14+N14<X14,1,0)) -> 0
A15: SECCIÓN B: INGRESO DE GESTANTES CON PATOLOGÍA DE ALTO RIESGO OBSTÉTRICO A LA UNIDAD DE ARO (Nivel Secundario)
A16: PATOLOGÍA | C16: Nº de Ingreso a ARO | D16: Víctima de violencia de género | E16: Pueblos Originarios | F16: Migrantes
A18: Nº de Gestantes Ingresadas | C18: =SUM(ENERO:DICIEMBRE!C18) -> 1203 | D18: =SUM(ENERO:DICIEMBRE!D18) -> 1 | E18: =SUM(ENERO:DICIEMBRE!E18) -> 8 | F18: =SUM(ENERO:DICIEMBRE!F18) -> 92 | G18: =CA18&CB18&CC18 | CA18: =IF(AND($C18>0,$D18="")," * No olvide digitar la variable "&$D$16&""&". Digite Cero si no tiene.",IF(D18>C18," ** La variable Víctima de violencia de género No puede ser mayor al "&$C$16&""&" .","")) | CB18: =IF(AND(C18>0,E18="")," * No olvide digitar la "&$E$16&""&" . Digite Cero si no tiene.",IF(E18>C18," * La variable Pueblos originarios No puede ser mayor al "&$C$16&""&" .","")) | CC18: =IF(AND(C18>0,F18="")," * No olvide digitar la "&$F$16&""&" . Digite Cero si no tiene.",IF(F18>C18," * La variable Migrantes No puede ser mayor al "&$C$16&""&" .","")) | CO18: =IF(AND(C18>0,D18=""),1,IF(D18>C18,1,0)) -> 0 | CP18: =IF(AND(C18>0,E18=""),1,IF(E18>C18,1,0)) -> 0 | CQ18: =IF(AND(C18>0,F18=""),1,IF(F18>C18,1,0)) -> 0
A19: Preeclampsia (PE) | C19: =SUM(ENERO:DICIEMBRE!C19) -> 3 | D19: =SUM(ENERO:DICIEMBRE!D19) -> 0 | E19: =SUM(ENERO:DICIEMBRE!E19) -> 0 | F19: =SUM(ENERO:DICIEMBRE!F19) -> 2 | G19: =CA19&CB19&CC19 | CA19: =IF(AND($C19>0,$D19="")," * No olvide digitar la variable "&$D$16&""&". Digite Cero si no tiene.",IF(D19>C19," ** La variable Víctima de violencia de género No puede ser mayor al "&$C$16&""&" .","")) | CB19: =IF(AND(C19>0,E19="")," * No olvide digitar la "&$E$16&""&" . Digite Cero si no tiene.",IF(E19>C19," * La variable Pueblos originarios No puede ser mayor al "&$C$16&""&" .","")) | CC19: =IF(AND(C19>0,F19="")," * No olvide digitar la "&$F$16&""&" . Digite Cero si no tiene.",IF(F19>C19," * La variable Migrantes No puede ser mayor al "&$C$16&""&" .","")) | CO19: =IF(AND(C19>0,D19=""),1,IF(D19>C19,1,0)) -> 0 | CP19: =IF(AND(C19>0,E19=""),1,IF(E19>C19,1,0)) -> 0 | CQ19: =IF(AND(C19>0,F19=""),1,IF(F19>C19,1,0)) -> 0
A20: Síndrome Hipertensivo del Embarazo (SHE) | C20: =SUM(ENERO:DICIEMBRE!C20) -> 9 | D20: =SUM(ENERO:DICIEMBRE!D20) -> 0 | E20: =SUM(ENERO:DICIEMBRE!E20) -> 0 | F20: =SUM(ENERO:DICIEMBRE!F20) -> 0 | G20: =CA20&CB20&CC20 | CA20: =IF(AND($C20>0,$D20="")," * No olvide digitar la variable "&$D$16&""&". Digite Cero si no tiene.",IF(D20>C20," ** La variable Víctima de violencia de género No puede ser mayor al "&$C$16&""&" .","")) | CB20: =IF(AND(C20>0,E20="")," * No olvide digitar la "&$E$16&""&" . Digite Cero si no tiene.",IF(E20>C20," * La variable Pueblos originarios No puede ser mayor al "&$C$16&""&" .","")) | CC20: =IF(AND(C20>0,F20="")," * No olvide digitar la "&$F$16&""&" . Digite Cero si no tiene.",IF(F20>C20," * La variable Migrantes No puede ser mayor al "&$C$16&""&" .","")) | CO20: =IF(AND(C20>0,D20=""),1,IF(D20>C20,1,0)) -> 0 | CP20: =IF(AND(C20>0,E20=""),1,IF(E20>C20,1,0)) -> 0 | CQ20: =IF(AND(C20>0,F20=""),1,IF(F20>C20,1,0)) -> 0
A21: Factores de Riesgo y Condicionantes de Parto Prematuro | C21: =SUM(ENERO:DICIEMBRE!C21) -> 156 | D21: =SUM(ENERO:DICIEMBRE!D21) -> 1 | E21: =SUM(ENERO:DICIEMBRE!E21) -> 1 | F21: =SUM(ENERO:DICIEMBRE!F21) -> 8 | G21: =CA21&CB21&CC21 | CA21: =IF(AND($C21>0,$D21="")," * No olvide digitar la variable "&$D$16&""&". Digite Cero si no tiene.",IF(D21>C21," ** La variable Víctima de violencia de género No puede ser mayor al "&$C$16&""&" .","")) | CB21: =IF(AND(C21>0,E21="")," * No olvide digitar la "&$E$16&""&" . Digite Cero si no tiene.",IF(E21>C21," * La variable Pueblos originarios No puede ser mayor al "&$C$16&""&" .","")) | CC21: =IF(AND(C21>0,F21="")," * No olvide digitar la "&$F$16&""&" . Digite Cero si no tiene.",IF(F21>C21," * La variable Migrantes No puede ser mayor al "&$C$16&""&" .","")) | CO21: =IF(AND(C21>0,D21=""),1,IF(D21>C21,1,0)) -> 0 | CP21: =IF(AND(C21>0,E21=""),1,IF(E21>C21,1,0)) -> 0 | CQ21: =IF(AND(C21>0,F21=""),1,IF(F21>C21,1,0)) -> 0
A22: Retardo Crecimiento Intrauterino (RCIU) | C22: =SUM(ENERO:DICIEMBRE!C22) -> 30 | D22: =SUM(ENERO:DICIEMBRE!D22) -> 0 | E22: =SUM(ENERO:DICIEMBRE!E22) -> 0 | F22: =SUM(ENERO:DICIEMBRE!F22) -> 3 | G22: =CA22&CB22&CC22 | CA22: =IF(AND($C22>0,$D22="")," * No olvide digitar la variable "&$D$16&""&". Digite Cero si no tiene.",IF(D22>C22," ** La variable Víctima de violencia de género No puede ser mayor al "&$C$16&""&" .","")) | CB22: =IF(AND(C22>0,E22="")," * No olvide digitar la "&$E$16&""&" . Digite Cero si no tiene.",IF(E22>C22," * La variable Pueblos originarios No puede ser mayor al "&$C$16&""&" .","")) | CC22: =IF(AND(C22>0,F22="")," * No olvide digitar la "&$F$16&""&" . Digite Cero si no tiene.",IF(F22>C22," * La variable Migrantes No puede ser mayor al "&$C$16&""&" .","")) | CO22: =IF(AND(C22>0,D22=""),1,IF(D22>C22,1,0)) -> 0 | CP22: =IF(AND(C22>0,E22=""),1,IF(E22>C22,1,0)) -> 0 | CQ22: =IF(AND(C22>0,F22=""),1,IF(F22>C22,1,0)) -> 0
A23: SÍFILIS | C23: =SUM(ENERO:DICIEMBRE!C23) -> 4 | D23: =SUM(ENERO:DICIEMBRE!D23) -> 0 | E23: =SUM(ENERO:DICIEMBRE!E23) -> 0 | F23: =SUM(ENERO:DICIEMBRE!F23) -> 2 | G23: =CA23&CB23&CC23 | CA23: =IF(AND($C23>0,$D23="")," * No olvide digitar la variable "&$D$16&""&". Digite Cero si no tiene.",IF(D23>C23," ** La variable Víctima de violencia de género No puede ser mayor al "&$C$16&""&" .","")) | CB23: =IF(AND(C23>0,E23="")," * No olvide digitar la "&$E$16&""&" . Digite Cero si no tiene.",IF(E23>C23," * La variable Pueblos originarios No puede ser mayor al "&$C$16&""&" .","")) | CC23: =IF(AND(C23>0,F23="")," * No olvide digitar la "&$F$16&""&" . Digite Cero si no tiene.",IF(F23>C23," * La variable Migrantes No puede ser mayor al "&$C$16&""&" .","")) | CO23: =IF(AND(C23>0,D23=""),1,IF(D23>C23,1,0)) -> 0 | CP23: =IF(AND(C23>0,E23=""),1,IF(E23>C23,1,0)) -> 0 | CQ23: =IF(AND(C23>0,F23=""),1,IF(F23>C23,1,0)) -> 0
A24: VIH | C24: =SUM(ENERO:DICIEMBRE!C24) -> 0 | D24: =SUM(ENERO:DICIEMBRE!D24) -> 0 | E24: =SUM(ENERO:DICIEMBRE!E24) -> 0 | F24: =SUM(ENERO:DICIEMBRE!F24) -> 0 | G24: =CA24&CB24&CC24 | CA24: =IF(AND($C24>0,$D24="")," * No olvide digitar la variable "&$D$16&""&". Digite Cero si no tiene.",IF(D24>C24," ** La variable Víctima de violencia de género No puede ser mayor al "&$C$16&""&" .","")) | CB24: =IF(AND(C24>0,E24="")," * No olvide digitar la "&$E$16&""&" . Digite Cero si no tiene.",IF(E24>C24," * La variable Pueblos originarios No puede ser mayor al "&$C$16&""&" .","")) | CC24: =IF(AND(C24>0,F24="")," * No olvide digitar la "&$F$16&""&" . Digite Cero si no tiene.",IF(F24>C24," * La variable Migrantes No puede ser mayor al "&$C$16&""&" .","")) | CO24: =IF(AND(C24>0,D24=""),1,IF(D24>C24,1,0)) -> 0 | CP24: =IF(AND(C24>0,E24=""),1,IF(E24>C24,1,0)) -> 0 | CQ24: =IF(AND(C24>0,F24=""),1,IF(F24>C24,1,0)) -> 0
A25: Diabetes | C25: =SUM(ENERO:DICIEMBRE!C25) -> 22 | D25: =SUM(ENERO:DICIEMBRE!D25) -> 0 | E25: =SUM(ENERO:DICIEMBRE!E25) -> 0 | F25: =SUM(ENERO:DICIEMBRE!F25) -> 1 | G25: =CA25&CB25&CC25 | CA25: =IF(AND($C25>0,$D25="")," * No olvide digitar la variable "&$D$16&""&". Digite Cero si no tiene.",IF(D25>C25," ** La variable Víctima de violencia de género No puede ser mayor al "&$C$16&""&" .","")) | CB25: =IF(AND(C25>0,E25="")," * No olvide digitar la "&$E$16&""&" . Digite Cero si no tiene.",IF(E25>C25," * La variable Pueblos originarios No puede ser mayor al "&$C$16&""&" .","")) | CC25: =IF(AND(C25>0,F25="")," * No olvide digitar la "&$F$16&""&" . Digite Cero si no tiene.",IF(F25>C25," * La variable Migrantes No puede ser mayor al "&$C$16&""&" .","")) | CO25: =IF(AND(C25>0,D25=""),1,IF(D25>C25,1,0)) -> 0 | CP25: =IF(AND(C25>0,E25=""),1,IF(E25>C25,1,0)) -> 0 | CQ25: =IF(AND(C25>0,F25=""),1,IF(F25>C25,1,0)) -> 0
A26: Cesárea Anterior | C26: =SUM(ENERO:DICIEMBRE!C26) -> 241 | D26: =SUM(ENERO:DICIEMBRE!D26) -> 0 | E26: =SUM(ENERO:DICIEMBRE!E26) -> 3 | F26: =SUM(ENERO:DICIEMBRE!F26) -> 22 | G26: =CA26&CB26&CC26 | CA26: =IF(AND($C26>0,$D26="")," * No olvide digitar la variable "&$D$16&""&". Digite Cero si no tiene.",IF(D26>C26," ** La variable Víctima de violencia de género No puede ser mayor al "&$C$16&""&" .","")) | CB26: =IF(AND(C26>0,E26="")," * No olvide digitar la "&$E$16&""&" . Digite Cero si no tiene.",IF(E26>C26," * La variable Pueblos originarios No puede ser mayor al "&$C$16&""&" .","")) | CC26: =IF(AND(C26>0,F26="")," * No olvide digitar la "&$F$16&""&" . Digite Cero si no tiene.",IF(F26>C26," * La variable Migrantes No puede ser mayor al "&$C$16&""&" .","")) | CO26: =IF(AND(C26>0,D26=""),1,IF(D26>C26,1,0)) -> 0 | CP26: =IF(AND(C26>0,E26=""),1,IF(E26>C26,1,0)) -> 0 | CQ26: =IF(AND(C26>0,F26=""),1,IF(F26>C26,1,0)) -> 0
A27: Malformación Congénita | C27: =SUM(ENERO:DICIEMBRE!C27) -> 8 | D27: =SUM(ENERO:DICIEMBRE!D27) -> 0 | E27: =SUM(ENERO:DICIEMBRE!E27) -> 0 | F27: =SUM(ENERO:DICIEMBRE!F27) -> 1 | G27: =CA27&CB27&CC27 | CA27: =IF(AND($C27>0,$D27="")," * No olvide digitar la variable "&$D$16&""&". Digite Cero si no tiene.",IF(D27>C27," ** La variable Víctima de violencia de género No puede ser mayor al "&$C$16&""&" .","")) | CB27: =IF(AND(C27>0,E27="")," * No olvide digitar la "&$E$16&""&" . Digite Cero si no tiene.",IF(E27>C27," * La variable Pueblos originarios No puede ser mayor al "&$C$16&""&" .","")) | CC27: =IF(AND(C27>0,F27="")," * No olvide digitar la "&$F$16&""&" . Digite Cero si no tiene.",IF(F27>C27," * La variable Migrantes No puede ser mayor al "&$C$16&""&" .","")) | CO27: =IF(AND(C27>0,D27=""),1,IF(D27>C27,1,0)) -> 0 | CP27: =IF(AND(C27>0,E27=""),1,IF(E27>C27,1,0)) -> 0 | CQ27: =IF(AND(C27>0,F27=""),1,IF(F27>C27,1,0)) -> 0
A28: Hipotiroidismo | C28: =SUM(ENERO:DICIEMBRE!C28) -> 40 | D28: =SUM(ENERO:DICIEMBRE!D28) -> 0 | E28: =SUM(ENERO:DICIEMBRE!E28) -> 0 | F28: =SUM(ENERO:DICIEMBRE!F28) -> 2 | G28: =CA28&CB28&CC28 | CA28: =IF(AND($C28>0,$D28="")," * No olvide digitar la variable "&$D$16&""&". Digite Cero si no tiene.",IF(D28>C28," ** La variable Víctima de violencia de género No puede ser mayor al "&$C$16&""&" .","")) | CB28: =IF(AND(C28>0,E28="")," * No olvide digitar la "&$E$16&""&" . Digite Cero si no tiene.",IF(E28>C28," * La variable Pueblos originarios No puede ser mayor al "&$C$16&""&" .","")) | CC28: =IF(AND(C28>0,F28="")," * No olvide digitar la "&$F$16&""&" . Digite Cero si no tiene.",IF(F28>C28," * La variable Migrantes No puede ser mayor al "&$C$16&""&" .","")) | CO28: =IF(AND(C28>0,D28=""),1,IF(D28>C28,1,0)) -> 0 | CP28: =IF(AND(C28>0,E28=""),1,IF(E28>C28,1,0)) -> 0 | CQ28: =IF(AND(C28>0,F28=""),1,IF(F28>C28,1,0)) -> 0
A29: Diabetes Gestacional | C29: =SUM(ENERO:DICIEMBRE!C29) -> 201 | D29: =SUM(ENERO:DICIEMBRE!D29) -> 0 | E29: =SUM(ENERO:DICIEMBRE!E29) -> 1 | F29: =SUM(ENERO:DICIEMBRE!F29) -> 11 | G29: =CA29&CB29&CC29 | CA29: =IF(AND($C29>0,$D29="")," * No olvide digitar la variable "&$D$16&""&". Digite Cero si no tiene.",IF(D29>C29," ** La variable Víctima de violencia de género No puede ser mayor al "&$C$16&""&" .","")) | CB29: =IF(AND(C29>0,E29="")," * No olvide digitar la "&$E$16&""&" . Digite Cero si no tiene.",IF(E29>C29," * La variable Pueblos originarios No puede ser mayor al "&$C$16&""&" .","")) | CC29: =IF(AND(C29>0,F29="")," * No olvide digitar la "&$F$16&""&" . Digite Cero si no tiene.",IF(F29>C29," * La variable Migrantes No puede ser mayor al "&$C$16&""&" .","")) | CO29: =IF(AND(C29>0,D29=""),1,IF(D29>C29,1,0)) -> 0 | CP29: =IF(AND(C29>0,E29=""),1,IF(E29>C29,1,0)) -> 0 | CQ29: =IF(AND(C29>0,F29=""),1,IF(F29>C29,1,0)) -> 0
... A31: Otras Patologías del Embarazo | C31: =SUM(ENERO:DICIEMBRE!C31) -> 462 | D31: =SUM(ENERO:DICIEMBRE!D31) -> 0 | E31: =SUM(ENERO:DICIEMBRE!E31) -> 3 | F31: =SUM(ENERO:DICIEMBRE!F31) -> 39 | G31: =CA31&CB31&CC31 | CA31: =IF(AND($C31>0,$D31="")," * No olvide digitar la variable "&$D$16&""&". Digite Cero si no tiene.",IF(D31>C31," ** La variable Víctima de violencia de género No puede ser mayor al "&$C$16&""&" .","")) | CB31: =IF(AND(C31>0,E31="")," * No olvide digitar la "&$E$16&""&" . Digite Cero si no tiene.",IF(E31>C31," * La variable Pueblos originarios No puede ser mayor al "&$C$16&""&" .","")) | CC31: =IF(AND(C31>0,F31="")," * No olvide digitar la "&$F$16&""&" . Digite Cero si no tiene.",IF(F31>C31," * La variable Migrantes No puede ser mayor al "&$C$16&""&" .","")) | CO31: =IF(AND(C31>0,D31=""),1,IF(D31>C31,1,0)) -> 0 | CP31: =IF(AND(C31>0,E31=""),1,IF(E31>C31,1,0)) -> 0 | CQ31: =IF(AND(C31>0,F31=""),1,IF(F31>C31,1,0)) -> 0
A32: SECCIÓN C: INGRESOS A PROGRAMA DE REGULACIÓN DE FERTILIDAD
A33: MÉTODOS | C33: TOTAL | D33: RANGO ETARIO | Q33: Espacios Amigables/ Adolescentes | R33: Ingreso por cambio de Método Anticonceptivo | S33: Pueblos Originarios | T33: Migrantes | V33: Inicio precoz de MAC nivel secundario y terciario | W33: Ingreso a Anticoncepción post aborto | X33: Identidad de Género | AA33: Personas con Discpacidad
D34: Menos de 15 años | E34: 15 - 19 años | F34: 20 - 24 años | G34: 25 - 29 años | H34: 30 - 34 años | I34: 35 - 39 años | J34: 40 - 44 años | K34: 45 - 49 años | L34: 50 - 54 años | M34: 55 - 59 años | N34: 60 - 64 años | O34: 65 - 69 años | P34: 70 y más años | T34: Menor de 20 años | U34: 20 y más años | X34: Trans masculino | Y34: Trans femenino | Z34: No binarie
A35: TOTAL REGULACIÓN DE FERTILIDAD | C35: =SUM(D35:P35) -> 0 | D35: =SUM(D36:D49) -> 0 | E35: =SUM(E36:E49) -> 0 | F35: =SUM(F36:F49) -> 0 | G35: =SUM(G36:G49) -> 0 | H35: =SUM(H36:H49) -> 0 | I35: =SUM(I36:I49) -> 0 | J35: =SUM(J36:J49) -> 0 | K35: =SUM(K36:K49) -> 0 | ... M35: =SUM(M36:M49) -> 0 | N35: =SUM(N36:N48) -> 0 | O35: =SUM(O36:O48) -> 0 | P35: =SUM(P36:P48) -> 0 | Q35: =SUM(Q36:Q48) -> 0 | R35: =SUM(R36:R48) -> 0 | S35: =SUM(S36:S48) -> 0 | T35: =SUM(T36:T48) -> 0 | U35: =SUM(U36:U48) -> 0 | ... AA35: =SUM(AA36:AA48) -> 0
A36: D.I.U. T con Cobre | C36: =SUM(D36:M36) -> 0 | AB36: =CA36&CB36&CC36&CD36&CE36&CF36&CG36&CH36&CI36&CJ36&CK36 | CA36: =IF(AND($C36>0,Q36="")," * No olvide digitar la variable "&$Q$33&""&". Digite Cero si no tiene.",IF(Q36>$C36," * La variable "&$Q$33&""&" no puede ser mayor al Total.","")) | CB36: =IF(AND($C36>0,R36="")," * No olvide digitar la variable "&$R$33&""&". Digite Cero si no tiene.", "") | CC36: =IF(AND($C36>0,S36="")," * No olvide digitar la variable "&$S$33&""&". Digite Cero si no tiene.",IF(S36>C36," * La variable "&$S$33&""&" no puede ser mayor al Total.","")) | CD36: =IF(AND($D36+E36>0,T36="")," * No olvide digitar la variable Migrantes "&$T$34&""&". Digite Cero si no tiene.",IF(T36>$D36+E36," * La variable Migrantes "&$T$34&""&" no puede ser mayor al Total.","")) | CE36: =IF(AND($F36+$G36+$H36+$I36+$J36+$K36+$L36+$M36>0,$U36="")," * No olvide digitar la variable Migrantes "&$U$34&""&". Digite Cero si no tiene.",IF($U36>$F36+$G36+$H36+$I36+$J36+$K36+$L36+$M36," * La variable Migrantes "&$U$34&""&" no puede ser mayor al Total.","")) | CF36: =IF(AND($C36>0,V36="")," * No olvide digitar la variable "&$V$33&""&". Digite Cero si no tiene.","") | CG36: =IF(AND($C36>0,W36="")," * No olvide digitar la variable "&$W$33&""&". Digite Cero si no tiene.",IF(W36>$C36," * La variable "&$W$33&""&" no puede ser mayor al Total.","")) | CH36: =IF(AND($C36>0,X36="")," * No olvide digitar la variable "&$X$34&""&". Digite Cero si no tiene.",IF(X36>$C36," * La variable "&$X$34&""&" no puede ser mayor al Total.","")) | CI36: =IF(AND($C36>0,Y36="")," * No olvide digitar la variable "&$Y$34&""&". Digite Cero si no tiene.",IF(Y36>$C36," * La variable "&$Y$34&""&" no puede ser mayor al Total.","")) | CJ36: =IF(AND($C36>0,Z36="")," * No olvide digitar la variable "&$Z$34&""&". Digite Cero si no tiene.",IF(Z36>$C36," * La variable "&$Z$34&""&" no puede ser mayor al Total.","")) | CK36: =IF(AND($C36>0,AA36="")," * No olvide digitar la variable "&$AA$33&""&". Digite Cero si no tiene.",IF(AA36>$C36," * La variable "&$AA$33&""&" no puede ser mayor al Total.","")) | CO36: =IF(AND($C36>0,Q36=""),1,IF(Q36>$C36,1,0)) -> 0 | CP36: =IF(AND($C36>0,R36=""),1,IF(R36>$C36,1,0)) -> 0 | CQ36: =IF(AND($C36>0,S36=""),1,IF(S36>$C36,1,0)) -> 0 | CR36: =IF(AND($D36+$E36>0,$T36=""),1,IF(T36>$D36+$E36,1,0)) -> 0 | CS36: =IF(AND($F36+$G36+$H36+$I36+$J36+$K36+$L36+$M36>0,$U36=""),1,IF($U36>$F36+$G36+$H36+$I36+$J36+$K36+$L36+$M36,1,0)) -> 0 | CT36: =IF(AND($C36>0,V36=""),1,0) -> 0 | CU36: =IF(AND($C36>0,W36=""),1,IF(W36>$C36,1,0)) -> 0 | CV36: =IF(AND($C36>0,X36=""),1,IF(X36>$C36,1,0)) -> 0 | CW36: =IF(AND($C36>0,Y36=""),1,IF(Y36>$C36,1,0)) -> 0 | CX36: =IF(AND($C36>0,Z36=""),1,IF(Z36>$C36,1,0)) -> 0 | CY36: =IF(AND($C36>0,AA36=""),1,IF(AA36>$C36,1,0)) -> 0
A37: D.I.U. con Levonorgestrel | C37: =SUM(D37:M37) -> 0 | AB37: =CA37&CB37&CC37&CD37&CE37&CF37&CG37&CH37&CI37&CJ37&CK37 | CA37: =IF(AND($C37>0,Q37="")," * No olvide digitar la variable "&$Q$33&""&". Digite Cero si no tiene.",IF(Q37>$C37," * La variable "&$Q$33&""&" no puede ser mayor al Total.","")) | CB37: =IF(AND($C37>0,R37="")," * No olvide digitar la variable "&$R$33&""&". Digite Cero si no tiene.", "") | CC37: =IF(AND($C37>0,S37="")," * No olvide digitar la variable "&$S$33&""&". Digite Cero si no tiene.",IF(S37>C37," * La variable "&$S$33&""&" no puede ser mayor al Total.","")) | CD37: =IF(AND($D37+E37>0,T37="")," * No olvide digitar la variable Migrantes "&$T$34&""&". Digite Cero si no tiene.",IF(T37>$D37+E37," * La variable Migrantes "&$T$34&""&" no puede ser mayor al Total.","")) | CE37: =IF(AND($F37+$G37+$H37+$I37+$J37+$K37+$L37+$M37>0,$U37="")," * No olvide digitar la variable Migrantes "&$U$34&""&". Digite Cero si no tiene.",IF($U37>$F37+$G37+$H37+$I37+$J37+$K37+$L37+$M37," * La variable Migrantes "&$U$34&""&" no puede ser mayor al Total.","")) | CF37: =IF(AND($C37>0,V37="")," * No olvide digitar la variable "&$V$33&""&". Digite Cero si no tiene.","") | CG37: =IF(AND($C37>0,W37="")," * No olvide digitar la variable "&$W$33&""&". Digite Cero si no tiene.",IF(W37>$C37," * La variable "&$W$33&""&" no puede ser mayor al Total.","")) | CH37: =IF(AND($C37>0,X37="")," * No olvide digitar la variable "&$X$34&""&". Digite Cero si no tiene.",IF(X37>$C37," * La variable "&$X$34&""&" no puede ser mayor al Total.","")) | CI37: =IF(AND($C37>0,Y37="")," * No olvide digitar la variable "&$Y$34&""&". Digite Cero si no tiene.",IF(Y37>$C37," * La variable "&$Y$34&""&" no puede ser mayor al Total.","")) | CJ37: =IF(AND($C37>0,Z37="")," * No olvide digitar la variable "&$Z$34&""&". Digite Cero si no tiene.",IF(Z37>$C37," * La variable "&$Z$34&""&" no puede ser mayor al Total.","")) | CK37: =IF(AND($C37>0,AA37="")," * No olvide digitar la variable "&$AA$33&""&". Digite Cero si no tiene.",IF(AA37>$C37," * La variable "&$AA$33&""&" no puede ser mayor al Total.","")) | CO37: =IF(AND($C37>0,Q37=""),1,IF(Q37>$C37,1,0)) -> 0 | CP37: =IF(AND($C37>0,R37=""),1,IF(R37>$C37,1,0)) -> 0 | CQ37: =IF(AND($C37>0,S37=""),1,IF(S37>$C37,1,0)) -> 0 | CR37: =IF(AND($D37+$E37>0,$T37=""),1,IF(T37>$D37+$E37,1,0)) -> 0 | CS37: =IF(AND($F37+$G37+$H37+$I37+$J37+$K37+$L37+$M37>0,$U37=""),1,IF($U37>$F37+$G37+$H37+$I37+$J37+$K37+$L37+$M37,1,0)) -> 0 | CT37: =IF(AND($C37>0,V37=""),1,0) -> 0 | CU37: =IF(AND($C37>0,W37=""),1,IF(W37>$C37,1,0)) -> 0 | CV37: =IF(AND($C37>0,X37=""),1,IF(X37>$C37,1,0)) -> 0 | CW37: =IF(AND($C37>0,Y37=""),1,IF(Y37>$C37,1,0)) -> 0 | CX37: =IF(AND($C37>0,Z37=""),1,IF(Z37>$C37,1,0)) -> 0 | CY37: =IF(AND($C37>0,AA37=""),1,IF(AA37>$C37,1,0)) -> 0
A38: Hormonal | B38: Oral Combinado | C38: =SUM(D38:M38) -> 0 | AB38: =CA38&CB38&CC38&CD38&CE38&CF38&CG38&CH38&CI38&CJ38&CK38 | CA38: =IF(AND($C38>0,Q38="")," * No olvide digitar la variable "&$Q$33&""&". Digite Cero si no tiene.",IF(Q38>$C38," * La variable "&$Q$33&""&" no puede ser mayor al Total.","")) | CB38: =IF(AND($C38>0,R38="")," * No olvide digitar la variable "&$R$33&""&". Digite Cero si no tiene.", "") | CC38: =IF(AND($C38>0,S38="")," * No olvide digitar la variable "&$S$33&""&". Digite Cero si no tiene.",IF(S38>C38," * La variable "&$S$33&""&" no puede ser mayor al Total.","")) | CD38: =IF(AND($D38+E38>0,T38="")," * No olvide digitar la variable Migrantes "&$T$34&""&". Digite Cero si no tiene.",IF(T38>$D38+E38," * La variable Migrantes "&$T$34&""&" no puede ser mayor al Total.","")) | CE38: =IF(AND($F38+$G38+$H38+$I38+$J38+$K38+$L38+$M38>0,$U38="")," * No olvide digitar la variable Migrantes "&$U$34&""&". Digite Cero si no tiene.",IF($U38>$F38+$G38+$H38+$I38+$J38+$K38+$L38+$M38," * La variable Migrantes "&$U$34&""&" no puede ser mayor al Total.","")) | CF38: =IF(AND($C38>0,V38="")," * No olvide digitar la variable "&$V$33&""&". Digite Cero si no tiene.","") | CG38: =IF(AND($C38>0,W38="")," * No olvide digitar la variable "&$W$33&""&". Digite Cero si no tiene.",IF(W38>$C38," * La variable "&$W$33&""&" no puede ser mayor al Total.","")) | CH38: =IF(AND($C38>0,X38="")," * No olvide digitar la variable "&$X$34&""&". Digite Cero si no tiene.",IF(X38>$C38," * La variable "&$X$34&""&" no puede ser mayor al Total.","")) | CI38: =IF(AND($C38>0,Y38="")," * No olvide digitar la variable "&$Y$34&""&". Digite Cero si no tiene.",IF(Y38>$C38," * La variable "&$Y$34&""&" no puede ser mayor al Total.","")) | CJ38: =IF(AND($C38>0,Z38="")," * No olvide digitar la variable "&$Z$34&""&". Digite Cero si no tiene.",IF(Z38>$C38," * La variable "&$Z$34&""&" no puede ser mayor al Total.","")) | CK38: =IF(AND($C38>0,AA38="")," * No olvide digitar la variable "&$AA$33&""&". Digite Cero si no tiene.",IF(AA38>$C38," * La variable "&$AA$33&""&" no puede ser mayor al Total.","")) | CO38: =IF(AND($C38>0,Q38=""),1,IF(Q38>$C38,1,0)) -> 0 | CP38: =IF(AND($C38>0,R38=""),1,IF(R38>$C38,1,0)) -> 0 | CQ38: =IF(AND($C38>0,S38=""),1,IF(S38>$C38,1,0)) -> 0 | CR38: =IF(AND($D38+$E38>0,$T38=""),1,IF(T38>$D38+$E38,1,0)) -> 0 | CS38: =IF(AND($F38+$G38+$H38+$I38+$J38+$K38+$L38+$M38>0,$U38=""),1,IF($U38>$F38+$G38+$H38+$I38+$J38+$K38+$L38+$M38,1,0)) -> 0 | CT38: =IF(AND($C38>0,V38=""),1,0) -> 0 | CU38: =IF(AND($C38>0,W38=""),1,IF(W38>$C38,1,0)) -> 0 | CV38: =IF(AND($C38>0,X38=""),1,IF(X38>$C38,1,0)) -> 0 | CW38: =IF(AND($C38>0,Y38=""),1,IF(Y38>$C38,1,0)) -> 0 | CX38: =IF(AND($C38>0,Z38=""),1,IF(Z38>$C38,1,0)) -> 0 | CY38: =IF(AND($C38>0,AA38=""),1,IF(AA38>$C38,1,0)) -> 0
B39: Oral Progestágeno | C39: =SUM(D39:M39) -> 0 | AB39: =CA39&CB39&CC39&CD39&CE39&CF39&CG39&CH39&CI39&CJ39&CK39 | CA39: =IF(AND($C39>0,Q39="")," * No olvide digitar la variable "&$Q$33&""&". Digite Cero si no tiene.",IF(Q39>$C39," * La variable "&$Q$33&""&" no puede ser mayor al Total.","")) | CB39: =IF(AND($C39>0,R39="")," * No olvide digitar la variable "&$R$33&""&". Digite Cero si no tiene.", "") | CC39: =IF(AND($C39>0,S39="")," * No olvide digitar la variable "&$S$33&""&". Digite Cero si no tiene.",IF(S39>C39," * La variable "&$S$33&""&" no puede ser mayor al Total.","")) | CD39: =IF(AND($D39+E39>0,T39="")," * No olvide digitar la variable Migrantes "&$T$34&""&". Digite Cero si no tiene.",IF(T39>$D39+E39," * La variable Migrantes "&$T$34&""&" no puede ser mayor al Total.","")) | CE39: =IF(AND($F39+$G39+$H39+$I39+$J39+$K39+$L39+$M39>0,$U39="")," * No olvide digitar la variable Migrantes "&$U$34&""&". Digite Cero si no tiene.",IF($U39>$F39+$G39+$H39+$I39+$J39+$K39+$L39+$M39," * La variable Migrantes "&$U$34&""&" no puede ser mayor al Total.","")) | CF39: =IF(AND($C39>0,V39="")," * No olvide digitar la variable "&$V$33&""&". Digite Cero si no tiene.","") | CG39: =IF(AND($C39>0,W39="")," * No olvide digitar la variable "&$W$33&""&". Digite Cero si no tiene.",IF(W39>$C39," * La variable "&$W$33&""&" no puede ser mayor al Total.","")) | CH39: =IF(AND($C39>0,X39="")," * No olvide digitar la variable "&$X$34&""&". Digite Cero si no tiene.",IF(X39>$C39," * La variable "&$X$34&""&" no puede ser mayor al Total.","")) | CI39: =IF(AND($C39>0,Y39="")," * No olvide digitar la variable "&$Y$34&""&". Digite Cero si no tiene.",IF(Y39>$C39," * La variable "&$Y$34&""&" no puede ser mayor al Total.","")) | CJ39: =IF(AND($C39>0,Z39="")," * No olvide digitar la variable "&$Z$34&""&". Digite Cero si no tiene.",IF(Z39>$C39," * La variable "&$Z$34&""&" no puede ser mayor al Total.","")) | CK39: =IF(AND($C39>0,AA39="")," * No olvide digitar la variable "&$AA$33&""&". Digite Cero si no tiene.",IF(AA39>$C39," * La variable "&$AA$33&""&" no puede ser mayor al Total.","")) | CO39: =IF(AND($C39>0,Q39=""),1,IF(Q39>$C39,1,0)) -> 0 | CP39: =IF(AND($C39>0,R39=""),1,IF(R39>$C39,1,0)) -> 0 | CQ39: =IF(AND($C39>0,S39=""),1,IF(S39>$C39,1,0)) -> 0 | CR39: =IF(AND($D39+$E39>0,$T39=""),1,IF(T39>$D39+$E39,1,0)) -> 0 | CS39: =IF(AND($F39+$G39+$H39+$I39+$J39+$K39+$L39+$M39>0,$U39=""),1,IF($U39>$F39+$G39+$H39+$I39+$J39+$K39+$L39+$M39,1,0)) -> 0 | CT39: =IF(AND($C39>0,V39=""),1,0) -> 0 | CU39: =IF(AND($C39>0,W39=""),1,IF(W39>$C39,1,0)) -> 0 | CV39: =IF(AND($C39>0,X39=""),1,IF(X39>$C39,1,0)) -> 0 | CW39: =IF(AND($C39>0,Y39=""),1,IF(Y39>$C39,1,0)) -> 0 | CX39: =IF(AND($C39>0,Z39=""),1,IF(Z39>$C39,1,0)) -> 0 | CY39: =IF(AND($C39>0,AA39=""),1,IF(AA39>$C39,1,0)) -> 0
B40: Inyectable Combinado | C40: =SUM(D40:M40) -> 0 | AB40: =CA40&CB40&CC40&CD40&CE40&CF40&CG40&CH40&CI40&CJ40&CK40 | CA40: =IF(AND($C40>0,Q40="")," * No olvide digitar la variable "&$Q$33&""&". Digite Cero si no tiene.",IF(Q40>$C40," * La variable "&$Q$33&""&" no puede ser mayor al Total.","")) | CB40: =IF(AND($C40>0,R40="")," * No olvide digitar la variable "&$R$33&""&". Digite Cero si no tiene.", "") | CC40: =IF(AND($C40>0,S40="")," * No olvide digitar la variable "&$S$33&""&". Digite Cero si no tiene.",IF(S40>C40," * La variable "&$S$33&""&" no puede ser mayor al Total.","")) | CD40: =IF(AND($D40+E40>0,T40="")," * No olvide digitar la variable Migrantes "&$T$34&""&". Digite Cero si no tiene.",IF(T40>$D40+E40," * La variable Migrantes "&$T$34&""&" no puede ser mayor al Total.","")) | CE40: =IF(AND($F40+$G40+$H40+$I40+$J40+$K40+$L40+$M40>0,$U40="")," * No olvide digitar la variable Migrantes "&$U$34&""&". Digite Cero si no tiene.",IF($U40>$F40+$G40+$H40+$I40+$J40+$K40+$L40+$M40," * La variable Migrantes "&$U$34&""&" no puede ser mayor al Total.","")) | CF40: =IF(AND($C40>0,V40="")," * No olvide digitar la variable "&$V$33&""&". Digite Cero si no tiene.","") | CG40: =IF(AND($C40>0,W40="")," * No olvide digitar la variable "&$W$33&""&". Digite Cero si no tiene.",IF(W40>$C40," * La variable "&$W$33&""&" no puede ser mayor al Total.","")) | CH40: =IF(AND($C40>0,X40="")," * No olvide digitar la variable "&$X$34&""&". Digite Cero si no tiene.",IF(X40>$C40," * La variable "&$X$34&""&" no puede ser mayor al Total.","")) | CI40: =IF(AND($C40>0,Y40="")," * No olvide digitar la variable "&$Y$34&""&". Digite Cero si no tiene.",IF(Y40>$C40," * La variable "&$Y$34&""&" no puede ser mayor al Total.","")) | CJ40: =IF(AND($C40>0,Z40="")," * No olvide digitar la variable "&$Z$34&""&". Digite Cero si no tiene.",IF(Z40>$C40," * La variable "&$Z$34&""&" no puede ser mayor al Total.","")) | CK40: =IF(AND($C40>0,AA40="")," * No olvide digitar la variable "&$AA$33&""&". Digite Cero si no tiene.",IF(AA40>$C40," * La variable "&$AA$33&""&" no puede ser mayor al Total.","")) | CO40: =IF(AND($C40>0,Q40=""),1,IF(Q40>$C40,1,0)) -> 0 | CP40: =IF(AND($C40>0,R40=""),1,IF(R40>$C40,1,0)) -> 0 | CQ40: =IF(AND($C40>0,S40=""),1,IF(S40>$C40,1,0)) -> 0 | CR40: =IF(AND($D40+$E40>0,$T40=""),1,IF(T40>$D40+$E40,1,0)) -> 0 | CS40: =IF(AND($F40+$G40+$H40+$I40+$J40+$K40+$L40+$M40>0,$U40=""),1,IF($U40>$F40+$G40+$H40+$I40+$J40+$K40+$L40+$M40,1,0)) -> 0 | CT40: =IF(AND($C40>0,V40=""),1,0) -> 0 | CU40: =IF(AND($C40>0,W40=""),1,IF(W40>$C40,1,0)) -> 0 | CV40: =IF(AND($C40>0,X40=""),1,IF(X40>$C40,1,0)) -> 0 | CW40: =IF(AND($C40>0,Y40=""),1,IF(Y40>$C40,1,0)) -> 0 | CX40: =IF(AND($C40>0,Z40=""),1,IF(Z40>$C40,1,0)) -> 0 | CY40: =IF(AND($C40>0,AA40=""),1,IF(AA40>$C40,1,0)) -> 0
B41: Inyectable Progestágeno | C41: =SUM(D41:M41) -> 0 | AB41: =CA41&CB41&CC41&CD41&CE41&CF41&CG41&CH41&CI41&CJ41&CK41 | CA41: =IF(AND($C41>0,Q41="")," * No olvide digitar la variable "&$Q$33&""&". Digite Cero si no tiene.",IF(Q41>$C41," * La variable "&$Q$33&""&" no puede ser mayor al Total.","")) | CB41: =IF(AND($C41>0,R41="")," * No olvide digitar la variable "&$R$33&""&". Digite Cero si no tiene.", "") | CC41: =IF(AND($C41>0,S41="")," * No olvide digitar la variable "&$S$33&""&". Digite Cero si no tiene.",IF(S41>C41," * La variable "&$S$33&""&" no puede ser mayor al Total.","")) | CD41: =IF(AND($D41+E41>0,T41="")," * No olvide digitar la variable Migrantes "&$T$34&""&". Digite Cero si no tiene.",IF(T41>$D41+E41," * La variable Migrantes "&$T$34&""&" no puede ser mayor al Total.","")) | CE41: =IF(AND($F41+$G41+$H41+$I41+$J41+$K41+$L41+$M41>0,$U41="")," * No olvide digitar la variable Migrantes "&$U$34&""&". Digite Cero si no tiene.",IF($U41>$F41+$G41+$H41+$I41+$J41+$K41+$L41+$M41," * La variable Migrantes "&$U$34&""&" no puede ser mayor al Total.","")) | CF41: =IF(AND($C41>0,V41="")," * No olvide digitar la variable "&$V$33&""&". Digite Cero si no tiene.","") | CG41: =IF(AND($C41>0,W41="")," * No olvide digitar la variable "&$W$33&""&". Digite Cero si no tiene.",IF(W41>$C41," * La variable "&$W$33&""&" no puede ser mayor al Total.","")) | CH41: =IF(AND($C41>0,X41="")," * No olvide digitar la variable "&$X$34&""&". Digite Cero si no tiene.",IF(X41>$C41," * La variable "&$X$34&""&" no puede ser mayor al Total.","")) | CI41: =IF(AND($C41>0,Y41="")," * No olvide digitar la variable "&$Y$34&""&". Digite Cero si no tiene.",IF(Y41>$C41," * La variable "&$Y$34&""&" no puede ser mayor al Total.","")) | CJ41: =IF(AND($C41>0,Z41="")," * No olvide digitar la variable "&$Z$34&""&". Digite Cero si no tiene.",IF(Z41>$C41," * La variable "&$Z$34&""&" no puede ser mayor al Total.","")) | CK41: =IF(AND($C41>0,AA41="")," * No olvide digitar la variable "&$AA$33&""&". Digite Cero si no tiene.",IF(AA41>$C41," * La variable "&$AA$33&""&" no puede ser mayor al Total.","")) | CO41: =IF(AND($C41>0,Q41=""),1,IF(Q41>$C41,1,0)) -> 0 | CP41: =IF(AND($C41>0,R41=""),1,IF(R41>$C41,1,0)) -> 0 | CQ41: =IF(AND($C41>0,S41=""),1,IF(S41>$C41,1,0)) -> 0 | CR41: =IF(AND($D41+$E41>0,$T41=""),1,IF(T41>$D41+$E41,1,0)) -> 0 | CS41: =IF(AND($F41+$G41+$H41+$I41+$J41+$K41+$L41+$M41>0,$U41=""),1,IF($U41>$F41+$G41+$H41+$I41+$J41+$K41+$L41+$M41,1,0)) -> 0 | CT41: =IF(AND($C41>0,V41=""),1,0) -> 0 | CU41: =IF(AND($C41>0,W41=""),1,IF(W41>$C41,1,0)) -> 0 | CV41: =IF(AND($C41>0,X41=""),1,IF(X41>$C41,1,0)) -> 0 | CW41: =IF(AND($C41>0,Y41=""),1,IF(Y41>$C41,1,0)) -> 0 | CX41: =IF(AND($C41>0,Z41=""),1,IF(Z41>$C41,1,0)) -> 0 | CY41: =IF(AND($C41>0,AA41=""),1,IF(AA41>$C41,1,0)) -> 0
B42: Implante Etonogestrel (3 años) | C42: =SUM(D42:M42) -> 0 | AB42: =CA42&CB42&CC42&CD42&CE42&CF42&CG42&CH42&CI42&CJ42&CK42 | CA42: =IF(AND($C42>0,Q42="")," * No olvide digitar la variable "&$Q$33&""&". Digite Cero si no tiene.",IF(Q42>$C42," * La variable "&$Q$33&""&" no puede ser mayor al Total.","")) | CB42: =IF(AND($C42>0,R42="")," * No olvide digitar la variable "&$R$33&""&". Digite Cero si no tiene.", "") | CC42: =IF(AND($C42>0,S42="")," * No olvide digitar la variable "&$S$33&""&". Digite Cero si no tiene.",IF(S42>C42," * La variable "&$S$33&""&" no puede ser mayor al Total.","")) | CD42: =IF(AND($D42+E42>0,T42="")," * No olvide digitar la variable Migrantes "&$T$34&""&". Digite Cero si no tiene.",IF(T42>$D42+E42," * La variable Migrantes "&$T$34&""&" no puede ser mayor al Total.","")) | CE42: =IF(AND($F42+$G42+$H42+$I42+$J42+$K42+$L42+$M42>0,$U42="")," * No olvide digitar la variable Migrantes "&$U$34&""&". Digite Cero si no tiene.",IF($U42>$F42+$G42+$H42+$I42+$J42+$K42+$L42+$M42," * La variable Migrantes "&$U$34&""&" no puede ser mayor al Total.","")) | CF42: =IF(AND($C42>0,V42="")," * No olvide digitar la variable "&$V$33&""&". Digite Cero si no tiene.","") | CG42: =IF(AND($C42>0,W42="")," * No olvide digitar la variable "&$W$33&""&". Digite Cero si no tiene.",IF(W42>$C42," * La variable "&$W$33&""&" no puede ser mayor al Total.","")) | CH42: =IF(AND($C42>0,X42="")," * No olvide digitar la variable "&$X$34&""&". Digite Cero si no tiene.",IF(X42>$C42," * La variable "&$X$34&""&" no puede ser mayor al Total.","")) | CI42: =IF(AND($C42>0,Y42="")," * No olvide digitar la variable "&$Y$34&""&". Digite Cero si no tiene.",IF(Y42>$C42," * La variable "&$Y$34&""&" no puede ser mayor al Total.","")) | CJ42: =IF(AND($C42>0,Z42="")," * No olvide digitar la variable "&$Z$34&""&". Digite Cero si no tiene.",IF(Z42>$C42," * La variable "&$Z$34&""&" no puede ser mayor al Total.","")) | CK42: =IF(AND($C42>0,AA42="")," * No olvide digitar la variable "&$AA$33&""&". Digite Cero si no tiene.",IF(AA42>$C42," * La variable "&$AA$33&""&" no puede ser mayor al Total.","")) | CO42: =IF(AND($C42>0,Q42=""),1,IF(Q42>$C42,1,0)) -> 0 | CP42: =IF(AND($C42>0,R42=""),1,IF(R42>$C42,1,0)) -> 0 | CQ42: =IF(AND($C42>0,S42=""),1,IF(S42>$C42,1,0)) -> 0 | CR42: =IF(AND($D42+$E42>0,$T42=""),1,IF(T42>$D42+$E42,1,0)) -> 0 | CS42: =IF(AND($F42+$G42+$H42+$I42+$J42+$K42+$L42+$M42>0,$U42=""),1,IF($U42>$F42+$G42+$H42+$I42+$J42+$K42+$L42+$M42,1,0)) -> 0 | CT42: =IF(AND($C42>0,V42=""),1,0) -> 0 | CU42: =IF(AND($C42>0,W42=""),1,IF(W42>$C42,1,0)) -> 0 | CV42: =IF(AND($C42>0,X42=""),1,IF(X42>$C42,1,0)) -> 0 | CW42: =IF(AND($C42>0,Y42=""),1,IF(Y42>$C42,1,0)) -> 0 | CX42: =IF(AND($C42>0,Z42=""),1,IF(Z42>$C42,1,0)) -> 0 | CY42: =IF(AND($C42>0,AA42=""),1,IF(AA42>$C42,1,0)) -> 0
B43: Implante Levonorgestrel (5 años) | C43: =SUM(D43:M43) -> 0 | AB43: =CA43&CB43&CC43&CD43&CE43&CF43&CG43&CH43&CI43&CJ43&CK43 | CA43: =IF(AND($C43>0,Q43="")," * No olvide digitar la variable "&$Q$33&""&". Digite Cero si no tiene.",IF(Q43>$C43," * La variable "&$Q$33&""&" no puede ser mayor al Total.","")) | CB43: =IF(AND($C43>0,R43="")," * No olvide digitar la variable "&$R$33&""&". Digite Cero si no tiene.", "") | CC43: =IF(AND($C43>0,S43="")," * No olvide digitar la variable "&$S$33&""&". Digite Cero si no tiene.",IF(S43>C43," * La variable "&$S$33&""&" no puede ser mayor al Total.","")) | CD43: =IF(AND($D43+E43>0,T43="")," * No olvide digitar la variable Migrantes "&$T$34&""&". Digite Cero si no tiene.",IF(T43>$D43+E43," * La variable Migrantes "&$T$34&""&" no puede ser mayor al Total.","")) | CE43: =IF(AND($F43+$G43+$H43+$I43+$J43+$K43+$L43+$M43>0,$U43="")," * No olvide digitar la variable Migrantes "&$U$34&""&". Digite Cero si no tiene.",IF($U43>$F43+$G43+$H43+$I43+$J43+$K43+$L43+$M43," * La variable Migrantes "&$U$34&""&" no puede ser mayor al Total.","")) | CF43: =IF(AND($C43>0,V43="")," * No olvide digitar la variable "&$V$33&""&". Digite Cero si no tiene.","") | CG43: =IF(AND($C43>0,W43="")," * No olvide digitar la variable "&$W$33&""&". Digite Cero si no tiene.",IF(W43>$C43," * La variable "&$W$33&""&" no puede ser mayor al Total.","")) | CH43: =IF(AND($C43>0,X43="")," * No olvide digitar la variable "&$X$34&""&". Digite Cero si no tiene.",IF(X43>$C43," * La variable "&$X$34&""&" no puede ser mayor al Total.","")) | CI43: =IF(AND($C43>0,Y43="")," * No olvide digitar la variable "&$Y$34&""&". Digite Cero si no tiene.",IF(Y43>$C43," * La variable "&$Y$34&""&" no puede ser mayor al Total.","")) | CJ43: =IF(AND($C43>0,Z43="")," * No olvide digitar la variable "&$Z$34&""&". Digite Cero si no tiene.",IF(Z43>$C43," * La variable "&$Z$34&""&" no puede ser mayor al Total.","")) | CK43: =IF(AND($C43>0,AA43="")," * No olvide digitar la variable "&$AA$33&""&". Digite Cero si no tiene.",IF(AA43>$C43," * La variable "&$AA$33&""&" no puede ser mayor al Total.","")) | CO43: =IF(AND($C43>0,Q43=""),1,IF(Q43>$C43,1,0)) -> 0 | CP43: =IF(AND($C43>0,R43=""),1,IF(R43>$C43,1,0)) -> 0 | CQ43: =IF(AND($C43>0,S43=""),1,IF(S43>$C43,1,0)) -> 0 | CR43: =IF(AND($D43+$E43>0,$T43=""),1,IF(T43>$D43+$E43,1,0)) -> 0 | CS43: =IF(AND($F43+$G43+$H43+$I43+$J43+$K43+$L43+$M43>0,$U43=""),1,IF($U43>$F43+$G43+$H43+$I43+$J43+$K43+$L43+$M43,1,0)) -> 0 | CT43: =IF(AND($C43>0,V43=""),1,0) -> 0 | CU43: =IF(AND($C43>0,W43=""),1,IF(W43>$C43,1,0)) -> 0 | CV43: =IF(AND($C43>0,X43=""),1,IF(X43>$C43,1,0)) -> 0 | CW43: =IF(AND($C43>0,Y43=""),1,IF(Y43>$C43,1,0)) -> 0 | CX43: =IF(AND($C43>0,Z43=""),1,IF(Z43>$C43,1,0)) -> 0 | CY43: =IF(AND($C43>0,AA43=""),1,IF(AA43>$C43,1,0)) -> 0
...

Sheet ENERO
A1: SERVICIO DE SALUD
A2: =CONCATENATE("COMUNA: ",[2]NOMBRE!B2," (",[2]NOMBRE!C2,[2]NOMBRE!D2,[2]NOMBRE!E2,[2]NOMBRE!F2,[2]NOMBRE!G2,")") -> COMUNA: LINARES (07401)
A3: =CONCATENATE("ESTABLECIMIENTO/ESTRATEGIA: ", [2]NOMBRE!B3," (",[2]NOMBRE!C3,[2]NOMBRE!D3,[2]NOMBRE!E3,[2]NOMBRE!F3,[2]NOMBRE!G3,[2]NOMBRE!H3,")") -> ESTABLECIMIENTO/ESTRATEGIA: HOSPITAL PRESIDENTE CARLOS IBAÑEZ DEL CAMPO (116108)
A4: =CONCATENATE("MES: ",[2]NOMBRE!B6," (",[2]NOMBRE!C6,[2]NOMBRE!D6,")") -> MES: ENERO (01)
A5: =CONCATENATE("AÑO: ",[2]NOMBRE!B7) -> AÑO: 2025
A6: REM-A05. INGRESOS Y EGRESOS POR CONDICIÓN Y PROBLEMAS DE SALUD
A8: SECCIÓN A: INGRESOS DE GESTANTES A PROGRAMA PRENATAL
A9: CONDICIÓN | C9: TOTAL | D9: RANGO ETARIO | O9: Víctima de Violencia de Género | P9: Ingresos por Traslado | Q9: Ingresos con Control Precoz Extrasistema | R9: Derivación por IVE causal 3 <14 años | S9: Identidad de género | U9: Personas con discapacidad | V9: Pueblos Originarios | W9: Migrantes
D10: Menor de 14 años | E10: 14 años | F10: 15 - 19 años | G10: 20 - 24 años | H10: 25 - 29 años | I10: 30 - 34 años | J10: 35 - 39 años | K10: 40 - 44 años | L10: 45 - 49 años | M10: 50 - 54 años | N10: 55 y más años | S10: Trans masculino | T10: No binarie | W10: Menor de 20 años | X10: 20 y más años
A11: Gestantes Ingresadas | C11: =SUM(D11:N11) -> 0 | Y11: =CA11&CB11&CC11&CD11&CE11&CF11&CG11&CH11&CI11&CJ11 | CA11: =IF(AND($C11>0,O11="")," * No olvide digitar la variable Víctima de Violencia de Género. Digite Cero si no tiene.",IF(O11>$C11," * La variable Víctima de Violencia de Género No puede ser mayor al Total.","")) | CB11: =IF(AND(C11>0,P11="")," * No olvide digitar la variable Ingresos por Traslados. Digite Cero si no tiene.",IF(P11>C11," * La variable Ingresos por Traslados No puede ser mayor al Total.","")) | CC11: =IF(AND($C11>0,Q11="")," * No olvide digitar la variable Ingresos con Control Precoz Extrasistema. Digite Cero si no tiene.",IF(Q11>$C11," * La variable Ingresos con Control Precoz Extrasistema No puede ser mayor al Total.","")) | CD11: =IF(AND($C11>0,R11="")," * No olvide digitar la variable Derivación por IVE causal 3 <14 años. Digite Cero si no tiene.",IF(R11>$C11," * La variable Derivación por IVE causal 3 <14 años No puede ser mayor al Total.","")) | CE11: =IF(AND($C11>0,S11="")," * No olvide digitar la variable Trans masculino. Digite Cero si no tiene.",IF(S11>$C11," * La variable Trans masculino No puede ser mayor al Total.","")) | CF11: =IF(AND($C11>0,T11="")," * No olvide digitar la variable No binarie. Digite Cero si no tiene.",IF(T11>$C11," * La variable No binarie No puede ser mayor al Total.","")) | CG11: =IF(AND($C11>0,U11="")," * No olvide digitar la variable Personas con discapacidad. Digite Cero si no tiene.",IF(U11>$C11," *La variable Personas con discapacidad No puede ser mayor al Total.","")) | CH11: =IF(AND($C11>0,V11="")," * No olvide digitar la variable Pueblos Originarios. Digite Cero si no tiene.",IF(V11>$C11," *La variable Pueblos Originarios No puede ser mayor al Total.","")) | CI11: =IF(AND($D11+E11+F11>0,W11="")," * No olvide digitar la variable Migrantes Menor de 20 años. Digite Cero si no tiene.",IF(W11>$D11+E11+F11," * La variable Migrantes Menor de 20 años No puede ser mayor a la suma del grupo Migrantes Menor de 20 años.","")) | CJ11: =IF(AND($H11+I11+J11+K11+L11+M11+N11>0,X11="")," * No olvide digitar la variable Migrantes 20 y más años. Digite Cero si no tiene.",IF(H11+I11+J11+K11+L11+M11+N11<$X11," * La variable Migrantes 20 y más años No puede ser mayor a la suma del grupo Migrantes 20 y más años.","")) | CO11: =IF(AND($C11>0,O11=""),1,IF(O11>$C11,1,0)) -> 0 | CP11: =IF(AND($C11>0,P11=""),1,IF(P11>$C11,1,0)) -> 0 | CQ11: =IF(AND($C11>0,Q11=""),1,IF(Q11>$C11,1,0)) -> 0 | CR11: =IF(R11>$E11+D11,1,0) -> 0 | CS11: =IF(AND($C11>0,S11=""),1,IF(S11>$C11,1,0)) -> 0 | CT11: =IF(AND($C11>0,T11=""),1,IF(T11>$C11,1,0)) -> 0 | CU11: =IF(AND($C11>0,U11=""),1,IF(U11>$C11,1,0)) -> 0 | CV11: =IF(AND($C11>0,V11=""),1,IF(V11>$C11,1,0)) -> 0 | CW11: =IF(AND(D11+E11+F11>0,W11=""),1,IF(W11>D11+E11+F11,1,0)) -> 0 | CX11: =IF(AND($H11+I11+J11+K11+L11+M11+N1>0,X11=""),1,IF(H11+I11+J11+K11+L11+M11+N11<X11,1,0)) -> 0
A12: Primigestas Ingresadas | C12: =SUM(D12:N12) -> 0 | Y12: =CA12&CB12&CC12&CD12&CE12&CF12&CG12&CH12&CI12&CJ12 | CA12: =IF(AND($C12>0,O12="")," * No olvide digitar la variable Víctima de Violencia de Género. Digite Cero si no tiene.",IF(O12>$C12," * La variable Víctima de Violencia de Género No puede ser mayor al Total.","")) | CB12: =IF(AND(C12>0,P12="")," * No olvide digitar la variable Ingresos por Traslados. Digite Cero si no tiene.",IF(P12>C12," * La variable Ingresos por Traslados No puede ser mayor al Total.","")) | CC12: =IF(AND($C12>0,Q12="")," * No olvide digitar la variable Ingresos con Control Precoz Extrasistema. Digite Cero si no tiene.",IF(Q12>$C12," * La variable Ingresos con Control Precoz Extrasistema No puede ser mayor al Total.","")) | CD12: =IF(AND($C12>0,R12="")," * No olvide digitar la variable Derivación por IVE causal 3 <14 años. Digite Cero si no tiene.",IF(R12>$C12," * La variable Derivación por IVE causal 3 <14 años No puede ser mayor al Total.","")) | CE12: =IF(AND($C12>0,S12="")," * No olvide digitar la variable Trans masculino. Digite Cero si no tiene.",IF(S12>$C12," * La variable Trans masculino No puede ser mayor al Total.","")) | CF12: =IF(AND($C12>0,T12="")," * No olvide digitar la variable No binarie. Digite Cero si no tiene.",IF(T12>$C12," * La variable No binarie No puede ser mayor al Total.","")) | CG12: =IF(AND($C12>0,U12="")," * No olvide digitar la variable Personas con discapacidad. Digite Cero si no tiene.",IF(U12>$C12," *La variable Personas con discapacidad No puede ser mayor al Total.","")) | CH12: =IF(AND($C12>0,V12="")," * No olvide digitar la variable Pueblos Originarios. Digite Cero si no tiene.",IF(V12>$C12," *La variable Pueblos Originarios No puede ser mayor al Total.","")) | CI12: =IF(AND($D12+E12+F12>0,W12="")," * No olvide digitar la variable Migrantes Menor de 20 años. Digite Cero si no tiene.",IF(W12>$D12+E12+F12," * La variable Migrantes Menor de 20 años No puede ser mayor a la suma del grupo Migrantes Menor de 20 años.","")) | CJ12: =IF(AND($H12+I12+J12+K12+L12+M12+N12>0,X12="")," * No olvide digitar la variable Migrantes 20 y más años. Digite Cero si no tiene.",IF(H12+I12+J12+K12+L12+M12+N12<$X12," * La variable Migrantes 20 y más años No puede ser mayor a la suma del grupo Migrantes 20 y más años.","")) | CO12: =IF(AND($C12>0,O12=""),1,IF(O12>$C12,1,0)) -> 0 | CP12: =IF(AND($C12>0,P12=""),1,IF(P12>$C12,1,0)) -> 0 | CQ12: =IF(AND($C12>0,Q12=""),1,IF(Q12>$C12,1,0)) -> 0 | CR12: =IF(R12>$E12+D12,1,0) -> 0 | CS12: =IF(AND($C12>0,S12=""),1,IF(S12>$C12,1,0)) -> 0 | CT12: =IF(AND($C12>0,T12=""),1,IF(T12>$C12,1,0)) -> 0 | CU12: =IF(AND($C12>0,U12=""),1,IF(U12>$C12,1,0)) -> 0 | CV12: =IF(AND($C12>0,V12=""),1,IF(V12>$C12,1,0)) -> 0 | CW12: =IF(AND(D12+E12+F12>0,W12=""),1,IF(W12>D12+E12+F12,1,0)) -> 0 | CX12: =IF(AND($H12+I12+J12+K12+L12+M12+N2>0,X12=""),1,IF(H12+I12+J12+K12+L12+M12+N12<X12,1,0)) -> 0
A13: Gestantes Ingresadas antes de las 14 Semanas | C13: =SUM(D13:N13) -> 0 | Y13: =CA13&CB13&CC13&CD13&CE13&CF13&CG13&CH13&CI13&CJ13 | CA13: =IF(AND($C13>0,O13="")," * No olvide digitar la variable Víctima de Violencia de Género. Digite Cero si no tiene.",IF(O13>$C13," * La variable Víctima de Violencia de Género No puede ser mayor al Total.","")) | CB13: =IF(AND(C13>0,P13="")," * No olvide digitar la variable Ingresos por Traslados. Digite Cero si no tiene.",IF(P13>C13," * La variable Ingresos por Traslados No puede ser mayor al Total.","")) | CC13: =IF(AND($C13>0,Q13="")," * No olvide digitar la variable Ingresos con Control Precoz Extrasistema. Digite Cero si no tiene.",IF(Q13>$C13," * La variable Ingresos con Control Precoz Extrasistema No puede ser mayor al Total.","")) | CD13: =IF(AND($C13>0,R13="")," * No olvide digitar la variable Derivación por IVE causal 3 <14 años. Digite Cero si no tiene.",IF(R13>$C13," * La variable Derivación por IVE causal 3 <14 años No puede ser mayor al Total.","")) | CE13: =IF(AND($C13>0,S13="")," * No olvide digitar la variable Trans masculino. Digite Cero si no tiene.",IF(S13>$C13," * La variable Trans masculino No puede ser mayor al Total.","")) | CF13: =IF(AND($C13>0,T13="")," * No olvide digitar la variable No binarie. Digite Cero si no tiene.",IF(T13>$C13," * La variable No binarie No puede ser mayor al Total.","")) | CG13: =IF(AND($C13>0,U13="")," * No olvide digitar la variable Personas con discapacidad. Digite Cero si no tiene.",IF(U13>$C13," *La variable Personas con discapacidad No puede ser mayor al Total.","")) | CH13: =IF(AND($C13>0,V13="")," * No olvide digitar la variable Pueblos Originarios. Digite Cero si no tiene.",IF(V13>$C13," *La variable Pueblos Originarios No puede ser mayor al Total.","")) | CI13: =IF(AND($D13+E13+F13>0,W13="")," * No olvide digitar la variable Migrantes Menor de 20 años. Digite Cero si no tiene.",IF(W13>$D13+E13+F13," * La variable Migrantes Menor de 20 años No puede ser mayor a la suma del grupo Migrantes Menor de 20 años.","")) | CJ13: =IF(AND($H13+I13+J13+K13+L13+M13+N13>0,X13="")," * No olvide digitar la variable Migrantes 20 y más años. Digite Cero si no tiene.",IF(H13+I13+J13+K13+L13+M13+N13<$X13," * La variable Migrantes 20 y más años No puede ser mayor a la suma del grupo Migrantes 20 y más años.","")) | CO13: =IF(AND($C13>0,O13=""),1,IF(O13>$C13,1,0)) -> 0 | CP13: =IF(AND($C13>0,P13=""),1,IF(P13>$C13,1,0)) -> 0 | CQ13: =IF(AND($C13>0,Q13=""),1,IF(Q13>$C13,1,0)) -> 0 | CR13: =IF(R13>$E13+D13,1,0) -> 0 | CS13: =IF(AND($C13>0,S13=""),1,IF(S13>$C13,1,0)) -> 0 | CT13: =IF(AND($C13>0,T13=""),1,IF(T13>$C13,1,0)) -> 0 | CU13: =IF(AND($C13>0,U13=""),1,IF(U13>$C13,1,0)) -> 0 | CV13: =IF(AND($C13>0,V13=""),1,IF(V13>$C13,1,0)) -> 0 | CW13: =IF(AND(D13+E13+F13>0,W13=""),1,IF(W13>D13+E13+F13,1,0)) -> 0 | CX13: =IF(AND($H13+I13+J13+K13+L13+M13+N3>0,X13=""),1,IF(H13+I13+J13+K13+L13+M13+N13<X13,1,0)) -> 0
