Workbook

Sheet CONSOLIDADO
A1: SERVICIO DE SALUD
A2: =CONCATENATE("COMUNA: ",[1]NOMBRE!B2," (",[1]NOMBRE!C2,[1]NOMBRE!D2,[1]NOMBRE!E2,[1]NOMBRE!F2,[1]NOMBRE!G2,")") -> COMUNA: 0 (00000)
A3: =CONCATENATE("ESTABLECIMIENTO/ESTRATEGIA: ", [1]NOMBRE!B3," (",[1]NOMBRE!C3,[1]NOMBRE!D3,[1]NOMBRE!E3,[1]NOMBRE!F3,[1]NOMBRE!G3,[1]NOMBRE!H3,")") -> ESTABLECIMIENTO/ESTRATEGIA: 0 (000000)
A4: =CONCATENATE("MES: ",[1]NOMBRE!B6," (",[1]NOMBRE!C6,[1]NOMBRE!D6,")") -> MES: 0 (00)
A5: =CONCATENATE("AÑO: ",[1]NOMBRE!B7) -> AÑO: 2025
A6: REM-A05. INGRESOS Y EGRESOS POR CONDICIÓN Y PROBLEMAS DE SALUD
A8: SECCIÓN A: INGRESOS DE GESTANTES A PROGRAMA PRENATAL
A9: CONDICIÓN | C9: TOTAL | D9: RANGO ETARIO | O9: Víctima de Violencia de Género | P9: Ingresos por Traslado | Q9: Ingresos con Control Precoz Extrasistema | R9: Derivación por IVE causal 3 <14 años | S9: Identidad de género | U9: Personas con discapacidad | V9: Pueblos Originarios | W9: Migrantes
D10: Menor de 14 años | E10: 14 años | F10: 15 - 19 años | G10: 20 - 24 años | H10: 25 - 29 años | I10: 30 - 34 años | J10: 35 - 39 años | K10: 40 - 44 años | L10: 45 - 49 años | M10: 50 - 54 años | N10: 55 y más años | S10: Trans masculino | T10: No binarie | W10: Menor de 20 años | X10: 20 y más años
A11: Gestantes Ingresadas | C11: =SUM(D11:N11) -> 0 | Y11: =CA11&CB11&CC11&CD11&CE11&CF11&CG11&CH11&CI11&CJ11 | CA11: =IF(AND($C11>0,O11="")," * No olvide digitar la variable Víctima de Violencia de Género. Digite Cero si no tiene.",IF(O11>$C11," * La variable Víctima de Violencia de Género No puede ser mayor al Total.","")) | CB11: =IF(AND(C11>0,P11="")," * No olvide digitar la variable Ingresos por Traslados. Digite Cero si no tiene.",IF(P11>C11," * La variable Ingresos por Traslados No puede ser mayor al Total.","")) | CC11: =IF(AND($C11>0,Q11="")," * No olvide digitar la variable Ingresos con Control Precoz Extrasistema. Digite Cero si no tiene.",IF(Q11>$C11," * La variable Ingresos con Control Precoz Extrasistema No puede ser mayor al Total.","")) | CD11: =IF(AND($C11>0,R11="")," * No olvide digitar la variable Derivación por IVE causal 3 <14 años. Digite Cero si no tiene.",IF(R11>$C11," * La variable Derivación por IVE causal 3 <14 años No puede ser mayor al Total.","")) | CE11: =IF(AND($C11>0,S11="")," * No olvide digitar la variable Trans masculino. Digite Cero si no tiene.",IF(S11>$C11," * La variable Trans masculino No puede ser mayor al Total.","")) | CF11: =IF(AND($C11>0,T11="")," * No olvide digitar la variable No binarie. Digite Cero si no tiene.",IF(T11>$C11," * La variable No binarie No puede ser mayor al Total.","")) | CG11: =IF(AND($C11>0,U11="")," * No olvide digitar la variable Personas con discapacidad. Digite Cero si no tiene.",IF(U11>$C11," *La variable Personas con discapacidad No puede ser mayor al Total.","")) | CH11: =IF(AND($C11>0,V11="")," * No olvide digitar la variable Pueblos Originarios. Digite Cero si no tiene.",IF(V11>$C11," *La variable Pueblos Originarios No puede ser mayor al Total.","")) | CI11: =IF(AND($D11+E11+F11>0,W11="")," * No olvide digitar la variable Migrantes Menor de 20 años. Digite Cero si no tiene.",IF(W11>$D11+E11+F11," * La variable Migrantes Menor de 20 años No puede ser mayor a la suma del grupo Migrantes Menor de 20 años.","")) | CJ11: =IF(AND($H11+I11+J11+K11+L11+M11+N11>0,X11="")," * No olvide digitar la variable Migrantes 20 y más años. Digite Cero si no tiene.",IF(H11+I11+J11+K11+L11+M11+N11<$X11," * La variable Migrantes 20 y más años No puede ser mayor a la suma del grupo Migrantes 20 y más años.","")) | CO11: =IF(AND($C11>0,O11=""),1,IF(O11>$C11,1,0)) -> 0 | CP11: =IF(AND($C11>0,P11=""),1,IF(P11>$C11,1,0)) -> 0 | CQ11: =IF(AND($C11>0,Q11=""),1,IF(Q11>$C11,1,0)) -> 0 | CR11: =IF(R11>$E11+D11,1,0) -> 0 | CS11: =IF(AND($C11>0,S11=""),1,IF(S11>$C11,1,0)) -> 0 | CT11: =IF(AND($C11>0,T11=""),1,IF(T11>$C11,1,0)) -> 0 | CU11: =IF(AND($C11>0,U11=""),1,IF(U11>$C11,1,0)) -> 0 | CV11: =IF(AND($C11>0,V11=""),1,IF(V11>$C11,1,0)) -> 0 | CW11: =IF(AND(D11+E11+F11>0,W11=""),1,IF(W11>D11+E11+F11,1,0)) -> 0 | CX11: =IF(AND($H11+I11+J11+K11+L11+M11+N1>0,X11=""),1,IF(H11+I11+J11+K11+L11+M11+N11<X11,1,0)) -> 0
A12: Primigestas Ingresadas | C12: =SUM(D12:N12) -> 0 | Y12: =CA12&CB12&CC12&CD12&CE12&CF12&CG12&CH12&CI12&CJ12 | CA12: =IF(AND($C12>0,O12="")," * No olvide digitar la variable Víctima de Violencia de Género. Digite Cero si no tiene.",IF(O12>$C12," * La variable Víctima de Violencia de Género No puede ser mayor al Total.","")) | CB12: =IF(AND(C12>0,P12="")," * No olvide digitar la variable Ingresos por Traslados. Digite Cero si no tiene.",IF(P12>C12," * La variable Ingresos por Traslados No puede ser mayor al Total.","")) | CC12: =IF(AND($C12>0,Q12="")," * No olvide digitar la variable Ingresos con Control Precoz Extrasistema. Digite Cero si no tiene.",IF(Q12>$C12," * La variable Ingresos con Control Precoz Extrasistema No puede ser mayor al Total.","")) | CD12: =IF(AND($C12>0,R12="")," * No olvide digitar la variable Derivación por IVE causal 3 <14 años. Digite Cero si no tiene.",IF(R12>$C12," * La variable Derivación por IVE causal 3 <14 años No puede ser mayor al Total.","")) | CE12: =IF(AND($C12>0,S12="")," * No olvide digitar la variable Trans masculino. Digite Cero si no tiene.",IF(S12>$C12," * La variable Trans masculino No puede ser mayor al Total.","")) | CF12: =IF(AND($C12>0,T12="")," * No olvide digitar la variable No binarie. Digite Cero si no tiene.",IF(T12>$C12," * La variable No binarie No puede ser mayor al Total.","")) | CG12: =IF(AND($C12>0,U12="")," * No olvide digitar la variable Personas con discapacidad. Digite Cero si no tiene.",IF(U12>$C12," *La variable Personas con discapacidad No puede ser mayor al Total.","")) | CH12: =IF(AND($C12>0,V12="")," * No olvide digitar la variable Pueblos Originarios. Digite Cero si no tiene.",IF(V12>$C12," *La variable Pueblos Originarios No puede ser mayor al Total.","")) | CI12: =IF(AND($D12+E12+F12>0,W12="")," * No olvide digitar la variable Migrantes Menor de 20 años. Digite Cero si no tiene.",IF(W12>$D12+E12+F12," * La variable Migrantes Menor de 20 años No puede ser mayor a la suma del grupo Migrantes Menor de 20 años.","")) | CJ12: =IF(AND($H12+I12+J12+K12+L12+M12+N12>0,X12="")," * No olvide digitar la variable Migrantes 20 y más años. Digite Cero si no tiene.",IF(H12+I12+J12+K12+L12+M12+N12<$X12," * La variable Migrantes 20 y más años No puede ser mayor a la suma del grupo Migrantes 20 y más años.","")) | CO12: =IF(AND($C12>0,O12=""),1,IF(O12>$C12,1,0)) -> 0 | CP12: =IF(AND($C12>0,P12=""),1,IF(P12>$C12,1,0)) -> 0 | CQ12: =IF(AND($C12>0,Q12=""),1,IF(Q12>$C12,1,0)) -> 0 | CR12: =IF(R12>$E12+D12,1,0) -> 0 | CS12: =IF(AND($C12>0,S12=""),1,IF(S12>$C12,1,0)) -> 0 | CT12: =IF(AND($C12>0,T12=""),1,IF(T12>$C12,1,0)) -> 0 | CU12: =IF(AND($C12>0,U12=""),1,IF(U12>$C12,1,0)) -> 0 | CV12: =IF(AND($C12>0,V12=""),1,IF(V12>$C12,1,0)) -> 0 | CW12: =IF(AND(D12+E12+F12>0,W12=""),1,IF(W12>D12+E12+F12,1,0)) -> 0 | CX12: =IF(AND($H12+I12+J12+K12+L12+M12+N2>0,X12=""),1,IF(H12+I12+J12+K12+L12+M12+N12<X12,1,0)) -> 0
A13: Gestantes Ingresadas antes de las 14 Semanas | C13: =SUM(D13:N13) -> 0 | Y13: =CA13&CB13&CC13&CD13&CE13&CF13&CG13&CH13&CI13&CJ13 | CA13: =IF(AND($C13>0,O13="")," * No olvide digitar la variable Víctima de Violencia de Género. Digite Cero si no tiene.",IF(O13>$C13," * La variable Víctima de Violencia de Género No puede ser mayor al Total.","")) | CB13: =IF(AND(C13>0,P13="")," * No olvide digitar la variable Ingresos por Traslados. Digite Cero si no tiene.",IF(P13>C13," * La variable Ingresos por Traslados No puede ser mayor al Total.","")) | CC13: =IF(AND($C13>0,Q13="")," * No olvide digitar la variable Ingresos con Control Precoz Extrasistema. Digite Cero si no tiene.",IF(Q13>$C13," * La variable Ingresos con Control Precoz Extrasistema No puede ser mayor al Total.","")) | CD13: =IF(AND($C13>0,R13="")," * No olvide digitar la variable Derivación por IVE causal 3 <14 años. Digite Cero si no tiene.",IF(R13>$C13," * La variable Derivación por IVE causal 3 <14 años No puede ser mayor al Total.","")) | CE13: =IF(AND($C13>0,S13="")," * No olvide digitar la variable Trans masculino. Digite Cero si no tiene.",IF(S13>$C13," * La variable Trans masculino No puede ser mayor al Total.","")) | CF13: =IF(AND($C13>0,T13="")," * No olvide digitar la variable No binarie. Digite Cero si no tiene.",IF(T13>$C13," * La variable No binarie No puede ser mayor al Total.","")) | CG13: =IF(AND($C13>0,U13="")," * No olvide digitar la variable Personas con discapacidad. Digite Cero si no tiene.",IF(U13>$C13," *La variable Personas con discapacidad No puede ser mayor al Total.","")) | CH13: =IF(AND($C13>0,V13="")," * No olvide digitar la variable Pueblos Originarios. Digite Cero si no tiene.",IF(V13>$C13," *La variable Pueblos Originarios No puede ser mayor al Total.","")) | CI13: =IF(AND($D13+E13+F13>0,W13="")," * No olvide digitar la variable Migrantes Menor de 20 años. Digite Cero si no tiene.",IF(W13>$D13+E13+F13," * La variable Migrantes Menor de 20 años No puede ser mayor a la suma del grupo Migrantes Menor de 20 años.","")) | CJ13: =IF(AND($H13+I13+J13+K13+L13+M13+N13>0,X13="")," * No olvide digitar la variable Migrantes 20 y más años. Digite Cero si no tiene.",IF(H13+I13+J13+K13+L13+M13+N13<$X13," * La variable Migrantes 20 y más años No puede ser mayor a la suma del grupo Migrantes 20 y más años.","")) | CO13: =IF(AND($C13>0,O13=""),1,IF(O13>$C13,1,0)) -> 0 | CP13: =IF(AND($C13>0,P13=""),1,IF(P13>$C13,1,0)) -> 0 | CQ13: =IF(AND($C13>0,Q13=""),1,IF(Q13>$C13,1,0)) -> 0 | CR13: =IF(R13>$E13+D13,1,0) -> 0 | CS13: =IF(AND($C13>0,S13=""),1,IF(S13>$C13,1,0)) -> 0 | CT13: =IF(AND($C13>0,T13=""),1,IF(T13>$C13,1,0)) -> 0 | CU13: =IF(AND($C13>0,U13=""),1,IF(U13>$C13,1,0)) -> 0 | CV13: =IF(AND($C13>0,V13=""),1,IF(V13>$C13,1,0)) -> 0 | CW13: =IF(AND(D13+E13+F13>0,W13=""),1,IF(W13>D13+E13+F13,1,0)) -> 0 | CX13: =IF(AND($H13+I13+J13+K13+L13+M13+N3>0,X13=""),1,IF(H13+I13+J13+K13+L13+M13+N13<X13,1,0)) -> 0
A14: Gestantes con Embarazo no Planificado | C14: =SUM(D14:N14) -> 0 | Y14: =CA14&CB14&CC14&CD14&CE14&CF14&CG14&CH14&CI14&CJ14 | CA14: =IF(AND($C14>0,O14="")," * No olvide digitar la variable Víctima de Violencia de Género. Digite Cero si no tiene.",IF(O14>$C14," * La variable Víctima de Violencia de Género No puede ser mayor al Total.","")) | CB14: =IF(AND(C14>0,P14="")," * No olvide digitar la variable Ingresos por Traslados. Digite Cero si no tiene.",IF(P14>C14," * La variable Ingresos por Traslados No puede ser mayor al Total.","")) | CC14: =IF(AND($C14>0,Q14="")," * No olvide digitar la variable Ingresos con Control Precoz Extrasistema. Digite Cero si no tiene.",IF(Q14>$C14," * La variable Ingresos con Control Precoz Extrasistema No puede ser mayor al Total.","")) | CD14: =IF(AND($C14>0,R14="")," * No olvide digitar la variable Derivación por IVE causal 3 <14 años. Digite Cero si no tiene.",IF(R14>$C14," * La variable Derivación por IVE causal 3 <14 años No puede ser mayor al Total.","")) | CE14: =IF(AND($C14>0,S14="")," * No olvide digitar la variable Trans masculino. Digite Cero si no tiene.",IF(S14>$C14," * La variable Trans masculino No puede ser mayor al Total.","")) | CF14: =IF(AND($C14>0,T14="")," * No olvide digitar la variable No binarie. Digite Cero si no tiene.",IF(T14>$C14," * La variable No binarie No puede ser mayor al Total.","")) | CG14: =IF(AND($C14>0,U14="")," * No olvide digitar la variable Personas con discapacidad. Digite Cero si no tiene.",IF(U14>$C14," *La variable Personas con discapacidad No puede ser mayor al Total.","")) | CH14: =IF(AND($C14>0,V14="")," * No olvide digitar la variable Pueblos Originarios. Digite Cero si no tiene.",IF(V14>$C14," *La variable Pueblos Originarios No puede ser mayor al Total.","")) | CI14: =IF(AND($D14+E14+F14>0,W14="")," * No olvide digitar la variable Migrantes Menor de 20 años. Digite Cero si no tiene.",IF(W14>$D14+E14+F14," * La variable Migrantes Menor de 20 años No puede ser mayor a la suma del grupo Migrantes Menor de 20 años.","")) | CJ14: =IF(AND($H14+I14+J14+K14+L14+M14+N14>0,X14="")," * No olvide digitar la variable Migrantes 20 y más años. Digite Cero si no tiene.",IF(H14+I14+J14+K14+L14+M14+N14<$X14," * La variable Migrantes 20 y más años No puede ser mayor a la suma del grupo Migrantes 20 y más años.","")) | CO14: =IF(AND($C14>0,O14=""),1,IF(O14>$C14,1,0)) -> 0 | CP14: =IF(AND($C14>0,P14=""),1,IF(P14>$C14,1,0)) -> 0 | CQ14: =IF(AND($C14>0,Q14=""),1,IF(Q14>$C14,1,0)) -> 0 | CR14: =IF(R14>$E14+D14,1,0) -> 0 | CS14: =IF(AND($C14>0,S14=""),1,IF(S14>$C14,1,0)) -> 0 | CT14: =IF(AND($C14>0,T14=""),1,IF(T14>$C14,1,0)) -> 0 | CU14: =IF(AND($C14>0,U14=""),1,IF(U14>$C14,1,0)) -> 0 | CV14: =IF(AND($C14>0,V14=""),1,IF(V14>$C14,1,0)) -> 0 | CW14: =IF(AND(D14+E14+F14>0,W14=""),1,IF(W14>D14+E14+F14,1,0)) -> 0 | CX14: =IF(AND($H14+I14+J14+K14+L14+M14+N4>0,X14=""),1,IF(H14+I14+J14+K14+L14+M14+N14<X14,1,0)) -> 0
A15: SECCIÓN B: INGRESO DE GESTANTES CON PATOLOGÍA DE ALTO RIESGO OBSTÉTRICO A LA UNIDAD DE ARO (Nivel Secundario)
A16: PATOLOGÍA | C16: Nº de Ingreso a ARO | D16: Víctima de violencia de género | E16: Pueblos Originarios | F16: Migrantes
A18: Nº de Gestantes Ingresadas | C18: =SUM(ENERO:DICIEMBRE!C18) -> 1203 | D18: =SUM(ENERO:DICIEMBRE!D18) -> 1 | E18: =SUM(ENERO:DICIEMBRE!E18) -> 8 | F18: =SUM(ENERO:DICIEMBRE!F18) -> 92 | G18: =CA18&CB18&CC18 | CA18: =IF(AND($C18>0,$D18="")," * No olvide digitar la variable "&$D$16&""&". Digite Cero si no tiene.",IF(D18>C18," ** La variable Víctima de violencia de género No puede ser mayor al "&$C$16&""&" .","")) | CB18: =IF(AND(C18>0,E18="")," * No olvide digitar la "&$E$16&""&" . Digite Cero si no tiene.",IF(E18>C18," * La variable Pueblos originarios No puede ser mayor al "&$C$16&""&" .","")) | CC18: =IF(AND(C18>0,F18="")," * No olvide digitar la "&$F$16&""&" . Digite Cero si no tiene.",IF(F18>C18," * La variable Migrantes No puede ser mayor al "&$C$16&""&" .","")) | CO18: =IF(AND(C18>0,D18=""),1,IF(D18>C18,1,0)) -> 0 | CP18: =IF(AND(C18>0,E18=""),1,IF(E18>C18,1,0)) -> 0 | CQ18: =IF(AND(C18>0,F18=""),1,IF(F18>C18,1,0)) -> 0
A19: Preeclampsia (PE) | C19: =SUM(ENERO:DICIEMBRE!C19) -> 3 | D19: =SUM(ENERO:DICIEMBRE!D19) -> 0 | E19: =SUM(ENERO:DICIEMBRE!E19) -> 0 | F19: =SUM(ENERO:DICIEMBRE!F19) -> 2 | G19: =CA19&CB19&CC19 | CA19: =IF(AND($C19>0,$D19="")," * No olvide digitar la variable "&$D$16&""&". Digite Cero si no tiene.",IF(D19>C19," ** La variable Víctima de violencia de género No puede ser mayor al "&$C$16&""&" .","")) | CB19: =IF(AND(C19>0,E19="")," * No olvide digitar la "&$E$16&""&" . Digite Cero si no tiene.",IF(E19>C19," * La variable Pueblos originarios No puede ser mayor al "&$C$16&""&" .","")) | CC19: =IF(AND(C19>0,F19="")," * No olvide digitar la "&$F$16&""&" . Digite Cero si no tiene.",IF(F19>C19," * La variable Migrantes No puede ser mayor al "&$C$16&""&" .","")) | CO19: =IF(AND(C19>0,D19=""),1,IF(D19>C19,1,0)) -> 0 | CP19: =IF(AND(C19>0,E19=""),1,IF(E19>C19,1,0)) -> 0 | CQ19: =IF(AND(C19>0,F19=""),1,IF(F19>C19,1,0)) -> 0
A20: Síndrome Hipertensivo del Embarazo (SHE) | C20: =SUM(ENERO:DICIEMBRE!C20) -> 9 | D20: =SUM(ENERO:DICIEMBRE!D20) -> 0 | E20: =SUM(ENERO:DICIEMBRE!E20) -> 0 | F20: =SUM(ENERO:DICIEMBRE!F20) -> 0 | G20: =CA20&CB20&CC20 | CA20: =IF(AND($C20>0,$D20="")," * No olvide digitar la variable "&$D$16&""&". Digite Cero si no tiene.",IF(D20>C20," ** La variable Víctima de violencia de género No puede ser mayor al "&$C$16&""&" .","")) | CB20: =IF(AND(C20>0,E20="")," * No olvide digitar la "&$E$16&""&" . Digite Cero si no tiene.",IF(E20>C20," * La variable Pueblos originarios No puede ser mayor al "&$C$16&""&" .","")) | CC20: =IF(AND(C20>0,F20="")," * No olvide digitar la "&$F$16&""&" . Digite Cero si no tiene.",IF(F20>C20," * La variable Migrantes No puede ser mayor al "&$C$16&""&" .","")) | CO20: =IF(AND(C20>0,D20=""),1,IF(D20>C20,1,0)) -> 0 | CP20: =IF(AND(C20>0,E20=""),1,IF(E20>C20,1,0)) -> 0 | CQ20: =IF(AND(C20>0,F20=""),1,IF(F20>C20,1,0)) -> 0
A21: Factores de Riesgo y Condicionantes de Parto Prematuro | C21: =SUM(ENERO:DICIEMBRE!C21) -> 156 | D21: =SUM(ENERO:DICIEMBRE!D21) -> 1 | E21: =SUM(ENERO:DICIEMBRE!E21) -> 1 | F21: =SUM(ENERO:DICIEMBRE!F21) -> 8 | G21: =CA21&CB21&CC21 | CA21: =IF(AND($C21>0,$D21="")," * No olvide digitar la variable "&$D$16&""&". Digite Cero si no tiene.",IF(D21>C21," ** La variable Víctima de violencia de género No puede ser mayor al "&$C$16&""&" .","")) | CB21: =IF(AND(C21>0,E21="")," * No olvide digitar la "&$E$16&""&" . Digite Cero si no tiene.",IF(E21>C21," * La variable Pueblos originarios No puede ser mayor al "&$C$16&""&" .","")) | CC21: =IF(AND(C21>0,F21="")," * No olvide digitar la "&$F$16&""&" . Digite Cero si no tiene.",IF(F21>C21," * La variable Migrantes No puede ser mayor al "&$C$16&""&" .","")) | CO21: =IF(AND(C21>0,D21=""),1,IF(D21>C21,1,0)) -> 0 | CP21: =IF(AND(C21>0,E21=""),1,IF(E21>C21,1,0)) -> 0 | CQ21: =IF(AND(C21>0,F21=""),1,IF(F21>C21,1,0)) -> 0
A22: Retardo Crecimiento Intrauterino (RCIU) | C22: =SUM(ENERO:DICIEMBRE!C22) -> 30 | D22: =SUM(ENERO:DICIEMBRE!D22) -> 0 | E22: =SUM(ENERO:DICIEMBRE!E22) -> 0 | F22: =SUM(ENERO:DICIEMBRE!F22) -> 3 | G22: =CA22&CB22&CC22 | CA22: =IF(AND($C22>0,$D22="")," * No olvide digitar la variable "&$D$16&""&". Digite Cero si no tiene.",IF(D22>C22," ** La variable Víctima de violencia de género No puede ser mayor al "&$C$16&""&" .","")) | CB22: =IF(AND(C22>0,E22="")," * No olvide digitar la "&$E$16&""&" . Digite Cero si no tiene.",IF(E22>C22," * La variable Pueblos originarios No puede ser mayor al "&$C$16&""&" .","")) | CC22: =IF(AND(C22>0,F22="")," * No olvide digitar la "&$F$16&""&" . Digite Cero si no tiene.",IF(F22>C22," * La variable Migrantes No puede ser mayor al "&$C$16&""&" .","")) | CO22: =IF(AND(C22>0,D22=""),1,IF(D22>C22,1,0)) -> 0 | CP22: =IF(AND(C22>0,E22=""),1,IF(E22>C22,1,0)) -> 0 | CQ22: =IF(AND(C22>0,F22=""),1,IF(F22>C22,1,0)) -> 0
A23: SÍFILIS | C23: =SUM(ENERO:DICIEMBRE!C23) -> 4 | D23: =SUM(ENERO:DICIEMBRE!D23) -> 0 | E23: =SUM(ENERO:DICIEMBRE!E23) -> 0 | F23: =SUM(ENERO:DICIEMBRE!F23) -> 2 | G23: =CA23&CB23&CC23 | CA23: =IF(AND($C23>0,$D23="")," * No olvide digitar la variable "&$D$16&""&". Digite Cero si no tiene.",IF(D23>C23," ** La variable Víctima de violencia de género No puede ser mayor al "&$C$16&""&" .","")) | CB23: =IF(AND(C23>0,E23="")," * No olvide digitar la "&$E$16&""&" . Digite Cero si no tiene.",IF(E23>C23," * La variable Pueblos originarios No puede ser mayor al "&$C$16&""&" .","")) | CC23: =IF(AND(C23>0,F23="")," * No olvide digitar la "&$F$16&""&" . Digite Cero si no tiene.",IF(F23>C23," * La variable Migrantes No puede ser mayor al "&$C$16&""&" .","")) | CO23: =IF(AND(C23>0,D23=""),1,IF(D23>C23,1,0)) -> 0 | CP23: =IF(AND(C23>0,E23=""),1,IF(E23>C23,1,0)) -> 0 | CQ23: =IF(AND(C23>0,F23=""),1,IF(F23>C23,1,0)) -> 0
A24: VIH | C24: =SUM(ENERO:DICIEMBRE!C24) -> 0 | D24: =SUM(ENERO:DICIEMBRE!D24) -> 0 | E24: =SUM(ENERO:DICIEMBRE!E24) -> 0 | F24: =SUM(ENERO:DICIEMBRE!F24) -> 0 | G24: =CA24&CB24&CC24 | CA24: =IF(AND($C24>0,$D24="")," * No olvide digitar la variable "&$D$16&""&". Digite Cero si no tiene.",IF(D24>C24," ** La variable Víctima de violencia de género No puede ser mayor al "&$C$16&""&" .","")) | CB24: =IF(AND(C24>0,E24="")," * No olvide digitar la "&$E$16&""&" . Digite Cero si no tiene.",IF(E24>C24," * La variable Pueblos originarios No puede ser mayor al "&$C$16&""&" .","")) | CC24: =IF(AND(C24>0,F24="")," * No olvide digitar la "&$F$16&""&" . Digite Cero si no tiene.",IF(F24>C24," * La variable Migrantes No puede ser mayor al "&$C$16&""&" .","")) | CO24: =IF(AND(C24>0,D24=""),1,IF(D24>C24,1,0)) -> 0 | CP24: =IF(AND(C24>0,E24=""),1,IF(E24>C24,1,0)) -> 0 | CQ24: =IF(AND(C24>0,F24=""),1,IF(F24>C24,1,0)) -> 0
A25: Diabetes | C25: =SUM(ENERO:DICIEMBRE!C25) -> 22 | D25: =SUM(ENERO:DICIEMBRE!D25) -> 0 | E25: =SUM(ENERO:DICIEMBRE!E25) -> 0 | F25: =SUM(ENERO:DICIEMBRE!F25) -> 1 | G25: =CA25&CB25&CC25 | CA25: =IF(AND($C25>0,$D25="")," * No olvide digitar la variable "&$D$16&""&". Digite Cero si no tiene.",IF(D25>C25," ** La variable Víctima de violencia de género No puede ser mayor al "&$C$16&""&" .","")) | CB25: =IF(AND(C25>0,E25="")," * No olvide digitar la "&$E$16&""&" . Digite Cero si no tiene.",IF(E25>C25," * La variable Pueblos originarios No puede ser mayor al "&$C$16&""&" .","")) | CC25: =IF(AND(C25>0,F25="")," * No olvide digitar la "&$F$16&""&" . Digite Cero si no tiene.",IF(F25>C25," * La variable Migrantes No puede ser mayor al "&$C$16&""&" .","")) | CO25: =IF(AND(C25>0,D25=""),1,IF(D25>C25,1,0)) -> 0 | CP25: =IF(AND(C25>0,E25=""),1,IF(E25>C25,1,0)) -> 0 | CQ25: =IF(AND(C25>0,F25=""),1,IF(F25>C25,1,0)) -> 0
A26: Cesárea Anterior | C26: =SUM(ENERO:DICIEMBRE!C26) -> 241 | D26: =SUM(ENERO:DICIEMBRE!D26) -> 0 | E26: =SUM(ENERO:DICIEMBRE!E26) -> 3 | F26: =SUM(ENERO:DICIEMBRE!F26) -> 22 | G26: =CA26&CB26&CC26 | CA26: =IF(AND($C26>0,$D26="")," * No olvide digitar la variable "&$D$16&""&". Digite Cero si no tiene.",IF(D26>C26," ** La variable Víctima de violencia de género No puede ser mayor al "&$C$16&""&" .","")) | CB26: =IF(AND(C26>0,E26="")," * No olvide digitar la "&$E$16&""&" . Digite Cero si no tiene.",IF(E26>C26," * La variable Pueblos originarios No puede ser mayor al "&$C$16&""&" .","")) | CC26: =IF(AND(C26>0,F26="")," * No olvide digitar la "&$F$16&""&" . Digite Cero si no tiene.",IF(F26>C26," * La variable Migrantes No puede ser mayor al "&$C$16&""&" .","")) | CO26: =IF(AND(C26>0,D26=""),1,IF(D26>C26,1,0)) -> 0 | CP26: =IF(AND(C26>0,E26=""),1,IF(E26>C26,1,0)) -> 0 | CQ26: =IF(AND(C26>0,F26=""),1,IF(F26>C26,1,0)) -> 0
A27: Malformación Congénita | C27: =SUM(ENERO:DICIEMBRE!C27) -> 8 | D27: =SUM(ENERO:DICIEMBRE!D27) -> 0 | E27: =SUM(ENERO:DICIEMBRE!E27) -> 0 | F27: =SUM(ENERO:DICIEMBRE!F27) -> 1 | G27: =CA27&CB27&CC27 | CA27: =IF(AND($C27>0,$D27="")," * No olvide digitar la variable "&$D$16&""&". Digite Cero si no tiene.",IF(D27>C27," ** La variable Víctima de violencia de género No puede ser mayor al "&$C$16&""&" .","")) | CB27: =IF(AND(C27>0,E27="")," * No olvide digitar la "&$E$16&""&" . Digite Cero si no tiene.",IF(E27>C27," * La variable Pueblos originarios No puede ser mayor al "&$C$16&""&" .","")) | CC27: =IF(AND(C27>0,F27="")," * No olvide digitar la "&$F$16&""&" . Digite Cero si no tiene.",IF(F27>C27," * La variable Migrantes No puede ser mayor al "&$C$16&""&" .","")) | CO27: =IF(AND(C27>0,D27=""),1,IF(D27>C27,1,0)) -> 0 | CP27: =IF(AND(C27>0,E27=""),1,IF(E27>C27,1,0)) -> 0 | CQ27: =IF(AND(C27>0,F27=""),1,IF(F27>C27,1,0)) -> 0
A28: Hipotiroidismo | C28: =SUM(ENERO:DICIEMBRE!C28) -> 40 | D28: =SUM(ENERO:DICIEMBRE!D28) -> 0 | E28: =SUM(ENERO:DICIEMBRE!E28) -> 0 | F28: =SUM(ENERO:DICIEMBRE!F28) -> 2 | G28: =CA28&CB28&CC28 | CA28: =IF(AND($C28>0,$D28="")," * No olvide digitar la variable "&$D$16&""&". Digite Cero si no tiene.",IF(D28>C28," ** La variable Víctima de violencia de género No puede ser mayor al "&$C$16&""&" .","")) | CB28: =IF(AND(C28>0,E28="")," * No olvide digitar la "&$E$16&""&" . Digite Cero si no tiene.",IF(E28>C28," * La variable Pueblos originarios No puede ser mayor al "&$C$16&""&" .","")) | CC28: =IF(AND(C28>0,F28="")," * No olvide digitar la "&$F$16&""&" . Digite Cero si no tiene.",IF(F28>C28," * La variable Migrantes No puede ser mayor al "&$C$16&""&" .","")) | CO28: =IF(AND(C28>0,D28=""),1,IF(D28>C28,1,0)) -> 0 | CP28: =IF(AND(C28>0,E28=""),1,IF(E28>C28,1,0)) -> 0 | CQ28: =IF(AND(C28>0,F28=""),1,IF(F28>C28,1,0)) -> 0
A29: Diabetes Gestacional | C29: =SUM(ENERO:DICIEMBRE!C29) -> 201 | D29: =SUM(ENERO:DICIEMBRE!D29) -> 0 | E29: =SUM(ENERO:DICIEMBRE!E29) -> 1 | F29: =SUM(ENERO:DICIEMBRE!F29) -> 11 | G29: =CA29&CB29&CC29 | CA29: =IF(AND($C29>0,$D29="")," * No olvide digitar la variable "&$D$16&""&". Digite Cero si no tiene.",IF(D29>C29," ** La variable Víctima de violencia de género No puede ser mayor al "&$C$16&""&" .","")) | CB29: =IF(AND(C29>0,E29="")," * No olvide digitar la "&$E$16&""&" . Digite Cero si no tiene.",IF(E29>C29," * La variable Pueblos originarios No puede ser mayor al "&$C$16&""&" .","")) | CC29: =IF(AND(C29>0,F29="")," * No olvide digitar la "&$F$16&""&" . Digite Cero si no tiene.",IF(F29>C29," * La variable Migrantes No puede ser mayor al "&$C$16&""&" .","")) | CO29: =IF(AND(C29>0,D29=""),1,IF(D29>C29,1,0)) -> 0 | CP29: =IF(AND(C29>0,E29=""),1,IF(E29>C29,1,0)) -> 0 | CQ29: =IF(AND(C29>0,F29=""),1,IF(F29>C29,1,0)) -> 0
... A31: Otras Patologías del Embarazo | C31: =SUM(ENERO:DICIEMBRE!C31) -> 462 | D31: =SUM(ENERO:DICIEMBRE!D31) -> 0 | E31: =SUM(ENERO:DICIEMBRE!E31) -> 3 | F31: =SUM(ENERO:DICIEMBRE!F31) -> 39 | G31: =CA31&CB31&CC31 | CA31: =IF(AND($C31>0,$D31="")," * No olvide digitar la variable "&$D$16&""&". Digite Cero si no tiene.",IF(D31>C31," ** La variable Víctima de violencia de género No puede ser mayor al "&$C$16&""&" .","")) | CB31: =IF(AND(C31>0,E31="")," * No olvide digitar la "&$E$16&""&" . Digite Cero si no tiene.",IF(E31>C31," * La variable Pueblos originarios No puede ser mayor al "&$C$16&""&" .","")) | CC31: =IF(AND(C31>0,F31="")," * No olvide digitar la "&$F$16&""&" . Digite Cero si no tiene.",IF(F31>C31," * La variable Migrantes No puede ser mayor al "&$C$16&""&" .","")) | CO31: =IF(AND(C31>0,D31=""),1,IF(D31>C31,1,0)) -> 0 | CP31: =IF(AND(C31>0,E31=""),1,IF(E31>C31,1,0)) -> 0 | CQ31: =IF(AND(C31>0,F31=""),1,IF(F31>C31,1,0)) -> 0
A32: SECCIÓN C: INGRESOS A PROGRAMA DE REGULACIÓN DE FERTILIDAD
A33: MÉTODOS | C33: TOTAL | D33: RANGO ETARIO | Q33: Espacios Amigables/ Adolescentes | R33: Ingreso por cambio de Método Anticonceptivo | S33: Pueblos Originarios | T33: Migrantes | V33: Inicio precoz de MAC nivel secundario y terciario | W33: Ingreso a Anticoncepción post aborto | X33: Identidad de Género | AA33: Personas con Discpacidad
D34: Menos de 15 años | E34: 15 - 19 años | F34: 20 - 24 años | G34: 25 - 29 años | H34: 30 - 34 años | I34: 35 - 39 años | J34: 40 - 44 años | K34: 45 - 49 años | L34: 50 - 54 años | M34: 55 - 59 años | N34: 60 - 64 años | O34: 65 - 69 años | P34: 70 y más años | T34: Menor de 20 años | U34: 20 y más años | X34: Trans masculino | Y34: Trans femenino | Z34: No binarie
A35: TOTAL REGULACIÓN DE FERTILIDAD | C35: =SUM(D35:P35) -> 0 | D35: =SUM(D36:D49) -> 0 | E35: =SUM(E36:E49) -> 0 | F35: =SUM(F36:F49) -> 0 | G35: =SUM(G36:G49) -> 0 | H35: =SUM(H36:H49) -> 0 | I35: =SUM(I36:I49) -> 0 | J35: =SUM(J36:J49) -> 0 | K35: =SUM(K36:K49) -> 0 | ... M35: =SUM(M36:M49) -> 0 | N35: =SUM(N36:N48) -> 0 | O35: =SUM(O36:O48) -> 0 | P35: =SUM(P36:P48) -> 0 | Q35: =SUM(Q36:Q48) -> 0 | R35: =SUM(R36:R48) -> 0 | S35: =SUM(S36:S48) -> 0 | T35: =SUM(T36:T48) -> 0 | U35: =SUM(U36:U48) -> 0 | ... AA35: =SUM(AA36:AA48) -> 0
A36: D.I.U. T con Cobre | C36: =SUM(D36:M36) -> 0 | AB36: =CA36&CB36&CC36&CD36&CE36&CF36&CG36&CH36&CI36&CJ36&CK36 | CA36: =IF(AND($C36>0,Q36="")," * No olvide digitar la variable "&$Q$33&""&". Digite Cero si no tiene.",IF(Q36>$C36," * La variable "&$Q$33&""&" no puede ser mayor al Total.","")) | CB36: =IF(AND($C36>0,R36="")," * No olvide digitar la variable "&$R$33&""&". Digite Cero si no tiene.", "") | CC36: =IF(AND($C36>0,S36="")," * No olvide digitar la variable "&$S$33&""&". Digite Cero si no tiene.",IF(S36>C36," * La variable "&$S$33&""&" no puede ser mayor al Total.","")) | CD36: =IF(AND($D36+E36>0,T36="")," * No olvide digitar la variable Migrantes "&$T$34&""&". Digite Cero si no tiene.",IF(T36>$D36+E36," * La variable Migrantes "&$T$34&""&" no puede ser mayor al Total.","")) | CE36: =IF(AND($F36+$G36+$H36+$I36+$J36+$K36+$L36+$M36>0,$U36="")," * No olvide digitar la variable Migrantes "&$U$34&""&". Digite Cero si no tiene.",IF($U36>$F36+$G36+$H36+$I36+$J36+$K36+$L36+$M36," * La variable Migrantes "&$U$34&""&" no puede ser mayor al Total.","")) | CF36: =IF(AND($C36>0,V36="")," * No olvide digitar la variable "&$V$33&""&". Digite Cero si no tiene.","") | CG36: =IF(AND($C36>0,W36="")," * No olvide digitar la variable "&$W$33&""&". Digite Cero si no tiene.",IF(W36>$C36," * La variable "&$W$33&""&" no puede ser mayor al Total.","")) | CH36: =IF(AND($C36>0,X36="")," * No olvide digitar la variable "&$X$34&""&". Digite Cero si no tiene.",IF(X36>$C36," * La variable "&$X$34&""&" no puede ser mayor al Total.","")) | CI36: =IF(AND($C36>0,Y36="")," * No olvide digitar la variable "&$Y$34&""&". Digite Cero si no tiene.",IF(Y36>$C36," * La variable "&$Y$34&""&" no puede ser mayor al Total.","")) | CJ36: =IF(AND($C36>0,Z36="")," * No olvide digitar la variable "&$Z$34&""&". Digite Cero si no tiene.",IF(Z36>$C36," * La variable "&$Z$34&""&" no puede ser mayor al Total.","")) | CK36: =IF(AND($C36>0,AA36="")," * No olvide digitar la variable "&$AA$33&""&". Digite Cero si no tiene.",IF(AA36>$C36," * La variable "&$AA$33&""&" no puede ser mayor al Total.","")) | CO36: =IF(AND($C36>0,Q36=""),1,IF(Q36>$C36,1,0)) -> 0 | CP36: =IF(AND($C36>0,R36=""),1,IF(R36>$C36,1,0)) -> 0 | CQ36: =IF(AND($C36>0,S36=""),1,IF(S36>$C36,1,0)) -> 0 | CR36: =IF(AND($D36+$E36>0,$T36=""),1,IF(T36>$D36+$E36,1,0)) -> 0 | CS36: =IF(AND($F36+$G36+$H36+$I36+$J36+$K36+$L36+$M36>0,$U36=""),1,IF($U36>$F36+$G36+$H36+$I36+$J36+$K36+$L36+$M36,1,0)) -> 0 | CT36: =IF(AND($C36>0,V36=""),1,0) -> 0 | CU36: =IF(AND($C36>0,W36=""),1,IF(W36>$C36,1,0)) -> 0 | CV36: =IF(AND($C36>0,X36=""),1,IF(X36>$C36,1,0)) -> 0 | CW36: =IF(AND($C36>0,Y36=""),1,IF(Y36>$C36,1,0)) -> 0 | CX36: =IF(AND($C36>0,Z36=""),1,IF(Z36>$C36,1,0)) -> 0 | CY36: =IF(AND($C36>0,AA36=""),1,IF(AA36>$C36,1,0)) -> 0
A37: D.I.U. con Levonorgestrel | C37: =SUM(D37:M37) -> 0 | AB37: =CA37&CB37&CC37&CD37&CE37&CF37&CG37&CH37&CI37&CJ37&CK37 | CA37: =IF(AND($C37>0,Q37="")," * No olvide digitar la variable "&$Q$33&""&". Digite Cero si no tiene.",IF(Q37>$C37," * La variable "&$Q$33&""&" no puede ser mayor al Total.","")) | CB37: =IF(AND($C37>0,R37="")," * No olvide digitar la variable "&$R$33&""&". Digite Cero si no tiene.", "") | CC37: =IF(AND($C37>0,S37="")," * No olvide digitar la variable "&$S$33&""&". Digite Cero si no tiene.",IF(S37>C37," * La variable "&$S$33&""&" no puede ser mayor al Total.","")) | CD37: =IF(AND($D37+E37>0,T37="")," * No olvide digitar la variable Migrantes "&$T$34&""&". Digite Cero si no tiene.",IF(T37>$D37+E37," * La variable Migrantes "&$T$34&""&" no puede ser mayor al Total.","")) | CE37: =IF(AND($F37+$G37+$H37+$I37+$J37+$K37+$L37+$M37>0,$U37="")," * No olvide digitar la variable Migrantes "&$U$34&""&". Digite Cero si no tiene.",IF($U37>$F37+$G37+$H37+$I37+$J37+$K37+$L37+$M37," * La variable Migrantes "&$U$34&""&" no puede ser mayor al Total.","")) | CF37: =IF(AND($C37>0,V37="")," * No olvide digitar la variable "&$V$33&""&". Digite Cero si no tiene.","") | CG37: =IF(AND($C37>0,W37="")," * No olvide digitar la variable "&$W$33&""&". Digite Cero si no tiene.",IF(W37>$C37," * La variable "&$W$33&""&" no puede ser mayor al Total.","")) | CH37: =IF(AND($C37>0,X37="")," * No olvide digitar la variable "&$X$34&""&". Digite Cero si no tiene.",IF(X37>$C37," * La variable "&$X$34&""&" no puede ser mayor al Total.","")) | CI37: =IF(AND($C37>0,Y37="")," * No olvide digitar la variable "&$Y$34&""&". Digite Cero si no tiene.",IF(Y37>$C37," * La variable "&$Y$34&""&" no puede ser mayor al Total.","")) | CJ37: =IF(AND($C37>0,Z37="")," * No olvide digitar la variable "&$Z$34&""&". Digite Cero si no tiene.",IF(Z37>$C37," * La variable "&$Z$34&""&" no puede ser mayor al Total.","")) | CK37: =IF(AND($C37>0,AA37="")," * No olvide digitar la variable "&$AA$33&""&". Digite Cero si no tiene.",IF(AA37>$C37," * La variable "&$AA$33&""&" no puede ser mayor al Total.","")) | CO37: =IF(AND($C37>0,Q37=""),1,IF(Q37>$C37,1,0)) -> 0 | CP37: =IF(AND($C37>0,R37=""),1,IF(R37>$C37,1,0)) -> 0 | CQ37: =IF(AND($C37>0,S37=""),1,IF(S37>$C37,1,0)) -> 0 | CR37: =IF(AND($D37+$E37>0,$T37=""),1,IF(T37>$D37+$E37,1,0)) -> 0 | CS37: =IF(AND($F37+$G37+$H37+$I37+$J37+$K37+$L37+$M37>0,$U37=""),1,IF($U37>$F37+$G37+$H37+$I37+$J37+$K37+$L37+$M37,1,0)) -> 0 | CT37: =IF(AND($C37>0,V37=""),1,0) -> 0 | CU37: =IF(AND($C37>0,W37=""),1,IF(W37>$C37,1,0)) -> 0 | CV37: =IF(AND($C37>0,X37=""),1,IF(X37>$C37,1,0)) -> 0 | CW37: =IF(AND($C37>0,Y37=""),1,IF(Y37>$C37,1,0)) -> 0 | CX37: =IF(AND($C37>0,Z37=""),1,IF(Z37>$C37,1,0)) -> 0 | CY37: =IF(AND($C37>0,AA37=""),1,IF(AA37>$C37,1,0)) -> 0
A38: Hormonal | B38: Oral Combinado | C38: =SUM(D38:M38) -> 0 | AB38: =CA38&CB38&CC38&CD38&CE38&CF38&CG38&CH38&CI38&CJ38&CK38 | CA38: =IF(AND($C38>0,Q38="")," * No olvide digitar la variable "&$Q$33&""&". Digite Cero si no tiene.",IF(Q38>$C38," * La variable "&$Q$33&""&" no puede ser mayor al Total.","")) | CB38: =IF(AND($C38>0,R38="")," * No olvide digitar la variable "&$R$33&""&". Digite Cero si no tiene.", "") | CC38: =IF(AND($C38>0,S38="")," * No olvide digitar la variable "&$S$33&""&". Digite Cero si no tiene.",IF(S38>C38," * La variable "&$S$33&""&" no puede ser mayor al Total.","")) | CD38: =IF(AND($D38+E38>0,T38="")," * No olvide digitar la variable Migrantes "&$T$34&""&". Digite Cero si no tiene.",IF(T38>$D38+E38," * La variable Migrantes "&$T$34&""&" no puede ser mayor al Total.","")) | CE38: =IF(AND($F38+$G38+$H38+$I38+$J38+$K38+$L38+$M38>0,$U38="")," * No olvide digitar la variable Migrantes "&$U$34&""&". Digite Cero si no tiene.",IF($U38>$F38+$G38+$H38+$I38+$J38+$K38+$L38+$M38," * La variable Migrantes "&$U$34&""&" no puede ser mayor al Total.","")) | CF38: =IF(AND($C38>0,V38="")," * No olvide digitar la variable "&$V$33&""&". Digite Cero si no tiene.","") | CG38: =IF(AND($C38>0,W38="")," * No olvide digitar la variable "&$W$33&""&". Digite Cero si no tiene.",IF(W38>$C38," * La variable "&$W$33&""&" no puede ser mayor al Total.","")) | CH38: =IF(AND($C38>0,X38="")," * No olvide digitar la variable "&$X$34&""&". Digite Cero si no tiene.",IF(X38>$C38," * La variable "&$X$34&""&" no puede ser mayor al Total.","")) | CI38: =IF(AND($C38>0,Y38="")," * No olvide digitar la variable "&$Y$34&""&". Digite Cero si no tiene.",IF(Y38>$C38," * La variable "&$Y$34&""&" no puede ser mayor al Total.","")) | CJ38: =IF(AND($C38>0,Z38="")," * No olvide digitar la variable "&$Z$34&""&". Digite Cero si no tiene.",IF(Z38>$C38," * La variable "&$Z$34&""&" no puede ser mayor al Total.","")) | CK38: =IF(AND($C38>0,AA38="")," * No olvide digitar la variable "&$AA$33&""&". Digite Cero si no tiene.",IF(AA38>$C38," * La variable "&$AA$33&""&" no puede ser mayor al Total.","")) | CO38: =IF(AND($C38>0,Q38=""),1,IF(Q38>$C38,1,0)) -> 0 | CP38: =IF(AND($C38>0,R38=""),1,IF(R38>$C38,1,0)) -> 0 | CQ38: =IF(AND($C38>0,S38=""),1,IF(S38>$C38,1,0)) -> 0 | CR38: =IF(AND($D38+$E38>0,$T38=""),1,IF(T38>$D38+$E38,1,0)) -> 0 | CS38: =IF(AND($F38+$G38+$H38+$I38+$J38+$K38+$L38+$M38>0,$U38=""),1,IF($U38>$F38+$G38+$H38+$I38+$J38+$K38+$L38+$M38,1,0)) -> 0 | CT38: =IF(AND($C38>0,V38=""),1,0) -> 0 | CU38: =IF(AND($C38>0,W38=""),1,IF(W38>$C38,1,0)) -> 0 | CV38: =IF(AND($C38>0,X38=""),1,IF(X38>$C38,1,0)) -> 0 | CW38: =IF(AND($C38>0,Y38=""),1,IF(Y38>$C38,1,0)) -> 0 | CX38: =IF(AND($C38>0,Z38=""),1,IF(Z38>$C38,1,0)) -> 0 | CY38: =IF(AND($C38>0,AA38=""),1,IF(AA38>$C38,1,0)) -> 0
B39: Oral Progestágeno | C39: =SUM(D39:M39) -> 0 | AB39: =CA39&CB39&CC39&CD39&CE39&CF39&CG39&CH39&CI39&CJ39&CK39 | CA39: =IF(AND($C39>0,Q39="")," * No olvide digitar la variable "&$Q$33&""&". Digite Cero si no tiene.",IF(Q39>$C39," * La variable "&$Q$33&""&" no puede ser mayor al Total.","")) | CB39: =IF(AND($C39>0,R39="")," * No olvide digitar la variable "&$R$33&""&". Digite Cero si no tiene.", "") | CC39: =IF(AND($C39>0,S39="")," * No olvide digitar la variable "&$S$33&""&". Digite Cero si no tiene.",IF(S39>C39," * La variable "&$S$33&""&" no puede ser mayor al Total.","")) | CD39: =IF(AND($D39+E39>0,T39="")," * No olvide digitar la variable Migrantes "&$T$34&""&". Digite Cero si no tiene.",IF(T39>$D39+E39," * La variable Migrantes "&$T$34&""&" no puede ser mayor al Total.","")) | CE39: =IF(AND($F39+$G39+$H39+$I39+$J39+$K39+$L39+$M39>0,$U39="")," * No olvide digitar la variable Migrantes "&$U$34&""&". Digite Cero si no tiene.",IF($U39>$F39+$G39+$H39+$I39+$J39+$K39+$L39+$M39," * La variable Migrantes "&$U$34&""&" no puede ser mayor al Total.","")) | CF39: =IF(AND($C39>0,V39="")," * No olvide digitar la variable "&$V$33&""&". Digite Cero si no tiene.","") | CG39: =IF(AND($C39>0,W39="")," * No olvide digitar la variable "&$W$33&""&". Digite Cero si no tiene.",IF(W39>$C39," * La variable "&$W$33&""&" no puede ser mayor al Total.","")) | CH39: =IF(AND($C39>0,X39="")," * No olvide digitar la variable "&$X$34&""&". Digite Cero si no tiene.",IF(X39>$C39," * La variable "&$X$34&""&" no puede ser mayor al Total.","")) | CI39: =IF(AND($C39>0,Y39="")," * No olvide digitar la variable "&$Y$34&""&". Digite Cero si no tiene.",IF(Y39>$C39," * La variable "&$Y$34&""&" no puede ser mayor al Total.","")) | CJ39: =IF(AND($C39>0,Z39="")," * No olvide digitar la variable "&$Z$34&""&". Digite Cero si no tiene.",IF(Z39>$C39," * La variable "&$Z$34&""&" no puede ser mayor al Total.","")) | CK39: =IF(AND($C39>0,AA39="")," * No olvide digitar la variable "&$AA$33&""&". Digite Cero si no tiene.",IF(AA39>$C39," * La variable "&$AA$33&""&" no puede ser mayor al Total.","")) | CO39: =IF(AND($C39>0,Q39=""),1,IF(Q39>$C39,1,0)) -> 0 | CP39: =IF(AND($C39>0,R39=""),1,IF(R39>$C39,1,0)) -> 0 | CQ39: =IF(AND($C39>0,S39=""),1,IF(S39>$C39,1,0)) -> 0 | CR39: =IF(AND($D39+$E39>0,$T39=""),1,IF(T39>$D39+$E39,1,0)) -> 0 | CS39: =IF(AND($F39+$G39+$H39+$I39+$J39+$K39+$L39+$M39>0,$U39=""),1,IF($U39>$F39+$G39+$H39+$I39+$J39+$K39+$L39+$M39,1,0)) -> 0 | CT39: =IF(AND($C39>0,V39=""),1,0) -> 0 | CU39: =IF(AND($C39>0,W39=""),1,IF(W39>$C39,1,0)) -> 0 | CV39: =IF(AND($C39>0,X39=""),1,IF(X39>$C39,1,0)) -> 0 | CW39: =IF(AND($C39>0,Y39=""),1,IF(Y39>$C39,1,0)) -> 0 | CX39: =IF(AND($C39>0,Z39=""),1,IF(Z39>$C39,1,0)) -> 0 | CY39: =IF(AND($C39>0,AA39=""),1,IF(AA39>$C39,1,0)) -> 0
B40: Inyectable Combinado | C40: =SUM(D40:M40) -> 0 | AB40: =CA40&CB40&CC40&CD40&CE40&CF40&CG40&CH40&CI40&CJ40&CK40 | CA40: =IF(AND($C40>0,Q40="")," * No olvide digitar la variable "&$Q$33&""&". Digite Cero si no tiene.",IF(Q40>$C40," * La variable "&$Q$33&""&" no puede ser mayor al Total.","")) | CB40: =IF(AND($C40>0,R40="")," * No olvide digitar la variable "&$R$33&""&". Digite Cero si no tiene.", "") | CC40: =IF(AND($C40>0,S40="")," * No olvide digitar la variable "&$S$33&""&". Digite Cero si no tiene.",IF(S40>C40," * La variable "&$S$33&""&" no puede ser mayor al Total.","")) | CD40: =IF(AND($D40+E40>0,T40="")," * No olvide digitar la variable Migrantes "&$T$34&""&". Digite Cero si no tiene.",IF(T40>$D40+E40," * La variable Migrantes "&$T$34&""&" no puede ser mayor al Total.","")) | CE40: =IF(AND($F40+$G40+$H40+$I40+$J40+$K40+$L40+$M40>0,$U40="")," * No olvide digitar la variable Migrantes "&$U$34&""&". Digite Cero si no tiene.",IF($U40>$F40+$G40+$H40+$I40+$J40+$K40+$L40+$M40," * La variable Migrantes "&$U$34&""&" no puede ser mayor al Total.","")) | CF40: =IF(AND($C40>0,V40="")," * No olvide digitar la variable "&$V$33&""&". Digite Cero si no tiene.","") | CG40: =IF(AND($C40>0,W40="")," * No olvide digitar la variable "&$W$33&""&". Digite Cero si no tiene.",IF(W40>$C40," * La variable "&$W$33&""&" no puede ser mayor al Total.","")) | CH40: =IF(AND($C40>0,X40="")," * No olvide digitar la variable "&$X$34&""&". Digite Cero si no tiene.",IF(X40>$C40," * La variable "&$X$34&""&" no puede ser mayor al Total.","")) | CI40: =IF(AND($C40>0,Y40="")," * No olvide digitar la variable "&$Y$34&""&". Digite Cero si no tiene.",IF(Y40>$C40," * La variable "&$Y$34&""&" no puede ser mayor al Total.","")) | CJ40: =IF(AND($C40>0,Z40="")," * No olvide digitar la variable "&$Z$34&""&". Digite Cero si no tiene.",IF(Z40>$C40," * La variable "&$Z$34&""&" no puede ser mayor al Total.","")) | CK40: =IF(AND($C40>0,AA40="")," * No olvide digitar la variable "&$AA$33&""&". Digite Cero si no tiene.",IF(AA40>$C40," * La variable "&$AA$33&""&" no puede ser mayor al Total.","")) | CO40: =IF(AND($C40>0,Q40=""),1,IF(Q40>$C40,1,0)) -> 0 | CP40: =IF(AND($C40>0,R40=""),1,IF(R40>$C40,1,0)) -> 0 | CQ40: =IF(AND($C40>0,S40=""),1,IF(S40>$C40,1,0)) -> 0 | CR40: =IF(AND($D40+$E40>0,$T40=""),1,IF(T40>$D40+$E40,1,0)) -> 0 | CS40: =IF(AND($F40+$G40+$H40+$I40+$J40+$K40+$L40+$M40>0,$U40=""),1,IF($U40>$F40+$G40+$H40+$I40+$J40+$K40+$L40+$M40,1,0)) -> 0 | CT40: =IF(AND($C40>0,V40=""),1,0) -> 0 | CU40: =IF(AND($C40>0,W40=""),1,IF(W40>$C40,1,0)) -> 0 | CV40: =IF(AND($C40>0,X40=""),1,IF(X40>$C40,1,0)) -> 0 | CW40: =IF(AND($C40>0,Y40=""),1,IF(Y40>$C40,1,0)) -> 0 | CX40: =IF(AND($C40>0,Z40=""),1,IF(Z40>$C40,1,0)) -> 0 | CY40: =IF(AND($C40>0,AA40=""),1,IF(AA40>$C40,1,0)) -> 0
B41: Inyectable Progestágeno | C41: =SUM(D41:M41) -> 0 | AB41: =CA41&CB41&CC41&CD41&CE41&CF41&CG41&CH41&CI41&CJ41&CK41 | CA41: =IF(AND($C41>0,Q41="")," * No olvide digitar la variable "&$Q$33&""&". Digite Cero si no tiene.",IF(Q41>$C41," * La variable "&$Q$33&""&" no puede ser mayor al Total.","")) | CB41: =IF(AND($C41>0,R41="")," * No olvide digitar la variable "&$R$33&""&". Digite Cero si no tiene.", "") | CC41: =IF(AND($C41>0,S41="")," * No olvide digitar la variable "&$S$33&""&". Digite Cero si no tiene.",IF(S41>C41," * La variable "&$S$33&""&" no puede ser mayor al Total.","")) | CD41: =IF(AND($D41+E41>0,T41="")," * No olvide digitar la variable Migrantes "&$T$34&""&". Digite Cero si no tiene.",IF(T41>$D41+E41," * La variable Migrantes "&$T$34&""&" no puede ser mayor al Total.","")) | CE41: =IF(AND($F41+$G41+$H41+$I41+$J41+$K41+$L41+$M41>0,$U41="")," * No olvide digitar la variable Migrantes "&$U$34&""&". Digite Cero si no tiene.",IF($U41>$F41+$G41+$H41+$I41+$J41+$K41+$L41+$M41," * La variable Migrantes "&$U$34&""&" no puede ser mayor al Total.","")) | CF41: =IF(AND($C41>0,V41="")," * No olvide digitar la variable "&$V$33&""&". Digite Cero si no tiene.","") | CG41: =IF(AND($C41>0,W41="")," * No olvide digitar la variable "&$W$33&""&". Digite Cero si no tiene.",IF(W41>$C41," * La variable "&$W$33&""&" no puede ser mayor al Total.","")) | CH41: =IF(AND($C41>0,X41="")," * No olvide digitar la variable "&$X$34&""&". Digite Cero si no tiene.",IF(X41>$C41," * La variable "&$X$34&""&" no puede ser mayor al Total.","")) | CI41: =IF(AND($C41>0,Y41="")," * No olvide digitar la variable "&$Y$34&""&". Digite Cero si no tiene.",IF(Y41>$C41," * La variable "&$Y$34&""&" no puede ser mayor al Total.","")) | CJ41: =IF(AND($C41>0,Z41="")," * No olvide digitar la variable "&$Z$34&""&". Digite Cero si no tiene.",IF(Z41>$C41," * La variable "&$Z$34&""&" no puede ser mayor al Total.","")) | CK41: =IF(AND($C41>0,AA41="")," * No olvide digitar la variable "&$AA$33&""&". Digite Cero si no tiene.",IF(AA41>$C41," * La variable "&$AA$33&""&" no puede ser mayor al Total.","")) | CO41: =IF(AND($C41>0,Q41=""),1,IF(Q41>$C41,1,0)) -> 0 | CP41: =IF(AND($C41>0,R41=""),1,IF(R41>$C41,1,0)) -> 0 | CQ41: =IF(AND($C41>0,S41=""),1,IF(S41>$C41,1,0)) -> 0 | CR41: =IF(AND($D41+$E41>0,$T41=""),1,IF(T41>$D41+$E41,1,0)) -> 0 | CS41: =IF(AND($F41+$G41+$H41+$I41+$J41+$K41+$L41+$M41>0,$U41=""),1,IF($U41>$F41+$G41+$H41+$I41+$J41+$K41+$L41+$M41,1,0)) -> 0 | CT41: =IF(AND($C41>0,V41=""),1,0) -> 0 | CU41: =IF(AND($C41>0,W41=""),1,IF(W41>$C41,1,0)) -> 0 | CV41: =IF(AND($C41>0,X41=""),1,IF(X41>$C41,1,0)) -> 0 | CW41: =IF(AND($C41>0,Y41=""),1,IF(Y41>$C41,1,0)) -> 0 | CX41: =IF(AND($C41>0,Z41=""),1,IF(Z41>$C41,1,0)) -> 0 | CY41: =IF(AND($C41>0,AA41=""),1,IF(AA41>$C41,1,0)) -> 0
B42: Implante Etonogestrel (3 años) | C42: =SUM(D42:M42) -> 0 | AB42: =CA42&CB42&CC42&CD42&CE42&CF42&CG42&CH42&CI42&CJ42&CK42 | CA42: =IF(AND($C42>0,Q42="")," * No olvide digitar la variable "&$Q$33&""&". Digite Cero si no tiene.",IF(Q42>$C42," * La variable "&$Q$33&""&" no puede ser mayor al Total.","")) | CB42: =IF(AND($C42>0,R42="")," * No olvide digitar la variable "&$R$33&""&". Digite Cero si no tiene.", "") | CC42: =IF(AND($C42>0,S42="")," * No olvide digitar la variable "&$S$33&""&". Digite Cero si no tiene.",IF(S42>C42," * La variable "&$S$33&""&" no puede ser mayor al Total.","")) | CD42: =IF(AND($D42+E42>0,T42="")," * No olvide digitar la variable Migrantes "&$T$34&""&". Digite Cero si no tiene.",IF(T42>$D42+E42," * La variable Migrantes "&$T$34&""&" no puede ser mayor al Total.","")) | CE42: =IF(AND($F42+$G42+$H42+$I42+$J42+$K42+$L42+$M42>0,$U42="")," * No olvide digitar la variable Migrantes "&$U$34&""&". Digite Cero si no tiene.",IF($U42>$F42+$G42+$H42+$I42+$J42+$K42+$L42+$M42," * La variable Migrantes "&$U$34&""&" no puede ser mayor al Total.","")) | CF42: =IF(AND($C42>0,V42="")," * No olvide digitar la variable "&$V$33&""&". Digite Cero si no tiene.","") | CG42: =IF(AND($C42>0,W42="")," * No olvide digitar la variable "&$W$33&""&". Digite Cero si no tiene.",IF(W42>$C42," * La variable "&$W$33&""&" no puede ser mayor al Total.","")) | CH42: =IF(AND($C42>0,X42="")," * No olvide digitar la variable "&$X$34&""&". Digite Cero si no tiene.",IF(X42>$C42," * La variable "&$X$34&""&" no puede ser mayor al Total.","")) | CI42: =IF(AND($C42>0,Y42="")," * No olvide digitar la variable "&$Y$34&""&". Digite Cero si no tiene.",IF(Y42>$C42," * La variable "&$Y$34&""&" no puede ser mayor al Total.","")) | CJ42: =IF(AND($C42>0,Z42="")," * No olvide digitar la variable "&$Z$34&""&". Digite Cero si no tiene.",IF(Z42>$C42," * La variable "&$Z$34&""&" no puede ser mayor al Total.","")) | CK42: =IF(AND($C42>0,AA42="")," * No olvide digitar la variable "&$AA$33&""&". Digite Cero si no tiene.",IF(AA42>$C42," * La variable "&$AA$33&""&" no puede ser mayor al Total.","")) | CO42: =IF(AND($C42>0,Q42=""),1,IF(Q42>$C42,1,0)) -> 0 | CP42: =IF(AND($C42>0,R42=""),1,IF(R42>$C42,1,0)) -> 0 | CQ42: =IF(AND($C42>0,S42=""),1,IF(S42>$C42,1,0)) -> 0 | CR42: =IF(AND($D42+$E42>0,$T42=""),1,IF(T42>$D42+$E42,1,0)) -> 0 | CS42: =IF(AND($F42+$G42+$H42+$I42+$J42+$K42+$L42+$M42>0,$U42=""),1,IF($U42>$F42+$G42+$H42+$I42+$J42+$K42+$L42+$M42,1,0)) -> 0 | CT42: =IF(AND($C42>0,V42=""),1,0) -> 0 | CU42: =IF(AND($C42>0,W42=""),1,IF(W42>$C42,1,0)) -> 0 | CV42: =IF(AND($C42>0,X42=""),1,IF(X42>$C42,1,0)) -> 0 | CW42: =IF(AND($C42>0,Y42=""),1,IF(Y42>$C42,1,0)) -> 0 | CX42: =IF(AND($C42>0,Z42=""),1,IF(Z42>$C42,1,0)) -> 0 | CY42: =IF(AND($C42>0,AA42=""),1,IF(AA42>$C42,1,0)) -> 0
B43: Implante Levonorgestrel (5 años) | C43: =SUM(D43:M43) -> 0 | AB43: =CA43&CB43&CC43&CD43&CE43&CF43&CG43&CH43&CI43&CJ43&CK43 | CA43: =IF(AND($C43>0,Q43="")," * No olvide digitar la variable "&$Q$33&""&". Digite Cero si no tiene.",IF(Q43>$C43," * La variable "&$Q$33&""&" no puede ser mayor al Total.","")) | CB43: =IF(AND($C43>0,R43="")," * No olvide digitar la variable "&$R$33&""&". Digite Cero si no tiene.", "") | CC43: =IF(AND($C43>0,S43="")," * No olvide digitar la variable "&$S$33&""&". Digite Cero si no tiene.",IF(S43>C43," * La variable "&$S$33&""&" no puede ser mayor al Total.","")) | CD43: =IF(AND($D43+E43>0,T43="")," * No olvide digitar la variable Migrantes "&$T$34&""&". Digite Cero si no tiene.",IF(T43>$D43+E43," * La variable Migrantes "&$T$34&""&" no puede ser mayor al Total.","")) | CE43: =IF(AND($F43+$G43+$H43+$I43+$J43+$K43+$L43+$M43>0,$U43="")," * No olvide digitar la variable Migrantes "&$U$34&""&". Digite Cero si no tiene.",IF($U43>$F43+$G43+$H43+$I43+$J43+$K43+$L43+$M43," * La variable Migrantes "&$U$34&""&" no puede ser mayor al Total.","")) | CF43: =IF(AND($C43>0,V43="")," * No olvide digitar la variable "&$V$33&""&". Digite Cero si no tiene.","") | CG43: =IF(AND($C43>0,W43="")," * No olvide digitar la variable "&$W$33&""&". Digite Cero si no tiene.",IF(W43>$C43," * La variable "&$W$33&""&" no puede ser mayor al Total.","")) | CH43: =IF(AND($C43>0,X43="")," * No olvide digitar la variable "&$X$34&""&". Digite Cero si no tiene.",IF(X43>$C43," * La variable "&$X$34&""&" no puede ser mayor al Total.","")) | CI43: =IF(AND($C43>0,Y43="")," * No olvide digitar la variable "&$Y$34&""&". Digite Cero si no tiene.",IF(Y43>$C43," * La variable "&$Y$34&""&" no puede ser mayor al Total.","")) | CJ43: =IF(AND($C43>0,Z43="")," * No olvide digitar la variable "&$Z$34&""&". Digite Cero si no tiene.",IF(Z43>$C43," * La variable "&$Z$34&""&" no puede ser mayor al Total.","")) | CK43: =IF(AND($C43>0,AA43="")," * No olvide digitar la variable "&$AA$33&""&". Digite Cero si no tiene.",IF(AA43>$C43," * La variable "&$AA$33&""&" no puede ser mayor al Total.","")) | CO43: =IF(AND($C43>0,Q43=""),1,IF(Q43>$C43,1,0)) -> 0 | CP43: =IF(AND($C43>0,R43=""),1,IF(R43>$C43,1,0)) -> 0 | CQ43: =IF(AND($C43>0,S43=""),1,IF(S43>$C43,1,0)) -> 0 | CR43: =IF(AND($D43+$E43>0,$T43=""),1,IF(T43>$D43+$E43,1,0)) -> 0 | CS43: =IF(AND($F43+$G43+$H43+$I43+$J43+$K43+$L43+$M43>0,$U43=""),1,IF($U43>$F43+$G43+$H43+$I43+$J43+$K43+$L43+$M43,1,0)) -> 0 | CT43: =IF(AND($C43>0,V43=""),1,0) -> 0 | CU43: =IF(AND($C43>0,W43=""),1,IF(W43>$C43,1,0)) -> 0 | CV43: =IF(AND($C43>0,X43=""),1,IF(X43>$C43,1,0)) -> 0 | CW43: =IF(AND($C43>0,Y43=""),1,IF(Y43>$C43,1,0)) -> 0 | CX43: =IF(AND($C43>0,Z43=""),1,IF(Z43>$C43,1,0)) -> 0 | CY43: =IF(AND($C43>0,AA43=""),1,IF(AA43>$C43,1,0)) -> 0
B44: Anillo Vaginal | C44: =SUM(D44:M44) -> 0 | AB44: =CA44&CB44&CC44&CD44&CE44&CF44&CG44&CH44&CI44&CJ44&CK44 | CA44: =IF(AND($C44>0,Q44="")," * No olvide digitar la variable "&$Q$33&""&". Digite Cero si no tiene.",IF(Q44>$C44," * La variable "&$Q$33&""&" no puede ser mayor al Total.","")) | CB44: =IF(AND($C44>0,R44="")," * No olvide digitar la variable "&$R$33&""&". Digite Cero si no tiene.", "") | CC44: =IF(AND($C44>0,S44="")," * No olvide digitar la variable "&$S$33&""&". Digite Cero si no tiene.",IF(S44>C44," * La variable "&$S$33&""&" no puede ser mayor al Total.","")) | CD44: =IF(AND($D44+E44>0,T44="")," * No olvide digitar la variable Migrantes "&$T$34&""&". Digite Cero si no tiene.",IF(T44>$D44+E44," * La variable Migrantes "&$T$34&""&" no puede ser mayor al Total.","")) | CE44: =IF(AND($F44+$G44+$H44+$I44+$J44+$K44+$L44+$M44>0,$U44="")," * No olvide digitar la variable Migrantes "&$U$34&""&". Digite Cero si no tiene.",IF($U44>$F44+$G44+$H44+$I44+$J44+$K44+$L44+$M44," * La variable Migrantes "&$U$34&""&" no puede ser mayor al Total.","")) | CF44: =IF(AND($C44>0,V44="")," * No olvide digitar la variable "&$V$33&""&". Digite Cero si no tiene.","") | CG44: =IF(AND($C44>0,W44="")," * No olvide digitar la variable "&$W$33&""&". Digite Cero si no tiene.",IF(W44>$C44," * La variable "&$W$33&""&" no puede ser mayor al Total.","")) | CH44: =IF(AND($C44>0,X44="")," * No olvide digitar la variable "&$X$34&""&". Digite Cero si no tiene.",IF(X44>$C44," * La variable "&$X$34&""&" no puede ser mayor al Total.","")) | CI44: =IF(AND($C44>0,Y44="")," * No olvide digitar la variable "&$Y$34&""&". Digite Cero si no tiene.",IF(Y44>$C44," * La variable "&$Y$34&""&" no puede ser mayor al Total.","")) | CJ44: =IF(AND($C44>0,Z44="")," * No olvide digitar la variable "&$Z$34&""&". Digite Cero si no tiene.",IF(Z44>$C44," * La variable "&$Z$34&""&" no puede ser mayor al Total.","")) | CK44: =IF(AND($C44>0,AA44="")," * No olvide digitar la variable "&$AA$33&""&". Digite Cero si no tiene.",IF(AA44>$C44," * La variable "&$AA$33&""&" no puede ser mayor al Total.","")) | CO44: =IF(AND($C44>0,Q44=""),1,IF(Q44>$C44,1,0)) -> 0 | CP44: =IF(AND($C44>0,R44=""),1,IF(R44>$C44,1,0)) -> 0 | CQ44: =IF(AND($C44>0,S44=""),1,IF(S44>$C44,1,0)) -> 0 | CR44: =IF(AND($D44+$E44>0,$T44=""),1,IF(T44>$D44+$E44,1,0)) -> 0 | CS44: =IF(AND($F44+$G44+$H44+$I44+$J44+$K44+$L44+$M44>0,$U44=""),1,IF($U44>$F44+$G44+$H44+$I44+$J44+$K44+$L44+$M44,1,0)) -> 0 | CT44: =IF(AND($C44>0,V44=""),1,0) -> 0 | CU44: =IF(AND($C44>0,W44=""),1,IF(W44>$C44,1,0)) -> 0 | CV44: =IF(AND($C44>0,X44=""),1,IF(X44>$C44,1,0)) -> 0 | CW44: =IF(AND($C44>0,Y44=""),1,IF(Y44>$C44,1,0)) -> 0 | CX44: =IF(AND($C44>0,Z44=""),1,IF(Z44>$C44,1,0)) -> 0 | CY44: =IF(AND($C44>0,AA44=""),1,IF(AA44>$C44,1,0)) -> 0
A45: Sólo preservativo MAC | B45: Mujer | C45: =SUM(D45:P45) -> 0 | AB45: =CA45&CB45&CC45&CD45&CE45&CF45&CG45&CH45&CI45&CJ45&CK45 | CA45: =IF(AND($C45>0,Q45="")," * No olvide digitar la variable "&$Q$33&""&". Digite Cero si no tiene.",IF(Q45>$C45," * La variable "&$Q$33&""&" no puede ser mayor al Total.","")) | CB45: =IF(AND($C45>0,R45="")," * No olvide digitar la variable "&$R$33&""&". Digite Cero si no tiene.", "") | CC45: =IF(AND($C45>0,S45="")," * No olvide digitar la variable "&$S$33&""&". Digite Cero si no tiene.",IF(S45>C45," * La variable "&$S$33&""&" no puede ser mayor al Total.","")) | CD45: =IF(AND($D45+E45>0,T45="")," * No olvide digitar la variable Migrantes "&$T$34&""&". Digite Cero si no tiene.",IF(T45>$D45+E45," * La variable Migrantes "&$T$34&""&" no puede ser mayor al Total.","")) | CE45: =IF(AND($F45+$G45+$H45+$I45+$J45+$K45+$L45+$M45>0,$U45="")," * No olvide digitar la variable Migrantes "&$U$34&""&". Digite Cero si no tiene.",IF($U45>$F45+$G45+$H45+$I45+$J45+$K45+$L45+$M45," * La variable Migrantes "&$U$34&""&" no puede ser mayor al Total.","")) | CF45: =IF(AND($C45>0,V45="")," * No olvide digitar la variable "&$V$33&""&". Digite Cero si no tiene.","") | CG45: =IF(AND($C45>0,W45="")," * No olvide digitar la variable "&$W$33&""&". Digite Cero si no tiene.",IF(W45>$C45," * La variable "&$W$33&""&" no puede ser mayor al Total.","")) | CH45: =IF(AND($C45>0,X45="")," * No olvide digitar la variable "&$X$34&""&". Digite Cero si no tiene.",IF(X45>$C45," * La variable "&$X$34&""&" no puede ser mayor al Total.","")) | CI45: =IF(AND($C45>0,Y45="")," * No olvide digitar la variable "&$Y$34&""&". Digite Cero si no tiene.",IF(Y45>$C45," * La variable "&$Y$34&""&" no puede ser mayor al Total.","")) | CJ45: =IF(AND($C45>0,Z45="")," * No olvide digitar la variable "&$Z$34&""&". Digite Cero si no tiene.",IF(Z45>$C45," * La variable "&$Z$34&""&" no puede ser mayor al Total.","")) | CK45: =IF(AND($C45>0,AA45="")," * No olvide digitar la variable "&$AA$33&""&". Digite Cero si no tiene.",IF(AA45>$C45," * La variable "&$AA$33&""&" no puede ser mayor al Total.","")) | CO45: =IF(AND($C45>0,Q45=""),1,IF(Q45>$C45,1,0)) -> 0 | CP45: =IF(AND($C45>0,R45=""),1,IF(R45>$C45,1,0)) -> 0 | CQ45: =IF(AND($C45>0,S45=""),1,IF(S45>$C45,1,0)) -> 0 | CR45: =IF(AND($D45+$E45>0,$T45=""),1,IF(T45>$D45+$E45,1,0)) -> 0 | CS45: =IF(AND($F45+$G45+$H45+$I45+$J45+$K45+$L45+$M45>0,$U45=""),1,IF($U45>$F45+$G45+$H45+$I45+$J45+$K45+$L45+$M45,1,0)) -> 0 | CT45: =IF(AND($C45>0,V45=""),1,0) -> 0 | CU45: =IF(AND($C45>0,W45=""),1,IF(W45>$C45,1,0)) -> 0 | CV45: =IF(AND($C45>0,X45=""),1,IF(X45>$C45,1,0)) -> 0 | CW45: =IF(AND($C45>0,Y45=""),1,IF(Y45>$C45,1,0)) -> 0 | CX45: =IF(AND($C45>0,Z45=""),1,IF(Z45>$C45,1,0)) -> 0 | CY45: =IF(AND($C45>0,AA45=""),1,IF(AA45>$C45,1,0)) -> 0
B46: Hombres | C46: =SUM(D46:P46) -> 0 | AB46: =CA46&CB46&CC46&CD46&CE46&CF46&CG46&CH46&CI46&CJ46&CK46 | CA46: =IF(AND($C46>0,Q46="")," * No olvide digitar la variable "&$Q$33&""&". Digite Cero si no tiene.",IF(Q46>$C46," * La variable "&$Q$33&""&" no puede ser mayor al Total.","")) | CB46: =IF(AND($C46>0,R46="")," * No olvide digitar la variable "&$R$33&""&". Digite Cero si no tiene.", "") | CC46: =IF(AND($C46>0,S46="")," * No olvide digitar la variable "&$S$33&""&". Digite Cero si no tiene.",IF(S46>C46," * La variable "&$S$33&""&" no puede ser mayor al Total.","")) | CD46: =IF(AND($D46+E46>0,T46="")," * No olvide digitar la variable Migrantes "&$T$34&""&". Digite Cero si no tiene.",IF(T46>$D46+E46," * La variable Migrantes "&$T$34&""&" no puede ser mayor al Total.","")) | CE46: =IF(AND($F46+$G46+$H46+$I46+$J46+$K46+$L46+$M46>0,$U46="")," * No olvide digitar la variable Migrantes "&$U$34&""&". Digite Cero si no tiene.",IF($U46>$F46+$G46+$H46+$I46+$J46+$K46+$L46+$M46," * La variable Migrantes "&$U$34&""&" no puede ser mayor al Total.","")) | CF46: =IF(AND($C46>0,V46="")," * No olvide digitar la variable "&$V$33&""&". Digite Cero si no tiene.","") | CG46: =IF(AND($C46>0,W46="")," * No olvide digitar la variable "&$W$33&""&". Digite Cero si no tiene.",IF(W46>$C46," * La variable "&$W$33&""&" no puede ser mayor al Total.","")) | CH46: =IF(AND($C46>0,X46="")," * No olvide digitar la variable "&$X$34&""&". Digite Cero si no tiene.",IF(X46>$C46," * La variable "&$X$34&""&" no puede ser mayor al Total.","")) | CI46: =IF(AND($C46>0,Y46="")," * No olvide digitar la variable "&$Y$34&""&". Digite Cero si no tiene.",IF(Y46>$C46," * La variable "&$Y$34&""&" no puede ser mayor al Total.","")) | CJ46: =IF(AND($C46>0,Z46="")," * No olvide digitar la variable "&$Z$34&""&". Digite Cero si no tiene.",IF(Z46>$C46," * La variable "&$Z$34&""&" no puede ser mayor al Total.","")) | CK46: =IF(AND($C46>0,AA46="")," * No olvide digitar la variable "&$AA$33&""&". Digite Cero si no tiene.",IF(AA46>$C46," * La variable "&$AA$33&""&" no puede ser mayor al Total.","")) | CO46: =IF(AND($C46>0,Q46=""),1,IF(Q46>$C46,1,0)) -> 0 | CP46: =IF(AND($C46>0,R46=""),1,IF(R46>$C46,1,0)) -> 0 | CQ46: =IF(AND($C46>0,S46=""),1,IF(S46>$C46,1,0)) -> 0 | CR46: =IF(AND($D46+$E46>0,$T46=""),1,IF(T46>$D46+$E46,1,0)) -> 0 | CS46: =IF(AND($F46+$G46+$H46+$I46+$J46+$K46+$L46+$M46>0,$U46=""),1,IF($U46>$F46+$G46+$H46+$I46+$J46+$K46+$L46+$M46,1,0)) -> 0 | CT46: =IF(AND($C46>0,V46=""),1,0) -> 0 | CU46: =IF(AND($C46>0,W46=""),1,IF(W46>$C46,1,0)) -> 0 | CV46: =IF(AND($C46>0,X46=""),1,IF(X46>$C46,1,0)) -> 0 | CW46: =IF(AND($C46>0,Y46=""),1,IF(Y46>$C46,1,0)) -> 0 | CX46: =IF(AND($C46>0,Z46=""),1,IF(Z46>$C46,1,0)) -> 0 | CY46: =IF(AND($C46>0,AA46=""),1,IF(AA46>$C46,1,0)) -> 0
A47: Esterilización Quirúrgica | B47: Mujer | C47: =SUM(D47:M47) -> 0 | AB47: =CA47&CB47&CC47&CD47&CE47&CF47&CG47&CH47&CI47&CJ47&CK47 | CA47: =IF(AND($C47>0,Q47="")," * No olvide digitar la variable "&$Q$33&""&". Digite Cero si no tiene.",IF(Q47>$C47," * La variable "&$Q$33&""&" no puede ser mayor al Total.","")) | CB47: =IF(AND($C47>0,R47="")," * No olvide digitar la variable "&$R$33&""&". Digite Cero si no tiene.", "") | CC47: =IF(AND($C47>0,S47="")," * No olvide digitar la variable "&$S$33&""&". Digite Cero si no tiene.",IF(S47>C47," * La variable "&$S$33&""&" no puede ser mayor al Total.","")) | CD47: =IF(AND($D47+E47>0,T47="")," * No olvide digitar la variable Migrantes "&$T$34&""&". Digite Cero si no tiene.",IF(T47>$D47+E47," * La variable Migrantes "&$T$34&""&" no puede ser mayor al Total.","")) | CE47: =IF(AND($F47+$G47+$H47+$I47+$J47+$K47+$L47+$M47>0,$U47="")," * No olvide digitar la variable Migrantes "&$U$34&""&". Digite Cero si no tiene.",IF($U47>$F47+$G47+$H47+$I47+$J47+$K47+$L47+$M47," * La variable Migrantes "&$U$34&""&" no puede ser mayor al Total.","")) | CF47: =IF(AND($C47>0,V47="")," * No olvide digitar la variable "&$V$33&""&". Digite Cero si no tiene.","") | CG47: =IF(AND($C47>0,W47="")," * No olvide digitar la variable "&$W$33&""&". Digite Cero si no tiene.",IF(W47>$C47," * La variable "&$W$33&""&" no puede ser mayor al Total.","")) | CH47: =IF(AND($C47>0,X47="")," * No olvide digitar la variable "&$X$34&""&". Digite Cero si no tiene.",IF(X47>$C47," * La variable "&$X$34&""&" no puede ser mayor al Total.","")) | CI47: =IF(AND($C47>0,Y47="")," * No olvide digitar la variable "&$Y$34&""&". Digite Cero si no tiene.",IF(Y47>$C47," * La variable "&$Y$34&""&" no puede ser mayor al Total.","")) | CJ47: =IF(AND($C47>0,Z47="")," * No olvide digitar la variable "&$Z$34&""&". Digite Cero si no tiene.",IF(Z47>$C47," * La variable "&$Z$34&""&" no puede ser mayor al Total.","")) | CK47: =IF(AND($C47>0,AA47="")," * No olvide digitar la variable "&$AA$33&""&". Digite Cero si no tiene.",IF(AA47>$C47," * La variable "&$AA$33&""&" no puede ser mayor al Total.","")) | CO47: =IF(AND($C47>0,Q47=""),1,IF(Q47>$C47,1,0)) -> 0 | CP47: =IF(AND($C47>0,R47=""),1,IF(R47>$C47,1,0)) -> 0 | CQ47: =IF(AND($C47>0,S47=""),1,IF(S47>$C47,1,0)) -> 0 | CR47: =IF(AND($D47+$E47>0,$T47=""),1,IF(T47>$D47+$E47,1,0)) -> 0 | CS47: =IF(AND($F47+$G47+$H47+$I47+$J47+$K47+$L47+$M47>0,$U47=""),1,IF($U47>$F47+$G47+$H47+$I47+$J47+$K47+$L47+$M47,1,0)) -> 0 | CT47: =IF(AND($C47>0,V47=""),1,0) -> 0 | CU47: =IF(AND($C47>0,W47=""),1,IF(W47>$C47,1,0)) -> 0 | CV47: =IF(AND($C47>0,X47=""),1,IF(X47>$C47,1,0)) -> 0 | CW47: =IF(AND($C47>0,Y47=""),1,IF(Y47>$C47,1,0)) -> 0 | CX47: =IF(AND($C47>0,Z47=""),1,IF(Z47>$C47,1,0)) -> 0 | CY47: =IF(AND($C47>0,AA47=""),1,IF(AA47>$C47,1,0)) -> 0
B48: Hombres | C48: =SUM(D48:M48) -> 0 | AB48: =CA48&CB48&CC48&CD48&CE48&CF48&CG48&CH48&CI48&CJ48&CK48 | CA48: =IF(AND($C48>0,Q48="")," * No olvide digitar la variable "&$Q$33&""&". Digite Cero si no tiene.",IF(Q48>$C48," * La variable "&$Q$33&""&" no puede ser mayor al Total.","")) | CB48: =IF(AND($C48>0,R48="")," * No olvide digitar la variable "&$R$33&""&". Digite Cero si no tiene.", "") | CC48: =IF(AND($C48>0,S48="")," * No olvide digitar la variable "&$S$33&""&". Digite Cero si no tiene.",IF(S48>C48," * La variable "&$S$33&""&" no puede ser mayor al Total.","")) | CD48: =IF(AND($D48+E48>0,T48="")," * No olvide digitar la variable Migrantes "&$T$34&""&". Digite Cero si no tiene.",IF(T48>$D48+E48," * La variable Migrantes "&$T$34&""&" no puede ser mayor al Total.","")) | CE48: =IF(AND($F48+$G48+$H48+$I48+$J48+$K48+$L48+$M48>0,$U48="")," * No olvide digitar la variable Migrantes "&$U$34&""&". Digite Cero si no tiene.",IF($U48>$F48+$G48+$H48+$I48+$J48+$K48+$L48+$M48," * La variable Migrantes "&$U$34&""&" no puede ser mayor al Total.","")) | CF48: =IF(AND($C48>0,V48="")," * No olvide digitar la variable "&$V$33&""&". Digite Cero si no tiene.","") | CG48: =IF(AND($C48>0,W48="")," * No olvide digitar la variable "&$W$33&""&". Digite Cero si no tiene.",IF(W48>$C48," * La variable "&$W$33&""&" no puede ser mayor al Total.","")) | CH48: =IF(AND($C48>0,X48="")," * No olvide digitar la variable "&$X$34&""&". Digite Cero si no tiene.",IF(X48>$C48," * La variable "&$X$34&""&" no puede ser mayor al Total.","")) | CI48: =IF(AND($C48>0,Y48="")," * No olvide digitar la variable "&$Y$34&""&". Digite Cero si no tiene.",IF(Y48>$C48," * La variable "&$Y$34&""&" no puede ser mayor al Total.","")) | CJ48: =IF(AND($C48>0,Z48="")," * No olvide digitar la variable "&$Z$34&""&". Digite Cero si no tiene.",IF(Z48>$C48," * La variable "&$Z$34&""&" no puede ser mayor al Total.","")) | CK48: =IF(AND($C48>0,AA48="")," * No olvide digitar la variable "&$AA$33&""&". Digite Cero si no tiene.",IF(AA48>$C48," * La variable "&$AA$33&""&" no puede ser mayor al Total.","")) | CO48: =IF(AND($C48>0,Q48=""),1,IF(Q48>$C48,1,0)) -> 0 | CP48: =IF(AND($C48>0,R48=""),1,IF(R48>$C48,1,0)) -> 0 | CQ48: =IF(AND($C48>0,S48=""),1,IF(S48>$C48,1,0)) -> 0 | CR48: =IF(AND($D48+$E48>0,$T48=""),1,IF(T48>$D48+$E48,1,0)) -> 0 | CS48: =IF(AND($F48+$G48+$H48+$I48+$J48+$K48+$L48+$M48>0,$U48=""),1,IF($U48>$F48+$G48+$H48+$I48+$J48+$K48+$L48+$M48,1,0)) -> 0 | CT48: =IF(AND($C48>0,V48=""),1,0) -> 0 | CU48: =IF(AND($C48>0,W48=""),1,IF(W48>$C48,1,0)) -> 0 | CV48: =IF(AND($C48>0,X48=""),1,IF(X48>$C48,1,0)) -> 0 | CW48: =IF(AND($C48>0,Y48=""),1,IF(Y48>$C48,1,0)) -> 0 | CX48: =IF(AND($C48>0,Z48=""),1,IF(Z48>$C48,1,0)) -> 0 | CY48: =IF(AND($C48>0,AA48=""),1,IF(AA48>$C48,1,0)) -> 0
A49: Otros | C49: =SUM(D49:M49) -> 0 | AB49: =CA49&CB49&CC49&CD49&CE49&CF49&CG49&CH49&CI49&CJ49&CK49 | CA49: =IF(AND($C49>0,Q49="")," * No olvide digitar la variable "&$Q$33&""&". Digite Cero si no tiene.",IF(Q49>$C49," * La variable "&$Q$33&""&" no puede ser mayor al Total.","")) | CB49: =IF(AND($C49>0,R49="")," * No olvide digitar la variable "&$R$33&""&". Digite Cero si no tiene.", "") | CC49: =IF(AND($C49>0,S49="")," * No olvide digitar la variable "&$S$33&""&". Digite Cero si no tiene.",IF(S49>C49," * La variable "&$S$33&""&" no puede ser mayor al Total.","")) | CD49: =IF(AND($D49+E49>0,T49="")," * No olvide digitar la variable Migrantes "&$T$34&""&". Digite Cero si no tiene.",IF(T49>$D49+E49," * La variable Migrantes "&$T$34&""&" no puede ser mayor al Total.","")) | CE49: =IF(AND($F49+$G49+$H49+$I49+$J49+$K49+$L49+$M49>0,$U49="")," * No olvide digitar la variable Migrantes "&$U$34&""&". Digite Cero si no tiene.",IF($U49>$F49+$G49+$H49+$I49+$J49+$K49+$L49+$M49," * La variable Migrantes "&$U$34&""&" no puede ser mayor al Total.","")) | CF49: =IF(AND($C49>0,V49="")," * No olvide digitar la variable "&$V$33&""&". Digite Cero si no tiene.","") | CG49: =IF(AND($C49>0,W49="")," * No olvide digitar la variable "&$W$33&""&". Digite Cero si no tiene.",IF(W49>$C49," * La variable "&$W$33&""&" no puede ser mayor al Total.","")) | CH49: =IF(AND($C49>0,X49="")," * No olvide digitar la variable "&$X$34&""&". Digite Cero si no tiene.",IF(X49>$C49," * La variable "&$X$34&""&" no puede ser mayor al Total.","")) | CI49: =IF(AND($C49>0,Y49="")," * No olvide digitar la variable "&$Y$34&""&". Digite Cero si no tiene.",IF(Y49>$C49," * La variable "&$Y$34&""&" no puede ser mayor al Total.","")) | CJ49: =IF(AND($C49>0,Z49="")," * No olvide digitar la variable "&$Z$34&""&". Digite Cero si no tiene.",IF(Z49>$C49," * La variable "&$Z$34&""&" no puede ser mayor al Total.","")) | CK49: =IF(AND($C49>0,AA49="")," * No olvide digitar la variable "&$AA$33&""&". Digite Cero si no tiene.",IF(AA49>$C49," * La variable "&$AA$33&""&" no puede ser mayor al Total.","")) | CO49: =IF(AND($C49>0,Q49=""),1,IF(Q49>$C49,1,0)) -> 0 | CP49: =IF(AND($C49>0,R49=""),1,IF(R49>$C49,1,0)) -> 0 | CQ49: =IF(AND($C49>0,S49=""),1,IF(S49>$C49,1,0)) -> 0 | CR49: =IF(AND($D49+$E49>0,$T49=""),1,IF(T49>$D49+$E49,1,0)) -> 0 | CS49: =IF(AND($F49+$G49+$H49+$I49+$J49+$K49+$L49+$M49>0,$U49=""),1,IF($U49>$F49+$G49+$H49+$I49+$J49+$K49+$L49+$M49,1,0)) -> 0 | CT49: =IF(AND($C49>0,V49=""),1,0) -> 0 | CU49: =IF(AND($C49>0,W49=""),1,IF(W49>$C49,1,0)) -> 0 | CV49: =IF(AND($C49>0,X49=""),1,IF(X49>$C49,1,0)) -> 0 | CW49: =IF(AND($C49>0,Y49=""),1,IF(Y49>$C49,1,0)) -> 0 | CX49: =IF(AND($C49>0,Z49=""),1,IF(Z49>$C49,1,0)) -> 0 | CY49: =IF(AND($C49>0,AA49=""),1,IF(AA49>$C49,1,0)) -> 0
A50: Método de Regulación de Fertilidad más Preservativos | C50: =SUM(D50:M50) -> 0 | AB50: =CA50&CB50&CC50&CD50&CE50&CF50&CG50&CH50&CI50&CJ50&CK50 | CA50: =IF(AND($C50>0,Q50="")," * No olvide digitar la variable "&$Q$33&""&". Digite Cero si no tiene.",IF(Q50>$C50," * La variable "&$Q$33&""&" no puede ser mayor al Total.","")) | CB50: =IF(AND($C50>0,R50="")," * No olvide digitar la variable "&$R$33&""&". Digite Cero si no tiene.", "") | CC50: =IF(AND($C50>0,S50="")," * No olvide digitar la variable "&$S$33&""&". Digite Cero si no tiene.",IF(S50>C50," * La variable "&$S$33&""&" no puede ser mayor al Total.","")) | CD50: =IF(AND($D50+E50>0,T50="")," * No olvide digitar la variable Migrantes "&$T$34&""&". Digite Cero si no tiene.",IF(T50>$D50+E50," * La variable Migrantes "&$T$34&""&" no puede ser mayor al Total.","")) | CE50: =IF(AND($F50+$G50+$H50+$I50+$J50+$K50+$L50+$M50>0,$U50="")," * No olvide digitar la variable Migrantes "&$U$34&""&". Digite Cero si no tiene.",IF($U50>$F50+$G50+$H50+$I50+$J50+$K50+$L50+$M50," * La variable Migrantes "&$U$34&""&" no puede ser mayor al Total.","")) | CF50: =IF(AND($C50>0,V50="")," * No olvide digitar la variable "&$V$33&""&". Digite Cero si no tiene.","") | CG50: =IF(AND($C50>0,W50="")," * No olvide digitar la variable "&$W$33&""&". Digite Cero si no tiene.",IF(W50>$C50," * La variable "&$W$33&""&" no puede ser mayor al Total.","")) | CH50: =IF(AND($C50>0,X50="")," * No olvide digitar la variable "&$X$34&""&". Digite Cero si no tiene.",IF(X50>$C50," * La variable "&$X$34&""&" no puede ser mayor al Total.","")) | CI50: =IF(AND($C50>0,Y50="")," * No olvide digitar la variable "&$Y$34&""&". Digite Cero si no tiene.",IF(Y50>$C50," * La variable "&$Y$34&""&" no puede ser mayor al Total.","")) | CJ50: =IF(AND($C50>0,Z50="")," * No olvide digitar la variable "&$Z$34&""&". Digite Cero si no tiene.",IF(Z50>$C50," * La variable "&$Z$34&""&" no puede ser mayor al Total.","")) | CK50: =IF(AND($C50>0,AA50="")," * No olvide digitar la variable "&$AA$33&""&". Digite Cero si no tiene.",IF(AA50>$C50," * La variable "&$AA$33&""&" no puede ser mayor al Total.","")) | CO50: =IF(AND($C50>0,Q50=""),1,IF(Q50>$C50,1,0)) -> 0 | CP50: =IF(AND($C50>0,R50=""),1,IF(R50>$C50,1,0)) -> 0 | CQ50: =IF(AND($C50>0,S50=""),1,IF(S50>$C50,1,0)) -> 0 | CR50: =IF(AND($D50+$E50>0,$T50=""),1,IF(T50>$D50+$E50,1,0)) -> 0 | CS50: =IF(AND($F50+$G50+$H50+$I50+$J50+$K50+$L50+$M50>0,$U50=""),1,IF($U50>$F50+$G50+$H50+$I50+$J50+$K50+$L50+$M50,1,0)) -> 0 | CT50: =IF(AND($C50>0,V50=""),1,0) -> 0 | CU50: =IF(AND($C50>0,W50=""),1,IF(W50>$C50,1,0)) -> 0 | CV50: =IF(AND($C50>0,X50=""),1,IF(X50>$C50,1,0)) -> 0 | CW50: =IF(AND($C50>0,Y50=""),1,IF(Y50>$C50,1,0)) -> 0 | CX50: =IF(AND($C50>0,Z50=""),1,IF(Z50>$C50,1,0)) -> 0 | CY50: =IF(AND($C50>0,AA50=""),1,IF(AA50>$C50,1,0)) -> 0
A51: Gestantes que reciben preservativo | C51: =SUM(D51:M51) -> 0 | AB51: =CA51&CB51&CC51&CD51&CE51&CF51&CG51&CH51&CI51&CJ51&CK51 | CA51: =IF(AND($C51>0,Q51="")," * No olvide digitar la variable "&$Q$33&""&". Digite Cero si no tiene.",IF(Q51>$C51," * La variable "&$Q$33&""&" no puede ser mayor al Total.","")) | CB51: =IF(AND($C51>0,R51="")," * No olvide digitar la variable "&$R$33&""&". Digite Cero si no tiene.", "") | CC51: =IF(AND($C51>0,S51="")," * No olvide digitar la variable "&$S$33&""&". Digite Cero si no tiene.",IF(S51>C51," * La variable "&$S$33&""&" no puede ser mayor al Total.","")) | CD51: =IF(AND($D51+E51>0,T51="")," * No olvide digitar la variable Migrantes "&$T$34&""&". Digite Cero si no tiene.",IF(T51>$D51+E51," * La variable Migrantes "&$T$34&""&" no puede ser mayor al Total.","")) | CE51: =IF(AND($F51+$G51+$H51+$I51+$J51+$K51+$L51+$M51>0,$U51="")," * No olvide digitar la variable Migrantes "&$U$34&""&". Digite Cero si no tiene.",IF($U51>$F51+$G51+$H51+$I51+$J51+$K51+$L51+$M51," * La variable Migrantes "&$U$34&""&" no puede ser mayor al Total.","")) | CF51: =IF(AND($C51>0,V51="")," * No olvide digitar la variable "&$V$33&""&". Digite Cero si no tiene.","") | CG51: =IF(AND($C51>0,W51="")," * No olvide digitar la variable "&$W$33&""&". Digite Cero si no tiene.",IF(W51>$C51," * La variable "&$W$33&""&" no puede ser mayor al Total.","")) | CH51: =IF(AND($C51>0,X51="")," * No olvide digitar la variable "&$X$34&""&". Digite Cero si no tiene.",IF(X51>$C51," * La variable "&$X$34&""&" no puede ser mayor al Total.","")) | CI51: =IF(AND($C51>0,Y51="")," * No olvide digitar la variable "&$Y$34&""&". Digite Cero si no tiene.",IF(Y51>$C51," * La variable "&$Y$34&""&" no puede ser mayor al Total.","")) | CJ51: =IF(AND($C51>0,Z51="")," * No olvide digitar la variable "&$Z$34&""&". Digite Cero si no tiene.",IF(Z51>$C51," * La variable "&$Z$34&""&" no puede ser mayor al Total.","")) | CK51: =IF(AND($C51>0,AA51="")," * No olvide digitar la variable "&$AA$33&""&". Digite Cero si no tiene.",IF(AA51>$C51," * La variable "&$AA$33&""&" no puede ser mayor al Total.","")) | CO51: =IF(AND($C51>0,Q51=""),1,IF(Q51>$C51,1,0)) -> 0 | CP51: =IF(AND($C51>0,R51=""),1,IF(R51>$C51,1,0)) -> 0 | CQ51: =IF(AND($C51>0,S51=""),1,IF(S51>$C51,1,0)) -> 0 | CR51: =IF(AND($D51+$E51>0,$T51=""),1,IF(T51>$D51+$E51,1,0)) -> 0 | CS51: =IF(AND($F51+$G51+$H51+$I51+$J51+$K51+$L51+$M51>0,$U51=""),1,IF($U51>$F51+$G51+$H51+$I51+$J51+$K51+$L51+$M51,1,0)) -> 0 | CT51: =IF(AND($C51>0,V51=""),1,0) -> 0 | CU51: =IF(AND($C51>0,W51=""),1,IF(W51>$C51,1,0)) -> 0 | CV51: =IF(AND($C51>0,X51=""),1,IF(X51>$C51,1,0)) -> 0 | CW51: =IF(AND($C51>0,Y51=""),1,IF(Y51>$C51,1,0)) -> 0 | CX51: =IF(AND($C51>0,Z51=""),1,IF(Z51>$C51,1,0)) -> 0 | CY51: =IF(AND($C51>0,AA51=""),1,IF(AA51>$C51,1,0)) -> 0
A52: SECCIÓN C1: INGRESOS A SALUD SEXUAL
A53: MÉTODOS | C53: TOTAL | D53: RANGO ETARIO | Q53: Espacios Amigables/ Adolescentes | R53: Pueblos Originarios | S53: Migrantes | U53: Identidad de Género | X53: Personas con Discpacidad
D54: Menos de 15 años | E54: 15 - 19 años | F54: 20 - 24 años | G54: 25 - 29 años | H54: 30 - 34 años | I54: 35 - 39 años | J54: 40 - 44 años | K54: 45 - 49 años | L54: 50 - 54 años | M54: 55 - 59 años | N54: 60 - 64 años | O54: 65 - 69 años | P54: 70 y más años | S54: Menor de 20 años | T54: 20 y más años | U54: Trans masculino | V54: Trans femenino | W54: No binarie
A55: Preservativo/Practica Sexual Segura | B55: Mujer | C55: =SUM(D55:P55) -> 0 | Y55: =CA55&CB55&CC55&CD55&CE55&CF55&CG55&CH55 | CA55: =IF(AND($C55>0,Q55="")," * No olvide digitar la variable "&Q$53&""&". Digite Cero si no tiene.",IF(Q55>$C55," * La variable "&Q$53&""&" no puede ser mayor al Total.","")) | CB55: =IF(AND($C55>0,R55="")," * No olvide digitar la variable "&R$53&""&". Digite Cero si no tiene.",IF(R55>$C55," * La variable "&R$53&""&" no puede ser mayor al Total.","")) | CC55: =IF(AND($D55+$E55>0,$S55="")," * No olvide digitar la variable Migrantes "&S$54&""&". Digite Cero si no tiene.",IF($S55>$D55+$E55," * La variable Migrantes "&S$54&""&" no puede ser mayor al Total.","")) | CD55: =IF(AND($F55+$G55+$H55+$I55+$J55+$K55+$L55+$M55+$N55+$O55+$P55>0,$T55="")," * No olvide digitar la variable Migrantes "&T$54&""&". Digite Cero si no tiene.",IF(T55>$F55+$G55+$H55+$I55+$J55+$K55+$L55+$M55+$N55+$O55+$P55," * La variable Migrantes "&T$54&""&" no puede ser mayor al Total.","")) | CE55: =IF(AND($C55>0,U55="")," * No olvide digitar la variable "&U$54&""&". Digite Cero si no tiene.",IF(U55>$C55," * La variable "&U$54&""&" no puede ser mayor al Total.","")) | CF55: =IF(AND($C55>0,V55="")," * No olvide digitar la variable "&V$54&""&". Digite Cero si no tiene.",IF(V55>$C55," * La variable "&V$54&""&" no puede ser mayor al Total.","")) | CG55: =IF(AND($C55>0,W55="")," * No olvide digitar la variable "&W$54&""&". Digite Cero si no tiene.",IF(W55>$C55," * La variable "&W$54&""&" no puede ser mayor al Total.","")) | CH55: =IF(AND($C55>0,X55="")," * No olvide digitar la variable "&X$53&""&". Digite Cero si no tiene.",IF(X55>$C55," * La variable "&X$53&""&" no puede ser mayor al Total.","")) | CO55: =IF(AND($C55>0,Q55=""),1,IF(Q55>$C55,1,0)) -> 0 | CP55: =IF(AND($C55>0,R55=""),1,IF(R55>$C55,1,0)) -> 0 | CQ55: =IF(AND($D55+$E55>0,S55=""),1,IF(S55>$D55+$E55,1,0)) -> 0 | CR55: =IF(AND($F55+$G55+$H55+$I55+$J55+$K55+$L55+$M55+$N55+$O55+$P55>0,$T55=""),1,IF($T55>$F55+$G55+$H55+$I55+$J55+$K55+$L55+$M55+$N55+$O55+$P55,1,0)) -> 0 | CS55: =IF(AND($C55>0,U55=""),1,IF(U55>$C55,1,0)) -> 0 | CT55: =IF(AND($C55>0,V55=""),1,IF(V55>$C55,1,0)) -> 0 | CU55: =IF(AND($C55>0,W55=""),1,IF(W55>$C55,1,0)) -> 0 | CV55: =IF(AND($C55>0,X55=""),1,IF(X55>$C55,1,0)) -> 0
B56: Hombres | C56: =SUM(D56:P56) -> 0 | Y56: =CA56&CB56&CC56&CD56&CE56&CF56&CG56&CH56 | CA56: =IF(AND($C56>0,Q56="")," * No olvide digitar la variable "&Q$53&""&". Digite Cero si no tiene.",IF(Q56>$C56," * La variable "&Q$53&""&" no puede ser mayor al Total.","")) | CB56: =IF(AND($C56>0,R56="")," * No olvide digitar la variable "&R$53&""&". Digite Cero si no tiene.",IF(R56>$C56," * La variable "&R$53&""&" no puede ser mayor al Total.","")) | CC56: =IF(AND($D56+$E56>0,$S56="")," * No olvide digitar la variable Migrantes "&S$54&""&". Digite Cero si no tiene.",IF($S56>$D56+$E56," * La variable Migrantes "&S$54&""&" no puede ser mayor al Total.","")) | CD56: =IF(AND($F56+$G56+$H56+$I56+$J56+$K56+$L56+$M56+$N56+$O56+$P56>0,$T56="")," * No olvide digitar la variable Migrantes "&T$54&""&". Digite Cero si no tiene.",IF(T56>$F56+$G56+$H56+$I56+$J56+$K56+$L56+$M56+$N56+$O56+$P56," * La variable Migrantes "&T$54&""&" no puede ser mayor al Total.","")) | CE56: =IF(AND($C56>0,U56="")," * No olvide digitar la variable "&U$54&""&". Digite Cero si no tiene.",IF(U56>$C56," * La variable "&U$54&""&" no puede ser mayor al Total.","")) | CF56: =IF(AND($C56>0,V56="")," * No olvide digitar la variable "&V$54&""&". Digite Cero si no tiene.",IF(V56>$C56," * La variable "&V$54&""&" no puede ser mayor al Total.","")) | CG56: =IF(AND($C56>0,W56="")," * No olvide digitar la variable "&W$54&""&". Digite Cero si no tiene.",IF(W56>$C56," * La variable "&W$54&""&" no puede ser mayor al Total.","")) | CH56: =IF(AND($C56>0,X56="")," * No olvide digitar la variable "&X$53&""&". Digite Cero si no tiene.",IF(X56>$C56," * La variable "&X$53&""&" no puede ser mayor al Total.","")) | CO56: =IF(AND($C56>0,Q56=""),1,IF(Q56>$C56,1,0)) -> 0 | CP56: =IF(AND($C56>0,R56=""),1,IF(R56>$C56,1,0)) -> 0 | CQ56: =IF(AND($D56+$E56>0,S56=""),1,IF(S56>$D56+$E56,1,0)) -> 0 | CR56: =IF(AND($F56+$G56+$H56+$I56+$J56+$K56+$L56+$M56+$N56+$O56+$P56>0,$T56=""),1,IF($T56>$F56+$G56+$H56+$I56+$J56+$K56+$L56+$M56+$N56+$O56+$P56,1,0)) -> 0 | CS56: =IF(AND($C56>0,U56=""),1,IF(U56>$C56,1,0)) -> 0 | CT56: =IF(AND($C56>0,V56=""),1,IF(V56>$C56,1,0)) -> 0 | CU56: =IF(AND($C56>0,W56=""),1,IF(W56>$C56,1,0)) -> 0 | CV56: =IF(AND($C56>0,X56=""),1,IF(X56>$C56,1,0)) -> 0
A57: Lubricantes | B57: Mujer | C57: =SUM(D57:P57) -> 0 | Y57: =CA57&CB57&CC57&CD57&CE57&CF57&CG57&CH57 | CA57: =IF(AND($C57>0,Q57="")," * No olvide digitar la variable "&Q$53&""&". Digite Cero si no tiene.",IF(Q57>$C57," * La variable "&Q$53&""&" no puede ser mayor al Total.","")) | CB57: =IF(AND($C57>0,R57="")," * No olvide digitar la variable "&R$53&""&". Digite Cero si no tiene.",IF(R57>$C57," * La variable "&R$53&""&" no puede ser mayor al Total.","")) | CC57: =IF(AND($D57+$E57>0,$S57="")," * No olvide digitar la variable Migrantes "&S$54&""&". Digite Cero si no tiene.",IF($S57>$D57+$E57," * La variable Migrantes "&S$54&""&" no puede ser mayor al Total.","")) | CD57: =IF(AND($F57+$G57+$H57+$I57+$J57+$K57+$L57+$M57+$N57+$O57+$P57>0,$T57="")," * No olvide digitar la variable Migrantes "&T$54&""&". Digite Cero si no tiene.",IF(T57>$F57+$G57+$H57+$I57+$J57+$K57+$L57+$M57+$N57+$O57+$P57," * La variable Migrantes "&T$54&""&" no puede ser mayor al Total.","")) | CE57: =IF(AND($C57>0,U57="")," * No olvide digitar la variable "&U$54&""&". Digite Cero si no tiene.",IF(U57>$C57," * La variable "&U$54&""&" no puede ser mayor al Total.","")) | CF57: =IF(AND($C57>0,V57="")," * No olvide digitar la variable "&V$54&""&". Digite Cero si no tiene.",IF(V57>$C57," * La variable "&V$54&""&" no puede ser mayor al Total.","")) | CG57: =IF(AND($C57>0,W57="")," * No olvide digitar la variable "&W$54&""&". Digite Cero si no tiene.",IF(W57>$C57," * La variable "&W$54&""&" no puede ser mayor al Total.","")) | CH57: =IF(AND($C57>0,X57="")," * No olvide digitar la variable "&X$53&""&". Digite Cero si no tiene.",IF(X57>$C57," * La variable "&X$53&""&" no puede ser mayor al Total.","")) | CO57: =IF(AND($C57>0,Q57=""),1,IF(Q57>$C57,1,0)) -> 0 | CP57: =IF(AND($C57>0,R57=""),1,IF(R57>$C57,1,0)) -> 0 | CQ57: =IF(AND($D57+$E57>0,S57=""),1,IF(S57>$D57+$E57,1,0)) -> 0 | CR57: =IF(AND($F57+$G57+$H57+$I57+$J57+$K57+$L57+$M57+$N57+$O57+$P57>0,$T57=""),1,IF($T57>$F57+$G57+$H57+$I57+$J57+$K57+$L57+$M57+$N57+$O57+$P57,1,0)) -> 0 | CS57: =IF(AND($C57>0,U57=""),1,IF(U57>$C57,1,0)) -> 0 | CT57: =IF(AND($C57>0,V57=""),1,IF(V57>$C57,1,0)) -> 0 | CU57: =IF(AND($C57>0,W57=""),1,IF(W57>$C57,1,0)) -> 0 | CV57: =IF(AND($C57>0,X57=""),1,IF(X57>$C57,1,0)) -> 0
B58: Hombres | C58: =SUM(D58:P58) -> 0 | Y58: =CA58&CB58&CC58&CD58&CE58&CF58&CG58&CH58 | CA58: =IF(AND($C58>0,Q58="")," * No olvide digitar la variable "&Q$53&""&". Digite Cero si no tiene.",IF(Q58>$C58," * La variable "&Q$53&""&" no puede ser mayor al Total.","")) | CB58: =IF(AND($C58>0,R58="")," * No olvide digitar la variable "&R$53&""&". Digite Cero si no tiene.",IF(R58>$C58," * La variable "&R$53&""&" no puede ser mayor al Total.","")) | CC58: =IF(AND($D58+$E58>0,$S58="")," * No olvide digitar la variable Migrantes "&S$54&""&". Digite Cero si no tiene.",IF($S58>$D58+$E58," * La variable Migrantes "&S$54&""&" no puede ser mayor al Total.","")) | CD58: =IF(AND($F58+$G58+$H58+$I58+$J58+$K58+$L58+$M58+$N58+$O58+$P58>0,$T58="")," * No olvide digitar la variable Migrantes "&T$54&""&". Digite Cero si no tiene.",IF(T58>$F58+$G58+$H58+$I58+$J58+$K58+$L58+$M58+$N58+$O58+$P58," * La variable Migrantes "&T$54&""&" no puede ser mayor al Total.","")) | CE58: =IF(AND($C58>0,U58="")," * No olvide digitar la variable "&U$54&""&". Digite Cero si no tiene.",IF(U58>$C58," * La variable "&U$54&""&" no puede ser mayor al Total.","")) | CF58: =IF(AND($C58>0,V58="")," * No olvide digitar la variable "&V$54&""&". Digite Cero si no tiene.",IF(V58>$C58," * La variable "&V$54&""&" no puede ser mayor al Total.","")) | CG58: =IF(AND($C58>0,W58="")," * No olvide digitar la variable "&W$54&""&". Digite Cero si no tiene.",IF(W58>$C58," * La variable "&W$54&""&" no puede ser mayor al Total.","")) | CH58: =IF(AND($C58>0,X58="")," * No olvide digitar la variable "&X$53&""&". Digite Cero si no tiene.",IF(X58>$C58," * La variable "&X$53&""&" no puede ser mayor al Total.","")) | CO58: =IF(AND($C58>0,Q58=""),1,IF(Q58>$C58,1,0)) -> 0 | CP58: =IF(AND($C58>0,R58=""),1,IF(R58>$C58,1,0)) -> 0 | CQ58: =IF(AND($D58+$E58>0,S58=""),1,IF(S58>$D58+$E58,1,0)) -> 0 | CR58: =IF(AND($F58+$G58+$H58+$I58+$J58+$K58+$L58+$M58+$N58+$O58+$P58>0,$T58=""),1,IF($T58>$F58+$G58+$H58+$I58+$J58+$K58+$L58+$M58+$N58+$O58+$P58,1,0)) -> 0 | CS58: =IF(AND($C58>0,U58=""),1,IF(U58>$C58,1,0)) -> 0 | CT58: =IF(AND($C58>0,V58=""),1,IF(V58>$C58,1,0)) -> 0 | CU58: =IF(AND($C58>0,W58=""),1,IF(W58>$C58,1,0)) -> 0 | CV58: =IF(AND($C58>0,X58=""),1,IF(X58>$C58,1,0)) -> 0
A59: Condón Femenino | C59: =SUM(D59:P59) -> 0 | Y59: =CA59&CB59&CC59&CD59&CE59&CF59&CG59&CH59 | CA59: =IF(AND($C59>0,Q59="")," * No olvide digitar la variable "&Q$53&""&". Digite Cero si no tiene.",IF(Q59>$C59," * La variable "&Q$53&""&" no puede ser mayor al Total.","")) | CB59: =IF(AND($C59>0,R59="")," * No olvide digitar la variable "&R$53&""&". Digite Cero si no tiene.",IF(R59>$C59," * La variable "&R$53&""&" no puede ser mayor al Total.","")) | CC59: =IF(AND($D59+$E59>0,$S59="")," * No olvide digitar la variable Migrantes "&S$54&""&". Digite Cero si no tiene.",IF($S59>$D59+$E59," * La variable Migrantes "&S$54&""&" no puede ser mayor al Total.","")) | CD59: =IF(AND($F59+$G59+$H59+$I59+$J59+$K59+$L59+$M59+$N59+$O59+$P59>0,$T59="")," * No olvide digitar la variable Migrantes "&T$54&""&". Digite Cero si no tiene.",IF(T59>$F59+$G59+$H59+$I59+$J59+$K59+$L59+$M59+$N59+$O59+$P59," * La variable Migrantes "&T$54&""&" no puede ser mayor al Total.","")) | CE59: =IF(AND($C59>0,U59="")," * No olvide digitar la variable "&U$54&""&". Digite Cero si no tiene.",IF(U59>$C59," * La variable "&U$54&""&" no puede ser mayor al Total.","")) | CF59: =IF(AND($C59>0,V59="")," * No olvide digitar la variable "&V$54&""&". Digite Cero si no tiene.",IF(V59>$C59," * La variable "&V$54&""&" no puede ser mayor al Total.","")) | CG59: =IF(AND($C59>0,W59="")," * No olvide digitar la variable "&W$54&""&". Digite Cero si no tiene.",IF(W59>$C59," * La variable "&W$54&""&" no puede ser mayor al Total.","")) | CH59: =IF(AND($C59>0,X59="")," * No olvide digitar la variable "&X$53&""&". Digite Cero si no tiene.",IF(X59>$C59," * La variable "&X$53&""&" no puede ser mayor al Total.","")) | CO59: =IF(AND($C59>0,Q59=""),1,IF(Q59>$C59,1,0)) -> 0 | CP59: =IF(AND($C59>0,R59=""),1,IF(R59>$C59,1,0)) -> 0 | CQ59: =IF(AND($D59+$E59>0,S59=""),1,IF(S59>$D59+$E59,1,0)) -> 0 | CR59: =IF(AND($F59+$G59+$H59+$I59+$J59+$K59+$L59+$M59+$N59+$O59+$P59>0,$T59=""),1,IF($T59>$F59+$G59+$H59+$I59+$J59+$K59+$L59+$M59+$N59+$O59+$P59,1,0)) -> 0 | CS59: =IF(AND($C59>0,U59=""),1,IF(U59>$C59,1,0)) -> 0 | CT59: =IF(AND($C59>0,V59=""),1,IF(V59>$C59,1,0)) -> 0 | CU59: =IF(AND($C59>0,W59=""),1,IF(W59>$C59,1,0)) -> 0 | CV59: =IF(AND($C59>0,X59=""),1,IF(X59>$C59,1,0)) -> 0
A60: SECCIÓN C2: EGRESOS DE PROGRAMA DE REGULACIÓN DE FERTILIDAD Y SALUD SEXUAL
A61: MÉTODOS | C61: TOTAL | D61: RANGO ETARIO | Q61: Pueblos Originarios | R61: Migrantes
D62: Menos de 15 años | E62: 15 - 19 años | F62: 20 - 24 años | G62: 25 - 29 años | H62: 30 - 34 años | I62: 35 - 39 años | J62: 40 - 44 años | K62: 45 - 49 años | L62: 50 - 54 años | M62: 55 - 59 años | N62: 60 - 64 años | O62: 65 - 69 años | P62: 70 y más años
A63: TOTAL REGULACIÓN DE FERTILIDAD | C63: =SUM(D63:P63) -> 0 | D63: =SUM(D64:D76) -> 0 | E63: =SUM(E64:E76) -> 0 | F63: =SUM(F64:F76) -> 0 | G63: =SUM(G64:G76) -> 0 | H63: =SUM(H64:H76) -> 0 | I63: =SUM(I64:I76) -> 0 | J63: =SUM(J64:J76) -> 0 | K63: =SUM(K64:K76) -> 0 | ... M63: =SUM(M64:M76) -> 0 | N63: =SUM(N79:N83) -> 0 | O63: =SUM(O79:O83) -> 0 | P63: =SUM(P79:P83) -> 0 | Q63: =SUM(Q64:Q76) -> 0 | R63: =SUM(R64:R76) -> 0
A64: D.I.U. T con Cobre | C64: =SUM(D64:M64) -> 0 | S64: =CA64&CB64 | CA64: =IF(AND($C64>0,Q64="")," * No olvide digitar la variable "&$Q$61&""&". Digite Cero si no tiene.",IF(Q64>$C64," * La variable "&$Q$61&""&" No puede ser mayor al Total.","")) | CB64: =IF(AND($C64>0,R64="")," * No olvide digitar la variable "&$R$61&""&". Digite Cero si no tiene.",IF(R64>$C64," * La variable "&$R$61&""&" No puede ser mayor al Total.","")) | CO64: =IF(AND($C64>0,Q64=""),1,IF(Q64>$C64,1,0)) -> 0 | CP64: =IF(AND(C64>0,R64=""),1,IF(R64>C64,1,0)) -> 0
A65: D.I.U. con Levonorgestrel | C65: =SUM(D65:M65) -> 0 | S65: =CA65&CB65 | CA65: =IF(AND($C65>0,Q65="")," * No olvide digitar la variable "&$Q$61&""&". Digite Cero si no tiene.",IF(Q65>$C65," * La variable "&$Q$61&""&" No puede ser mayor al Total.","")) | CB65: =IF(AND($C65>0,R65="")," * No olvide digitar la variable "&$R$61&""&". Digite Cero si no tiene.",IF(R65>$C65," * La variable "&$R$61&""&" No puede ser mayor al Total.","")) | CO65: =IF(AND(C65>0,Q65=""),1,IF(Q65>C65,1,0)) -> 0 | CP65: =IF(AND(C65>0,R65=""),1,IF(R65>C65,1,0)) -> 0
A66: Hormonal | B66: Oral Combinado | C66: =SUM(D66:M66) -> 0 | S66: =CA66&CB66 | CA66: =IF(AND($C66>0,Q66="")," * No olvide digitar la variable "&$Q$61&""&". Digite Cero si no tiene.",IF(Q66>$C66," * La variable "&$Q$61&""&" No puede ser mayor al Total.","")) | CB66: =IF(AND($C66>0,R66="")," * No olvide digitar la variable "&$R$61&""&". Digite Cero si no tiene.",IF(R66>$C66," * La variable "&$R$61&""&" No puede ser mayor al Total.","")) | CO66: =IF(AND(C66>0,Q66=""),1,IF(Q66>C66,1,0)) -> 0 | CP66: =IF(AND(C66>0,R66=""),1,IF(R66>C66,1,0)) -> 0
B67: Oral Progestágeno | C67: =SUM(D67:M67) -> 0 | S67: =CA67&CB67 | CA67: =IF(AND($C67>0,Q67="")," * No olvide digitar la variable "&$Q$61&""&". Digite Cero si no tiene.",IF(Q67>$C67," * La variable "&$Q$61&""&" No puede ser mayor al Total.","")) | CB67: =IF(AND($C67>0,R67="")," * No olvide digitar la variable "&$R$61&""&". Digite Cero si no tiene.",IF(R67>$C67," * La variable "&$R$61&""&" No puede ser mayor al Total.","")) | CO67: =IF(AND(C67>0,Q67=""),1,IF(Q67>C67,1,0)) -> 0 | CP67: =IF(AND(C67>0,R67=""),1,IF(R67>C67,1,0)) -> 0
B68: Inyectable Combinado | C68: =SUM(D68:M68) -> 0 | S68: =CA68&CB68 | CA68: =IF(AND($C68>0,Q68="")," * No olvide digitar la variable "&$Q$61&""&". Digite Cero si no tiene.",IF(Q68>$C68," * La variable "&$Q$61&""&" No puede ser mayor al Total.","")) | CB68: =IF(AND($C68>0,R68="")," * No olvide digitar la variable "&$R$61&""&". Digite Cero si no tiene.",IF(R68>$C68," * La variable "&$R$61&""&" No puede ser mayor al Total.","")) | CO68: =IF(AND(C68>0,Q68=""),1,IF(Q68>C68,1,0)) -> 0 | CP68: =IF(AND(C68>0,R68=""),1,IF(R68>C68,1,0)) -> 0
B69: Inyectable Progestágeno | C69: =SUM(D69:M69) -> 0 | S69: =CA69&CB69 | CA69: =IF(AND($C69>0,Q69="")," * No olvide digitar la variable "&$Q$61&""&". Digite Cero si no tiene.",IF(Q69>$C69," * La variable "&$Q$61&""&" No puede ser mayor al Total.","")) | CB69: =IF(AND($C69>0,R69="")," * No olvide digitar la variable "&$R$61&""&". Digite Cero si no tiene.",IF(R69>$C69," * La variable "&$R$61&""&" No puede ser mayor al Total.","")) | CO69: =IF(AND(C69>0,Q69=""),1,IF(Q69>C69,1,0)) -> 0 | CP69: =IF(AND(C69>0,R69=""),1,IF(R69>C69,1,0)) -> 0
B70: Implante Etonogestrel (3 años) | C70: =SUM(D70:M70) -> 0 | S70: =CA70&CB70 | CA70: =IF(AND($C70>0,Q70="")," * No olvide digitar la variable "&$Q$61&""&". Digite Cero si no tiene.",IF(Q70>$C70," * La variable "&$Q$61&""&" No puede ser mayor al Total.","")) | CB70: =IF(AND($C70>0,R70="")," * No olvide digitar la variable "&$R$61&""&". Digite Cero si no tiene.",IF(R70>$C70," * La variable "&$R$61&""&" No puede ser mayor al Total.","")) | CO70: =IF(AND(C70>0,Q70=""),1,IF(Q70>C70,1,0)) -> 0 | CP70: =IF(AND(C70>0,R70=""),1,IF(R70>C70,1,0)) -> 0
B71: Implante Levonorgestrel (5 años) | C71: =SUM(D71:M71) -> 0 | S71: =CA71&CB71 | CA71: =IF(AND($C71>0,Q71="")," * No olvide digitar la variable "&$Q$61&""&". Digite Cero si no tiene.",IF(Q71>$C71," * La variable "&$Q$61&""&" No puede ser mayor al Total.","")) | CB71: =IF(AND($C71>0,R71="")," * No olvide digitar la variable "&$R$61&""&". Digite Cero si no tiene.",IF(R71>$C71," * La variable "&$R$61&""&" No puede ser mayor al Total.","")) | CO71: =IF(AND(C71>0,Q71=""),1,IF(Q71>C71,1,0)) -> 0 | CP71: =IF(AND(C71>0,R71=""),1,IF(R71>C71,1,0)) -> 0
B72: Anillo Vaginal | C72: =SUM(D72:M72) -> 0 | S72: =CA72&CB72 | CA72: =IF(AND($C72>0,Q72="")," * No olvide digitar la variable "&$Q$61&""&". Digite Cero si no tiene.",IF(Q72>$C72," * La variable "&$Q$61&""&" No puede ser mayor al Total.","")) | CB72: =IF(AND($C72>0,R72="")," * No olvide digitar la variable "&$R$61&""&". Digite Cero si no tiene.",IF(R72>$C72," * La variable "&$R$61&""&" No puede ser mayor al Total.","")) | CO72: =IF(AND(C72>0,Q72=""),1,IF(Q72>C72,1,0)) -> 0 | CP72: =IF(AND(C72>0,R72=""),1,IF(R72>C72,1,0)) -> 0
A73: Sólo preservativo MAC | B73: Mujer | C73: =SUM(D73:P73) -> 0 | S73: =CA73&CB73 | CA73: =IF(AND($C73>0,Q73="")," * No olvide digitar la variable "&$Q$61&""&". Digite Cero si no tiene.",IF(Q73>$C73," * La variable "&$Q$61&""&" No puede ser mayor al Total.","")) | CB73: =IF(AND($C73>0,R73="")," * No olvide digitar la variable "&$R$61&""&". Digite Cero si no tiene.",IF(R73>$C73," * La variable "&$R$61&""&" No puede ser mayor al Total.","")) | CO73: =IF(AND(C73>0,Q73=""),1,IF(Q73>C73,1,0)) -> 0 | CP73: =IF(AND(C73>0,R73=""),1,IF(R73>C73,1,0)) -> 0
B74: Hombres | C74: =SUM(D74:P74) -> 0 | S74: =CA74&CB74 | CA74: =IF(AND($C74>0,Q74="")," * No olvide digitar la variable "&$Q$61&""&". Digite Cero si no tiene.",IF(Q74>$C74," * La variable "&$Q$61&""&" No puede ser mayor al Total.","")) | CB74: =IF(AND($C74>0,R74="")," * No olvide digitar la variable "&$R$61&""&". Digite Cero si no tiene.",IF(R74>$C74," * La variable "&$R$61&""&" No puede ser mayor al Total.","")) | CO74: =IF(AND(C74>0,Q74=""),1,IF(Q74>C74,1,0)) -> 0 | CP74: =IF(AND(C74>0,R74=""),1,IF(R74>C74,1,0)) -> 0
A75: Esterilización Quirúrgica | B75: Mujer | C75: =SUM(D75:M75) -> 0 | S75: =CA75&CB75 | CA75: =IF(AND($C75>0,Q75="")," * No olvide digitar la variable "&$Q$61&""&". Digite Cero si no tiene.",IF(Q75>$C75," * La variable "&$Q$61&""&" No puede ser mayor al Total.","")) | CB75: =IF(AND($C75>0,R75="")," * No olvide digitar la variable "&$R$61&""&". Digite Cero si no tiene.",IF(R75>$C75," * La variable "&$R$61&""&" No puede ser mayor al Total.","")) | CO75: =IF(AND(C75>0,Q75=""),1,IF(Q75>C75,1,0)) -> 0 | CP75: =IF(AND(C75>0,R75=""),1,IF(R75>C75,1,0)) -> 0
B76: Hombres | C76: =SUM(D76:M76) -> 0 | S76: =CA76&CB76 | CA76: =IF(AND($C76>0,Q76="")," * No olvide digitar la variable "&$Q$61&""&". Digite Cero si no tiene.",IF(Q76>$C76," * La variable "&$Q$61&""&" No puede ser mayor al Total.","")) | CB76: =IF(AND($C76>0,R76="")," * No olvide digitar la variable "&$R$61&""&". Digite Cero si no tiene.",IF(R76>$C76," * La variable "&$R$61&""&" No puede ser mayor al Total.","")) | CO76: =IF(AND(C76>0,Q76=""),1,IF(Q76>C76,1,0)) -> 0 | CP76: =IF(AND(C76>0,R76=""),1,IF(R76>C76,1,0)) -> 0
A77: Método de Regulación de Fertilidad más Preservativos | C77: =SUM(D77:M77) -> 0 | S77: =CA77&CB77 | CA77: =IF(AND($C77>0,Q77="")," * No olvide digitar la variable "&$Q$61&""&". Digite Cero si no tiene.",IF(Q77>$C77," * La variable "&$Q$61&""&" No puede ser mayor al Total.","")) | CB77: =IF(AND($C77>0,R77="")," * No olvide digitar la variable "&$R$61&""&". Digite Cero si no tiene.",IF(R77>$C77," * La variable "&$R$61&""&" No puede ser mayor al Total.","")) | CO77: =IF(AND(C77>0,Q77=""),1,IF(Q77>C77,1,0)) -> 0 | CP77: =IF(AND(C77>0,R77=""),1,IF(R77>C77,1,0)) -> 0
A78: Gestantes que reciben preservativo | C78: =SUM(D78:M78) -> 0 | S78: =CA78&CB78 | CA78: =IF(AND($C78>0,Q78="")," * No olvide digitar la variable "&$Q$61&""&". Digite Cero si no tiene.",IF(Q78>$C78," * La variable "&$Q$61&""&" No puede ser mayor al Total.","")) | CB78: =IF(AND($C78>0,R78="")," * No olvide digitar la variable "&$R$61&""&". Digite Cero si no tiene.",IF(R78>$C78," * La variable "&$R$61&""&" No puede ser mayor al Total.","")) | CO78: =IF(AND(C78>0,Q78=""),1,IF(Q78>C78,1,0)) -> 0 | CP78: =IF(AND(C78>0,R78=""),1,IF(R78>C78,1,0)) -> 0
A79: Preservativo/Practica Sexual Segura | B79: Mujer | C79: =SUM(D79:P79) -> 0 | S79: =CA79&CB79 | CA79: =IF(AND($C79>0,Q79="")," * No olvide digitar la variable "&$Q$61&""&". Digite Cero si no tiene.",IF(Q79>$C79," * La variable "&$Q$61&""&" No puede ser mayor al Total.","")) | CB79: =IF(AND($C79>0,R79="")," * No olvide digitar la variable "&$R$61&""&". Digite Cero si no tiene.",IF(R79>$C79," * La variable "&$R$61&""&" No puede ser mayor al Total.","")) | CO79: =IF(AND(C79>0,Q79=""),1,IF(Q79>C79,1,0)) -> 0 | CP79: =IF(AND(C79>0,R79=""),1,IF(R79>C79,1,0)) -> 0
B80: Hombres | C80: =SUM(D80:P80) -> 0 | S80: =CA80&CB80 | CA80: =IF(AND($C80>0,Q80="")," * No olvide digitar la variable "&$Q$61&""&". Digite Cero si no tiene.",IF(Q80>$C80," * La variable "&$Q$61&""&" No puede ser mayor al Total.","")) | CB80: =IF(AND($C80>0,R80="")," * No olvide digitar la variable "&$R$61&""&". Digite Cero si no tiene.",IF(R80>$C80," * La variable "&$R$61&""&" No puede ser mayor al Total.","")) | CO80: =IF(AND(C80>0,Q80=""),1,IF(Q80>C80,1,0)) -> 0 | CP80: =IF(AND(C80>0,R80=""),1,IF(R80>C80,1,0)) -> 0
A81: Lubricantes | B81: Mujer | C81: =SUM(D81:P81) -> 0 | S81: =CA81&CB81 | CA81: =IF(AND($C81>0,Q81="")," * No olvide digitar la variable "&$Q$61&""&". Digite Cero si no tiene.",IF(Q81>$C81," * La variable "&$Q$61&""&" No puede ser mayor al Total.","")) | CB81: =IF(AND($C81>0,R81="")," * No olvide digitar la variable "&$R$61&""&". Digite Cero si no tiene.",IF(R81>$C81," * La variable "&$R$61&""&" No puede ser mayor al Total.","")) | CO81: =IF(AND(C81>0,Q81=""),1,IF(Q81>C81,1,0)) -> 0 | CP81: =IF(AND(C81>0,R81=""),1,IF(R81>C81,1,0)) -> 0
B82: Hombres | C82: =SUM(D82:P82) -> 0 | S82: =CA82&CB82 | CA82: =IF(AND($C82>0,Q82="")," * No olvide digitar la variable "&$Q$61&""&". Digite Cero si no tiene.",IF(Q82>$C82," * La variable "&$Q$61&""&" No puede ser mayor al Total.","")) | CB82: =IF(AND($C82>0,R82="")," * No olvide digitar la variable "&$R$61&""&". Digite Cero si no tiene.",IF(R82>$C82," * La variable "&$R$61&""&" No puede ser mayor al Total.","")) | CO82: =IF(AND(C82>0,Q82=""),1,IF(Q82>C82,1,0)) -> 0 | CP82: =IF(AND(C82>0,R82=""),1,IF(R82>C82,1,0)) -> 0
A83: Condón Femenino | C83: =SUM(D83:P83) -> 0 | S83: =CA83&CB83 | CA83: =IF(AND($C83>0,Q83="")," * No olvide digitar la variable "&$Q$61&""&". Digite Cero si no tiene.",IF(Q83>$C83," * La variable "&$Q$61&""&" No puede ser mayor al Total.","")) | CB83: =IF(AND($C83>0,R83="")," * No olvide digitar la variable "&$R$61&""&". Digite Cero si no tiene.",IF(R83>$C83," * La variable "&$R$61&""&" No puede ser mayor al Total.","")) | CO83: =IF(AND(C83>0,Q83=""),1,IF(Q83>C83,1,0)) -> 0 | CP83: =IF(AND(C83>0,R83=""),1,IF(R83>C83,1,0)) -> 0
A84: SECCIÓN D: INGRESOS A PROGRAMA CONTROL DE CLIMATERIO
A85: CONCEPTO | B85: TOTAL | C85: Trans masculino | D85: Personas con discapacidad
A86: Ingresos | E86: =CA86&CB86 | CA86: =IF(AND($B86>0,C86="")," * No olvide digitar la variable "&$C$85&""&". Digite Cero si no tiene.",IF(C86>$B86," * La variable "&$C$85&""&" No puede ser mayor al Total.","")) | CB86: =IF(AND($B86>0,D86="")," * No olvide digitar la variable "&$D$85&""&". Digite Cero si no tiene.",IF(D86>$B86," * La variable "&$D$85&""&" No puede ser mayor al Total.","")) | CO86: =IF(AND(B86>0,C86=""),1,IF(C86>B86,1,0)) -> 0 | CP86: =IF(AND(B86>0,D86=""),1,IF(D86>B86,1,0)) -> 0
A87: SECCIÓN E: INGRESOS A CONTROL DE SALUD DE RECIÉN NACIDOS
A88: EDAD | C88: TOTAL | D88: Niños | E88: Niñas
A89: Menor o igual a 28 días | C89: =SUM(D89:E89) -> 0 | CA89: =IF(AND($C89>0,D89="")," * No olvide digitar la variable "&$D$88&""&". Digite Cero si no tiene.",IF(D89>$C89," * La variable "&$D$88&""&" No puede ser mayor al Total.","")) | CB89: =IF(AND($C89>0,E89="")," * No olvide digitar la variable "&$E$88&""&". Digite Cero si no tiene.",IF(E89>$C89," * La variable "&$E$88&""&" No puede ser mayor al Total.","")) | CO89: =IF(AND(C89>0,D89=""),1,IF(D89>C89,1,0)) -> 0 | CP89: =IF(AND(C89>0,E89=""),1,IF(E89>C89,1,0)) -> 0
A90: SECCIÓN F: INGRESOS Y EGRESOS A SALA DE ESTIMULACIÓN, SERVICIO ITINERANTE Y ATENCIÓN DOMICILIARIA
A91: NIÑO / A (CON) | C91: TOTAL | F91: INGRESOS | AD91: Egresos | AU91: Pueblos Originarios | AV91: Migrantes | AW91: Niños y niñas Mejor Niñez
F92: Sala de Estimulación | R92: Servicio Itinerante en Centro de Salud | X92: Atención Domiciliaria | AD92: Cumplimiento de tratamiento Sala de Estimulación | AP92: Servicio Itinerante | AQ92: Atención Domiciliaria | AR92: Derivación a Especialidad | AS92: Otros | AT92: Inasistente
F93: Menos de 7 meses | H93: 7 - 11 meses | J93: 12 - 17 meses | L93: 18 - 23 meses | N93: 24 - 47 meses | P93: 48 - 59 meses | R93: 0-11 meses | T93: 12-23 meses | V93: 24-59 meses | X93: 0-11 meses | Z93: 12-23 meses | AB93: 24-59 meses | AD93: Menos de 7 meses | AF93: 7 - 11 meses | AH93: 12 - 17 meses | AJ93: 18 - 23 meses | AL93: 24 - 47 meses | AN93: 48 - 59 meses
C94: Ambos Sexos | D94: Hombres | E94: Mujeres | F94: Hombres | G94: Mujeres | H94: Hombres | I94: Mujeres | J94: Hombres | K94: Mujeres | L94: Hombres | M94: Mujeres | N94: Hombres | O94: Mujeres | P94: Hombres | Q94: Mujeres | R94: Hombres | S94: Mujeres | T94: Hombres | U94: Mujeres | V94: Hombres | W94: Mujeres | X94: Hombres | Y94: Mujeres | Z94: Hombres | AA94: Mujeres | AB94: Hombres | AC94: Mujeres | AD94: Hombres | AE94: Mujeres | AF94: Hombres | AG94: Mujeres | AH94: Hombres | AI94: Mujeres | AJ94: Hombres | AK94: Mujeres | AL94: Hombres | AM94: Mujeres | AN94: Hombres | AO94: Mujeres
A95: Normal con Rezago | C95: =SUM(D95:E95) -> 0 | D95: =+F95+H95+J95+L95+N95+P95+R95+T95+V95+X95+Z95+AB95 -> 0 | E95: =+G95+I95+K95+M95+O95+Q95+S95+U95+W95+Y95+AA95+AC95 -> 0 | AX95: =CA95&CB95&CC95 | AZ95: =CA95&CB95 | CA95: =IF(AND($C95>0,AU95="")," * No olvide digitar la variable Pueblos originarios. Digite Cero si no tiene.",IF(AU95>$C95," * La variable Pueblos originarios No puede ser mayor al Total.","")) | CB95: =IF(AND($C95>0,AV95="")," * No olvide digitar la variable Migrantes. Digite Cero si no tiene.",IF(AV95>$C95," * La variable Migrantes No puede ser mayor al Total.","")) | CC95: =IF(AND($C95>0,AW95="")," * No olvide digitar la variable Niños y niñas Mejor Niñez. Digite Cero si no tiene.",IF(AW95>$C95," * La variable Niños y niñas Mejor Niñez No puede ser mayor al Total.","")) | CO95: =IF(AND($C95>0,AU95=""),1,IF(AU95>$C95,1,0)) -> 0 | CP95: =IF(AND($C95>0,AV95=""),1,IF(AV95>$C95,1,0)) -> 0 | CQ95: =IF(AND($C95>0,AW95=""),1,IF(AW95>$C95,1,0)) -> 0
A96: Riesgo | C96: =SUM(D96:E96) -> 0 | D96: =+F96+H96+J96+L96+N96+P96+R96+T96+V96+X96+Z96+AB96 -> 0 | E96: =+G96+I96+K96+M96+O96+Q96+S96+U96+W96+Y96+AA96+AC96 -> 0 | AX96: =CA96&CB96&CC96 | AZ96: =CA96&CB96 | CA96: =IF(AND($C96>0,AU96="")," * No olvide digitar la variable Pueblos originarios. Digite Cero si no tiene.",IF(AU96>$C96," * La variable Pueblos originarios No puede ser mayor al Total.","")) | CB96: =IF(AND($C96>0,AV96="")," * No olvide digitar la variable Migrantes. Digite Cero si no tiene.",IF(AV96>$C96," * La variable Migrantes No puede ser mayor al Total.","")) | CC96: =IF(AND($C96>0,AW96="")," * No olvide digitar la variable Niños y niñas Mejor Niñez. Digite Cero si no tiene.",IF(AW96>$C96," * La variable Niños y niñas Mejor Niñez No puede ser mayor al Total.","")) | CO96: =IF(AND($C96>0,AU96=""),1,IF(AU96>$C96,1,0)) -> 0 | CP96: =IF(AND($C96>0,AV96=""),1,IF(AV96>$C96,1,0)) -> 0 | CQ96: =IF(AND($C96>0,AW96=""),1,IF(AW96>$C96,1,0)) -> 0
A97: Retraso | C97: =SUM(D97:E97) -> 0 | D97: =+F97+H97+J97+L97+N97+P97+R97+T97+V97+X97+Z97+AB97 -> 0 | E97: =+G97+I97+K97+M97+O97+Q97+S97+U97+W97+Y97+AA97+AC97 -> 0 | AX97: =CA97&CB97&CC97 | AZ97: =CA97&CB97 | CA97: =IF(AND($C97>0,AU97="")," * No olvide digitar la variable Pueblos originarios. Digite Cero si no tiene.",IF(AU97>$C97," * La variable Pueblos originarios No puede ser mayor al Total.","")) | CB97: =IF(AND($C97>0,AV97="")," * No olvide digitar la variable Migrantes. Digite Cero si no tiene.",IF(AV97>$C97," * La variable Migrantes No puede ser mayor al Total.","")) | CC97: =IF(AND($C97>0,AW97="")," * No olvide digitar la variable Niños y niñas Mejor Niñez. Digite Cero si no tiene.",IF(AW97>$C97," * La variable Niños y niñas Mejor Niñez No puede ser mayor al Total.","")) | CO97: =IF(AND($C97>0,AU97=""),1,IF(AU97>$C97,1,0)) -> 0 | CP97: =IF(AND($C97>0,AV97=""),1,IF(AV97>$C97,1,0)) -> 0 | CQ97: =IF(AND($C97>0,AW97=""),1,IF(AW97>$C97,1,0)) -> 0
A98: Normal con Riesgo Biopsicosocial | C98: =SUM(D98:E98) -> 0 | D98: =+F98+H98+J98+L98+N98+P98+R98+T98+V98+X98+Z98+AB98 -> 0 | E98: =+G98+I98+K98+M98+O98+Q98+S98+U98+W98+Y98+AA98+AC98 -> 0 | AX98: =CA98&CB98&CC98 | CA98: =IF(AND($C98>0,AU98="")," * No olvide digitar la variable Pueblos originarios. Digite Cero si no tiene.",IF(AU98>$C98," * La variable Pueblos originarios No puede ser mayor al Total.","")) | CB98: =IF(AND($C98>0,AV98="")," * No olvide digitar la variable Migrantes. Digite Cero si no tiene.",IF(AV98>$C98," * La variable Migrantes No puede ser mayor al Total.","")) | CC98: =IF(AND($C98>0,AW98="")," * No olvide digitar la variable Niños y niñas Mejor Niñez. Digite Cero si no tiene.",IF(AW98>$C98," * La variable Niños y niñas Mejor Niñez No puede ser mayor al Total.","")) | CO98: =IF(AND($C98>0,AU98=""),1,IF(AU98>$C98,1,0)) -> 0 | CP98: =IF(AND($C98>0,AV98=""),1,IF(AV98>$C98,1,0)) -> 0 | CQ98: =IF(AND($C98>0,AW98=""),1,IF(AW98>$C98,1,0)) -> 0
A99: SECCIÓN F.1: REINGRESOS Y EGRESOS POR SEGUNDA VEZ A SALA DE ESTIMULACIÓN, SERVICIO ITINERANTE Y ATENCIÓN DOMICILIARIA
A100: NIÑO / A (CON) | C100: TOTAL | F100: SALA DE ESTIMULACIÓN | R100: SERVICIO ITINERANTE | X100: ATENCIÓN DOMICILIARIA | AD100: EGRESOS POR SEGUNDA VEZ Y RESULTADOS DE REEVALUACIÓN POST EGRESO | AJ100: Pueblos Originarios | AK100: Migrantes | AL100: Niños y niñas Mejor Niñez
F101: Menos de 7 meses | H101: 7 - 11 meses | J101: 12 - 17 meses | L101: 18 - 23 meses | N101: 24 - 47 meses | P101: 48 - 59 meses | R101: 0-11 meses | T101: 12-23 meses | V101: 24- 59 meses | X101: 0-11 meses | Z101: 12-23 meses | AB101: 24- 59 meses | AD101: Motivo Egreso | AH101: Resultado de Reevaluación
C102: Ambos Sexos | D102: Hombres | E102: Mujeres | F102: Hombres | G102: Mujeres | H102: Hombres | I102: Mujeres | J102: Hombres | K102: Mujeres | L102: Hombres | M102: Mujeres | N102: Hombres | O102: Mujeres | P102: Hombres | Q102: Mujeres | R102: Hombres | S102: Mujeres | T102: Hombres | U102: Mujeres | V102: Hombres | W102: Mujeres | X102: Hombres | Y102: Mujeres | Z102: Hombres | AA102: Mujeres | AB102: Hombres | AC102: Mujeres | AD102: Cumplimien-to de tratamiento | AE102: Derivación a Especialidad | AF102: Otros | AG102: Inasistente | AH102: Recuperado | AI102: No Recuperado
A103: Normal con Rezago | C103: =SUM(D103:E103) -> 0 | D103: =SUM(F103+H103+J103+L103+N103+P103+R103+T103+V103+X103+Z103+AB103) -> 0 | E103: =SUM(G103+I103+K103+M103+O103+Q103+S103+U103+W103+Y103+AA103+AC103) -> 0 | AM103: =CG103&CH103 | CG103: =IF(AND($C103>0,AJ103="")," * No olvide digitar la variable Pueblos Originarios. Digite Cero si no tiene.",IF(AJ103>$C103," * La variable Pueblos Originarios No puede ser mayor al Total.","")) | CH103: =IF(AND($C103>0,AK103="")," * No olvide digitar la variable Migrantes. Digite Cero si no tiene.",IF(AK103>$C103," * La variable Migrantes No puede ser mayor al Total.","")) | CI103: =IF(AND($C103>0,AL103="")," * No olvide digitar la variable Niños y niñas Mejor Niñez. Digite Cero si no tiene.",IF(AL103>$C103," * La variable Niños y niñas Mejor Niñez No puede ser mayor al Total.","")) | CU103: =IF(AND($C103>0,AJ103=""),1,IF(AJ103>$C103,1,0)) -> 0 | CV103: =IF(AND($C103>0,AK103=""),1,IF(AK103>$C103,1,0)) -> 0 | CW103: =IF(AND($C103>0,AL103=""),1,IF(AL103>$C103,1,0)) -> 0
...

Sheet ENERO
A1: SERVICIO DE SALUD
A2: =CONCATENATE("COMUNA: ",[2]NOMBRE!B2," (",[2]NOMBRE!C2,[2]NOMBRE!D2,[2]NOMBRE!E2,[2]NOMBRE!F2,[2]NOMBRE!G2,")") -> COMUNA: LINARES (07401)
A3: =CONCATENATE("ESTABLECIMIENTO/ESTRATEGIA: ", [2]NOMBRE!B3," (",[2]NOMBRE!C3,[2]NOMBRE!D3,[2]NOMBRE!E3,[2]NOMBRE!F3,[2]NOMBRE!G3,[2]NOMBRE!H3,")") -> ESTABLECIMIENTO/ESTRATEGIA: HOSPITAL PRESIDENTE CARLOS IBAÑEZ DEL CAMPO (116108)
A4: =CONCATENATE("MES: ",[2]NOMBRE!B6," (",[2]NOMBRE!C6,[2]NOMBRE!D6,")") -> MES: ENERO (01)
A5: =CONCATENATE("AÑO: ",[2]NOMBRE!B7) -> AÑO: 2025
A6: REM-A05. INGRESOS Y EGRESOS POR CONDICIÓN Y PROBLEMAS DE SALUD
A8: SECCIÓN A: INGRESOS DE GESTANTES A PROGRAMA PRENATAL
A9: CONDICIÓN | C9: TOTAL | D9: RANGO ETARIO | O9: Víctima de Violencia de Género | P9: Ingresos por Traslado | Q9: Ingresos con Control Precoz Extrasistema | R9: Derivación por IVE causal 3 <14 años | S9: Identidad de género | U9: Personas con discapacidad | V9: Pueblos Originarios | W9: Migrantes
D10: Menor de 14 años | E10: 14 años | F10: 15 - 19 años | G10: 20 - 24 años | H10: 25 - 29 años | I10: 30 - 34 años | J10: 35 - 39 años | K10: 40 - 44 años | L10: 45 - 49 años | M10: 50 - 54 años | N10: 55 y más años | S10: Trans masculino | T10: No binarie | W10: Menor de 20 años | X10: 20 y más años
A11: Gestantes Ingresadas | C11: =SUM(D11:N11) -> 0 | Y11: =CA11&CB11&CC11&CD11&CE11&CF11&CG11&CH11&CI11&CJ11 | CA11: =IF(AND($C11>0,O11="")," * No olvide digitar la variable Víctima de Violencia de Género. Digite Cero si no tiene.",IF(O11>$C11," * La variable Víctima de Violencia de Género No puede ser mayor al Total.","")) | CB11: =IF(AND(C11>0,P11="")," * No olvide digitar la variable Ingresos por Traslados. Digite Cero si no tiene.",IF(P11>C11," * La variable Ingresos por Traslados No puede ser mayor al Total.","")) | CC11: =IF(AND($C11>0,Q11="")," * No olvide digitar la variable Ingresos con Control Precoz Extrasistema. Digite Cero si no tiene.",IF(Q11>$C11," * La variable Ingresos con Control Precoz Extrasistema No puede ser mayor al Total.","")) | CD11: =IF(AND($C11>0,R11="")," * No olvide digitar la variable Derivación por IVE causal 3 <14 años. Digite Cero si no tiene.",IF(R11>$C11," * La variable Derivación por IVE causal 3 <14 años No puede ser mayor al Total.","")) | CE11: =IF(AND($C11>0,S11="")," * No olvide digitar la variable Trans masculino. Digite Cero si no tiene.",IF(S11>$C11," * La variable Trans masculino No puede ser mayor al Total.","")) | CF11: =IF(AND($C11>0,T11="")," * No olvide digitar la variable No binarie. Digite Cero si no tiene.",IF(T11>$C11," * La variable No binarie No puede ser mayor al Total.","")) | CG11: =IF(AND($C11>0,U11="")," * No olvide digitar la variable Personas con discapacidad. Digite Cero si no tiene.",IF(U11>$C11," *La variable Personas con discapacidad No puede ser mayor al Total.","")) | CH11: =IF(AND($C11>0,V11="")," * No olvide digitar la variable Pueblos Originarios. Digite Cero si no tiene.",IF(V11>$C11," *La variable Pueblos Originarios No puede ser mayor al Total.","")) | CI11: =IF(AND($D11+E11+F11>0,W11="")," * No olvide digitar la variable Migrantes Menor de 20 años. Digite Cero si no tiene.",IF(W11>$D11+E11+F11," * La variable Migrantes Menor de 20 años No puede ser mayor a la suma del grupo Migrantes Menor de 20 años.","")) | CJ11: =IF(AND($H11+I11+J11+K11+L11+M11+N11>0,X11="")," * No olvide digitar la variable Migrantes 20 y más años. Digite Cero si no tiene.",IF(H11+I11+J11+K11+L11+M11+N11<$X11," * La variable Migrantes 20 y más años No puede ser mayor a la suma del grupo Migrantes 20 y más años.","")) | CO11: =IF(AND($C11>0,O11=""),1,IF(O11>$C11,1,0)) -> 0 | CP11: =IF(AND($C11>0,P11=""),1,IF(P11>$C11,1,0)) -> 0 | CQ11: =IF(AND($C11>0,Q11=""),1,IF(Q11>$C11,1,0)) -> 0 | CR11: =IF(R11>$E11+D11,1,0) -> 0 | CS11: =IF(AND($C11>0,S11=""),1,IF(S11>$C11,1,0)) -> 0 | CT11: =IF(AND($C11>0,T11=""),1,IF(T11>$C11,1,0)) -> 0 | CU11: =IF(AND($C11>0,U11=""),1,IF(U11>$C11,1,0)) -> 0 | CV11: =IF(AND($C11>0,V11=""),1,IF(V11>$C11,1,0)) -> 0 | CW11: =IF(AND(D11+E11+F11>0,W11=""),1,IF(W11>D11+E11+F11,1,0)) -> 0 | CX11: =IF(AND($H11+I11+J11+K11+L11+M11+N1>0,X11=""),1,IF(H11+I11+J11+K11+L11+M11+N11<X11,1,0)) -> 0
A12: Primigestas Ingresadas | C12: =SUM(D12:N12) -> 0 | Y12: =CA12&CB12&CC12&CD12&CE12&CF12&CG12&CH12&CI12&CJ12 | CA12: =IF(AND($C12>0,O12="")," * No olvide digitar la variable Víctima de Violencia de Género. Digite Cero si no tiene.",IF(O12>$C12," * La variable Víctima de Violencia de Género No puede ser mayor al Total.","")) | CB12: =IF(AND(C12>0,P12="")," * No olvide digitar la variable Ingresos por Traslados. Digite Cero si no tiene.",IF(P12>C12," * La variable Ingresos por Traslados No puede ser mayor al Total.","")) | CC12: =IF(AND($C12>0,Q12="")," * No olvide digitar la variable Ingresos con Control Precoz Extrasistema. Digite Cero si no tiene.",IF(Q12>$C12," * La variable Ingresos con Control Precoz Extrasistema No puede ser mayor al Total.","")) | CD12: =IF(AND($C12>0,R12="")," * No olvide digitar la variable Derivación por IVE causal 3 <14 años. Digite Cero si no tiene.",IF(R12>$C12," * La variable Derivación por IVE causal 3 <14 años No puede ser mayor al Total.","")) | CE12: =IF(AND($C12>0,S12="")," * No olvide digitar la variable Trans masculino. Digite Cero si no tiene.",IF(S12>$C12," * La variable Trans masculino No puede ser mayor al Total.","")) | CF12: =IF(AND($C12>0,T12="")," * No olvide digitar la variable No binarie. Digite Cero si no tiene.",IF(T12>$C12," * La variable No binarie No puede ser mayor al Total.","")) | CG12: =IF(AND($C12>0,U12="")," * No olvide digitar la variable Personas con discapacidad. Digite Cero si no tiene.",IF(U12>$C12," *La variable Personas con discapacidad No puede ser mayor al Total.","")) | CH12: =IF(AND($C12>0,V12="")," * No olvide digitar la variable Pueblos Originarios. Digite Cero si no tiene.",IF(V12>$C12," *La variable Pueblos Originarios No puede ser mayor al Total.","")) | CI12: =IF(AND($D12+E12+F12>0,W12="")," * No olvide digitar la variable Migrantes Menor de 20 años. Digite Cero si no tiene.",IF(W12>$D12+E12+F12," * La variable Migrantes Menor de 20 años No puede ser mayor a la suma del grupo Migrantes Menor de 20 años.","")) | CJ12: =IF(AND($H12+I12+J12+K12+L12+M12+N12>0,X12="")," * No olvide digitar la variable Migrantes 20 y más años. Digite Cero si no tiene.",IF(H12+I12+J12+K12+L12+M12+N12<$X12," * La variable Migrantes 20 y más años No puede ser mayor a la suma del grupo Migrantes 20 y más años.","")) | CO12: =IF(AND($C12>0,O12=""),1,IF(O12>$C12,1,0)) -> 0 | CP12: =IF(AND($C12>0,P12=""),1,IF(P12>$C12,1,0)) -> 0 | CQ12: =IF(AND($C12>0,Q12=""),1,IF(Q12>$C12,1,0)) -> 0 | CR12: =IF(R12>$E12+D12,1,0) -> 0 | CS12: =IF(AND($C12>0,S12=""),1,IF(S12>$C12,1,0)) -> 0 | CT12: =IF(AND($C12>0,T12=""),1,IF(T12>$C12,1,0)) -> 0 | CU12: =IF(AND($C12>0,U12=""),1,IF(U12>$C12,1,0)) -> 0 | CV12: =IF(AND($C12>0,V12=""),1,IF(V12>$C12,1,0)) -> 0 | CW12: =IF(AND(D12+E12+F12>0,W12=""),1,IF(W12>D12+E12+F12,1,0)) -> 0 | CX12: =IF(AND($H12+I12+J12+K12+L12+M12+N2>0,X12=""),1,IF(H12+I12+J12+K12+L12+M12+N12<X12,1,0)) -> 0
A13: Gestantes Ingresadas antes de las 14 Semanas | C13: =SUM(D13:N13) -> 0 | Y13: =CA13&CB13&CC13&CD13&CE13&CF13&CG13&CH13&CI13&CJ13 | CA13: =IF(AND($C13>0,O13="")," * No olvide digitar la variable Víctima de Violencia de Género. Digite Cero si no tiene.",IF(O13>$C13," * La variable Víctima de Violencia de Género No puede ser mayor al Total.","")) | CB13: =IF(AND(C13>0,P13="")," * No olvide digitar la variable Ingresos por Traslados. Digite Cero si no tiene.",IF(P13>C13," * La variable Ingresos por Traslados No puede ser mayor al Total.","")) | CC13: =IF(AND($C13>0,Q13="")," * No olvide digitar la variable Ingresos con Control Precoz Extrasistema. Digite Cero si no tiene.",IF(Q13>$C13," * La variable Ingresos con Control Precoz Extrasistema No puede ser mayor al Total.","")) | CD13: =IF(AND($C13>0,R13="")," * No olvide digitar la variable Derivación por IVE causal 3 <14 años. Digite Cero si no tiene.",IF(R13>$C13," * La variable Derivación por IVE causal 3 <14 años No puede ser mayor al Total.","")) | CE13: =IF(AND($C13>0,S13="")," * No olvide digitar la variable Trans masculino. Digite Cero si no tiene.",IF(S13>$C13," * La variable Trans masculino No puede ser mayor al Total.","")) | CF13: =IF(AND($C13>0,T13="")," * No olvide digitar la variable No binarie. Digite Cero si no tiene.",IF(T13>$C13," * La variable No binarie No puede ser mayor al Total.","")) | CG13: =IF(AND($C13>0,U13="")," * No olvide digitar la variable Personas con discapacidad. Digite Cero si no tiene.",IF(U13>$C13," *La variable Personas con discapacidad No puede ser mayor al Total.","")) | CH13: =IF(AND($C13>0,V13="")," * No olvide digitar la variable Pueblos Originarios. Digite Cero si no tiene.",IF(V13>$C13," *La variable Pueblos Originarios No puede ser mayor al Total.","")) | CI13: =IF(AND($D13+E13+F13>0,W13="")," * No olvide digitar la variable Migrantes Menor de 20 años. Digite Cero si no tiene.",IF(W13>$D13+E13+F13," * La variable Migrantes Menor de 20 años No puede ser mayor a la suma del grupo Migrantes Menor de 20 años.","")) | CJ13: =IF(AND($H13+I13+J13+K13+L13+M13+N13>0,X13="")," * No olvide digitar la variable Migrantes 20 y más años. Digite Cero si no tiene.",IF(H13+I13+J13+K13+L13+M13+N13<$X13," * La variable Migrantes 20 y más años No puede ser mayor a la suma del grupo Migrantes 20 y más años.","")) | CO13: =IF(AND($C13>0,O13=""),1,IF(O13>$C13,1,0)) -> 0 | CP13: =IF(AND($C13>0,P13=""),1,IF(P13>$C13,1,0)) -> 0 | CQ13: =IF(AND($C13>0,Q13=""),1,IF(Q13>$C13,1,0)) -> 0 | CR13: =IF(R13>$E13+D13,1,0) -> 0 | CS13: =IF(AND($C13>0,S13=""),1,IF(S13>$C13,1,0)) -> 0 | CT13: =IF(AND($C13>0,T13=""),1,IF(T13>$C13,1,0)) -> 0 | CU13: =IF(AND($C13>0,U13=""),1,IF(U13>$C13,1,0)) -> 0 | CV13: =IF(AND($C13>0,V13=""),1,IF(V13>$C13,1,0)) -> 0 | CW13: =IF(AND(D13+E13+F13>0,W13=""),1,IF(W13>D13+E13+F13,1,0)) -> 0 | CX13: =IF(AND($H13+I13+J13+K13+L13+M13+N3>0,X13=""),1,IF(H13+I13+J13+K13+L13+M13+N13<X13,1,0)) -> 0
A14: Gestantes con Embarazo no Planificado | C14: =SUM(D14:N14) -> 0 | Y14: =CA14&CB14&CC14&CD14&CE14&CF14&CG14&CH14&CI14&CJ14 | CA14: =IF(AND($C14>0,O14="")," * No olvide digitar la variable Víctima de Violencia de Género. Digite Cero si no tiene.",IF(O14>$C14," * La variable Víctima de Violencia de Género No puede ser mayor al Total.","")) | CB14: =IF(AND(C14>0,P14="")," * No olvide digitar la variable Ingresos por Traslados. Digite Cero si no tiene.",IF(P14>C14," * La variable Ingresos por Traslados No puede ser mayor al Total.","")) | CC14: =IF(AND($C14>0,Q14="")," * No olvide digitar la variable Ingresos con Control Precoz Extrasistema. Digite Cero si no tiene.",IF(Q14>$C14," * La variable Ingresos con Control Precoz Extrasistema No puede ser mayor al Total.","")) | CD14: =IF(AND($C14>0,R14="")," * No olvide digitar la variable Derivación por IVE causal 3 <14 años. Digite Cero si no tiene.",IF(R14>$C14," * La variable Derivación por IVE causal 3 <14 años No puede ser mayor al Total.","")) | CE14: =IF(AND($C14>0,S14="")," * No olvide digitar la variable Trans masculino. Digite Cero si no tiene.",IF(S14>$C14," * La variable Trans masculino No puede ser mayor al Total.","")) | CF14: =IF(AND($C14>0,T14="")," * No olvide digitar la variable No binarie. Digite Cero si no tiene.",IF(T14>$C14," * La variable No binarie No puede ser mayor al Total.","")) | CG14: =IF(AND($C14>0,U14="")," * No olvide digitar la variable Personas con discapacidad. Digite Cero si no tiene.",IF(U14>$C14," *La variable Personas con discapacidad No puede ser mayor al Total.","")) | CH14: =IF(AND($C14>0,V14="")," * No olvide digitar la variable Pueblos Originarios. Digite Cero si no tiene.",IF(V14>$C14," *La variable Pueblos Originarios No puede ser mayor al Total.","")) | CI14: =IF(AND($D14+E14+F14>0,W14="")," * No olvide digitar la variable Migrantes Menor de 20 años. Digite Cero si no tiene.",IF(W14>$D14+E14+F14," * La variable Migrantes Menor de 20 años No puede ser mayor a la suma del grupo Migrantes Menor de 20 años.","")) | CJ14: =IF(AND($H14+I14+J14+K14+L14+M14+N14>0,X14="")," * No olvide digitar la variable Migrantes 20 y más años. Digite Cero si no tiene.",IF(H14+I14+J14+K14+L14+M14+N14<$X14," * La variable Migrantes 20 y más años No puede ser mayor a la suma del grupo Migrantes 20 y más años.","")) | CO14: =IF(AND($C14>0,O14=""),1,IF(O14>$C14,1,0)) -> 0 | CP14: =IF(AND($C14>0,P14=""),1,IF(P14>$C14,1,0)) -> 0 | CQ14: =IF(AND($C14>0,Q14=""),1,IF(Q14>$C14,1,0)) -> 0 | CR14: =IF(R14>$E14+D14,1,0) -> 0 | CS14: =IF(AND($C14>0,S14=""),1,IF(S14>$C14,1,0)) -> 0 | CT14: =IF(AND($C14>0,T14=""),1,IF(T14>$C14,1,0)) -> 0 | CU14: =IF(AND($C14>0,U14=""),1,IF(U14>$C14,1,0)) -> 0 | CV14: =IF(AND($C14>0,V14=""),1,IF(V14>$C14,1,0)) -> 0 | CW14: =IF(AND(D14+E14+F14>0,W14=""),1,IF(W14>D14+E14+F14,1,0)) -> 0 | CX14: =IF(AND($H14+I14+J14+K14+L14+M14+N4>0,X14=""),1,IF(H14+I14+J14+K14+L14+M14+N14<X14,1,0)) -> 0
A15: SECCIÓN B: INGRESO DE GESTANTES CON PATOLOGÍA DE ALTO RIESGO OBSTÉTRICO A LA UNIDAD DE ARO (Nivel Secundario)
A16: PATOLOGÍA | C16: Nº de Ingreso a ARO | D16: Víctima de violencia de género | E16: Pueblos Originarios | F16: Migrantes
A18: Nº de Gestantes Ingresadas | C18: 122 | D18: 1 | E18: 0 | F18: 6 | G18: =CA18&CB18&CC18 | CA18: =IF(AND($C18>0,$D18="")," * No olvide digitar la variable "&$D$16&""&". Digite Cero si no tiene.",IF(D18>C18," ** La variable Víctima de violencia de género No puede ser mayor al "&$C$16&""&" .","")) | CB18: =IF(AND(C18>0,E18="")," * No olvide digitar la "&$E$16&""&" . Digite Cero si no tiene.",IF(E18>C18," * La variable Pueblos originarios No puede ser mayor al "&$C$16&""&" .","")) | CC18: =IF(AND(C18>0,F18="")," * No olvide digitar la "&$F$16&""&" . Digite Cero si no tiene.",IF(F18>C18," * La variable Migrantes No puede ser mayor al "&$C$16&""&" .","")) | CO18: =IF(AND(C18>0,D18=""),1,IF(D18>C18,1,0)) -> 0 | CP18: =IF(AND(C18>0,E18=""),1,IF(E18>C18,1,0)) -> 0 | CQ18: =IF(AND(C18>0,F18=""),1,IF(F18>C18,1,0)) -> 0
A19: Preeclampsia (PE) | C19: 0 | D19: 0 | E19: 0 | F19: 0 | G19: =CA19&CB19&CC19 | CA19: =IF(AND($C19>0,$D19="")," * No olvide digitar la variable "&$D$16&""&". Digite Cero si no tiene.",IF(D19>C19," ** La variable Víctima de violencia de género No puede ser mayor al "&$C$16&""&" .","")) | CB19: =IF(AND(C19>0,E19="")," * No olvide digitar la "&$E$16&""&" . Digite Cero si no tiene.",IF(E19>C19," * La variable Pueblos originarios No puede ser mayor al "&$C$16&""&" .","")) | CC19: =IF(AND(C19>0,F19="")," * No olvide digitar la "&$F$16&""&" . Digite Cero si no tiene.",IF(F19>C19," * La variable Migrantes No puede ser mayor al "&$C$16&""&" .","")) | CO19: =IF(AND(C19>0,D19=""),1,IF(D19>C19,1,0)) -> 0 | CP19: =IF(AND(C19>0,E19=""),1,IF(E19>C19,1,0)) -> 0 | CQ19: =IF(AND(C19>0,F19=""),1,IF(F19>C19,1,0)) -> 0
A20: Síndrome Hipertensivo del Embarazo (SHE) | C20: 0 | D20: 0 | E20: 0 | F20: 0 | G20: =CA20&CB20&CC20 | CA20: =IF(AND($C20>0,$D20="")," * No olvide digitar la variable "&$D$16&""&". Digite Cero si no tiene.",IF(D20>C20," ** La variable Víctima de violencia de género No puede ser mayor al "&$C$16&""&" .","")) | CB20: =IF(AND(C20>0,E20="")," * No olvide digitar la "&$E$16&""&" . Digite Cero si no tiene.",IF(E20>C20," * La variable Pueblos originarios No puede ser mayor al "&$C$16&""&" .","")) | CC20: =IF(AND(C20>0,F20="")," * No olvide digitar la "&$F$16&""&" . Digite Cero si no tiene.",IF(F20>C20," * La variable Migrantes No puede ser mayor al "&$C$16&""&" .","")) | CO20: =IF(AND(C20>0,D20=""),1,IF(D20>C20,1,0)) -> 0 | CP20: =IF(AND(C20>0,E20=""),1,IF(E20>C20,1,0)) -> 0 | CQ20: =IF(AND(C20>0,F20=""),1,IF(F20>C20,1,0)) -> 0
A21: Factores de Riesgo y Condicionantes de Parto Prematuro | C21: 20 | D21: 1 | E21: 0 | F21: 1 | G21: =CA21&CB21&CC21 | CA21: =IF(AND($C21>0,$D21="")," * No olvide digitar la variable "&$D$16&""&". Digite Cero si no tiene.",IF(D21>C21," ** La variable Víctima de violencia de género No puede ser mayor al "&$C$16&""&" .","")) | CB21: =IF(AND(C21>0,E21="")," * No olvide digitar la "&$E$16&""&" . Digite Cero si no tiene.",IF(E21>C21," * La variable Pueblos originarios No puede ser mayor al "&$C$16&""&" .","")) | CC21: =IF(AND(C21>0,F21="")," * No olvide digitar la "&$F$16&""&" . Digite Cero si no tiene.",IF(F21>C21," * La variable Migrantes No puede ser mayor al "&$C$16&""&" .","")) | CO21: =IF(AND(C21>0,D21=""),1,IF(D21>C21,1,0)) -> 0 | CP21: =IF(AND(C21>0,E21=""),1,IF(E21>C21,1,0)) -> 0 | CQ21: =IF(AND(C21>0,F21=""),1,IF(F21>C21,1,0)) -> 0
A22: Retardo Crecimiento Intrauterino (RCIU) | C22: 4 | D22: 0 | E22: 0 | F22: 0 | G22: =CA22&CB22&CC22 | CA22: =IF(AND($C22>0,$D22="")," * No olvide digitar la variable "&$D$16&""&". Digite Cero si no tiene.",IF(D22>C22," ** La variable Víctima de violencia de género No puede ser mayor al "&$C$16&""&" .","")) | CB22: =IF(AND(C22>0,E22="")," * No olvide digitar la "&$E$16&""&" . Digite Cero si no tiene.",IF(E22>C22," * La variable Pueblos originarios No puede ser mayor al "&$C$16&""&" .","")) | CC22: =IF(AND(C22>0,F22="")," * No olvide digitar la "&$F$16&""&" . Digite Cero si no tiene.",IF(F22>C22," * La variable Migrantes No puede ser mayor al "&$C$16&""&" .","")) | CO22: =IF(AND(C22>0,D22=""),1,IF(D22>C22,1,0)) -> 0 | CP22: =IF(AND(C22>0,E22=""),1,IF(E22>C22,1,0)) -> 0 | CQ22: =IF(AND(C22>0,F22=""),1,IF(F22>C22,1,0)) -> 0
A23: SÍFILIS | C23: 0 | D23: 0 | E23: 0 | F23: 0 | G23: =CA23&CB23&CC23 | CA23: =IF(AND($C23>0,$D23="")," * No olvide digitar la variable "&$D$16&""&". Digite Cero si no tiene.",IF(D23>C23," ** La variable Víctima de violencia de género No puede ser mayor al "&$C$16&""&" .","")) | CB23: =IF(AND(C23>0,E23="")," * No olvide digitar la "&$E$16&""&" . Digite Cero si no tiene.",IF(E23>C23," * La variable Pueblos originarios No puede ser mayor al "&$C$16&""&" .","")) | CC23: =IF(AND(C23>0,F23="")," * No olvide digitar la "&$F$16&""&" . Digite Cero si no tiene.",IF(F23>C23," * La variable Migrantes No puede ser mayor al "&$C$16&""&" .","")) | CO23: =IF(AND(C23>0,D23=""),1,IF(D23>C23,1,0)) -> 0 | CP23: =IF(AND(C23>0,E23=""),1,IF(E23>C23,1,0)) -> 0 | CQ23: =IF(AND(C23>0,F23=""),1,IF(F23>C23,1,0)) -> 0
A24: VIH | C24: 0 | D24: 0 | E24: 0 | F24: 0 | G24: =CA24&CB24&CC24 | CA24: =IF(AND($C24>0,$D24="")," * No olvide digitar la variable "&$D$16&""&". Digite Cero si no tiene.",IF(D24>C24," ** La variable Víctima de violencia de género No puede ser mayor al "&$C$16&""&" .","")) | CB24: =IF(AND(C24>0,E24="")," * No olvide digitar la "&$E$16&""&" . Digite Cero si no tiene.",IF(E24>C24," * La variable Pueblos originarios No puede ser mayor al "&$C$16&""&" .","")) | CC24: =IF(AND(C24>0,F24="")," * No olvide digitar la "&$F$16&""&" . Digite Cero si no tiene.",IF(F24>C24," * La variable Migrantes No puede ser mayor al "&$C$16&""&" .","")) | CO24: =IF(AND(C24>0,D24=""),1,IF(D24>C24,1,0)) -> 0 | CP24: =IF(AND(C24>0,E24=""),1,IF(E24>C24,1,0)) -> 0 | CQ24: =IF(AND(C24>0,F24=""),1,IF(F24>C24,1,0)) -> 0
A25: Diabetes | C25: 3 | D25: 0 | E25: 0 | F25: 1 | G25: =CA25&CB25&CC25 | CA25: =IF(AND($C25>0,$D25="")," * No olvide digitar la variable "&$D$16&""&". Digite Cero si no tiene.",IF(D25>C25," ** La variable Víctima de violencia de género No puede ser mayor al "&$C$16&""&" .","")) | CB25: =IF(AND(C25>0,E25="")," * No olvide digitar la "&$E$16&""&" . Digite Cero si no tiene.",IF(E25>C25," * La variable Pueblos originarios No puede ser mayor al "&$C$16&""&" .","")) | CC25: =IF(AND(C25>0,F25="")," * No olvide digitar la "&$F$16&""&" . Digite Cero si no tiene.",IF(F25>C25," * La variable Migrantes No puede ser mayor al "&$C$16&""&" .","")) | CO25: =IF(AND(C25>0,D25=""),1,IF(D25>C25,1,0)) -> 0 | CP25: =IF(AND(C25>0,E25=""),1,IF(E25>C25,1,0)) -> 0 | CQ25: =IF(AND(C25>0,F25=""),1,IF(F25>C25,1,0)) -> 0
A26: Cesárea Anterior | C26: 28 | D26: 0 | E26: 0 | F26: 1 | G26: =CA26&CB26&CC26 | CA26: =IF(AND($C26>0,$D26="")," * No olvide digitar la variable "&$D$16&""&". Digite Cero si no tiene.",IF(D26>C26," ** La variable Víctima de violencia de género No puede ser mayor al "&$C$16&""&" .","")) | CB26: =IF(AND(C26>0,E26="")," * No olvide digitar la "&$E$16&""&" . Digite Cero si no tiene.",IF(E26>C26," * La variable Pueblos originarios No puede ser mayor al "&$C$16&""&" .","")) | CC26: =IF(AND(C26>0,F26="")," * No olvide digitar la "&$F$16&""&" . Digite Cero si no tiene.",IF(F26>C26," * La variable Migrantes No puede ser mayor al "&$C$16&""&" .","")) | CO26: =IF(AND(C26>0,D26=""),1,IF(D26>C26,1,0)) -> 0 | CP26: =IF(AND(C26>0,E26=""),1,IF(E26>C26,1,0)) -> 0 | CQ26: =IF(AND(C26>0,F26=""),1,IF(F26>C26,1,0)) -> 0
A27: Malformación Congénita | C27: 1 | D27: 0 | E27: 0 | F27: 0 | G27: =CA27&CB27&CC27 | CA27: =IF(AND($C27>0,$D27="")," * No olvide digitar la variable "&$D$16&""&". Digite Cero si no tiene.",IF(D27>C27," ** La variable Víctima de violencia de género No puede ser mayor al "&$C$16&""&" .","")) | CB27: =IF(AND(C27>0,E27="")," * No olvide digitar la "&$E$16&""&" . Digite Cero si no tiene.",IF(E27>C27," * La variable Pueblos originarios No puede ser mayor al "&$C$16&""&" .","")) | CC27: =IF(AND(C27>0,F27="")," * No olvide digitar la "&$F$16&""&" . Digite Cero si no tiene.",IF(F27>C27," * La variable Migrantes No puede ser mayor al "&$C$16&""&" .","")) | CO27: =IF(AND(C27>0,D27=""),1,IF(D27>C27,1,0)) -> 0 | CP27: =IF(AND(C27>0,E27=""),1,IF(E27>C27,1,0)) -> 0 | CQ27: =IF(AND(C27>0,F27=""),1,IF(F27>C27,1,0)) -> 0
A28: Hipotiroidismo | C28: 6 | D28: 0 | E28: 0 | F28: 0 | G28: =CA28&CB28&CC28 | CA28: =IF(AND($C28>0,$D28="")," * No olvide digitar la variable "&$D$16&""&". Digite Cero si no tiene.",IF(D28>C28," ** La variable Víctima de violencia de género No puede ser mayor al "&$C$16&""&" .","")) | CB28: =IF(AND(C28>0,E28="")," * No olvide digitar la "&$E$16&""&" . Digite Cero si no tiene.",IF(E28>C28," * La variable Pueblos originarios No puede ser mayor al "&$C$16&""&" .","")) | CC28: =IF(AND(C28>0,F28="")," * No olvide digitar la "&$F$16&""&" . Digite Cero si no tiene.",IF(F28>C28," * La variable Migrantes No puede ser mayor al "&$C$16&""&" .","")) | CO28: =IF(AND(C28>0,D28=""),1,IF(D28>C28,1,0)) -> 0 | CP28: =IF(AND(C28>0,E28=""),1,IF(E28>C28,1,0)) -> 0 | CQ28: =IF(AND(C28>0,F28=""),1,IF(F28>C28,1,0)) -> 0
A29: Diabetes Gestacional | C29: 16 | D29: 0 | E29: 0 | F29: 0 | G29: =CA29&CB29&CC29 | CA29: =IF(AND($C29>0,$D29="")," * No olvide digitar la variable "&$D$16&""&". Digite Cero si no tiene.",IF(D29>C29," ** La variable Víctima de violencia de género No puede ser mayor al "&$C$16&""&" .","")) | CB29: =IF(AND(C29>0,E29="")," * No olvide digitar la "&$E$16&""&" . Digite Cero si no tiene.",IF(E29>C29," * La variable Pueblos originarios No puede ser mayor al "&$C$16&""&" .","")) | CC29: =IF(AND(C29>0,F29="")," * No olvide digitar la "&$F$16&""&" . Digite Cero si no tiene.",IF(F29>C29," * La variable Migrantes No puede ser mayor al "&$C$16&""&" .","")) | CO29: =IF(AND(C29>0,D29=""),1,IF(D29>C29,1,0)) -> 0 | CP29: =IF(AND(C29>0,E29=""),1,IF(E29>C29,1,0)) -> 0 | CQ29: =IF(AND(C29>0,F29=""),1,IF(F29>C29,1,0)) -> 0
... A31: Otras Patologías del Embarazo | C31: 42 | D31: 0 | E31: 0 | F31: 2 | G31: =CA31&CB31&CC31 | CA31: =IF(AND($C31>0,$D31="")," * No olvide digitar la variable "&$D$16&""&". Digite Cero si no tiene.",IF(D31>C31," ** La variable Víctima de violencia de género No puede ser mayor al "&$C$16&""&" .","")) | CB31: =IF(AND(C31>0,E31="")," * No olvide digitar la "&$E$16&""&" . Digite Cero si no tiene.",IF(E31>C31," * La variable Pueblos originarios No puede ser mayor al "&$C$16&""&" .","")) | CC31: =IF(AND(C31>0,F31="")," * No olvide digitar la "&$F$16&""&" . Digite Cero si no tiene.",IF(F31>C31," * La variable Migrantes No puede ser mayor al "&$C$16&""&" .","")) | CO31: =IF(AND(C31>0,D31=""),1,IF(D31>C31,1,0)) -> 0 | CP31: =IF(AND(C31>0,E31=""),1,IF(E31>C31,1,0)) -> 0 | CQ31: =IF(AND(C31>0,F31=""),1,IF(F31>C31,1,0)) -> 0
A32: SECCIÓN C: INGRESOS A PROGRAMA DE REGULACIÓN DE FERTILIDAD
A33: MÉTODOS | C33: TOTAL | D33: RANGO ETARIO | Q33: Espacios Amigables/ Adolescentes | R33: Ingreso por cambio de Método Anticonceptivo | S33: Pueblos Originarios | T33: Migrantes | V33: Inicio precoz de MAC nivel secundario y terciario | W33: Ingreso a Anticoncepción post aborto | X33: Identidad de Género | AA33: Personas con Discpacidad
D34: Menos de 15 años | E34: 15 - 19 años | F34: 20 - 24 años | G34: 25 - 29 años | H34: 30 - 34 años | I34: 35 - 39 años | J34: 40 - 44 años | K34: 45 - 49 años | L34: 50 - 54 años | M34: 55 - 59 años | N34: 60 - 64 años | O34: 65 - 69 años | P34: 70 y más años | T34: Menor de 20 años | U34: 20 y más años | X34: Trans masculino | Y34: Trans femenino | Z34: No binarie
A35: TOTAL REGULACIÓN DE FERTILIDAD | C35: =SUM(D35:P35) -> 0 | D35: =SUM(D36:D49) -> 0 | E35: =SUM(E36:E49) -> 0 | F35: =SUM(F36:F49) -> 0 | G35: =SUM(G36:G49) -> 0 | H35: =SUM(H36:H49) -> 0 | I35: =SUM(I36:I49) -> 0 | J35: =SUM(J36:J49) -> 0 | K35: =SUM(K36:K49) -> 0 | ... M35: =SUM(M36:M49) -> 0 | N35: =SUM(N36:N48) -> 0 | O35: =SUM(O36:O48) -> 0 | P35: =SUM(P36:P48) -> 0 | Q35: =SUM(Q36:Q48) -> 0 | R35: =SUM(R36:R48) -> 0 | S35: =SUM(S36:S48) -> 0 | T35: =SUM(T36:T48) -> 0 | U35: =SUM(U36:U48) -> 0 | ... AA35: =SUM(AA36:AA48) -> 0
A36: D.I.U. T con Cobre | C36: =SUM(D36:M36) -> 0 | AB36: =CA36&CB36&CC36&CD36&CE36&CF36&CG36&CH36&CI36&CJ36&CK36 | CA36: =IF(AND($C36>0,Q36="")," * No olvide digitar la variable "&$Q$33&""&". Digite Cero si no tiene.",IF(Q36>$C36," * La variable "&$Q$33&""&" no puede ser mayor al Total.","")) | CB36: =IF(AND($C36>0,R36="")," * No olvide digitar la variable "&$R$33&""&". Digite Cero si no tiene.", "") | CC36: =IF(AND($C36>0,S36="")," * No olvide digitar la variable "&$S$33&""&". Digite Cero si no tiene.",IF(S36>C36," * La variable "&$S$33&""&" no puede ser mayor al Total.","")) | CD36: =IF(AND($D36+E36>0,T36="")," * No olvide digitar la variable Migrantes "&$T$34&""&". Digite Cero si no tiene.",IF(T36>$D36+E36," * La variable Migrantes "&$T$34&""&" no puede ser mayor al Total.","")) | CE36: =IF(AND($F36+$G36+$H36+$I36+$J36+$K36+$L36+$M36>0,$U36="")," * No olvide digitar la variable Migrantes "&$U$34&""&". Digite Cero si no tiene.",IF($U36>$F36+$G36+$H36+$I36+$J36+$K36+$L36+$M36," * La variable Migrantes "&$U$34&""&" no puede ser mayor al Total.","")) | CF36: =IF(AND($C36>0,V36="")," * No olvide digitar la variable "&$V$33&""&". Digite Cero si no tiene.","") | CG36: =IF(AND($C36>0,W36="")," * No olvide digitar la variable "&$W$33&""&". Digite Cero si no tiene.",IF(W36>$C36," * La variable "&$W$33&""&" no puede ser mayor al Total.","")) | CH36: =IF(AND($C36>0,X36="")," * No olvide digitar la variable "&$X$34&""&". Digite Cero si no tiene.",IF(X36>$C36," * La variable "&$X$34&""&" no puede ser mayor al Total.","")) | CI36: =IF(AND($C36>0,Y36="")," * No olvide digitar la variable "&$Y$34&""&". Digite Cero si no tiene.",IF(Y36>$C36," * La variable "&$Y$34&""&" no puede ser mayor al Total.","")) | CJ36: =IF(AND($C36>0,Z36="")," * No olvide digitar la variable "&$Z$34&""&". Digite Cero si no tiene.",IF(Z36>$C36," * La variable "&$Z$34&""&" no puede ser mayor al Total.","")) | CK36: =IF(AND($C36>0,AA36="")," * No olvide digitar la variable "&$AA$33&""&". Digite Cero si no tiene.",IF(AA36>$C36," * La variable "&$AA$33&""&" no puede ser mayor al Total.","")) | CO36: =IF(AND($C36>0,Q36=""),1,IF(Q36>$C36,1,0)) -> 0 | CP36: =IF(AND($C36>0,R36=""),1,IF(R36>$C36,1,0)) -> 0 | CQ36: =IF(AND($C36>0,S36=""),1,IF(S36>$C36,1,0)) -> 0 | CR36: =IF(AND($D36+$E36>0,$T36=""),1,IF(T36>$D36+$E36,1,0)) -> 0 | CS36: =IF(AND($F36+$G36+$H36+$I36+$J36+$K36+$L36+$M36>0,$U36=""),1,IF($U36>$F36+$G36+$H36+$I36+$J36+$K36+$L36+$M36,1,0)) -> 0 | CT36: =IF(AND($C36>0,V36=""),1,0) -> 0 | CU36: =IF(AND($C36>0,W36=""),1,IF(W36>$C36,1,0)) -> 0 | CV36: =IF(AND($C36>0,X36=""),1,IF(X36>$C36,1,0)) -> 0 | CW36: =IF(AND($C36>0,Y36=""),1,IF(Y36>$C36,1,0)) -> 0 | CX36: =IF(AND($C36>0,Z36=""),1,IF(Z36>$C36,1,0)) -> 0 | CY36: =IF(AND($C36>0,AA36=""),1,IF(AA36>$C36,1,0)) -> 0
A37: D.I.U. con Levonorgestrel | C37: =SUM(D37:M37) -> 0 | AB37: =CA37&CB37&CC37&CD37&CE37&CF37&CG37&CH37&CI37&CJ37&CK37 | CA37: =IF(AND($C37>0,Q37="")," * No olvide digitar la variable "&$Q$33&""&". Digite Cero si no tiene.",IF(Q37>$C37," * La variable "&$Q$33&""&" no puede ser mayor al Total.","")) | CB37: =IF(AND($C37>0,R37="")," * No olvide digitar la variable "&$R$33&""&". Digite Cero si no tiene.", "") | CC37: =IF(AND($C37>0,S37="")," * No olvide digitar la variable "&$S$33&""&". Digite Cero si no tiene.",IF(S37>C37," * La variable "&$S$33&""&" no puede ser mayor al Total.","")) | CD37: =IF(AND($D37+E37>0,T37="")," * No olvide digitar la variable Migrantes "&$T$34&""&". Digite Cero si no tiene.",IF(T37>$D37+E37," * La variable Migrantes "&$T$34&""&" no puede ser mayor al Total.","")) | CE37: =IF(AND($F37+$G37+$H37+$I37+$J37+$K37+$L37+$M37>0,$U37="")," * No olvide digitar la variable Migrantes "&$U$34&""&". Digite Cero si no tiene.",IF($U37>$F37+$G37+$H37+$I37+$J37+$K37+$L37+$M37," * La variable Migrantes "&$U$34&""&" no puede ser mayor al Total.","")) | CF37: =IF(AND($C37>0,V37="")," * No olvide digitar la variable "&$V$33&""&". Digite Cero si no tiene.","") | CG37: =IF(AND($C37>0,W37="")," * No olvide digitar la variable "&$W$33&""&". Digite Cero si no tiene.",IF(W37>$C37," * La variable "&$W$33&""&" no puede ser mayor al Total.","")) | CH37: =IF(AND($C37>0,X37="")," * No olvide digitar la variable "&$X$34&""&". Digite Cero si no tiene.",IF(X37>$C37," * La variable "&$X$34&""&" no puede ser mayor al Total.","")) | CI37: =IF(AND($C37>0,Y37="")," * No olvide digitar la variable "&$Y$34&""&". Digite Cero si no tiene.",IF(Y37>$C37," * La variable "&$Y$34&""&" no puede ser mayor al Total.","")) | CJ37: =IF(AND($C37>0,Z37="")," * No olvide digitar la variable "&$Z$34&""&". Digite Cero si no tiene.",IF(Z37>$C37," * La variable "&$Z$34&""&" no puede ser mayor al Total.","")) | CK37: =IF(AND($C37>0,AA37="")," * No olvide digitar la variable "&$AA$33&""&". Digite Cero si no tiene.",IF(AA37>$C37," * La variable "&$AA$33&""&" no puede ser mayor al Total.","")) | CO37: =IF(AND($C37>0,Q37=""),1,IF(Q37>$C37,1,0)) -> 0 | CP37: =IF(AND($C37>0,R37=""),1,IF(R37>$C37,1,0)) -> 0 | CQ37: =IF(AND($C37>0,S37=""),1,IF(S37>$C37,1,0)) -> 0 | CR37: =IF(AND($D37+$E37>0,$T37=""),1,IF(T37>$D37+$E37,1,0)) -> 0 | CS37: =IF(AND($F37+$G37+$H37+$I37+$J37+$K37+$L37+$M37>0,$U37=""),1,IF($U37>$F37+$G37+$H37+$I37+$J37+$K37+$L37+$M37,1,0)) -> 0 | CT37: =IF(AND($C37>0,V37=""),1,0) -> 0 | CU37: =IF(AND($C37>0,W37=""),1,IF(W37>$C37,1,0)) -> 0 | CV37: =IF(AND($C37>0,X37=""),1,IF(X37>$C37,1,0)) -> 0 | CW37: =IF(AND($C37>0,Y37=""),1,IF(Y37>$C37,1,0)) -> 0 | CX37: =IF(AND($C37>0,Z37=""),1,IF(Z37>$C37,1,0)) -> 0 | CY37: =IF(AND($C37>0,AA37=""),1,IF(AA37>$C37,1,0)) -> 0
A38: Hormonal | B38: Oral Combinado | C38: =SUM(D38:M38) -> 0 | AB38: =CA38&CB38&CC38&CD38&CE38&CF38&CG38&CH38&CI38&CJ38&CK38 | CA38: =IF(AND($C38>0,Q38="")," * No olvide digitar la variable "&$Q$33&""&". Digite Cero si no tiene.",IF(Q38>$C38," * La variable "&$Q$33&""&" no puede ser mayor al Total.","")) | CB38: =IF(AND($C38>0,R38="")," * No olvide digitar la variable "&$R$33&""&". Digite Cero si no tiene.", "") | CC38: =IF(AND($C38>0,S38="")," * No olvide digitar la variable "&$S$33&""&". Digite Cero si no tiene.",IF(S38>C38," * La variable "&$S$33&""&" no puede ser mayor al Total.","")) | CD38: =IF(AND($D38+E38>0,T38="")," * No olvide digitar la variable Migrantes "&$T$34&""&". Digite Cero si no tiene.",IF(T38>$D38+E38," * La variable Migrantes "&$T$34&""&" no puede ser mayor al Total.","")) | CE38: =IF(AND($F38+$G38+$H38+$I38+$J38+$K38+$L38+$M38>0,$U38="")," * No olvide digitar la variable Migrantes "&$U$34&""&". Digite Cero si no tiene.",IF($U38>$F38+$G38+$H38+$I38+$J38+$K38+$L38+$M38," * La variable Migrantes "&$U$34&""&" no puede ser mayor al Total.","")) | CF38: =IF(AND($C38>0,V38="")," * No olvide digitar la variable "&$V$33&""&". Digite Cero si no tiene.","") | CG38: =IF(AND($C38>0,W38="")," * No olvide digitar la variable "&$W$33&""&". Digite Cero si no tiene.",IF(W38>$C38," * La variable "&$W$33&""&" no puede ser mayor al Total.","")) | CH38: =IF(AND($C38>0,X38="")," * No olvide digitar la variable "&$X$34&""&". Digite Cero si no tiene.",IF(X38>$C38," * La variable "&$X$34&""&" no puede ser mayor al Total.","")) | CI38: =IF(AND($C38>0,Y38="")," * No olvide digitar la variable "&$Y$34&""&". Digite Cero si no tiene.",IF(Y38>$C38," * La variable "&$Y$34&""&" no puede ser mayor al Total.","")) | CJ38: =IF(AND($C38>0,Z38="")," * No olvide digitar la variable "&$Z$34&""&". Digite Cero si no tiene.",IF(Z38>$C38," * La variable "&$Z$34&""&" no puede ser mayor al Total.","")) | CK38: =IF(AND($C38>0,AA38="")," * No olvide digitar la variable "&$AA$33&""&". Digite Cero si no tiene.",IF(AA38>$C38," * La variable "&$AA$33&""&" no puede ser mayor al Total.","")) | CO38: =IF(AND($C38>0,Q38=""),1,IF(Q38>$C38,1,0)) -> 0 | CP38: =IF(AND($C38>0,R38=""),1,IF(R38>$C38,1,0)) -> 0 | CQ38: =IF(AND($C38>0,S38=""),1,IF(S38>$C38,1,0)) -> 0 | CR38: =IF(AND($D38+$E38>0,$T38=""),1,IF(T38>$D38+$E38,1,0)) -> 0 | CS38: =IF(AND($F38+$G38+$H38+$I38+$J38+$K38+$L38+$M38>0,$U38=""),1,IF($U38>$F38+$G38+$H38+$I38+$J38+$K38+$L38+$M38,1,0)) -> 0 | CT38: =IF(AND($C38>0,V38=""),1,0) -> 0 | CU38: =IF(AND($C38>0,W38=""),1,IF(W38>$C38,1,0)) -> 0 | CV38: =IF(AND($C38>0,X38=""),1,IF(X38>$C38,1,0)) -> 0 | CW38: =IF(AND($C38>0,Y38=""),1,IF(Y38>$C38,1,0)) -> 0 | CX38: =IF(AND($C38>0,Z38=""),1,IF(Z38>$C38,1,0)) -> 0 | CY38: =IF(AND($C38>0,AA38=""),1,IF(AA38>$C38,1,0)) -> 0
B39: Oral Progestágeno | C39: =SUM(D39:M39) -> 0 | AB39: =CA39&CB39&CC39&CD39&CE39&CF39&CG39&CH39&CI39&CJ39&CK39 | CA39: =IF(AND($C39>0,Q39="")," * No olvide digitar la variable "&$Q$33&""&". Digite Cero si no tiene.",IF(Q39>$C39," * La variable "&$Q$33&""&" no puede ser mayor al Total.","")) | CB39: =IF(AND($C39>0,R39="")," * No olvide digitar la variable "&$R$33&""&". Digite Cero si no tiene.", "") | CC39: =IF(AND($C39>0,S39="")," * No olvide digitar la variable "&$S$33&""&". Digite Cero si no tiene.",IF(S39>C39," * La variable "&$S$33&""&" no puede ser mayor al Total.","")) | CD39: =IF(AND($D39+E39>0,T39="")," * No olvide digitar la variable Migrantes "&$T$34&""&". Digite Cero si no tiene.",IF(T39>$D39+E39," * La variable Migrantes "&$T$34&""&" no puede ser mayor al Total.","")) | CE39: =IF(AND($F39+$G39+$H39+$I39+$J39+$K39+$L39+$M39>0,$U39="")," * No olvide digitar la variable Migrantes "&$U$34&""&". Digite Cero si no tiene.",IF($U39>$F39+$G39+$H39+$I39+$J39+$K39+$L39+$M39," * La variable Migrantes "&$U$34&""&" no puede ser mayor al Total.","")) | CF39: =IF(AND($C39>0,V39="")," * No olvide digitar la variable "&$V$33&""&". Digite Cero si no tiene.","") | CG39: =IF(AND($C39>0,W39="")," * No olvide digitar la variable "&$W$33&""&". Digite Cero si no tiene.",IF(W39>$C39," * La variable "&$W$33&""&" no puede ser mayor al Total.","")) | CH39: =IF(AND($C39>0,X39="")," * No olvide digitar la variable "&$X$34&""&". Digite Cero si no tiene.",IF(X39>$C39," * La variable "&$X$34&""&" no puede ser mayor al Total.","")) | CI39: =IF(AND($C39>0,Y39="")," * No olvide digitar la variable "&$Y$34&""&". Digite Cero si no tiene.",IF(Y39>$C39," * La variable "&$Y$34&""&" no puede ser mayor al Total.","")) | CJ39: =IF(AND($C39>0,Z39="")," * No olvide digitar la variable "&$Z$34&""&". Digite Cero si no tiene.",IF(Z39>$C39," * La variable "&$Z$34&""&" no puede ser mayor al Total.","")) | CK39: =IF(AND($C39>0,AA39="")," * No olvide digitar la variable "&$AA$33&""&". Digite Cero si no tiene.",IF(AA39>$C39," * La variable "&$AA$33&""&" no puede ser mayor al Total.","")) | CO39: =IF(AND($C39>0,Q39=""),1,IF(Q39>$C39,1,0)) -> 0 | CP39: =IF(AND($C39>0,R39=""),1,IF(R39>$C39,1,0)) -> 0 | CQ39: =IF(AND($C39>0,S39=""),1,IF(S39>$C39,1,0)) -> 0 | CR39: =IF(AND($D39+$E39>0,$T39=""),1,IF(T39>$D39+$E39,1,0)) -> 0 | CS39: =IF(AND($F39+$G39+$H39+$I39+$J39+$K39+$L39+$M39>0,$U39=""),1,IF($U39>$F39+$G39+$H39+$I39+$J39+$K39+$L39+$M39,1,0)) -> 0 | CT39: =IF(AND($C39>0,V39=""),1,0) -> 0 | CU39: =IF(AND($C39>0,W39=""),1,IF(W39>$C39,1,0)) -> 0 | CV39: =IF(AND($C39>0,X39=""),1,IF(X39>$C39,1,0)) -> 0 | CW39: =IF(AND($C39>0,Y39=""),1,IF(Y39>$C39,1,0)) -> 0 | CX39: =IF(AND($C39>0,Z39=""),1,IF(Z39>$C39,1,0)) -> 0 | CY39: =IF(AND($C39>0,AA39=""),1,IF(AA39>$C39,1,0)) -> 0
B40: Inyectable Combinado | C40: =SUM(D40:M40) -> 0 | AB40: =CA40&CB40&CC40&CD40&CE40&CF40&CG40&CH40&CI40&CJ40&CK40 | CA40: =IF(AND($C40>0,Q40="")," * No olvide digitar la variable "&$Q$33&""&". Digite Cero si no tiene.",IF(Q40>$C40," * La variable "&$Q$33&""&" no puede ser mayor al Total.","")) | CB40: =IF(AND($C40>0,R40="")," * No olvide digitar la variable "&$R$33&""&". Digite Cero si no tiene.", "") | CC40: =IF(AND($C40>0,S40="")," * No olvide digitar la variable "&$S$33&""&". Digite Cero si no tiene.",IF(S40>C40," * La variable "&$S$33&""&" no puede ser mayor al Total.","")) | CD40: =IF(AND($D40+E40>0,T40="")," * No olvide digitar la variable Migrantes "&$T$34&""&". Digite Cero si no tiene.",IF(T40>$D40+E40," * La variable Migrantes "&$T$34&""&" no puede ser mayor al Total.","")) | CE40: =IF(AND($F40+$G40+$H40+$I40+$J40+$K40+$L40+$M40>0,$U40="")," * No olvide digitar la variable Migrantes "&$U$34&""&". Digite Cero si no tiene.",IF($U40>$F40+$G40+$H40+$I40+$J40+$K40+$L40+$M40," * La variable Migrantes "&$U$34&""&" no puede ser mayor al Total.","")) | CF40: =IF(AND($C40>0,V40="")," * No olvide digitar la variable "&$V$33&""&". Digite Cero si no tiene.","") | CG40: =IF(AND($C40>0,W40="")," * No olvide digitar la variable "&$W$33&""&". Digite Cero si no tiene.",IF(W40>$C40," * La variable "&$W$33&""&" no puede ser mayor al Total.","")) | CH40: =IF(AND($C40>0,X40="")," * No olvide digitar la variable "&$X$34&""&". Digite Cero si no tiene.",IF(X40>$C40," * La variable "&$X$34&""&" no puede ser mayor al Total.","")) | CI40: =IF(AND($C40>0,Y40="")," * No olvide digitar la variable "&$Y$34&""&". Digite Cero si no tiene.",IF(Y40>$C40," * La variable "&$Y$34&""&" no puede ser mayor al Total.","")) | CJ40: =IF(AND($C40>0,Z40="")," * No olvide digitar la variable "&$Z$34&""&". Digite Cero si no tiene.",IF(Z40>$C40," * La variable "&$Z$34&""&" no puede ser mayor al Total.","")) | CK40: =IF(AND($C40>0,AA40="")," * No olvide digitar la variable "&$AA$33&""&". Digite Cero si no tiene.",IF(AA40>$C40," * La variable "&$AA$33&""&" no puede ser mayor al Total.","")) | CO40: =IF(AND($C40>0,Q40=""),1,IF(Q40>$C40,1,0)) -> 0 | CP40: =IF(AND($C40>0,R40=""),1,IF(R40>$C40,1,0)) -> 0 | CQ40: =IF(AND($C40>0,S40=""),1,IF(S40>$C40,1,0)) -> 0 | CR40: =IF(AND($D40+$E40>0,$T40=""),1,IF(T40>$D40+$E40,1,0)) -> 0 | CS40: =IF(AND($F40+$G40+$H40+$I40+$J40+$K40+$L40+$M40>0,$U40=""),1,IF($U40>$F40+$G40+$H40+$I40+$J40+$K40+$L40+$M40,1,0)) -> 0 | CT40: =IF(AND($C40>0,V40=""),1,0) -> 0 | CU40: =IF(AND($C40>0,W40=""),1,IF(W40>$C40,1,0)) -> 0 | CV40: =IF(AND($C40>0,X40=""),1,IF(X40>$C40,1,0)) -> 0 | CW40: =IF(AND($C40>0,Y40=""),1,IF(Y40>$C40,1,0)) -> 0 | CX40: =IF(AND($C40>0,Z40=""),1,IF(Z40>$C40,1,0)) -> 0 | CY40: =IF(AND($C40>0,AA40=""),1,IF(AA40>$C40,1,0)) -> 0
B41: Inyectable Progestágeno | C41: =SUM(D41:M41) -> 0 | AB41: =CA41&CB41&CC41&CD41&CE41&CF41&CG41&CH41&CI41&CJ41&CK41 | CA41: =IF(AND($C41>0,Q41="")," * No olvide digitar la variable "&$Q$33&""&". Digite Cero si no tiene.",IF(Q41>$C41," * La variable "&$Q$33&""&" no puede ser mayor al Total.","")) | CB41: =IF(AND($C41>0,R41="")," * No olvide digitar la variable "&$R$33&""&". Digite Cero si no tiene.", "") | CC41: =IF(AND($C41>0,S41="")," * No olvide digitar la variable "&$S$33&""&". Digite Cero si no tiene.",IF(S41>C41," * La variable "&$S$33&""&" no puede ser mayor al Total.","")) | CD41: =IF(AND($D41+E41>0,T41="")," * No olvide digitar la variable Migrantes "&$T$34&""&". Digite Cero si no tiene.",IF(T41>$D41+E41," * La variable Migrantes "&$T$34&""&" no puede ser mayor al Total.","")) | CE41: =IF(AND($F41+$G41+$H41+$I41+$J41+$K41+$L41+$M41>0,$U41="")," * No olvide digitar la variable Migrantes "&$U$34&""&". Digite Cero si no tiene.",IF($U41>$F41+$G41+$H41+$I41+$J41+$K41+$L41+$M41," * La variable Migrantes "&$U$34&""&" no puede ser mayor al Total.","")) | CF41: =IF(AND($C41>0,V41="")," * No olvide digitar la variable "&$V$33&""&". Digite Cero si no tiene.","") | CG41: =IF(AND($C41>0,W41="")," * No olvide digitar la variable "&$W$33&""&". Digite Cero si no tiene.",IF(W41>$C41," * La variable "&$W$33&""&" no puede ser mayor al Total.","")) | CH41: =IF(AND($C41>0,X41="")," * No olvide digitar la variable "&$X$34&""&". Digite Cero si no tiene.",IF(X41>$C41," * La variable "&$X$34&""&" no puede ser mayor al Total.","")) | CI41: =IF(AND($C41>0,Y41="")," * No olvide digitar la variable "&$Y$34&""&". Digite Cero si no tiene.",IF(Y41>$C41," * La variable "&$Y$34&""&" no puede ser mayor al Total.","")) | CJ41: =IF(AND($C41>0,Z41="")," * No olvide digitar la variable "&$Z$34&""&". Digite Cero si no tiene.",IF(Z41>$C41," * La variable "&$Z$34&""&" no puede ser mayor al Total.","")) | CK41: =IF(AND($C41>0,AA41="")," * No olvide digitar la variable "&$AA$33&""&". Digite Cero si no tiene.",IF(AA41>$C41," * La variable "&$AA$33&""&" no puede ser mayor al Total.","")) | CO41: =IF(AND($C41>0,Q41=""),1,IF(Q41>$C41,1,0)) -> 0 | CP41: =IF(AND($C41>0,R41=""),1,IF(R41>$C41,1,0)) -> 0 | CQ41: =IF(AND($C41>0,S41=""),1,IF(S41>$C41,1,0)) -> 0 | CR41: =IF(AND($D41+$E41>0,$T41=""),1,IF(T41>$D41+$E41,1,0)) -> 0 | CS41: =IF(AND($F41+$G41+$H41+$I41+$J41+$K41+$L41+$M41>0,$U41=""),1,IF($U41>$F41+$G41+$H41+$I41+$J41+$K41+$L41+$M41,1,0)) -> 0 | CT41: =IF(AND($C41>0,V41=""),1,0) -> 0 | CU41: =IF(AND($C41>0,W41=""),1,IF(W41>$C41,1,0)) -> 0 | CV41: =IF(AND($C41>0,X41=""),1,IF(X41>$C41,1,0)) -> 0 | CW41: =IF(AND($C41>0,Y41=""),1,IF(Y41>$C41,1,0)) -> 0 | CX41: =IF(AND($C41>0,Z41=""),1,IF(Z41>$C41,1,0)) -> 0 | CY41: =IF(AND($C41>0,AA41=""),1,IF(AA41>$C41,1,0)) -> 0
B42: Implante Etonogestrel (3 años) | C42: =SUM(D42:M42) -> 0 | AB42: =CA42&CB42&CC42&CD42&CE42&CF42&CG42&CH42&CI42&CJ42&CK42 | CA42: =IF(AND($C42>0,Q42="")," * No olvide digitar la variable "&$Q$33&""&". Digite Cero si no tiene.",IF(Q42>$C42," * La variable "&$Q$33&""&" no puede ser mayor al Total.","")) | CB42: =IF(AND($C42>0,R42="")," * No olvide digitar la variable "&$R$33&""&". Digite Cero si no tiene.", "") | CC42: =IF(AND($C42>0,S42="")," * No olvide digitar la variable "&$S$33&""&". Digite Cero si no tiene.",IF(S42>C42," * La variable "&$S$33&""&" no puede ser mayor al Total.","")) | CD42: =IF(AND($D42+E42>0,T42="")," * No olvide digitar la variable Migrantes "&$T$34&""&". Digite Cero si no tiene.",IF(T42>$D42+E42," * La variable Migrantes "&$T$34&""&" no puede ser mayor al Total.","")) | CE42: =IF(AND($F42+$G42+$H42+$I42+$J42+$K42+$L42+$M42>0,$U42="")," * No olvide digitar la variable Migrantes "&$U$34&""&". Digite Cero si no tiene.",IF($U42>$F42+$G42+$H42+$I42+$J42+$K42+$L42+$M42," * La variable Migrantes "&$U$34&""&" no puede ser mayor al Total.","")) | CF42: =IF(AND($C42>0,V42="")," * No olvide digitar la variable "&$V$33&""&". Digite Cero si no tiene.","") | CG42: =IF(AND($C42>0,W42="")," * No olvide digitar la variable "&$W$33&""&". Digite Cero si no tiene.",IF(W42>$C42," * La variable "&$W$33&""&" no puede ser mayor al Total.","")) | CH42: =IF(AND($C42>0,X42="")," * No olvide digitar la variable "&$X$34&""&". Digite Cero si no tiene.",IF(X42>$C42," * La variable "&$X$34&""&" no puede ser mayor al Total.","")) | CI42: =IF(AND($C42>0,Y42="")," * No olvide digitar la variable "&$Y$34&""&". Digite Cero si no tiene.",IF(Y42>$C42," * La variable "&$Y$34&""&" no puede ser mayor al Total.","")) | CJ42: =IF(AND($C42>0,Z42="")," * No olvide digitar la variable "&$Z$34&""&". Digite Cero si no tiene.",IF(Z42>$C42," * La variable "&$Z$34&""&" no puede ser mayor al Total.","")) | CK42: =IF(AND($C42>0,AA42="")," * No olvide digitar la variable "&$AA$33&""&". Digite Cero si no tiene.",IF(AA42>$C42," * La variable "&$AA$33&""&" no puede ser mayor al Total.","")) | CO42: =IF(AND($C42>0,Q42=""),1,IF(Q42>$C42,1,0)) -> 0 | CP42: =IF(AND($C42>0,R42=""),1,IF(R42>$C42,1,0)) -> 0 | CQ42: =IF(AND($C42>0,S42=""),1,IF(S42>$C42,1,0)) -> 0 | CR42: =IF(AND($D42+$E42>0,$T42=""),1,IF(T42>$D42+$E42,1,0)) -> 0 | CS42: =IF(AND($F42+$G42+$H42+$I42+$J42+$K42+$L42+$M42>0,$U42=""),1,IF($U42>$F42+$G42+$H42+$I42+$J42+$K42+$L42+$M42,1,0)) -> 0 | CT42: =IF(AND($C42>0,V42=""),1,0) -> 0 | CU42: =IF(AND($C42>0,W42=""),1,IF(W42>$C42,1,0)) -> 0 | CV42: =IF(AND($C42>0,X42=""),1,IF(X42>$C42,1,0)) -> 0 | CW42: =IF(AND($C42>0,Y42=""),1,IF(Y42>$C42,1,0)) -> 0 | CX42: =IF(AND($C42>0,Z42=""),1,IF(Z42>$C42,1,0)) -> 0 | CY42: =IF(AND($C42>0,AA42=""),1,IF(AA42>$C42,1,0)) -> 0
B43: Implante Levonorgestrel (5 años) | C43: =SUM(D43:M43) -> 0 | AB43: =CA43&CB43&CC43&CD43&CE43&CF43&CG43&CH43&CI43&CJ43&CK43 | CA43: =IF(AND($C43>0,Q43="")," * No olvide digitar la variable "&$Q$33&""&". Digite Cero si no tiene.",IF(Q43>$C43," * La variable "&$Q$33&""&" no puede ser mayor al Total.","")) | CB43: =IF(AND($C43>0,R43="")," * No olvide digitar la variable "&$R$33&""&". Digite Cero si no tiene.", "") | CC43: =IF(AND($C43>0,S43="")," * No olvide digitar la variable "&$S$33&""&". Digite Cero si no tiene.",IF(S43>C43," * La variable "&$S$33&""&" no puede ser mayor al Total.","")) | CD43: =IF(AND($D43+E43>0,T43="")," * No olvide digitar la variable Migrantes "&$T$34&""&". Digite Cero si no tiene.",IF(T43>$D43+E43," * La variable Migrantes "&$T$34&""&" no puede ser mayor al Total.","")) | CE43: =IF(AND($F43+$G43+$H43+$I43+$J43+$K43+$L43+$M43>0,$U43="")," * No olvide digitar la variable Migrantes "&$U$34&""&". Digite Cero si no tiene.",IF($U43>$F43+$G43+$H43+$I43+$J43+$K43+$L43+$M43," * La variable Migrantes "&$U$34&""&" no puede ser mayor al Total.","")) | CF43: =IF(AND($C43>0,V43="")," * No olvide digitar la variable "&$V$33&""&". Digite Cero si no tiene.","") | CG43: =IF(AND($C43>0,W43="")," * No olvide digitar la variable "&$W$33&""&". Digite Cero si no tiene.",IF(W43>$C43," * La variable "&$W$33&""&" no puede ser mayor al Total.","")) | CH43: =IF(AND($C43>0,X43="")," * No olvide digitar la variable "&$X$34&""&". Digite Cero si no tiene.",IF(X43>$C43," * La variable "&$X$34&""&" no puede ser mayor al Total.","")) | CI43: =IF(AND($C43>0,Y43="")," * No olvide digitar la variable "&$Y$34&""&". Digite Cero si no tiene.",IF(Y43>$C43," * La variable "&$Y$34&""&" no puede ser mayor al Total.","")) | CJ43: =IF(AND($C43>0,Z43="")," * No olvide digitar la variable "&$Z$34&""&". Digite Cero si no tiene.",IF(Z43>$C43," * La variable "&$Z$34&""&" no puede ser mayor al Total.","")) | CK43: =IF(AND($C43>0,AA43="")," * No olvide digitar la variable "&$AA$33&""&". Digite Cero si no tiene.",IF(AA43>$C43," * La variable "&$AA$33&""&" no puede ser mayor al Total.","")) | CO43: =IF(AND($C43>0,Q43=""),1,IF(Q43>$C43,1,0)) -> 0 | CP43: =IF(AND($C43>0,R43=""),1,IF(R43>$C43,1,0)) -> 0 | CQ43: =IF(AND($C43>0,S43=""),1,IF(S43>$C43,1,0)) -> 0 | CR43: =IF(AND($D43+$E43>0,$T43=""),1,IF(T43>$D43+$E43,1,0)) -> 0 | CS43: =IF(AND($F43+$G43+$H43+$I43+$J43+$K43+$L43+$M43>0,$U43=""),1,IF($U43>$F43+$G43+$H43+$I43+$J43+$K43+$L43+$M43,1,0)) -> 0 | CT43: =IF(AND($C43>0,V43=""),1,0) -> 0 | CU43: =IF(AND($C43>0,W43=""),1,IF(W43>$C43,1,0)) -> 0 | CV43: =IF(AND($C43>0,X43=""),1,IF(X43>$C43,1,0)) -> 0 | CW43: =IF(AND($C43>0,Y43=""),1,IF(Y43>$C43,1,0)) -> 0 | CX43: =IF(AND($C43>0,Z43=""),1,IF(Z43>$C43,1,0)) -> 0 | CY43: =IF(AND($C43>0,AA43=""),1,IF(AA43>$C43,1,0)) -> 0
B44: Anillo Vaginal | C44: =SUM(D44:M44) -> 0 | AB44: =CA44&CB44&CC44&CD44&CE44&CF44&CG44&CH44&CI44&CJ44&CK44 | CA44: =IF(AND($C44>0,Q44="")," * No olvide digitar la variable "&$Q$33&""&". Digite Cero si no tiene.",IF(Q44>$C44," * La variable "&$Q$33&""&" no puede ser mayor al Total.","")) | CB44: =IF(AND($C44>0,R44="")," * No olvide digitar la variable "&$R$33&""&". Digite Cero si no tiene.", "") | CC44: =IF(AND($C44>0,S44="")," * No olvide digitar la variable "&$S$33&""&". Digite Cero si no tiene.",IF(S44>C44," * La variable "&$S$33&""&" no puede ser mayor al Total.","")) | CD44: =IF(AND($D44+E44>0,T44="")," * No olvide digitar la variable Migrantes "&$T$34&""&". Digite Cero si no tiene.",IF(T44>$D44+E44," * La variable Migrantes "&$T$34&""&" no puede ser mayor al Total.","")) | CE44: =IF(AND($F44+$G44+$H44+$I44+$J44+$K44+$L44+$M44>0,$U44="")," * No olvide digitar la variable Migrantes "&$U$34&""&". Digite Cero si no tiene.",IF($U44>$F44+$G44+$H44+$I44+$J44+$K44+$L44+$M44," * La variable Migrantes "&$U$34&""&" no puede ser mayor al Total.","")) | CF44: =IF(AND($C44>0,V44="")," * No olvide digitar la variable "&$V$33&""&". Digite Cero si no tiene.","") | CG44: =IF(AND($C44>0,W44="")," * No olvide digitar la variable "&$W$33&""&". Digite Cero si no tiene.",IF(W44>$C44," * La variable "&$W$33&""&" no puede ser mayor al Total.","")) | CH44: =IF(AND($C44>0,X44="")," * No olvide digitar la variable "&$X$34&""&". Digite Cero si no tiene.",IF(X44>$C44," * La variable "&$X$34&""&" no puede ser mayor al Total.","")) | CI44: =IF(AND($C44>0,Y44="")," * No olvide digitar la variable "&$Y$34&""&". Digite Cero si no tiene.",IF(Y44>$C44," * La variable "&$Y$34&""&" no puede ser mayor al Total.","")) | CJ44: =IF(AND($C44>0,Z44="")," * No olvide digitar la variable "&$Z$34&""&". Digite Cero si no tiene.",IF(Z44>$C44," * La variable "&$Z$34&""&" no puede ser mayor al Total.","")) | CK44: =IF(AND($C44>0,AA44="")," * No olvide digitar la variable "&$AA$33&""&". Digite Cero si no tiene.",IF(AA44>$C44," * La variable "&$AA$33&""&" no puede ser mayor al Total.","")) | CO44: =IF(AND($C44>0,Q44=""),1,IF(Q44>$C44,1,0)) -> 0 | CP44: =IF(AND($C44>0,R44=""),1,IF(R44>$C44,1,0)) -> 0 | CQ44: =IF(AND($C44>0,S44=""),1,IF(S44>$C44,1,0)) -> 0 | CR44: =IF(AND($D44+$E44>0,$T44=""),1,IF(T44>$D44+$E44,1,0)) -> 0 | CS44: =IF(AND($F44+$G44+$H44+$I44+$J44+$K44+$L44+$M44>0,$U44=""),1,IF($U44>$F44+$G44+$H44+$I44+$J44+$K44+$L44+$M44,1,0)) -> 0 | CT44: =IF(AND($C44>0,V44=""),1,0) -> 0 | CU44: =IF(AND($C44>0,W44=""),1,IF(W44>$C44,1,0)) -> 0 | CV44: =IF(AND($C44>0,X44=""),1,IF(X44>$C44,1,0)) -> 0 | CW44: =IF(AND($C44>0,Y44=""),1,IF(Y44>$C44,1,0)) -> 0 | CX44: =IF(AND($C44>0,Z44=""),1,IF(Z44>$C44,1,0)) -> 0 | CY44: =IF(AND($C44>0,AA44=""),1,IF(AA44>$C44,1,0)) -> 0
A45: Sólo preservativo MAC | B45: Mujer | C45: =SUM(D45:P45) -> 0 | AB45: =CA45&CB45&CC45&CD45&CE45&CF45&CG45&CH45&CI45&CJ45&CK45 | CA45: =IF(AND($C45>0,Q45="")," * No olvide digitar la variable "&$Q$33&""&". Digite Cero si no tiene.",IF(Q45>$C45," * La variable "&$Q$33&""&" no puede ser mayor al Total.","")) | CB45: =IF(AND($C45>0,R45="")," * No olvide digitar la variable "&$R$33&""&". Digite Cero si no tiene.", "") | CC45: =IF(AND($C45>0,S45="")," * No olvide digitar la variable "&$S$33&""&". Digite Cero si no tiene.",IF(S45>C45," * La variable "&$S$33&""&" no puede ser mayor al Total.","")) | CD45: =IF(AND($D45+E45>0,T45="")," * No olvide digitar la variable Migrantes "&$T$34&""&". Digite Cero si no tiene.",IF(T45>$D45+E45," * La variable Migrantes "&$T$34&""&" no puede ser mayor al Total.","")) | CE45: =IF(AND($F45+$G45+$H45+$I45+$J45+$K45+$L45+$M45>0,$U45="")," * No olvide digitar la variable Migrantes "&$U$34&""&". Digite Cero si no tiene.",IF($U45>$F45+$G45+$H45+$I45+$J45+$K45+$L45+$M45," * La variable Migrantes "&$U$34&""&" no puede ser mayor al Total.","")) | CF45: =IF(AND($C45>0,V45="")," * No olvide digitar la variable "&$V$33&""&". Digite Cero si no tiene.","") | CG45: =IF(AND($C45>0,W45="")," * No olvide digitar la variable "&$W$33&""&". Digite Cero si no tiene.",IF(W45>$C45," * La variable "&$W$33&""&" no puede ser mayor al Total.","")) | CH45: =IF(AND($C45>0,X45="")," * No olvide digitar la variable "&$X$34&""&". Digite Cero si no tiene.",IF(X45>$C45," * La variable "&$X$34&""&" no puede ser mayor al Total.","")) | CI45: =IF(AND($C45>0,Y45="")," * No olvide digitar la variable "&$Y$34&""&". Digite Cero si no tiene.",IF(Y45>$C45," * La variable "&$Y$34&""&" no puede ser mayor al Total.","")) | CJ45: =IF(AND($C45>0,Z45="")," * No olvide digitar la variable "&$Z$34&""&". Digite Cero si no tiene.",IF(Z45>$C45," * La variable "&$Z$34&""&" no puede ser mayor al Total.","")) | CK45: =IF(AND($C45>0,AA45="")," * No olvide digitar la variable "&$AA$33&""&". Digite Cero si no tiene.",IF(AA45>$C45," * La variable "&$AA$33&""&" no puede ser mayor al Total.","")) | CO45: =IF(AND($C45>0,Q45=""),1,IF(Q45>$C45,1,0)) -> 0 | CP45: =IF(AND($C45>0,R45=""),1,IF(R45>$C45,1,0)) -> 0 | CQ45: =IF(AND($C45>0,S45=""),1,IF(S45>$C45,1,0)) -> 0 | CR45: =IF(AND($D45+$E45>0,$T45=""),1,IF(T45>$D45+$E45,1,0)) -> 0 | CS45: =IF(AND($F45+$G45+$H45+$I45+$J45+$K45+$L45+$M45>0,$U45=""),1,IF($U45>$F45+$G45+$H45+$I45+$J45+$K45+$L45+$M45,1,0)) -> 0 | CT45: =IF(AND($C45>0,V45=""),1,0) -> 0 | CU45: =IF(AND($C45>0,W45=""),1,IF(W45>$C45,1,0)) -> 0 | CV45: =IF(AND($C45>0,X45=""),1,IF(X45>$C45,1,0)) -> 0 | CW45: =IF(AND($C45>0,Y45=""),1,IF(Y45>$C45,1,0)) -> 0 | CX45: =IF(AND($C45>0,Z45=""),1,IF(Z45>$C45,1,0)) -> 0 | CY45: =IF(AND($C45>0,AA45=""),1,IF(AA45>$C45,1,0)) -> 0
B46: Hombres | C46: =SUM(D46:P46) -> 0 | AB46: =CA46&CB46&CC46&CD46&CE46&CF46&CG46&CH46&CI46&CJ46&CK46 | CA46: =IF(AND($C46>0,Q46="")," * No olvide digitar la variable "&$Q$33&""&". Digite Cero si no tiene.",IF(Q46>$C46," * La variable "&$Q$33&""&" no puede ser mayor al Total.","")) | CB46: =IF(AND($C46>0,R46="")," * No olvide digitar la variable "&$R$33&""&". Digite Cero si no tiene.", "") | CC46: =IF(AND($C46>0,S46="")," * No olvide digitar la variable "&$S$33&""&". Digite Cero si no tiene.",IF(S46>C46," * La variable "&$S$33&""&" no puede ser mayor al Total.","")) | CD46: =IF(AND($D46+E46>0,T46="")," * No olvide digitar la variable Migrantes "&$T$34&""&". Digite Cero si no tiene.",IF(T46>$D46+E46," * La variable Migrantes "&$T$34&""&" no puede ser mayor al Total.","")) | CE46: =IF(AND($F46+$G46+$H46+$I46+$J46+$K46+$L46+$M46>0,$U46="")," * No olvide digitar la variable Migrantes "&$U$34&""&". Digite Cero si no tiene.",IF($U46>$F46+$G46+$H46+$I46+$J46+$K46+$L46+$M46," * La variable Migrantes "&$U$34&""&" no puede ser mayor al Total.","")) | CF46: =IF(AND($C46>0,V46="")," * No olvide digitar la variable "&$V$33&""&". Digite Cero si no tiene.","") | CG46: =IF(AND($C46>0,W46="")," * No olvide digitar la variable "&$W$33&""&". Digite Cero si no tiene.",IF(W46>$C46," * La variable "&$W$33&""&" no puede ser mayor al Total.","")) | CH46: =IF(AND($C46>0,X46="")," * No olvide digitar la variable "&$X$34&""&". Digite Cero si no tiene.",IF(X46>$C46," * La variable "&$X$34&""&" no puede ser mayor al Total.","")) | CI46: =IF(AND($C46>0,Y46="")," * No olvide digitar la variable "&$Y$34&""&". Digite Cero si no tiene.",IF(Y46>$C46," * La variable "&$Y$34&""&" no puede ser mayor al Total.","")) | CJ46: =IF(AND($C46>0,Z46="")," * No olvide digitar la variable "&$Z$34&""&". Digite Cero si no tiene.",IF(Z46>$C46," * La variable "&$Z$34&""&" no puede ser mayor al Total.","")) | CK46: =IF(AND($C46>0,AA46="")," * No olvide digitar la variable "&$AA$33&""&". Digite Cero si no tiene.",IF(AA46>$C46," * La variable "&$AA$33&""&" no puede ser mayor al Total.","")) | CO46: =IF(AND($C46>0,Q46=""),1,IF(Q46>$C46,1,0)) -> 0 | CP46: =IF(AND($C46>0,R46=""),1,IF(R46>$C46,1,0)) -> 0 | CQ46: =IF(AND($C46>0,S46=""),1,IF(S46>$C46,1,0)) -> 0 | CR46: =IF(AND($D46+$E46>0,$T46=""),1,IF(T46>$D46+$E46,1,0)) -> 0 | CS46: =IF(AND($F46+$G46+$H46+$I46+$J46+$K46+$L46+$M46>0,$U46=""),1,IF($U46>$F46+$G46+$H46+$I46+$J46+$K46+$L46+$M46,1,0)) -> 0 | CT46: =IF(AND($C46>0,V46=""),1,0) -> 0 | CU46: =IF(AND($C46>0,W46=""),1,IF(W46>$C46,1,0)) -> 0 | CV46: =IF(AND($C46>0,X46=""),1,IF(X46>$C46,1,0)) -> 0 | CW46: =IF(AND($C46>0,Y46=""),1,IF(Y46>$C46,1,0)) -> 0 | CX46: =IF(AND($C46>0,Z46=""),1,IF(Z46>$C46,1,0)) -> 0 | CY46: =IF(AND($C46>0,AA46=""),1,IF(AA46>$C46,1,0)) -> 0
A47: Esterilización Quirúrgica | B47: Mujer | C47: =SUM(D47:M47) -> 0 | AB47: =CA47&CB47&CC47&CD47&CE47&CF47&CG47&CH47&CI47&CJ47&CK47 | CA47: =IF(AND($C47>0,Q47="")," * No olvide digitar la variable "&$Q$33&""&". Digite Cero si no tiene.",IF(Q47>$C47," * La variable "&$Q$33&""&" no puede ser mayor al Total.","")) | CB47: =IF(AND($C47>0,R47="")," * No olvide digitar la variable "&$R$33&""&". Digite Cero si no tiene.", "") | CC47: =IF(AND($C47>0,S47="")," * No olvide digitar la variable "&$S$33&""&". Digite Cero si no tiene.",IF(S47>C47," * La variable "&$S$33&""&" no puede ser mayor al Total.","")) | CD47: =IF(AND($D47+E47>0,T47="")," * No olvide digitar la variable Migrantes "&$T$34&""&". Digite Cero si no tiene.",IF(T47>$D47+E47," * La variable Migrantes "&$T$34&""&" no puede ser mayor al Total.","")) | CE47: =IF(AND($F47+$G47+$H47+$I47+$J47+$K47+$L47+$M47>0,$U47="")," * No olvide digitar la variable Migrantes "&$U$34&""&". Digite Cero si no tiene.",IF($U47>$F47+$G47+$H47+$I47+$J47+$K47+$L47+$M47," * La variable Migrantes "&$U$34&""&" no puede ser mayor al Total.","")) | CF47: =IF(AND($C47>0,V47="")," * No olvide digitar la variable "&$V$33&""&". Digite Cero si no tiene.","") | CG47: =IF(AND($C47>0,W47="")," * No olvide digitar la variable "&$W$33&""&". Digite Cero si no tiene.",IF(W47>$C47," * La variable "&$W$33&""&" no puede ser mayor al Total.","")) | CH47: =IF(AND($C47>0,X47="")," * No olvide digitar la variable "&$X$34&""&". Digite Cero si no tiene.",IF(X47>$C47," * La variable "&$X$34&""&" no puede ser mayor al Total.","")) | CI47: =IF(AND($C47>0,Y47="")," * No olvide digitar la variable "&$Y$34&""&". Digite Cero si no tiene.",IF(Y47>$C47," * La variable "&$Y$34&""&" no puede ser mayor al Total.","")) | CJ47: =IF(AND($C47>0,Z47="")," * No olvide digitar la variable "&$Z$34&""&". Digite Cero si no tiene.",IF(Z47>$C47," * La variable "&$Z$34&""&" no puede ser mayor al Total.","")) | CK47: =IF(AND($C47>0,AA47="")," * No olvide digitar la variable "&$AA$33&""&". Digite Cero si no tiene.",IF(AA47>$C47," * La variable "&$AA$33&""&" no puede ser mayor al Total.","")) | CO47: =IF(AND($C47>0,Q47=""),1,IF(Q47>$C47,1,0)) -> 0 | CP47: =IF(AND($C47>0,R47=""),1,IF(R47>$C47,1,0)) -> 0 | CQ47: =IF(AND($C47>0,S47=""),1,IF(S47>$C47,1,0)) -> 0 | CR47: =IF(AND($D47+$E47>0,$T47=""),1,IF(T47>$D47+$E47,1,0)) -> 0 | CS47: =IF(AND($F47+$G47+$H47+$I47+$J47+$K47+$L47+$M47>0,$U47=""),1,IF($U47>$F47+$G47+$H47+$I47+$J47+$K47+$L47+$M47,1,0)) -> 0 | CT47: =IF(AND($C47>0,V47=""),1,0) -> 0 | CU47: =IF(AND($C47>0,W47=""),1,IF(W47>$C47,1,0)) -> 0 | CV47: =IF(AND($C47>0,X47=""),1,IF(X47>$C47,1,0)) -> 0 | CW47: =IF(AND($C47>0,Y47=""),1,IF(Y47>$C47,1,0)) -> 0 | CX47: =IF(AND($C47>0,Z47=""),1,IF(Z47>$C47,1,0)) -> 0 | CY47: =IF(AND($C47>0,AA47=""),1,IF(AA47>$C47,1,0)) -> 0
B48: Hombres | C48: =SUM(D48:M48) -> 0 | AB48: =CA48&CB48&CC48&CD48&CE48&CF48&CG48&CH48&CI48&CJ48&CK48 | CA48: =IF(AND($C48>0,Q48="")," * No olvide digitar la variable "&$Q$33&""&". Digite Cero si no tiene.",IF(Q48>$C48," * La variable "&$Q$33&""&" no puede ser mayor al Total.","")) | CB48: =IF(AND($C48>0,R48="")," * No olvide digitar la variable "&$R$33&""&". Digite Cero si no tiene.", "") | CC48: =IF(AND($C48>0,S48="")," * No olvide digitar la variable "&$S$33&""&". Digite Cero si no tiene.",IF(S48>C48," * La variable "&$S$33&""&" no puede ser mayor al Total.","")) | CD48: =IF(AND($D48+E48>0,T48="")," * No olvide digitar la variable Migrantes "&$T$34&""&". Digite Cero si no tiene.",IF(T48>$D48+E48," * La variable Migrantes "&$T$34&""&" no puede ser mayor al Total.","")) | CE48: =IF(AND($F48+$G48+$H48+$I48+$J48+$K48+$L48+$M48>0,$U48="")," * No olvide digitar la variable Migrantes "&$U$34&""&". Digite Cero si no tiene.",IF($U48>$F48+$G48+$H48+$I48+$J48+$K48+$L48+$M48," * La variable Migrantes "&$U$34&""&" no puede ser mayor al Total.","")) | CF48: =IF(AND($C48>0,V48="")," * No olvide digitar la variable "&$V$33&""&". Digite Cero si no tiene.","") | CG48: =IF(AND($C48>0,W48="")," * No olvide digitar la variable "&$W$33&""&". Digite Cero si no tiene.",IF(W48>$C48," * La variable "&$W$33&""&" no puede ser mayor al Total.","")) | CH48: =IF(AND($C48>0,X48="")," * No olvide digitar la variable "&$X$34&""&". Digite Cero si no tiene.",IF(X48>$C48," * La variable "&$X$34&""&" no puede ser mayor al Total.","")) | CI48: =IF(AND($C48>0,Y48="")," * No olvide digitar la variable "&$Y$34&""&". Digite Cero si no tiene.",IF(Y48>$C48," * La variable "&$Y$34&""&" no puede ser mayor al Total.","")) | CJ48: =IF(AND($C48>0,Z48="")," * No olvide digitar la variable "&$Z$34&""&". Digite Cero si no tiene.",IF(Z48>$C48," * La variable "&$Z$34&""&" no puede ser mayor al Total.","")) | CK48: =IF(AND($C48>0,AA48="")," * No olvide digitar la variable "&$AA$33&""&". Digite Cero si no tiene.",IF(AA48>$C48," * La variable "&$AA$33&""&" no puede ser mayor al Total.","")) | CO48: =IF(AND($C48>0,Q48=""),1,IF(Q48>$C48,1,0)) -> 0 | CP48: =IF(AND($C48>0,R48=""),1,IF(R48>$C48,1,0)) -> 0 | CQ48: =IF(AND($C48>0,S48=""),1,IF(S48>$C48,1,0)) -> 0 | CR48: =IF(AND($D48+$E48>0,$T48=""),1,IF(T48>$D48+$E48,1,0)) -> 0 | CS48: =IF(AND($F48+$G48+$H48+$I48+$J48+$K48+$L48+$M48>0,$U48=""),1,IF($U48>$F48+$G48+$H48+$I48+$J48+$K48+$L48+$M48,1,0)) -> 0 | CT48: =IF(AND($C48>0,V48=""),1,0) -> 0 | CU48: =IF(AND($C48>0,W48=""),1,IF(W48>$C48,1,0)) -> 0 | CV48: =IF(AND($C48>0,X48=""),1,IF(X48>$C48,1,0)) -> 0 | CW48: =IF(AND($C48>0,Y48=""),1,IF(Y48>$C48,1,0)) -> 0 | CX48: =IF(AND($C48>0,Z48=""),1,IF(Z48>$C48,1,0)) -> 0 | CY48: =IF(AND($C48>0,AA48=""),1,IF(AA48>$C48,1,0)) -> 0
A49: Otros | C49: =SUM(D49:M49) -> 0 | AB49: =CA49&CB49&CC49&CD49&CE49&CF49&CG49&CH49&CI49&CJ49&CK49 | CA49: =IF(AND($C49>0,Q49="")," * No olvide digitar la variable "&$Q$33&""&". Digite Cero si no tiene.",IF(Q49>$C49," * La variable "&$Q$33&""&" no puede ser mayor al Total.","")) | CB49: =IF(AND($C49>0,R49="")," * No olvide digitar la variable "&$R$33&""&". Digite Cero si no tiene.", "") | CC49: =IF(AND($C49>0,S49="")," * No olvide digitar la variable "&$S$33&""&". Digite Cero si no tiene.",IF(S49>C49," * La variable "&$S$33&""&" no puede ser mayor al Total.","")) | CD49: =IF(AND($D49+E49>0,T49="")," * No olvide digitar la variable Migrantes "&$T$34&""&". Digite Cero si no tiene.",IF(T49>$D49+E49," * La variable Migrantes "&$T$34&""&" no puede ser mayor al Total.","")) | CE49: =IF(AND($F49+$G49+$H49+$I49+$J49+$K49+$L49+$M49>0,$U49="")," * No olvide digitar la variable Migrantes "&$U$34&""&". Digite Cero si no tiene.",IF($U49>$F49+$G49+$H49+$I49+$J49+$K49+$L49+$M49," * La variable Migrantes "&$U$34&""&" no puede ser mayor al Total.","")) | CF49: =IF(AND($C49>0,V49="")," * No olvide digitar la variable "&$V$33&""&". Digite Cero si no tiene.","") | CG49: =IF(AND($C49>0,W49="")," * No olvide digitar la variable "&$W$33&""&". Digite Cero si no tiene.",IF(W49>$C49," * La variable "&$W$33&""&" no puede ser mayor al Total.","")) | CH49: =IF(AND($C49>0,X49="")," * No olvide digitar la variable "&$X$34&""&". Digite Cero si no tiene.",IF(X49>$C49," * La variable "&$X$34&""&" no puede ser mayor al Total.","")) | CI49: =IF(AND($C49>0,Y49="")," * No olvide digitar la variable "&$Y$34&""&". Digite Cero si no tiene.",IF(Y49>$C49," * La variable "&$Y$34&""&" no puede ser mayor al Total.","")) | CJ49: =IF(AND($C49>0,Z49="")," * No olvide digitar la variable "&$Z$34&""&". Digite Cero si no tiene.",IF(Z49>$C49," * La variable "&$Z$34&""&" no puede ser mayor al Total.","")) | CK49: =IF(AND($C49>0,AA49="")," * No olvide digitar la variable "&$AA$33&""&". Digite Cero si no tiene.",IF(AA49>$C49," * La variable "&$AA$33&""&" no puede ser mayor al Total.","")) | CO49: =IF(AND($C49>0,Q49=""),1,IF(Q49>$C49,1,0)) -> 0 | CP49: =IF(AND($C49>0,R49=""),1,IF(R49>$C49,1,0)) -> 0 | CQ49: =IF(AND($C49>0,S49=""),1,IF(S49>$C49,1,0)) -> 0 | CR49: =IF(AND($D49+$E49>0,$T49=""),1,IF(T49>$D49+$E49,1,0)) -> 0 | CS49: =IF(AND($F49+$G49+$H49+$I49+$J49+$K49+$L49+$M49>0,$U49=""),1,IF($U49>$F49+$G49+$H49+$I49+$J49+$K49+$L49+$M49,1,0)) -> 0 | CT49: =IF(AND($C49>0,V49=""),1,0) -> 0 | CU49: =IF(AND($C49>0,W49=""),1,IF(W49>$C49,1,0)) -> 0 | CV49: =IF(AND($C49>0,X49=""),1,IF(X49>$C49,1,0)) -> 0 | CW49: =IF(AND($C49>0,Y49=""),1,IF(Y49>$C49,1,0)) -> 0 | CX49: =IF(AND($C49>0,Z49=""),1,IF(Z49>$C49,1,0)) -> 0 | CY49: =IF(AND($C49>0,AA49=""),1,IF(AA49>$C49,1,0)) -> 0
A50: Método de Regulación de Fertilidad más Preservativos | C50: =SUM(D50:M50) -> 0 | AB50: =CA50&CB50&CC50&CD50&CE50&CF50&CG50&CH50&CI50&CJ50&CK50 | CA50: =IF(AND($C50>0,Q50="")," * No olvide digitar la variable "&$Q$33&""&". Digite Cero si no tiene.",IF(Q50>$C50," * La variable "&$Q$33&""&" no puede ser mayor al Total.","")) | CB50: =IF(AND($C50>0,R50="")," * No olvide digitar la variable "&$R$33&""&". Digite Cero si no tiene.", "") | CC50: =IF(AND($C50>0,S50="")," * No olvide digitar la variable "&$S$33&""&". Digite Cero si no tiene.",IF(S50>C50," * La variable "&$S$33&""&" no puede ser mayor al Total.","")) | CD50: =IF(AND($D50+E50>0,T50="")," * No olvide digitar la variable Migrantes "&$T$34&""&". Digite Cero si no tiene.",IF(T50>$D50+E50," * La variable Migrantes "&$T$34&""&" no puede ser mayor al Total.","")) | CE50: =IF(AND($F50+$G50+$H50+$I50+$J50+$K50+$L50+$M50>0,$U50="")," * No olvide digitar la variable Migrantes "&$U$34&""&". Digite Cero si no tiene.",IF($U50>$F50+$G50+$H50+$I50+$J50+$K50+$L50+$M50," * La variable Migrantes "&$U$34&""&" no puede ser mayor al Total.","")) | CF50: =IF(AND($C50>0,V50="")," * No olvide digitar la variable "&$V$33&""&". Digite Cero si no tiene.","") | CG50: =IF(AND($C50>0,W50="")," * No olvide digitar la variable "&$W$33&""&". Digite Cero si no tiene.",IF(W50>$C50," * La variable "&$W$33&""&" no puede ser mayor al Total.","")) | CH50: =IF(AND($C50>0,X50="")," * No olvide digitar la variable "&$X$34&""&". Digite Cero si no tiene.",IF(X50>$C50," * La variable "&$X$34&""&" no puede ser mayor al Total.","")) | CI50: =IF(AND($C50>0,Y50="")," * No olvide digitar la variable "&$Y$34&""&". Digite Cero si no tiene.",IF(Y50>$C50," * La variable "&$Y$34&""&" no puede ser mayor al Total.","")) | CJ50: =IF(AND($C50>0,Z50="")," * No olvide digitar la variable "&$Z$34&""&". Digite Cero si no tiene.",IF(Z50>$C50," * La variable "&$Z$34&""&" no puede ser mayor al Total.","")) | CK50: =IF(AND($C50>0,AA50="")," * No olvide digitar la variable "&$AA$33&""&". Digite Cero si no tiene.",IF(AA50>$C50," * La variable "&$AA$33&""&" no puede ser mayor al Total.","")) | CO50: =IF(AND($C50>0,Q50=""),1,IF(Q50>$C50,1,0)) -> 0 | CP50: =IF(AND($C50>0,R50=""),1,IF(R50>$C50,1,0)) -> 0 | CQ50: =IF(AND($C50>0,S50=""),1,IF(S50>$C50,1,0)) -> 0 | CR50: =IF(AND($D50+$E50>0,$T50=""),1,IF(T50>$D50+$E50,1,0)) -> 0 | CS50: =IF(AND($F50+$G50+$H50+$I50+$J50+$K50+$L50+$M50>0,$U50=""),1,IF($U50>$F50+$G50+$H50+$I50+$J50+$K50+$L50+$M50,1,0)) -> 0 | CT50: =IF(AND($C50>0,V50=""),1,0) -> 0 | CU50: =IF(AND($C50>0,W50=""),1,IF(W50>$C50,1,0)) -> 0 | CV50: =IF(AND($C50>0,X50=""),1,IF(X50>$C50,1,0)) -> 0 | CW50: =IF(AND($C50>0,Y50=""),1,IF(Y50>$C50,1,0)) -> 0 | CX50: =IF(AND($C50>0,Z50=""),1,IF(Z50>$C50,1,0)) -> 0 | CY50: =IF(AND($C50>0,AA50=""),1,IF(AA50>$C50,1,0)) -> 0
A51: Gestantes que reciben preservativo | C51: =SUM(D51:M51) -> 0 | AB51: =CA51&CB51&CC51&CD51&CE51&CF51&CG51&CH51&CI51&CJ51&CK51 | CA51: =IF(AND($C51>0,Q51="")," * No olvide digitar la variable "&$Q$33&""&". Digite Cero si no tiene.",IF(Q51>$C51," * La variable "&$Q$33&""&" no puede ser mayor al Total.","")) | CB51: =IF(AND($C51>0,R51="")," * No olvide digitar la variable "&$R$33&""&". Digite Cero si no tiene.", "") | CC51: =IF(AND($C51>0,S51="")," * No olvide digitar la variable "&$S$33&""&". Digite Cero si no tiene.",IF(S51>C51," * La variable "&$S$33&""&" no puede ser mayor al Total.","")) | CD51: =IF(AND($D51+E51>0,T51="")," * No olvide digitar la variable Migrantes "&$T$34&""&". Digite Cero si no tiene.",IF(T51>$D51+E51," * La variable Migrantes "&$T$34&""&" no puede ser mayor al Total.","")) | CE51: =IF(AND($F51+$G51+$H51+$I51+$J51+$K51+$L51+$M51>0,$U51="")," * No olvide digitar la variable Migrantes "&$U$34&""&". Digite Cero si no tiene.",IF($U51>$F51+$G51+$H51+$I51+$J51+$K51+$L51+$M51," * La variable Migrantes "&$U$34&""&" no puede ser mayor al Total.","")) | CF51: =IF(AND($C51>0,V51="")," * No olvide digitar la variable "&$V$33&""&". Digite Cero si no tiene.","") | CG51: =IF(AND($C51>0,W51="")," * No olvide digitar la variable "&$W$33&""&". Digite Cero si no tiene.",IF(W51>$C51," * La variable "&$W$33&""&" no puede ser mayor al Total.","")) | CH51: =IF(AND($C51>0,X51="")," * No olvide digitar la variable "&$X$34&""&". Digite Cero si no tiene.",IF(X51>$C51," * La variable "&$X$34&""&" no puede ser mayor al Total.","")) | CI51: =IF(AND($C51>0,Y51="")," * No olvide digitar la variable "&$Y$34&""&". Digite Cero si no tiene.",IF(Y51>$C51," * La variable "&$Y$34&""&" no puede ser mayor al Total.","")) | CJ51: =IF(AND($C51>0,Z51="")," * No olvide digitar la variable "&$Z$34&""&". Digite Cero si no tiene.",IF(Z51>$C51," * La variable "&$Z$34&""&" no puede ser mayor al Total.","")) | CK51: =IF(AND($C51>0,AA51="")," * No olvide digitar la variable "&$AA$33&""&". Digite Cero si no tiene.",IF(AA51>$C51," * La variable "&$AA$33&""&" no puede ser mayor al Total.","")) | CO51: =IF(AND($C51>0,Q51=""),1,IF(Q51>$C51,1,0)) -> 0 | CP51: =IF(AND($C51>0,R51=""),1,IF(R51>$C51,1,0)) -> 0 | CQ51: =IF(AND($C51>0,S51=""),1,IF(S51>$C51,1,0)) -> 0 | CR51: =IF(AND($D51+$E51>0,$T51=""),1,IF(T51>$D51+$E51,1,0)) -> 0 | CS51: =IF(AND($F51+$G51+$H51+$I51+$J51+$K51+$L51+$M51>0,$U51=""),1,IF($U51>$F51+$G51+$H51+$I51+$J51+$K51+$L51+$M51,1,0)) -> 0 | CT51: =IF(AND($C51>0,V51=""),1,0) -> 0 | CU51: =IF(AND($C51>0,W51=""),1,IF(W51>$C51,1,0)) -> 0 | CV51: =IF(AND($C51>0,X51=""),1,IF(X51>$C51,1,0)) -> 0 | CW51: =IF(AND($C51>0,Y51=""),1,IF(Y51>$C51,1,0)) -> 0 | CX51: =IF(AND($C51>0,Z51=""),1,IF(Z51>$C51,1,0)) -> 0 | CY51: =IF(AND($C51>0,AA51=""),1,IF(AA51>$C51,1,0)) -> 0
A52: SECCIÓN C1: INGRESOS A SALUD SEXUAL
A53: MÉTODOS | C53: TOTAL | D53: RANGO ETARIO | Q53: Espacios Amigables/ Adolescentes | R53: Pueblos Originarios | S53: Migrantes | U53: Identidad de Género | X53: Personas con Discpacidad
D54: Menos de 15 años | E54: 15 - 19 años | F54: 20 - 24 años | G54: 25 - 29 años | H54: 30 - 34 años | I54: 35 - 39 años | J54: 40 - 44 años | K54: 45 - 49 años | L54: 50 - 54 años | M54: 55 - 59 años | N54: 60 - 64 años | O54: 65 - 69 años | P54: 70 y más años | S54: Menor de 20 años | T54: 20 y más años | U54: Trans masculino | V54: Trans femenino | W54: No binarie
A55: Preservativo/Practica Sexual Segura | B55: Mujer | C55: =SUM(D55:P55) -> 0 | Y55: =CA55&CB55&CC55&CD55&CE55&CF55&CG55&CH55 | CA55: =IF(AND($C55>0,Q55="")," * No olvide digitar la variable "&Q$53&""&". Digite Cero si no tiene.",IF(Q55>$C55," * La variable "&Q$53&""&" no puede ser mayor al Total.","")) | CB55: =IF(AND($C55>0,R55="")," * No olvide digitar la variable "&R$53&""&". Digite Cero si no tiene.",IF(R55>$C55," * La variable "&R$53&""&" no puede ser mayor al Total.","")) | CC55: =IF(AND($D55+$E55>0,$S55="")," * No olvide digitar la variable Migrantes "&S$54&""&". Digite Cero si no tiene.",IF($S55>$D55+$E55," * La variable Migrantes "&S$54&""&" no puede ser mayor al Total.","")) | CD55: =IF(AND($F55+$G55+$H55+$I55+$J55+$K55+$L55+$M55+$N55+$O55+$P55>0,$T55="")," * No olvide digitar la variable Migrantes "&T$54&""&". Digite Cero si no tiene.",IF(T55>$F55+$G55+$H55+$I55+$J55+$K55+$L55+$M55+$N55+$O55+$P55," * La variable Migrantes "&T$54&""&" no puede ser mayor al Total.","")) | CE55: =IF(AND($C55>0,U55="")," * No olvide digitar la variable "&U$54&""&". Digite Cero si no tiene.",IF(U55>$C55," * La variable "&U$54&""&" no puede ser mayor al Total.","")) | CF55: =IF(AND($C55>0,V55="")," * No olvide digitar la variable "&V$54&""&". Digite Cero si no tiene.",IF(V55>$C55," * La variable "&V$54&""&" no puede ser mayor al Total.","")) | CG55: =IF(AND($C55>0,W55="")," * No olvide digitar la variable "&W$54&""&". Digite Cero si no tiene.",IF(W55>$C55," * La variable "&W$54&""&" no puede ser mayor al Total.","")) | CH55: =IF(AND($C55>0,X55="")," * No olvide digitar la variable "&X$53&""&". Digite Cero si no tiene.",IF(X55>$C55," * La variable "&X$53&""&" no puede ser mayor al Total.","")) | CO55: =IF(AND($C55>0,Q55=""),1,IF(Q55>$C55,1,0)) -> 0 | CP55: =IF(AND($C55>0,R55=""),1,IF(R55>$C55,1,0)) -> 0 | CQ55: =IF(AND($D55+$E55>0,S55=""),1,IF(S55>$D55+$E55,1,0)) -> 0 | CR55: =IF(AND($F55+$G55+$H55+$I55+$J55+$K55+$L55+$M55+$N55+$O55+$P55>0,$T55=""),1,IF($T55>$F55+$G55+$H55+$I55+$J55+$K55+$L55+$M55+$N55+$O55+$P55,1,0)) -> 0 | CS55: =IF(AND($C55>0,U55=""),1,IF(U55>$C55,1,0)) -> 0 | CT55: =IF(AND($C55>0,V55=""),1,IF(V55>$C55,1,0)) -> 0 | CU55: =IF(AND($C55>0,W55=""),1,IF(W55>$C55,1,0)) -> 0 | CV55: =IF(AND($C55>0,X55=""),1,IF(X55>$C55,1,0)) -> 0
B56: Hombres | C56: =SUM(D56:P56) -> 0 | Y56: =CA56&CB56&CC56&CD56&CE56&CF56&CG56&CH56 | CA56: =IF(AND($C56>0,Q56="")," * No olvide digitar la variable "&Q$53&""&". Digite Cero si no tiene.",IF(Q56>$C56," * La variable "&Q$53&""&" no puede ser mayor al Total.","")) | CB56: =IF(AND($C56>0,R56="")," * No olvide digitar la variable "&R$53&""&". Digite Cero si no tiene.",IF(R56>$C56," * La variable "&R$53&""&" no puede ser mayor al Total.","")) | CC56: =IF(AND($D56+$E56>0,$S56="")," * No olvide digitar la variable Migrantes "&S$54&""&". Digite Cero si no tiene.",IF($S56>$D56+$E56," * La variable Migrantes "&S$54&""&" no puede ser mayor al Total.","")) | CD56: =IF(AND($F56+$G56+$H56+$I56+$J56+$K56+$L56+$M56+$N56+$O56+$P56>0,$T56="")," * No olvide digitar la variable Migrantes "&T$54&""&". Digite Cero si no tiene.",IF(T56>$F56+$G56+$H56+$I56+$J56+$K56+$L56+$M56+$N56+$O56+$P56," * La variable Migrantes "&T$54&""&" no puede ser mayor al Total.","")) | CE56: =IF(AND($C56>0,U56="")," * No olvide digitar la variable "&U$54&""&". Digite Cero si no tiene.",IF(U56>$C56," * La variable "&U$54&""&" no puede ser mayor al Total.","")) | CF56: =IF(AND($C56>0,V56="")," * No olvide digitar la variable "&V$54&""&". Digite Cero si no tiene.",IF(V56>$C56," * La variable "&V$54&""&" no puede ser mayor al Total.","")) | CG56: =IF(AND($C56>0,W56="")," * No olvide digitar la variable "&W$54&""&". Digite Cero si no tiene.",IF(W56>$C56," * La variable "&W$54&""&" no puede ser mayor al Total.","")) | CH56: =IF(AND($C56>0,X56="")," * No olvide digitar la variable "&X$53&""&". Digite Cero si no tiene.",IF(X56>$C56," * La variable "&X$53&""&" no puede ser mayor al Total.","")) | CO56: =IF(AND($C56>0,Q56=""),1,IF(Q56>$C56,1,0)) -> 0 | CP56: =IF(AND($C56>0,R56=""),1,IF(R56>$C56,1,0)) -> 0 | CQ56: =IF(AND($D56+$E56>0,S56=""),1,IF(S56>$D56+$E56,1,0)) -> 0 | CR56: =IF(AND($F56+$G56+$H56+$I56+$J56+$K56+$L56+$M56+$N56+$O56+$P56>0,$T56=""),1,IF($T56>$F56+$G56+$H56+$I56+$J56+$K56+$L56+$M56+$N56+$O56+$P56,1,0)) -> 0 | CS56: =IF(AND($C56>0,U56=""),1,IF(U56>$C56,1,0)) -> 0 | CT56: =IF(AND($C56>0,V56=""),1,IF(V56>$C56,1,0)) -> 0 | CU56: =IF(AND($C56>0,W56=""),1,IF(W56>$C56,1,0)) -> 0 | CV56: =IF(AND($C56>0,X56=""),1,IF(X56>$C56,1,0)) -> 0
A57: Lubricantes | B57: Mujer | C57: =SUM(D57:P57) -> 0 | Y57: =CA57&CB57&CC57&CD57&CE57&CF57&CG57&CH57 | CA57: =IF(AND($C57>0,Q57="")," * No olvide digitar la variable "&Q$53&""&". Digite Cero si no tiene.",IF(Q57>$C57," * La variable "&Q$53&""&" no puede ser mayor al Total.","")) | CB57: =IF(AND($C57>0,R57="")," * No olvide digitar la variable "&R$53&""&". Digite Cero si no tiene.",IF(R57>$C57," * La variable "&R$53&""&" no puede ser mayor al Total.","")) | CC57: =IF(AND($D57+$E57>0,$S57="")," * No olvide digitar la variable Migrantes "&S$54&""&". Digite Cero si no tiene.",IF($S57>$D57+$E57," * La variable Migrantes "&S$54&""&" no puede ser mayor al Total.","")) | CD57: =IF(AND($F57+$G57+$H57+$I57+$J57+$K57+$L57+$M57+$N57+$O57+$P57>0,$T57="")," * No olvide digitar la variable Migrantes "&T$54&""&". Digite Cero si no tiene.",IF(T57>$F57+$G57+$H57+$I57+$J57+$K57+$L57+$M57+$N57+$O57+$P57," * La variable Migrantes "&T$54&""&" no puede ser mayor al Total.","")) | CE57: =IF(AND($C57>0,U57="")," * No olvide digitar la variable "&U$54&""&". Digite Cero si no tiene.",IF(U57>$C57," * La variable "&U$54&""&" no puede ser mayor al Total.","")) | CF57: =IF(AND($C57>0,V57="")," * No olvide digitar la variable "&V$54&""&". Digite Cero si no tiene.",IF(V57>$C57," * La variable "&V$54&""&" no puede ser mayor al Total.","")) | CG57: =IF(AND($C57>0,W57="")," * No olvide digitar la variable "&W$54&""&". Digite Cero si no tiene.",IF(W57>$C57," * La variable "&W$54&""&" no puede ser mayor al Total.","")) | CH57: =IF(AND($C57>0,X57="")," * No olvide digitar la variable "&X$53&""&". Digite Cero si no tiene.",IF(X57>$C57," * La variable "&X$53&""&" no puede ser mayor al Total.","")) | CO57: =IF(AND($C57>0,Q57=""),1,IF(Q57>$C57,1,0)) -> 0 | CP57: =IF(AND($C57>0,R57=""),1,IF(R57>$C57,1,0)) -> 0 | CQ57: =IF(AND($D57+$E57>0,S57=""),1,IF(S57>$D57+$E57,1,0)) -> 0 | CR57: =IF(AND($F57+$G57+$H57+$I57+$J57+$K57+$L57+$M57+$N57+$O57+$P57>0,$T57=""),1,IF($T57>$F57+$G57+$H57+$I57+$J57+$K57+$L57+$M57+$N57+$O57+$P57,1,0)) -> 0 | CS57: =IF(AND($C57>0,U57=""),1,IF(U57>$C57,1,0)) -> 0 | CT57: =IF(AND($C57>0,V57=""),1,IF(V57>$C57,1,0)) -> 0 | CU57: =IF(AND($C57>0,W57=""),1,IF(W57>$C57,1,0)) -> 0 | CV57: =IF(AND($C57>0,X57=""),1,IF(X57>$C57,1,0)) -> 0
B58: Hombres | C58: =SUM(D58:P58) -> 0 | Y58: =CA58&CB58&CC58&CD58&CE58&CF58&CG58&CH58 | CA58: =IF(AND($C58>0,Q58="")," * No olvide digitar la variable "&Q$53&""&". Digite Cero si no tiene.",IF(Q58>$C58," * La variable "&Q$53&""&" no puede ser mayor al Total.","")) | CB58: =IF(AND($C58>0,R58="")," * No olvide digitar la variable "&R$53&""&". Digite Cero si no tiene.",IF(R58>$C58," * La variable "&R$53&""&" no puede ser mayor al Total.","")) | CC58: =IF(AND($D58+$E58>0,$S58="")," * No olvide digitar la variable Migrantes "&S$54&""&". Digite Cero si no tiene.",IF($S58>$D58+$E58," * La variable Migrantes "&S$54&""&" no puede ser mayor al Total.","")) | CD58: =IF(AND($F58+$G58+$H58+$I58+$J58+$K58+$L58+$M58+$N58+$O58+$P58>0,$T58="")," * No olvide digitar la variable Migrantes "&T$54&""&". Digite Cero si no tiene.",IF(T58>$F58+$G58+$H58+$I58+$J58+$K58+$L58+$M58+$N58+$O58+$P58," * La variable Migrantes "&T$54&""&" no puede ser mayor al Total.","")) | CE58: =IF(AND($C58>0,U58="")," * No olvide digitar la variable "&U$54&""&". Digite Cero si no tiene.",IF(U58>$C58," * La variable "&U$54&""&" no puede ser mayor al Total.","")) | CF58: =IF(AND($C58>0,V58="")," * No olvide digitar la variable "&V$54&""&". Digite Cero si no tiene.",IF(V58>$C58," * La variable "&V$54&""&" no puede ser mayor al Total.","")) | CG58: =IF(AND($C58>0,W58="")," * No olvide digitar la variable "&W$54&""&". Digite Cero si no tiene.",IF(W58>$C58," * La variable "&W$54&""&" no puede ser mayor al Total.","")) | CH58: =IF(AND($C58>0,X58="")," * No olvide digitar la variable "&X$53&""&". Digite Cero si no tiene.",IF(X58>$C58," * La variable "&X$53&""&" no puede ser mayor al Total.","")) | CO58: =IF(AND($C58>0,Q58=""),1,IF(Q58>$C58,1,0)) -> 0 | CP58: =IF(AND($C58>0,R58=""),1,IF(R58>$C58,1,0)) -> 0 | CQ58: =IF(AND($D58+$E58>0,S58=""),1,IF(S58>$D58+$E58,1,0)) -> 0 | CR58: =IF(AND($F58+$G58+$H58+$I58+$J58+$K58+$L58+$M58+$N58+$O58+$P58>0,$T58=""),1,IF($T58>$F58+$G58+$H58+$I58+$J58+$K58+$L58+$M58+$N58+$O58+$P58,1,0)) -> 0 | CS58: =IF(AND($C58>0,U58=""),1,IF(U58>$C58,1,0)) -> 0 | CT58: =IF(AND($C58>0,V58=""),1,IF(V58>$C58,1,0)) -> 0 | CU58: =IF(AND($C58>0,W58=""),1,IF(W58>$C58,1,0)) -> 0 | CV58: =IF(AND($C58>0,X58=""),1,IF(X58>$C58,1,0)) -> 0
A59: Condón Femenino | C59: =SUM(D59:P59) -> 0 | Y59: =CA59&CB59&CC59&CD59&CE59&CF59&CG59&CH59 | CA59: =IF(AND($C59>0,Q59="")," * No olvide digitar la variable "&Q$53&""&". Digite Cero si no tiene.",IF(Q59>$C59," * La variable "&Q$53&""&" no puede ser mayor al Total.","")) | CB59: =IF(AND($C59>0,R59="")," * No olvide digitar la variable "&R$53&""&". Digite Cero si no tiene.",IF(R59>$C59," * La variable "&R$53&""&" no puede ser mayor al Total.","")) | CC59: =IF(AND($D59+$E59>0,$S59="")," * No olvide digitar la variable Migrantes "&S$54&""&". Digite Cero si no tiene.",IF($S59>$D59+$E59," * La variable Migrantes "&S$54&""&" no puede ser mayor al Total.","")) | CD59: =IF(AND($F59+$G59+$H59+$I59+$J59+$K59+$L59+$M59+$N59+$O59+$P59>0,$T59="")," * No olvide digitar la variable Migrantes "&T$54&""&". Digite Cero si no tiene.",IF(T59>$F59+$G59+$H59+$I59+$J59+$K59+$L59+$M59+$N59+$O59+$P59," * La variable Migrantes "&T$54&""&" no puede ser mayor al Total.","")) | CE59: =IF(AND($C59>0,U59="")," * No olvide digitar la variable "&U$54&""&". Digite Cero si no tiene.",IF(U59>$C59," * La variable "&U$54&""&" no puede ser mayor al Total.","")) | CF59: =IF(AND($C59>0,V59="")," * No olvide digitar la variable "&V$54&""&". Digite Cero si no tiene.",IF(V59>$C59," * La variable "&V$54&""&" no puede ser mayor al Total.","")) | CG59: =IF(AND($C59>0,W59="")," * No olvide digitar la variable "&W$54&""&". Digite Cero si no tiene.",IF(W59>$C59," * La variable "&W$54&""&" no puede ser mayor al Total.","")) | CH59: =IF(AND($C59>0,X59="")," * No olvide digitar la variable "&X$53&""&". Digite Cero si no tiene.",IF(X59>$C59," * La variable "&X$53&""&" no puede ser mayor al Total.","")) | CO59: =IF(AND($C59>0,Q59=""),1,IF(Q59>$C59,1,0)) -> 0 | CP59: =IF(AND($C59>0,R59=""),1,IF(R59>$C59,1,0)) -> 0 | CQ59: =IF(AND($D59+$E59>0,S59=""),1,IF(S59>$D59+$E59,1,0)) -> 0 | CR59: =IF(AND($F59+$G59+$H59+$I59+$J59+$K59+$L59+$M59+$N59+$O59+$P59>0,$T59=""),1,IF($T59>$F59+$G59+$H59+$I59+$J59+$K59+$L59+$M59+$N59+$O59+$P59,1,0)) -> 0 | CS59: =IF(AND($C59>0,U59=""),1,IF(U59>$C59,1,0)) -> 0 | CT59: =IF(AND($C59>0,V59=""),1,IF(V59>$C59,1,0)) -> 0 | CU59: =IF(AND($C59>0,W59=""),1,IF(W59>$C59,1,0)) -> 0 | CV59: =IF(AND($C59>0,X59=""),1,IF(X59>$C59,1,0)) -> 0
A60: SECCIÓN C2: EGRESOS DE PROGRAMA DE REGULACIÓN DE FERTILIDAD Y SALUD SEXUAL
A61: MÉTODOS | C61: TOTAL | D61: RANGO ETARIO | Q61: Pueblos Originarios | R61: Migrantes
D62: Menos de 15 años | E62: 15 - 19 años | F62: 20 - 24 años | G62: 25 - 29 años | H62: 30 - 34 años | I62: 35 - 39 años | J62: 40 - 44 años | K62: 45 - 49 años | L62: 50 - 54 años | M62: 55 - 59 años | N62: 60 - 64 años | O62: 65 - 69 años | P62: 70 y más años
A63: TOTAL REGULACIÓN DE FERTILIDAD | C63: =SUM(D63:P63) -> 0 | D63: =SUM(D64:D76) -> 0 | E63: =SUM(E64:E76) -> 0 | F63: =SUM(F64:F76) -> 0 | G63: =SUM(G64:G76) -> 0 | H63: =SUM(H64:H76) -> 0 | I63: =SUM(I64:I76) -> 0 | J63: =SUM(J64:J76) -> 0 | K63: =SUM(K64:K76) -> 0 | ... M63: =SUM(M64:M76) -> 0 | N63: =SUM(N79:N83) -> 0 | O63: =SUM(O79:O83) -> 0 | P63: =SUM(P79:P83) -> 0 | Q63: =SUM(Q64:Q76) -> 0 | R63: =SUM(R64:R76) -> 0
A64: D.I.U. T con Cobre | C64: =SUM(D64:M64) -> 0 | S64: =CA64&CB64 | CA64: =IF(AND($C64>0,Q64="")," * No olvide digitar la variable "&$Q$61&""&". Digite Cero si no tiene.",IF(Q64>$C64," * La variable "&$Q$61&""&" No puede ser mayor al Total.","")) | CB64: =IF(AND($C64>0,R64="")," * No olvide digitar la variable "&$R$61&""&". Digite Cero si no tiene.",IF(R64>$C64," * La variable "&$R$61&""&" No puede ser mayor al Total.","")) | CO64: =IF(AND($C64>0,Q64=""),1,IF(Q64>$C64,1,0)) -> 0 | CP64: =IF(AND(C64>0,R64=""),1,IF(R64>C64,1,0)) -> 0
A65: D.I.U. con Levonorgestrel | C65: =SUM(D65:M65) -> 0 | S65: =CA65&CB65 | CA65: =IF(AND($C65>0,Q65="")," * No olvide digitar la variable "&$Q$61&""&". Digite Cero si no tiene.",IF(Q65>$C65," * La variable "&$Q$61&""&" No puede ser mayor al Total.","")) | CB65: =IF(AND($C65>0,R65="")," * No olvide digitar la variable "&$R$61&""&". Digite Cero si no tiene.",IF(R65>$C65," * La variable "&$R$61&""&" No puede ser mayor al Total.","")) | CO65: =IF(AND(C65>0,Q65=""),1,IF(Q65>C65,1,0)) -> 0 | CP65: =IF(AND(C65>0,R65=""),1,IF(R65>C65,1,0)) -> 0
A66: Hormonal | B66: Oral Combinado | C66: =SUM(D66:M66) -> 0 | S66: =CA66&CB66 | CA66: =IF(AND($C66>0,Q66="")," * No olvide digitar la variable "&$Q$61&""&". Digite Cero si no tiene.",IF(Q66>$C66," * La variable "&$Q$61&""&" No puede ser mayor al Total.","")) | CB66: =IF(AND($C66>0,R66="")," * No olvide digitar la variable "&$R$61&""&". Digite Cero si no tiene.",IF(R66>$C66," * La variable "&$R$61&""&" No puede ser mayor al Total.","")) | CO66: =IF(AND(C66>0,Q66=""),1,IF(Q66>C66,1,0)) -> 0 | CP66: =IF(AND(C66>0,R66=""),1,IF(R66>C66,1,0)) -> 0
B67: Oral Progestágeno | C67: =SUM(D67:M67) -> 0 | S67: =CA67&CB67 | CA67: =IF(AND($C67>0,Q67="")," * No olvide digitar la variable "&$Q$61&""&". Digite Cero si no tiene.",IF(Q67>$C67," * La variable "&$Q$61&""&" No puede ser mayor al Total.","")) | CB67: =IF(AND($C67>0,R67="")," * No olvide digitar la variable "&$R$61&""&". Digite Cero si no tiene.",IF(R67>$C67," * La variable "&$R$61&""&" No puede ser mayor al Total.","")) | CO67: =IF(AND(C67>0,Q67=""),1,IF(Q67>C67,1,0)) -> 0 | CP67: =IF(AND(C67>0,R67=""),1,IF(R67>C67,1,0)) -> 0
B68: Inyectable Combinado | C68: =SUM(D68:M68) -> 0 | S68: =CA68&CB68 | CA68: =IF(AND($C68>0,Q68="")," * No olvide digitar la variable "&$Q$61&""&". Digite Cero si no tiene.",IF(Q68>$C68," * La variable "&$Q$61&""&" No puede ser mayor al Total.","")) | CB68: =IF(AND($C68>0,R68="")," * No olvide digitar la variable "&$R$61&""&". Digite Cero si no tiene.",IF(R68>$C68," * La variable "&$R$61&""&" No puede ser mayor al Total.","")) | CO68: =IF(AND(C68>0,Q68=""),1,IF(Q68>C68,1,0)) -> 0 | CP68: =IF(AND(C68>0,R68=""),1,IF(R68>C68,1,0)) -> 0
B69: Inyectable Progestágeno | C69: =SUM(D69:M69) -> 0 | S69: =CA69&CB69 | CA69: =IF(AND($C69>0,Q69="")," * No olvide digitar la variable "&$Q$61&""&". Digite Cero si no tiene.",IF(Q69>$C69," * La variable "&$Q$61&""&" No puede ser mayor al Total.","")) | CB69: =IF(AND($C69>0,R69="")," * No olvide digitar la variable "&$R$61&""&". Digite Cero si no tiene.",IF(R69>$C69," * La variable "&$R$61&""&" No puede ser mayor al Total.","")) | CO69: =IF(AND(C69>0,Q69=""),1,IF(Q69>C69,1,0)) -> 0 | CP69: =IF(AND(C69>0,R69=""),1,IF(R69>C69,1,0)) -> 0
B70: Implante Etonogestrel (3 años) | C70: =SUM(D70:M70) -> 0 | S70: =CA70&CB70 | CA70: =IF(AND($C70>0,Q70="")," * No olvide digitar la variable "&$Q$61&""&". Digite Cero si no tiene.",IF(Q70>$C70," * La variable "&$Q$61&""&" No puede ser mayor al Total.","")) | CB70: =IF(AND($C70>0,R70="")," * No olvide digitar la variable "&$R$61&""&". Digite Cero si no tiene.",IF(R70>$C70," * La variable "&$R$61&""&" No puede ser mayor al Total.","")) | CO70: =IF(AND(C70>0,Q70=""),1,IF(Q70>C70,1,0)) -> 0 | CP70: =IF(AND(C70>0,R70=""),1,IF(R70>C70,1,0)) -> 0
B71: Implante Levonorgestrel (5 años) | C71: =SUM(D71:M71) -> 0 | S71: =CA71&CB71 | CA71: =IF(AND($C71>0,Q71="")," * No olvide digitar la variable "&$Q$61&""&". Digite Cero si no tiene.",IF(Q71>$C71," * La variable "&$Q$61&""&" No puede ser mayor al Total.","")) | CB71: =IF(AND($C71>0,R71="")," * No olvide digitar la variable "&$R$61&""&". Digite Cero si no tiene.",IF(R71>$C71," * La variable "&$R$61&""&" No puede ser mayor al Total.","")) | CO71: =IF(AND(C71>0,Q71=""),1,IF(Q71>C71,1,0)) -> 0 | CP71: =IF(AND(C71>0,R71=""),1,IF(R71>C71,1,0)) -> 0
B72: Anillo Vaginal | C72: =SUM(D72:M72) -> 0 | S72: =CA72&CB72 | CA72: =IF(AND($C72>0,Q72="")," * No olvide digitar la variable "&$Q$61&""&". Digite Cero si no tiene.",IF(Q72>$C72," * La variable "&$Q$61&""&" No puede ser mayor al Total.","")) | CB72: =IF(AND($C72>0,R72="")," * No olvide digitar la variable "&$R$61&""&". Digite Cero si no tiene.",IF(R72>$C72," * La variable "&$R$61&""&" No puede ser mayor al Total.","")) | CO72: =IF(AND(C72>0,Q72=""),1,IF(Q72>C72,1,0)) -> 0 | CP72: =IF(AND(C72>0,R72=""),1,IF(R72>C72,1,0)) -> 0
A73: Sólo preservativo MAC | B73: Mujer | C73: =SUM(D73:P73) -> 0 | S73: =CA73&CB73 | CA73: =IF(AND($C73>0,Q73="")," * No olvide digitar la variable "&$Q$61&""&". Digite Cero si no tiene.",IF(Q73>$C73," * La variable "&$Q$61&""&" No puede ser mayor al Total.","")) | CB73: =IF(AND($C73>0,R73="")," * No olvide digitar la variable "&$R$61&""&". Digite Cero si no tiene.",IF(R73>$C73," * La variable "&$R$61&""&" No puede ser mayor al Total.","")) | CO73: =IF(AND(C73>0,Q73=""),1,IF(Q73>C73,1,0)) -> 0 | CP73: =IF(AND(C73>0,R73=""),1,IF(R73>C73,1,0)) -> 0
B74: Hombres | C74: =SUM(D74:P74) -> 0 | S74: =CA74&CB74 | CA74: =IF(AND($C74>0,Q74="")," * No olvide digitar la variable "&$Q$61&""&". Digite Cero si no tiene.",IF(Q74>$C74," * La variable "&$Q$61&""&" No puede ser mayor al Total.","")) | CB74: =IF(AND($C74>0,R74="")," * No olvide digitar la variable "&$R$61&""&". Digite Cero si no tiene.",IF(R74>$C74," * La variable "&$R$61&""&" No puede ser mayor al Total.","")) | CO74: =IF(AND(C74>0,Q74=""),1,IF(Q74>C74,1,0)) -> 0 | CP74: =IF(AND(C74>0,R74=""),1,IF(R74>C74,1,0)) -> 0
A75: Esterilización Quirúrgica | B75: Mujer | C75: =SUM(D75:M75) -> 0 | S75: =CA75&CB75 | CA75: =IF(AND($C75>0,Q75="")," * No olvide digitar la variable "&$Q$61&""&". Digite Cero si no tiene.",IF(Q75>$C75," * La variable "&$Q$61&""&" No puede ser mayor al Total.","")) | CB75: =IF(AND($C75>0,R75="")," * No olvide digitar la variable "&$R$61&""&". Digite Cero si no tiene.",IF(R75>$C75," * La variable "&$R$61&""&" No puede ser mayor al Total.","")) | CO75: =IF(AND(C75>0,Q75=""),1,IF(Q75>C75,1,0)) -> 0 | CP75: =IF(AND(C75>0,R75=""),1,IF(R75>C75,1,0)) -> 0
B76: Hombres | C76: =SUM(D76:M76) -> 0 | S76: =CA76&CB76 | CA76: =IF(AND($C76>0,Q76="")," * No olvide digitar la variable "&$Q$61&""&". Digite Cero si no tiene.",IF(Q76>$C76," * La variable "&$Q$61&""&" No puede ser mayor al Total.","")) | CB76: =IF(AND($C76>0,R76="")," * No olvide digitar la variable "&$R$61&""&". Digite Cero si no tiene.",IF(R76>$C76," * La variable "&$R$61&""&" No puede ser mayor al Total.","")) | CO76: =IF(AND(C76>0,Q76=""),1,IF(Q76>C76,1,0)) -> 0 | CP76: =IF(AND(C76>0,R76=""),1,IF(R76>C76,1,0)) -> 0
A77: Método de Regulación de Fertilidad más Preservativos | C77: =SUM(D77:M77) -> 0 | S77: =CA77&CB77 | CA77: =IF(AND($C77>0,Q77="")," * No olvide digitar la variable "&$Q$61&""&". Digite Cero si no tiene.",IF(Q77>$C77," * La variable "&$Q$61&""&" No puede ser mayor al Total.","")) | CB77: =IF(AND($C77>0,R77="")," * No olvide digitar la variable "&$R$61&""&". Digite Cero si no tiene.",IF(R77>$C77," * La variable "&$R$61&""&" No puede ser mayor al Total.","")) | CO77: =IF(AND(C77>0,Q77=""),1,IF(Q77>C77,1,0)) -> 0 | CP77: =IF(AND(C77>0,R77=""),1,IF(R77>C77,1,0)) -> 0
A78: Gestantes que reciben preservativo | C78: =SUM(D78:M78) -> 0 | S78: =CA78&CB78 | CA78: =IF(AND($C78>0,Q78="")," * No olvide digitar la variable "&$Q$61&""&". Digite Cero si no tiene.",IF(Q78>$C78," * La variable "&$Q$61&""&" No puede ser mayor al Total.","")) | CB78: =IF(AND($C78>0,R78="")," * No olvide digitar la variable "&$R$61&""&". Digite Cero si no tiene.",IF(R78>$C78," * La variable "&$R$61&""&" No puede ser mayor al Total.","")) | CO78: =IF(AND(C78>0,Q78=""),1,IF(Q78>C78,1,0)) -> 0 | CP78: =IF(AND(C78>0,R78=""),1,IF(R78>C78,1,0)) -> 0
A79: Preservativo/Practica Sexual Segura | B79: Mujer | C79: =SUM(D79:P79) -> 0 | S79: =CA79&CB79 | CA79: =IF(AND($C79>0,Q79="")," * No olvide digitar la variable "&$Q$61&""&". Digite Cero si no tiene.",IF(Q79>$C79," * La variable "&$Q$61&""&" No puede ser mayor al Total.","")) | CB79: =IF(AND($C79>0,R79="")," * No olvide digitar la variable "&$R$61&""&". Digite Cero si no tiene.",IF(R79>$C79," * La variable "&$R$61&""&" No puede ser mayor al Total.","")) | CO79: =IF(AND(C79>0,Q79=""),1,IF(Q79>C79,1,0)) -> 0 | CP79: =IF(AND(C79>0,R79=""),1,IF(R79>C79,1,0)) -> 0
B80: Hombres | C80: =SUM(D80:P80) -> 0 | S80: =CA80&CB80 | CA80: =IF(AND($C80>0,Q80="")," * No olvide digitar la variable "&$Q$61&""&". Digite Cero si no tiene.",IF(Q80>$C80," * La variable "&$Q$61&""&" No puede ser mayor al Total.","")) | CB80: =IF(AND($C80>0,R80="")," * No olvide digitar la variable "&$R$61&""&". Digite Cero si no tiene.",IF(R80>$C80," * La variable "&$R$61&""&" No puede ser mayor al Total.","")) | CO80: =IF(AND(C80>0,Q80=""),1,IF(Q80>C80,1,0)) -> 0 | CP80: =IF(AND(C80>0,R80=""),1,IF(R80>C80,1,0)) -> 0
A81: Lubricantes | B81: Mujer | C81: =SUM(D81:P81) -> 0 | S81: =CA81&CB81 | CA81: =IF(AND($C81>0,Q81="")," * No olvide digitar la variable "&$Q$61&""&". Digite Cero si no tiene.",IF(Q81>$C81," * La variable "&$Q$61&""&" No puede ser mayor al Total.","")) | CB81: =IF(AND($C81>0,R81="")," * No olvide digitar la variable "&$R$61&""&". Digite Cero si no tiene.",IF(R81>$C81," * La variable "&$R$61&""&" No puede ser mayor al Total.","")) | CO81: =IF(AND(C81>0,Q81=""),1,IF(Q81>C81,1,0)) -> 0 | CP81: =IF(AND(C81>0,R81=""),1,IF(R81>C81,1,0)) -> 0
B82: Hombres | C82: =SUM(D82:P82) -> 0 | S82: =CA82&CB82 | CA82: =IF(AND($C82>0,Q82="")," * No olvide digitar la variable "&$Q$61&""&". Digite Cero si no tiene.",IF(Q82>$C82," * La variable "&$Q$61&""&" No puede ser mayor al Total.","")) | CB82: =IF(AND($C82>0,R82="")," * No olvide digitar la variable "&$R$61&""&". Digite Cero si no tiene.",IF(R82>$C82," * La variable "&$R$61&""&" No puede ser mayor al Total.","")) | CO82: =IF(AND(C82>0,Q82=""),1,IF(Q82>C82,1,0)) -> 0 | CP82: =IF(AND(C82>0,R82=""),1,IF(R82>C82,1,0)) -> 0
A83: Condón Femenino | C83: =SUM(D83:P83) -> 0 | S83: =CA83&CB83 | CA83: =IF(AND($C83>0,Q83="")," * No olvide digitar la variable "&$Q$61&""&". Digite Cero si no tiene.",IF(Q83>$C83," * La variable "&$Q$61&""&" No puede ser mayor al Total.","")) | CB83: =IF(AND($C83>0,R83="")," * No olvide digitar la variable "&$R$61&""&". Digite Cero si no tiene.",IF(R83>$C83," * La variable "&$R$61&""&" No puede ser mayor al Total.","")) | CO83: =IF(AND(C83>0,Q83=""),1,IF(Q83>C83,1,0)) -> 0 | CP83: =IF(AND(C83>0,R83=""),1,IF(R83>C83,1,0)) -> 0
A84: SECCIÓN D: INGRESOS A PROGRAMA CONTROL DE CLIMATERIO
A85: CONCEPTO | B85: TOTAL | C85: Trans masculino | D85: Personas con discapacidad
A86: Ingresos | E86: =CA86&CB86 | CA86: =IF(AND($B86>0,C86="")," * No olvide digitar la variable "&$C$85&""&". Digite Cero si no tiene.",IF(C86>$B86," * La variable "&$C$85&""&" No puede ser mayor al Total.","")) | CB86: =IF(AND($B86>0,D86="")," * No olvide digitar la variable "&$D$85&""&". Digite Cero si no tiene.",IF(D86>$B86," * La variable "&$D$85&""&" No puede ser mayor al Total.","")) | CO86: =IF(AND(B86>0,C86=""),1,IF(C86>B86,1,0)) -> 0 | CP86: =IF(AND(B86>0,D86=""),1,IF(D86>B86,1,0)) -> 0
A87: SECCIÓN E: INGRESOS A CONTROL DE SALUD DE RECIÉN NACIDOS
A88: EDAD | C88: TOTAL | D88: Niños | E88: Niñas
A89: Menor o igual a 28 días | C89: =SUM(D89:E89) -> 0 | CA89: =IF(AND($C89>0,D89="")," * No olvide digitar la variable "&$D$88&""&". Digite Cero si no tiene.",IF(D89>$C89," * La variable "&$D$88&""&" No puede ser mayor al Total.","")) | CB89: =IF(AND($C89>0,E89="")," * No olvide digitar la variable "&$E$88&""&". Digite Cero si no tiene.",IF(E89>$C89," * La variable "&$E$88&""&" No puede ser mayor al Total.","")) | CO89: =IF(AND(C89>0,D89=""),1,IF(D89>C89,1,0)) -> 0 | CP89: =IF(AND(C89>0,E89=""),1,IF(E89>C89,1,0)) -> 0
A90: SECCIÓN F: INGRESOS Y EGRESOS A SALA DE ESTIMULACIÓN, SERVICIO ITINERANTE Y ATENCIÓN DOMICILIARIA
A91: NIÑO / A (CON) | C91: TOTAL | F91: INGRESOS | AD91: Egresos | AU91: Pueblos Originarios | AV91: Migrantes | AW91: Niños y niñas Mejor Niñez
F92: Sala de Estimulación | R92: Servicio Itinerante en Centro de Salud | X92: Atención Domiciliaria | AD92: Cumplimiento de tratamiento Sala de Estimulación | AP92: Servicio Itinerante | AQ92: Atención Domiciliaria | AR92: Derivación a Especialidad | AS92: Otros | AT92: Inasistente
F93: Menos de 7 meses | H93: 7 - 11 meses | J93: 12 - 17 meses | L93: 18 - 23 meses | N93: 24 - 47 meses | P93: 48 - 59 meses | R93: 0-11 meses | T93: 12-23 meses | V93: 24-59 meses | X93: 0-11 meses | Z93: 12-23 meses | AB93: 24-59 meses | AD93: Menos de 7 meses | AF93: 7 - 11 meses | AH93: 12 - 17 meses | AJ93: 18 - 23 meses | AL93: 24 - 47 meses | AN93: 48 - 59 meses
C94: Ambos Sexos | D94: Hombres | E94: Mujeres | F94: Hombres | G94: Mujeres | H94: Hombres | I94: Mujeres | J94: Hombres | K94: Mujeres | L94: Hombres | M94: Mujeres | N94: Hombres | O94: Mujeres | P94: Hombres | Q94: Mujeres | R94: Hombres | S94: Mujeres | T94: Hombres | U94: Mujeres | V94: Hombres | W94: Mujeres | X94: Hombres | Y94: Mujeres | Z94: Hombres | AA94: Mujeres | AB94: Hombres | AC94: Mujeres | AD94: Hombres | AE94: Mujeres | AF94: Hombres | AG94: Mujeres | AH94: Hombres | AI94: Mujeres | AJ94: Hombres | AK94: Mujeres | AL94: Hombres | AM94: Mujeres | AN94: Hombres | AO94: Mujeres
