Workbook

Sheet CONSOLIDADO
A1: SERVICIO DE SALUD
A2: =CONCATENATE("COMUNA: ",[1]NOMBRE!B2, " (",[1]NOMBRE!C2,[1]NOMBRE!D2,[1]NOMBRE!E2,[1]NOMBRE!F2,[1]NOMBRE!G2,")") -> COMUNA: 0 (00000)
A3: =CONCATENATE("ESTABLECIMIENTO/ESTRATEGIA: ", [1]NOMBRE!B3, " (",[1]NOMBRE!C3,[1]NOMBRE!D3,[1]NOMBRE!E3,[1]NOMBRE!F3,[1]NOMBRE!G3,[1]NOMBRE!H3,")") -> ESTABLECIMIENTO/ESTRATEGIA: 0 (000000)
A4: =CONCATENATE("MES: ",[1]NOMBRE!B6, " (",[1]NOMBRE!C6,[1]NOMBRE!D6,")") -> MES: 0 (00)
A5: =CONCATENATE("AÑO: ",[1]NOMBRE!B7) -> AÑO: 2025
A6: REM-A04. CONSULTAS Y OTRAS ATENCIONES EN LA RED
A8: SECCIÓN A: CONSULTAS MÉDICAS
A9: TIPO DE CONSULTA | B9: TOTAL | E9: RANGO ETARIO Y SEXO | AO9: Pueblos Originarios | AP9: Migrantes | AQ9: Niños, Niñas, Adolescentes y Jóvenes SENAME | AR9: Niños, Niñas, Adolescentes y Jóvenes Mejor Niñez | AS9: Por Campaña de Invierno
E10: Menos de 1 año | G10: 1 - 4 años | I10: 5 - 9 años | K10: 10 - 14 años | M10: 15 - 19 años | O10: 20 - 24 años | Q10: 25 - 29 años | S10: 30 - 34 años | U10: 35 - 39 años | W10: 40 - 44 años | Y10: 45 - 49 años | AA10: 50 - 54 años | AC10: 55 - 59 años | AE10: 60 - 64 años | AG10: 65 - 69 años | AI10: 70 - 74 años | AK10: 75 - 79 años | AM10: 80 y mas años
B11: Ambos Sexos | C11: Hombres | D11: Mujeres | E11: Hombres | F11: Mujeres | G11: Hombres | H11: Mujeres | I11: Hombres | J11: Mujeres | K11: Hombres | L11: Mujeres | M11: Hombres | N11: Mujeres | O11: Hombres | P11: Mujeres | Q11: Hombres | R11: Mujeres | S11: Hombres | T11: Mujeres | U11: Hombres | V11: Mujeres | W11: Hombres | X11: Mujeres | Y11: Hombres | Z11: Mujeres | AA11: Hombres | AB11: Mujeres | AC11: Hombres | AD11: Mujeres | AE11: Hombres | AF11: Mujeres | AG11: Hombres | AH11: Mujeres | AI11: Hombres | AJ11: Mujeres | AK11: Hombres | AL11: Mujeres | AM11: Hombres | AN11: Mujeres
A12: TOTAL | B12: =SUM(B13:B26) -> 0 | C12: =SUM(C13:C26) -> 0 | D12: =SUM(D13:D26) -> 0 | E12: =SUM(E13:E26) -> 0 | F12: =SUM(F13:F26) -> 0 | G12: =SUM(G13:G26) -> 0 | H12: =SUM(H13:H26) -> 0 | I12: =SUM(I13:I26) -> 0 | ... AS12: =SUM(AS13:AS26) -> 0
A13: IRA Alta | B13: =SUM(C13:D13) -> 0 | C13: =SUM(E13+G13+I13+K13+M13+O13+Q13+S13+U13+W13+Y13+AA13+AC13+AE13+AG13+AI13+AK13+AM13) -> 0 | D13: =SUM(F13+H13+J13+L13+N13+P13+R13+T13+V13+X13+Z13+AB13+AD13+AF13+AH13+AJ13+AL13+AN13) -> 0 | AT13: =BO13&BP13&BQ13&BR13&BS13 | BO13: =IF(AND(B13>0,AO13="")," * No olvide digitar la variable Pueblos originarios. Digite Cero si no tiene.",IF(AO13>B13," * La variable Pueblos originarios No puede ser mayor al Total.","")) | BP13: =IF(AND(B13>0,AP13="")," * No olvide digitar la variable Migrantes. Digite Cero si no tiene.",IF(AP13>B13," * La variable Migrantes No puede ser mayor al Total.","")) | BQ13: =IF(AND(B13>0,AQ13="")," * No olvide digitar la variable Niños, niñas, adolescentes y jóvenes SENAME. Digite Cero si no tiene.",IF(AQ13>B13," * La variable Niños, niñas, adolescentes y jóvenes SENAME No puede ser mayor al Total.","")) | BR13: =IF(AND(B13>0,AR13="")," * No olvide digitar la variable Niños, niñas, adolescentes y jóvenes Mejor niñez. Digite Cero si no tiene.",IF(AR13>B13," * La variable Niños, niñas, adolescentes y jóvenes Mejor Niñez No puede ser mayor al Total.","")) | BS13: =IF(AND(B13>0,AS13="")," * No olvide digitar la variable Por campaña de invierno. Digite Cero si no tiene.",IF(AS13>B13," * La variable Por campaña de invierno No puede ser mayor al Total.","")) | BU13: =IF(AND(B13>0,AO13=""),1,IF(AO13>B13,1,0)) -> 0 | BV13: =IF(AND(B13>0,AP13=""),1,IF(AP13>B13,1,0)) -> 0 | BW13: =IF(AND(B13>0,AQ13=""),1,IF(AQ13>B13,1,0)) -> 0 | BX13: =IF(AND(B13>0,AR13=""),1,IF(AR13>B13,1,0)) -> 0 | BY13: =IF(AND(B13>0,AS13=""),1,IF(AS13>B13,1,0)) -> 0
A14: Síndrome Bronquial Obstructivo | B14: =SUM(C14:D14) -> 0 | C14: =SUM(E14+G14+I14) -> 0 | D14: =SUM(F14+H14+J14) -> 0 | AT14: =BO14&BP14&BQ14&BR14&BS14 | BO14: =IF(AND(B14>0,AO14="")," * No olvide digitar la variable Pueblos originarios. Digite Cero si no tiene.",IF(AO14>B14," * La variable Pueblos originarios No puede ser mayor al Total.","")) | BP14: =IF(AND(B14>0,AP14="")," * No olvide digitar la variable Migrantes. Digite Cero si no tiene.",IF(AP14>B14," * La variable Migrantes No puede ser mayor al Total.","")) | BQ14: =IF(AND(B14>0,AQ14="")," * No olvide digitar la variable Niños, niñas, adolescentes y jóvenes SENAME. Digite Cero si no tiene.",IF(AQ14>B14," * La variable Niños, niñas, adolescentes y jóvenes SENAME No puede ser mayor al Total.","")) | BR14: =IF(AND(B14>0,AR14="")," * No olvide digitar la variable Niños, niñas, adolescentes y jóvenes Mejor niñez. Digite Cero si no tiene.",IF(AR14>B14," * La variable Niños, niñas, adolescentes y jóvenes Mejor Niñez No puede ser mayor al Total.","")) | BS14: =IF(AND(B14>0,AS14="")," * No olvide digitar la variable Por campaña de invierno. Digite Cero si no tiene.",IF(AS14>B14," * La variable Por campaña de invierno No puede ser mayor al Total.","")) | BU14: =IF(AND(B14>0,AO14=""),1,IF(AO14>B14,1,0)) -> 0 | BV14: =IF(AND(B14>0,AP14=""),1,IF(AP14>B14,1,0)) -> 0 | BW14: =IF(AND(B14>0,AQ14=""),1,IF(AQ14>B14,1,0)) -> 0 | BX14: =IF(AND(B14>0,AR14=""),1,IF(AR14>B14,1,0)) -> 0 | BY14: =IF(AND(B14>0,AS14=""),1,IF(AS14>B14,1,0)) -> 0
A15: Neumonía | B15: =SUM(C15:D15) -> 0 | C15: =SUM(E15+G15+I15+K15+M15+O15+Q15+S15+U15+W15+Y15+AA15+AC15+AE15+AG15+AI15+AK15+AM15) -> 0 | D15: =SUM(F15+H15+J15+L15+N15+P15+R15+T15+V15+X15+Z15+AB15+AD15+AF15+AH15+AJ15+AL15+AN15) -> 0 | AT15: =BO15&BP15&BQ15&BR15&BS15 | BO15: =IF(AND(B15>0,AO15="")," * No olvide digitar la variable Pueblos originarios. Digite Cero si no tiene.",IF(AO15>B15," * La variable Pueblos originarios No puede ser mayor al Total.","")) | BP15: =IF(AND(B15>0,AP15="")," * No olvide digitar la variable Migrantes. Digite Cero si no tiene.",IF(AP15>B15," * La variable Migrantes No puede ser mayor al Total.","")) | BQ15: =IF(AND(B15>0,AQ15="")," * No olvide digitar la variable Niños, niñas, adolescentes y jóvenes SENAME. Digite Cero si no tiene.",IF(AQ15>B15," * La variable Niños, niñas, adolescentes y jóvenes SENAME No puede ser mayor al Total.","")) | BR15: =IF(AND(B15>0,AR15="")," * No olvide digitar la variable Niños, niñas, adolescentes y jóvenes Mejor niñez. Digite Cero si no tiene.",IF(AR15>B15," * La variable Niños, niñas, adolescentes y jóvenes Mejor Niñez No puede ser mayor al Total.","")) | BS15: =IF(AND(B15>0,AS15="")," * No olvide digitar la variable Por campaña de invierno. Digite Cero si no tiene.",IF(AS15>B15," * La variable Por campaña de invierno No puede ser mayor al Total.","")) | BU15: =IF(AND(B15>0,AO15=""),1,IF(AO15>B15,1,0)) -> 0 | BV15: =IF(AND(B15>0,AP15=""),1,IF(AP15>B15,1,0)) -> 0 | BW15: =IF(AND(B15>0,AQ15=""),1,IF(AQ15>B15,1,0)) -> 0 | BX15: =IF(AND(B15>0,AR15=""),1,IF(AR15>B15,1,0)) -> 0 | BY15: =IF(AND(B15>0,AS15=""),1,IF(AS15>B15,1,0)) -> 0
A16: Exacerbación Asma | B16: =SUM(C16:D16) -> 0 | C16: =SUM(I16+K16+M16+O16+Q16+S16+U16+W16+Y16+AA16+AC16+AE16+AG16+AI16+AK16+AM16) -> 0 | D16: =SUM(J16+L16+N16+P16+R16+T16+V16+X16+Z16+AB16+AD16+AF16+AH16+AJ16+AL16+AN16) -> 0 | AT16: =BO16&BP16&BQ16&BR16&BS16 | BO16: =IF(AND(B16>0,AO16="")," * No olvide digitar la variable Pueblos originarios. Digite Cero si no tiene.",IF(AO16>B16," * La variable Pueblos originarios No puede ser mayor al Total.","")) | BP16: =IF(AND(B16>0,AP16="")," * No olvide digitar la variable Migrantes. Digite Cero si no tiene.",IF(AP16>B16," * La variable Migrantes No puede ser mayor al Total.","")) | BQ16: =IF(AND(B16>0,AQ16="")," * No olvide digitar la variable Niños, niñas, adolescentes y jóvenes SENAME. Digite Cero si no tiene.",IF(AQ16>B16," * La variable Niños, niñas, adolescentes y jóvenes SENAME No puede ser mayor al Total.","")) | BR16: =IF(AND(B16>0,AR16="")," * No olvide digitar la variable Niños, niñas, adolescentes y jóvenes Mejor niñez. Digite Cero si no tiene.",IF(AR16>B16," * La variable Niños, niñas, adolescentes y jóvenes Mejor Niñez No puede ser mayor al Total.","")) | BS16: =IF(AND(B16>0,AS16="")," * No olvide digitar la variable Por campaña de invierno. Digite Cero si no tiene.",IF(AS16>B16," * La variable Por campaña de invierno No puede ser mayor al Total.","")) | BU16: =IF(AND(B16>0,AO16=""),1,IF(AO16>B16,1,0)) -> 0 | BV16: =IF(AND(B16>0,AP16=""),1,IF(AP16>B16,1,0)) -> 0 | BW16: =IF(AND(B16>0,AQ16=""),1,IF(AQ16>B16,1,0)) -> 0 | BX16: =IF(AND(B16>0,AR16=""),1,IF(AR16>B16,1,0)) -> 0 | BY16: =IF(AND(B16>0,AS16=""),1,IF(AS16>B16,1,0)) -> 0
A17: Enfermedad Pulmonar Obstructiva Crónica | B17: =SUM(C17:D17) -> 0 | C17: =SUM(U17+W17+Y17+AA17+AC17+AE17+AG17+AI17+AK17+AM17) -> 0 | D17: =SUM(V17+X17+Z17+AB17+AD17+AF17+AH17+AJ17+AL17+AN17) -> 0 | AT17: =BO17&BP17&BQ17&BR17&BS17 | BO17: =IF(AND(B17>0,AO17="")," * No olvide digitar la variable Pueblos originarios. Digite Cero si no tiene.",IF(AO17>B17," * La variable Pueblos originarios No puede ser mayor al Total.","")) | BP17: =IF(AND(B17>0,AP17="")," * No olvide digitar la variable Migrantes. Digite Cero si no tiene.",IF(AP17>B17," * La variable Migrantes No puede ser mayor al Total.","")) | BQ17: =IF(AND(B17>0,AQ17="")," * No olvide digitar la variable Niños, niñas, adolescentes y jóvenes SENAME. Digite Cero si no tiene.",IF(AQ17>B17," * La variable Niños, niñas, adolescentes y jóvenes SENAME No puede ser mayor al Total.","")) | BR17: =IF(AND(B17>0,AR17="")," * No olvide digitar la variable Niños, niñas, adolescentes y jóvenes Mejor niñez. Digite Cero si no tiene.",IF(AR17>B17," * La variable Niños, niñas, adolescentes y jóvenes Mejor Niñez No puede ser mayor al Total.","")) | BS17: =IF(AND(B17>0,AS17="")," * No olvide digitar la variable Por campaña de invierno. Digite Cero si no tiene.",IF(AS17>B17," * La variable Por campaña de invierno No puede ser mayor al Total.","")) | BU17: =IF(AND(B17>0,AO17=""),1,IF(AO17>B17,1,0)) -> 0 | BV17: =IF(AND(B17>0,AP17=""),1,IF(AP17>B17,1,0)) -> 0 | BW17: =IF(AND(B17>0,AQ17=""),1,IF(AQ17>B17,1,0)) -> 0 | BX17: =IF(AND(B17>0,AR17=""),1,IF(AR17>B17,1,0)) -> 0 | BY17: =IF(AND(B17>0,AS17=""),1,IF(AS17>B17,1,0)) -> 0
A18: Otras respiratorias | B18: =SUM(C18:D18) -> 0 | C18: =SUM(E18+G18+I18+K18+M18+O18+Q18+S18+U18+W18+Y18+AA18+AC18+AE18+AG18+AI18+AK18+AM18) -> 0 | D18: =SUM(F18+H18+J18+L18+N18+P18+R18+T18+V18+X18+Z18+AB18+AD18+AF18+AH18+AJ18+AL18+AN18) -> 0 | AT18: =BO18&BP18&BQ18&BR18&BS18 | BO18: =IF(AND(B18>0,AO18="")," * No olvide digitar la variable Pueblos originarios. Digite Cero si no tiene.",IF(AO18>B18," * La variable Pueblos originarios No puede ser mayor al Total.","")) | BP18: =IF(AND(B18>0,AP18="")," * No olvide digitar la variable Migrantes. Digite Cero si no tiene.",IF(AP18>B18," * La variable Migrantes No puede ser mayor al Total.","")) | BQ18: =IF(AND(B18>0,AQ18="")," * No olvide digitar la variable Niños, niñas, adolescentes y jóvenes SENAME. Digite Cero si no tiene.",IF(AQ18>B18," * La variable Niños, niñas, adolescentes y jóvenes SENAME No puede ser mayor al Total.","")) | BR18: =IF(AND(B18>0,AR18="")," * No olvide digitar la variable Niños, niñas, adolescentes y jóvenes Mejor niñez. Digite Cero si no tiene.",IF(AR18>B18," * La variable Niños, niñas, adolescentes y jóvenes Mejor Niñez No puede ser mayor al Total.","")) | BS18: =IF(AND(B18>0,AS18="")," * No olvide digitar la variable Por campaña de invierno. Digite Cero si no tiene.",IF(AS18>B18," * La variable Por campaña de invierno No puede ser mayor al Total.","")) | BU18: =IF(AND(B18>0,AO18=""),1,IF(AO18>B18,1,0)) -> 0 | BV18: =IF(AND(B18>0,AP18=""),1,IF(AP18>B18,1,0)) -> 0 | BW18: =IF(AND(B18>0,AQ18=""),1,IF(AQ18>B18,1,0)) -> 0 | BX18: =IF(AND(B18>0,AR18=""),1,IF(AR18>B18,1,0)) -> 0 | BY18: =IF(AND(B18>0,AS18=""),1,IF(AS18>B18,1,0)) -> 0
A19: Obstétrica | B19: =SUM(C19:D19) -> 0 | D19: =SUM(L19+N19+P19+R19+T19+V19+X19+Z19+AB19+AD19+AF19) -> 0 | AT19: =BO19&BP19&BQ19&BR19&BS19 | BO19: =IF(AND(B19>0,AO19="")," * No olvide digitar la variable Pueblos originarios. Digite Cero si no tiene.",IF(AO19>B19," * La variable Pueblos originarios No puede ser mayor al Total.","")) | BP19: =IF(AND(B19>0,AP19="")," * No olvide digitar la variable Migrantes. Digite Cero si no tiene.",IF(AP19>B19," * La variable Migrantes No puede ser mayor al Total.","")) | BQ19: =IF(AND(B19>0,AQ19="")," * No olvide digitar la variable Niños, niñas, adolescentes y jóvenes SENAME. Digite Cero si no tiene.",IF(AQ19>B19," * La variable Niños, niñas, adolescentes y jóvenes SENAME No puede ser mayor al Total.","")) | BR19: =IF(AND(B19>0,AR19="")," * No olvide digitar la variable Niños, niñas, adolescentes y jóvenes Mejor niñez. Digite Cero si no tiene.",IF(AR19>B19," * La variable Niños, niñas, adolescentes y jóvenes Mejor Niñez No puede ser mayor al Total.","")) | BU19: =IF(AND(B19>0,AO19=""),1,IF(AO19>B19,1,0)) -> 0 | BV19: =IF(AND(B19>0,AP19=""),1,IF(AP19>B19,1,0)) -> 0 | BW19: =IF(AND(B19>0,AQ19=""),1,IF(AQ19>B19,1,0)) -> 0 | BX19: =IF(AND(B19>0,AR19=""),1,IF(AR19>B19,1,0)) -> 0
A20: Ginecológica | B20: =SUM(C20:D20) -> 0 | D20: =SUM(F20+H20+J20+L20+N20+P20+R20+T20+V20+X20+Z20+AB20+AD20+AF20+AH20+AJ20+AL20+AN20) -> 0 | AT20: =BO20&BP20&BQ20&BR20&BS20 | BO20: =IF(AND(B20>0,AO20="")," * No olvide digitar la variable Pueblos originarios. Digite Cero si no tiene.",IF(AO20>B20," * La variable Pueblos originarios No puede ser mayor al Total.","")) | BP20: =IF(AND(B20>0,AP20="")," * No olvide digitar la variable Migrantes. Digite Cero si no tiene.",IF(AP20>B20," * La variable Migrantes No puede ser mayor al Total.","")) | BQ20: =IF(AND(B20>0,AQ20="")," * No olvide digitar la variable Niños, niñas, adolescentes y jóvenes SENAME. Digite Cero si no tiene.",IF(AQ20>B20," * La variable Niños, niñas, adolescentes y jóvenes SENAME No puede ser mayor al Total.","")) | BR20: =IF(AND(B20>0,AR20="")," * No olvide digitar la variable Niños, niñas, adolescentes y jóvenes Mejor niñez. Digite Cero si no tiene.",IF(AR20>B20," * La variable Niños, niñas, adolescentes y jóvenes Mejor Niñez No puede ser mayor al Total.","")) | BU20: =IF(AND(B20>0,AO20=""),1,IF(AO20>B20,1,0)) -> 0 | BV20: =IF(AND(B20>0,AP20=""),1,IF(AP20>B20,1,0)) -> 0 | BW20: =IF(AND(B20>0,AQ20=""),1,IF(AQ20>B20,1,0)) -> 0 | BX20: =IF(AND(B20>0,AR20=""),1,IF(AR20>B20,1,0)) -> 0
A21: Ginecológica por Infertilidad | B21: =SUM(C21:D21) -> 0 | C21: =SUM(O21+Q21+S21+U21+W21+Y21+AA21) -> 0 | D21: =SUM(P21+R21+T21+V21+X21+Z21+AB21) -> 0 | AT21: =BO21&BP21&BQ21&BR21&BS21 | BO21: =IF(AND(B21>0,AO21="")," * No olvide digitar la variable Pueblos originarios. Digite Cero si no tiene.",IF(AO21>B21," * La variable Pueblos originarios No puede ser mayor al Total.","")) | BP21: =IF(AND(B21>0,AP21="")," * No olvide digitar la variable Migrantes. Digite Cero si no tiene.",IF(AP21>B21," * La variable Migrantes No puede ser mayor al Total.","")) | BQ21: =IF(AND(B21>0,AQ21="")," * No olvide digitar la variable Niños, niñas, adolescentes y jóvenes SENAME. Digite Cero si no tiene.",IF(AQ21>B21," * La variable Niños, niñas, adolescentes y jóvenes SENAME No puede ser mayor al Total.","")) | BR21: =IF(AND(B21>0,AR21="")," * No olvide digitar la variable Niños, niñas, adolescentes y jóvenes Mejor niñez. Digite Cero si no tiene.",IF(AR21>B21," * La variable Niños, niñas, adolescentes y jóvenes Mejor Niñez No puede ser mayor al Total.","")) | BU21: =IF(AND(B21>0,AO21=""),1,IF(AO21>B21,1,0)) -> 0 | BV21: =IF(AND(B21>0,AP21=""),1,IF(AP21>B21,1,0)) -> 0 | BW21: =IF(AND(B21>0,AQ21=""),1,IF(AQ21>B21,1,0)) -> 0 | BX21: =IF(AND(B21>0,AR21=""),1,IF(AR21>B21,1,0)) -> 0
A22: Infección Transmisión Sexual | B22: =SUM(C22:D22) -> 0 | C22: =SUM(E22+G22+I22+K22+M22+O22+Q22+S22+U22+W22+Y22+AA22+AC22+AE22+AG22+AI22+AK22+AM22) -> 0 | D22: =SUM(F22+H22+J22+L22+N22+P22+R22+T22+V22+X22+Z22+AB22+AD22+AF22+AH22+AJ22+AL22+AN22) -> 0 | AT22: =BO22&BP22&BQ22&BR22&BS22 | BO22: =IF(AND(B22>0,AO22="")," * No olvide digitar la variable Pueblos originarios. Digite Cero si no tiene.",IF(AO22>B22," * La variable Pueblos originarios No puede ser mayor al Total.","")) | BP22: =IF(AND(B22>0,AP22="")," * No olvide digitar la variable Migrantes. Digite Cero si no tiene.",IF(AP22>B22," * La variable Migrantes No puede ser mayor al Total.","")) | BQ22: =IF(AND(B22>0,AQ22="")," * No olvide digitar la variable Niños, niñas, adolescentes y jóvenes SENAME. Digite Cero si no tiene.",IF(AQ22>B22," * La variable Niños, niñas, adolescentes y jóvenes SENAME No puede ser mayor al Total.","")) | BR22: =IF(AND(B22>0,AR22="")," * No olvide digitar la variable Niños, niñas, adolescentes y jóvenes Mejor niñez. Digite Cero si no tiene.",IF(AR22>B22," * La variable Niños, niñas, adolescentes y jóvenes Mejor Niñez No puede ser mayor al Total.","")) | BU22: =IF(AND(B22>0,AO22=""),1,IF(AO22>B22,1,0)) -> 0 | BV22: =IF(AND(B22>0,AP22=""),1,IF(AP22>B22,1,0)) -> 0 | BW22: =IF(AND(B22>0,AQ22=""),1,IF(AQ22>B22,1,0)) -> 0 | BX22: =IF(AND(B22>0,AR22=""),1,IF(AR22>B22,1,0)) -> 0
A23: VIH-SIDA | B23: =SUM(C23:D23) -> 0 | C23: =SUM(E23+G23+I23+K23+M23+O23+Q23+S23+U23+W23+Y23+AA23+AC23+AE23+AG23+AI23+AK23+AM23) -> 0 | D23: =SUM(F23+H23+J23+L23+N23+P23+R23+T23+V23+X23+Z23+AB23+AD23+AF23+AH23+AJ23+AL23+AN23) -> 0 | AT23: =BO23&BP23&BQ23&BR23&BS23 | BO23: =IF(AND(B23>0,AO23="")," * No olvide digitar la variable Pueblos originarios. Digite Cero si no tiene.",IF(AO23>B23," * La variable Pueblos originarios No puede ser mayor al Total.","")) | BP23: =IF(AND(B23>0,AP23="")," * No olvide digitar la variable Migrantes. Digite Cero si no tiene.",IF(AP23>B23," * La variable Migrantes No puede ser mayor al Total.","")) | BQ23: =IF(AND(B23>0,AQ23="")," * No olvide digitar la variable Niños, niñas, adolescentes y jóvenes SENAME. Digite Cero si no tiene.",IF(AQ23>B23," * La variable Niños, niñas, adolescentes y jóvenes SENAME No puede ser mayor al Total.","")) | BR23: =IF(AND(B23>0,AR23="")," * No olvide digitar la variable Niños, niñas, adolescentes y jóvenes Mejor niñez. Digite Cero si no tiene.",IF(AR23>B23," * La variable Niños, niñas, adolescentes y jóvenes Mejor Niñez No puede ser mayor al Total.","")) | BU23: =IF(AND(B23>0,AO23=""),1,IF(AO23>B23,1,0)) -> 0 | BV23: =IF(AND(B23>0,AP23=""),1,IF(AP23>B23,1,0)) -> 0 | BW23: =IF(AND(B23>0,AQ23=""),1,IF(AQ23>B23,1,0)) -> 0 | BX23: =IF(AND(B23>0,AR23=""),1,IF(AR23>B23,1,0)) -> 0
A24: Salud Mental | B24: =SUM(C24:D24) -> 0 | C24: =SUM(G24+I24+K24+M24+O24+Q24+S24+U24+W24+Y24+AA24+AC24+AE24+AG24+AI24+AK24+AM24) -> 0 | D24: =SUM(H24+J24+L24+N24+P24+R24+T24+V24+X24+Z24+AB24+AD24+AF24+AH24+AJ24+AL24+AN24) -> 0 | AT24: =BO24&BP24&BQ24&BR24&BS24 | BO24: =IF(AND(B24>0,AO24="")," * No olvide digitar la variable Pueblos originarios. Digite Cero si no tiene.",IF(AO24>B24," * La variable Pueblos originarios No puede ser mayor al Total.","")) | BP24: =IF(AND(B24>0,AP24="")," * No olvide digitar la variable Migrantes. Digite Cero si no tiene.",IF(AP24>B24," * La variable Migrantes No puede ser mayor al Total.","")) | BQ24: =IF(AND(B24>0,AQ24="")," * No olvide digitar la variable Niños, niñas, adolescentes y jóvenes SENAME. Digite Cero si no tiene.",IF(AQ24>B24," * La variable Niños, niñas, adolescentes y jóvenes SENAME No puede ser mayor al Total.","")) | BR24: =IF(AND(B24>0,AR24="")," * No olvide digitar la variable Niños, niñas, adolescentes y jóvenes Mejor niñez. Digite Cero si no tiene.",IF(AR24>B24," * La variable Niños, niñas, adolescentes y jóvenes Mejor Niñez No puede ser mayor al Total.","")) | BU24: =IF(AND(B24>0,AO24=""),1,IF(AO24>B24,1,0)) -> 0 | BV24: =IF(AND(B24>0,AP24=""),1,IF(AP24>B24,1,0)) -> 0 | BW24: =IF(AND(B24>0,AQ24=""),1,IF(AQ24>B24,1,0)) -> 0 | BX24: =IF(AND(B24>0,AR24=""),1,IF(AR24>B24,1,0)) -> 0
A25: Cardiovascular | B25: =SUM(C25:D25) -> 0 | C25: =SUM(M25+O25+Q25+S25+U25+W25+Y25+AA25+AC25+AE25+AG25+AI25+AK25+AM25) -> 0 | D25: =SUM(N25+P25+R25+T25+V25+X25+Z25+AB25+AD25+AF25+AH25+AJ25+AL25+AN25) -> 0 | AT25: =BO25&BP25&BQ25&BR25&BS25 | BO25: =IF(AND(B25>0,AO25="")," * No olvide digitar la variable Pueblos originarios. Digite Cero si no tiene.",IF(AO25>B25," * La variable Pueblos originarios No puede ser mayor al Total.","")) | BP25: =IF(AND(B25>0,AP25="")," * No olvide digitar la variable Migrantes. Digite Cero si no tiene.",IF(AP25>B25," * La variable Migrantes No puede ser mayor al Total.","")) | BQ25: =IF(AND(B25>0,AQ25="")," * No olvide digitar la variable Niños, niñas, adolescentes y jóvenes SENAME. Digite Cero si no tiene.",IF(AQ25>B25," * La variable Niños, niñas, adolescentes y jóvenes SENAME No puede ser mayor al Total.","")) | BR25: =IF(AND(B25>0,AR25="")," * No olvide digitar la variable Niños, niñas, adolescentes y jóvenes Mejor niñez. Digite Cero si no tiene.",IF(AR25>B25," * La variable Niños, niñas, adolescentes y jóvenes Mejor Niñez No puede ser mayor al Total.","")) | BU25: =IF(AND(B25>0,AO25=""),1,IF(AO25>B25,1,0)) -> 0 | BV25: =IF(AND(B25>0,AP25=""),1,IF(AP25>B25,1,0)) -> 0 | BW25: =IF(AND(B25>0,AQ25=""),1,IF(AQ25>B25,1,0)) -> 0 | BX25: =IF(AND(B25>0,AR25=""),1,IF(AR25>B25,1,0)) -> 0
A26: Otras Morbilidades | B26: =SUM(C26:D26) -> 0 | C26: =SUM(E26+G26+I26+K26+M26+O26+Q26+S26+U26+W26+Y26+AA26+AC26+AE26+AG26+AI26+AK26+AM26) -> 0 | D26: =SUM(F26+H26+J26+L26+N26+P26+R26+T26+V26+X26+Z26+AB26+AD26+AF26+AH26+AJ26+AL26+AN26) -> 0 | AT26: =BO26&BP26&BQ26&BR26&BS26 | BO26: =IF(AND(B26>0,AO26="")," * No olvide digitar la variable Pueblos originarios. Digite Cero si no tiene.",IF(AO26>B26," * La variable Pueblos originarios No puede ser mayor al Total.","")) | BP26: =IF(AND(B26>0,AP26="")," * No olvide digitar la variable Migrantes. Digite Cero si no tiene.",IF(AP26>B26," * La variable Migrantes No puede ser mayor al Total.","")) | BQ26: =IF(AND(B26>0,AQ26="")," * No olvide digitar la variable Niños, niñas, adolescentes y jóvenes SENAME. Digite Cero si no tiene.",IF(AQ26>B26," * La variable Niños, niñas, adolescentes y jóvenes SENAME No puede ser mayor al Total.","")) | BR26: =IF(AND(B26>0,AR26="")," * No olvide digitar la variable Niños, niñas, adolescentes y jóvenes Mejor niñez. Digite Cero si no tiene.",IF(AR26>B26," * La variable Niños, niñas, adolescentes y jóvenes Mejor Niñez No puede ser mayor al Total.","")) | BS26: =IF(AND(B26>0,AS26="")," * No olvide digitar la variable Por campaña de invierno. Digite Cero si no tiene.",IF(AS26>B26," * La variable Por campaña de invierno No puede ser mayor al Total.","")) | BU26: =IF(AND(B26>0,AO26=""),1,IF(AO26>B26,1,0)) -> 0 | BV26: =IF(AND(B26>0,AP26=""),1,IF(AP26>B26,1,0)) -> 0 | BW26: =IF(AND(B26>0,AQ26=""),1,IF(AQ26>B26,1,0)) -> 0 | BX26: =IF(AND(B26>0,AR26=""),1,IF(AR26>B26,1,0)) -> 0 | BY26: =IF(AND(B26>0,AS26=""),1,IF(AS26>B26,1,0)) -> 0
A27: SECCIÓN B: CONSULTAS DE PROFESIONALES NO MÉDICOS
A28: PROFESIONAL | B28: TOTAL | E28: RANGO ETARIO Y SEXO | AO28: Pueblos Originarios | AP28: Migrantes | AQ28: Espacios Amigables | AR28: Niños, Niñas, Adolescentes y Jóvenes SENAME | AS28: Niños, Niñas, Adolescentes y Jóvenes Mejor Niñez
E29: Menos de 1 año | G29: 1 - 4 años | I29: 5 - 9 años | K29: 10 - 14 años | M29: 15 - 19 años | O29: 20 - 24 años | Q29: 25 - 29 años | S29: 30 - 34 años | U29: 35 - 39 años | W29: 40 - 44 años | Y29: 45 - 49 años | AA29: 50 - 54 años | AC29: 55 - 59 años | AE29: 60 - 64 años | AG29: 65 - 69 años | AI29: 70 - 74 años | AK29: 75 - 79 años | AM29: 80 y mas años
B30: Ambos Sexos | C30: Hombres | D30: Mujeres | E30: Hombres | F30: Mujeres | G30: Hombres | H30: Mujeres | I30: Hombres | J30: Mujeres | K30: Hombres | L30: Mujeres | M30: Hombres | N30: Mujeres | O30: Hombres | P30: Mujeres | Q30: Hombres | R30: Mujeres | S30: Hombres | T30: Mujeres | U30: Hombres | V30: Mujeres | W30: Hombres | X30: Mujeres | Y30: Hombres | Z30: Mujeres | AA30: Hombres | AB30: Mujeres | AC30: Hombres | AD30: Mujeres | AE30: Hombres | AF30: Mujeres | AG30: Hombres | AH30: Mujeres | AI30: Hombres | AJ30: Mujeres | AK30: Hombres | AL30: Mujeres | AM30: Hombres | AN30: Mujeres
A31: Enfermera/o | B31: =SUM(C31:D31) -> 0 | C31: =SUM(E31+G31+I31+K31+M31+O31+Q31+S31+U31+W31+Y31+AA31+AC31+AE31+AG31+AI31+AK31+AM31) -> 0 | D31: =SUM(F31+H31+J31+L31+N31+P31+R31+T31+V31+X31+Z31+AB31+AD31+AF31+AH31+AJ31+AL31+AN31) -> 0 | AT31: =BO31&BP31&BQ31&BR31&BS31 | BO31: =IF(AND(B31>0,AO31="")," * No olvide digitar la variable Pueblos originarios. Digite Cero si no tiene.",IF(AO31>B31," * La variable Pueblos originarios No puede ser mayor al Total.","")) | BP31: =IF(AND(B31>0,AP31="")," * No olvide digitar la variable Migrantes. Digite Cero si no tiene.",IF(AP31>B31," * La variable Migrantes No puede ser mayor al Total.","")) | BQ31: =IF(AND(B31>0,AQ31="")," * No olvide digitar la variable Espacios Amigables. Digite Cero si no tiene.",IF(AQ31>B31," * La variable Espacios Amigables No puede ser mayor al Total.","")) | BR31: =IF(AND(B31>0,AR31="")," * No olvide digitar la variable Niños, Niñas, Adolescentes y Jóvenes SENAME. Digite Cero si no tiene.",IF(AR31>B31," * La variable Niños, Niñas, Adolescentes y Jóvenes SENAME No puede ser mayor al Total.","")) | BS31: =IF(AND(B31>0,AS31="")," * No olvide digitar la variable Niños, Niñas, Adolescentes y Jóvenes Mejor Niñez. Digite Cero si no tiene.",IF(AS31>B31," * La variable Niños, Niñas, Adolescentes y Jóvenes Mejor Niñez No puede ser mayor al Total.","")) | BU31: =IF(AND(B31>0,AO31=""),1,IF(AO31>B31,1,0)) -> 0 | BV31: =IF(AND(B31>0,AP31=""),1,IF(AP31>B31,1,0)) -> 0 | BW31: =IF(AND(B31>0,AQ31=""),1,IF(AQ31>B31,1,0)) -> 0 | BX31: =IF(AND(B31>0,AR31=""),1,IF(AR31>B31,1,0)) -> 0 | BY31: =IF(AND(B31>0,AS31=""),1,IF(AS31>B31,1,0)) -> 0
A32: Matrona/ón (Morb. Ginecológica) | B32: =SUM(C32:D32) -> 0 | D32: =SUM(F32+H32+J32+L32+N32+P32+R32+T32+V32+X32+Z32+AB32+AD32+AF32+AH32+AJ32+AL32+AN32) -> 0 | AT32: =BO32&BP32&BQ32&BR32&BS32 | BO32: =IF(AND(B32>0,AO32="")," * No olvide digitar la variable Pueblos originarios. Digite Cero si no tiene.",IF(AO32>B32," * La variable Pueblos originarios No puede ser mayor al Total.","")) | BP32: =IF(AND(B32>0,AP32="")," * No olvide digitar la variable Migrantes. Digite Cero si no tiene.",IF(AP32>B32," * La variable Migrantes No puede ser mayor al Total.","")) | BQ32: =IF(AND(B32>0,AQ32="")," * No olvide digitar la variable Espacios Amigables. Digite Cero si no tiene.",IF(AQ32>B32," * La variable Espacios Amigables No puede ser mayor al Total.","")) | BR32: =IF(AND(B32>0,AR32="")," * No olvide digitar la variable Niños, Niñas, Adolescentes y Jóvenes SENAME. Digite Cero si no tiene.",IF(AR32>B32," * La variable Niños, Niñas, Adolescentes y Jóvenes SENAME No puede ser mayor al Total.","")) | BS32: =IF(AND(B32>0,AS32="")," * No olvide digitar la variable Niños, Niñas, Adolescentes y Jóvenes Mejor Niñez. Digite Cero si no tiene.",IF(AS32>B32," * La variable Niños, Niñas, Adolescentes y Jóvenes Mejor Niñez No puede ser mayor al Total.","")) | BU32: =IF(AND(B32>0,AO32=""),1,IF(AO32>B32,1,0)) -> 0 | BV32: =IF(AND(B32>0,AP32=""),1,IF(AP32>B32,1,0)) -> 0 | BW32: =IF(AND(B32>0,AQ32=""),1,IF(AQ32>B32,1,0)) -> 0 | BX32: =IF(AND(B32>0,AR32=""),1,IF(AR32>B32,1,0)) -> 0 | BY32: =IF(AND(B32>0,AS32=""),1,IF(AS32>B32,1,0)) -> 0
A33: Matrona/ón (Morb. Obstétrica) | B33: =SUM(C33:D33) -> 0 | D33: =SUM(F33+H33+J33+L33+N33+P33+R33+T33+V33+X33+Z33+AB33+AD33+AF33+AH33+AJ33+AL33+AN33) -> 0 | AT33: =BO33&BP33&BQ33&BR33&BS33 | BO33: =IF(AND(B33>0,AO33="")," * No olvide digitar la variable Pueblos originarios. Digite Cero si no tiene.",IF(AO33>B33," * La variable Pueblos originarios No puede ser mayor al Total.","")) | BP33: =IF(AND(B33>0,AP33="")," * No olvide digitar la variable Migrantes. Digite Cero si no tiene.",IF(AP33>B33," * La variable Migrantes No puede ser mayor al Total.","")) | BQ33: =IF(AND(B33>0,AQ33="")," * No olvide digitar la variable Espacios Amigables. Digite Cero si no tiene.",IF(AQ33>B33," * La variable Espacios Amigables No puede ser mayor al Total.","")) | BR33: =IF(AND(B33>0,AR33="")," * No olvide digitar la variable Niños, Niñas, Adolescentes y Jóvenes SENAME. Digite Cero si no tiene.",IF(AR33>B33," * La variable Niños, Niñas, Adolescentes y Jóvenes SENAME No puede ser mayor al Total.","")) | BS33: =IF(AND(B33>0,AS33="")," * No olvide digitar la variable Niños, Niñas, Adolescentes y Jóvenes Mejor Niñez. Digite Cero si no tiene.",IF(AS33>B33," * La variable Niños, Niñas, Adolescentes y Jóvenes Mejor Niñez No puede ser mayor al Total.","")) | BU33: =IF(AND(B33>0,AO33=""),1,IF(AO33>B33,1,0)) -> 0 | BV33: =IF(AND(B33>0,AP33=""),1,IF(AP33>B33,1,0)) -> 0 | BW33: =IF(AND(B33>0,AQ33=""),1,IF(AQ33>B33,1,0)) -> 0 | BX33: =IF(AND(B33>0,AR33=""),1,IF(AR33>B33,1,0)) -> 0 | BY33: =IF(AND(B33>0,AS33=""),1,IF(AS33>B33,1,0)) -> 0
A34: Matrona/ón (ITS) | B34: =SUM(C34:D34) -> 0 | C34: =SUM(E34+G34+I34+K34+M34+O34+Q34+S34+U34+W34+Y34+AA34+AC34+AE34+AG34+AI34+AK34+AM34) -> 0 | D34: =SUM(F34+H34+J34+L34+N34+P34+R34+T34+V34+X34+Z34+AB34+AD34+AF34+AH34+AJ34+AL34+AN34) -> 0 | AT34: =BO34&BP34&BQ34&BR34&BS34 | BO34: =IF(AND(B34>0,AO34="")," * No olvide digitar la variable Pueblos originarios. Digite Cero si no tiene.",IF(AO34>B34," * La variable Pueblos originarios No puede ser mayor al Total.","")) | BP34: =IF(AND(B34>0,AP34="")," * No olvide digitar la variable Migrantes. Digite Cero si no tiene.",IF(AP34>B34," * La variable Migrantes No puede ser mayor al Total.","")) | BQ34: =IF(AND(B34>0,AQ34="")," * No olvide digitar la variable Espacios Amigables. Digite Cero si no tiene.",IF(AQ34>B34," * La variable Espacios Amigables No puede ser mayor al Total.","")) | BR34: =IF(AND(B34>0,AR34="")," * No olvide digitar la variable Niños, Niñas, Adolescentes y Jóvenes SENAME. Digite Cero si no tiene.",IF(AR34>B34," * La variable Niños, Niñas, Adolescentes y Jóvenes SENAME No puede ser mayor al Total.","")) | BS34: =IF(AND(B34>0,AS34="")," * No olvide digitar la variable Niños, Niñas, Adolescentes y Jóvenes Mejor Niñez. Digite Cero si no tiene.",IF(AS34>B34," * La variable Niños, Niñas, Adolescentes y Jóvenes Mejor Niñez No puede ser mayor al Total.","")) | BU34: =IF(AND(B34>0,AO34=""),1,IF(AO34>B34,1,0)) -> 0 | BV34: =IF(AND(B34>0,AP34=""),1,IF(AP34>B34,1,0)) -> 0 | BW34: =IF(AND(B34>0,AQ34=""),1,IF(AQ34>B34,1,0)) -> 0 | BX34: =IF(AND(B34>0,AR34=""),1,IF(AR34>B34,1,0)) -> 0 | BY34: =IF(AND(B34>0,AS34=""),1,IF(AS34>B34,1,0)) -> 0
A35: Matrona/ón (Infertilidad) | B35: =SUM(C35:D35) -> 0 | C35: =SUM(O35+Q35+S35+U35+W35+Y35+AA35) -> 0 | D35: =SUM(P35+R35+T35+V35+X35+Z35+AB35) -> 0 | AT35: =BO35&BP35&BQ35&BR35&BS35 | BO35: =IF(AND(B35>0,AO35="")," * No olvide digitar la variable Pueblos originarios. Digite Cero si no tiene.",IF(AO35>B35," * La variable Pueblos originarios No puede ser mayor al Total.","")) | BP35: =IF(AND(B35>0,AP35="")," * No olvide digitar la variable Migrantes. Digite Cero si no tiene.",IF(AP35>B35," * La variable Migrantes No puede ser mayor al Total.","")) | BQ35: =IF(AND(B35>0,AQ35="")," * No olvide digitar la variable Espacios Amigables. Digite Cero si no tiene.",IF(AQ35>B35," * La variable Espacios Amigables No puede ser mayor al Total.","")) | BR35: =IF(AND(B35>0,AR35="")," * No olvide digitar la variable Niños, Niñas, Adolescentes y Jóvenes SENAME. Digite Cero si no tiene.",IF(AR35>B35," * La variable Niños, Niñas, Adolescentes y Jóvenes SENAME No puede ser mayor al Total.","")) | BS35: =IF(AND(B35>0,AS35="")," * No olvide digitar la variable Niños, Niñas, Adolescentes y Jóvenes Mejor Niñez. Digite Cero si no tiene.",IF(AS35>B35," * La variable Niños, Niñas, Adolescentes y Jóvenes Mejor Niñez No puede ser mayor al Total.","")) | BU35: =IF(AND(B35>0,AO35=""),1,IF(AO35>B35,1,0)) -> 0 | BV35: =IF(AND(B35>0,AP35=""),1,IF(AP35>B35,1,0)) -> 0 | BW35: =IF(AND(B35>0,AQ35=""),1,IF(AQ35>B35,1,0)) -> 0 | BX35: =IF(AND(B35>0,AR35=""),1,IF(AR35>B35,1,0)) -> 0 | BY35: =IF(AND(B35>0,AS35=""),1,IF(AS35>B35,1,0)) -> 0
A36: Matrona/ón (Otras consultas) | B36: =SUM(C36:D36) -> 0 | C36: =SUM(E36+G36+I36+K36+M36+O36+Q36+S36+U36+W36+Y36+AA36+AC36+AE36+AG36+AI36+AK36+AM36) -> 0 | D36: =SUM(F36+H36+J36+L36+N36+P36+R36+T36+V36+X36+Z36+AB36+AD36+AF36+AH36+AJ36+AL36+AN36) -> 0 | AT36: =BO36&BP36&BQ36&BR36&BS36 | BO36: =IF(AND(B36>0,AO36="")," * No olvide digitar la variable Pueblos originarios. Digite Cero si no tiene.",IF(AO36>B36," * La variable Pueblos originarios No puede ser mayor al Total.","")) | BP36: =IF(AND(B36>0,AP36="")," * No olvide digitar la variable Migrantes. Digite Cero si no tiene.",IF(AP36>B36," * La variable Migrantes No puede ser mayor al Total.","")) | BQ36: =IF(AND(B36>0,AQ36="")," * No olvide digitar la variable Espacios Amigables. Digite Cero si no tiene.",IF(AQ36>B36," * La variable Espacios Amigables No puede ser mayor al Total.","")) | BR36: =IF(AND(B36>0,AR36="")," * No olvide digitar la variable Niños, Niñas, Adolescentes y Jóvenes SENAME. Digite Cero si no tiene.",IF(AR36>B36," * La variable Niños, Niñas, Adolescentes y Jóvenes SENAME No puede ser mayor al Total.","")) | BS36: =IF(AND(B36>0,AS36="")," * No olvide digitar la variable Niños, Niñas, Adolescentes y Jóvenes Mejor Niñez. Digite Cero si no tiene.",IF(AS36>B36," * La variable Niños, Niñas, Adolescentes y Jóvenes Mejor Niñez No puede ser mayor al Total.","")) | BU36: =IF(AND(B36>0,AO36=""),1,IF(AO36>B36,1,0)) -> 0 | BV36: =IF(AND(B36>0,AP36=""),1,IF(AP36>B36,1,0)) -> 0 | BW36: =IF(AND(B36>0,AQ36=""),1,IF(AQ36>B36,1,0)) -> 0 | BX36: =IF(AND(B36>0,AR36=""),1,IF(AR36>B36,1,0)) -> 0 | BY36: =IF(AND(B36>0,AS36=""),1,IF(AS36>B36,1,0)) -> 0
A37: Matrona/ón (Salud sexual) | B37: =SUM(C37:D37) -> 0 | C37: =SUM(K37+M37+O37+Q37+S37+U37+W37+Y37+AA37+AC37+AE37+AG37+AI37+AK37+AM37) -> 0 | D37: =SUM(L37+N37+P37+R37+T37+V37+X37+Z37+AB37+AD37+AF37+AH37+AJ37+AL37+AN37) -> 0 | AT37: =BO37&BP37&BQ37&BR37&BS37 | BO37: =IF(AND(B37>0,AO37="")," * No olvide digitar la variable Pueblos originarios. Digite Cero si no tiene.",IF(AO37>B37," * La variable Pueblos originarios No puede ser mayor al Total.","")) | BP37: =IF(AND(B37>0,AP37="")," * No olvide digitar la variable Migrantes. Digite Cero si no tiene.",IF(AP37>B37," * La variable Migrantes No puede ser mayor al Total.","")) | BQ37: =IF(AND(B37>0,AQ37="")," * No olvide digitar la variable Espacios Amigables. Digite Cero si no tiene.",IF(AQ37>B37," * La variable Espacios Amigables No puede ser mayor al Total.","")) | BR37: =IF(AND(B37>0,AR37="")," * No olvide digitar la variable Niños, Niñas, Adolescentes y Jóvenes SENAME. Digite Cero si no tiene.",IF(AR37>B37," * La variable Niños, Niñas, Adolescentes y Jóvenes SENAME No puede ser mayor al Total.","")) | BS37: =IF(AND(B37>0,AS37="")," * No olvide digitar la variable Niños, Niñas, Adolescentes y Jóvenes Mejor Niñez. Digite Cero si no tiene.",IF(AS37>B37," * La variable Niños, Niñas, Adolescentes y Jóvenes Mejor Niñez No puede ser mayor al Total.","")) | BU37: =IF(AND(B37>0,AO37=""),1,IF(AO37>B37,1,0)) -> 0 | BV37: =IF(AND(B37>0,AP37=""),1,IF(AP37>B37,1,0)) -> 0 | BW37: =IF(AND(B37>0,AQ37=""),1,IF(AQ37>B37,1,0)) -> 0 | BX37: =IF(AND(B37>0,AR37=""),1,IF(AR37>B37,1,0)) -> 0 | BY37: =IF(AND(B37>0,AS37=""),1,IF(AS37>B37,1,0)) -> 0
A38: Matrona/ón (Piso pélvico) | B38: =SUM(C38:D38) -> 0 | D38: =SUM(L38+N38+P38+R38+T38+V38+X38+Z38+AB38+AD38+AF38+AH38+AJ38+AL38+AN38) -> 0 | AT38: =BO38&BP38&BQ38&BR38&BS38 | BO38: =IF(AND(B38>0,AO38="")," * No olvide digitar la variable Pueblos originarios. Digite Cero si no tiene.",IF(AO38>B38," * La variable Pueblos originarios No puede ser mayor al Total.","")) | BP38: =IF(AND(B38>0,AP38="")," * No olvide digitar la variable Migrantes. Digite Cero si no tiene.",IF(AP38>B38," * La variable Migrantes No puede ser mayor al Total.","")) | BQ38: =IF(AND(B38>0,AQ38="")," * No olvide digitar la variable Espacios Amigables. Digite Cero si no tiene.",IF(AQ38>B38," * La variable Espacios Amigables No puede ser mayor al Total.","")) | BR38: =IF(AND(B38>0,AR38="")," * No olvide digitar la variable Niños, Niñas, Adolescentes y Jóvenes SENAME. Digite Cero si no tiene.",IF(AR38>B38," * La variable Niños, Niñas, Adolescentes y Jóvenes SENAME No puede ser mayor al Total.","")) | BS38: =IF(AND(B38>0,AS38="")," * No olvide digitar la variable Niños, Niñas, Adolescentes y Jóvenes Mejor Niñez. Digite Cero si no tiene.",IF(AS38>B38," * La variable Niños, Niñas, Adolescentes y Jóvenes Mejor Niñez No puede ser mayor al Total.","")) | BU38: =IF(AND(B38>0,AO38=""),1,IF(AO38>B38,1,0)) -> 0 | BV38: =IF(AND(B38>0,AP38=""),1,IF(AP38>B38,1,0)) -> 0 | BW38: =IF(AND(B38>0,AQ38=""),1,IF(AQ38>B38,1,0)) -> 0 | BX38: =IF(AND(B38>0,AR38=""),1,IF(AR38>B38,1,0)) -> 0 | BY38: =IF(AND(B38>0,AS38=""),1,IF(AS38>B38,1,0)) -> 0
A39: Nutricionista (Otras consultas) | B39: =SUM(C39:D39) -> 0 | C39: =SUM(E39+G39+I39+K39+M39+O39+Q39+S39+U39+W39+Y39+AA39+AC39+AE39+AG39+AI39+AK39+AM39) -> 0 | D39: =SUM(F39+H39+J39+L39+N39+P39+R39+T39+V39+X39+Z39+AB39+AD39+AF39+AH39+AJ39+AL39+AN39) -> 0 | AT39: =BO39&BP39&BQ39&BR39&BS39 | BO39: =IF(AND(B39>0,AO39="")," * No olvide digitar la variable Pueblos originarios. Digite Cero si no tiene.",IF(AO39>B39," * La variable Pueblos originarios No puede ser mayor al Total.","")) | BP39: =IF(AND(B39>0,AP39="")," * No olvide digitar la variable Migrantes. Digite Cero si no tiene.",IF(AP39>B39," * La variable Migrantes No puede ser mayor al Total.","")) | BQ39: =IF(AND(B39>0,AQ39="")," * No olvide digitar la variable Espacios Amigables. Digite Cero si no tiene.",IF(AQ39>B39," * La variable Espacios Amigables No puede ser mayor al Total.","")) | BR39: =IF(AND(B39>0,AR39="")," * No olvide digitar la variable Niños, Niñas, Adolescentes y Jóvenes SENAME. Digite Cero si no tiene.",IF(AR39>B39," * La variable Niños, Niñas, Adolescentes y Jóvenes SENAME No puede ser mayor al Total.","")) | BS39: =IF(AND(B39>0,AS39="")," * No olvide digitar la variable Niños, Niñas, Adolescentes y Jóvenes Mejor Niñez. Digite Cero si no tiene.",IF(AS39>B39," * La variable Niños, Niñas, Adolescentes y Jóvenes Mejor Niñez No puede ser mayor al Total.","")) | BU39: =IF(AND(B39>0,AO39=""),1,IF(AO39>B39,1,0)) -> 0 | BV39: =IF(AND(B39>0,AP39=""),1,IF(AP39>B39,1,0)) -> 0 | BW39: =IF(AND(B39>0,AQ39=""),1,IF(AQ39>B39,1,0)) -> 0 | BX39: =IF(AND(B39>0,AR39=""),1,IF(AR39>B39,1,0)) -> 0 | BY39: =IF(AND(B39>0,AS39=""),1,IF(AS39>B39,1,0)) -> 0
A40: Nutricionista malnutrición por exceso | B40: =SUM(C40:D40) -> 0 | C40: =SUM(E40+G40+I40+K40+M40+O40+Q40+S40+U40+W40+Y40+AA40+AC40+AE40+AG40+AI40+AK40+AM40) -> 0 | D40: =SUM(F40+H40+J40+L40+N40+P40+R40+T40+V40+X40+Z40+AB40+AD40+AF40+AH40+AJ40+AL40+AN40) -> 0 | AT40: =BO40&BP40&BQ40&BR40&BS40 | BO40: =IF(AND(B40>0,AO40="")," * No olvide digitar la variable Pueblos originarios. Digite Cero si no tiene.",IF(AO40>B40," * La variable Pueblos originarios No puede ser mayor al Total.","")) | BP40: =IF(AND(B40>0,AP40="")," * No olvide digitar la variable Migrantes. Digite Cero si no tiene.",IF(AP40>B40," * La variable Migrantes No puede ser mayor al Total.","")) | BQ40: =IF(AND(B40>0,AQ40="")," * No olvide digitar la variable Espacios Amigables. Digite Cero si no tiene.",IF(AQ40>B40," * La variable Espacios Amigables No puede ser mayor al Total.","")) | BR40: =IF(AND(B40>0,AR40="")," * No olvide digitar la variable Niños, Niñas, Adolescentes y Jóvenes SENAME. Digite Cero si no tiene.",IF(AR40>B40," * La variable Niños, Niñas, Adolescentes y Jóvenes SENAME No puede ser mayor al Total.","")) | BS40: =IF(AND(B40>0,AS40="")," * No olvide digitar la variable Niños, Niñas, Adolescentes y Jóvenes Mejor Niñez. Digite Cero si no tiene.",IF(AS40>B40," * La variable Niños, Niñas, Adolescentes y Jóvenes Mejor Niñez No puede ser mayor al Total.","")) | BU40: =IF(AND(B40>0,AO40=""),1,IF(AO40>B40,1,0)) -> 0 | BV40: =IF(AND(B40>0,AP40=""),1,IF(AP40>B40,1,0)) -> 0 | BW40: =IF(AND(B40>0,AQ40=""),1,IF(AQ40>B40,1,0)) -> 0 | BX40: =IF(AND(B40>0,AR40=""),1,IF(AR40>B40,1,0)) -> 0 | BY40: =IF(AND(B40>0,AS40=""),1,IF(AS40>B40,1,0)) -> 0
A41: Nutricionista malnutrición por déficit | B41: =SUM(C41:D41) -> 0 | C41: =SUM(E41+G41+I41+K41+M41+O41+Q41+S41+U41+W41+Y41+AA41+AC41+AE41+AG41+AI41+AK41+AM41) -> 0 | D41: =SUM(F41+H41+J41+L41+N41+P41+R41+T41+V41+X41+Z41+AB41+AD41+AF41+AH41+AJ41+AL41+AN41) -> 0 | AT41: =BO41&BP41&BQ41&BR41&BS41 | BO41: =IF(AND(B41>0,AO41="")," * No olvide digitar la variable Pueblos originarios. Digite Cero si no tiene.",IF(AO41>B41," * La variable Pueblos originarios No puede ser mayor al Total.","")) | BP41: =IF(AND(B41>0,AP41="")," * No olvide digitar la variable Migrantes. Digite Cero si no tiene.",IF(AP41>B41," * La variable Migrantes No puede ser mayor al Total.","")) | BQ41: =IF(AND(B41>0,AQ41="")," * No olvide digitar la variable Espacios Amigables. Digite Cero si no tiene.",IF(AQ41>B41," * La variable Espacios Amigables No puede ser mayor al Total.","")) | BR41: =IF(AND(B41>0,AR41="")," * No olvide digitar la variable Niños, Niñas, Adolescentes y Jóvenes SENAME. Digite Cero si no tiene.",IF(AR41>B41," * La variable Niños, Niñas, Adolescentes y Jóvenes SENAME No puede ser mayor al Total.","")) | BS41: =IF(AND(B41>0,AS41="")," * No olvide digitar la variable Niños, Niñas, Adolescentes y Jóvenes Mejor Niñez. Digite Cero si no tiene.",IF(AS41>B41," * La variable Niños, Niñas, Adolescentes y Jóvenes Mejor Niñez No puede ser mayor al Total.","")) | BU41: =IF(AND(B41>0,AO41=""),1,IF(AO41>B41,1,0)) -> 0 | BV41: =IF(AND(B41>0,AP41=""),1,IF(AP41>B41,1,0)) -> 0 | BW41: =IF(AND(B41>0,AQ41=""),1,IF(AQ41>B41,1,0)) -> 0 | BX41: =IF(AND(B41>0,AR41=""),1,IF(AR41>B41,1,0)) -> 0 | BY41: =IF(AND(B41>0,AS41=""),1,IF(AS41>B41,1,0)) -> 0
A42: Psicólogo/a | B42: =SUM(C42:D42) -> 0 | C42: =SUM(E42+G42+I42+K42+M42+O42+Q42+S42+U42+W42+Y42+AA42+AC42+AE42+AG42+AI42+AK42+AM42) -> 0 | D42: =SUM(F42+H42+J42+L42+N42+P42+R42+T42+V42+X42+Z42+AB42+AD42+AF42+AH42+AJ42+AL42+AN42) -> 0 | AT42: =BO42&BP42&BQ42&BR42&BS42 | BO42: =IF(AND(B42>0,AO42="")," * No olvide digitar la variable Pueblos originarios. Digite Cero si no tiene.",IF(AO42>B42," * La variable Pueblos originarios No puede ser mayor al Total.","")) | BP42: =IF(AND(B42>0,AP42="")," * No olvide digitar la variable Migrantes. Digite Cero si no tiene.",IF(AP42>B42," * La variable Migrantes No puede ser mayor al Total.","")) | BQ42: =IF(AND(B42>0,AQ42="")," * No olvide digitar la variable Espacios Amigables. Digite Cero si no tiene.",IF(AQ42>B42," * La variable Espacios Amigables No puede ser mayor al Total.","")) | BR42: =IF(AND(B42>0,AR42="")," * No olvide digitar la variable Niños, Niñas, Adolescentes y Jóvenes SENAME. Digite Cero si no tiene.",IF(AR42>B42," * La variable Niños, Niñas, Adolescentes y Jóvenes SENAME No puede ser mayor al Total.","")) | BS42: =IF(AND(B42>0,AS42="")," * No olvide digitar la variable Niños, Niñas, Adolescentes y Jóvenes Mejor Niñez. Digite Cero si no tiene.",IF(AS42>B42," * La variable Niños, Niñas, Adolescentes y Jóvenes Mejor Niñez No puede ser mayor al Total.","")) | BU42: =IF(AND(B42>0,AO42=""),1,IF(AO42>B42,1,0)) -> 0 | BV42: =IF(AND(B42>0,AP42=""),1,IF(AP42>B42,1,0)) -> 0 | BW42: =IF(AND(B42>0,AQ42=""),1,IF(AQ42>B42,1,0)) -> 0 | BX42: =IF(AND(B42>0,AR42=""),1,IF(AR42>B42,1,0)) -> 0 | BY42: =IF(AND(B42>0,AS42=""),1,IF(AS42>B42,1,0)) -> 0
A43: Fonoaudiólogo/a | B43: =SUM(C43:D43) -> 0 | C43: =SUM(E43+G43+I43+K43+M43+O43+Q43+S43+U43+W43+Y43+AA43+AC43+AE43+AG43+AI43+AK43+AM43) -> 0 | D43: =SUM(F43+H43+J43+L43+N43+P43+R43+T43+V43+X43+Z43+AB43+AD43+AF43+AH43+AJ43+AL43+AN43) -> 0 | AT43: =BO43&BP43&BQ43&BR43&BS43 | BO43: =IF(AND(B43>0,AO43="")," * No olvide digitar la variable Pueblos originarios. Digite Cero si no tiene.",IF(AO43>B43," * La variable Pueblos originarios No puede ser mayor al Total.","")) | BP43: =IF(AND(B43>0,AP43="")," * No olvide digitar la variable Migrantes. Digite Cero si no tiene.",IF(AP43>B43," * La variable Migrantes No puede ser mayor al Total.","")) | BQ43: =IF(AND(B43>0,AQ43="")," * No olvide digitar la variable Espacios Amigables. Digite Cero si no tiene.",IF(AQ43>B43," * La variable Espacios Amigables No puede ser mayor al Total.","")) | BR43: =IF(AND(B43>0,AR43="")," * No olvide digitar la variable Niños, Niñas, Adolescentes y Jóvenes SENAME. Digite Cero si no tiene.",IF(AR43>B43," * La variable Niños, Niñas, Adolescentes y Jóvenes SENAME No puede ser mayor al Total.","")) | BS43: =IF(AND(B43>0,AS43="")," * No olvide digitar la variable Niños, Niñas, Adolescentes y Jóvenes Mejor Niñez. Digite Cero si no tiene.",IF(AS43>B43," * La variable Niños, Niñas, Adolescentes y Jóvenes Mejor Niñez No puede ser mayor al Total.","")) | BU43: =IF(AND(B43>0,AO43=""),1,IF(AO43>B43,1,0)) -> 0 | BV43: =IF(AND(B43>0,AP43=""),1,IF(AP43>B43,1,0)) -> 0 | BW43: =IF(AND(B43>0,AQ43=""),1,IF(AQ43>B43,1,0)) -> 0 | BX43: =IF(AND(B43>0,AR43=""),1,IF(AR43>B43,1,0)) -> 0 | BY43: =IF(AND(B43>0,AS43=""),1,IF(AS43>B43,1,0)) -> 0
A44: Terapeuta Ocupacional | B44: =SUM(C44:D44) -> 0 | C44: =SUM(E44+G44+I44+K44+M44+O44+Q44+S44+U44+W44+Y44+AA44+AC44+AE44+AG44+AI44+AK44+AM44) -> 0 | D44: =SUM(F44+H44+J44+L44+N44+P44+R44+T44+V44+X44+Z44+AB44+AD44+AF44+AH44+AJ44+AL44+AN44) -> 0 | AT44: =BO44&BP44&BQ44&BR44&BS44 | BO44: =IF(AND(B44>0,AO44="")," * No olvide digitar la variable Pueblos originarios. Digite Cero si no tiene.",IF(AO44>B44," * La variable Pueblos originarios No puede ser mayor al Total.","")) | BP44: =IF(AND(B44>0,AP44="")," * No olvide digitar la variable Migrantes. Digite Cero si no tiene.",IF(AP44>B44," * La variable Migrantes No puede ser mayor al Total.","")) | BQ44: =IF(AND(B44>0,AQ44="")," * No olvide digitar la variable Espacios Amigables. Digite Cero si no tiene.",IF(AQ44>B44," * La variable Espacios Amigables No puede ser mayor al Total.","")) | BR44: =IF(AND(B44>0,AR44="")," * No olvide digitar la variable Niños, Niñas, Adolescentes y Jóvenes SENAME. Digite Cero si no tiene.",IF(AR44>B44," * La variable Niños, Niñas, Adolescentes y Jóvenes SENAME No puede ser mayor al Total.","")) | BS44: =IF(AND(B44>0,AS44="")," * No olvide digitar la variable Niños, Niñas, Adolescentes y Jóvenes Mejor Niñez. Digite Cero si no tiene.",IF(AS44>B44," * La variable Niños, Niñas, Adolescentes y Jóvenes Mejor Niñez No puede ser mayor al Total.","")) | BU44: =IF(AND(B44>0,AO44=""),1,IF(AO44>B44,1,0)) -> 0 | BV44: =IF(AND(B44>0,AP44=""),1,IF(AP44>B44,1,0)) -> 0 | BW44: =IF(AND(B44>0,AQ44=""),1,IF(AQ44>B44,1,0)) -> 0 | BX44: =IF(AND(B44>0,AR44=""),1,IF(AR44>B44,1,0)) -> 0 | BY44: =IF(AND(B44>0,AS44=""),1,IF(AS44>B44,1,0)) -> 0
A45: Tecnólogo/a Médico/a (Excluye UAPO) | B45: =SUM(C45:D45) -> 0 | C45: =SUM(E45+G45+I45+K45+M45+O45+Q45+S45+U45+W45+Y45+AA45+AC45+AE45+AG45+AI45+AK45+AM45) -> 0 | D45: =SUM(F45+H45+J45+L45+N45+P45+R45+T45+V45+X45+Z45+AB45+AD45+AF45+AH45+AJ45+AL45+AN45) -> 0 | AT45: =BO45&BP45&BQ45&BR45&BS45 | BO45: =IF(AND(B45>0,AO45="")," * No olvide digitar la variable Pueblos originarios. Digite Cero si no tiene.",IF(AO45>B45," * La variable Pueblos originarios No puede ser mayor al Total.","")) | BP45: =IF(AND(B45>0,AP45="")," * No olvide digitar la variable Migrantes. Digite Cero si no tiene.",IF(AP45>B45," * La variable Migrantes No puede ser mayor al Total.","")) | BQ45: =IF(AND(B45>0,AQ45="")," * No olvide digitar la variable Espacios Amigables. Digite Cero si no tiene.",IF(AQ45>B45," * La variable Espacios Amigables No puede ser mayor al Total.","")) | BR45: =IF(AND(B45>0,AR45="")," * No olvide digitar la variable Niños, Niñas, Adolescentes y Jóvenes SENAME. Digite Cero si no tiene.",IF(AR45>B45," * La variable Niños, Niñas, Adolescentes y Jóvenes SENAME No puede ser mayor al Total.","")) | BS45: =IF(AND(B45>0,AS45="")," * No olvide digitar la variable Niños, Niñas, Adolescentes y Jóvenes Mejor Niñez. Digite Cero si no tiene.",IF(AS45>B45," * La variable Niños, Niñas, Adolescentes y Jóvenes Mejor Niñez No puede ser mayor al Total.","")) | BU45: =IF(AND(B45>0,AO45=""),1,IF(AO45>B45,1,0)) -> 0 | BV45: =IF(AND(B45>0,AP45=""),1,IF(AP45>B45,1,0)) -> 0 | BW45: =IF(AND(B45>0,AQ45=""),1,IF(AQ45>B45,1,0)) -> 0 | BX45: =IF(AND(B45>0,AR45=""),1,IF(AR45>B45,1,0)) -> 0 | BY45: =IF(AND(B45>0,AS45=""),1,IF(AS45>B45,1,0)) -> 0
A46: Trabajador/a Social (Excluye Salud Mental) | B46: =SUM(C46:D46) -> 0 | C46: =SUM(E46+G46+I46+K46+M46+O46+Q46+S46+U46+W46+Y46+AA46+AC46+AE46+AG46+AI46+AK46+AM46) -> 0 | D46: =SUM(F46+H46+J46+L46+N46+P46+R46+T46+V46+X46+Z46+AB46+AD46+AF46+AH46+AJ46+AL46+AN46) -> 0 | AT46: =BO46&BP46&BQ46&BR46&BS46 | BO46: =IF(AND(B46>0,AO46="")," * No olvide digitar la variable Pueblos originarios. Digite Cero si no tiene.",IF(AO46>B46," * La variable Pueblos originarios No puede ser mayor al Total.","")) | BP46: =IF(AND(B46>0,AP46="")," * No olvide digitar la variable Migrantes. Digite Cero si no tiene.",IF(AP46>B46," * La variable Migrantes No puede ser mayor al Total.","")) | BQ46: =IF(AND(B46>0,AQ46="")," * No olvide digitar la variable Espacios Amigables. Digite Cero si no tiene.",IF(AQ46>B46," * La variable Espacios Amigables No puede ser mayor al Total.","")) | BR46: =IF(AND(B46>0,AR46="")," * No olvide digitar la variable Niños, Niñas, Adolescentes y Jóvenes SENAME. Digite Cero si no tiene.",IF(AR46>B46," * La variable Niños, Niñas, Adolescentes y Jóvenes SENAME No puede ser mayor al Total.","")) | BS46: =IF(AND(B46>0,AS46="")," * No olvide digitar la variable Niños, Niñas, Adolescentes y Jóvenes Mejor Niñez. Digite Cero si no tiene.",IF(AS46>B46," * La variable Niños, Niñas, Adolescentes y Jóvenes Mejor Niñez No puede ser mayor al Total.","")) | BU46: =IF(AND(B46>0,AO46=""),1,IF(AO46>B46,1,0)) -> 0 | BV46: =IF(AND(B46>0,AP46=""),1,IF(AP46>B46,1,0)) -> 0 | BW46: =IF(AND(B46>0,AQ46=""),1,IF(AQ46>B46,1,0)) -> 0 | BX46: =IF(AND(B46>0,AR46=""),1,IF(AR46>B46,1,0)) -> 0 | BY46: =IF(AND(B46>0,AS46=""),1,IF(AS46>B46,1,0)) -> 0
A47: Educadora de Párvulos | B47: =SUM(C47:D47) -> 0 | C47: =SUM(E47+G47+I47) -> 0 | D47: =SUM(F47+H47+J47) -> 0 | AT47: =BO47&BP47&BQ47&BR47&BS47 | BO47: =IF(AND(B47>0,AO47="")," * No olvide digitar la variable Pueblos originarios. Digite Cero si no tiene.",IF(AO47>B47," * La variable Pueblos originarios No puede ser mayor al Total.","")) | BP47: =IF(AND(B47>0,AP47="")," * No olvide digitar la variable Migrantes. Digite Cero si no tiene.",IF(AP47>B47," * La variable Migrantes No puede ser mayor al Total.","")) | BQ47: =IF(AND(B47>0,AQ47="")," * No olvide digitar la variable Espacios Amigables. Digite Cero si no tiene.",IF(AQ47>B47," * La variable Espacios Amigables No puede ser mayor al Total.","")) | BR47: =IF(AND(B47>0,AR47="")," * No olvide digitar la variable Niños, Niñas, Adolescentes y Jóvenes SENAME. Digite Cero si no tiene.",IF(AR47>B47," * La variable Niños, Niñas, Adolescentes y Jóvenes SENAME No puede ser mayor al Total.","")) | BS47: =IF(AND(B47>0,AS47="")," * No olvide digitar la variable Niños, Niñas, Adolescentes y Jóvenes Mejor Niñez. Digite Cero si no tiene.",IF(AS47>B47," * La variable Niños, Niñas, Adolescentes y Jóvenes Mejor Niñez No puede ser mayor al Total.","")) | BU47: =IF(AND(B47>0,AO47=""),1,IF(AO47>B47,1,0)) -> 0 | BV47: =IF(AND(B47>0,AP47=""),1,IF(AP47>B47,1,0)) -> 0 | BW47: =IF(AND(B47>0,AQ47=""),1,IF(AQ47>B47,1,0)) -> 0 | BX47: =IF(AND(B47>0,AR47=""),1,IF(AR47>B47,1,0)) -> 0 | BY47: =IF(AND(B47>0,AS47=""),1,IF(AS47>B47,1,0)) -> 0
A48: Kinesiólogo | B48: =SUM(C48:D48) -> 0 | C48: =SUM(E48+G48+I48+K48+M48+O48+Q48+S48+U48+W48+Y48+AA48+AC48+AE48+AG48+AI48+AK48+AM48) -> 0 | D48: =SUM(F48+H48+J48+L48+N48+P48+R48+T48+V48+X48+Z48+AB48+AD48+AF48+AH48+AJ48+AL48+AN48) -> 0 | AT48: =BO48&BP48&BQ48&BR48&BS48 | BO48: =IF(AND(B48>0,AO48="")," * No olvide digitar la variable Pueblos originarios. Digite Cero si no tiene.",IF(AO48>B48," * La variable Pueblos originarios No puede ser mayor al Total.","")) | BP48: =IF(AND(B48>0,AP48="")," * No olvide digitar la variable Migrantes. Digite Cero si no tiene.",IF(AP48>B48," * La variable Migrantes No puede ser mayor al Total.","")) | BQ48: =IF(AND(B48>0,AQ48="")," * No olvide digitar la variable Espacios Amigables. Digite Cero si no tiene.",IF(AQ48>B48," * La variable Espacios Amigables No puede ser mayor al Total.","")) | BR48: =IF(AND(B48>0,AR48="")," * No olvide digitar la variable Niños, Niñas, Adolescentes y Jóvenes SENAME. Digite Cero si no tiene.",IF(AR48>B48," * La variable Niños, Niñas, Adolescentes y Jóvenes SENAME No puede ser mayor al Total.","")) | BS48: =IF(AND(B48>0,AS48="")," * No olvide digitar la variable Niños, Niñas, Adolescentes y Jóvenes Mejor Niñez. Digite Cero si no tiene.",IF(AS48>B48," * La variable Niños, Niñas, Adolescentes y Jóvenes Mejor Niñez No puede ser mayor al Total.","")) | BU48: =IF(AND(B48>0,AO48=""),1,IF(AO48>B48,1,0)) -> 0 | BV48: =IF(AND(B48>0,AP48=""),1,IF(AP48>B48,1,0)) -> 0 | BW48: =IF(AND(B48>0,AQ48=""),1,IF(AQ48>B48,1,0)) -> 0 | BX48: =IF(AND(B48>0,AR48=""),1,IF(AR48>B48,1,0)) -> 0 | BY48: =IF(AND(B48>0,AS48=""),1,IF(AS48>B48,1,0)) -> 0
A49: SECCIÓN C: CONSULTAS ANTICONCEPCIÓN DE EMERGENCIA (Incluidas en Sección A o B, respectivamente.)
A50: PROFESIONAL | B50: Ambos sexos | C50: Hombres | D50: Mujeres | E50: Con entrega anticoncepción emergencia | M50: Ambos sexos | N50: Hombres | O50: Mujeres | P50: Sin entrega anticoncepción emergencia | X50: Identidad de género | Z50: Personas con discapacidad | AA50: Espacios Amigables/ Adolescentes | AB50: Pueblos Originarios | AC50: Migrantes
E51: 10 - 14 años | G51: 15 - 19 años | I51: 20 - 24 años | K51: 25 y más años | P51: 10 - 14 años | R51: 15 - 19 años | T51: 20 - 24 años | V51: 25 y más años | X51: Trans masculino | Y51: No binarie
E52: Hombres | F52: Mujeres | G52: Hombres | H52: Mujeres | I52: Hombres | J52: Mujeres | K52: Hombres | L52: Mujeres | P52: Hombres | Q52: Mujeres | R52: Hombres | S52: Mujeres | T52: Hombres | U52: Mujeres | V52: Hombres | W52: Mujeres
A53: Médico/a | B53: =SUM(C53:D53) -> 0 | C53: =+E53+G53+I53+K53 -> 0 | D53: =+F53+H53+J53+L53 -> 0 | M53: =SUM(N53:O53) -> 0 | N53: =+P53+R53+T53+V53 -> 0 | O53: =+Q53+S53+U53+W53 -> 0 | AD53: =BO53&BP53&BQ53 | BO53: =IF(AND(B53>0,AB53="")," * No olvide digitar la variable Pueblos originarios. Digite Cero si no tiene.",IF(AB53>B53," * La variable Pueblos originarios No puede ser mayor al Total.","")) | BP53: =IF(AND(B53>0,AC53="")," * No olvide digitar la variable Migrantes. Digite Cero si no tiene.",IF(AC53>B53," * La variable Migrantes No puede ser mayor al Total.","")) | BQ53: =IF(AND(B53>0,AA53="")," * No olvide digitar la variable Espacios Amigables/Adolescentes. Digite Cero si no tiene.",IF(AA53>B53," * La variable Espacios Amigables/Adolescentes No puede ser mayor al Total.","")) | BU53: =IF(AND(B53>0,AB53=""),1,IF(AB53>B53,1,0)) -> 0 | BV53: =IF(AND(B53>0,AC53=""),1,IF(AC53>B53,1,0)) -> 0 | BW53: =IF(AND(B53>0,AA53=""),1,IF(AA53>B53,1,0)) -> 0
A54: Matrona/ón | B54: =SUM(C54:D54) -> 0 | C54: =+E54+G54+I54+K54 -> 0 | D54: =+F54+H54+J54+L54 -> 0 | M54: =SUM(N54:O54) -> 0 | N54: =+P54+R54+T54+V54 -> 0 | O54: =+Q54+S54+U54+W54 -> 0 | AD54: =BO54&BP54&BQ54 | BO54: =IF(AND(B54>0,AB54="")," * No olvide digitar la variable Pueblos originarios. Digite Cero si no tiene.",IF(AB54>B54," * La variable Pueblos originarios No puede ser mayor al Total.","")) | BP54: =IF(AND(B54>0,AC54="")," * No olvide digitar la variable Migrantes. Digite Cero si no tiene.",IF(AC54>B54," * La variable Migrantes No puede ser mayor al Total.","")) | BQ54: =IF(AND(B54>0,AA54="")," * No olvide digitar la variable Espacios Amigables/Adolescentes. Digite Cero si no tiene.",IF(AA54>B54," * La variable Espacios Amigables/Adolescentes No puede ser mayor al Total.","")) | BU54: =IF(AND(B54>0,AB54=""),1,IF(AB54>B54,1,0)) -> 0 | BV54: =IF(AND(B54>0,AC54=""),1,IF(AC54>B54,1,0)) -> 0 | BW54: =IF(AND(B54>0,AA54=""),1,IF(AA54>B54,1,0)) -> 0
A55: SECCIÓN D: CONSULTAS EN HORARIO CONTINUADO (Incluidas en las consultas de morbilidad de sección A o B)
A56: TIPO JORNADA | B56: TOTAL | E56: RANGO ETARIO | W56: Pueblos Originarios | X56: Migrantes
E57: Menos de 1 año | F57: 1 - 4 años | G57: 5 - 9 años | H57: 10 - 14 años | I57: 15 - 19 años | J57: 20 - 24 años | K57: 25 - 29 años | L57: 30 - 34 años | M57: 35 - 39 años | N57: 40 - 44 años | O57: 45 - 49 años | P57: 50 - 54 años | Q57: 55 - 59 años | R57: 60 - 64 años | S57: 65 - 69 años | T57: 70 - 74 años | U57: 75 - 79 años | V57: 80 y mas años
B58: Ambos Sexos | C58: Hombres | D58: Mujeres
A59: Horario continuado | B59: =SUM(B60:B61) -> 0 | C59: =SUM(C60:C61) -> 0 | D59: =SUM(D60:D61) -> 0 | E59: =SUM(E60:E61) -> 0 | F59: =SUM(F60:F61) -> 0 | G59: =SUM(G60:G61) -> 0 | H59: =SUM(H60:H61) -> 0 | I59: =SUM(I60:I61) -> 0 | ... X59: =SUM(X60:X61) -> 0
A60: Médico/a | B60: =SUM(C60:D60) -> 0 | Y60: =BO60&BP60&BQ60 | BO60: =IF(AND(B60>0,W60="")," * No olvide digitar la variable Pueblos originarios. Digite Cero si no tiene.",IF(W60>B60," * La variable Pueblos originarios No puede ser mayor al Total.","")) | BP60: =IF(AND(B60>0,X60="")," * No olvide digitar la variable Migrantes. Digite Cero si no tiene.",IF(X60>B60," * La variable Migrantes No puede ser mayor al Total.","")) | BQ60: =IF((C60+D60)<>SUM(E60:V60)," * Los datos desglosados por edad debe ser igual al total de ambos sexos.","") | BU60: =IF(AND(B60>0,W60=""),1,IF(W60>B60,1,0)) -> 0 | BV60: =IF(AND(B60>0,X60=""),1,IF(X60>B60,1,0)) -> 0 | BW60: =IF((C60+D60)<>SUM(E60:V60),1,0) -> 0
A61: Otros Profesionales | B61: =SUM(C61:D61) -> 0 | Y61: =BO61&BP61&BQ61 | BO61: =IF(AND(B61>0,W61="")," * No olvide digitar la variable Pueblos originarios. Digite Cero si no tiene.",IF(W61>B61," * La variable Pueblos originarios No puede ser mayor al Total.","")) | BP61: =IF(AND(B61>0,X61="")," * No olvide digitar la variable Migrantes. Digite Cero si no tiene.",IF(X61>B61," * La variable Migrantes No puede ser mayor al Total.","")) | BQ61: =IF((C61+D61)<>SUM(E61:V61)," * Los datos desglosados por edad debe ser igual al total de ambos sexos.","") | BU61: =IF(AND(B61>0,W61=""),1,IF(W61>B61,1,0)) -> 0 | BV61: =IF(AND(B61>0,X61=""),1,IF(X61>B61,1,0)) -> 0 | BW61: =IF((C61+D61)<>SUM(E61:V61),1,0) -> 0
A62: Sábado, Domingo o festivo | B62: =SUM(B63:B64) -> 0 | C62: =SUM(C63:C64) -> 0 | D62: =SUM(D63:D64) -> 0 | E62: =SUM(E63:E64) -> 0 | F62: =SUM(F63:F64) -> 0 | G62: =SUM(G63:G64) -> 0 | H62: =SUM(H63:H64) -> 0 | I62: =SUM(I63:I64) -> 0 | ... X62: =SUM(X63:X64) -> 0
A63: Médico/a | B63: =SUM(C63:D63) -> 0 | Y63: =BO63&BP63&BQ63 | BO63: =IF(AND(B63>0,W63="")," * No olvide digitar la variable Pueblos originarios. Digite Cero si no tiene.",IF(W63>B63," * La variable Pueblos originarios No puede ser mayor al Total.","")) | BP63: =IF(AND(B63>0,X63="")," * No olvide digitar la variable Migrantes. Digite Cero si no tiene.",IF(X63>B63," * La variable Migrantes No puede ser mayor al Total.","")) | BQ63: =IF((C63+D63)<>SUM(E63:V63)," * Los datos desglosados por edad debe ser igual al total de ambos sexos.","") | BU63: =IF(AND(B63>0,W63=""),1,IF(W63>B63,1,0)) -> 0 | BV63: =IF(AND(B63>0,X63=""),1,IF(X63>B63,1,0)) -> 0 | BW63: =IF((C63+D63)<>SUM(E63:V63),1,0) -> 0
A64: Otros Profesionales | B64: =SUM(C64:D64) -> 0 | Y64: =BO64&BP64&BQ64 | BO64: =IF(AND(B64>0,W64="")," * No olvide digitar la variable Pueblos originarios. Digite Cero si no tiene.",IF(W64>B64," * La variable Pueblos originarios No puede ser mayor al Total.","")) | BP64: =IF(AND(B64>0,X64="")," * No olvide digitar la variable Migrantes. Digite Cero si no tiene.",IF(X64>B64," * La variable Migrantes No puede ser mayor al Total.","")) | BQ64: =IF((C64+D64)<>SUM(E64:V64)," * Los datos desglosados por edad debe ser igual al total de ambos sexos.","") | BU64: =IF(AND(B64>0,W64=""),1,IF(W64>B64,1,0)) -> 0 | BV64: =IF(AND(B64>0,X64=""),1,IF(X64>B64,1,0)) -> 0 | BW64: =IF((C64+D64)<>SUM(E64:V64),1,0) -> 0
A65: SECCIÓN E: CONSULTA ABREVIADA
A66: PROFESIONAL | B66: TOTAL
A67: Médico/a
A68: Matrona/ón
A69: SECCIÓN F: ATENCIONES DE SANADORES INDÍGENA
A70: COMPONENTE | C70: TOTAL | F70: RANGO ETARIO Y SEXO
C71: Ambos Sexos | D71: Hombre | E71: Mujer | F71: 0 - 4 años | H71: 5 - 9 años | J71: 10 - 14 años | L71: 15 - 19 años | N71: 20 - 24 años | P71: 25 - 29 años | R71: 30 - 34 años | T71: 35 - 39 años | V71: 40 - 44 años | X71: 45 - 49 años | Z71: 50 - 54 años | AB71: 55 - 59 años | AD71: 60 - 64 años | AF71: 65 - 69 años | AH71: 70 - 74 años | AJ71: 75 - 79 años | AL71: 80 y mas años
F72: Hombre | G72: Mujer | H72: Hombre | I72: Mujer | J72: Hombre | K72: Mujer | L72: Hombre | M72: Mujer | N72: Hombre | O72: Mujer | P72: Hombre | Q72: Mujer | R72: Hombre | S72: Mujer | T72: Hombre | U72: Mujer | V72: Hombre | W72: Mujer | X72: Hombre | Y72: Mujer | Z72: Hombre | AA72: Mujer | AB72: Hombre | AC72: Mujer | AD72: Hombre | AE72: Mujer | AF72: Hombre | AG72: Mujer | AH72: Hombre | AI72: Mujer | AJ72: Hombre | AK72: Mujer | AL72: Hombre | AM72: Mujer
A73: Atenciones por sanadores/terapeutas de Medicina Indígena | B73: Pueblos originarios | C73: =SUM(D73,E73) -> 26 | D73: =SUM(F73,H73,J73,L73,N73,P73,R73,T73,V73,X73,Z73,AB73,AD73,AF73,AH73,AJ73,AL73) -> 11 | E73: =SUM(G73,I73,K73,M73,O73,Q73,S73,U73,W73,Y73,AA73,AC73,AE73,,AG73,AI73,AK73,AM73) -> 15 | F73: =SUM(ENERO:DICIEMBRE!F73) -> 0 | G73: =SUM(ENERO:DICIEMBRE!G73) -> 0 | H73: =SUM(ENERO:DICIEMBRE!H73) -> 0 | I73: =SUM(ENERO:DICIEMBRE!I73) -> 0 | J73: =SUM(ENERO:DICIEMBRE!J73) -> 0 | K73: =SUM(ENERO:DICIEMBRE!K73) -> 0 | L73: =SUM(ENERO:DICIEMBRE!L73) -> 0 | M73: =SUM(ENERO:DICIEMBRE!M73) -> 0 | ... AM73: =SUM(ENERO:DICIEMBRE!AM73) -> 0
B74: Pueblos no originarios | C74: =SUM(D74,E74) -> 0 | D74: =SUM(F74,H74,J74,L74,N74,P74,R74,T74,V74,X74,Z74,AB74,AD74,AF74,AH74,AJ74,AL74) -> 0 | E74: =SUM(G74,I74,K74,M74,O74,Q74,S74,U74,W74,Y74,AA74,AC74,AE74,,AG74,AI74,AK74,AM74) -> 0 | F74: =SUM(ENERO:DICIEMBRE!F74) -> 0 | G74: =SUM(ENERO:DICIEMBRE!G74) -> 0 | H74: =SUM(ENERO:DICIEMBRE!H74) -> 0 | I74: =SUM(ENERO:DICIEMBRE!I74) -> 0 | J74: =SUM(ENERO:DICIEMBRE!J74) -> 0 | K74: =SUM(ENERO:DICIEMBRE!K74) -> 0 | L74: =SUM(ENERO:DICIEMBRE!L74) -> 0 | M74: =SUM(ENERO:DICIEMBRE!M74) -> 0 | ... AM74: =SUM(ENERO:DICIEMBRE!AM74) -> 0
A75: TOTAL | C75: =SUM(D75:E75) -> 26 | D75: =SUM(F75,H75,J75,L75,N75,P75,R75,T75,V75,X75,Z75,AB75,AD75,AF75,AH75,AJ75,AL75) -> 11 | E75: =SUM(G75,I75,K75,M75,O75,Q75,S75,U75,W75,Y75,AA75,AC75,AE75,,AG75,AI75,AK75,AM75) -> 15 | F75: =SUM(F73:F74) -> 0 | G75: =SUM(G73:G74) -> 0 | H75: =SUM(H73:H74) -> 0 | I75: =SUM(I73:I74) -> 0 | J75: =SUM(J73:J74) -> 0 | K75: =SUM(K73:K74) -> 0 | L75: =SUM(L73:L74) -> 0 | M75: =SUM(M73:M74) -> 0 | ... AM75: =SUM(AM73:AM74) -> 0
A76: SECCIÓN G: INTERVENCIÓN INDIVIDUAL DEL USUARIO EN PROGRAMA ELIGE VIDA SANA
A77: PROFESIONAL | B77: PRESTACIÓN | C77: TOTAL | F77: RANGO ETARIO Y SEXO | AJ77: Gestantes | AK77: Post Parto | AL77: Pueblos Originarios | AM77: Migrantes | AN77: Espacios Amigables/ Adolescentes
F78: Menos de 2 años | H78: 2 - 4 años | J78: 5 - 9 años | L78: 10 - 14 años | N78: 15 - 18 años | P78: 19 años | R78: 20 - 24 años | T78: 25 - 29 años | V78: 30 - 34 años | X78: 35 - 39 años | Z78: 40 - 44 años | AB78: 45 - 49 años | AD78: 50 - 54 años | AF78: 55 - 59 años | AH78: 60 - 64 años
C79: Ambos Sexos | D79: Hombres | E79: Mujeres | F79: Hombres | G79: Mujeres | H79: Hombres | I79: Mujeres | J79: Hombres | K79: Mujeres | L79: Hombres | M79: Mujeres | N79: Hombres | O79: Mujeres | P79: Hombres | Q79: Mujeres | R79: Hombres | S79: Mujeres | T79: Hombres | U79: Mujeres | V79: Hombres | W79: Mujeres | X79: Hombres | Y79: Mujeres | Z79: Hombres | AA79: Mujeres | AB79: Hombres | AC79: Mujeres | AD79: Hombres | AE79: Mujeres | AF79: Hombres | AG79: Mujeres | AH79: Hombres | AI79: Mujeres
A80: Profesional de la actividad física | B80: Evaluación | C80: =SUM(D80:E80) -> 0 | D80: =SUM(F80,H80,J80,L80,N80,P80,R80,T80,V80,X80,Z80,AB80,AD80,AF80,AH80) -> 0 | E80: =SUM(G80,I80,K80,M80,O80,Q80,S80,U80,W80,Y80,AA80,AC80,AE80,AG80,AI80) -> 0 | AO80: =BO80&BP80&BQ80&BR80&BS80 | BO80: =IF(AND(E80>0,AJ80="")," * No olvide digitar la variable Gestantes. Digite Cero si no tiene.",IF(AJ80>E80," * La variable Gestantes No puede ser mayor al Total Mujeres.","")) | BP80: =IF(AND(E80>0,AK80="")," * No olvide digitar la variable Postparto. Digite Cero si no tiene.",IF(AK80>E80," * La variable Postparto No puede ser mayor al Total Mujeres.","")) | BQ80: =IF(AND(C80>0,AL80="")," * No olvide digitar la variable Pueblos originarios. Digite Cero si no tiene.",IF(AL80>C80," * La variable Pueblos originarios No puede ser mayor al Total.","")) | BR80: =IF(AND(C80>0,AM80="")," * No olvide digitar la variable Migrantes. Digite Cero si no tiene.",IF(AM80>C80," * La variable Migrantes No puede ser mayor al Total.","")) | BS80: =IF(AND(C80>0,AN80="")," * No olvide digitar la variable Espacios Amigables/adolescentes. Digite Cero si no tiene.",IF(AN80>C80," * La variable Espacios Amigables/adolescentes No puede ser mayor al Total.","")) | BU80: =IF(AND(E80>0,AJ80=""),1,IF(AJ80>E80,1,0)) -> 0 | BV80: =IF(AND(E80>0,AK80=""),1,IF(AK80>E80,1,0)) -> 0 | BW80: =IF(AND(C80>0,AL80=""),1,IF(AL80>C80,1,0)) -> 0 | BX80: =IF(AND(C80>0,AM80=""),1,IF(AM80>C80,1,0)) -> 0 | BY80: =IF(AND(C80>0,AN80=""),1,IF(AN80>C80,1,0)) -> 0
A81: Nutricionista | B81: Consulta Nutricional | C81: =SUM(D81:E81) -> 0 | D81: =SUM(F81,H81,J81,L81,N81,P81,R81,T81,V81,X81,Z81,AB81,AD81,AF81,AH81) -> 0 | E81: =SUM(G81,I81,K81,M81,O81,Q81,S81,U81,W81,Y81,AA81,AC81,AE81,AG81,AI81) -> 0 | AO81: =BO81&BP81&BQ81&BR81&BS81 | BO81: =IF(AND(E81>0,AJ81="")," * No olvide digitar la variable Gestantes. Digite Cero si no tiene.",IF(AJ81>E81," * La variable Gestantes No puede ser mayor al Total Mujeres.","")) | BP81: =IF(AND(E81>0,AK81="")," * No olvide digitar la variable Postparto. Digite Cero si no tiene.",IF(AK81>E81," * La variable Postparto No puede ser mayor al Total Mujeres.","")) | BQ81: =IF(AND(C81>0,AL81="")," * No olvide digitar la variable Pueblos originarios. Digite Cero si no tiene.",IF(AL81>C81," * La variable Pueblos originarios No puede ser mayor al Total.","")) | BR81: =IF(AND(C81>0,AM81="")," * No olvide digitar la variable Migrantes. Digite Cero si no tiene.",IF(AM81>C81," * La variable Migrantes No puede ser mayor al Total.","")) | BS81: =IF(AND(C81>0,AN81="")," * No olvide digitar la variable Espacios Amigables/adolescentes. Digite Cero si no tiene.",IF(AN81>C81," * La variable Espacios Amigables/adolescentes No puede ser mayor al Total.","")) | BU81: =IF(AND(E81>0,AJ81=""),1,IF(AJ81>E81,1,0)) -> 0 | BV81: =IF(AND(E81>0,AK81=""),1,IF(AK81>E81,1,0)) -> 0 | BW81: =IF(AND(C81>0,AL81=""),1,IF(AL81>C81,1,0)) -> 0 | BX81: =IF(AND(C81>0,AM81=""),1,IF(AM81>C81,1,0)) -> 0 | BY81: =IF(AND(C81>0,AN81=""),1,IF(AN81>C81,1,0)) -> 0
B82: Consulta Nutricional de seguimiento | C82: =SUM(D82:E82) -> 0 | D82: =SUM(F82,H82,J82,L82,N82,P82,R82,T82,V82,X82,Z82,AB82,AD82,AF82,AH82) -> 0 | E82: =SUM(G82,I82,K82,M82,O82,Q82,S82,U82,W82,Y82,AA82,AC82,AE82,AG82,AI82) -> 0 | AO82: =BO82&BP82&BQ82&BR82&BS82 | BO82: =IF(AND(E82>0,AJ82="")," * No olvide digitar la variable Gestantes. Digite Cero si no tiene.",IF(AJ82>E82," * La variable Gestantes No puede ser mayor al Total Mujeres.","")) | BP82: =IF(AND(E82>0,AK82="")," * No olvide digitar la variable Postparto. Digite Cero si no tiene.",IF(AK82>E82," * La variable Postparto No puede ser mayor al Total Mujeres.","")) | BQ82: =IF(AND(C82>0,AL82="")," * No olvide digitar la variable Pueblos originarios. Digite Cero si no tiene.",IF(AL82>C82," * La variable Pueblos originarios No puede ser mayor al Total.","")) | BR82: =IF(AND(C82>0,AM82="")," * No olvide digitar la variable Migrantes. Digite Cero si no tiene.",IF(AM82>C82," * La variable Migrantes No puede ser mayor al Total.","")) | BS82: =IF(AND(C82>0,AN82="")," * No olvide digitar la variable Espacios Amigables/adolescentes. Digite Cero si no tiene.",IF(AN82>C82," * La variable Espacios Amigables/adolescentes No puede ser mayor al Total.","")) | BU82: =IF(AND(E82>0,AJ82=""),1,IF(AJ82>E82,1,0)) -> 0 | BV82: =IF(AND(E82>0,AK82=""),1,IF(AK82>E82,1,0)) -> 0 | BW82: =IF(AND(C82>0,AL82=""),1,IF(AL82>C82,1,0)) -> 0 | BX82: =IF(AND(C82>0,AM82=""),1,IF(AM82>C82,1,0)) -> 0 | BY82: =IF(AND(C82>0,AN82=""),1,IF(AN82>C82,1,0)) -> 0
A83: Psicólogo/a | B83: Consulta | C83: =SUM(D83:E83) -> 0 | D83: =SUM(F83,H83,J83,L83,N83,P83,R83,T83,V83,X83,Z83,AB83,AD83,AF83,AH83) -> 0 | E83: =SUM(G83,I83,K83,M83,O83,Q83,S83,U83,W83,Y83,AA83,AC83,AE83,AG83,AI83) -> 0 | AO83: =BO83&BP83&BQ83&BR83&BS83 | BO83: =IF(AND(E83>0,AJ83="")," * No olvide digitar la variable Gestantes. Digite Cero si no tiene.",IF(AJ83>E83," * La variable Gestantes No puede ser mayor al Total Mujeres.","")) | BP83: =IF(AND(E83>0,AK83="")," * No olvide digitar la variable Postparto. Digite Cero si no tiene.",IF(AK83>E83," * La variable Postparto No puede ser mayor al Total Mujeres.","")) | BQ83: =IF(AND(C83>0,AL83="")," * No olvide digitar la variable Pueblos originarios. Digite Cero si no tiene.",IF(AL83>C83," * La variable Pueblos originarios No puede ser mayor al Total.","")) | BR83: =IF(AND(C83>0,AM83="")," * No olvide digitar la variable Migrantes. Digite Cero si no tiene.",IF(AM83>C83," * La variable Migrantes No puede ser mayor al Total.","")) | BS83: =IF(AND(C83>0,AN83="")," * No olvide digitar la variable Espacios Amigables/adolescentes. Digite Cero si no tiene.",IF(AN83>C83," * La variable Espacios Amigables/adolescentes No puede ser mayor al Total.","")) | BU83: =IF(AND(E83>0,AJ83=""),1,IF(AJ83>E83,1,0)) -> 0 | BV83: =IF(AND(E83>0,AK83=""),1,IF(AK83>E83,1,0)) -> 0 | BW83: =IF(AND(C83>0,AL83=""),1,IF(AL83>C83,1,0)) -> 0 | BX83: =IF(AND(C83>0,AM83=""),1,IF(AM83>C83,1,0)) -> 0 | BY83: =IF(AND(C83>0,AN83=""),1,IF(AN83>C83,1,0)) -> 0
A84: SECCIÓN H.1 : SERVICIOS FARMACÉUTICOS EN ATENCIÓN PRIMARIA
A85: COMPONENTE | C85: Atención abierta | D85: Atención cerrada | E85: Servicios Farmacéuticos realizados en establecimientos de salud | F85: Servicios Farmacéuticos realizados en domicilio
A87: Atención Farmacéutica
A88: Revisión de la medicación sin entrevista
A89: Revisión de la mediación con entrevista
A90: Conciliación farmacéutica
A91: Educación farmacéutica
A92: Seguimiento Farmacoterapéutico
A93: Farmacovigilancia
A94: Reporte reacción adversa a medicamentos
A95: Reporte falla de calidad
A96: Reporte de eventos adversos asociados a medicamentos
A97: SECCIÓN H.2 : SERVICIOS FARMACÉUTICOS EN ATENCIÓN HOSPITALARIA
A98: COMPONENTE | B98: TOTAL | C98: Atención abierta | D98: Atención cerrada | E98: Urgencia
A100: Atención Farmacéutica
A101: Revisión de la medicación sin entrevista | B101: =SUM(C101:E101) -> 985 | C101: =SUM(ENERO:DICIEMBRE!C101) -> 814 | D101: =SUM(ENERO:DICIEMBRE!D101) -> 171 | E101: =SUM(ENERO:DICIEMBRE!E101) -> 0
A102: Revisión de la mediación con entrevista | B102: =SUM(C102:E102) -> 0 | C102: =SUM(ENERO:DICIEMBRE!C102) -> 0 | D102: =SUM(ENERO:DICIEMBRE!D102) -> 0 | E102: =SUM(ENERO:DICIEMBRE!E102) -> 0
A103: Conciliación farmacéutica | B103: =SUM(C103:E103) -> 14 | C103: =SUM(ENERO:DICIEMBRE!C103) -> 0 | D103: =SUM(ENERO:DICIEMBRE!D103) -> 14 | E103: =SUM(ENERO:DICIEMBRE!E103) -> 0
...

Sheet ENERO
A1: SERVICIO DE SALUD
A2: =CONCATENATE("COMUNA: ",[2]NOMBRE!B2, " (",[2]NOMBRE!C2,[2]NOMBRE!D2,[2]NOMBRE!E2,[2]NOMBRE!F2,[2]NOMBRE!G2,")") -> COMUNA: LINARES (07401)
A3: =CONCATENATE("ESTABLECIMIENTO/ESTRATEGIA: ", [2]NOMBRE!B3, " (",[2]NOMBRE!C3,[2]NOMBRE!D3,[2]NOMBRE!E3,[2]NOMBRE!F3,[2]NOMBRE!G3,[2]NOMBRE!H3,")") -> ESTABLECIMIENTO/ESTRATEGIA: HOSPITAL PRESIDENTE CARLOS IBAÑEZ DEL CAMPO (116108)
A4: =CONCATENATE("MES: ",[2]NOMBRE!B6, " (",[2]NOMBRE!C6,[2]NOMBRE!D6,")") -> MES: ENERO (01)
A5: =CONCATENATE("AÑO: ",[2]NOMBRE!B7) -> AÑO: 2025
A6: REM-A04. CONSULTAS Y OTRAS ATENCIONES EN LA RED
A8: SECCIÓN A: CONSULTAS MÉDICAS
A9: TIPO DE CONSULTA | B9: TOTAL | E9: RANGO ETARIO Y SEXO | AO9: Pueblos Originarios | AP9: Migrantes | AQ9: Niños, Niñas, Adolescentes y Jóvenes SENAME | AR9: Niños, Niñas, Adolescentes y Jóvenes Mejor Niñez | AS9: Por Campaña de Invierno
E10: Menos de 1 año | G10: 1 - 4 años | I10: 5 - 9 años | K10: 10 - 14 años | M10: 15 - 19 años | O10: 20 - 24 años | Q10: 25 - 29 años | S10: 30 - 34 años | U10: 35 - 39 años | W10: 40 - 44 años | Y10: 45 - 49 años | AA10: 50 - 54 años | AC10: 55 - 59 años | AE10: 60 - 64 años | AG10: 65 - 69 años | AI10: 70 - 74 años | AK10: 75 - 79 años | AM10: 80 y mas años
B11: Ambos Sexos | C11: Hombres | D11: Mujeres | E11: Hombres | F11: Mujeres | G11: Hombres | H11: Mujeres | I11: Hombres | J11: Mujeres | K11: Hombres | L11: Mujeres | M11: Hombres | N11: Mujeres | O11: Hombres | P11: Mujeres | Q11: Hombres | R11: Mujeres | S11: Hombres | T11: Mujeres | U11: Hombres | V11: Mujeres | W11: Hombres | X11: Mujeres | Y11: Hombres | Z11: Mujeres | AA11: Hombres | AB11: Mujeres | AC11: Hombres | AD11: Mujeres | AE11: Hombres | AF11: Mujeres | AG11: Hombres | AH11: Mujeres | AI11: Hombres | AJ11: Mujeres | AK11: Hombres | AL11: Mujeres | AM11: Hombres | AN11: Mujeres
A12: TOTAL | B12: =SUM(B13:B26) -> 0 | C12: =SUM(C13:C26) -> 0 | D12: =SUM(D13:D26) -> 0 | E12: =SUM(E13:E26) -> 0 | F12: =SUM(F13:F26) -> 0 | G12: =SUM(G13:G26) -> 0 | H12: =SUM(H13:H26) -> 0 | I12: =SUM(I13:I26) -> 0 | ... AS12: =SUM(AS13:AS26) -> 0
A13: IRA Alta | B13: =SUM(C13:D13) -> 0 | C13: =SUM(E13+G13+I13+K13+M13+O13+Q13+S13+U13+W13+Y13+AA13+AC13+AE13+AG13+AI13+AK13+AM13) -> 0 | D13: =SUM(F13+H13+J13+L13+N13+P13+R13+T13+V13+X13+Z13+AB13+AD13+AF13+AH13+AJ13+AL13+AN13) -> 0 | AT13: =BO13&BP13&BQ13&BR13&BS13 | BO13: =IF(AND(B13>0,AO13="")," * No olvide digitar la variable Pueblos originarios. Digite Cero si no tiene.",IF(AO13>B13," * La variable Pueblos originarios No puede ser mayor al Total.","")) | BP13: =IF(AND(B13>0,AP13="")," * No olvide digitar la variable Migrantes. Digite Cero si no tiene.",IF(AP13>B13," * La variable Migrantes No puede ser mayor al Total.","")) | BQ13: =IF(AND(B13>0,AQ13="")," * No olvide digitar la variable Niños, niñas, adolescentes y jóvenes SENAME. Digite Cero si no tiene.",IF(AQ13>B13," * La variable Niños, niñas, adolescentes y jóvenes SENAME No puede ser mayor al Total.","")) | BR13: =IF(AND(B13>0,AR13="")," * No olvide digitar la variable Niños, niñas, adolescentes y jóvenes Mejor niñez. Digite Cero si no tiene.",IF(AR13>B13," * La variable Niños, niñas, adolescentes y jóvenes Mejor Niñez No puede ser mayor al Total.","")) | BS13: =IF(AND(B13>0,AS13="")," * No olvide digitar la variable Por campaña de invierno. Digite Cero si no tiene.",IF(AS13>B13," * La variable Por campaña de invierno No puede ser mayor al Total.","")) | BU13: =IF(AND(B13>0,AO13=""),1,IF(AO13>B13,1,0)) -> 0 | BV13: =IF(AND(B13>0,AP13=""),1,IF(AP13>B13,1,0)) -> 0 | BW13: =IF(AND(B13>0,AQ13=""),1,IF(AQ13>B13,1,0)) -> 0 | BX13: =IF(AND(B13>0,AR13=""),1,IF(AR13>B13,1,0)) -> 0 | BY13: =IF(AND(B13>0,AS13=""),1,IF(AS13>B13,1,0)) -> 0
A14: Síndrome Bronquial Obstructivo | B14: =SUM(C14:D14) -> 0 | C14: =SUM(E14+G14+I14) -> 0 | D14: =SUM(F14+H14+J14) -> 0 | AT14: =BO14&BP14&BQ14&BR14&BS14 | BO14: =IF(AND(B14>0,AO14="")," * No olvide digitar la variable Pueblos originarios. Digite Cero si no tiene.",IF(AO14>B14," * La variable Pueblos originarios No puede ser mayor al Total.","")) | BP14: =IF(AND(B14>0,AP14="")," * No olvide digitar la variable Migrantes. Digite Cero si no tiene.",IF(AP14>B14," * La variable Migrantes No puede ser mayor al Total.","")) | BQ14: =IF(AND(B14>0,AQ14="")," * No olvide digitar la variable Niños, niñas, adolescentes y jóvenes SENAME. Digite Cero si no tiene.",IF(AQ14>B14," * La variable Niños, niñas, adolescentes y jóvenes SENAME No puede ser mayor al Total.","")) | BR14: =IF(AND(B14>0,AR14="")," * No olvide digitar la variable Niños, niñas, adolescentes y jóvenes Mejor niñez. Digite Cero si no tiene.",IF(AR14>B14," * La variable Niños, niñas, adolescentes y jóvenes Mejor Niñez No puede ser mayor al Total.","")) | BS14: =IF(AND(B14>0,AS14="")," * No olvide digitar la variable Por campaña de invierno. Digite Cero si no tiene.",IF(AS14>B14," * La variable Por campaña de invierno No puede ser mayor al Total.","")) | BU14: =IF(AND(B14>0,AO14=""),1,IF(AO14>B14,1,0)) -> 0 | BV14: =IF(AND(B14>0,AP14=""),1,IF(AP14>B14,1,0)) -> 0 | BW14: =IF(AND(B14>0,AQ14=""),1,IF(AQ14>B14,1,0)) -> 0 | BX14: =IF(AND(B14>0,AR14=""),1,IF(AR14>B14,1,0)) -> 0 | BY14: =IF(AND(B14>0,AS14=""),1,IF(AS14>B14,1,0)) -> 0
A15: Neumonía | B15: =SUM(C15:D15) -> 0 | C15: =SUM(E15+G15+I15+K15+M15+O15+Q15+S15+U15+W15+Y15+AA15+AC15+AE15+AG15+AI15+AK15+AM15) -> 0 | D15: =SUM(F15+H15+J15+L15+N15+P15+R15+T15+V15+X15+Z15+AB15+AD15+AF15+AH15+AJ15+AL15+AN15) -> 0 | AT15: =BO15&BP15&BQ15&BR15&BS15 | BO15: =IF(AND(B15>0,AO15="")," * No olvide digitar la variable Pueblos originarios. Digite Cero si no tiene.",IF(AO15>B15," * La variable Pueblos originarios No puede ser mayor al Total.","")) | BP15: =IF(AND(B15>0,AP15="")," * No olvide digitar la variable Migrantes. Digite Cero si no tiene.",IF(AP15>B15," * La variable Migrantes No puede ser mayor al Total.","")) | BQ15: =IF(AND(B15>0,AQ15="")," * No olvide digitar la variable Niños, niñas, adolescentes y jóvenes SENAME. Digite Cero si no tiene.",IF(AQ15>B15," * La variable Niños, niñas, adolescentes y jóvenes SENAME No puede ser mayor al Total.","")) | BR15: =IF(AND(B15>0,AR15="")," * No olvide digitar la variable Niños, niñas, adolescentes y jóvenes Mejor niñez. Digite Cero si no tiene.",IF(AR15>B15," * La variable Niños, niñas, adolescentes y jóvenes Mejor Niñez No puede ser mayor al Total.","")) | BS15: =IF(AND(B15>0,AS15="")," * No olvide digitar la variable Por campaña de invierno. Digite Cero si no tiene.",IF(AS15>B15," * La variable Por campaña de invierno No puede ser mayor al Total.","")) | BU15: =IF(AND(B15>0,AO15=""),1,IF(AO15>B15,1,0)) -> 0 | BV15: =IF(AND(B15>0,AP15=""),1,IF(AP15>B15,1,0)) -> 0 | BW15: =IF(AND(B15>0,AQ15=""),1,IF(AQ15>B15,1,0)) -> 0 | BX15: =IF(AND(B15>0,AR15=""),1,IF(AR15>B15,1,0)) -> 0 | BY15: =IF(AND(B15>0,AS15=""),1,IF(AS15>B15,1,0)) -> 0
A16: Exacerbación Asma | B16: =SUM(C16:D16) -> 0 | C16: =SUM(I16+K16+M16+O16+Q16+S16+U16+W16+Y16+AA16+AC16+AE16+AG16+AI16+AK16+AM16) -> 0 | D16: =SUM(J16+L16+N16+P16+R16+T16+V16+X16+Z16+AB16+AD16+AF16+AH16+AJ16+AL16+AN16) -> 0 | AT16: =BO16&BP16&BQ16&BR16&BS16 | BO16: =IF(AND(B16>0,AO16="")," * No olvide digitar la variable Pueblos originarios. Digite Cero si no tiene.",IF(AO16>B16," * La variable Pueblos originarios No puede ser mayor al Total.","")) | BP16: =IF(AND(B16>0,AP16="")," * No olvide digitar la variable Migrantes. Digite Cero si no tiene.",IF(AP16>B16," * La variable Migrantes No puede ser mayor al Total.","")) | BQ16: =IF(AND(B16>0,AQ16="")," * No olvide digitar la variable Niños, niñas, adolescentes y jóvenes SENAME. Digite Cero si no tiene.",IF(AQ16>B16," * La variable Niños, niñas, adolescentes y jóvenes SENAME No puede ser mayor al Total.","")) | BR16: =IF(AND(B16>0,AR16="")," * No olvide digitar la variable Niños, niñas, adolescentes y jóvenes Mejor niñez. Digite Cero si no tiene.",IF(AR16>B16," * La variable Niños, niñas, adolescentes y jóvenes Mejor Niñez No puede ser mayor al Total.","")) | BS16: =IF(AND(B16>0,AS16="")," * No olvide digitar la variable Por campaña de invierno. Digite Cero si no tiene.",IF(AS16>B16," * La variable Por campaña de invierno No puede ser mayor al Total.","")) | BU16: =IF(AND(B16>0,AO16=""),1,IF(AO16>B16,1,0)) -> 0 | BV16: =IF(AND(B16>0,AP16=""),1,IF(AP16>B16,1,0)) -> 0 | BW16: =IF(AND(B16>0,AQ16=""),1,IF(AQ16>B16,1,0)) -> 0 | BX16: =IF(AND(B16>0,AR16=""),1,IF(AR16>B16,1,0)) -> 0 | BY16: =IF(AND(B16>0,AS16=""),1,IF(AS16>B16,1,0)) -> 0
A17: Enfermedad Pulmonar Obstructiva Crónica | B17: =SUM(C17:D17) -> 0 | C17: =SUM(U17+W17+Y17+AA17+AC17+AE17+AG17+AI17+AK17+AM17) -> 0 | D17: =SUM(V17+X17+Z17+AB17+AD17+AF17+AH17+AJ17+AL17+AN17) -> 0 | AT17: =BO17&BP17&BQ17&BR17&BS17 | BO17: =IF(AND(B17>0,AO17="")," * No olvide digitar la variable Pueblos originarios. Digite Cero si no tiene.",IF(AO17>B17," * La variable Pueblos originarios No puede ser mayor al Total.","")) | BP17: =IF(AND(B17>0,AP17="")," * No olvide digitar la variable Migrantes. Digite Cero si no tiene.",IF(AP17>B17," * La variable Migrantes No puede ser mayor al Total.","")) | BQ17: =IF(AND(B17>0,AQ17="")," * No olvide digitar la variable Niños, niñas, adolescentes y jóvenes SENAME. Digite Cero si no tiene.",IF(AQ17>B17," * La variable Niños, niñas, adolescentes y jóvenes SENAME No puede ser mayor al Total.","")) | BR17: =IF(AND(B17>0,AR17="")," * No olvide digitar la variable Niños, niñas, adolescentes y jóvenes Mejor niñez. Digite Cero si no tiene.",IF(AR17>B17," * La variable Niños, niñas, adolescentes y jóvenes Mejor Niñez No puede ser mayor al Total.","")) | BS17: =IF(AND(B17>0,AS17="")," * No olvide digitar la variable Por campaña de invierno. Digite Cero si no tiene.",IF(AS17>B17," * La variable Por campaña de invierno No puede ser mayor al Total.","")) | BU17: =IF(AND(B17>0,AO17=""),1,IF(AO17>B17,1,0)) -> 0 | BV17: =IF(AND(B17>0,AP17=""),1,IF(AP17>B17,1,0)) -> 0 | BW17: =IF(AND(B17>0,AQ17=""),1,IF(AQ17>B17,1,0)) -> 0 | BX17: =IF(AND(B17>0,AR17=""),1,IF(AR17>B17,1,0)) -> 0 | BY17: =IF(AND(B17>0,AS17=""),1,IF(AS17>B17,1,0)) -> 0
A18: Otras respiratorias | B18: =SUM(C18:D18) -> 0 | C18: =SUM(E18+G18+I18+K18+M18+O18+Q18+S18+U18+W18+Y18+AA18+AC18+AE18+AG18+AI18+AK18+AM18) -> 0 | D18: =SUM(F18+H18+J18+L18+N18+P18+R18+T18+V18+X18+Z18+AB18+AD18+AF18+AH18+AJ18+AL18+AN18) -> 0 | AT18: =BO18&BP18&BQ18&BR18&BS18 | BO18: =IF(AND(B18>0,AO18="")," * No olvide digitar la variable Pueblos originarios. Digite Cero si no tiene.",IF(AO18>B18," * La variable Pueblos originarios No puede ser mayor al Total.","")) | BP18: =IF(AND(B18>0,AP18="")," * No olvide digitar la variable Migrantes. Digite Cero si no tiene.",IF(AP18>B18," * La variable Migrantes No puede ser mayor al Total.","")) | BQ18: =IF(AND(B18>0,AQ18="")," * No olvide digitar la variable Niños, niñas, adolescentes y jóvenes SENAME. Digite Cero si no tiene.",IF(AQ18>B18," * La variable Niños, niñas, adolescentes y jóvenes SENAME No puede ser mayor al Total.","")) | BR18: =IF(AND(B18>0,AR18="")," * No olvide digitar la variable Niños, niñas, adolescentes y jóvenes Mejor niñez. Digite Cero si no tiene.",IF(AR18>B18," * La variable Niños, niñas, adolescentes y jóvenes Mejor Niñez No puede ser mayor al Total.","")) | BS18: =IF(AND(B18>0,AS18="")," * No olvide digitar la variable Por campaña de invierno. Digite Cero si no tiene.",IF(AS18>B18," * La variable Por campaña de invierno No puede ser mayor al Total.","")) | BU18: =IF(AND(B18>0,AO18=""),1,IF(AO18>B18,1,0)) -> 0 | BV18: =IF(AND(B18>0,AP18=""),1,IF(AP18>B18,1,0)) -> 0 | BW18: =IF(AND(B18>0,AQ18=""),1,IF(AQ18>B18,1,0)) -> 0 | BX18: =IF(AND(B18>0,AR18=""),1,IF(AR18>B18,1,0)) -> 0 | BY18: =IF(AND(B18>0,AS18=""),1,IF(AS18>B18,1,0)) -> 0
A19: Obstétrica | B19: =SUM(C19:D19) -> 0 | D19: =SUM(L19+N19+P19+R19+T19+V19+X19+Z19+AB19+AD19+AF19) -> 0 | AT19: =BO19&BP19&BQ19&BR19&BS19 | BO19: =IF(AND(B19>0,AO19="")," * No olvide digitar la variable Pueblos originarios. Digite Cero si no tiene.",IF(AO19>B19," * La variable Pueblos originarios No puede ser mayor al Total.","")) | BP19: =IF(AND(B19>0,AP19="")," * No olvide digitar la variable Migrantes. Digite Cero si no tiene.",IF(AP19>B19," * La variable Migrantes No puede ser mayor al Total.","")) | BQ19: =IF(AND(B19>0,AQ19="")," * No olvide digitar la variable Niños, niñas, adolescentes y jóvenes SENAME. Digite Cero si no tiene.",IF(AQ19>B19," * La variable Niños, niñas, adolescentes y jóvenes SENAME No puede ser mayor al Total.","")) | BR19: =IF(AND(B19>0,AR19="")," * No olvide digitar la variable Niños, niñas, adolescentes y jóvenes Mejor niñez. Digite Cero si no tiene.",IF(AR19>B19," * La variable Niños, niñas, adolescentes y jóvenes Mejor Niñez No puede ser mayor al Total.","")) | BU19: =IF(AND(B19>0,AO19=""),1,IF(AO19>B19,1,0)) -> 0 | BV19: =IF(AND(B19>0,AP19=""),1,IF(AP19>B19,1,0)) -> 0 | BW19: =IF(AND(B19>0,AQ19=""),1,IF(AQ19>B19,1,0)) -> 0 | BX19: =IF(AND(B19>0,AR19=""),1,IF(AR19>B19,1,0)) -> 0
A20: Ginecológica | B20: =SUM(C20:D20) -> 0 | D20: =SUM(F20+H20+J20+L20+N20+P20+R20+T20+V20+X20+Z20+AB20+AD20+AF20+AH20+AJ20+AL20+AN20) -> 0 | AT20: =BO20&BP20&BQ20&BR20&BS20 | BO20: =IF(AND(B20>0,AO20="")," * No olvide digitar la variable Pueblos originarios. Digite Cero si no tiene.",IF(AO20>B20," * La variable Pueblos originarios No puede ser mayor al Total.","")) | BP20: =IF(AND(B20>0,AP20="")," * No olvide digitar la variable Migrantes. Digite Cero si no tiene.",IF(AP20>B20," * La variable Migrantes No puede ser mayor al Total.","")) | BQ20: =IF(AND(B20>0,AQ20="")," * No olvide digitar la variable Niños, niñas, adolescentes y jóvenes SENAME. Digite Cero si no tiene.",IF(AQ20>B20," * La variable Niños, niñas, adolescentes y jóvenes SENAME No puede ser mayor al Total.","")) | BR20: =IF(AND(B20>0,AR20="")," * No olvide digitar la variable Niños, niñas, adolescentes y jóvenes Mejor niñez. Digite Cero si no tiene.",IF(AR20>B20," * La variable Niños, niñas, adolescentes y jóvenes Mejor Niñez No puede ser mayor al Total.","")) | BU20: =IF(AND(B20>0,AO20=""),1,IF(AO20>B20,1,0)) -> 0 | BV20: =IF(AND(B20>0,AP20=""),1,IF(AP20>B20,1,0)) -> 0 | BW20: =IF(AND(B20>0,AQ20=""),1,IF(AQ20>B20,1,0)) -> 0 | BX20: =IF(AND(B20>0,AR20=""),1,IF(AR20>B20,1,0)) -> 0
A21: Ginecológica por Infertilidad | B21: =SUM(C21:D21) -> 0 | C21: =SUM(O21+Q21+S21+U21+W21+Y21+AA21) -> 0 | D21: =SUM(P21+R21+T21+V21+X21+Z21+AB21) -> 0 | AT21: =BO21&BP21&BQ21&BR21&BS21 | BO21: =IF(AND(B21>0,AO21="")," * No olvide digitar la variable Pueblos originarios. Digite Cero si no tiene.",IF(AO21>B21," * La variable Pueblos originarios No puede ser mayor al Total.","")) | BP21: =IF(AND(B21>0,AP21="")," * No olvide digitar la variable Migrantes. Digite Cero si no tiene.",IF(AP21>B21," * La variable Migrantes No puede ser mayor al Total.","")) | BQ21: =IF(AND(B21>0,AQ21="")," * No olvide digitar la variable Niños, niñas, adolescentes y jóvenes SENAME. Digite Cero si no tiene.",IF(AQ21>B21," * La variable Niños, niñas, adolescentes y jóvenes SENAME No puede ser mayor al Total.","")) | BR21: =IF(AND(B21>0,AR21="")," * No olvide digitar la variable Niños, niñas, adolescentes y jóvenes Mejor niñez. Digite Cero si no tiene.",IF(AR21>B21," * La variable Niños, niñas, adolescentes y jóvenes Mejor Niñez No puede ser mayor al Total.","")) | BU21: =IF(AND(B21>0,AO21=""),1,IF(AO21>B21,1,0)) -> 0 | BV21: =IF(AND(B21>0,AP21=""),1,IF(AP21>B21,1,0)) -> 0 | BW21: =IF(AND(B21>0,AQ21=""),1,IF(AQ21>B21,1,0)) -> 0 | BX21: =IF(AND(B21>0,AR21=""),1,IF(AR21>B21,1,0)) -> 0
A22: Infección Transmisión Sexual | B22: =SUM(C22:D22) -> 0 | C22: =SUM(E22+G22+I22+K22+M22+O22+Q22+S22+U22+W22+Y22+AA22+AC22+AE22+AG22+AI22+AK22+AM22) -> 0 | D22: =SUM(F22+H22+J22+L22+N22+P22+R22+T22+V22+X22+Z22+AB22+AD22+AF22+AH22+AJ22+AL22+AN22) -> 0 | AT22: =BO22&BP22&BQ22&BR22&BS22 | BO22: =IF(AND(B22>0,AO22="")," * No olvide digitar la variable Pueblos originarios. Digite Cero si no tiene.",IF(AO22>B22," * La variable Pueblos originarios No puede ser mayor al Total.","")) | BP22: =IF(AND(B22>0,AP22="")," * No olvide digitar la variable Migrantes. Digite Cero si no tiene.",IF(AP22>B22," * La variable Migrantes No puede ser mayor al Total.","")) | BQ22: =IF(AND(B22>0,AQ22="")," * No olvide digitar la variable Niños, niñas, adolescentes y jóvenes SENAME. Digite Cero si no tiene.",IF(AQ22>B22," * La variable Niños, niñas, adolescentes y jóvenes SENAME No puede ser mayor al Total.","")) | BR22: =IF(AND(B22>0,AR22="")," * No olvide digitar la variable Niños, niñas, adolescentes y jóvenes Mejor niñez. Digite Cero si no tiene.",IF(AR22>B22," * La variable Niños, niñas, adolescentes y jóvenes Mejor Niñez No puede ser mayor al Total.","")) | BU22: =IF(AND(B22>0,AO22=""),1,IF(AO22>B22,1,0)) -> 0 | BV22: =IF(AND(B22>0,AP22=""),1,IF(AP22>B22,1,0)) -> 0 | BW22: =IF(AND(B22>0,AQ22=""),1,IF(AQ22>B22,1,0)) -> 0 | BX22: =IF(AND(B22>0,AR22=""),1,IF(AR22>B22,1,0)) -> 0
A23: VIH-SIDA | B23: =SUM(C23:D23) -> 0 | C23: =SUM(E23+G23+I23+K23+M23+O23+Q23+S23+U23+W23+Y23+AA23+AC23+AE23+AG23+AI23+AK23+AM23) -> 0 | D23: =SUM(F23+H23+J23+L23+N23+P23+R23+T23+V23+X23+Z23+AB23+AD23+AF23+AH23+AJ23+AL23+AN23) -> 0 | AT23: =BO23&BP23&BQ23&BR23&BS23 | BO23: =IF(AND(B23>0,AO23="")," * No olvide digitar la variable Pueblos originarios. Digite Cero si no tiene.",IF(AO23>B23," * La variable Pueblos originarios No puede ser mayor al Total.","")) | BP23: =IF(AND(B23>0,AP23="")," * No olvide digitar la variable Migrantes. Digite Cero si no tiene.",IF(AP23>B23," * La variable Migrantes No puede ser mayor al Total.","")) | BQ23: =IF(AND(B23>0,AQ23="")," * No olvide digitar la variable Niños, niñas, adolescentes y jóvenes SENAME. Digite Cero si no tiene.",IF(AQ23>B23," * La variable Niños, niñas, adolescentes y jóvenes SENAME No puede ser mayor al Total.","")) | BR23: =IF(AND(B23>0,AR23="")," * No olvide digitar la variable Niños, niñas, adolescentes y jóvenes Mejor niñez. Digite Cero si no tiene.",IF(AR23>B23," * La variable Niños, niñas, adolescentes y jóvenes Mejor Niñez No puede ser mayor al Total.","")) | BU23: =IF(AND(B23>0,AO23=""),1,IF(AO23>B23,1,0)) -> 0 | BV23: =IF(AND(B23>0,AP23=""),1,IF(AP23>B23,1,0)) -> 0 | BW23: =IF(AND(B23>0,AQ23=""),1,IF(AQ23>B23,1,0)) -> 0 | BX23: =IF(AND(B23>0,AR23=""),1,IF(AR23>B23,1,0)) -> 0
A24: Salud Mental | B24: =SUM(C24:D24) -> 0 | C24: =SUM(G24+I24+K24+M24+O24+Q24+S24+U24+W24+Y24+AA24+AC24+AE24+AG24+AI24+AK24+AM24) -> 0 | D24: =SUM(H24+J24+L24+N24+P24+R24+T24+V24+X24+Z24+AB24+AD24+AF24+AH24+AJ24+AL24+AN24) -> 0 | AT24: =BO24&BP24&BQ24&BR24&BS24 | BO24: =IF(AND(B24>0,AO24="")," * No olvide digitar la variable Pueblos originarios. Digite Cero si no tiene.",IF(AO24>B24," * La variable Pueblos originarios No puede ser mayor al Total.","")) | BP24: =IF(AND(B24>0,AP24="")," * No olvide digitar la variable Migrantes. Digite Cero si no tiene.",IF(AP24>B24," * La variable Migrantes No puede ser mayor al Total.","")) | BQ24: =IF(AND(B24>0,AQ24="")," * No olvide digitar la variable Niños, niñas, adolescentes y jóvenes SENAME. Digite Cero si no tiene.",IF(AQ24>B24," * La variable Niños, niñas, adolescentes y jóvenes SENAME No puede ser mayor al Total.","")) | BR24: =IF(AND(B24>0,AR24="")," * No olvide digitar la variable Niños, niñas, adolescentes y jóvenes Mejor niñez. Digite Cero si no tiene.",IF(AR24>B24," * La variable Niños, niñas, adolescentes y jóvenes Mejor Niñez No puede ser mayor al Total.","")) | BU24: =IF(AND(B24>0,AO24=""),1,IF(AO24>B24,1,0)) -> 0 | BV24: =IF(AND(B24>0,AP24=""),1,IF(AP24>B24,1,0)) -> 0 | BW24: =IF(AND(B24>0,AQ24=""),1,IF(AQ24>B24,1,0)) -> 0 | BX24: =IF(AND(B24>0,AR24=""),1,IF(AR24>B24,1,0)) -> 0
A25: Cardiovascular | B25: =SUM(C25:D25) -> 0 | C25: =SUM(M25+O25+Q25+S25+U25+W25+Y25+AA25+AC25+AE25+AG25+AI25+AK25+AM25) -> 0 | D25: =SUM(N25+P25+R25+T25+V25+X25+Z25+AB25+AD25+AF25+AH25+AJ25+AL25+AN25) -> 0 | AT25: =BO25&BP25&BQ25&BR25&BS25 | BO25: =IF(AND(B25>0,AO25="")," * No olvide digitar la variable Pueblos originarios. Digite Cero si no tiene.",IF(AO25>B25," * La variable Pueblos originarios No puede ser mayor al Total.","")) | BP25: =IF(AND(B25>0,AP25="")," * No olvide digitar la variable Migrantes. Digite Cero si no tiene.",IF(AP25>B25," * La variable Migrantes No puede ser mayor al Total.","")) | BQ25: =IF(AND(B25>0,AQ25="")," * No olvide digitar la variable Niños, niñas, adolescentes y jóvenes SENAME. Digite Cero si no tiene.",IF(AQ25>B25," * La variable Niños, niñas, adolescentes y jóvenes SENAME No puede ser mayor al Total.","")) | BR25: =IF(AND(B25>0,AR25="")," * No olvide digitar la variable Niños, niñas, adolescentes y jóvenes Mejor niñez. Digite Cero si no tiene.",IF(AR25>B25," * La variable Niños, niñas, adolescentes y jóvenes Mejor Niñez No puede ser mayor al Total.","")) | BU25: =IF(AND(B25>0,AO25=""),1,IF(AO25>B25,1,0)) -> 0 | BV25: =IF(AND(B25>0,AP25=""),1,IF(AP25>B25,1,0)) -> 0 | BW25: =IF(AND(B25>0,AQ25=""),1,IF(AQ25>B25,1,0)) -> 0 | BX25: =IF(AND(B25>0,AR25=""),1,IF(AR25>B25,1,0)) -> 0
A26: Otras Morbilidades | B26: =SUM(C26:D26) -> 0 | C26: =SUM(E26+G26+I26+K26+M26+O26+Q26+S26+U26+W26+Y26+AA26+AC26+AE26+AG26+AI26+AK26+AM26) -> 0 | D26: =SUM(F26+H26+J26+L26+N26+P26+R26+T26+V26+X26+Z26+AB26+AD26+AF26+AH26+AJ26+AL26+AN26) -> 0 | AT26: =BO26&BP26&BQ26&BR26&BS26 | BO26: =IF(AND(B26>0,AO26="")," * No olvide digitar la variable Pueblos originarios. Digite Cero si no tiene.",IF(AO26>B26," * La variable Pueblos originarios No puede ser mayor al Total.","")) | BP26: =IF(AND(B26>0,AP26="")," * No olvide digitar la variable Migrantes. Digite Cero si no tiene.",IF(AP26>B26," * La variable Migrantes No puede ser mayor al Total.","")) | BQ26: =IF(AND(B26>0,AQ26="")," * No olvide digitar la variable Niños, niñas, adolescentes y jóvenes SENAME. Digite Cero si no tiene.",IF(AQ26>B26," * La variable Niños, niñas, adolescentes y jóvenes SENAME No puede ser mayor al Total.","")) | BR26: =IF(AND(B26>0,AR26="")," * No olvide digitar la variable Niños, niñas, adolescentes y jóvenes Mejor niñez. Digite Cero si no tiene.",IF(AR26>B26," * La variable Niños, niñas, adolescentes y jóvenes Mejor Niñez No puede ser mayor al Total.","")) | BS26: =IF(AND(B26>0,AS26="")," * No olvide digitar la variable Por campaña de invierno. Digite Cero si no tiene.",IF(AS26>B26," * La variable Por campaña de invierno No puede ser mayor al Total.","")) | BU26: =IF(AND(B26>0,AO26=""),1,IF(AO26>B26,1,0)) -> 0 | BV26: =IF(AND(B26>0,AP26=""),1,IF(AP26>B26,1,0)) -> 0 | BW26: =IF(AND(B26>0,AQ26=""),1,IF(AQ26>B26,1,0)) -> 0 | BX26: =IF(AND(B26>0,AR26=""),1,IF(AR26>B26,1,0)) -> 0 | BY26: =IF(AND(B26>0,AS26=""),1,IF(AS26>B26,1,0)) -> 0
A27: SECCIÓN B: CONSULTAS DE PROFESIONALES NO MÉDICOS
A28: PROFESIONAL | B28: TOTAL | E28: RANGO ETARIO Y SEXO | AO28: Pueblos Originarios | AP28: Migrantes | AQ28: Espacios Amigables | AR28: Niños, Niñas, Adolescentes y Jóvenes SENAME | AS28: Niños, Niñas, Adolescentes y Jóvenes Mejor Niñez
E29: Menos de 1 año | G29: 1 - 4 años | I29: 5 - 9 años | K29: 10 - 14 años | M29: 15 - 19 años | O29: 20 - 24 años | Q29: 25 - 29 años | S29: 30 - 34 años | U29: 35 - 39 años | W29: 40 - 44 años | Y29: 45 - 49 años | AA29: 50 - 54 años | AC29: 55 - 59 años | AE29: 60 - 64 años | AG29: 65 - 69 años | AI29: 70 - 74 años | AK29: 75 - 79 años | AM29: 80 y mas años
B30: Ambos Sexos | C30: Hombres | D30: Mujeres | E30: Hombres | F30: Mujeres | G30: Hombres | H30: Mujeres | I30: Hombres | J30: Mujeres | K30: Hombres | L30: Mujeres | M30: Hombres | N30: Mujeres | O30: Hombres | P30: Mujeres | Q30: Hombres | R30: Mujeres | S30: Hombres | T30: Mujeres | U30: Hombres | V30: Mujeres | W30: Hombres | X30: Mujeres | Y30: Hombres | Z30: Mujeres | AA30: Hombres | AB30: Mujeres | AC30: Hombres | AD30: Mujeres | AE30: Hombres | AF30: Mujeres | AG30: Hombres | AH30: Mujeres | AI30: Hombres | AJ30: Mujeres | AK30: Hombres | AL30: Mujeres | AM30: Hombres | AN30: Mujeres
A31: Enfermera/o | B31: =SUM(C31:D31) -> 0 | C31: =SUM(E31+G31+I31+K31+M31+O31+Q31+S31+U31+W31+Y31+AA31+AC31+AE31+AG31+AI31+AK31+AM31) -> 0 | D31: =SUM(F31+H31+J31+L31+N31+P31+R31+T31+V31+X31+Z31+AB31+AD31+AF31+AH31+AJ31+AL31+AN31) -> 0 | AT31: =BO31&BP31&BQ31&BR31&BS31 | BO31: =IF(AND(B31>0,AO31="")," * No olvide digitar la variable Pueblos originarios. Digite Cero si no tiene.",IF(AO31>B31," * La variable Pueblos originarios No puede ser mayor al Total.","")) | BP31: =IF(AND(B31>0,AP31="")," * No olvide digitar la variable Migrantes. Digite Cero si no tiene.",IF(AP31>B31," * La variable Migrantes No puede ser mayor al Total.","")) | BQ31: =IF(AND(B31>0,AQ31="")," * No olvide digitar la variable Espacios Amigables. Digite Cero si no tiene.",IF(AQ31>B31," * La variable Espacios Amigables No puede ser mayor al Total.","")) | BR31: =IF(AND(B31>0,AR31="")," * No olvide digitar la variable Niños, Niñas, Adolescentes y Jóvenes SENAME. Digite Cero si no tiene.",IF(AR31>B31," * La variable Niños, Niñas, Adolescentes y Jóvenes SENAME No puede ser mayor al Total.","")) | BS31: =IF(AND(B31>0,AS31="")," * No olvide digitar la variable Niños, Niñas, Adolescentes y Jóvenes Mejor Niñez. Digite Cero si no tiene.",IF(AS31>B31," * La variable Niños, Niñas, Adolescentes y Jóvenes Mejor Niñez No puede ser mayor al Total.","")) | BU31: =IF(AND(B31>0,AO31=""),1,IF(AO31>B31,1,0)) -> 0 | BV31: =IF(AND(B31>0,AP31=""),1,IF(AP31>B31,1,0)) -> 0 | BW31: =IF(AND(B31>0,AQ31=""),1,IF(AQ31>B31,1,0)) -> 0 | BX31: =IF(AND(B31>0,AR31=""),1,IF(AR31>B31,1,0)) -> 0 | BY31: =IF(AND(B31>0,AS31=""),1,IF(AS31>B31,1,0)) -> 0
A32: Matrona/ón (Morb. Ginecológica) | B32: =SUM(C32:D32) -> 0 | D32: =SUM(F32+H32+J32+L32+N32+P32+R32+T32+V32+X32+Z32+AB32+AD32+AF32+AH32+AJ32+AL32+AN32) -> 0 | AT32: =BO32&BP32&BQ32&BR32&BS32 | BO32: =IF(AND(B32>0,AO32="")," * No olvide digitar la variable Pueblos originarios. Digite Cero si no tiene.",IF(AO32>B32," * La variable Pueblos originarios No puede ser mayor al Total.","")) | BP32: =IF(AND(B32>0,AP32="")," * No olvide digitar la variable Migrantes. Digite Cero si no tiene.",IF(AP32>B32," * La variable Migrantes No puede ser mayor al Total.","")) | BQ32: =IF(AND(B32>0,AQ32="")," * No olvide digitar la variable Espacios Amigables. Digite Cero si no tiene.",IF(AQ32>B32," * La variable Espacios Amigables No puede ser mayor al Total.","")) | BR32: =IF(AND(B32>0,AR32="")," * No olvide digitar la variable Niños, Niñas, Adolescentes y Jóvenes SENAME. Digite Cero si no tiene.",IF(AR32>B32," * La variable Niños, Niñas, Adolescentes y Jóvenes SENAME No puede ser mayor al Total.","")) | BS32: =IF(AND(B32>0,AS32="")," * No olvide digitar la variable Niños, Niñas, Adolescentes y Jóvenes Mejor Niñez. Digite Cero si no tiene.",IF(AS32>B32," * La variable Niños, Niñas, Adolescentes y Jóvenes Mejor Niñez No puede ser mayor al Total.","")) | BU32: =IF(AND(B32>0,AO32=""),1,IF(AO32>B32,1,0)) -> 0 | BV32: =IF(AND(B32>0,AP32=""),1,IF(AP32>B32,1,0)) -> 0 | BW32: =IF(AND(B32>0,AQ32=""),1,IF(AQ32>B32,1,0)) -> 0 | BX32: =IF(AND(B32>0,AR32=""),1,IF(AR32>B32,1,0)) -> 0 | BY32: =IF(AND(B32>0,AS32=""),1,IF(AS32>B32,1,0)) -> 0
A33: Matrona/ón (Morb. Obstétrica) | B33: =SUM(C33:D33) -> 0 | D33: =SUM(F33+H33+J33+L33+N33+P33+R33+T33+V33+X33+Z33+AB33+AD33+AF33+AH33+AJ33+AL33+AN33) -> 0 | AT33: =BO33&BP33&BQ33&BR33&BS33 | BO33: =IF(AND(B33>0,AO33="")," * No olvide digitar la variable Pueblos originarios. Digite Cero si no tiene.",IF(AO33>B33," * La variable Pueblos originarios No puede ser mayor al Total.","")) | BP33: =IF(AND(B33>0,AP33="")," * No olvide digitar la variable Migrantes. Digite Cero si no tiene.",IF(AP33>B33," * La variable Migrantes No puede ser mayor al Total.","")) | BQ33: =IF(AND(B33>0,AQ33="")," * No olvide digitar la variable Espacios Amigables. Digite Cero si no tiene.",IF(AQ33>B33," * La variable Espacios Amigables No puede ser mayor al Total.","")) | BR33: =IF(AND(B33>0,AR33="")," * No olvide digitar la variable Niños, Niñas, Adolescentes y Jóvenes SENAME. Digite Cero si no tiene.",IF(AR33>B33," * La variable Niños, Niñas, Adolescentes y Jóvenes SENAME No puede ser mayor al Total.","")) | BS33: =IF(AND(B33>0,AS33="")," * No olvide digitar la variable Niños, Niñas, Adolescentes y Jóvenes Mejor Niñez. Digite Cero si no tiene.",IF(AS33>B33," * La variable Niños, Niñas, Adolescentes y Jóvenes Mejor Niñez No puede ser mayor al Total.","")) | BU33: =IF(AND(B33>0,AO33=""),1,IF(AO33>B33,1,0)) -> 0 | BV33: =IF(AND(B33>0,AP33=""),1,IF(AP33>B33,1,0)) -> 0 | BW33: =IF(AND(B33>0,AQ33=""),1,IF(AQ33>B33,1,0)) -> 0 | BX33: =IF(AND(B33>0,AR33=""),1,IF(AR33>B33,1,0)) -> 0 | BY33: =IF(AND(B33>0,AS33=""),1,IF(AS33>B33,1,0)) -> 0
A34: Matrona/ón (ITS) | B34: =SUM(C34:D34) -> 0 | C34: =SUM(E34+G34+I34+K34+M34+O34+Q34+S34+U34+W34+Y34+AA34+AC34+AE34+AG34+AI34+AK34+AM34) -> 0 | D34: =SUM(F34+H34+J34+L34+N34+P34+R34+T34+V34+X34+Z34+AB34+AD34+AF34+AH34+AJ34+AL34+AN34) -> 0 | AT34: =BO34&BP34&BQ34&BR34&BS34 | BO34: =IF(AND(B34>0,AO34="")," * No olvide digitar la variable Pueblos originarios. Digite Cero si no tiene.",IF(AO34>B34," * La variable Pueblos originarios No puede ser mayor al Total.","")) | BP34: =IF(AND(B34>0,AP34="")," * No olvide digitar la variable Migrantes. Digite Cero si no tiene.",IF(AP34>B34," * La variable Migrantes No puede ser mayor al Total.","")) | BQ34: =IF(AND(B34>0,AQ34="")," * No olvide digitar la variable Espacios Amigables. Digite Cero si no tiene.",IF(AQ34>B34," * La variable Espacios Amigables No puede ser mayor al Total.","")) | BR34: =IF(AND(B34>0,AR34="")," * No olvide digitar la variable Niños, Niñas, Adolescentes y Jóvenes SENAME. Digite Cero si no tiene.",IF(AR34>B34," * La variable Niños, Niñas, Adolescentes y Jóvenes SENAME No puede ser mayor al Total.","")) | BS34: =IF(AND(B34>0,AS34="")," * No olvide digitar la variable Niños, Niñas, Adolescentes y Jóvenes Mejor Niñez. Digite Cero si no tiene.",IF(AS34>B34," * La variable Niños, Niñas, Adolescentes y Jóvenes Mejor Niñez No puede ser mayor al Total.","")) | BU34: =IF(AND(B34>0,AO34=""),1,IF(AO34>B34,1,0)) -> 0 | BV34: =IF(AND(B34>0,AP34=""),1,IF(AP34>B34,1,0)) -> 0 | BW34: =IF(AND(B34>0,AQ34=""),1,IF(AQ34>B34,1,0)) -> 0 | BX34: =IF(AND(B34>0,AR34=""),1,IF(AR34>B34,1,0)) -> 0 | BY34: =IF(AND(B34>0,AS34=""),1,IF(AS34>B34,1,0)) -> 0
A35: Matrona/ón (Infertilidad) | B35: =SUM(C35:D35) -> 0 | C35: =SUM(O35+Q35+S35+U35+W35+Y35+AA35) -> 0 | D35: =SUM(P35+R35+T35+V35+X35+Z35+AB35) -> 0 | AT35: =BO35&BP35&BQ35&BR35&BS35 | BO35: =IF(AND(B35>0,AO35="")," * No olvide digitar la variable Pueblos originarios. Digite Cero si no tiene.",IF(AO35>B35," * La variable Pueblos originarios No puede ser mayor al Total.","")) | BP35: =IF(AND(B35>0,AP35="")," * No olvide digitar la variable Migrantes. Digite Cero si no tiene.",IF(AP35>B35," * La variable Migrantes No puede ser mayor al Total.","")) | BQ35: =IF(AND(B35>0,AQ35="")," * No olvide digitar la variable Espacios Amigables. Digite Cero si no tiene.",IF(AQ35>B35," * La variable Espacios Amigables No puede ser mayor al Total.","")) | BR35: =IF(AND(B35>0,AR35="")," * No olvide digitar la variable Niños, Niñas, Adolescentes y Jóvenes SENAME. Digite Cero si no tiene.",IF(AR35>B35," * La variable Niños, Niñas, Adolescentes y Jóvenes SENAME No puede ser mayor al Total.","")) | BS35: =IF(AND(B35>0,AS35="")," * No olvide digitar la variable Niños, Niñas, Adolescentes y Jóvenes Mejor Niñez. Digite Cero si no tiene.",IF(AS35>B35," * La variable Niños, Niñas, Adolescentes y Jóvenes Mejor Niñez No puede ser mayor al Total.","")) | BU35: =IF(AND(B35>0,AO35=""),1,IF(AO35>B35,1,0)) -> 0 | BV35: =IF(AND(B35>0,AP35=""),1,IF(AP35>B35,1,0)) -> 0 | BW35: =IF(AND(B35>0,AQ35=""),1,IF(AQ35>B35,1,0)) -> 0 | BX35: =IF(AND(B35>0,AR35=""),1,IF(AR35>B35,1,0)) -> 0 | BY35: =IF(AND(B35>0,AS35=""),1,IF(AS35>B35,1,0)) -> 0
A36: Matrona/ón (Otras consultas) | B36: =SUM(C36:D36) -> 0 | C36: =SUM(E36+G36+I36+K36+M36+O36+Q36+S36+U36+W36+Y36+AA36+AC36+AE36+AG36+AI36+AK36+AM36) -> 0 | D36: =SUM(F36+H36+J36+L36+N36+P36+R36+T36+V36+X36+Z36+AB36+AD36+AF36+AH36+AJ36+AL36+AN36) -> 0 | AT36: =BO36&BP36&BQ36&BR36&BS36 | BO36: =IF(AND(B36>0,AO36="")," * No olvide digitar la variable Pueblos originarios. Digite Cero si no tiene.",IF(AO36>B36," * La variable Pueblos originarios No puede ser mayor al Total.","")) | BP36: =IF(AND(B36>0,AP36="")," * No olvide digitar la variable Migrantes. Digite Cero si no tiene.",IF(AP36>B36," * La variable Migrantes No puede ser mayor al Total.","")) | BQ36: =IF(AND(B36>0,AQ36="")," * No olvide digitar la variable Espacios Amigables. Digite Cero si no tiene.",IF(AQ36>B36," * La variable Espacios Amigables No puede ser mayor al Total.","")) | BR36: =IF(AND(B36>0,AR36="")," * No olvide digitar la variable Niños, Niñas, Adolescentes y Jóvenes SENAME. Digite Cero si no tiene.",IF(AR36>B36," * La variable Niños, Niñas, Adolescentes y Jóvenes SENAME No puede ser mayor al Total.","")) | BS36: =IF(AND(B36>0,AS36="")," * No olvide digitar la variable Niños, Niñas, Adolescentes y Jóvenes Mejor Niñez. Digite Cero si no tiene.",IF(AS36>B36," * La variable Niños, Niñas, Adolescentes y Jóvenes Mejor Niñez No puede ser mayor al Total.","")) | BU36: =IF(AND(B36>0,AO36=""),1,IF(AO36>B36,1,0)) -> 0 | BV36: =IF(AND(B36>0,AP36=""),1,IF(AP36>B36,1,0)) -> 0 | BW36: =IF(AND(B36>0,AQ36=""),1,IF(AQ36>B36,1,0)) -> 0 | BX36: =IF(AND(B36>0,AR36=""),1,IF(AR36>B36,1,0)) -> 0 | BY36: =IF(AND(B36>0,AS36=""),1,IF(AS36>B36,1,0)) -> 0
A37: Matrona/ón (Salud sexual) | B37: =SUM(C37:D37) -> 0 | C37: =SUM(K37+M37+O37+Q37+S37+U37+W37+Y37+AA37+AC37+AE37+AG37+AI37+AK37+AM37) -> 0 | D37: =SUM(L37+N37+P37+R37+T37+V37+X37+Z37+AB37+AD37+AF37+AH37+AJ37+AL37+AN37) -> 0 | AT37: =BO37&BP37&BQ37&BR37&BS37 | BO37: =IF(AND(B37>0,AO37="")," * No olvide digitar la variable Pueblos originarios. Digite Cero si no tiene.",IF(AO37>B37," * La variable Pueblos originarios No puede ser mayor al Total.","")) | BP37: =IF(AND(B37>0,AP37="")," * No olvide digitar la variable Migrantes. Digite Cero si no tiene.",IF(AP37>B37," * La variable Migrantes No puede ser mayor al Total.","")) | BQ37: =IF(AND(B37>0,AQ37="")," * No olvide digitar la variable Espacios Amigables. Digite Cero si no tiene.",IF(AQ37>B37," * La variable Espacios Amigables No puede ser mayor al Total.","")) | BR37: =IF(AND(B37>0,AR37="")," * No olvide digitar la variable Niños, Niñas, Adolescentes y Jóvenes SENAME. Digite Cero si no tiene.",IF(AR37>B37," * La variable Niños, Niñas, Adolescentes y Jóvenes SENAME No puede ser mayor al Total.","")) | BS37: =IF(AND(B37>0,AS37="")," * No olvide digitar la variable Niños, Niñas, Adolescentes y Jóvenes Mejor Niñez. Digite Cero si no tiene.",IF(AS37>B37," * La variable Niños, Niñas, Adolescentes y Jóvenes Mejor Niñez No puede ser mayor al Total.","")) | BU37: =IF(AND(B37>0,AO37=""),1,IF(AO37>B37,1,0)) -> 0 | BV37: =IF(AND(B37>0,AP37=""),1,IF(AP37>B37,1,0)) -> 0 | BW37: =IF(AND(B37>0,AQ37=""),1,IF(AQ37>B37,1,0)) -> 0 | BX37: =IF(AND(B37>0,AR37=""),1,IF(AR37>B37,1,0)) -> 0 | BY37: =IF(AND(B37>0,AS37=""),1,IF(AS37>B37,1,0)) -> 0
A38: Matrona/ón (Piso pélvico) | B38: =SUM(C38:D38) -> 0 | D38: =SUM(L38+N38+P38+R38+T38+V38+X38+Z38+AB38+AD38+AF38+AH38+AJ38+AL38+AN38) -> 0 | AT38: =BO38&BP38&BQ38&BR38&BS38 | BO38: =IF(AND(B38>0,AO38="")," * No olvide digitar la variable Pueblos originarios. Digite Cero si no tiene.",IF(AO38>B38," * La variable Pueblos originarios No puede ser mayor al Total.","")) | BP38: =IF(AND(B38>0,AP38="")," * No olvide digitar la variable Migrantes. Digite Cero si no tiene.",IF(AP38>B38," * La variable Migrantes No puede ser mayor al Total.","")) | BQ38: =IF(AND(B38>0,AQ38="")," * No olvide digitar la variable Espacios Amigables. Digite Cero si no tiene.",IF(AQ38>B38," * La variable Espacios Amigables No puede ser mayor al Total.","")) | BR38: =IF(AND(B38>0,AR38="")," * No olvide digitar la variable Niños, Niñas, Adolescentes y Jóvenes SENAME. Digite Cero si no tiene.",IF(AR38>B38," * La variable Niños, Niñas, Adolescentes y Jóvenes SENAME No puede ser mayor al Total.","")) | BS38: =IF(AND(B38>0,AS38="")," * No olvide digitar la variable Niños, Niñas, Adolescentes y Jóvenes Mejor Niñez. Digite Cero si no tiene.",IF(AS38>B38," * La variable Niños, Niñas, Adolescentes y Jóvenes Mejor Niñez No puede ser mayor al Total.","")) | BU38: =IF(AND(B38>0,AO38=""),1,IF(AO38>B38,1,0)) -> 0 | BV38: =IF(AND(B38>0,AP38=""),1,IF(AP38>B38,1,0)) -> 0 | BW38: =IF(AND(B38>0,AQ38=""),1,IF(AQ38>B38,1,0)) -> 0 | BX38: =IF(AND(B38>0,AR38=""),1,IF(AR38>B38,1,0)) -> 0 | BY38: =IF(AND(B38>0,AS38=""),1,IF(AS38>B38,1,0)) -> 0
A39: Nutricionista (Otras consultas) | B39: =SUM(C39:D39) -> 0 | C39: =SUM(E39+G39+I39+K39+M39+O39+Q39+S39+U39+W39+Y39+AA39+AC39+AE39+AG39+AI39+AK39+AM39) -> 0 | D39: =SUM(F39+H39+J39+L39+N39+P39+R39+T39+V39+X39+Z39+AB39+AD39+AF39+AH39+AJ39+AL39+AN39) -> 0 | AT39: =BO39&BP39&BQ39&BR39&BS39 | BO39: =IF(AND(B39>0,AO39="")," * No olvide digitar la variable Pueblos originarios. Digite Cero si no tiene.",IF(AO39>B39," * La variable Pueblos originarios No puede ser mayor al Total.","")) | BP39: =IF(AND(B39>0,AP39="")," * No olvide digitar la variable Migrantes. Digite Cero si no tiene.",IF(AP39>B39," * La variable Migrantes No puede ser mayor al Total.","")) | BQ39: =IF(AND(B39>0,AQ39="")," * No olvide digitar la variable Espacios Amigables. Digite Cero si no tiene.",IF(AQ39>B39," * La variable Espacios Amigables No puede ser mayor al Total.","")) | BR39: =IF(AND(B39>0,AR39="")," * No olvide digitar la variable Niños, Niñas, Adolescentes y Jóvenes SENAME. Digite Cero si no tiene.",IF(AR39>B39," * La variable Niños, Niñas, Adolescentes y Jóvenes SENAME No puede ser mayor al Total.","")) | BS39: =IF(AND(B39>0,AS39="")," * No olvide digitar la variable Niños, Niñas, Adolescentes y Jóvenes Mejor Niñez. Digite Cero si no tiene.",IF(AS39>B39," * La variable Niños, Niñas, Adolescentes y Jóvenes Mejor Niñez No puede ser mayor al Total.","")) | BU39: =IF(AND(B39>0,AO39=""),1,IF(AO39>B39,1,0)) -> 0 | BV39: =IF(AND(B39>0,AP39=""),1,IF(AP39>B39,1,0)) -> 0 | BW39: =IF(AND(B39>0,AQ39=""),1,IF(AQ39>B39,1,0)) -> 0 | BX39: =IF(AND(B39>0,AR39=""),1,IF(AR39>B39,1,0)) -> 0 | BY39: =IF(AND(B39>0,AS39=""),1,IF(AS39>B39,1,0)) -> 0
A40: Nutricionista malnutrición por exceso | B40: =SUM(C40:D40) -> 0 | C40: =SUM(E40+G40+I40+K40+M40+O40+Q40+S40+U40+W40+Y40+AA40+AC40+AE40+AG40+AI40+AK40+AM40) -> 0 | D40: =SUM(F40+H40+J40+L40+N40+P40+R40+T40+V40+X40+Z40+AB40+AD40+AF40+AH40+AJ40+AL40+AN40) -> 0 | AT40: =BO40&BP40&BQ40&BR40&BS40 | BO40: =IF(AND(B40>0,AO40="")," * No olvide digitar la variable Pueblos originarios. Digite Cero si no tiene.",IF(AO40>B40," * La variable Pueblos originarios No puede ser mayor al Total.","")) | BP40: =IF(AND(B40>0,AP40="")," * No olvide digitar la variable Migrantes. Digite Cero si no tiene.",IF(AP40>B40," * La variable Migrantes No puede ser mayor al Total.","")) | BQ40: =IF(AND(B40>0,AQ40="")," * No olvide digitar la variable Espacios Amigables. Digite Cero si no tiene.",IF(AQ40>B40," * La variable Espacios Amigables No puede ser mayor al Total.","")) | BR40: =IF(AND(B40>0,AR40="")," * No olvide digitar la variable Niños, Niñas, Adolescentes y Jóvenes SENAME. Digite Cero si no tiene.",IF(AR40>B40," * La variable Niños, Niñas, Adolescentes y Jóvenes SENAME No puede ser mayor al Total.","")) | BS40: =IF(AND(B40>0,AS40="")," * No olvide digitar la variable Niños, Niñas, Adolescentes y Jóvenes Mejor Niñez. Digite Cero si no tiene.",IF(AS40>B40," * La variable Niños, Niñas, Adolescentes y Jóvenes Mejor Niñez No puede ser mayor al Total.","")) | BU40: =IF(AND(B40>0,AO40=""),1,IF(AO40>B40,1,0)) -> 0 | BV40: =IF(AND(B40>0,AP40=""),1,IF(AP40>B40,1,0)) -> 0 | BW40: =IF(AND(B40>0,AQ40=""),1,IF(AQ40>B40,1,0)) -> 0 | BX40: =IF(AND(B40>0,AR40=""),1,IF(AR40>B40,1,0)) -> 0 | BY40: =IF(AND(B40>0,AS40=""),1,IF(AS40>B40,1,0)) -> 0
A41: Nutricionista malnutrición por déficit | B41: =SUM(C41:D41) -> 0 | C41: =SUM(E41+G41+I41+K41+M41+O41+Q41+S41+U41+W41+Y41+AA41+AC41+AE41+AG41+AI41+AK41+AM41) -> 0 | D41: =SUM(F41+H41+J41+L41+N41+P41+R41+T41+V41+X41+Z41+AB41+AD41+AF41+AH41+AJ41+AL41+AN41) -> 0 | AT41: =BO41&BP41&BQ41&BR41&BS41 | BO41: =IF(AND(B41>0,AO41="")," * No olvide digitar la variable Pueblos originarios. Digite Cero si no tiene.",IF(AO41>B41," * La variable Pueblos originarios No puede ser mayor al Total.","")) | BP41: =IF(AND(B41>0,AP41="")," * No olvide digitar la variable Migrantes. Digite Cero si no tiene.",IF(AP41>B41," * La variable Migrantes No puede ser mayor al Total.","")) | BQ41: =IF(AND(B41>0,AQ41="")," * No olvide digitar la variable Espacios Amigables. Digite Cero si no tiene.",IF(AQ41>B41," * La variable Espacios Amigables No puede ser mayor al Total.","")) | BR41: =IF(AND(B41>0,AR41="")," * No olvide digitar la variable Niños, Niñas, Adolescentes y Jóvenes SENAME. Digite Cero si no tiene.",IF(AR41>B41," * La variable Niños, Niñas, Adolescentes y Jóvenes SENAME No puede ser mayor al Total.","")) | BS41: =IF(AND(B41>0,AS41="")," * No olvide digitar la variable Niños, Niñas, Adolescentes y Jóvenes Mejor Niñez. Digite Cero si no tiene.",IF(AS41>B41," * La variable Niños, Niñas, Adolescentes y Jóvenes Mejor Niñez No puede ser mayor al Total.","")) | BU41: =IF(AND(B41>0,AO41=""),1,IF(AO41>B41,1,0)) -> 0 | BV41: =IF(AND(B41>0,AP41=""),1,IF(AP41>B41,1,0)) -> 0 | BW41: =IF(AND(B41>0,AQ41=""),1,IF(AQ41>B41,1,0)) -> 0 | BX41: =IF(AND(B41>0,AR41=""),1,IF(AR41>B41,1,0)) -> 0 | BY41: =IF(AND(B41>0,AS41=""),1,IF(AS41>B41,1,0)) -> 0
A42: Psicólogo/a | B42: =SUM(C42:D42) -> 0 | C42: =SUM(E42+G42+I42+K42+M42+O42+Q42+S42+U42+W42+Y42+AA42+AC42+AE42+AG42+AI42+AK42+AM42) -> 0 | D42: =SUM(F42+H42+J42+L42+N42+P42+R42+T42+V42+X42+Z42+AB42+AD42+AF42+AH42+AJ42+AL42+AN42) -> 0 | AT42: =BO42&BP42&BQ42&BR42&BS42 | BO42: =IF(AND(B42>0,AO42="")," * No olvide digitar la variable Pueblos originarios. Digite Cero si no tiene.",IF(AO42>B42," * La variable Pueblos originarios No puede ser mayor al Total.","")) | BP42: =IF(AND(B42>0,AP42="")," * No olvide digitar la variable Migrantes. Digite Cero si no tiene.",IF(AP42>B42," * La variable Migrantes No puede ser mayor al Total.","")) | BQ42: =IF(AND(B42>0,AQ42="")," * No olvide digitar la variable Espacios Amigables. Digite Cero si no tiene.",IF(AQ42>B42," * La variable Espacios Amigables No puede ser mayor al Total.","")) | BR42: =IF(AND(B42>0,AR42="")," * No olvide digitar la variable Niños, Niñas, Adolescentes y Jóvenes SENAME. Digite Cero si no tiene.",IF(AR42>B42," * La variable Niños, Niñas, Adolescentes y Jóvenes SENAME No puede ser mayor al Total.","")) | BS42: =IF(AND(B42>0,AS42="")," * No olvide digitar la variable Niños, Niñas, Adolescentes y Jóvenes Mejor Niñez. Digite Cero si no tiene.",IF(AS42>B42," * La variable Niños, Niñas, Adolescentes y Jóvenes Mejor Niñez No puede ser mayor al Total.","")) | BU42: =IF(AND(B42>0,AO42=""),1,IF(AO42>B42,1,0)) -> 0 | BV42: =IF(AND(B42>0,AP42=""),1,IF(AP42>B42,1,0)) -> 0 | BW42: =IF(AND(B42>0,AQ42=""),1,IF(AQ42>B42,1,0)) -> 0 | BX42: =IF(AND(B42>0,AR42=""),1,IF(AR42>B42,1,0)) -> 0 | BY42: =IF(AND(B42>0,AS42=""),1,IF(AS42>B42,1,0)) -> 0
A43: Fonoaudiólogo/a | B43: =SUM(C43:D43) -> 0 | C43: =SUM(E43+G43+I43+K43+M43+O43+Q43+S43+U43+W43+Y43+AA43+AC43+AE43+AG43+AI43+AK43+AM43) -> 0 | D43: =SUM(F43+H43+J43+L43+N43+P43+R43+T43+V43+X43+Z43+AB43+AD43+AF43+AH43+AJ43+AL43+AN43) -> 0 | AT43: =BO43&BP43&BQ43&BR43&BS43 | BO43: =IF(AND(B43>0,AO43="")," * No olvide digitar la variable Pueblos originarios. Digite Cero si no tiene.",IF(AO43>B43," * La variable Pueblos originarios No puede ser mayor al Total.","")) | BP43: =IF(AND(B43>0,AP43="")," * No olvide digitar la variable Migrantes. Digite Cero si no tiene.",IF(AP43>B43," * La variable Migrantes No puede ser mayor al Total.","")) | BQ43: =IF(AND(B43>0,AQ43="")," * No olvide digitar la variable Espacios Amigables. Digite Cero si no tiene.",IF(AQ43>B43," * La variable Espacios Amigables No puede ser mayor al Total.","")) | BR43: =IF(AND(B43>0,AR43="")," * No olvide digitar la variable Niños, Niñas, Adolescentes y Jóvenes SENAME. Digite Cero si no tiene.",IF(AR43>B43," * La variable Niños, Niñas, Adolescentes y Jóvenes SENAME No puede ser mayor al Total.","")) | BS43: =IF(AND(B43>0,AS43="")," * No olvide digitar la variable Niños, Niñas, Adolescentes y Jóvenes Mejor Niñez. Digite Cero si no tiene.",IF(AS43>B43," * La variable Niños, Niñas, Adolescentes y Jóvenes Mejor Niñez No puede ser mayor al Total.","")) | BU43: =IF(AND(B43>0,AO43=""),1,IF(AO43>B43,1,0)) -> 0 | BV43: =IF(AND(B43>0,AP43=""),1,IF(AP43>B43,1,0)) -> 0 | BW43: =IF(AND(B43>0,AQ43=""),1,IF(AQ43>B43,1,0)) -> 0 | BX43: =IF(AND(B43>0,AR43=""),1,IF(AR43>B43,1,0)) -> 0 | BY43: =IF(AND(B43>0,AS43=""),1,IF(AS43>B43,1,0)) -> 0
A44: Terapeuta Ocupacional | B44: =SUM(C44:D44) -> 0 | C44: =SUM(E44+G44+I44+K44+M44+O44+Q44+S44+U44+W44+Y44+AA44+AC44+AE44+AG44+AI44+AK44+AM44) -> 0 | D44: =SUM(F44+H44+J44+L44+N44+P44+R44+T44+V44+X44+Z44+AB44+AD44+AF44+AH44+AJ44+AL44+AN44) -> 0 | AT44: =BO44&BP44&BQ44&BR44&BS44 | BO44: =IF(AND(B44>0,AO44="")," * No olvide digitar la variable Pueblos originarios. Digite Cero si no tiene.",IF(AO44>B44," * La variable Pueblos originarios No puede ser mayor al Total.","")) | BP44: =IF(AND(B44>0,AP44="")," * No olvide digitar la variable Migrantes. Digite Cero si no tiene.",IF(AP44>B44," * La variable Migrantes No puede ser mayor al Total.","")) | BQ44: =IF(AND(B44>0,AQ44="")," * No olvide digitar la variable Espacios Amigables. Digite Cero si no tiene.",IF(AQ44>B44," * La variable Espacios Amigables No puede ser mayor al Total.","")) | BR44: =IF(AND(B44>0,AR44="")," * No olvide digitar la variable Niños, Niñas, Adolescentes y Jóvenes SENAME. Digite Cero si no tiene.",IF(AR44>B44," * La variable Niños, Niñas, Adolescentes y Jóvenes SENAME No puede ser mayor al Total.","")) | BS44: =IF(AND(B44>0,AS44="")," * No olvide digitar la variable Niños, Niñas, Adolescentes y Jóvenes Mejor Niñez. Digite Cero si no tiene.",IF(AS44>B44," * La variable Niños, Niñas, Adolescentes y Jóvenes Mejor Niñez No puede ser mayor al Total.","")) | BU44: =IF(AND(B44>0,AO44=""),1,IF(AO44>B44,1,0)) -> 0 | BV44: =IF(AND(B44>0,AP44=""),1,IF(AP44>B44,1,0)) -> 0 | BW44: =IF(AND(B44>0,AQ44=""),1,IF(AQ44>B44,1,0)) -> 0 | BX44: =IF(AND(B44>0,AR44=""),1,IF(AR44>B44,1,0)) -> 0 | BY44: =IF(AND(B44>0,AS44=""),1,IF(AS44>B44,1,0)) -> 0
A45: Tecnólogo/a Médico/a (Excluye UAPO) | B45: =SUM(C45:D45) -> 0 | C45: =SUM(E45+G45+I45+K45+M45+O45+Q45+S45+U45+W45+Y45+AA45+AC45+AE45+AG45+AI45+AK45+AM45) -> 0 | D45: =SUM(F45+H45+J45+L45+N45+P45+R45+T45+V45+X45+Z45+AB45+AD45+AF45+AH45+AJ45+AL45+AN45) -> 0 | AT45: =BO45&BP45&BQ45&BR45&BS45 | BO45: =IF(AND(B45>0,AO45="")," * No olvide digitar la variable Pueblos originarios. Digite Cero si no tiene.",IF(AO45>B45," * La variable Pueblos originarios No puede ser mayor al Total.","")) | BP45: =IF(AND(B45>0,AP45="")," * No olvide digitar la variable Migrantes. Digite Cero si no tiene.",IF(AP45>B45," * La variable Migrantes No puede ser mayor al Total.","")) | BQ45: =IF(AND(B45>0,AQ45="")," * No olvide digitar la variable Espacios Amigables. Digite Cero si no tiene.",IF(AQ45>B45," * La variable Espacios Amigables No puede ser mayor al Total.","")) | BR45: =IF(AND(B45>0,AR45="")," * No olvide digitar la variable Niños, Niñas, Adolescentes y Jóvenes SENAME. Digite Cero si no tiene.",IF(AR45>B45," * La variable Niños, Niñas, Adolescentes y Jóvenes SENAME No puede ser mayor al Total.","")) | BS45: =IF(AND(B45>0,AS45="")," * No olvide digitar la variable Niños, Niñas, Adolescentes y Jóvenes Mejor Niñez. Digite Cero si no tiene.",IF(AS45>B45," * La variable Niños, Niñas, Adolescentes y Jóvenes Mejor Niñez No puede ser mayor al Total.","")) | BU45: =IF(AND(B45>0,AO45=""),1,IF(AO45>B45,1,0)) -> 0 | BV45: =IF(AND(B45>0,AP45=""),1,IF(AP45>B45,1,0)) -> 0 | BW45: =IF(AND(B45>0,AQ45=""),1,IF(AQ45>B45,1,0)) -> 0 | BX45: =IF(AND(B45>0,AR45=""),1,IF(AR45>B45,1,0)) -> 0 | BY45: =IF(AND(B45>0,AS45=""),1,IF(AS45>B45,1,0)) -> 0
A46: Trabajador/a Social (Excluye Salud Mental) | B46: =SUM(C46:D46) -> 0 | C46: =SUM(E46+G46+I46+K46+M46+O46+Q46+S46+U46+W46+Y46+AA46+AC46+AE46+AG46+AI46+AK46+AM46) -> 0 | D46: =SUM(F46+H46+J46+L46+N46+P46+R46+T46+V46+X46+Z46+AB46+AD46+AF46+AH46+AJ46+AL46+AN46) -> 0 | AT46: =BO46&BP46&BQ46&BR46&BS46 | BO46: =IF(AND(B46>0,AO46="")," * No olvide digitar la variable Pueblos originarios. Digite Cero si no tiene.",IF(AO46>B46," * La variable Pueblos originarios No puede ser mayor al Total.","")) | BP46: =IF(AND(B46>0,AP46="")," * No olvide digitar la variable Migrantes. Digite Cero si no tiene.",IF(AP46>B46," * La variable Migrantes No puede ser mayor al Total.","")) | BQ46: =IF(AND(B46>0,AQ46="")," * No olvide digitar la variable Espacios Amigables. Digite Cero si no tiene.",IF(AQ46>B46," * La variable Espacios Amigables No puede ser mayor al Total.","")) | BR46: =IF(AND(B46>0,AR46="")," * No olvide digitar la variable Niños, Niñas, Adolescentes y Jóvenes SENAME. Digite Cero si no tiene.",IF(AR46>B46," * La variable Niños, Niñas, Adolescentes y Jóvenes SENAME No puede ser mayor al Total.","")) | BS46: =IF(AND(B46>0,AS46="")," * No olvide digitar la variable Niños, Niñas, Adolescentes y Jóvenes Mejor Niñez. Digite Cero si no tiene.",IF(AS46>B46," * La variable Niños, Niñas, Adolescentes y Jóvenes Mejor Niñez No puede ser mayor al Total.","")) | BU46: =IF(AND(B46>0,AO46=""),1,IF(AO46>B46,1,0)) -> 0 | BV46: =IF(AND(B46>0,AP46=""),1,IF(AP46>B46,1,0)) -> 0 | BW46: =IF(AND(B46>0,AQ46=""),1,IF(AQ46>B46,1,0)) -> 0 | BX46: =IF(AND(B46>0,AR46=""),1,IF(AR46>B46,1,0)) -> 0 | BY46: =IF(AND(B46>0,AS46=""),1,IF(AS46>B46,1,0)) -> 0
A47: Educadora de Párvulos | B47: =SUM(C47:D47) -> 0 | C47: =SUM(E47+G47+I47) -> 0 | D47: =SUM(F47+H47+J47) -> 0 | AT47: =BO47&BP47&BQ47&BR47&BS47 | BO47: =IF(AND(B47>0,AO47="")," * No olvide digitar la variable Pueblos originarios. Digite Cero si no tiene.",IF(AO47>B47," * La variable Pueblos originarios No puede ser mayor al Total.","")) | BP47: =IF(AND(B47>0,AP47="")," * No olvide digitar la variable Migrantes. Digite Cero si no tiene.",IF(AP47>B47," * La variable Migrantes No puede ser mayor al Total.","")) | BQ47: =IF(AND(B47>0,AQ47="")," * No olvide digitar la variable Espacios Amigables. Digite Cero si no tiene.",IF(AQ47>B47," * La variable Espacios Amigables No puede ser mayor al Total.","")) | BR47: =IF(AND(B47>0,AR47="")," * No olvide digitar la variable Niños, Niñas, Adolescentes y Jóvenes SENAME. Digite Cero si no tiene.",IF(AR47>B47," * La variable Niños, Niñas, Adolescentes y Jóvenes SENAME No puede ser mayor al Total.","")) | BS47: =IF(AND(B47>0,AS47="")," * No olvide digitar la variable Niños, Niñas, Adolescentes y Jóvenes Mejor Niñez. Digite Cero si no tiene.",IF(AS47>B47," * La variable Niños, Niñas, Adolescentes y Jóvenes Mejor Niñez No puede ser mayor al Total.","")) | BU47: =IF(AND(B47>0,AO47=""),1,IF(AO47>B47,1,0)) -> 0 | BV47: =IF(AND(B47>0,AP47=""),1,IF(AP47>B47,1,0)) -> 0 | BW47: =IF(AND(B47>0,AQ47=""),1,IF(AQ47>B47,1,0)) -> 0 | BX47: =IF(AND(B47>0,AR47=""),1,IF(AR47>B47,1,0)) -> 0 | BY47: =IF(AND(B47>0,AS47=""),1,IF(AS47>B47,1,0)) -> 0
A48: Kinesiólogo | B48: =SUM(C48:D48) -> 0 | C48: =SUM(E48+G48+I48+K48+M48+O48+Q48+S48+U48+W48+Y48+AA48+AC48+AE48+AG48+AI48+AK48+AM48) -> 0 | D48: =SUM(F48+H48+J48+L48+N48+P48+R48+T48+V48+X48+Z48+AB48+AD48+AF48+AH48+AJ48+AL48+AN48) -> 0 | AT48: =BO48&BP48&BQ48&BR48&BS48 | BO48: =IF(AND(B48>0,AO48="")," * No olvide digitar la variable Pueblos originarios. Digite Cero si no tiene.",IF(AO48>B48," * La variable Pueblos originarios No puede ser mayor al Total.","")) | BP48: =IF(AND(B48>0,AP48="")," * No olvide digitar la variable Migrantes. Digite Cero si no tiene.",IF(AP48>B48," * La variable Migrantes No puede ser mayor al Total.","")) | BQ48: =IF(AND(B48>0,AQ48="")," * No olvide digitar la variable Espacios Amigables. Digite Cero si no tiene.",IF(AQ48>B48," * La variable Espacios Amigables No puede ser mayor al Total.","")) | BR48: =IF(AND(B48>0,AR48="")," * No olvide digitar la variable Niños, Niñas, Adolescentes y Jóvenes SENAME. Digite Cero si no tiene.",IF(AR48>B48," * La variable Niños, Niñas, Adolescentes y Jóvenes SENAME No puede ser mayor al Total.","")) | BS48: =IF(AND(B48>0,AS48="")," * No olvide digitar la variable Niños, Niñas, Adolescentes y Jóvenes Mejor Niñez. Digite Cero si no tiene.",IF(AS48>B48," * La variable Niños, Niñas, Adolescentes y Jóvenes Mejor Niñez No puede ser mayor al Total.","")) | BU48: =IF(AND(B48>0,AO48=""),1,IF(AO48>B48,1,0)) -> 0 | BV48: =IF(AND(B48>0,AP48=""),1,IF(AP48>B48,1,0)) -> 0 | BW48: =IF(AND(B48>0,AQ48=""),1,IF(AQ48>B48,1,0)) -> 0 | BX48: =IF(AND(B48>0,AR48=""),1,IF(AR48>B48,1,0)) -> 0 | BY48: =IF(AND(B48>0,AS48=""),1,IF(AS48>B48,1,0)) -> 0
A49: SECCIÓN C: CONSULTAS ANTICONCEPCIÓN DE EMERGENCIA (Incluidas en Sección A o B, respectivamente.)
A50: PROFESIONAL | B50: Ambos sexos | C50: Hombres | D50: Mujeres | E50: Con entrega anticoncepción emergencia | M50: Ambos sexos | N50: Hombres | O50: Mujeres | P50: Sin entrega anticoncepción emergencia | X50: Identidad de género | Z50: Personas con discapacidad | AA50: Espacios Amigables/ Adolescentes | AB50: Pueblos Originarios | AC50: Migrantes
E51: 10 - 14 años | G51: 15 - 19 años | I51: 20 - 24 años | K51: 25 y más años | P51: 10 - 14 años | R51: 15 - 19 años | T51: 20 - 24 años | V51: 25 y más años | X51: Trans masculino | Y51: No binarie
E52: Hombres | F52: Mujeres | G52: Hombres | H52: Mujeres | I52: Hombres | J52: Mujeres | K52: Hombres | L52: Mujeres | P52: Hombres | Q52: Mujeres | R52: Hombres | S52: Mujeres | T52: Hombres | U52: Mujeres | V52: Hombres | W52: Mujeres
A53: Médico/a | B53: =SUM(C53:D53) -> 0 | C53: =+E53+G53+I53+K53 -> 0 | D53: =+F53+H53+J53+L53 -> 0 | M53: =SUM(N53:O53) -> 0 | N53: =+P53+R53+T53+V53 -> 0 | O53: =+Q53+S53+U53+W53 -> 0 | AD53: =BO53&BP53&BQ53 | BO53: =IF(AND(B53>0,AB53="")," * No olvide digitar la variable Pueblos originarios. Digite Cero si no tiene.",IF(AB53>B53," * La variable Pueblos originarios No puede ser mayor al Total.","")) | BP53: =IF(AND(B53>0,AC53="")," * No olvide digitar la variable Migrantes. Digite Cero si no tiene.",IF(AC53>B53," * La variable Migrantes No puede ser mayor al Total.","")) | BQ53: =IF(AND(B53>0,AA53="")," * No olvide digitar la variable Espacios Amigables/Adolescentes. Digite Cero si no tiene.",IF(AA53>B53," * La variable Espacios Amigables/Adolescentes No puede ser mayor al Total.","")) | BU53: =IF(AND(B53>0,AB53=""),1,IF(AB53>B53,1,0)) -> 0 | BV53: =IF(AND(B53>0,AC53=""),1,IF(AC53>B53,1,0)) -> 0 | BW53: =IF(AND(B53>0,AA53=""),1,IF(AA53>B53,1,0)) -> 0
A54: Matrona/ón | B54: =SUM(C54:D54) -> 0 | C54: =+E54+G54+I54+K54 -> 0 | D54: =+F54+H54+J54+L54 -> 0 | M54: =SUM(N54:O54) -> 0 | N54: =+P54+R54+T54+V54 -> 0 | O54: =+Q54+S54+U54+W54 -> 0 | AD54: =BO54&BP54&BQ54 | BO54: =IF(AND(B54>0,AB54="")," * No olvide digitar la variable Pueblos originarios. Digite Cero si no tiene.",IF(AB54>B54," * La variable Pueblos originarios No puede ser mayor al Total.","")) | BP54: =IF(AND(B54>0,AC54="")," * No olvide digitar la variable Migrantes. Digite Cero si no tiene.",IF(AC54>B54," * La variable Migrantes No puede ser mayor al Total.","")) | BQ54: =IF(AND(B54>0,AA54="")," * No olvide digitar la variable Espacios Amigables/Adolescentes. Digite Cero si no tiene.",IF(AA54>B54," * La variable Espacios Amigables/Adolescentes No puede ser mayor al Total.","")) | BU54: =IF(AND(B54>0,AB54=""),1,IF(AB54>B54,1,0)) -> 0 | BV54: =IF(AND(B54>0,AC54=""),1,IF(AC54>B54,1,0)) -> 0 | BW54: =IF(AND(B54>0,AA54=""),1,IF(AA54>B54,1,0)) -> 0
A55: SECCIÓN D: CONSULTAS EN HORARIO CONTINUADO (Incluidas en las consultas de morbilidad de sección A o B)
A56: TIPO JORNADA | B56: TOTAL | E56: RANGO ETARIO | W56: Pueblos Originarios | X56: Migrantes
E57: Menos de 1 año | F57: 1 - 4 años | G57: 5 - 9 años | H57: 10 - 14 años | I57: 15 - 19 años | J57: 20 - 24 años | K57: 25 - 29 años | L57: 30 - 34 años | M57: 35 - 39 años | N57: 40 - 44 años | O57: 45 - 49 años | P57: 50 - 54 años | Q57: 55 - 59 años | R57: 60 - 64 años | S57: 65 - 69 años | T57: 70 - 74 años | U57: 75 - 79 años | V57: 80 y mas años
B58: Ambos Sexos | C58: Hombres | D58: Mujeres
A59: Horario continuado | B59: =SUM(B60:B61) -> 0 | C59: =SUM(C60:C61) -> 0 | D59: =SUM(D60:D61) -> 0 | E59: =SUM(E60:E61) -> 0 | F59: =SUM(F60:F61) -> 0 | G59: =SUM(G60:G61) -> 0 | H59: =SUM(H60:H61) -> 0 | I59: =SUM(I60:I61) -> 0 | ... X59: =SUM(X60:X61) -> 0
A60: Médico/a | B60: =SUM(C60:D60) -> 0 | Y60: =BO60&BP60&BQ60 | BO60: =IF(AND(B60>0,W60="")," * No olvide digitar la variable Pueblos originarios. Digite Cero si no tiene.",IF(W60>B60," * La variable Pueblos originarios No puede ser mayor al Total.","")) | BP60: =IF(AND(B60>0,X60="")," * No olvide digitar la variable Migrantes. Digite Cero si no tiene.",IF(X60>B60," * La variable Migrantes No puede ser mayor al Total.","")) | BQ60: =IF((C60+D60)<>SUM(E60:V60)," * Los datos desglosados por edad debe ser igual al total de ambos sexos.","") | BU60: =IF(AND(B60>0,W60=""),1,IF(W60>B60,1,0)) -> 0 | BV60: =IF(AND(B60>0,X60=""),1,IF(X60>B60,1,0)) -> 0 | BW60: =IF((C60+D60)<>SUM(E60:V60),1,0) -> 0
A61: Otros Profesionales | B61: =SUM(C61:D61) -> 0 | Y61: =BO61&BP61&BQ61 | BO61: =IF(AND(B61>0,W61="")," * No olvide digitar la variable Pueblos originarios. Digite Cero si no tiene.",IF(W61>B61," * La variable Pueblos originarios No puede ser mayor al Total.","")) | BP61: =IF(AND(B61>0,X61="")," * No olvide digitar la variable Migrantes. Digite Cero si no tiene.",IF(X61>B61," * La variable Migrantes No puede ser mayor al Total.","")) | BQ61: =IF((C61+D61)<>SUM(E61:V61)," * Los datos desglosados por edad debe ser igual al total de ambos sexos.","") | BU61: =IF(AND(B61>0,W61=""),1,IF(W61>B61,1,0)) -> 0 | BV61: =IF(AND(B61>0,X61=""),1,IF(X61>B61,1,0)) -> 0 | BW61: =IF((C61+D61)<>SUM(E61:V61),1,0) -> 0
A62: Sábado, Domingo o festivo | B62: =SUM(B63:B64) -> 0 | C62: =SUM(C63:C64) -> 0 | D62: =SUM(D63:D64) -> 0 | E62: =SUM(E63:E64) -> 0 | F62: =SUM(F63:F64) -> 0 | G62: =SUM(G63:G64) -> 0 | H62: =SUM(H63:H64) -> 0 | I62: =SUM(I63:I64) -> 0 | ... X62: =SUM(X63:X64) -> 0
A63: Médico/a | B63: =SUM(C63:D63) -> 0 | Y63: =BO63&BP63&BQ63 | BO63: =IF(AND(B63>0,W63="")," * No olvide digitar la variable Pueblos originarios. Digite Cero si no tiene.",IF(W63>B63," * La variable Pueblos originarios No puede ser mayor al Total.","")) | BP63: =IF(AND(B63>0,X63="")," * No olvide digitar la variable Migrantes. Digite Cero si no tiene.",IF(X63>B63," * La variable Migrantes No puede ser mayor al Total.","")) | BQ63: =IF((C63+D63)<>SUM(E63:V63)," * Los datos desglosados por edad debe ser igual al total de ambos sexos.","") | BU63: =IF(AND(B63>0,W63=""),1,IF(W63>B63,1,0)) -> 0 | BV63: =IF(AND(B63>0,X63=""),1,IF(X63>B63,1,0)) -> 0 | BW63: =IF((C63+D63)<>SUM(E63:V63),1,0) -> 0
A64: Otros Profesionales | B64: =SUM(C64:D64) -> 0 | Y64: =BO64&BP64&BQ64 | BO64: =IF(AND(B64>0,W64="")," * No olvide digitar la variable Pueblos originarios. Digite Cero si no tiene.",IF(W64>B64," * La variable Pueblos originarios No puede ser mayor al Total.","")) | BP64: =IF(AND(B64>0,X64="")," * No olvide digitar la variable Migrantes. Digite Cero si no tiene.",IF(X64>B64," * La variable Migrantes No puede ser mayor al Total.","")) | BQ64: =IF((C64+D64)<>SUM(E64:V64)," * Los datos desglosados por edad debe ser igual al total de ambos sexos.","") | BU64: =IF(AND(B64>0,W64=""),1,IF(W64>B64,1,0)) -> 0 | BV64: =IF(AND(B64>0,X64=""),1,IF(X64>B64,1,0)) -> 0 | BW64: =IF((C64+D64)<>SUM(E64:V64),1,0) -> 0
A65: SECCIÓN E: CONSULTA ABREVIADA
A66: PROFESIONAL | B66: TOTAL
A67: Médico/a
A68: Matrona/ón
A69: SECCIÓN F: ATENCIONES DE SANADORES INDÍGENA
A70: COMPONENTE | C70: TOTAL | F70: RANGO ETARIO Y SEXO
C71: Ambos Sexos | D71: Hombre | E71: Mujer | F71: 0 - 4 años | H71: 5 - 9 años | J71: 10 - 14 años | L71: 15 - 19 años | N71: 20 - 24 años | P71: 25 - 29 años | R71: 30 - 34 años | T71: 35 - 39 años | V71: 40 - 44 años | X71: 45 - 49 años | Z71: 50 - 54 años | AB71: 55 - 59 años | AD71: 60 - 64 años | AF71: 65 - 69 años | AH71: 70 - 74 años | AJ71: 75 - 79 años | AL71: 80 y mas años
F72: Hombre | G72: Mujer | H72: Hombre | I72: Mujer | J72: Hombre | K72: Mujer | L72: Hombre | M72: Mujer | N72: Hombre | O72: Mujer | P72: Hombre | Q72: Mujer | R72: Hombre | S72: Mujer | T72: Hombre | U72: Mujer | V72: Hombre | W72: Mujer | X72: Hombre | Y72: Mujer | Z72: Hombre | AA72: Mujer | AB72: Hombre | AC72: Mujer | AD72: Hombre | AE72: Mujer | AF72: Hombre | AG72: Mujer | AH72: Hombre | AI72: Mujer | AJ72: Hombre | AK72: Mujer | AL72: Hombre | AM72: Mujer
A73: Atenciones por sanadores/terapeutas de Medicina Indígena | B73: Pueblos originarios | C73: =SUM(D73,E73) -> 0 | D73: =SUM(F73,H73,J73,L73,N73,P73,R73,T73,V73,X73,Z73,AB73,AD73,AF73,AH73,AJ73,AL73) -> 0 | E73: =SUM(G73,I73,K73,M73,O73,Q73,S73,U73,W73,Y73,AA73,AC73,AE73,,AG73,AI73,AK73,AM73) -> 0
B74: Pueblos no originarios | C74: =SUM(D74,E74) -> 0 | D74: =SUM(F74,H74,J74,L74,N74,P74,R74,T74,V74,X74,Z74,AB74,AD74,AF74,AH74,AJ74,AL74) -> 0 | E74: =SUM(G74,I74,K74,M74,O74,Q74,S74,U74,W74,Y74,AA74,AC74,AE74,,AG74,AI74,AK74,AM74) -> 0
A75: TOTAL | C75: =SUM(D75:E75) -> 0 | D75: =SUM(F75,H75,J75,L75,N75,P75,R75,T75,V75,X75,Z75,AB75,AD75,AF75,AH75,AJ75,AL75) -> 0 | E75: =SUM(G75,I75,K75,M75,O75,Q75,S75,U75,W75,Y75,AA75,AC75,AE75,,AG75,AI75,AK75,AM75) -> 0 | F75: =SUM(F73:F74) -> 0 | G75: =SUM(G73:G74) -> 0 | H75: =SUM(H73:H74) -> 0 | I75: =SUM(I73:I74) -> 0 | J75: =SUM(J73:J74) -> 0 | K75: =SUM(K73:K74) -> 0 | L75: =SUM(L73:L74) -> 0 | M75: =SUM(M73:M74) -> 0 | ... AM75: =SUM(AM73:AM74) -> 0
A76: SECCIÓN G: INTERVENCIÓN INDIVIDUAL DEL USUARIO EN PROGRAMA ELIGE VIDA SANA
A77: PROFESIONAL | B77: PRESTACIÓN | C77: TOTAL | F77: RANGO ETARIO Y SEXO | AJ77: Gestantes | AK77: Post Parto | AL77: Pueblos Originarios | AM77: Migrantes | AN77: Espacios Amigables/ Adolescentes
F78: Menos de 2 años | H78: 2 - 4 años | J78: 5 - 9 años | L78: 10 - 14 años | N78: 15 - 18 años | P78: 19 años | R78: 20 - 24 años | T78: 25 - 29 años | V78: 30 - 34 años | X78: 35 - 39 años | Z78: 40 - 44 años | AB78: 45 - 49 años | AD78: 50 - 54 años | AF78: 55 - 59 años | AH78: 60 - 64 años
C79: Ambos Sexos | D79: Hombres | E79: Mujeres | F79: Hombres | G79: Mujeres | H79: Hombres | I79: Mujeres | J79: Hombres | K79: Mujeres | L79: Hombres | M79: Mujeres | N79: Hombres | O79: Mujeres | P79: Hombres | Q79: Mujeres | R79: Hombres | S79: Mujeres | T79: Hombres | U79: Mujeres | V79: Hombres | W79: Mujeres | X79: Hombres | Y79: Mujeres | Z79: Hombres | AA79: Mujeres | AB79: Hombres | AC79: Mujeres | AD79: Hombres | AE79: Mujeres | AF79: Hombres | AG79: Mujeres | AH79: Hombres | AI79: Mujeres
A80: Profesional de la actividad física | B80: Evaluación | C80: =SUM(D80:E80) -> 0 | D80: =SUM(F80,H80,J80,L80,N80,P80,R80,T80,V80,X80,Z80,AB80,AD80,AF80,AH80) -> 0 | E80: =SUM(G80,I80,K80,M80,O80,Q80,S80,U80,W80,Y80,AA80,AC80,AE80,AG80,AI80) -> 0 | AO80: =BO80&BP80&BQ80&BR80&BS80 | BO80: =IF(AND(E80>0,AJ80="")," * No olvide digitar la variable Gestantes. Digite Cero si no tiene.",IF(AJ80>E80," * La variable Gestantes No puede ser mayor al Total Mujeres.","")) | BP80: =IF(AND(E80>0,AK80="")," * No olvide digitar la variable Postparto. Digite Cero si no tiene.",IF(AK80>E80," * La variable Postparto No puede ser mayor al Total Mujeres.","")) | BQ80: =IF(AND(C80>0,AL80="")," * No olvide digitar la variable Pueblos originarios. Digite Cero si no tiene.",IF(AL80>C80," * La variable Pueblos originarios No puede ser mayor al Total.","")) | BR80: =IF(AND(C80>0,AM80="")," * No olvide digitar la variable Migrantes. Digite Cero si no tiene.",IF(AM80>C80," * La variable Migrantes No puede ser mayor al Total.","")) | BS80: =IF(AND(C80>0,AN80="")," * No olvide digitar la variable Espacios Amigables/adolescentes. Digite Cero si no tiene.",IF(AN80>C80," * La variable Espacios Amigables/adolescentes No puede ser mayor al Total.","")) | BU80: =IF(AND(E80>0,AJ80=""),1,IF(AJ80>E80,1,0)) -> 0 | BV80: =IF(AND(E80>0,AK80=""),1,IF(AK80>E80,1,0)) -> 0 | BW80: =IF(AND(C80>0,AL80=""),1,IF(AL80>C80,1,0)) -> 0 | BX80: =IF(AND(C80>0,AM80=""),1,IF(AM80>C80,1,0)) -> 0 | BY80: =IF(AND(C80>0,AN80=""),1,IF(AN80>C80,1,0)) -> 0
A81: Nutricionista | B81: Consulta Nutricional | C81: =SUM(D81:E81) -> 0 | D81: =SUM(F81,H81,J81,L81,N81,P81,R81,T81,V81,X81,Z81,AB81,AD81,AF81,AH81) -> 0 | E81: =SUM(G81,I81,K81,M81,O81,Q81,S81,U81,W81,Y81,AA81,AC81,AE81,AG81,AI81) -> 0 | AO81: =BO81&BP81&BQ81&BR81&BS81 | BO81: =IF(AND(E81>0,AJ81="")," * No olvide digitar la variable Gestantes. Digite Cero si no tiene.",IF(AJ81>E81," * La variable Gestantes No puede ser mayor al Total Mujeres.","")) | BP81: =IF(AND(E81>0,AK81="")," * No olvide digitar la variable Postparto. Digite Cero si no tiene.",IF(AK81>E81," * La variable Postparto No puede ser mayor al Total Mujeres.","")) | BQ81: =IF(AND(C81>0,AL81="")," * No olvide digitar la variable Pueblos originarios. Digite Cero si no tiene.",IF(AL81>C81," * La variable Pueblos originarios No puede ser mayor al Total.","")) | BR81: =IF(AND(C81>0,AM81="")," * No olvide digitar la variable Migrantes. Digite Cero si no tiene.",IF(AM81>C81," * La variable Migrantes No puede ser mayor al Total.","")) | BS81: =IF(AND(C81>0,AN81="")," * No olvide digitar la variable Espacios Amigables/adolescentes. Digite Cero si no tiene.",IF(AN81>C81," * La variable Espacios Amigables/adolescentes No puede ser mayor al Total.","")) | BU81: =IF(AND(E81>0,AJ81=""),1,IF(AJ81>E81,1,0)) -> 0 | BV81: =IF(AND(E81>0,AK81=""),1,IF(AK81>E81,1,0)) -> 0 | BW81: =IF(AND(C81>0,AL81=""),1,IF(AL81>C81,1,0)) -> 0 | BX81: =IF(AND(C81>0,AM81=""),1,IF(AM81>C81,1,0)) -> 0 | BY81: =IF(AND(C81>0,AN81=""),1,IF(AN81>C81,1,0)) -> 0
B82: Consulta Nutricional de seguimiento | C82: =SUM(D82:E82) -> 0 | D82: =SUM(F82,H82,J82,L82,N82,P82,R82,T82,V82,X82,Z82,AB82,AD82,AF82,AH82) -> 0 | E82: =SUM(G82,I82,K82,M82,O82,Q82,S82,U82,W82,Y82,AA82,AC82,AE82,AG82,AI82) -> 0 | AO82: =BO82&BP82&BQ82&BR82&BS82 | BO82: =IF(AND(E82>0,AJ82="")," * No olvide digitar la variable Gestantes. Digite Cero si no tiene.",IF(AJ82>E82," * La variable Gestantes No puede ser mayor al Total Mujeres.","")) | BP82: =IF(AND(E82>0,AK82="")," * No olvide digitar la variable Postparto. Digite Cero si no tiene.",IF(AK82>E82," * La variable Postparto No puede ser mayor al Total Mujeres.","")) | BQ82: =IF(AND(C82>0,AL82="")," * No olvide digitar la variable Pueblos originarios. Digite Cero si no tiene.",IF(AL82>C82," * La variable Pueblos originarios No puede ser mayor al Total.","")) | BR82: =IF(AND(C82>0,AM82="")," * No olvide digitar la variable Migrantes. Digite Cero si no tiene.",IF(AM82>C82," * La variable Migrantes No puede ser mayor al Total.","")) | BS82: =IF(AND(C82>0,AN82="")," * No olvide digitar la variable Espacios Amigables/adolescentes. Digite Cero si no tiene.",IF(AN82>C82," * La variable Espacios Amigables/adolescentes No puede ser mayor al Total.","")) | BU82: =IF(AND(E82>0,AJ82=""),1,IF(AJ82>E82,1,0)) -> 0 | BV82: =IF(AND(E82>0,AK82=""),1,IF(AK82>E82,1,0)) -> 0 | BW82: =IF(AND(C82>0,AL82=""),1,IF(AL82>C82,1,0)) -> 0 | BX82: =IF(AND(C82>0,AM82=""),1,IF(AM82>C82,1,0)) -> 0 | BY82: =IF(AND(C82>0,AN82=""),1,IF(AN82>C82,1,0)) -> 0
A83: Psicólogo/a | B83: Consulta | C83: =SUM(D83:E83) -> 0 | D83: =SUM(F83,H83,J83,L83,N83,P83,R83,T83,V83,X83,Z83,AB83,AD83,AF83,AH83) -> 0 | E83: =SUM(G83,I83,K83,M83,O83,Q83,S83,U83,W83,Y83,AA83,AC83,AE83,AG83,AI83) -> 0 | AO83: =BO83&BP83&BQ83&BR83&BS83 | BO83: =IF(AND(E83>0,AJ83="")," * No olvide digitar la variable Gestantes. Digite Cero si no tiene.",IF(AJ83>E83," * La variable Gestantes No puede ser mayor al Total Mujeres.","")) | BP83: =IF(AND(E83>0,AK83="")," * No olvide digitar la variable Postparto. Digite Cero si no tiene.",IF(AK83>E83," * La variable Postparto No puede ser mayor al Total Mujeres.","")) | BQ83: =IF(AND(C83>0,AL83="")," * No olvide digitar la variable Pueblos originarios. Digite Cero si no tiene.",IF(AL83>C83," * La variable Pueblos originarios No puede ser mayor al Total.","")) | BR83: =IF(AND(C83>0,AM83="")," * No olvide digitar la variable Migrantes. Digite Cero si no tiene.",IF(AM83>C83," * La variable Migrantes No puede ser mayor al Total.","")) | BS83: =IF(AND(C83>0,AN83="")," * No olvide digitar la variable Espacios Amigables/adolescentes. Digite Cero si no tiene.",IF(AN83>C83," * La variable Espacios Amigables/adolescentes No puede ser mayor al Total.","")) | BU83: =IF(AND(E83>0,AJ83=""),1,IF(AJ83>E83,1,0)) -> 0 | BV83: =IF(AND(E83>0,AK83=""),1,IF(AK83>E83,1,0)) -> 0 | BW83: =IF(AND(C83>0,AL83=""),1,IF(AL83>C83,1,0)) -> 0 | BX83: =IF(AND(C83>0,AM83=""),1,IF(AM83>C83,1,0)) -> 0 | BY83: =IF(AND(C83>0,AN83=""),1,IF(AN83>C83,1,0)) -> 0
A84: SECCIÓN H.1 : SERVICIOS FARMACÉUTICOS EN ATENCIÓN PRIMARIA
A85: COMPONENTE | C85: Atención abierta | D85: Atención cerrada | E85: Servicios Farmacéuticos realizados en establecimientos de salud | F85: Servicios Farmacéuticos realizados en domicilio
A87: Atención Farmacéutica
A88: Revisión de la medicación sin entrevista
A89: Revisión de la mediación con entrevista
A90: Conciliación farmacéutica
A91: Educación farmacéutica
A92: Seguimiento Farmacoterapéutico
A93: Farmacovigilancia
A94: Reporte reacción adversa a medicamentos
A95: Reporte falla de calidad
A96: Reporte de eventos adversos asociados a medicamentos
A97: SECCIÓN H.2 : SERVICIOS FARMACÉUTICOS EN ATENCIÓN HOSPITALARIA
A98: COMPONENTE | B98: TOTAL | C98: Atención abierta | D98: Atención cerrada | E98: Urgencia
A100: Atención Farmacéutica
A101: Revisión de la medicación sin entrevista | B101: =SUM(C101:E101) -> 97 | C101: 67 | D101: 30
A102: Revisión de la mediación con entrevista | B102: =SUM(C102:E102) -> 0
A103: Conciliación farmacéutica | B103: =SUM(C103:E103) -> 0
...

Sheet FEBRERO
A1: SERVICIO DE SALUD
A2: =CONCATENATE("COMUNA: ",[3]NOMBRE!B2, " (",[3]NOMBRE!C2,[3]NOMBRE!D2,[3]NOMBRE!E2,[3]NOMBRE!F2,[3]NOMBRE!G2,")") -> COMUNA: LINARES (07401)
A3: =CONCATENATE("ESTABLECIMIENTO/ESTRATEGIA: ", [3]NOMBRE!B3, " (",[3]NOMBRE!C3,[3]NOMBRE!D3,[3]NOMBRE!E3,[3]NOMBRE!F3,[3]NOMBRE!G3,[3]NOMBRE!H3,")") -> ESTABLECIMIENTO/ESTRATEGIA: HOSPITAL PRESIDENTE CARLOS IBAÑEZ DEL CAMPO (116108)
A4: =CONCATENATE("MES: ",[3]NOMBRE!B6, " (",[3]NOMBRE!C6,[3]NOMBRE!D6,")") -> MES: FEBRERO (02)
A5: =CONCATENATE("AÑO: ",[3]NOMBRE!B7) -> AÑO: 2025
A6: REM-A04. CONSULTAS Y OTRAS ATENCIONES EN LA RED
A8: SECCIÓN A: CONSULTAS MÉDICAS
A9: TIPO DE CONSULTA | B9: TOTAL | E9: RANGO ETARIO Y SEXO | AO9: Pueblos Originarios | AP9: Migrantes | AQ9: Niños, Niñas, Adolescentes y Jóvenes SENAME | AR9: Niños, Niñas, Adolescentes y Jóvenes Mejor Niñez | AS9: Por Campaña de Invierno
E10: Menos de 1 año | G10: 1 - 4 años | I10: 5 - 9 años | K10: 10 - 14 años | M10: 15 - 19 años | O10: 20 - 24 años | Q10: 25 - 29 años | S10: 30 - 34 años | U10: 35 - 39 años | W10: 40 - 44 años | Y10: 45 - 49 años | AA10: 50 - 54 años | AC10: 55 - 59 años | AE10: 60 - 64 años | AG10: 65 - 69 años | AI10: 70 - 74 años | AK10: 75 - 79 años | AM10: 80 y mas años
B11: Ambos Sexos | C11: Hombres | D11: Mujeres | E11: Hombres | F11: Mujeres | G11: Hombres | H11: Mujeres | I11: Hombres | J11: Mujeres | K11: Hombres | L11: Mujeres | M11: Hombres | N11: Mujeres | O11: Hombres | P11: Mujeres | Q11: Hombres | R11: Mujeres | S11: Hombres | T11: Mujeres | U11: Hombres | V11: Mujeres | W11: Hombres | X11: Mujeres | Y11: Hombres | Z11: Mujeres | AA11: Hombres | AB11: Mujeres | AC11: Hombres | AD11: Mujeres | AE11: Hombres | AF11: Mujeres | AG11: Hombres | AH11: Mujeres | AI11: Hombres | AJ11: Mujeres | AK11: Hombres | AL11: Mujeres | AM11: Hombres | AN11: Mujeres
A12: TOTAL | B12: =SUM(B13:B26) -> 0 | C12: =SUM(C13:C26) -> 0 | D12: =SUM(D13:D26) -> 0 | E12: =SUM(E13:E26) -> 0 | F12: =SUM(F13:F26) -> 0 | G12: =SUM(G13:G26) -> 0 | H12: =SUM(H13:H26) -> 0 | I12: =SUM(I13:I26) -> 0 | ... AS12: =SUM(AS13:AS26) -> 0
A13: IRA Alta | B13: =SUM(C13:D13) -> 0 | C13: =SUM(E13+G13+I13+K13+M13+O13+Q13+S13+U13+W13+Y13+AA13+AC13+AE13+AG13+AI13+AK13+AM13) -> 0 | D13: =SUM(F13+H13+J13+L13+N13+P13+R13+T13+V13+X13+Z13+AB13+AD13+AF13+AH13+AJ13+AL13+AN13) -> 0 | AT13: =BO13&BP13&BQ13&BR13&BS13 | BO13: =IF(AND(B13>0,AO13="")," * No olvide digitar la variable Pueblos originarios. Digite Cero si no tiene.",IF(AO13>B13," * La variable Pueblos originarios No puede ser mayor al Total.","")) | BP13: =IF(AND(B13>0,AP13="")," * No olvide digitar la variable Migrantes. Digite Cero si no tiene.",IF(AP13>B13," * La variable Migrantes No puede ser mayor al Total.","")) | BQ13: =IF(AND(B13>0,AQ13="")," * No olvide digitar la variable Niños, niñas, adolescentes y jóvenes SENAME. Digite Cero si no tiene.",IF(AQ13>B13," * La variable Niños, niñas, adolescentes y jóvenes SENAME No puede ser mayor al Total.","")) | BR13: =IF(AND(B13>0,AR13="")," * No olvide digitar la variable Niños, niñas, adolescentes y jóvenes Mejor niñez. Digite Cero si no tiene.",IF(AR13>B13," * La variable Niños, niñas, adolescentes y jóvenes Mejor Niñez No puede ser mayor al Total.","")) | BS13: =IF(AND(B13>0,AS13="")," * No olvide digitar la variable Por campaña de invierno. Digite Cero si no tiene.",IF(AS13>B13," * La variable Por campaña de invierno No puede ser mayor al Total.","")) | BU13: =IF(AND(B13>0,AO13=""),1,IF(AO13>B13,1,0)) -> 0 | BV13: =IF(AND(B13>0,AP13=""),1,IF(AP13>B13,1,0)) -> 0 | BW13: =IF(AND(B13>0,AQ13=""),1,IF(AQ13>B13,1,0)) -> 0 | BX13: =IF(AND(B13>0,AR13=""),1,IF(AR13>B13,1,0)) -> 0 | BY13: =IF(AND(B13>0,AS13=""),1,IF(AS13>B13,1,0)) -> 0
A14: Síndrome Bronquial Obstructivo | B14: =SUM(C14:D14) -> 0 | C14: =SUM(E14+G14+I14) -> 0 | D14: =SUM(F14+H14+J14) -> 0 | AT14: =BO14&BP14&BQ14&BR14&BS14 | BO14: =IF(AND(B14>0,AO14="")," * No olvide digitar la variable Pueblos originarios. Digite Cero si no tiene.",IF(AO14>B14," * La variable Pueblos originarios No puede ser mayor al Total.","")) | BP14: =IF(AND(B14>0,AP14="")," * No olvide digitar la variable Migrantes. Digite Cero si no tiene.",IF(AP14>B14," * La variable Migrantes No puede ser mayor al Total.","")) | BQ14: =IF(AND(B14>0,AQ14="")," * No olvide digitar la variable Niños, niñas, adolescentes y jóvenes SENAME. Digite Cero si no tiene.",IF(AQ14>B14," * La variable Niños, niñas, adolescentes y jóvenes SENAME No puede ser mayor al Total.","")) | BR14: =IF(AND(B14>0,AR14="")," * No olvide digitar la variable Niños, niñas, adolescentes y jóvenes Mejor niñez. Digite Cero si no tiene.",IF(AR14>B14," * La variable Niños, niñas, adolescentes y jóvenes Mejor Niñez No puede ser mayor al Total.","")) | BS14: =IF(AND(B14>0,AS14="")," * No olvide digitar la variable Por campaña de invierno. Digite Cero si no tiene.",IF(AS14>B14," * La variable Por campaña de invierno No puede ser mayor al Total.","")) | BU14: =IF(AND(B14>0,AO14=""),1,IF(AO14>B14,1,0)) -> 0 | BV14: =IF(AND(B14>0,AP14=""),1,IF(AP14>B14,1,0)) -> 0 | BW14: =IF(AND(B14>0,AQ14=""),1,IF(AQ14>B14,1,0)) -> 0 | BX14: =IF(AND(B14>0,AR14=""),1,IF(AR14>B14,1,0)) -> 0 | BY14: =IF(AND(B14>0,AS14=""),1,IF(AS14>B14,1,0)) -> 0
A15: Neumonía | B15: =SUM(C15:D15) -> 0 | C15: =SUM(E15+G15+I15+K15+M15+O15+Q15+S15+U15+W15+Y15+AA15+AC15+AE15+AG15+AI15+AK15+AM15) -> 0 | D15: =SUM(F15+H15+J15+L15+N15+P15+R15+T15+V15+X15+Z15+AB15+AD15+AF15+AH15+AJ15+AL15+AN15) -> 0 | AT15: =BO15&BP15&BQ15&BR15&BS15 | BO15: =IF(AND(B15>0,AO15="")," * No olvide digitar la variable Pueblos originarios. Digite Cero si no tiene.",IF(AO15>B15," * La variable Pueblos originarios No puede ser mayor al Total.","")) | BP15: =IF(AND(B15>0,AP15="")," * No olvide digitar la variable Migrantes. Digite Cero si no tiene.",IF(AP15>B15," * La variable Migrantes No puede ser mayor al Total.","")) | BQ15: =IF(AND(B15>0,AQ15="")," * No olvide digitar la variable Niños, niñas, adolescentes y jóvenes SENAME. Digite Cero si no tiene.",IF(AQ15>B15," * La variable Niños, niñas, adolescentes y jóvenes SENAME No puede ser mayor al Total.","")) | BR15: =IF(AND(B15>0,AR15="")," * No olvide digitar la variable Niños, niñas, adolescentes y jóvenes Mejor niñez. Digite Cero si no tiene.",IF(AR15>B15," * La variable Niños, niñas, adolescentes y jóvenes Mejor Niñez No puede ser mayor al Total.","")) | BS15: =IF(AND(B15>0,AS15="")," * No olvide digitar la variable Por campaña de invierno. Digite Cero si no tiene.",IF(AS15>B15," * La variable Por campaña de invierno No puede ser mayor al Total.","")) | BU15: =IF(AND(B15>0,AO15=""),1,IF(AO15>B15,1,0)) -> 0 | BV15: =IF(AND(B15>0,AP15=""),1,IF(AP15>B15,1,0)) -> 0 | BW15: =IF(AND(B15>0,AQ15=""),1,IF(AQ15>B15,1,0)) -> 0 | BX15: =IF(AND(B15>0,AR15=""),1,IF(AR15>B15,1,0)) -> 0 | BY15: =IF(AND(B15>0,AS15=""),1,IF(AS15>B15,1,0)) -> 0
A16: Exacerbación Asma | B16: =SUM(C16:D16) -> 0 | C16: =SUM(I16+K16+M16+O16+Q16+S16+U16+W16+Y16+AA16+AC16+AE16+AG16+AI16+AK16+AM16) -> 0 | D16: =SUM(J16+L16+N16+P16+R16+T16+V16+X16+Z16+AB16+AD16+AF16+AH16+AJ16+AL16+AN16) -> 0 | AT16: =BO16&BP16&BQ16&BR16&BS16 | BO16: =IF(AND(B16>0,AO16="")," * No olvide digitar la variable Pueblos originarios. Digite Cero si no tiene.",IF(AO16>B16," * La variable Pueblos originarios No puede ser mayor al Total.","")) | BP16: =IF(AND(B16>0,AP16="")," * No olvide digitar la variable Migrantes. Digite Cero si no tiene.",IF(AP16>B16," * La variable Migrantes No puede ser mayor al Total.","")) | BQ16: =IF(AND(B16>0,AQ16="")," * No olvide digitar la variable Niños, niñas, adolescentes y jóvenes SENAME. Digite Cero si no tiene.",IF(AQ16>B16," * La variable Niños, niñas, adolescentes y jóvenes SENAME No puede ser mayor al Total.","")) | BR16: =IF(AND(B16>0,AR16="")," * No olvide digitar la variable Niños, niñas, adolescentes y jóvenes Mejor niñez. Digite Cero si no tiene.",IF(AR16>B16," * La variable Niños, niñas, adolescentes y jóvenes Mejor Niñez No puede ser mayor al Total.","")) | BS16: =IF(AND(B16>0,AS16="")," * No olvide digitar la variable Por campaña de invierno. Digite Cero si no tiene.",IF(AS16>B16," * La variable Por campaña de invierno No puede ser mayor al Total.","")) | BU16: =IF(AND(B16>0,AO16=""),1,IF(AO16>B16,1,0)) -> 0 | BV16: =IF(AND(B16>0,AP16=""),1,IF(AP16>B16,1,0)) -> 0 | BW16: =IF(AND(B16>0,AQ16=""),1,IF(AQ16>B16,1,0)) -> 0 | BX16: =IF(AND(B16>0,AR16=""),1,IF(AR16>B16,1,0)) -> 0 | BY16: =IF(AND(B16>0,AS16=""),1,IF(AS16>B16,1,0)) -> 0
A17: Enfermedad Pulmonar Obstructiva Crónica | B17: =SUM(C17:D17) -> 0 | C17: =SUM(U17+W17+Y17+AA17+AC17+AE17+AG17+AI17+AK17+AM17) -> 0 | D17: =SUM(V17+X17+Z17+AB17+AD17+AF17+AH17+AJ17+AL17+AN17) -> 0 | AT17: =BO17&BP17&BQ17&BR17&BS17 | BO17: =IF(AND(B17>0,AO17="")," * No olvide digitar la variable Pueblos originarios. Digite Cero si no tiene.",IF(AO17>B17," * La variable Pueblos originarios No puede ser mayor al Total.","")) | BP17: =IF(AND(B17>0,AP17="")," * No olvide digitar la variable Migrantes. Digite Cero si no tiene.",IF(AP17>B17," * La variable Migrantes No puede ser mayor al Total.","")) | BQ17: =IF(AND(B17>0,AQ17="")," * No olvide digitar la variable Niños, niñas, adolescentes y jóvenes SENAME. Digite Cero si no tiene.",IF(AQ17>B17," * La variable Niños, niñas, adolescentes y jóvenes SENAME No puede ser mayor al Total.","")) | BR17: =IF(AND(B17>0,AR17="")," * No olvide digitar la variable Niños, niñas, adolescentes y jóvenes Mejor niñez. Digite Cero si no tiene.",IF(AR17>B17," * La variable Niños, niñas, adolescentes y jóvenes Mejor Niñez No puede ser mayor al Total.","")) | BS17: =IF(AND(B17>0,AS17="")," * No olvide digitar la variable Por campaña de invierno. Digite Cero si no tiene.",IF(AS17>B17," * La variable Por campaña de invierno No puede ser mayor al Total.","")) | BU17: =IF(AND(B17>0,AO17=""),1,IF(AO17>B17,1,0)) -> 0 | BV17: =IF(AND(B17>0,AP17=""),1,IF(AP17>B17,1,0)) -> 0 | BW17: =IF(AND(B17>0,AQ17=""),1,IF(AQ17>B17,1,0)) -> 0 | BX17: =IF(AND(B17>0,AR17=""),1,IF(AR17>B17,1,0)) -> 0 | BY17: =IF(AND(B17>0,AS17=""),1,IF(AS17>B17,1,0)) -> 0
A18: Otras respiratorias | B18: =SUM(C18:D18) -> 0 | C18: =SUM(E18+G18+I18+K18+M18+O18+Q18+S18+U18+W18+Y18+AA18+AC18+AE18+AG18+AI18+AK18+AM18) -> 0 | D18: =SUM(F18+H18+J18+L18+N18+P18+R18+T18+V18+X18+Z18+AB18+AD18+AF18+AH18+AJ18+AL18+AN18) -> 0 | AT18: =BO18&BP18&BQ18&BR18&BS18 | BO18: =IF(AND(B18>0,AO18="")," * No olvide digitar la variable Pueblos originarios. Digite Cero si no tiene.",IF(AO18>B18," * La variable Pueblos originarios No puede ser mayor al Total.","")) | BP18: =IF(AND(B18>0,AP18="")," * No olvide digitar la variable Migrantes. Digite Cero si no tiene.",IF(AP18>B18," * La variable Migrantes No puede ser mayor al Total.","")) | BQ18: =IF(AND(B18>0,AQ18="")," * No olvide digitar la variable Niños, niñas, adolescentes y jóvenes SENAME. Digite Cero si no tiene.",IF(AQ18>B18," * La variable Niños, niñas, adolescentes y jóvenes SENAME No puede ser mayor al Total.","")) | BR18: =IF(AND(B18>0,AR18="")," * No olvide digitar la variable Niños, niñas, adolescentes y jóvenes Mejor niñez. Digite Cero si no tiene.",IF(AR18>B18," * La variable Niños, niñas, adolescentes y jóvenes Mejor Niñez No puede ser mayor al Total.","")) | BS18: =IF(AND(B18>0,AS18="")," * No olvide digitar la variable Por campaña de invierno. Digite Cero si no tiene.",IF(AS18>B18," * La variable Por campaña de invierno No puede ser mayor al Total.","")) | BU18: =IF(AND(B18>0,AO18=""),1,IF(AO18>B18,1,0)) -> 0 | BV18: =IF(AND(B18>0,AP18=""),1,IF(AP18>B18,1,0)) -> 0 | BW18: =IF(AND(B18>0,AQ18=""),1,IF(AQ18>B18,1,0)) -> 0 | BX18: =IF(AND(B18>0,AR18=""),1,IF(AR18>B18,1,0)) -> 0 | BY18: =IF(AND(B18>0,AS18=""),1,IF(AS18>B18,1,0)) -> 0
A19: Obstétrica | B19: =SUM(C19:D19) -> 0 | D19: =SUM(L19+N19+P19+R19+T19+V19+X19+Z19+AB19+AD19+AF19) -> 0 | AT19: =BO19&BP19&BQ19&BR19&BS19 | BO19: =IF(AND(B19>0,AO19="")," * No olvide digitar la variable Pueblos originarios. Digite Cero si no tiene.",IF(AO19>B19," * La variable Pueblos originarios No puede ser mayor al Total.","")) | BP19: =IF(AND(B19>0,AP19="")," * No olvide digitar la variable Migrantes. Digite Cero si no tiene.",IF(AP19>B19," * La variable Migrantes No puede ser mayor al Total.","")) | BQ19: =IF(AND(B19>0,AQ19="")," * No olvide digitar la variable Niños, niñas, adolescentes y jóvenes SENAME. Digite Cero si no tiene.",IF(AQ19>B19," * La variable Niños, niñas, adolescentes y jóvenes SENAME No puede ser mayor al Total.","")) | BR19: =IF(AND(B19>0,AR19="")," * No olvide digitar la variable Niños, niñas, adolescentes y jóvenes Mejor niñez. Digite Cero si no tiene.",IF(AR19>B19," * La variable Niños, niñas, adolescentes y jóvenes Mejor Niñez No puede ser mayor al Total.","")) | BU19: =IF(AND(B19>0,AO19=""),1,IF(AO19>B19,1,0)) -> 0 | BV19: =IF(AND(B19>0,AP19=""),1,IF(AP19>B19,1,0)) -> 0 | BW19: =IF(AND(B19>0,AQ19=""),1,IF(AQ19>B19,1,0)) -> 0 | BX19: =IF(AND(B19>0,AR19=""),1,IF(AR19>B19,1,0)) -> 0
A20: Ginecológica | B20: =SUM(C20:D20) -> 0 | D20: =SUM(F20+H20+J20+L20+N20+P20+R20+T20+V20+X20+Z20+AB20+AD20+AF20+AH20+AJ20+AL20+AN20) -> 0 | AT20: =BO20&BP20&BQ20&BR20&BS20 | BO20: =IF(AND(B20>0,AO20="")," * No olvide digitar la variable Pueblos originarios. Digite Cero si no tiene.",IF(AO20>B20," * La variable Pueblos originarios No puede ser mayor al Total.","")) | BP20: =IF(AND(B20>0,AP20="")," * No olvide digitar la variable Migrantes. Digite Cero si no tiene.",IF(AP20>B20," * La variable Migrantes No puede ser mayor al Total.","")) | BQ20: =IF(AND(B20>0,AQ20="")," * No olvide digitar la variable Niños, niñas, adolescentes y jóvenes SENAME. Digite Cero si no tiene.",IF(AQ20>B20," * La variable Niños, niñas, adolescentes y jóvenes SENAME No puede ser mayor al Total.","")) | BR20: =IF(AND(B20>0,AR20="")," * No olvide digitar la variable Niños, niñas, adolescentes y jóvenes Mejor niñez. Digite Cero si no tiene.",IF(AR20>B20," * La variable Niños, niñas, adolescentes y jóvenes Mejor Niñez No puede ser mayor al Total.","")) | BU20: =IF(AND(B20>0,AO20=""),1,IF(AO20>B20,1,0)) -> 0 | BV20: =IF(AND(B20>0,AP20=""),1,IF(AP20>B20,1,0)) -> 0 | BW20: =IF(AND(B20>0,AQ20=""),1,IF(AQ20>B20,1,0)) -> 0 | BX20: =IF(AND(B20>0,AR20=""),1,IF(AR20>B20,1,0)) -> 0
A21: Ginecológica por Infertilidad | B21: =SUM(C21:D21) -> 0 | C21: =SUM(O21+Q21+S21+U21+W21+Y21+AA21) -> 0 | D21: =SUM(P21+R21+T21+V21+X21+Z21+AB21) -> 0 | AT21: =BO21&BP21&BQ21&BR21&BS21 | BO21: =IF(AND(B21>0,AO21="")," * No olvide digitar la variable Pueblos originarios. Digite Cero si no tiene.",IF(AO21>B21," * La variable Pueblos originarios No puede ser mayor al Total.","")) | BP21: =IF(AND(B21>0,AP21="")," * No olvide digitar la variable Migrantes. Digite Cero si no tiene.",IF(AP21>B21," * La variable Migrantes No puede ser mayor al Total.","")) | BQ21: =IF(AND(B21>0,AQ21="")," * No olvide digitar la variable Niños, niñas, adolescentes y jóvenes SENAME. Digite Cero si no tiene.",IF(AQ21>B21," * La variable Niños, niñas, adolescentes y jóvenes SENAME No puede ser mayor al Total.","")) | BR21: =IF(AND(B21>0,AR21="")," * No olvide digitar la variable Niños, niñas, adolescentes y jóvenes Mejor niñez. Digite Cero si no tiene.",IF(AR21>B21," * La variable Niños, niñas, adolescentes y jóvenes Mejor Niñez No puede ser mayor al Total.","")) | BU21: =IF(AND(B21>0,AO21=""),1,IF(AO21>B21,1,0)) -> 0 | BV21: =IF(AND(B21>0,AP21=""),1,IF(AP21>B21,1,0)) -> 0 | BW21: =IF(AND(B21>0,AQ21=""),1,IF(AQ21>B21,1,0)) -> 0 | BX21: =IF(AND(B21>0,AR21=""),1,IF(AR21>B21,1,0)) -> 0
A22: Infección Transmisión Sexual | B22: =SUM(C22:D22) -> 0 | C22: =SUM(E22+G22+I22+K22+M22+O22+Q22+S22+U22+W22+Y22+AA22+AC22+AE22+AG22+AI22+AK22+AM22) -> 0 | D22: =SUM(F22+H22+J22+L22+N22+P22+R22+T22+V22+X22+Z22+AB22+AD22+AF22+AH22+AJ22+AL22+AN22) -> 0 | AT22: =BO22&BP22&BQ22&BR22&BS22 | BO22: =IF(AND(B22>0,AO22="")," * No olvide digitar la variable Pueblos originarios. Digite Cero si no tiene.",IF(AO22>B22," * La variable Pueblos originarios No puede ser mayor al Total.","")) | BP22: =IF(AND(B22>0,AP22="")," * No olvide digitar la variable Migrantes. Digite Cero si no tiene.",IF(AP22>B22," * La variable Migrantes No puede ser mayor al Total.","")) | BQ22: =IF(AND(B22>0,AQ22="")," * No olvide digitar la variable Niños, niñas, adolescentes y jóvenes SENAME. Digite Cero si no tiene.",IF(AQ22>B22," * La variable Niños, niñas, adolescentes y jóvenes SENAME No puede ser mayor al Total.","")) | BR22: =IF(AND(B22>0,AR22="")," * No olvide digitar la variable Niños, niñas, adolescentes y jóvenes Mejor niñez. Digite Cero si no tiene.",IF(AR22>B22," * La variable Niños, niñas, adolescentes y jóvenes Mejor Niñez No puede ser mayor al Total.","")) | BU22: =IF(AND(B22>0,AO22=""),1,IF(AO22>B22,1,0)) -> 0 | BV22: =IF(AND(B22>0,AP22=""),1,IF(AP22>B22,1,0)) -> 0 | BW22: =IF(AND(B22>0,AQ22=""),1,IF(AQ22>B22,1,0)) -> 0 | BX22: =IF(AND(B22>0,AR22=""),1,IF(AR22>B22,1,0)) -> 0
A23: VIH-SIDA | B23: =SUM(C23:D23) -> 0 | C23: =SUM(E23+G23+I23+K23+M23+O23+Q23+S23+U23+W23+Y23+AA23+AC23+AE23+AG23+AI23+AK23+AM23) -> 0 | D23: =SUM(F23+H23+J23+L23+N23+P23+R23+T23+V23+X23+Z23+AB23+AD23+AF23+AH23+AJ23+AL23+AN23) -> 0 | AT23: =BO23&BP23&BQ23&BR23&BS23 | BO23: =IF(AND(B23>0,AO23="")," * No olvide digitar la variable Pueblos originarios. Digite Cero si no tiene.",IF(AO23>B23," * La variable Pueblos originarios No puede ser mayor al Total.","")) | BP23: =IF(AND(B23>0,AP23="")," * No olvide digitar la variable Migrantes. Digite Cero si no tiene.",IF(AP23>B23," * La variable Migrantes No puede ser mayor al Total.","")) | BQ23: =IF(AND(B23>0,AQ23="")," * No olvide digitar la variable Niños, niñas, adolescentes y jóvenes SENAME. Digite Cero si no tiene.",IF(AQ23>B23," * La variable Niños, niñas, adolescentes y jóvenes SENAME No puede ser mayor al Total.","")) | BR23: =IF(AND(B23>0,AR23="")," * No olvide digitar la variable Niños, niñas, adolescentes y jóvenes Mejor niñez. Digite Cero si no tiene.",IF(AR23>B23," * La variable Niños, niñas, adolescentes y jóvenes Mejor Niñez No puede ser mayor al Total.","")) | BU23: =IF(AND(B23>0,AO23=""),1,IF(AO23>B23,1,0)) -> 0 | BV23: =IF(AND(B23>0,AP23=""),1,IF(AP23>B23,1,0)) -> 0 | BW23: =IF(AND(B23>0,AQ23=""),1,IF(AQ23>B23,1,0)) -> 0 | BX23: =IF(AND(B23>0,AR23=""),1,IF(AR23>B23,1,0)) -> 0
A24: Salud Mental | B24: =SUM(C24:D24) -> 0 | C24: =SUM(G24+I24+K24+M24+O24+Q24+S24+U24+W24+Y24+AA24+AC24+AE24+AG24+AI24+AK24+AM24) -> 0 | D24: =SUM(H24+J24+L24+N24+P24+R24+T24+V24+X24+Z24+AB24+AD24+AF24+AH24+AJ24+AL24+AN24) -> 0 | AT24: =BO24&BP24&BQ24&BR24&BS24 | BO24: =IF(AND(B24>0,AO24="")," * No olvide digitar la variable Pueblos originarios. Digite Cero si no tiene.",IF(AO24>B24," * La variable Pueblos originarios No puede ser mayor al Total.","")) | BP24: =IF(AND(B24>0,AP24="")," * No olvide digitar la variable Migrantes. Digite Cero si no tiene.",IF(AP24>B24," * La variable Migrantes No puede ser mayor al Total.","")) | BQ24: =IF(AND(B24>0,AQ24="")," * No olvide digitar la variable Niños, niñas, adolescentes y jóvenes SENAME. Digite Cero si no tiene.",IF(AQ24>B24," * La variable Niños, niñas, adolescentes y jóvenes SENAME No puede ser mayor al Total.","")) | BR24: =IF(AND(B24>0,AR24="")," * No olvide digitar la variable Niños, niñas, adolescentes y jóvenes Mejor niñez. Digite Cero si no tiene.",IF(AR24>B24," * La variable Niños, niñas, adolescentes y jóvenes Mejor Niñez No puede ser mayor al Total.","")) | BU24: =IF(AND(B24>0,AO24=""),1,IF(AO24>B24,1,0)) -> 0 | BV24: =IF(AND(B24>0,AP24=""),1,IF(AP24>B24,1,0)) -> 0 | BW24: =IF(AND(B24>0,AQ24=""),1,IF(AQ24>B24,1,0)) -> 0 | BX24: =IF(AND(B24>0,AR24=""),1,IF(AR24>B24,1,0)) -> 0
A25: Cardiovascular | B25: =SUM(C25:D25) -> 0 | C25: =SUM(M25+O25+Q25+S25+U25+W25+Y25+AA25+AC25+AE25+AG25+AI25+AK25+AM25) -> 0 | D25: =SUM(N25+P25+R25+T25+V25+X25+Z25+AB25+AD25+AF25+AH25+AJ25+AL25+AN25) -> 0 | AT25: =BO25&BP25&BQ25&BR25&BS25 | BO25: =IF(AND(B25>0,AO25="")," * No olvide digitar la variable Pueblos originarios. Digite Cero si no tiene.",IF(AO25>B25," * La variable Pueblos originarios No puede ser mayor al Total.","")) | BP25: =IF(AND(B25>0,AP25="")," * No olvide digitar la variable Migrantes. Digite Cero si no tiene.",IF(AP25>B25," * La variable Migrantes No puede ser mayor al Total.","")) | BQ25: =IF(AND(B25>0,AQ25="")," * No olvide digitar la variable Niños, niñas, adolescentes y jóvenes SENAME. Digite Cero si no tiene.",IF(AQ25>B25," * La variable Niños, niñas, adolescentes y jóvenes SENAME No puede ser mayor al Total.","")) | BR25: =IF(AND(B25>0,AR25="")," * No olvide digitar la variable Niños, niñas, adolescentes y jóvenes Mejor niñez. Digite Cero si no tiene.",IF(AR25>B25," * La variable Niños, niñas, adolescentes y jóvenes Mejor Niñez No puede ser mayor al Total.","")) | BU25: =IF(AND(B25>0,AO25=""),1,IF(AO25>B25,1,0)) -> 0 | BV25: =IF(AND(B25>0,AP25=""),1,IF(AP25>B25,1,0)) -> 0 | BW25: =IF(AND(B25>0,AQ25=""),1,IF(AQ25>B25,1,0)) -> 0 | BX25: =IF(AND(B25>0,AR25=""),1,IF(AR25>B25,1,0)) -> 0
A26: Otras Morbilidades | B26: =SUM(C26:D26) -> 0 | C26: =SUM(E26+G26+I26+K26+M26+O26+Q26+S26+U26+W26+Y26+AA26+AC26+AE26+AG26+AI26+AK26+AM26) -> 0 | D26: =SUM(F26+H26+J26+L26+N26+P26+R26+T26+V26+X26+Z26+AB26+AD26+AF26+AH26+AJ26+AL26+AN26) -> 0 | AT26: =BO26&BP26&BQ26&BR26&BS26 | BO26: =IF(AND(B26>0,AO26="")," * No olvide digitar la variable Pueblos originarios. Digite Cero si no tiene.",IF(AO26>B26," * La variable Pueblos originarios No puede ser mayor al Total.","")) | BP26: =IF(AND(B26>0,AP26="")," * No olvide digitar la variable Migrantes. Digite Cero si no tiene.",IF(AP26>B26," * La variable Migrantes No puede ser mayor al Total.","")) | BQ26: =IF(AND(B26>0,AQ26="")," * No olvide digitar la variable Niños, niñas, adolescentes y jóvenes SENAME. Digite Cero si no tiene.",IF(AQ26>B26," * La variable Niños, niñas, adolescentes y jóvenes SENAME No puede ser mayor al Total.","")) | BR26: =IF(AND(B26>0,AR26="")," * No olvide digitar la variable Niños, niñas, adolescentes y jóvenes Mejor niñez. Digite Cero si no tiene.",IF(AR26>B26," * La variable Niños, niñas, adolescentes y jóvenes Mejor Niñez No puede ser mayor al Total.","")) | BS26: =IF(AND(B26>0,AS26="")," * No olvide digitar la variable Por campaña de invierno. Digite Cero si no tiene.",IF(AS26>B26," * La variable Por campaña de invierno No puede ser mayor al Total.","")) | BU26: =IF(AND(B26>0,AO26=""),1,IF(AO26>B26,1,0)) -> 0 | BV26: =IF(AND(B26>0,AP26=""),1,IF(AP26>B26,1,0)) -> 0 | BW26: =IF(AND(B26>0,AQ26=""),1,IF(AQ26>B26,1,0)) -> 0 | BX26: =IF(AND(B26>0,AR26=""),1,IF(AR26>B26,1,0)) -> 0 | BY26: =IF(AND(B26>0,AS26=""),1,IF(AS26>B26,1,0)) -> 0
A27: SECCIÓN B: CONSULTAS DE PROFESIONALES NO MÉDICOS
A28: PROFESIONAL | B28: TOTAL | E28: RANGO ETARIO Y SEXO | AO28: Pueblos Originarios | AP28: Migrantes | AQ28: Espacios Amigables | AR28: Niños, Niñas, Adolescentes y Jóvenes SENAME | AS28: Niños, Niñas, Adolescentes y Jóvenes Mejor Niñez
E29: Menos de 1 año | G29: 1 - 4 años | I29: 5 - 9 años | K29: 10 - 14 años | M29: 15 - 19 años | O29: 20 - 24 años | Q29: 25 - 29 años | S29: 30 - 34 años | U29: 35 - 39 años | W29: 40 - 44 años | Y29: 45 - 49 años | AA29: 50 - 54 años | AC29: 55 - 59 años | AE29: 60 - 64 años | AG29: 65 - 69 años | AI29: 70 - 74 años | AK29: 75 - 79 años | AM29: 80 y mas años
B30: Ambos Sexos | C30: Hombres | D30: Mujeres | E30: Hombres | F30: Mujeres | G30: Hombres | H30: Mujeres | I30: Hombres | J30: Mujeres | K30: Hombres | L30: Mujeres | M30: Hombres | N30: Mujeres | O30: Hombres | P30: Mujeres | Q30: Hombres | R30: Mujeres | S30: Hombres | T30: Mujeres | U30: Hombres | V30: Mujeres | W30: Hombres | X30: Mujeres | Y30: Hombres | Z30: Mujeres | AA30: Hombres | AB30: Mujeres | AC30: Hombres | AD30: Mujeres | AE30: Hombres | AF30: Mujeres | AG30: Hombres | AH30: Mujeres | AI30: Hombres | AJ30: Mujeres | AK30: Hombres | AL30: Mujeres | AM30: Hombres | AN30: Mujeres
A31: Enfermera/o | B31: =SUM(C31:D31) -> 0 | C31: =SUM(E31+G31+I31+K31+M31+O31+Q31+S31+U31+W31+Y31+AA31+AC31+AE31+AG31+AI31+AK31+AM31) -> 0 | D31: =SUM(F31+H31+J31+L31+N31+P31+R31+T31+V31+X31+Z31+AB31+AD31+AF31+AH31+AJ31+AL31+AN31) -> 0 | AT31: =BO31&BP31&BQ31&BR31&BS31 | BO31: =IF(AND(B31>0,AO31="")," * No olvide digitar la variable Pueblos originarios. Digite Cero si no tiene.",IF(AO31>B31," * La variable Pueblos originarios No puede ser mayor al Total.","")) | BP31: =IF(AND(B31>0,AP31="")," * No olvide digitar la variable Migrantes. Digite Cero si no tiene.",IF(AP31>B31," * La variable Migrantes No puede ser mayor al Total.","")) | BQ31: =IF(AND(B31>0,AQ31="")," * No olvide digitar la variable Espacios Amigables. Digite Cero si no tiene.",IF(AQ31>B31," * La variable Espacios Amigables No puede ser mayor al Total.","")) | BR31: =IF(AND(B31>0,AR31="")," * No olvide digitar la variable Niños, Niñas, Adolescentes y Jóvenes SENAME. Digite Cero si no tiene.",IF(AR31>B31," * La variable Niños, Niñas, Adolescentes y Jóvenes SENAME No puede ser mayor al Total.","")) | BS31: =IF(AND(B31>0,AS31="")," * No olvide digitar la variable Niños, Niñas, Adolescentes y Jóvenes Mejor Niñez. Digite Cero si no tiene.",IF(AS31>B31," * La variable Niños, Niñas, Adolescentes y Jóvenes Mejor Niñez No puede ser mayor al Total.","")) | BU31: =IF(AND(B31>0,AO31=""),1,IF(AO31>B31,1,0)) -> 0 | BV31: =IF(AND(B31>0,AP31=""),1,IF(AP31>B31,1,0)) -> 0 | BW31: =IF(AND(B31>0,AQ31=""),1,IF(AQ31>B31,1,0)) -> 0 | BX31: =IF(AND(B31>0,AR31=""),1,IF(AR31>B31,1,0)) -> 0 | BY31: =IF(AND(B31>0,AS31=""),1,IF(AS31>B31,1,0)) -> 0
A32: Matrona/ón (Morb. Ginecológica) | B32: =SUM(C32:D32) -> 0 | D32: =SUM(F32+H32+J32+L32+N32+P32+R32+T32+V32+X32+Z32+AB32+AD32+AF32+AH32+AJ32+AL32+AN32) -> 0 | AT32: =BO32&BP32&BQ32&BR32&BS32 | BO32: =IF(AND(B32>0,AO32="")," * No olvide digitar la variable Pueblos originarios. Digite Cero si no tiene.",IF(AO32>B32," * La variable Pueblos originarios No puede ser mayor al Total.","")) | BP32: =IF(AND(B32>0,AP32="")," * No olvide digitar la variable Migrantes. Digite Cero si no tiene.",IF(AP32>B32," * La variable Migrantes No puede ser mayor al Total.","")) | BQ32: =IF(AND(B32>0,AQ32="")," * No olvide digitar la variable Espacios Amigables. Digite Cero si no tiene.",IF(AQ32>B32," * La variable Espacios Amigables No puede ser mayor al Total.","")) | BR32: =IF(AND(B32>0,AR32="")," * No olvide digitar la variable Niños, Niñas, Adolescentes y Jóvenes SENAME. Digite Cero si no tiene.",IF(AR32>B32," * La variable Niños, Niñas, Adolescentes y Jóvenes SENAME No puede ser mayor al Total.","")) | BS32: =IF(AND(B32>0,AS32="")," * No olvide digitar la variable Niños, Niñas, Adolescentes y Jóvenes Mejor Niñez. Digite Cero si no tiene.",IF(AS32>B32," * La variable Niños, Niñas, Adolescentes y Jóvenes Mejor Niñez No puede ser mayor al Total.","")) | BU32: =IF(AND(B32>0,AO32=""),1,IF(AO32>B32,1,0)) -> 0 | BV32: =IF(AND(B32>0,AP32=""),1,IF(AP32>B32,1,0)) -> 0 | BW32: =IF(AND(B32>0,AQ32=""),1,IF(AQ32>B32,1,0)) -> 0 | BX32: =IF(AND(B32>0,AR32=""),1,IF(AR32>B32,1,0)) -> 0 | BY32: =IF(AND(B32>0,AS32=""),1,IF(AS32>B32,1,0)) -> 0
A33: Matrona/ón (Morb. Obstétrica) | B33: =SUM(C33:D33) -> 0 | D33: =SUM(F33+H33+J33+L33+N33+P33+R33+T33+V33+X33+Z33+AB33+AD33+AF33+AH33+AJ33+AL33+AN33) -> 0 | AT33: =BO33&BP33&BQ33&BR33&BS33 | BO33: =IF(AND(B33>0,AO33="")," * No olvide digitar la variable Pueblos originarios. Digite Cero si no tiene.",IF(AO33>B33," * La variable Pueblos originarios No puede ser mayor al Total.","")) | BP33: =IF(AND(B33>0,AP33="")," * No olvide digitar la variable Migrantes. Digite Cero si no tiene.",IF(AP33>B33," * La variable Migrantes No puede ser mayor al Total.","")) | BQ33: =IF(AND(B33>0,AQ33="")," * No olvide digitar la variable Espacios Amigables. Digite Cero si no tiene.",IF(AQ33>B33," * La variable Espacios Amigables No puede ser mayor al Total.","")) | BR33: =IF(AND(B33>0,AR33="")," * No olvide digitar la variable Niños, Niñas, Adolescentes y Jóvenes SENAME. Digite Cero si no tiene.",IF(AR33>B33," * La variable Niños, Niñas, Adolescentes y Jóvenes SENAME No puede ser mayor al Total.","")) | BS33: =IF(AND(B33>0,AS33="")," * No olvide digitar la variable Niños, Niñas, Adolescentes y Jóvenes Mejor Niñez. Digite Cero si no tiene.",IF(AS33>B33," * La variable Niños, Niñas, Adolescentes y Jóvenes Mejor Niñez No puede ser mayor al Total.","")) | BU33: =IF(AND(B33>0,AO33=""),1,IF(AO33>B33,1,0)) -> 0 | BV33: =IF(AND(B33>0,AP33=""),1,IF(AP33>B33,1,0)) -> 0 | BW33: =IF(AND(B33>0,AQ33=""),1,IF(AQ33>B33,1,0)) -> 0 | BX33: =IF(AND(B33>0,AR33=""),1,IF(AR33>B33,1,0)) -> 0 | BY33: =IF(AND(B33>0,AS33=""),1,IF(AS33>B33,1,0)) -> 0
A34: Matrona/ón (ITS) | B34: =SUM(C34:D34) -> 0 | C34: =SUM(E34+G34+I34+K34+M34+O34+Q34+S34+U34+W34+Y34+AA34+AC34+AE34+AG34+AI34+AK34+AM34) -> 0 | D34: =SUM(F34+H34+J34+L34+N34+P34+R34+T34+V34+X34+Z34+AB34+AD34+AF34+AH34+AJ34+AL34+AN34) -> 0 | AT34: =BO34&BP34&BQ34&BR34&BS34 | BO34: =IF(AND(B34>0,AO34="")," * No olvide digitar la variable Pueblos originarios. Digite Cero si no tiene.",IF(AO34>B34," * La variable Pueblos originarios No puede ser mayor al Total.","")) | BP34: =IF(AND(B34>0,AP34="")," * No olvide digitar la variable Migrantes. Digite Cero si no tiene.",IF(AP34>B34," * La variable Migrantes No puede ser mayor al Total.","")) | BQ34: =IF(AND(B34>0,AQ34="")," * No olvide digitar la variable Espacios Amigables. Digite Cero si no tiene.",IF(AQ34>B34," * La variable Espacios Amigables No puede ser mayor al Total.","")) | BR34: =IF(AND(B34>0,AR34="")," * No olvide digitar la variable Niños, Niñas, Adolescentes y Jóvenes SENAME. Digite Cero si no tiene.",IF(AR34>B34," * La variable Niños, Niñas, Adolescentes y Jóvenes SENAME No puede ser mayor al Total.","")) | BS34: =IF(AND(B34>0,AS34="")," * No olvide digitar la variable Niños, Niñas, Adolescentes y Jóvenes Mejor Niñez. Digite Cero si no tiene.",IF(AS34>B34," * La variable Niños, Niñas, Adolescentes y Jóvenes Mejor Niñez No puede ser mayor al Total.","")) | BU34: =IF(AND(B34>0,AO34=""),1,IF(AO34>B34,1,0)) -> 0 | BV34: =IF(AND(B34>0,AP34=""),1,IF(AP34>B34,1,0)) -> 0 | BW34: =IF(AND(B34>0,AQ34=""),1,IF(AQ34>B34,1,0)) -> 0 | BX34: =IF(AND(B34>0,AR34=""),1,IF(AR34>B34,1,0)) -> 0 | BY34: =IF(AND(B34>0,AS34=""),1,IF(AS34>B34,1,0)) -> 0
A35: Matrona/ón (Infertilidad) | B35: =SUM(C35:D35) -> 0 | C35: =SUM(O35+Q35+S35+U35+W35+Y35+AA35) -> 0 | D35: =SUM(P35+R35+T35+V35+X35+Z35+AB35) -> 0 | AT35: =BO35&BP35&BQ35&BR35&BS35 | BO35: =IF(AND(B35>0,AO35="")," * No olvide digitar la variable Pueblos originarios. Digite Cero si no tiene.",IF(AO35>B35," * La variable Pueblos originarios No puede ser mayor al Total.","")) | BP35: =IF(AND(B35>0,AP35="")," * No olvide digitar la variable Migrantes. Digite Cero si no tiene.",IF(AP35>B35," * La variable Migrantes No puede ser mayor al Total.","")) | BQ35: =IF(AND(B35>0,AQ35="")," * No olvide digitar la variable Espacios Amigables. Digite Cero si no tiene.",IF(AQ35>B35," * La variable Espacios Amigables No puede ser mayor al Total.","")) | BR35: =IF(AND(B35>0,AR35="")," * No olvide digitar la variable Niños, Niñas, Adolescentes y Jóvenes SENAME. Digite Cero si no tiene.",IF(AR35>B35," * La variable Niños, Niñas, Adolescentes y Jóvenes SENAME No puede ser mayor al Total.","")) | BS35: =IF(AND(B35>0,AS35="")," * No olvide digitar la variable Niños, Niñas, Adolescentes y Jóvenes Mejor Niñez. Digite Cero si no tiene.",IF(AS35>B35," * La variable Niños, Niñas, Adolescentes y Jóvenes Mejor Niñez No puede ser mayor al Total.","")) | BU35: =IF(AND(B35>0,AO35=""),1,IF(AO35>B35,1,0)) -> 0 | BV35: =IF(AND(B35>0,AP35=""),1,IF(AP35>B35,1,0)) -> 0 | BW35: =IF(AND(B35>0,AQ35=""),1,IF(AQ35>B35,1,0)) -> 0 | BX35: =IF(AND(B35>0,AR35=""),1,IF(AR35>B35,1,0)) -> 0 | BY35: =IF(AND(B35>0,AS35=""),1,IF(AS35>B35,1,0)) -> 0
A36: Matrona/ón (Otras consultas) | B36: =SUM(C36:D36) -> 0 | C36: =SUM(E36+G36+I36+K36+M36+O36+Q36+S36+U36+W36+Y36+AA36+AC36+AE36+AG36+AI36+AK36+AM36) -> 0 | D36: =SUM(F36+H36+J36+L36+N36+P36+R36+T36+V36+X36+Z36+AB36+AD36+AF36+AH36+AJ36+AL36+AN36) -> 0 | AT36: =BO36&BP36&BQ36&BR36&BS36 | BO36: =IF(AND(B36>0,AO36="")," * No olvide digitar la variable Pueblos originarios. Digite Cero si no tiene.",IF(AO36>B36," * La variable Pueblos originarios No puede ser mayor al Total.","")) | BP36: =IF(AND(B36>0,AP36="")," * No olvide digitar la variable Migrantes. Digite Cero si no tiene.",IF(AP36>B36," * La variable Migrantes No puede ser mayor al Total.","")) | BQ36: =IF(AND(B36>0,AQ36="")," * No olvide digitar la variable Espacios Amigables. Digite Cero si no tiene.",IF(AQ36>B36," * La variable Espacios Amigables No puede ser mayor al Total.","")) | BR36: =IF(AND(B36>0,AR36="")," * No olvide digitar la variable Niños, Niñas, Adolescentes y Jóvenes SENAME. Digite Cero si no tiene.",IF(AR36>B36," * La variable Niños, Niñas, Adolescentes y Jóvenes SENAME No puede ser mayor al Total.","")) | BS36: =IF(AND(B36>0,AS36="")," * No olvide digitar la variable Niños, Niñas, Adolescentes y Jóvenes Mejor Niñez. Digite Cero si no tiene.",IF(AS36>B36," * La variable Niños, Niñas, Adolescentes y Jóvenes Mejor Niñez No puede ser mayor al Total.","")) | BU36: =IF(AND(B36>0,AO36=""),1,IF(AO36>B36,1,0)) -> 0 | BV36: =IF(AND(B36>0,AP36=""),1,IF(AP36>B36,1,0)) -> 0 | BW36: =IF(AND(B36>0,AQ36=""),1,IF(AQ36>B36,1,0)) -> 0 | BX36: =IF(AND(B36>0,AR36=""),1,IF(AR36>B36,1,0)) -> 0 | BY36: =IF(AND(B36>0,AS36=""),1,IF(AS36>B36,1,0)) -> 0
A37: Matrona/ón (Salud sexual) | B37: =SUM(C37:D37) -> 0 | C37: =SUM(K37+M37+O37+Q37+S37+U37+W37+Y37+AA37+AC37+AE37+AG37+AI37+AK37+AM37) -> 0 | D37: =SUM(L37+N37+P37+R37+T37+V37+X37+Z37+AB37+AD37+AF37+AH37+AJ37+AL37+AN37) -> 0 | AT37: =BO37&BP37&BQ37&BR37&BS37 | BO37: =IF(AND(B37>0,AO37="")," * No olvide digitar la variable Pueblos originarios. Digite Cero si no tiene.",IF(AO37>B37," * La variable Pueblos originarios No puede ser mayor al Total.","")) | BP37: =IF(AND(B37>0,AP37="")," * No olvide digitar la variable Migrantes. Digite Cero si no tiene.",IF(AP37>B37," * La variable Migrantes No puede ser mayor al Total.","")) | BQ37: =IF(AND(B37>0,AQ37="")," * No olvide digitar la variable Espacios Amigables. Digite Cero si no tiene.",IF(AQ37>B37," * La variable Espacios Amigables No puede ser mayor al Total.","")) | BR37: =IF(AND(B37>0,AR37="")," * No olvide digitar la variable Niños, Niñas, Adolescentes y Jóvenes SENAME. Digite Cero si no tiene.",IF(AR37>B37," * La variable Niños, Niñas, Adolescentes y Jóvenes SENAME No puede ser mayor al Total.","")) | BS37: =IF(AND(B37>0,AS37="")," * No olvide digitar la variable Niños, Niñas, Adolescentes y Jóvenes Mejor Niñez. Digite Cero si no tiene.",IF(AS37>B37," * La variable Niños, Niñas, Adolescentes y Jóvenes Mejor Niñez No puede ser mayor al Total.","")) | BU37: =IF(AND(B37>0,AO37=""),1,IF(AO37>B37,1,0)) -> 0 | BV37: =IF(AND(B37>0,AP37=""),1,IF(AP37>B37,1,0)) -> 0 | BW37: =IF(AND(B37>0,AQ37=""),1,IF(AQ37>B37,1,0)) -> 0 | BX37: =IF(AND(B37>0,AR37=""),1,IF(AR37>B37,1,0)) -> 0 | BY37: =IF(AND(B37>0,AS37=""),1,IF(AS37>B37,1,0)) -> 0
A38: Matrona/ón (Piso pélvico) | B38: =SUM(C38:D38) -> 0 | D38: =SUM(L38+N38+P38+R38+T38+V38+X38+Z38+AB38+AD38+AF38+AH38+AJ38+AL38+AN38) -> 0 | AT38: =BO38&BP38&BQ38&BR38&BS38 | BO38: =IF(AND(B38>0,AO38="")," * No olvide digitar la variable Pueblos originarios. Digite Cero si no tiene.",IF(AO38>B38," * La variable Pueblos originarios No puede ser mayor al Total.","")) | BP38: =IF(AND(B38>0,AP38="")," * No olvide digitar la variable Migrantes. Digite Cero si no tiene.",IF(AP38>B38," * La variable Migrantes No puede ser mayor al Total.","")) | BQ38: =IF(AND(B38>0,AQ38="")," * No olvide digitar la variable Espacios Amigables. Digite Cero si no tiene.",IF(AQ38>B38," * La variable Espacios Amigables No puede ser mayor al Total.","")) | BR38: =IF(AND(B38>0,AR38="")," * No olvide digitar la variable Niños, Niñas, Adolescentes y Jóvenes SENAME. Digite Cero si no tiene.",IF(AR38>B38," * La variable Niños, Niñas, Adolescentes y Jóvenes SENAME No puede ser mayor al Total.","")) | BS38: =IF(AND(B38>0,AS38="")," * No olvide digitar la variable Niños, Niñas, Adolescentes y Jóvenes Mejor Niñez. Digite Cero si no tiene.",IF(AS38>B38," * La variable Niños, Niñas, Adolescentes y Jóvenes Mejor Niñez No puede ser mayor al Total.","")) | BU38: =IF(AND(B38>0,AO38=""),1,IF(AO38>B38,1,0)) -> 0 | BV38: =IF(AND(B38>0,AP38=""),1,IF(AP38>B38,1,0)) -> 0 | BW38: =IF(AND(B38>0,AQ38=""),1,IF(AQ38>B38,1,0)) -> 0 | BX38: =IF(AND(B38>0,AR38=""),1,IF(AR38>B38,1,0)) -> 0 | BY38: =IF(AND(B38>0,AS38=""),1,IF(AS38>B38,1,0)) -> 0
A39: Nutricionista (Otras consultas) | B39: =SUM(C39:D39) -> 0 | C39: =SUM(E39+G39+I39+K39+M39+O39+Q39+S39+U39+W39+Y39+AA39+AC39+AE39+AG39+AI39+AK39+AM39) -> 0 | D39: =SUM(F39+H39+J39+L39+N39+P39+R39+T39+V39+X39+Z39+AB39+AD39+AF39+AH39+AJ39+AL39+AN39) -> 0 | AT39: =BO39&BP39&BQ39&BR39&BS39 | BO39: =IF(AND(B39>0,AO39="")," * No olvide digitar la variable Pueblos originarios. Digite Cero si no tiene.",IF(AO39>B39," * La variable Pueblos originarios No puede ser mayor al Total.","")) | BP39: =IF(AND(B39>0,AP39="")," * No olvide digitar la variable Migrantes. Digite Cero si no tiene.",IF(AP39>B39," * La variable Migrantes No puede ser mayor al Total.","")) | BQ39: =IF(AND(B39>0,AQ39="")," * No olvide digitar la variable Espacios Amigables. Digite Cero si no tiene.",IF(AQ39>B39," * La variable Espacios Amigables No puede ser mayor al Total.","")) | BR39: =IF(AND(B39>0,AR39="")," * No olvide digitar la variable Niños, Niñas, Adolescentes y Jóvenes SENAME. Digite Cero si no tiene.",IF(AR39>B39," * La variable Niños, Niñas, Adolescentes y Jóvenes SENAME No puede ser mayor al Total.","")) | BS39: =IF(AND(B39>0,AS39="")," * No olvide digitar la variable Niños, Niñas, Adolescentes y Jóvenes Mejor Niñez. Digite Cero si no tiene.",IF(AS39>B39," * La variable Niños, Niñas, Adolescentes y Jóvenes Mejor Niñez No puede ser mayor al Total.","")) | BU39: =IF(AND(B39>0,AO39=""),1,IF(AO39>B39,1,0)) -> 0 | BV39: =IF(AND(B39>0,AP39=""),1,IF(AP39>B39,1,0)) -> 0 | BW39: =IF(AND(B39>0,AQ39=""),1,IF(AQ39>B39,1,0)) -> 0 | BX39: =IF(AND(B39>0,AR39=""),1,IF(AR39>B39,1,0)) -> 0 | BY39: =IF(AND(B39>0,AS39=""),1,IF(AS39>B39,1,0)) -> 0
A40: Nutricionista malnutrición por exceso | B40: =SUM(C40:D40) -> 0 | C40: =SUM(E40+G40+I40+K40+M40+O40+Q40+S40+U40+W40+Y40+AA40+AC40+AE40+AG40+AI40+AK40+AM40) -> 0 | D40: =SUM(F40+H40+J40+L40+N40+P40+R40+T40+V40+X40+Z40+AB40+AD40+AF40+AH40+AJ40+AL40+AN40) -> 0 | AT40: =BO40&BP40&BQ40&BR40&BS40 | BO40: =IF(AND(B40>0,AO40="")," * No olvide digitar la variable Pueblos originarios. Digite Cero si no tiene.",IF(AO40>B40," * La variable Pueblos originarios No puede ser mayor al Total.","")) | BP40: =IF(AND(B40>0,AP40="")," * No olvide digitar la variable Migrantes. Digite Cero si no tiene.",IF(AP40>B40," * La variable Migrantes No puede ser mayor al Total.","")) | BQ40: =IF(AND(B40>0,AQ40="")," * No olvide digitar la variable Espacios Amigables. Digite Cero si no tiene.",IF(AQ40>B40," * La variable Espacios Amigables No puede ser mayor al Total.","")) | BR40: =IF(AND(B40>0,AR40="")," * No olvide digitar la variable Niños, Niñas, Adolescentes y Jóvenes SENAME. Digite Cero si no tiene.",IF(AR40>B40," * La variable Niños, Niñas, Adolescentes y Jóvenes SENAME No puede ser mayor al Total.","")) | BS40: =IF(AND(B40>0,AS40="")," * No olvide digitar la variable Niños, Niñas, Adolescentes y Jóvenes Mejor Niñez. Digite Cero si no tiene.",IF(AS40>B40," * La variable Niños, Niñas, Adolescentes y Jóvenes Mejor Niñez No puede ser mayor al Total.","")) | BU40: =IF(AND(B40>0,AO40=""),1,IF(AO40>B40,1,0)) -> 0 | BV40: =IF(AND(B40>0,AP40=""),1,IF(AP40>B40,1,0)) -> 0 | BW40: =IF(AND(B40>0,AQ40=""),1,IF(AQ40>B40,1,0)) -> 0 | BX40: =IF(AND(B40>0,AR40=""),1,IF(AR40>B40,1,0)) -> 0 | BY40: =IF(AND(B40>0,AS40=""),1,IF(AS40>B40,1,0)) -> 0
A41: Nutricionista malnutrición por déficit | B41: =SUM(C41:D41) -> 0 | C41: =SUM(E41+G41+I41+K41+M41+O41+Q41+S41+U41+W41+Y41+AA41+AC41+AE41+AG41+AI41+AK41+AM41) -> 0 | D41: =SUM(F41+H41+J41+L41+N41+P41+R41+T41+V41+X41+Z41+AB41+AD41+AF41+AH41+AJ41+AL41+AN41) -> 0 | AT41: =BO41&BP41&BQ41&BR41&BS41 | BO41: =IF(AND(B41>0,AO41="")," * No olvide digitar la variable Pueblos originarios. Digite Cero si no tiene.",IF(AO41>B41," * La variable Pueblos originarios No puede ser mayor al Total.","")) | BP41: =IF(AND(B41>0,AP41="")," * No olvide digitar la variable Migrantes. Digite Cero si no tiene.",IF(AP41>B41," * La variable Migrantes No puede ser mayor al Total.","")) | BQ41: =IF(AND(B41>0,AQ41="")," * No olvide digitar la variable Espacios Amigables. Digite Cero si no tiene.",IF(AQ41>B41," * La variable Espacios Amigables No puede ser mayor al Total.","")) | BR41: =IF(AND(B41>0,AR41="")," * No olvide digitar la variable Niños, Niñas, Adolescentes y Jóvenes SENAME. Digite Cero si no tiene.",IF(AR41>B41," * La variable Niños, Niñas, Adolescentes y Jóvenes SENAME No puede ser mayor al Total.","")) | BS41: =IF(AND(B41>0,AS41="")," * No olvide digitar la variable Niños, Niñas, Adolescentes y Jóvenes Mejor Niñez. Digite Cero si no tiene.",IF(AS41>B41," * La variable Niños, Niñas, Adolescentes y Jóvenes Mejor Niñez No puede ser mayor al Total.","")) | BU41: =IF(AND(B41>0,AO41=""),1,IF(AO41>B41,1,0)) -> 0 | BV41: =IF(AND(B41>0,AP41=""),1,IF(AP41>B41,1,0)) -> 0 | BW41: =IF(AND(B41>0,AQ41=""),1,IF(AQ41>B41,1,0)) -> 0 | BX41: =IF(AND(B41>0,AR41=""),1,IF(AR41>B41,1,0)) -> 0 | BY41: =IF(AND(B41>0,AS41=""),1,IF(AS41>B41,1,0)) -> 0
A42: Psicólogo/a | B42: =SUM(C42:D42) -> 0 | C42: =SUM(E42+G42+I42+K42+M42+O42+Q42+S42+U42+W42+Y42+AA42+AC42+AE42+AG42+AI42+AK42+AM42) -> 0 | D42: =SUM(F42+H42+J42+L42+N42+P42+R42+T42+V42+X42+Z42+AB42+AD42+AF42+AH42+AJ42+AL42+AN42) -> 0 | AT42: =BO42&BP42&BQ42&BR42&BS42 | BO42: =IF(AND(B42>0,AO42="")," * No olvide digitar la variable Pueblos originarios. Digite Cero si no tiene.",IF(AO42>B42," * La variable Pueblos originarios No puede ser mayor al Total.","")) | BP42: =IF(AND(B42>0,AP42="")," * No olvide digitar la variable Migrantes. Digite Cero si no tiene.",IF(AP42>B42," * La variable Migrantes No puede ser mayor al Total.","")) | BQ42: =IF(AND(B42>0,AQ42="")," * No olvide digitar la variable Espacios Amigables. Digite Cero si no tiene.",IF(AQ42>B42," * La variable Espacios Amigables No puede ser mayor al Total.","")) | BR42: =IF(AND(B42>0,AR42="")," * No olvide digitar la variable Niños, Niñas, Adolescentes y Jóvenes SENAME. Digite Cero si no tiene.",IF(AR42>B42," * La variable Niños, Niñas, Adolescentes y Jóvenes SENAME No puede ser mayor al Total.","")) | BS42: =IF(AND(B42>0,AS42="")," * No olvide digitar la variable Niños, Niñas, Adolescentes y Jóvenes Mejor Niñez. Digite Cero si no tiene.",IF(AS42>B42," * La variable Niños, Niñas, Adolescentes y Jóvenes Mejor Niñez No puede ser mayor al Total.","")) | BU42: =IF(AND(B42>0,AO42=""),1,IF(AO42>B42,1,0)) -> 0 | BV42: =IF(AND(B42>0,AP42=""),1,IF(AP42>B42,1,0)) -> 0 | BW42: =IF(AND(B42>0,AQ42=""),1,IF(AQ42>B42,1,0)) -> 0 | BX42: =IF(AND(B42>0,AR42=""),1,IF(AR42>B42,1,0)) -> 0 | BY42: =IF(AND(B42>0,AS42=""),1,IF(AS42>B42,1,0)) -> 0
A43: Fonoaudiólogo/a | B43: =SUM(C43:D43) -> 0 | C43: =SUM(E43+G43+I43+K43+M43+O43+Q43+S43+U43+W43+Y43+AA43+AC43+AE43+AG43+AI43+AK43+AM43) -> 0 | D43: =SUM(F43+H43+J43+L43+N43+P43+R43+T43+V43+X43+Z43+AB43+AD43+AF43+AH43+AJ43+AL43+AN43) -> 0 | AT43: =BO43&BP43&BQ43&BR43&BS43 | BO43: =IF(AND(B43>0,AO43="")," * No olvide digitar la variable Pueblos originarios. Digite Cero si no tiene.",IF(AO43>B43," * La variable Pueblos originarios No puede ser mayor al Total.","")) | BP43: =IF(AND(B43>0,AP43="")," * No olvide digitar la variable Migrantes. Digite Cero si no tiene.",IF(AP43>B43," * La variable Migrantes No puede ser mayor al Total.","")) | BQ43: =IF(AND(B43>0,AQ43="")," * No olvide digitar la variable Espacios Amigables. Digite Cero si no tiene.",IF(AQ43>B43," * La variable Espacios Amigables No puede ser mayor al Total.","")) | BR43: =IF(AND(B43>0,AR43="")," * No olvide digitar la variable Niños, Niñas, Adolescentes y Jóvenes SENAME. Digite Cero si no tiene.",IF(AR43>B43," * La variable Niños, Niñas, Adolescentes y Jóvenes SENAME No puede ser mayor al Total.","")) | BS43: =IF(AND(B43>0,AS43="")," * No olvide digitar la variable Niños, Niñas, Adolescentes y Jóvenes Mejor Niñez. Digite Cero si no tiene.",IF(AS43>B43," * La variable Niños, Niñas, Adolescentes y Jóvenes Mejor Niñez No puede ser mayor al Total.","")) | BU43: =IF(AND(B43>0,AO43=""),1,IF(AO43>B43,1,0)) -> 0 | BV43: =IF(AND(B43>0,AP43=""),1,IF(AP43>B43,1,0)) -> 0 | BW43: =IF(AND(B43>0,AQ43=""),1,IF(AQ43>B43,1,0)) -> 0 | BX43: =IF(AND(B43>0,AR43=""),1,IF(AR43>B43,1,0)) -> 0 | BY43: =IF(AND(B43>0,AS43=""),1,IF(AS43>B43,1,0)) -> 0
A44: Terapeuta Ocupacional | B44: =SUM(C44:D44) -> 0 | C44: =SUM(E44+G44+I44+K44+M44+O44+Q44+S44+U44+W44+Y44+AA44+AC44+AE44+AG44+AI44+AK44+AM44) -> 0 | D44: =SUM(F44+H44+J44+L44+N44+P44+R44+T44+V44+X44+Z44+AB44+AD44+AF44+AH44+AJ44+AL44+AN44) -> 0 | AT44: =BO44&BP44&BQ44&BR44&BS44 | BO44: =IF(AND(B44>0,AO44="")," * No olvide digitar la variable Pueblos originarios. Digite Cero si no tiene.",IF(AO44>B44," * La variable Pueblos originarios No puede ser mayor al Total.","")) | BP44: =IF(AND(B44>0,AP44="")," * No olvide digitar la variable Migrantes. Digite Cero si no tiene.",IF(AP44>B44," * La variable Migrantes No puede ser mayor al Total.","")) | BQ44: =IF(AND(B44>0,AQ44="")," * No olvide digitar la variable Espacios Amigables. Digite Cero si no tiene.",IF(AQ44>B44," * La variable Espacios Amigables No puede ser mayor al Total.","")) | BR44: =IF(AND(B44>0,AR44="")," * No olvide digitar la variable Niños, Niñas, Adolescentes y Jóvenes SENAME. Digite Cero si no tiene.",IF(AR44>B44," * La variable Niños, Niñas, Adolescentes y Jóvenes SENAME No puede ser mayor al Total.","")) | BS44: =IF(AND(B44>0,AS44="")," * No olvide digitar la variable Niños, Niñas, Adolescentes y Jóvenes Mejor Niñez. Digite Cero si no tiene.",IF(AS44>B44," * La variable Niños, Niñas, Adolescentes y Jóvenes Mejor Niñez No puede ser mayor al Total.","")) | BU44: =IF(AND(B44>0,AO44=""),1,IF(AO44>B44,1,0)) -> 0 | BV44: =IF(AND(B44>0,AP44=""),1,IF(AP44>B44,1,0)) -> 0 | BW44: =IF(AND(B44>0,AQ44=""),1,IF(AQ44>B44,1,0)) -> 0 | BX44: =IF(AND(B44>0,AR44=""),1,IF(AR44>B44,1,0)) -> 0 | BY44: =IF(AND(B44>0,AS44=""),1,IF(AS44>B44,1,0)) -> 0
A45: Tecnólogo/a Médico/a (Excluye UAPO) | B45: =SUM(C45:D45) -> 0 | C45: =SUM(E45+G45+I45+K45+M45+O45+Q45+S45+U45+W45+Y45+AA45+AC45+AE45+AG45+AI45+AK45+AM45) -> 0 | D45: =SUM(F45+H45+J45+L45+N45+P45+R45+T45+V45+X45+Z45+AB45+AD45+AF45+AH45+AJ45+AL45+AN45) -> 0 | AT45: =BO45&BP45&BQ45&BR45&BS45 | BO45: =IF(AND(B45>0,AO45="")," * No olvide digitar la variable Pueblos originarios. Digite Cero si no tiene.",IF(AO45>B45," * La variable Pueblos originarios No puede ser mayor al Total.","")) | BP45: =IF(AND(B45>0,AP45="")," * No olvide digitar la variable Migrantes. Digite Cero si no tiene.",IF(AP45>B45," * La variable Migrantes No puede ser mayor al Total.","")) | BQ45: =IF(AND(B45>0,AQ45="")," * No olvide digitar la variable Espacios Amigables. Digite Cero si no tiene.",IF(AQ45>B45," * La variable Espacios Amigables No puede ser mayor al Total.","")) | BR45: =IF(AND(B45>0,AR45="")," * No olvide digitar la variable Niños, Niñas, Adolescentes y Jóvenes SENAME. Digite Cero si no tiene.",IF(AR45>B45," * La variable Niños, Niñas, Adolescentes y Jóvenes SENAME No puede ser mayor al Total.","")) | BS45: =IF(AND(B45>0,AS45="")," * No olvide digitar la variable Niños, Niñas, Adolescentes y Jóvenes Mejor Niñez. Digite Cero si no tiene.",IF(AS45>B45," * La variable Niños, Niñas, Adolescentes y Jóvenes Mejor Niñez No puede ser mayor al Total.","")) | BU45: =IF(AND(B45>0,AO45=""),1,IF(AO45>B45,1,0)) -> 0 | BV45: =IF(AND(B45>0,AP45=""),1,IF(AP45>B45,1,0)) -> 0 | BW45: =IF(AND(B45>0,AQ45=""),1,IF(AQ45>B45,1,0)) -> 0 | BX45: =IF(AND(B45>0,AR45=""),1,IF(AR45>B45,1,0)) -> 0 | BY45: =IF(AND(B45>0,AS45=""),1,IF(AS45>B45,1,0)) -> 0
A46: Trabajador/a Social (Excluye Salud Mental) | B46: =SUM(C46:D46) -> 0 | C46: =SUM(E46+G46+I46+K46+M46+O46+Q46+S46+U46+W46+Y46+AA46+AC46+AE46+AG46+AI46+AK46+AM46) -> 0 | D46: =SUM(F46+H46+J46+L46+N46+P46+R46+T46+V46+X46+Z46+AB46+AD46+AF46+AH46+AJ46+AL46+AN46) -> 0 | AT46: =BO46&BP46&BQ46&BR46&BS46 | BO46: =IF(AND(B46>0,AO46="")," * No olvide digitar la variable Pueblos originarios. Digite Cero si no tiene.",IF(AO46>B46," * La variable Pueblos originarios No puede ser mayor al Total.","")) | BP46: =IF(AND(B46>0,AP46="")," * No olvide digitar la variable Migrantes. Digite Cero si no tiene.",IF(AP46>B46," * La variable Migrantes No puede ser mayor al Total.","")) | BQ46: =IF(AND(B46>0,AQ46="")," * No olvide digitar la variable Espacios Amigables. Digite Cero si no tiene.",IF(AQ46>B46," * La variable Espacios Amigables No puede ser mayor al Total.","")) | BR46: =IF(AND(B46>0,AR46="")," * No olvide digitar la variable Niños, Niñas, Adolescentes y Jóvenes SENAME. Digite Cero si no tiene.",IF(AR46>B46," * La variable Niños, Niñas, Adolescentes y Jóvenes SENAME No puede ser mayor al Total.","")) | BS46: =IF(AND(B46>0,AS46="")," * No olvide digitar la variable Niños, Niñas, Adolescentes y Jóvenes Mejor Niñez. Digite Cero si no tiene.",IF(AS46>B46," * La variable Niños, Niñas, Adolescentes y Jóvenes Mejor Niñez No puede ser mayor al Total.","")) | BU46: =IF(AND(B46>0,AO46=""),1,IF(AO46>B46,1,0)) -> 0 | BV46: =IF(AND(B46>0,AP46=""),1,IF(AP46>B46,1,0)) -> 0 | BW46: =IF(AND(B46>0,AQ46=""),1,IF(AQ46>B46,1,0)) -> 0 | BX46: =IF(AND(B46>0,AR46=""),1,IF(AR46>B46,1,0)) -> 0 | BY46: =IF(AND(B46>0,AS46=""),1,IF(AS46>B46,1,0)) -> 0
A47: Educadora de Párvulos | B47: =SUM(C47:D47) -> 0 | C47: =SUM(E47+G47+I47) -> 0 | D47: =SUM(F47+H47+J47) -> 0 | AT47: =BO47&BP47&BQ47&BR47&BS47 | BO47: =IF(AND(B47>0,AO47="")," * No olvide digitar la variable Pueblos originarios. Digite Cero si no tiene.",IF(AO47>B47," * La variable Pueblos originarios No puede ser mayor al Total.","")) | BP47: =IF(AND(B47>0,AP47="")," * No olvide digitar la variable Migrantes. Digite Cero si no tiene.",IF(AP47>B47," * La variable Migrantes No puede ser mayor al Total.","")) | BQ47: =IF(AND(B47>0,AQ47="")," * No olvide digitar la variable Espacios Amigables. Digite Cero si no tiene.",IF(AQ47>B47," * La variable Espacios Amigables No puede ser mayor al Total.","")) | BR47: =IF(AND(B47>0,AR47="")," * No olvide digitar la variable Niños, Niñas, Adolescentes y Jóvenes SENAME. Digite Cero si no tiene.",IF(AR47>B47," * La variable Niños, Niñas, Adolescentes y Jóvenes SENAME No puede ser mayor al Total.","")) | BS47: =IF(AND(B47>0,AS47="")," * No olvide digitar la variable Niños, Niñas, Adolescentes y Jóvenes Mejor Niñez. Digite Cero si no tiene.",IF(AS47>B47," * La variable Niños, Niñas, Adolescentes y Jóvenes Mejor Niñez No puede ser mayor al Total.","")) | BU47: =IF(AND(B47>0,AO47=""),1,IF(AO47>B47,1,0)) -> 0 | BV47: =IF(AND(B47>0,AP47=""),1,IF(AP47>B47,1,0)) -> 0 | BW47: =IF(AND(B47>0,AQ47=""),1,IF(AQ47>B47,1,0)) -> 0 | BX47: =IF(AND(B47>0,AR47=""),1,IF(AR47>B47,1,0)) -> 0 | BY47: =IF(AND(B47>0,AS47=""),1,IF(AS47>B47,1,0)) -> 0
A48: Kinesiólogo | B48: =SUM(C48:D48) -> 0 | C48: =SUM(E48+G48+I48+K48+M48+O48+Q48+S48+U48+W48+Y48+AA48+AC48+AE48+AG48+AI48+AK48+AM48) -> 0 | D48: =SUM(F48+H48+J48+L48+N48+P48+R48+T48+V48+X48+Z48+AB48+AD48+AF48+AH48+AJ48+AL48+AN48) -> 0 | AT48: =BO48&BP48&BQ48&BR48&BS48 | BO48: =IF(AND(B48>0,AO48="")," * No olvide digitar la variable Pueblos originarios. Digite Cero si no tiene.",IF(AO48>B48," * La variable Pueblos originarios No puede ser mayor al Total.","")) | BP48: =IF(AND(B48>0,AP48="")," * No olvide digitar la variable Migrantes. Digite Cero si no tiene.",IF(AP48>B48," * La variable Migrantes No puede ser mayor al Total.","")) | BQ48: =IF(AND(B48>0,AQ48="")," * No olvide digitar la variable Espacios Amigables. Digite Cero si no tiene.",IF(AQ48>B48," * La variable Espacios Amigables No puede ser mayor al Total.","")) | BR48: =IF(AND(B48>0,AR48="")," * No olvide digitar la variable Niños, Niñas, Adolescentes y Jóvenes SENAME. Digite Cero si no tiene.",IF(AR48>B48," * La variable Niños, Niñas, Adolescentes y Jóvenes SENAME No puede ser mayor al Total.","")) | BS48: =IF(AND(B48>0,AS48="")," * No olvide digitar la variable Niños, Niñas, Adolescentes y Jóvenes Mejor Niñez. Digite Cero si no tiene.",IF(AS48>B48," * La variable Niños, Niñas, Adolescentes y Jóvenes Mejor Niñez No puede ser mayor al Total.","")) | BU48: =IF(AND(B48>0,AO48=""),1,IF(AO48>B48,1,0)) -> 0 | BV48: =IF(AND(B48>0,AP48=""),1,IF(AP48>B48,1,0)) -> 0 | BW48: =IF(AND(B48>0,AQ48=""),1,IF(AQ48>B48,1,0)) -> 0 | BX48: =IF(AND(B48>0,AR48=""),1,IF(AR48>B48,1,0)) -> 0 | BY48: =IF(AND(B48>0,AS48=""),1,IF(AS48>B48,1,0)) -> 0
A49: SECCIÓN C: CONSULTAS ANTICONCEPCIÓN DE EMERGENCIA (Incluidas en Sección A o B, respectivamente.)
A50: PROFESIONAL | B50: Ambos sexos | C50: Hombres | D50: Mujeres | E50: Con entrega anticoncepción emergencia | M50: Ambos sexos | N50: Hombres | O50: Mujeres | P50: Sin entrega anticoncepción emergencia | X50: Identidad de género | Z50: Personas con discapacidad | AA50: Espacios Amigables/ Adolescentes | AB50: Pueblos Originarios | AC50: Migrantes
E51: 10 - 14 años | G51: 15 - 19 años | I51: 20 - 24 años | K51: 25 y más años | P51: 10 - 14 años | R51: 15 - 19 años | T51: 20 - 24 años | V51: 25 y más años | X51: Trans masculino | Y51: No binarie
E52: Hombres | F52: Mujeres | G52: Hombres | H52: Mujeres | I52: Hombres | J52: Mujeres | K52: Hombres | L52: Mujeres | P52: Hombres | Q52: Mujeres | R52: Hombres | S52: Mujeres | T52: Hombres | U52: Mujeres | V52: Hombres | W52: Mujeres
A53: Médico/a | B53: =SUM(C53:D53) -> 0 | C53: =+E53+G53+I53+K53 -> 0 | D53: =+F53+H53+J53+L53 -> 0 | M53: =SUM(N53:O53) -> 0 | N53: =+P53+R53+T53+V53 -> 0 | O53: =+Q53+S53+U53+W53 -> 0 | AD53: =BO53&BP53&BQ53 | BO53: =IF(AND(B53>0,AB53="")," * No olvide digitar la variable Pueblos originarios. Digite Cero si no tiene.",IF(AB53>B53," * La variable Pueblos originarios No puede ser mayor al Total.","")) | BP53: =IF(AND(B53>0,AC53="")," * No olvide digitar la variable Migrantes. Digite Cero si no tiene.",IF(AC53>B53," * La variable Migrantes No puede ser mayor al Total.","")) | BQ53: =IF(AND(B53>0,AA53="")," * No olvide digitar la variable Espacios Amigables/Adolescentes. Digite Cero si no tiene.",IF(AA53>B53," * La variable Espacios Amigables/Adolescentes No puede ser mayor al Total.","")) | BU53: =IF(AND(B53>0,AB53=""),1,IF(AB53>B53,1,0)) -> 0 | BV53: =IF(AND(B53>0,AC53=""),1,IF(AC53>B53,1,0)) -> 0 | BW53: =IF(AND(B53>0,AA53=""),1,IF(AA53>B53,1,0)) -> 0
A54: Matrona/ón | B54: =SUM(C54:D54) -> 0 | C54: =+E54+G54+I54+K54 -> 0 | D54: =+F54+H54+J54+L54 -> 0 | M54: =SUM(N54:O54) -> 0 | N54: =+P54+R54+T54+V54 -> 0 | O54: =+Q54+S54+U54+W54 -> 0 | AD54: =BO54&BP54&BQ54 | BO54: =IF(AND(B54>0,AB54="")," * No olvide digitar la variable Pueblos originarios. Digite Cero si no tiene.",IF(AB54>B54," * La variable Pueblos originarios No puede ser mayor al Total.","")) | BP54: =IF(AND(B54>0,AC54="")," * No olvide digitar la variable Migrantes. Digite Cero si no tiene.",IF(AC54>B54," * La variable Migrantes No puede ser mayor al Total.","")) | BQ54: =IF(AND(B54>0,AA54="")," * No olvide digitar la variable Espacios Amigables/Adolescentes. Digite Cero si no tiene.",IF(AA54>B54," * La variable Espacios Amigables/Adolescentes No puede ser mayor al Total.","")) | BU54: =IF(AND(B54>0,AB54=""),1,IF(AB54>B54,1,0)) -> 0 | BV54: =IF(AND(B54>0,AC54=""),1,IF(AC54>B54,1,0)) -> 0 | BW54: =IF(AND(B54>0,AA54=""),1,IF(AA54>B54,1,0)) -> 0
A55: SECCIÓN D: CONSULTAS EN HORARIO CONTINUADO (Incluidas en las consultas de morbilidad de sección A o B)
A56: TIPO JORNADA | B56: TOTAL | E56: RANGO ETARIO | W56: Pueblos Originarios | X56: Migrantes
E57: Menos de 1 año | F57: 1 - 4 años | G57: 5 - 9 años | H57: 10 - 14 años | I57: 15 - 19 años | J57: 20 - 24 años | K57: 25 - 29 años | L57: 30 - 34 años | M57: 35 - 39 años | N57: 40 - 44 años | O57: 45 - 49 años | P57: 50 - 54 años | Q57: 55 - 59 años | R57: 60 - 64 años | S57: 65 - 69 años | T57: 70 - 74 años | U57: 75 - 79 años | V57: 80 y mas años
B58: Ambos Sexos | C58: Hombres | D58: Mujeres
A59: Horario continuado | B59: =SUM(B60:B61) -> 0 | C59: =SUM(C60:C61) -> 0 | D59: =SUM(D60:D61) -> 0 | E59: =SUM(E60:E61) -> 0 | F59: =SUM(F60:F61) -> 0 | G59: =SUM(G60:G61) -> 0 | H59: =SUM(H60:H61) -> 0 | I59: =SUM(I60:I61) -> 0 | ... X59: =SUM(X60:X61) -> 0
A60: Médico/a | B60: =SUM(C60:D60) -> 0 | Y60: =BO60&BP60&BQ60 | BO60: =IF(AND(B60>0,W60="")," * No olvide digitar la variable Pueblos originarios. Digite Cero si no tiene.",IF(W60>B60," * La variable Pueblos originarios No puede ser mayor al Total.","")) | BP60: =IF(AND(B60>0,X60="")," * No olvide digitar la variable Migrantes. Digite Cero si no tiene.",IF(X60>B60," * La variable Migrantes No puede ser mayor al Total.","")) | BQ60: =IF((C60+D60)<>SUM(E60:V60)," * Los datos desglosados por edad debe ser igual al total de ambos sexos.","") | BU60: =IF(AND(B60>0,W60=""),1,IF(W60>B60,1,0)) -> 0 | BV60: =IF(AND(B60>0,X60=""),1,IF(X60>B60,1,0)) -> 0 | BW60: =IF((C60+D60)<>SUM(E60:V60),1,0) -> 0
A61: Otros Profesionales | B61: =SUM(C61:D61) -> 0 | Y61: =BO61&BP61&BQ61 | BO61: =IF(AND(B61>0,W61="")," * No olvide digitar la variable Pueblos originarios. Digite Cero si no tiene.",IF(W61>B61," * La variable Pueblos originarios No puede ser mayor al Total.","")) | BP61: =IF(AND(B61>0,X61="")," * No olvide digitar la variable Migrantes. Digite Cero si no tiene.",IF(X61>B61," * La variable Migrantes No puede ser mayor al Total.","")) | BQ61: =IF((C61+D61)<>SUM(E61:V61)," * Los datos desglosados por edad debe ser igual al total de ambos sexos.","") | BU61: =IF(AND(B61>0,W61=""),1,IF(W61>B61,1,0)) -> 0 | BV61: =IF(AND(B61>0,X61=""),1,IF(X61>B61,1,0)) -> 0 | BW61: =IF((C61+D61)<>SUM(E61:V61),1,0) -> 0
A62: Sábado, Domingo o festivo | B62: =SUM(B63:B64) -> 0 | C62: =SUM(C63:C64) -> 0 | D62: =SUM(D63:D64) -> 0 | E62: =SUM(E63:E64) -> 0 | F62: =SUM(F63:F64) -> 0 | G62: =SUM(G63:G64) -> 0 | H62: =SUM(H63:H64) -> 0 | I62: =SUM(I63:I64) -> 0 | ... X62: =SUM(X63:X64) -> 0
A63: Médico/a | B63: =SUM(C63:D63) -> 0 | Y63: =BO63&BP63&BQ63 | BO63: =IF(AND(B63>0,W63="")," * No olvide digitar la variable Pueblos originarios. Digite Cero si no tiene.",IF(W63>B63," * La variable Pueblos originarios No puede ser mayor al Total.","")) | BP63: =IF(AND(B63>0,X63="")," * No olvide digitar la variable Migrantes. Digite Cero si no tiene.",IF(X63>B63," * La variable Migrantes No puede ser mayor al Total.","")) | BQ63: =IF((C63+D63)<>SUM(E63:V63)," * Los datos desglosados por edad debe ser igual al total de ambos sexos.","") | BU63: =IF(AND(B63>0,W63=""),1,IF(W63>B63,1,0)) -> 0 | BV63: =IF(AND(B63>0,X63=""),1,IF(X63>B63,1,0)) -> 0 | BW63: =IF((C63+D63)<>SUM(E63:V63),1,0) -> 0
A64: Otros Profesionales | B64: =SUM(C64:D64) -> 0 | Y64: =BO64&BP64&BQ64 | BO64: =IF(AND(B64>0,W64="")," * No olvide digitar la variable Pueblos originarios. Digite Cero si no tiene.",IF(W64>B64," * La variable Pueblos originarios No puede ser mayor al Total.","")) | BP64: =IF(AND(B64>0,X64="")," * No olvide digitar la variable Migrantes. Digite Cero si no tiene.",IF(X64>B64," * La variable Migrantes No puede ser mayor al Total.","")) | BQ64: =IF((C64+D64)<>SUM(E64:V64)," * Los datos desglosados por edad debe ser igual al total de ambos sexos.","") | BU64: =IF(AND(B64>0,W64=""),1,IF(W64>B64,1,0)) -> 0 | BV64: =IF(AND(B64>0,X64=""),1,IF(X64>B64,1,0)) -> 0 | BW64: =IF((C64+D64)<>SUM(E64:V64),1,0) -> 0
A65: SECCIÓN E: CONSULTA ABREVIADA
A66: PROFESIONAL | B66: TOTAL
A67: Médico/a
A68: Matrona/ón
A69: SECCIÓN F: ATENCIONES DE SANADORES INDÍGENA
A70: COMPONENTE | C70: TOTAL | F70: RANGO ETARIO Y SEXO
C71: Ambos Sexos | D71: Hombre | E71: Mujer | F71: 0 - 4 años | H71: 5 - 9 años | J71: 10 - 14 años | L71: 15 - 19 años | N71: 20 - 24 años | P71: 25 - 29 años | R71: 30 - 34 años | T71: 35 - 39 años | V71: 40 - 44 años | X71: 45 - 49 años | Z71: 50 - 54 años | AB71: 55 - 59 años | AD71: 60 - 64 años | AF71: 65 - 69 años | AH71: 70 - 74 años | AJ71: 75 - 79 años | AL71: 80 y mas años
