Workbook

Sheet CONSOLIDADO
A1: SERVICIO DE SALUD
A2: =CONCATENATE("COMUNA: ",[1]NOMBRE!B2, " (",[1]NOMBRE!C2,[1]NOMBRE!D2,[1]NOMBRE!E2,[1]NOMBRE!F2,[1]NOMBRE!G2,")") -> COMUNA: 0 (00000)
A3: =CONCATENATE("ESTABLECIMIENTO/ESTRATEGIA: ", [1]NOMBRE!B3, " (",[1]NOMBRE!C3,[1]NOMBRE!D3,[1]NOMBRE!E3,[1]NOMBRE!F3,[1]NOMBRE!G3,[1]NOMBRE!H3,")") -> ESTABLECIMIENTO/ESTRATEGIA: 0 (000000)
A4: =CONCATENATE("MES: ",[1]NOMBRE!B6, " (",[1]NOMBRE!C6,[1]NOMBRE!D6,")") -> MES: 0 (00)
A5: =CONCATENATE("AÑO: ",[1]NOMBRE!B7) -> AÑO: 2025
A6: REM-A03. APLICACIÓN Y RESULTADOS DE ESCALAS DE EVALUACIÓN
A8: SECCIÓN A: APLICACIÓN DE INSTRUMENTO Y RESULTADO EN EL NIÑO (A)
A9: SECCIÓN A.1: APLICACIÓN Y RESULTADOS DE PAUTA BREVE
A10: EVALUACIONES POR EDAD DEL NIÑO | C10: TOTAL | F10: RANGO ETARIO Y SEXO
F11: Menos de 1 mes | H11: 1 mes | J11: 2 meses | L11: 3 meses | N11: 4 meses | P11: 5 meses | R11: 6 meses | T11: 7 - 11 meses | V11: 12 - 17 meses | X11: 18 - 24 meses
C12: Ambos Sexos | D12: Hombres | E12: Mujeres | F12: Hombres | G12: Mujeres | H12: Hombres | I12: Mujeres | J12: Hombres | K12: Mujeres | L12: Hombres | M12: Mujeres | N12: Hombres | O12: Mujeres | P12: Hombres | Q12: Mujeres | R12: Hombres | S12: Mujeres | T12: Hombres | U12: Mujeres | V12: Hombres | W12: Mujeres | X12: Hombres | Y12: Mujeres
A13: Aplicación Pauta Breve | C13: =SUM(D13+E13) -> 0 | D13: =SUM(F13+H13+J13+L13+N13+P13+R13+T13+V13+X13) -> 0 | E13: =SUM(G13+I13+K13+M13+O13+Q13+S13+U13+W13+Y13) -> 0
A14: Resultados | B14: Normal | C14: =SUM(D14+E14) -> 0 | D14: =SUM(F14+H14+J14+L14+N14+P14+R14+T14+V14+X14) -> 0 | E14: =SUM(G14+I14+K14+M14+O14+Q14+S14+U14+W14+Y14) -> 0
B15: Alterado | C15: =SUM(D15+E15) -> 0 | D15: =SUM(F15+H15+J15+L15+N15+P15+R15+T15+V15+X15) -> 0 | E15: =SUM(G15+I15+K15+M15+O15+Q15+S15+U15+W15+Y15) -> 0
A16: SECCIÓN A.2: RESULTADOS DE LA APLICACIÓN DE ESCALA DE EVALUACIÓN DEL DESARROLLO PSICOMOTOR
A17: ACTIVIDAD | B17: RESULTADO | C17: TOTAL | F17: RANGO ETARIO Y SEXO | R17: Pueblos Originarios | S17: Migrantes
F18: Menos de 7 meses | H18: 7 - 11 meses | J18: 12 - 17 meses | L18: 18 - 23 meses | N18: 24 - 47 meses | P18: 48 - 59 meses
C19: Ambos Sexos | D19: Hombres | E19: Mujeres | F19: Hombres | G19: Mujeres | H19: Hombres | I19: Mujeres | J19: Hombres | K19: Mujeres | L19: Hombres | M19: Mujeres | N19: Hombres | O19: Mujeres | P19: Hombres | Q19: Mujeres
A20: Aplicación test de Desarrollo Psicomotor | C20: =SUM(D20+E20) -> 0 | D20: =SUM(F20+H20+J20+L20+N20+P20) -> 0 | E20: =SUM(G20+I20+K20+M20+O20+Q20) -> 0 | T20: =$CA20&CB20 | CA20: =IF(AND($C20<>0,R20=""),"* No olvide ingresar la variable "&R$17&""&". Digite CERO si no tiene. ",IF(R20>$C20,"* La variable Pueblos Originarios no debe ser mayor al Total Ambos Sexos. ","")) | CB20: =IF(AND($C20<>0,S20=""),"* No olvide ingresar la variable "&S$17&""&". Digite CERO si no tiene. ",IF(S20>$C20,"* La variable Migrantes no debe ser mayor al Total Ambos Sexos. ","")) | CK20: =IF(AND($C20<>0,R20=""),1,IF(R20>$C20,1,0)) -> 0 | CL20: =IF(AND($C20<>0,S20=""),1,IF(S20>$C20,1,0)) -> 0
A21: Primera Evaluación | B21: Normal | C21: =SUM(D21+E21) -> 0 | D21: =SUM(F21+H21+J21+L21+N21+P21) -> 0 | E21: =SUM(G21+I21+K21+M21+O21+Q21) -> 0 | T21: =$CA21&CB21 | CA21: =IF(AND($C21<>0,R21=""),"* No olvide ingresar la variable "&R$17&""&". Digite CERO si no tiene. ",IF(R21>$C21,"* La variable Pueblos Originarios no debe ser mayor al Total Ambos Sexos. ","")) | CB21: =IF(AND($C21<>0,S21=""),"* No olvide ingresar la variable "&S$17&""&". Digite CERO si no tiene. ",IF(S21>$C21,"* La variable Migrantes no debe ser mayor al Total Ambos Sexos. ","")) | CK21: =IF(AND($C21<>0,R21=""),1,IF(R21>$C21,1,0)) -> 0 | CL21: =IF(AND($C21<>0,S21=""),1,IF(S21>$C21,1,0)) -> 0
B22: Normal con Rezago | C22: =SUM(D22+E22) -> 0 | D22: =SUM(F22+H22+J22+L22+N22+P22) -> 0 | E22: =SUM(G22+I22+K22+M22+O22+Q22) -> 0 | T22: =$CA22&CB22 | CA22: =IF(AND($C22<>0,R22=""),"* No olvide ingresar la variable "&R$17&""&". Digite CERO si no tiene. ",IF(R22>$C22,"* La variable Pueblos Originarios no debe ser mayor al Total Ambos Sexos. ","")) | CB22: =IF(AND($C22<>0,S22=""),"* No olvide ingresar la variable "&S$17&""&". Digite CERO si no tiene. ",IF(S22>$C22,"* La variable Migrantes no debe ser mayor al Total Ambos Sexos. ","")) | CK22: =IF(AND($C22<>0,R22=""),1,IF(R22>$C22,1,0)) -> 0 | CL22: =IF(AND($C22<>0,S22=""),1,IF(S22>$C22,1,0)) -> 0
B23: Riesgo | C23: =SUM(D23+E23) -> 0 | D23: =SUM(F23+H23+J23+L23+N23+P23) -> 0 | E23: =SUM(G23+I23+K23+M23+O23+Q23) -> 0 | T23: =$CA23&CB23 | CA23: =IF(AND($C23<>0,R23=""),"* No olvide ingresar la variable "&R$17&""&". Digite CERO si no tiene. ",IF(R23>$C23,"* La variable Pueblos Originarios no debe ser mayor al Total Ambos Sexos. ","")) | CB23: =IF(AND($C23<>0,S23=""),"* No olvide ingresar la variable "&S$17&""&". Digite CERO si no tiene. ",IF(S23>$C23,"* La variable Migrantes no debe ser mayor al Total Ambos Sexos. ","")) | CK23: =IF(AND($C23<>0,R23=""),1,IF(R23>$C23,1,0)) -> 0 | CL23: =IF(AND($C23<>0,S23=""),1,IF(S23>$C23,1,0)) -> 0
B24: Retraso | C24: =SUM(D24+E24) -> 0 | D24: =SUM(F24+H24+J24+L24+N24+P24) -> 0 | E24: =SUM(G24+I24+K24+M24+O24+Q24) -> 0 | T24: =$CA24&CB24 | CA24: =IF(AND($C24<>0,R24=""),"* No olvide ingresar la variable "&R$17&""&". Digite CERO si no tiene. ",IF(R24>$C24,"* La variable Pueblos Originarios no debe ser mayor al Total Ambos Sexos. ","")) | CB24: =IF(AND($C24<>0,S24=""),"* No olvide ingresar la variable "&S$17&""&". Digite CERO si no tiene. ",IF(S24>$C24,"* La variable Migrantes no debe ser mayor al Total Ambos Sexos. ","")) | CK24: =IF(AND($C24<>0,R24=""),1,IF(R24>$C24,1,0)) -> 0 | CL24: =IF(AND($C24<>0,S24=""),1,IF(S24>$C24,1,0)) -> 0
A25: Reevaluación | B25: Normal (desde normal con rezago) | C25: =SUM(D25+E25) -> 0 | D25: =SUM(F25+H25+J25+L25+N25+P25) -> 0 | E25: =SUM(G25+I25+K25+M25+O25+Q25) -> 0 | T25: =$CA25&CB25 | CA25: =IF(AND($C25<>0,R25=""),"* No olvide ingresar la variable "&R$17&""&". Digite CERO si no tiene. ",IF(R25>$C25,"* La variable Pueblos Originarios no debe ser mayor al Total Ambos Sexos. ","")) | CB25: =IF(AND($C25<>0,S25=""),"* No olvide ingresar la variable "&S$17&""&". Digite CERO si no tiene. ",IF(S25>$C25,"* La variable Migrantes no debe ser mayor al Total Ambos Sexos. ","")) | CK25: =IF(AND($C25<>0,R25=""),1,IF(R25>$C25,1,0)) -> 0 | CL25: =IF(AND($C25<>0,S25=""),1,IF(S25>$C25,1,0)) -> 0
B26: Normal (desde riesgo) | C26: =SUM(D26+E26) -> 0 | D26: =SUM(F26+H26+J26+L26+N26+P26) -> 0 | E26: =SUM(G26+I26+K26+M26+O26+Q26) -> 0 | T26: =$CA26&CB26 | CA26: =IF(AND($C26<>0,R26=""),"* No olvide ingresar la variable "&R$17&""&". Digite CERO si no tiene. ",IF(R26>$C26,"* La variable Pueblos Originarios no debe ser mayor al Total Ambos Sexos. ","")) | CB26: =IF(AND($C26<>0,S26=""),"* No olvide ingresar la variable "&S$17&""&". Digite CERO si no tiene. ",IF(S26>$C26,"* La variable Migrantes no debe ser mayor al Total Ambos Sexos. ","")) | CK26: =IF(AND($C26<>0,R26=""),1,IF(R26>$C26,1,0)) -> 0 | CL26: =IF(AND($C26<>0,S26=""),1,IF(S26>$C26,1,0)) -> 0
B27: Normal (desde retraso) | C27: =SUM(D27+E27) -> 0 | D27: =SUM(F27+H27+J27+L27+N27+P27) -> 0 | E27: =SUM(G27+I27+K27+M27+O27+Q27) -> 0 | T27: =$CA27&CB27 | CA27: =IF(AND($C27<>0,R27=""),"* No olvide ingresar la variable "&R$17&""&". Digite CERO si no tiene. ",IF(R27>$C27,"* La variable Pueblos Originarios no debe ser mayor al Total Ambos Sexos. ","")) | CB27: =IF(AND($C27<>0,S27=""),"* No olvide ingresar la variable "&S$17&""&". Digite CERO si no tiene. ",IF(S27>$C27,"* La variable Migrantes no debe ser mayor al Total Ambos Sexos. ","")) | CK27: =IF(AND($C27<>0,R27=""),1,IF(R27>$C27,1,0)) -> 0 | CL27: =IF(AND($C27<>0,S27=""),1,IF(S27>$C27,1,0)) -> 0
B28: Normal Rezago (desde riesgo) | C28: =SUM(D28+E28) -> 0 | D28: =SUM(F28+H28+J28+L28+N28+P28) -> 0 | E28: =SUM(G28+I28+K28+M28+O28+Q28) -> 0 | T28: =$CA28&CB28 | CA28: =IF(AND($C28<>0,R28=""),"* No olvide ingresar la variable "&R$17&""&". Digite CERO si no tiene. ",IF(R28>$C28,"* La variable Pueblos Originarios no debe ser mayor al Total Ambos Sexos. ","")) | CB28: =IF(AND($C28<>0,S28=""),"* No olvide ingresar la variable "&S$17&""&". Digite CERO si no tiene. ",IF(S28>$C28,"* La variable Migrantes no debe ser mayor al Total Ambos Sexos. ","")) | CK28: =IF(AND($C28<>0,R28=""),1,IF(R28>$C28,1,0)) -> 0 | CL28: =IF(AND($C28<>0,S28=""),1,IF(S28>$C28,1,0)) -> 0
B29: Normal con Rezago (desde retraso) | C29: =SUM(D29+E29) -> 0 | D29: =SUM(F29+H29+J29+L29+N29+P29) -> 0 | E29: =SUM(G29+I29+K29+M29+O29+Q29) -> 0 | T29: =$CA29&CB29 | CA29: =IF(AND($C29<>0,R29=""),"* No olvide ingresar la variable "&R$17&""&". Digite CERO si no tiene. ",IF(R29>$C29,"* La variable Pueblos Originarios no debe ser mayor al Total Ambos Sexos. ","")) | CB29: =IF(AND($C29<>0,S29=""),"* No olvide ingresar la variable "&S$17&""&". Digite CERO si no tiene. ",IF(S29>$C29,"* La variable Migrantes no debe ser mayor al Total Ambos Sexos. ","")) | CK29: =IF(AND($C29<>0,R29=""),1,IF(R29>$C29,1,0)) -> 0 | CL29: =IF(AND($C29<>0,S29=""),1,IF(S29>$C29,1,0)) -> 0
B30: Riesgo (desde retraso) | C30: =SUM(D30:E30) -> 0 | D30: =SUM(F30+H30+J30+L30+N30+P30) -> 0 | E30: =SUM(G30+I30+K30+M30+O30+Q30) -> 0 | T30: =$CA30&CB30 | CA30: =IF(AND($C30<>0,R30=""),"* No olvide ingresar la variable "&R$17&""&". Digite CERO si no tiene. ",IF(R30>$C30,"* La variable Pueblos Originarios no debe ser mayor al Total Ambos Sexos. ","")) | CB30: =IF(AND($C30<>0,S30=""),"* No olvide ingresar la variable "&S$17&""&". Digite CERO si no tiene. ",IF(S30>$C30,"* La variable Migrantes no debe ser mayor al Total Ambos Sexos. ","")) | CK30: =IF(AND($C30<>0,R30=""),1,IF(R30>$C30,1,0)) -> 0 | CL30: =IF(AND($C30<>0,S30=""),1,IF(S30>$C30,1,0)) -> 0
B31: Normal con Rezago (desde normal con rezago) | C31: =SUM(D31:E31) -> 0 | D31: =SUM(F31+H31+J31+L31+N31+P31) -> 0 | E31: =SUM(G31+I31+K31+M31+O31+Q31) -> 0 | T31: =$CA31&CB31 | CA31: =IF(AND($C31<>0,R31=""),"* No olvide ingresar la variable "&R$17&""&". Digite CERO si no tiene. ",IF(R31>$C31,"* La variable Pueblos Originarios no debe ser mayor al Total Ambos Sexos. ","")) | CB31: =IF(AND($C31<>0,S31=""),"* No olvide ingresar la variable "&S$17&""&". Digite CERO si no tiene. ",IF(S31>$C31,"* La variable Migrantes no debe ser mayor al Total Ambos Sexos. ","")) | CK31: =IF(AND($C31<>0,R31=""),1,IF(R31>$C31,1,0)) -> 0 | CL31: =IF(AND($C31<>0,S31=""),1,IF(S31>$C31,1,0)) -> 0
B32: Riesgo (desde riesgo) | C32: =SUM(D32+E32) -> 0 | D32: =SUM(F32+H32+J32+L32+N32+P32) -> 0 | E32: =SUM(G32+I32+K32+M32+O32+Q32) -> 0 | T32: =$CA32&CB32 | CA32: =IF(AND($C32<>0,R32=""),"* No olvide ingresar la variable "&R$17&""&". Digite CERO si no tiene. ",IF(R32>$C32,"* La variable Pueblos Originarios no debe ser mayor al Total Ambos Sexos. ","")) | CB32: =IF(AND($C32<>0,S32=""),"* No olvide ingresar la variable "&S$17&""&". Digite CERO si no tiene. ",IF(S32>$C32,"* La variable Migrantes no debe ser mayor al Total Ambos Sexos. ","")) | CK32: =IF(AND($C32<>0,R32=""),1,IF(R32>$C32,1,0)) -> 0 | CL32: =IF(AND($C32<>0,S32=""),1,IF(S32>$C32,1,0)) -> 0
B33: Riesgo (desde normal con rezago) | C33: =SUM(D33+E33) -> 0 | D33: =SUM(F33+H33+J33+L33+N33+P33) -> 0 | E33: =SUM(G33+I33+K33+M33+O33+Q33) -> 0 | T33: =$CA33&CB33 | CA33: =IF(AND($C33<>0,R33=""),"* No olvide ingresar la variable "&R$17&""&". Digite CERO si no tiene. ",IF(R33>$C33,"* La variable Pueblos Originarios no debe ser mayor al Total Ambos Sexos. ","")) | CB33: =IF(AND($C33<>0,S33=""),"* No olvide ingresar la variable "&S$17&""&". Digite CERO si no tiene. ",IF(S33>$C33,"* La variable Migrantes no debe ser mayor al Total Ambos Sexos. ","")) | CK33: =IF(AND($C33<>0,R33=""),1,IF(R33>$C33,1,0)) -> 0 | CL33: =IF(AND($C33<>0,S33=""),1,IF(S33>$C33,1,0)) -> 0
B34: Retraso (desde retraso) | C34: =SUM(D34+E34) -> 0 | D34: =SUM(F34+H34+J34+L34+N34+P34) -> 0 | E34: =SUM(G34+I34+K34+M34+O34+Q34) -> 0 | T34: =$CA34&CB34 | CA34: =IF(AND($C34<>0,R34=""),"* No olvide ingresar la variable "&R$17&""&". Digite CERO si no tiene. ",IF(R34>$C34,"* La variable Pueblos Originarios no debe ser mayor al Total Ambos Sexos. ","")) | CB34: =IF(AND($C34<>0,S34=""),"* No olvide ingresar la variable "&S$17&""&". Digite CERO si no tiene. ",IF(S34>$C34,"* La variable Migrantes no debe ser mayor al Total Ambos Sexos. ","")) | CK34: =IF(AND($C34<>0,R34=""),1,IF(R34>$C34,1,0)) -> 0 | CL34: =IF(AND($C34<>0,S34=""),1,IF(S34>$C34,1,0)) -> 0
B35: Retraso (desde riesgo) | C35: =SUM(D35+E35) -> 0 | D35: =SUM(F35+H35+J35+L35+N35+P35) -> 0 | E35: =SUM(G35+I35+K35+M35+O35+Q35) -> 0 | T35: =$CA35&CB35 | CA35: =IF(AND($C35<>0,R35=""),"* No olvide ingresar la variable "&R$17&""&". Digite CERO si no tiene. ",IF(R35>$C35,"* La variable Pueblos Originarios no debe ser mayor al Total Ambos Sexos. ","")) | CB35: =IF(AND($C35<>0,S35=""),"* No olvide ingresar la variable "&S$17&""&". Digite CERO si no tiene. ",IF(S35>$C35,"* La variable Migrantes no debe ser mayor al Total Ambos Sexos. ","")) | CK35: =IF(AND($C35<>0,R35=""),1,IF(R35>$C35,1,0)) -> 0 | CL35: =IF(AND($C35<>0,S35=""),1,IF(S35>$C35,1,0)) -> 0
B36: Retraso (desde normal con rezago) | C36: =SUM(D36+E36) -> 0 | D36: =SUM(F36+H36+J36+L36+N36+P36) -> 0 | E36: =SUM(G36+I36+K36+M36+O36+Q36) -> 0 | T36: =$CA36&CB36 | CA36: =IF(AND($C36<>0,R36=""),"* No olvide ingresar la variable "&R$17&""&". Digite CERO si no tiene. ",IF(R36>$C36,"* La variable Pueblos Originarios no debe ser mayor al Total Ambos Sexos. ","")) | CB36: =IF(AND($C36<>0,S36=""),"* No olvide ingresar la variable "&S$17&""&". Digite CERO si no tiene. ",IF(S36>$C36,"* La variable Migrantes no debe ser mayor al Total Ambos Sexos. ","")) | CK36: =IF(AND($C36<>0,R36=""),1,IF(R36>$C36,1,0)) -> 0 | CL36: =IF(AND($C36<>0,S36=""),1,IF(S36>$C36,1,0)) -> 0
A37: Derivados a Especialidad | B37: Riesgo | C37: =SUM(D37+E37) -> 0 | D37: =SUM(F37+H37+J37+L37+N37+P37) -> 0 | E37: =SUM(G37+I37+K37+M37+O37+Q37) -> 0 | T37: =$CA37&CB37 | CA37: =IF(AND($C37<>0,R37=""),"* No olvide ingresar la variable "&R$17&""&". Digite CERO si no tiene. ",IF(R37>$C37,"* La variable Pueblos Originarios no debe ser mayor al Total Ambos Sexos. ","")) | CB37: =IF(AND($C37<>0,S37=""),"* No olvide ingresar la variable "&S$17&""&". Digite CERO si no tiene. ",IF(S37>$C37,"* La variable Migrantes no debe ser mayor al Total Ambos Sexos. ","")) | CK37: =IF(AND($C37<>0,R37=""),1,IF(R37>$C37,1,0)) -> 0 | CL37: =IF(AND($C37<>0,S37=""),1,IF(S37>$C37,1,0)) -> 0
B38: Retraso | C38: =SUM(D38+E38) -> 0 | D38: =SUM(F38+H38+J38+L38+N38+P38) -> 0 | E38: =SUM(G38+I38+K38+M38+O38+Q38) -> 0 | T38: =$CA38&CB38 | CA38: =IF(AND($C38<>0,R38=""),"* No olvide ingresar la variable "&R$17&""&". Digite CERO si no tiene. ",IF(R38>$C38,"* La variable Pueblos Originarios no debe ser mayor al Total Ambos Sexos. ","")) | CB38: =IF(AND($C38<>0,S38=""),"* No olvide ingresar la variable "&S$17&""&". Digite CERO si no tiene. ",IF(S38>$C38,"* La variable Migrantes no debe ser mayor al Total Ambos Sexos. ","")) | CK38: =IF(AND($C38<>0,R38=""),1,IF(R38>$C38,1,0)) -> 0 | CL38: =IF(AND($C38<>0,S38=""),1,IF(S38>$C38,1,0)) -> 0
A39: Traslado de Establecimiento | B39: Normal con Rezago | C39: =SUM(D39+E39) -> 0 | D39: =SUM(F39+H39+J39+L39+N39+P39) -> 0 | E39: =SUM(G39+I39+K39+M39+O39+Q39) -> 0 | T39: =$CA39&CB39 | CA39: =IF(AND($C39<>0,R39=""),"* No olvide ingresar la variable "&R$17&""&". Digite CERO si no tiene. ",IF(R39>$C39,"* La variable Pueblos Originarios no debe ser mayor al Total Ambos Sexos. ","")) | CB39: =IF(AND($C39<>0,S39=""),"* No olvide ingresar la variable "&S$17&""&". Digite CERO si no tiene. ",IF(S39>$C39,"* La variable Migrantes no debe ser mayor al Total Ambos Sexos. ","")) | CK39: =IF(AND($C39<>0,R39=""),1,IF(R39>$C39,1,0)) -> 0 | CL39: =IF(AND($C39<>0,S39=""),1,IF(S39>$C39,1,0)) -> 0
B40: Riesgo | C40: =SUM(D40+E40) -> 0 | D40: =SUM(F40+H40+J40+L40+N40+P40) -> 0 | E40: =SUM(G40+I40+K40+M40+O40+Q40) -> 0 | T40: =$CA40&CB40 | CA40: =IF(AND($C40<>0,R40=""),"* No olvide ingresar la variable "&R$17&""&". Digite CERO si no tiene. ",IF(R40>$C40,"* La variable Pueblos Originarios no debe ser mayor al Total Ambos Sexos. ","")) | CB40: =IF(AND($C40<>0,S40=""),"* No olvide ingresar la variable "&S$17&""&". Digite CERO si no tiene. ",IF(S40>$C40,"* La variable Migrantes no debe ser mayor al Total Ambos Sexos. ","")) | CK40: =IF(AND($C40<>0,R40=""),1,IF(R40>$C40,1,0)) -> 0 | CL40: =IF(AND($C40<>0,S40=""),1,IF(S40>$C40,1,0)) -> 0
B41: Retraso | C41: =SUM(D41+E41) -> 0 | D41: =SUM(F41+H41+J41+L41+N41+P41) -> 0 | E41: =SUM(G41+I41+K41+M41+O41+Q41) -> 0 | T41: =$CA41&CB41 | CA41: =IF(AND($C41<>0,R41=""),"* No olvide ingresar la variable "&R$17&""&". Digite CERO si no tiene. ",IF(R41>$C41,"* La variable Pueblos Originarios no debe ser mayor al Total Ambos Sexos. ","")) | CB41: =IF(AND($C41<>0,S41=""),"* No olvide ingresar la variable "&S$17&""&". Digite CERO si no tiene. ",IF(S41>$C41,"* La variable Migrantes no debe ser mayor al Total Ambos Sexos. ","")) | CK41: =IF(AND($C41<>0,R41=""),1,IF(R41>$C41,1,0)) -> 0 | CL41: =IF(AND($C41<>0,S41=""),1,IF(S41>$C41,1,0)) -> 0
A42: SECCIÓN A.3: NIÑOS Y NIÑAS CON REZAGO, DÉFICIT O RIESGO BIOPSICOSOCIAL DERIVADOS A ALGUNA MODALIDAD DE ESTIMULACIÓN EN LA PRIMERA EVALUACIÓN
A43: NIÑO / A | B43: TOTAL | E43: RANGO ETARIO Y SEXO | Q43: Pueblos Originarios | R43: Migrantes
E44: Menos de 7 meses | G44: 7 - 11 meses | I44: 12 - 17 meses | K44: 18 - 23 meses | M44: 24 - 47 meses | O44: 48 - 59 meses
B45: Ambos Sexos | C45: Hombres | D45: Mujeres | E45: Hombres | F45: Mujeres | G45: Hombres | H45: Mujeres | I45: Hombres | J45: Mujeres | K45: Hombres | L45: Mujeres | M45: Hombres | N45: Mujeres | O45: Hombres | P45: Mujeres
A46: Normal con Rezago | B46: =SUM(C46+D46) -> 0 | C46: =SUM(E46+G46+I46+K46+M46+O46) -> 0 | D46: =SUM(F46+H46+J46+L46+N46+P46) -> 0 | S46: =$CA46&CB46 | CA46: =IF(AND($B46<>0,Q46=""),"* No olvide ingresar la variable "&Q$43&""&". Digite CERO si no tiene. ",IF(Q46>$B46,"* La variable Pueblos Originarios no debe ser mayor al Total Ambos Sexos. ","")) | CB46: =IF(AND($B46<>0,R46=""),"* No olvide ingresar la variable "&R$43&""&" (Digite CERO si no tiene). ",IF(R46>$B46,"* La variable Migrantes no debe ser mayor al Total Ambos Sexos. ","")) | CK46: =IF(AND($B46<>0,Q46=""),1,IF(Q46>$B46,1,0)) -> 0 | CL46: =IF(AND($B46<>0,R46=""),1,IF(R46>$B46,1,0)) -> 0
A47: Riesgo | B47: =SUM(C47+D47) -> 0 | C47: =SUM(E47+G47+I47+K47+M47+O47) -> 0 | D47: =SUM(F47+H47+J47+L47+N47+P47) -> 0 | S47: =$CA47&CB47 | CA47: =IF(AND($B47<>0,Q47=""),"* No olvide ingresar la variable "&Q$43&""&". Digite CERO si no tiene. ",IF(Q47>$B47,"* La variable Pueblos Originarios no debe ser mayor al Total Ambos Sexos. ","")) | CB47: =IF(AND($B47<>0,R47=""),"* No olvide ingresar la variable "&R$43&""&" (Digite CERO si no tiene). ",IF(R47>$B47,"* La variable Migrantes no debe ser mayor al Total Ambos Sexos. ","")) | CK47: =IF(AND($B47<>0,Q47=""),1,IF(Q47>$B47,1,0)) -> 0 | CL47: =IF(AND($B47<>0,R47=""),1,IF(R47>$B47,1,0)) -> 0
A48: Retraso | B48: =SUM(C48+D48) -> 0 | C48: =SUM(E48+G48+I48+K48+M48+O48) -> 0 | D48: =SUM(F48+H48+J48+L48+N48+P48) -> 0 | S48: =$CA48&CB48 | CA48: =IF(AND($B48<>0,Q48=""),"* No olvide ingresar la variable "&Q$43&""&". Digite CERO si no tiene. ",IF(Q48>$B48,"* La variable Pueblos Originarios no debe ser mayor al Total Ambos Sexos. ","")) | CB48: =IF(AND($B48<>0,R48=""),"* No olvide ingresar la variable "&R$43&""&" (Digite CERO si no tiene). ",IF(R48>$B48,"* La variable Migrantes no debe ser mayor al Total Ambos Sexos. ","")) | CK48: =IF(AND($B48<>0,Q48=""),1,IF(Q48>$B48,1,0)) -> 0 | CL48: =IF(AND($B48<>0,R48=""),1,IF(R48>$B48,1,0)) -> 0
A49: Normal con Riesgo Biopsicosocial | B49: =SUM(C49:D49) -> 0 | C49: =SUM(E49+G49+I49+K49+M49+O49) -> 0 | D49: =SUM(F49+H49+J49+L49+N49+P49) -> 0 | S49: =$CA49&CB49 | CA49: =IF(AND($B49<>0,Q49=""),"* No olvide ingresar la variable "&Q$43&""&". Digite CERO si no tiene. ",IF(Q49>$B49,"* La variable Pueblos Originarios no debe ser mayor al Total Ambos Sexos. ","")) | CB49: =IF(AND($B49<>0,R49=""),"* No olvide ingresar la variable "&R$43&""&" (Digite CERO si no tiene). ",IF(R49>$B49,"* La variable Migrantes no debe ser mayor al Total Ambos Sexos. ","")) | CK49: =IF(AND($B49<>0,Q49=""),1,IF(Q49>$B49,1,0)) -> 0 | CL49: =IF(AND($B49<>0,R49=""),1,IF(R49>$B49,1,0)) -> 0
A50: SECCIÓN A.4: RESULTADOS DE LA APLICACIÓN DE PROTOCOLO NEUROSENSORIAL
A51: RESULTADOS | B51: TOTAL | E51: RANGO ETARIO Y SEXO | I51: Pueblos Originarios | J51: Migrantes
E52: 1 mes | G52: 2 meses
B53: Ambos Sexos | C53: Hombres | D53: Mujeres | E53: Hombres | F53: Mujeres | G53: Hombres | H53: Mujeres
A54: Aplicación de Protocolo Neurosensorial (1-2 meses) | B54: =SUM(C54+D54) -> 0 | C54: =SUM(E54+G54) -> 0 | D54: =SUM(F54+H54) -> 0 | E54: =SUM(E55:E57) -> 0 | F54: =SUM(F55:F57) -> 0 | G54: =SUM(G55:G57) -> 0 | H54: =SUM(H55:H57) -> 0 | I54: =SUM(I55:I57) -> 0 | J54: =SUM(J55:J57) -> 0
A55: Normal | B55: =SUM(C55+D55) -> 0 | C55: =SUM(E55+G55) -> 0 | D55: =SUM(F55+H55) -> 0 | K55: =$CA55&CB55 | CA55: =IF(AND($B55<>0,I55=""),"* No olvide ingresar la variable "&I$51&""&". Digite CERO si no tiene. ",IF(I55>$B55,"* La variable Pueblos Originarios no debe ser mayor al Total Ambos Sexos. ","")) | CB55: =IF(AND($B55<>0,J55=""),"* No olvide ingresar la variable "&J$51&""&" (Digite CERO si no tiene). ",IF(J55>$B55,"* La variable Migrantes no debe ser mayor al Total Ambos Sexos. ","")) | CK55: =IF(AND($B55<>0,I55=""),1,IF(I55>$B55,1,0)) -> 0 | CL55: =IF(AND($B55<>0,J55=""),1,IF(J55>$B55,1,0)) -> 0
A56: Anormal | B56: =SUM(C56+D56) -> 0 | C56: =SUM(E56+G56) -> 0 | D56: =SUM(F56+H56) -> 0 | K56: =$CA56&CB56 | CA56: =IF(AND($B56<>0,I56=""),"* No olvide ingresar la variable "&I$51&""&". Digite CERO si no tiene. ",IF(I56>$B56,"* La variable Pueblos Originarios no debe ser mayor al Total Ambos Sexos. ","")) | CB56: =IF(AND($B56<>0,J56=""),"* No olvide ingresar la variable "&J$51&""&" (Digite CERO si no tiene). ",IF(J56>$B56,"* La variable Migrantes no debe ser mayor al Total Ambos Sexos. ","")) | CK56: =IF(AND($B56<>0,I56=""),1,IF(I56>$B56,1,0)) -> 0 | CL56: =IF(AND($B56<>0,J56=""),1,IF(J56>$B56,1,0)) -> 0
A57: Muy Anormal | B57: =SUM(C57+D57) -> 0 | C57: =SUM(E57+G57) -> 0 | D57: =SUM(F57+H57) -> 0 | K57: =$CA57&CB57 | CA57: =IF(AND($B57<>0,I57=""),"* No olvide ingresar la variable "&I$51&""&". Digite CERO si no tiene. ",IF(I57>$B57,"* La variable Pueblos Originarios no debe ser mayor al Total Ambos Sexos. ","")) | CB57: =IF(AND($B57<>0,J57=""),"* No olvide ingresar la variable "&J$51&""&" (Digite CERO si no tiene). ",IF(J57>$B57,"* La variable Migrantes no debe ser mayor al Total Ambos Sexos. ","")) | CK57: =IF(AND($B57<>0,I57=""),1,IF(I57>$B57,1,0)) -> 0 | CL57: =IF(AND($B57<>0,J57=""),1,IF(J57>$B57,1,0)) -> 0
A58: SECCIÓN A.5: TIPO DE ALIMENTACIÓN NIÑOS Y NIÑAS CONTROLADOS
A59: TIPO DE ALIMENTACIÓN | C59: TOTAL | D59: SEGÚN CONTROL PROGRAMÁTICO | K59: Pueblos Originarios | L59: Migrantes
D60: Diada hasta 10 días de vida | E60: Diada entre 11 y 28 días de vida | F60: Del 1° mes | G60: Del 3° mes | H60: Del 6° mes | I60: Del 12° mes | J60: Del 24° mes
A61: Lactancia Materna exclusiva (LME) | C61: =SUM(D61:H61) -> 0 | M61: =$CA61&CB61 | CA61: =IF(AND($C61<>0,K61=""),"* No olvide ingresar la variable "&K$59&""&". Digite CERO si no tiene. ",IF(K61>$C61,"* La variable Pueblos Originarios no debe ser mayor al Total. ","")) | CB61: =IF(AND($C61<>0,L61=""),"* No olvide ingresar la variable "&L$59&""&". Digite CERO si no tiene. ",IF(L61>$C61,"* La variable Migrantes no debe ser mayor al Total. ","")) | CK61: =IF(AND($C61<>0,K61=""),1,IF(K61>$C61,1,0)) -> 0 | CL61: =IF(AND($C61<>0,L61=""),1,IF(L61>$C61,1,0)) -> 0
A62: Lactancia Materna más Formula Láctea (LM/FL) | C62: =SUM(D62:H62) -> 0 | M62: =$CA62&CB62 | CA62: =IF(AND($C62<>0,K62=""),"* No olvide ingresar la variable "&K$59&""&". Digite CERO si no tiene. ",IF(K62>$C62,"* La variable Pueblos Originarios no debe ser mayor al Total. ","")) | CB62: =IF(AND($C62<>0,L62=""),"* No olvide ingresar la variable "&L$59&""&". Digite CERO si no tiene. ",IF(L62>$C62,"* La variable Migrantes no debe ser mayor al Total. ","")) | CK62: =IF(AND($C62<>0,K62=""),1,IF(K62>$C62,1,0)) -> 0 | CL62: =IF(AND($C62<>0,L62=""),1,IF(L62>$C62,1,0)) -> 0
A63: Formula Láctea (FL) | C63: =SUM(D63:H63) -> 0 | M63: =$CA63&CB63 | CA63: =IF(AND($C63<>0,K63=""),"* No olvide ingresar la variable "&K$59&""&". Digite CERO si no tiene. ",IF(K63>$C63,"* La variable Pueblos Originarios no debe ser mayor al Total. ","")) | CB63: =IF(AND($C63<>0,L63=""),"* No olvide ingresar la variable "&L$59&""&". Digite CERO si no tiene. ",IF(L63>$C63,"* La variable Migrantes no debe ser mayor al Total. ","")) | CK63: =IF(AND($C63<>0,K63=""),1,IF(K63>$C63,1,0)) -> 0 | CL63: =IF(AND($C63<>0,L63=""),1,IF(L63>$C63,1,0)) -> 0
A64: Lactancia Materna más Alimentación Complementaria (LM/AC) | C64: =SUM(H64:J64) -> 0 | M64: =$CA64&CB64 | CA64: =IF(AND($C64<>0,K64=""),"* No olvide ingresar la variable "&K$59&""&". Digite CERO si no tiene. ",IF(K64>$C64,"* La variable Pueblos Originarios no debe ser mayor al Total. ","")) | CB64: =IF(AND($C64<>0,L64=""),"* No olvide ingresar la variable "&L$59&""&". Digite CERO si no tiene. ",IF(L64>$C64,"* La variable Migrantes no debe ser mayor al Total. ","")) | CK64: =IF(AND($C64<>0,K64=""),1,IF(K64>$C64,1,0)) -> 0 | CL64: =IF(AND($C64<>0,L64=""),1,IF(L64>$C64,1,0)) -> 0
A65: Lactancia Materna más Fórmula Láctea más Alimentación Complementaria (LM/FL/AC) | C65: =SUM(H65:J65) -> 0 | M65: =$CA65&CB65 | CA65: =IF(AND($C65<>0,K65=""),"* No olvide ingresar la variable "&K$59&""&". Digite CERO si no tiene. ",IF(K65>$C65,"* La variable Pueblos Originarios no debe ser mayor al Total. ","")) | CB65: =IF(AND($C65<>0,L65=""),"* No olvide ingresar la variable "&L$59&""&". Digite CERO si no tiene. ",IF(L65>$C65,"* La variable Migrantes no debe ser mayor al Total. ","")) | CK65: =IF(AND($C65<>0,K65=""),1,IF(K65>$C65,1,0)) -> 0 | CL65: =IF(AND($C65<>0,L65=""),1,IF(L65>$C65,1,0)) -> 0
A66: Fórmula Láctea más Alimentación Complementaria (FL/AC) | C66: =SUM(H66:J66) -> 0 | M66: =$CA66&CB66 | CA66: =IF(AND($C66<>0,K66=""),"* No olvide ingresar la variable "&K$59&""&". Digite CERO si no tiene. ",IF(K66>$C66,"* La variable Pueblos Originarios no debe ser mayor al Total. ","")) | CB66: =IF(AND($C66<>0,L66=""),"* No olvide ingresar la variable "&L$59&""&". Digite CERO si no tiene. ",IF(L66>$C66,"* La variable Migrantes no debe ser mayor al Total. ","")) | CK66: =IF(AND($C66<>0,K66=""),1,IF(K66>$C66,1,0)) -> 0 | CL66: =IF(AND($C66<>0,L66=""),1,IF(L66>$C66,1,0)) -> 0
A67: Total de niños y niñas controlados | C67: =SUM(D67:J67) -> 0 | M67: =$CA67&CB67 | CA67: =IF(AND($C67<>0,K67=""),"* No olvide ingresar la variable "&K$59&""&". Digite CERO si no tiene. ",IF(K67>$C67,"* La variable Pueblos Originarios no debe ser mayor al Total. ","")) | CB67: =IF(AND($C67<>0,L67=""),"* No olvide ingresar la variable "&L$59&""&". Digite CERO si no tiene. ",IF(L67>$C67,"* La variable Migrantes no debe ser mayor al Total. ","")) | CK67: =IF(AND($C67<>0,K67=""),1,IF(K67>$C67,1,0)) -> 0 | CL67: =IF(AND($C67<>0,L67=""),1,IF(L67>$C67,1,0)) -> 0
A68: SECCIÓN A.6: RESULTADOS RADIOGRAFÍA DE PELVIS (CADERA)
A69: RESULTADO | B69: TOTAL | E69: RANGO ETARIO Y SEXO | I69: Pueblos Originarios | J69: Migrantes
E70: 3 meses | G70: 4 meses
B71: Ambos Sexos | C71: Hombres | D71: Mujeres | E71: Hombres | F71: Mujeres | G71: Hombres | H71: Mujeres
A72: Normal | B72: =SUM(C72:D72) -> 0 | C72: =+E72+G72 -> 0 | D72: =+F72+H72 -> 0 | K72: =$CA72&CB72 | CA72: =IF(AND($B72<>0,I72=""),"* No olvide ingresar la variable "&I$51&""&". Digite CERO si no tiene. ",IF(I72>$B72,"* La variable Pueblos Originarios no debe ser mayor al Total Ambos Sexos. ","")) | CB72: =IF(AND($B72<>0,J72=""),"* No olvide ingresar la variable "&J$51&""&" (Digite CERO si no tiene). ",IF(J72>$B72,"* La variable Migrantes no debe ser mayor al Total Ambos Sexos. ","")) | CK72: =IF(AND($B72<>0,I72=""),1,IF(I72>$B72,1,0)) -> 0 | CL72: =IF(AND($B72<>0,J72=""),1,IF(J72>$B72,1,0)) -> 0
A73: Anormal | B73: =SUM(C73:D73) -> 0 | C73: =+E73+G73 -> 0 | D73: =+F73+H73 -> 0 | K73: =$CA73&CB73 | CA73: =IF(AND($B73<>0,I73=""),"* No olvide ingresar la variable "&I$51&""&". Digite CERO si no tiene. ",IF(I73>$B73,"* La variable Pueblos Originarios no debe ser mayor al Total Ambos Sexos. ","")) | CB73: =IF(AND($B73<>0,J73=""),"* No olvide ingresar la variable "&J$51&""&" (Digite CERO si no tiene). ",IF(J73>$B73,"* La variable Migrantes no debe ser mayor al Total Ambos Sexos. ","")) | CK73: =IF(AND($B73<>0,I73=""),1,IF(I73>$B73,1,0)) -> 0 | CL73: =IF(AND($B73<>0,J73=""),1,IF(J73>$B73,1,0)) -> 0
A74: Inmadura | B74: =SUM(C74:D74) -> 0 | C74: =+E74+G74 -> 0 | D74: =+F74+H74 -> 0 | K74: =$CA74&CB74 | CA74: =IF(AND($B74<>0,I74=""),"* No olvide ingresar la variable "&I$51&""&". Digite CERO si no tiene. ",IF(I74>$B74,"* La variable Pueblos Originarios no debe ser mayor al Total Ambos Sexos. ","")) | CB74: =IF(AND($B74<>0,J74=""),"* No olvide ingresar la variable "&J$51&""&" (Digite CERO si no tiene). ",IF(J74>$B74,"* La variable Migrantes no debe ser mayor al Total Ambos Sexos. ","")) | CK74: =IF(AND($B74<>0,I74=""),1,IF(I74>$B74,1,0)) -> 0 | CL74: =IF(AND($B74<>0,J74=""),1,IF(J74>$B74,1,0)) -> 0
A75: SECCION B: EVALUACIÓN, APLICACIÓN Y RESULTADOS DE ESCALAS EN LA MUJER
A76: SECCIÓN B.1: EVALUACIÓN DEL ESTADO NUTRICIONAL A PERSONAS CONTROLADAS AL OCTAVO MES POST PARTO
A77: ESTADO NUTRICIONAL | B77: TOTAL
B79: =SUM(B80:B83) -> 0
A80: Obesa
A81: Sobrepeso
A82: Normal
A83: Bajo peso
A84: SECCIÓN B.2: APLICACIÓN DE ESCALA SEGÚN EVALUACIÓN DE RIESGO PSICOSOCIAL ABREVIADA A GESTANTES
A85: TIPO | B85: Total de Aplicaciones | C85: Con riesgo psicosocial | D85: Violencia de Género | E85: 3 o más riesgos psicosociales | F85: Plan de equipo de cabecera en gestantes con 3 o más riesgos psicosociales
A86: Evaluación al ingreso | G86: =$CA86&CB86&CC86&CD86&CE86 | CA86: =IF(CK86=1,"* Las Aplicaciones de EPSA con resultado de Riesgo psicosocial NO DEBE ser MAYOR que el Total de las Aplicaciones. ","") | CB86: =IF(CL86=1,"* Las Aplicaciones de EPSA con resultado de Riesgo psicosocial NO DEBE ser MENOR que la variable Plan de equipo de cabecera en gestantes con 3 o más riesgos psicosociales. ","") | CC86: =IF(CM86=1,"* Las Aplicaciones de EPSA asociadas a Violencia de Género NO DEBEN ser MAYOR al Total de Aplicaciones. ","") | CD86: =IF(CN86=1,"* Las Aplicaciones de EPSA asociadas a 3 o más riesgos psicosociales NO DEBEN ser MAYOR al Total de Aplicaciones. ","") | CE86: =IF(CO86=1,"* La variable Plan de equipo de cabecera en gestantes con 3 o más riesgos psicosociales NO DEBE ser MAYOR al Total de Aplicaciones. ","") | CK86: =IF(B86<C86,1,0) -> 0 | CL86: =IF(C86<F86,1,0) -> 0 | CM86: =IF(D86>$B86,1,0) -> 0 | CN86: =IF(E86>$B86,1,0) -> 0 | CO86: =IF(F86>$B86,1,0) -> 0
A87: Evaluación al tercer trimestre | G87: =$CA87&CB87&CC87&CD87&CE87 | CA87: =IF(CK87=1,"* Las Aplicaciones de EPSA con resultado de Riesgo psicosocial NO DEBE ser MAYOR que el Total de las Aplicaciones. ","") | CB87: =IF(CL87=1,"* Las Aplicaciones de EPSA con resultado de Riesgo psicosocial NO DEBE ser MENOR que la variable Plan de equipo de cabecera en gestantes con 3 o más riesgos psicosociales. ","") | CC87: =IF(CM87=1,"* Las Aplicaciones de EPSA asociadas a Violencia de Género NO DEBEN ser MAYOR al Total de Aplicaciones. ","") | CD87: =IF(CN87=1,"* Las Aplicaciones de EPSA asociadas a 3 o más riesgos psicosociales NO DEBEN ser MAYOR al Total de Aplicaciones. ","") | CE87: =IF(CO87=1,"* La variable Plan de equipo de cabecera en gestantes con 3 o más riesgos psicosociales NO DEBE ser MAYOR al Total de Aplicaciones. ","") | CK87: =IF(B87<C87,1,0) -> 0 | CL87: =IF(C87<F87,1,0) -> 0 | CM87: =IF(D87>$B87,1,0) -> 0 | CN87: =IF(E87>$B87,1,0) -> 0 | CO87: =IF(F87>$B87,1,0) -> 0
A88: SECCIÓN B.3: APLICACIÓN DE ESCALA DE EDIMBURGO A GESTANTES Y MUJERES POST PARTO
A89: CONCEPTO | C89: Total de Aplicaciones | D89: Resultados 10 o más puntos (Puérperas) | E89: Resultado distinto de 0 en pregunta 10 (Puérperas) | F89: Resultados 13 o más puntos (Gestantes) | G89: Resultado distinto de 0 en pregunta 10 (Gestantes) | H89: Casos alterados derivados a Salud Mental
A90: Evaluación a Gestantes | B90: Primera evaluación (2º control prenatal) | I90: =$CA90 | CA90: =IF(AND($C90<>0,H90=""),"* No olvide ingresar la variable "&H$89&""&". Digite CERO si no tiene. ",IF(H90>$C90,"* La variable Casos alterados derivados a Salud Mental no debe ser mayor al Total de Aplicaciones. ","")) | CK90: =IF(AND($C90<>0,H90=""),1,IF(H90>$C90,1,0)) -> 0
B91: Reevaluación (con puntaje elevado en la primera evaluación) | I91: =$CA91 | CA91: =IF(AND($C91<>0,H91=""),"* No olvide ingresar la variable "&H$89&""&". Digite CERO si no tiene. ",IF(H91>$C91,"* La variable Casos alterados derivados a Salud Mental no debe ser mayor al Total de Aplicaciones. ","")) | CK91: =IF(AND($C91<>0,H91=""),1,IF(H91>$C91,1,0)) -> 0
A92: Evaluación a mujeres/personas post parto síntomas de depresión | B92: A los 2 meses | I92: =$CA92 | CA92: =IF(AND($C92<>0,H92=""),"* No olvide ingresar la variable "&H$89&""&". Digite CERO si no tiene. ",IF(H92>$C92,"* La variable Casos alterados derivados a Salud Mental no debe ser mayor al Total de Aplicaciones. ","")) | CK92: =IF(AND($C92<>0,H92=""),1,IF(H92>$C92,1,0)) -> 0
B93: A los 6 meses | I93: =$CA93 | CA93: =IF(AND($C93<>0,H93=""),"* No olvide ingresar la variable "&H$89&""&". Digite CERO si no tiene. ",IF(H93>$C93,"* La variable Casos alterados derivados a Salud Mental no debe ser mayor al Total de Aplicaciones. ","")) | CK93: =IF(AND($C93<>0,H93=""),1,IF(H93>$C93,1,0)) -> 0
A94: SECCIÓN C: RESULTADOS DE LA EVALUACIÓN DEL ESTADO NUTRICIONAL DEL ADOLESCENTE CON CONTROL SALUD INTEGRAL
A95: ESTADO NUTRICIONAL | C95: TOTAL | F95: 10 - 14 años | H95: 15 - 19 años
C96: Ambos Sexos | D96: Hombres | E96: Mujeres | F96: Hombres | G96: Mujeres | H96: Hombres | I96: Mujeres
A97: TOTAL | C97: =SUM(C98:C102) -> 0 | D97: =SUM(D98:D102) -> 0 | E97: =SUM(E98:E102) -> 0 | F97: =SUM(F98:F102) -> 0 | G97: =SUM(G98:G102) -> 0 | H97: =SUM(H98:H102) -> 0 | I97: =SUM(I98:I102) -> 0
A98: Normal | C98: =SUM(D98+E98) -> 0 | D98: =SUM(F98+H98) -> 0 | E98: =SUM(G98+I98) -> 0
A99: Bajo peso | C99: =SUM(D99+E99) -> 0 | D99: =SUM(F99+H99) -> 0 | E99: =SUM(G99+I99) -> 0
A100: Sobrepeso | C100: =SUM(D100+E100) -> 0 | D100: =SUM(F100+H100) -> 0 | E100: =SUM(G100+I100) -> 0
A101: Obesos | C101: =SUM(D101+E101) -> 0 | D101: =SUM(F101+H101) -> 0 | E101: =SUM(G101+I101) -> 0
A102: Obesos severos | C102: =SUM(D102+E102) -> 0 | D102: =SUM(F102+H102) -> 0 | E102: =SUM(G102+I102) -> 0
...

Sheet ENERO
A1: SERVICIO DE SALUD
A2: =CONCATENATE("COMUNA: ",[2]NOMBRE!B2, " (",[2]NOMBRE!C2,[2]NOMBRE!D2,[2]NOMBRE!E2,[2]NOMBRE!F2,[2]NOMBRE!G2,")") -> COMUNA: LINARES (07401)
A3: =CONCATENATE("ESTABLECIMIENTO/ESTRATEGIA: ", [2]NOMBRE!B3, " (",[2]NOMBRE!C3,[2]NOMBRE!D3,[2]NOMBRE!E3,[2]NOMBRE!F3,[2]NOMBRE!G3,[2]NOMBRE!H3,")") -> ESTABLECIMIENTO/ESTRATEGIA: HOSPITAL PRESIDENTE CARLOS IBAÑEZ DEL CAMPO (116108)
A4: =CONCATENATE("MES: ",[2]NOMBRE!B6, " (",[2]NOMBRE!C6,[2]NOMBRE!D6,")") -> MES: ENERO (01)
A5: =CONCATENATE("AÑO: ",[2]NOMBRE!B7) -> AÑO: 2025
A6: REM-A03. APLICACIÓN Y RESULTADOS DE ESCALAS DE EVALUACIÓN
A8: SECCIÓN A: APLICACIÓN DE INSTRUMENTO Y RESULTADO EN EL NIÑO (A)
A9: SECCIÓN A.1: APLICACIÓN Y RESULTADOS DE PAUTA BREVE
A10: EVALUACIONES POR EDAD DEL NIÑO | C10: TOTAL | F10: RANGO ETARIO Y SEXO
F11: Menos de 1 mes | H11: 1 mes | J11: 2 meses | L11: 3 meses | N11: 4 meses | P11: 5 meses | R11: 6 meses | T11: 7 - 11 meses | V11: 12 - 17 meses | X11: 18 - 24 meses
C12: Ambos Sexos | D12: Hombres | E12: Mujeres | F12: Hombres | G12: Mujeres | H12: Hombres | I12: Mujeres | J12: Hombres | K12: Mujeres | L12: Hombres | M12: Mujeres | N12: Hombres | O12: Mujeres | P12: Hombres | Q12: Mujeres | R12: Hombres | S12: Mujeres | T12: Hombres | U12: Mujeres | V12: Hombres | W12: Mujeres | X12: Hombres | Y12: Mujeres
A13: Aplicación Pauta Breve | C13: =SUM(D13+E13) -> 0 | D13: =SUM(F13+H13+J13+L13+N13+P13+R13+T13+V13+X13) -> 0 | E13: =SUM(G13+I13+K13+M13+O13+Q13+S13+U13+W13+Y13) -> 0
A14: Resultados | B14: Normal | C14: =SUM(D14+E14) -> 0 | D14: =SUM(F14+H14+J14+L14+N14+P14+R14+T14+V14+X14) -> 0 | E14: =SUM(G14+I14+K14+M14+O14+Q14+S14+U14+W14+Y14) -> 0
B15: Alterado | C15: =SUM(D15+E15) -> 0 | D15: =SUM(F15+H15+J15+L15+N15+P15+R15+T15+V15+X15) -> 0 | E15: =SUM(G15+I15+K15+M15+O15+Q15+S15+U15+W15+Y15) -> 0
A16: SECCIÓN A.2: RESULTADOS DE LA APLICACIÓN DE ESCALA DE EVALUACIÓN DEL DESARROLLO PSICOMOTOR
A17: ACTIVIDAD | B17: RESULTADO | C17: TOTAL | F17: RANGO ETARIO Y SEXO | R17: Pueblos Originarios | S17: Migrantes
F18: Menos de 7 meses | H18: 7 - 11 meses | J18: 12 - 17 meses | L18: 18 - 23 meses | N18: 24 - 47 meses | P18: 48 - 59 meses
C19: Ambos Sexos | D19: Hombres | E19: Mujeres | F19: Hombres | G19: Mujeres | H19: Hombres | I19: Mujeres | J19: Hombres | K19: Mujeres | L19: Hombres | M19: Mujeres | N19: Hombres | O19: Mujeres | P19: Hombres | Q19: Mujeres
A20: Aplicación test de Desarrollo Psicomotor | C20: =SUM(D20+E20) -> 0 | D20: =SUM(F20+H20+J20+L20+N20+P20) -> 0 | E20: =SUM(G20+I20+K20+M20+O20+Q20) -> 0 | T20: =$CA20&CB20 | CA20: =IF(AND($C20<>0,R20=""),"* No olvide ingresar la variable "&R$17&""&". Digite CERO si no tiene. ",IF(R20>$C20,"* La variable Pueblos Originarios no debe ser mayor al Total Ambos Sexos. ","")) | CB20: =IF(AND($C20<>0,S20=""),"* No olvide ingresar la variable "&S$17&""&". Digite CERO si no tiene. ",IF(S20>$C20,"* La variable Migrantes no debe ser mayor al Total Ambos Sexos. ","")) | CK20: =IF(AND($C20<>0,R20=""),1,IF(R20>$C20,1,0)) -> 0 | CL20: =IF(AND($C20<>0,S20=""),1,IF(S20>$C20,1,0)) -> 0
A21: Primera Evaluación | B21: Normal | C21: =SUM(D21+E21) -> 0 | D21: =SUM(F21+H21+J21+L21+N21+P21) -> 0 | E21: =SUM(G21+I21+K21+M21+O21+Q21) -> 0 | T21: =$CA21&CB21 | CA21: =IF(AND($C21<>0,R21=""),"* No olvide ingresar la variable "&R$17&""&". Digite CERO si no tiene. ",IF(R21>$C21,"* La variable Pueblos Originarios no debe ser mayor al Total Ambos Sexos. ","")) | CB21: =IF(AND($C21<>0,S21=""),"* No olvide ingresar la variable "&S$17&""&". Digite CERO si no tiene. ",IF(S21>$C21,"* La variable Migrantes no debe ser mayor al Total Ambos Sexos. ","")) | CK21: =IF(AND($C21<>0,R21=""),1,IF(R21>$C21,1,0)) -> 0 | CL21: =IF(AND($C21<>0,S21=""),1,IF(S21>$C21,1,0)) -> 0
B22: Normal con Rezago | C22: =SUM(D22+E22) -> 0 | D22: =SUM(F22+H22+J22+L22+N22+P22) -> 0 | E22: =SUM(G22+I22+K22+M22+O22+Q22) -> 0 | T22: =$CA22&CB22 | CA22: =IF(AND($C22<>0,R22=""),"* No olvide ingresar la variable "&R$17&""&". Digite CERO si no tiene. ",IF(R22>$C22,"* La variable Pueblos Originarios no debe ser mayor al Total Ambos Sexos. ","")) | CB22: =IF(AND($C22<>0,S22=""),"* No olvide ingresar la variable "&S$17&""&". Digite CERO si no tiene. ",IF(S22>$C22,"* La variable Migrantes no debe ser mayor al Total Ambos Sexos. ","")) | CK22: =IF(AND($C22<>0,R22=""),1,IF(R22>$C22,1,0)) -> 0 | CL22: =IF(AND($C22<>0,S22=""),1,IF(S22>$C22,1,0)) -> 0
B23: Riesgo | C23: =SUM(D23+E23) -> 0 | D23: =SUM(F23+H23+J23+L23+N23+P23) -> 0 | E23: =SUM(G23+I23+K23+M23+O23+Q23) -> 0 | T23: =$CA23&CB23 | CA23: =IF(AND($C23<>0,R23=""),"* No olvide ingresar la variable "&R$17&""&". Digite CERO si no tiene. ",IF(R23>$C23,"* La variable Pueblos Originarios no debe ser mayor al Total Ambos Sexos. ","")) | CB23: =IF(AND($C23<>0,S23=""),"* No olvide ingresar la variable "&S$17&""&". Digite CERO si no tiene. ",IF(S23>$C23,"* La variable Migrantes no debe ser mayor al Total Ambos Sexos. ","")) | CK23: =IF(AND($C23<>0,R23=""),1,IF(R23>$C23,1,0)) -> 0 | CL23: =IF(AND($C23<>0,S23=""),1,IF(S23>$C23,1,0)) -> 0
B24: Retraso | C24: =SUM(D24+E24) -> 0 | D24: =SUM(F24+H24+J24+L24+N24+P24) -> 0 | E24: =SUM(G24+I24+K24+M24+O24+Q24) -> 0 | T24: =$CA24&CB24 | CA24: =IF(AND($C24<>0,R24=""),"* No olvide ingresar la variable "&R$17&""&". Digite CERO si no tiene. ",IF(R24>$C24,"* La variable Pueblos Originarios no debe ser mayor al Total Ambos Sexos. ","")) | CB24: =IF(AND($C24<>0,S24=""),"* No olvide ingresar la variable "&S$17&""&". Digite CERO si no tiene. ",IF(S24>$C24,"* La variable Migrantes no debe ser mayor al Total Ambos Sexos. ","")) | CK24: =IF(AND($C24<>0,R24=""),1,IF(R24>$C24,1,0)) -> 0 | CL24: =IF(AND($C24<>0,S24=""),1,IF(S24>$C24,1,0)) -> 0
A25: Reevaluación | B25: Normal (desde normal con rezago) | C25: =SUM(D25+E25) -> 0 | D25: =SUM(F25+H25+J25+L25+N25+P25) -> 0 | E25: =SUM(G25+I25+K25+M25+O25+Q25) -> 0 | T25: =$CA25&CB25 | CA25: =IF(AND($C25<>0,R25=""),"* No olvide ingresar la variable "&R$17&""&". Digite CERO si no tiene. ",IF(R25>$C25,"* La variable Pueblos Originarios no debe ser mayor al Total Ambos Sexos. ","")) | CB25: =IF(AND($C25<>0,S25=""),"* No olvide ingresar la variable "&S$17&""&". Digite CERO si no tiene. ",IF(S25>$C25,"* La variable Migrantes no debe ser mayor al Total Ambos Sexos. ","")) | CK25: =IF(AND($C25<>0,R25=""),1,IF(R25>$C25,1,0)) -> 0 | CL25: =IF(AND($C25<>0,S25=""),1,IF(S25>$C25,1,0)) -> 0
B26: Normal (desde riesgo) | C26: =SUM(D26+E26) -> 0 | D26: =SUM(F26+H26+J26+L26+N26+P26) -> 0 | E26: =SUM(G26+I26+K26+M26+O26+Q26) -> 0 | T26: =$CA26&CB26 | CA26: =IF(AND($C26<>0,R26=""),"* No olvide ingresar la variable "&R$17&""&". Digite CERO si no tiene. ",IF(R26>$C26,"* La variable Pueblos Originarios no debe ser mayor al Total Ambos Sexos. ","")) | CB26: =IF(AND($C26<>0,S26=""),"* No olvide ingresar la variable "&S$17&""&". Digite CERO si no tiene. ",IF(S26>$C26,"* La variable Migrantes no debe ser mayor al Total Ambos Sexos. ","")) | CK26: =IF(AND($C26<>0,R26=""),1,IF(R26>$C26,1,0)) -> 0 | CL26: =IF(AND($C26<>0,S26=""),1,IF(S26>$C26,1,0)) -> 0
B27: Normal (desde retraso) | C27: =SUM(D27+E27) -> 0 | D27: =SUM(F27+H27+J27+L27+N27+P27) -> 0 | E27: =SUM(G27+I27+K27+M27+O27+Q27) -> 0 | T27: =$CA27&CB27 | CA27: =IF(AND($C27<>0,R27=""),"* No olvide ingresar la variable "&R$17&""&". Digite CERO si no tiene. ",IF(R27>$C27,"* La variable Pueblos Originarios no debe ser mayor al Total Ambos Sexos. ","")) | CB27: =IF(AND($C27<>0,S27=""),"* No olvide ingresar la variable "&S$17&""&". Digite CERO si no tiene. ",IF(S27>$C27,"* La variable Migrantes no debe ser mayor al Total Ambos Sexos. ","")) | CK27: =IF(AND($C27<>0,R27=""),1,IF(R27>$C27,1,0)) -> 0 | CL27: =IF(AND($C27<>0,S27=""),1,IF(S27>$C27,1,0)) -> 0
B28: Normal Rezago (desde riesgo) | C28: =SUM(D28+E28) -> 0 | D28: =SUM(F28+H28+J28+L28+N28+P28) -> 0 | E28: =SUM(G28+I28+K28+M28+O28+Q28) -> 0 | T28: =$CA28&CB28 | CA28: =IF(AND($C28<>0,R28=""),"* No olvide ingresar la variable "&R$17&""&". Digite CERO si no tiene. ",IF(R28>$C28,"* La variable Pueblos Originarios no debe ser mayor al Total Ambos Sexos. ","")) | CB28: =IF(AND($C28<>0,S28=""),"* No olvide ingresar la variable "&S$17&""&". Digite CERO si no tiene. ",IF(S28>$C28,"* La variable Migrantes no debe ser mayor al Total Ambos Sexos. ","")) | CK28: =IF(AND($C28<>0,R28=""),1,IF(R28>$C28,1,0)) -> 0 | CL28: =IF(AND($C28<>0,S28=""),1,IF(S28>$C28,1,0)) -> 0
B29: Normal con Rezago (desde retraso) | C29: =SUM(D29+E29) -> 0 | D29: =SUM(F29+H29+J29+L29+N29+P29) -> 0 | E29: =SUM(G29+I29+K29+M29+O29+Q29) -> 0 | T29: =$CA29&CB29 | CA29: =IF(AND($C29<>0,R29=""),"* No olvide ingresar la variable "&R$17&""&". Digite CERO si no tiene. ",IF(R29>$C29,"* La variable Pueblos Originarios no debe ser mayor al Total Ambos Sexos. ","")) | CB29: =IF(AND($C29<>0,S29=""),"* No olvide ingresar la variable "&S$17&""&". Digite CERO si no tiene. ",IF(S29>$C29,"* La variable Migrantes no debe ser mayor al Total Ambos Sexos. ","")) | CK29: =IF(AND($C29<>0,R29=""),1,IF(R29>$C29,1,0)) -> 0 | CL29: =IF(AND($C29<>0,S29=""),1,IF(S29>$C29,1,0)) -> 0
B30: Riesgo (desde retraso) | C30: =SUM(D30:E30) -> 0 | D30: =SUM(F30+H30+J30+L30+N30+P30) -> 0 | E30: =SUM(G30+I30+K30+M30+O30+Q30) -> 0 | T30: =$CA30&CB30 | CA30: =IF(AND($C30<>0,R30=""),"* No olvide ingresar la variable "&R$17&""&". Digite CERO si no tiene. ",IF(R30>$C30,"* La variable Pueblos Originarios no debe ser mayor al Total Ambos Sexos. ","")) | CB30: =IF(AND($C30<>0,S30=""),"* No olvide ingresar la variable "&S$17&""&". Digite CERO si no tiene. ",IF(S30>$C30,"* La variable Migrantes no debe ser mayor al Total Ambos Sexos. ","")) | CK30: =IF(AND($C30<>0,R30=""),1,IF(R30>$C30,1,0)) -> 0 | CL30: =IF(AND($C30<>0,S30=""),1,IF(S30>$C30,1,0)) -> 0
B31: Normal con Rezago (desde normal con rezago) | C31: =SUM(D31:E31) -> 0 | D31: =SUM(F31+H31+J31+L31+N31+P31) -> 0 | E31: =SUM(G31+I31+K31+M31+O31+Q31) -> 0 | T31: =$CA31&CB31 | CA31: =IF(AND($C31<>0,R31=""),"* No olvide ingresar la variable "&R$17&""&". Digite CERO si no tiene. ",IF(R31>$C31,"* La variable Pueblos Originarios no debe ser mayor al Total Ambos Sexos. ","")) | CB31: =IF(AND($C31<>0,S31=""),"* No olvide ingresar la variable "&S$17&""&". Digite CERO si no tiene. ",IF(S31>$C31,"* La variable Migrantes no debe ser mayor al Total Ambos Sexos. ","")) | CK31: =IF(AND($C31<>0,R31=""),1,IF(R31>$C31,1,0)) -> 0 | CL31: =IF(AND($C31<>0,S31=""),1,IF(S31>$C31,1,0)) -> 0
B32: Riesgo (desde riesgo) | C32: =SUM(D32+E32) -> 0 | D32: =SUM(F32+H32+J32+L32+N32+P32) -> 0 | E32: =SUM(G32+I32+K32+M32+O32+Q32) -> 0 | T32: =$CA32&CB32 | CA32: =IF(AND($C32<>0,R32=""),"* No olvide ingresar la variable "&R$17&""&". Digite CERO si no tiene. ",IF(R32>$C32,"* La variable Pueblos Originarios no debe ser mayor al Total Ambos Sexos. ","")) | CB32: =IF(AND($C32<>0,S32=""),"* No olvide ingresar la variable "&S$17&""&". Digite CERO si no tiene. ",IF(S32>$C32,"* La variable Migrantes no debe ser mayor al Total Ambos Sexos. ","")) | CK32: =IF(AND($C32<>0,R32=""),1,IF(R32>$C32,1,0)) -> 0 | CL32: =IF(AND($C32<>0,S32=""),1,IF(S32>$C32,1,0)) -> 0
B33: Riesgo (desde normal con rezago) | C33: =SUM(D33+E33) -> 0 | D33: =SUM(F33+H33+J33+L33+N33+P33) -> 0 | E33: =SUM(G33+I33+K33+M33+O33+Q33) -> 0 | T33: =$CA33&CB33 | CA33: =IF(AND($C33<>0,R33=""),"* No olvide ingresar la variable "&R$17&""&". Digite CERO si no tiene. ",IF(R33>$C33,"* La variable Pueblos Originarios no debe ser mayor al Total Ambos Sexos. ","")) | CB33: =IF(AND($C33<>0,S33=""),"* No olvide ingresar la variable "&S$17&""&". Digite CERO si no tiene. ",IF(S33>$C33,"* La variable Migrantes no debe ser mayor al Total Ambos Sexos. ","")) | CK33: =IF(AND($C33<>0,R33=""),1,IF(R33>$C33,1,0)) -> 0 | CL33: =IF(AND($C33<>0,S33=""),1,IF(S33>$C33,1,0)) -> 0
B34: Retraso (desde retraso) | C34: =SUM(D34+E34) -> 0 | D34: =SUM(F34+H34+J34+L34+N34+P34) -> 0 | E34: =SUM(G34+I34+K34+M34+O34+Q34) -> 0 | T34: =$CA34&CB34 | CA34: =IF(AND($C34<>0,R34=""),"* No olvide ingresar la variable "&R$17&""&". Digite CERO si no tiene. ",IF(R34>$C34,"* La variable Pueblos Originarios no debe ser mayor al Total Ambos Sexos. ","")) | CB34: =IF(AND($C34<>0,S34=""),"* No olvide ingresar la variable "&S$17&""&". Digite CERO si no tiene. ",IF(S34>$C34,"* La variable Migrantes no debe ser mayor al Total Ambos Sexos. ","")) | CK34: =IF(AND($C34<>0,R34=""),1,IF(R34>$C34,1,0)) -> 0 | CL34: =IF(AND($C34<>0,S34=""),1,IF(S34>$C34,1,0)) -> 0
B35: Retraso (desde riesgo) | C35: =SUM(D35+E35) -> 0 | D35: =SUM(F35+H35+J35+L35+N35+P35) -> 0 | E35: =SUM(G35+I35+K35+M35+O35+Q35) -> 0 | T35: =$CA35&CB35 | CA35: =IF(AND($C35<>0,R35=""),"* No olvide ingresar la variable "&R$17&""&". Digite CERO si no tiene. ",IF(R35>$C35,"* La variable Pueblos Originarios no debe ser mayor al Total Ambos Sexos. ","")) | CB35: =IF(AND($C35<>0,S35=""),"* No olvide ingresar la variable "&S$17&""&". Digite CERO si no tiene. ",IF(S35>$C35,"* La variable Migrantes no debe ser mayor al Total Ambos Sexos. ","")) | CK35: =IF(AND($C35<>0,R35=""),1,IF(R35>$C35,1,0)) -> 0 | CL35: =IF(AND($C35<>0,S35=""),1,IF(S35>$C35,1,0)) -> 0
B36: Retraso (desde normal con rezago) | C36: =SUM(D36+E36) -> 0 | D36: =SUM(F36+H36+J36+L36+N36+P36) -> 0 | E36: =SUM(G36+I36+K36+M36+O36+Q36) -> 0 | T36: =$CA36&CB36 | CA36: =IF(AND($C36<>0,R36=""),"* No olvide ingresar la variable "&R$17&""&". Digite CERO si no tiene. ",IF(R36>$C36,"* La variable Pueblos Originarios no debe ser mayor al Total Ambos Sexos. ","")) | CB36: =IF(AND($C36<>0,S36=""),"* No olvide ingresar la variable "&S$17&""&". Digite CERO si no tiene. ",IF(S36>$C36,"* La variable Migrantes no debe ser mayor al Total Ambos Sexos. ","")) | CK36: =IF(AND($C36<>0,R36=""),1,IF(R36>$C36,1,0)) -> 0 | CL36: =IF(AND($C36<>0,S36=""),1,IF(S36>$C36,1,0)) -> 0
A37: Derivados a Especialidad | B37: Riesgo | C37: =SUM(D37+E37) -> 0 | D37: =SUM(F37+H37+J37+L37+N37+P37) -> 0 | E37: =SUM(G37+I37+K37+M37+O37+Q37) -> 0 | T37: =$CA37&CB37 | CA37: =IF(AND($C37<>0,R37=""),"* No olvide ingresar la variable "&R$17&""&". Digite CERO si no tiene. ",IF(R37>$C37,"* La variable Pueblos Originarios no debe ser mayor al Total Ambos Sexos. ","")) | CB37: =IF(AND($C37<>0,S37=""),"* No olvide ingresar la variable "&S$17&""&". Digite CERO si no tiene. ",IF(S37>$C37,"* La variable Migrantes no debe ser mayor al Total Ambos Sexos. ","")) | CK37: =IF(AND($C37<>0,R37=""),1,IF(R37>$C37,1,0)) -> 0 | CL37: =IF(AND($C37<>0,S37=""),1,IF(S37>$C37,1,0)) -> 0
B38: Retraso | C38: =SUM(D38+E38) -> 0 | D38: =SUM(F38+H38+J38+L38+N38+P38) -> 0 | E38: =SUM(G38+I38+K38+M38+O38+Q38) -> 0 | T38: =$CA38&CB38 | CA38: =IF(AND($C38<>0,R38=""),"* No olvide ingresar la variable "&R$17&""&". Digite CERO si no tiene. ",IF(R38>$C38,"* La variable Pueblos Originarios no debe ser mayor al Total Ambos Sexos. ","")) | CB38: =IF(AND($C38<>0,S38=""),"* No olvide ingresar la variable "&S$17&""&". Digite CERO si no tiene. ",IF(S38>$C38,"* La variable Migrantes no debe ser mayor al Total Ambos Sexos. ","")) | CK38: =IF(AND($C38<>0,R38=""),1,IF(R38>$C38,1,0)) -> 0 | CL38: =IF(AND($C38<>0,S38=""),1,IF(S38>$C38,1,0)) -> 0
A39: Traslado de Establecimiento | B39: Normal con Rezago | C39: =SUM(D39+E39) -> 0 | D39: =SUM(F39+H39+J39+L39+N39+P39) -> 0 | E39: =SUM(G39+I39+K39+M39+O39+Q39) -> 0 | T39: =$CA39&CB39 | CA39: =IF(AND($C39<>0,R39=""),"* No olvide ingresar la variable "&R$17&""&". Digite CERO si no tiene. ",IF(R39>$C39,"* La variable Pueblos Originarios no debe ser mayor al Total Ambos Sexos. ","")) | CB39: =IF(AND($C39<>0,S39=""),"* No olvide ingresar la variable "&S$17&""&". Digite CERO si no tiene. ",IF(S39>$C39,"* La variable Migrantes no debe ser mayor al Total Ambos Sexos. ","")) | CK39: =IF(AND($C39<>0,R39=""),1,IF(R39>$C39,1,0)) -> 0 | CL39: =IF(AND($C39<>0,S39=""),1,IF(S39>$C39,1,0)) -> 0
B40: Riesgo | C40: =SUM(D40+E40) -> 0 | D40: =SUM(F40+H40+J40+L40+N40+P40) -> 0 | E40: =SUM(G40+I40+K40+M40+O40+Q40) -> 0 | T40: =$CA40&CB40 | CA40: =IF(AND($C40<>0,R40=""),"* No olvide ingresar la variable "&R$17&""&". Digite CERO si no tiene. ",IF(R40>$C40,"* La variable Pueblos Originarios no debe ser mayor al Total Ambos Sexos. ","")) | CB40: =IF(AND($C40<>0,S40=""),"* No olvide ingresar la variable "&S$17&""&". Digite CERO si no tiene. ",IF(S40>$C40,"* La variable Migrantes no debe ser mayor al Total Ambos Sexos. ","")) | CK40: =IF(AND($C40<>0,R40=""),1,IF(R40>$C40,1,0)) -> 0 | CL40: =IF(AND($C40<>0,S40=""),1,IF(S40>$C40,1,0)) -> 0
B41: Retraso | C41: =SUM(D41+E41) -> 0 | D41: =SUM(F41+H41+J41+L41+N41+P41) -> 0 | E41: =SUM(G41+I41+K41+M41+O41+Q41) -> 0 | T41: =$CA41&CB41 | CA41: =IF(AND($C41<>0,R41=""),"* No olvide ingresar la variable "&R$17&""&". Digite CERO si no tiene. ",IF(R41>$C41,"* La variable Pueblos Originarios no debe ser mayor al Total Ambos Sexos. ","")) | CB41: =IF(AND($C41<>0,S41=""),"* No olvide ingresar la variable "&S$17&""&". Digite CERO si no tiene. ",IF(S41>$C41,"* La variable Migrantes no debe ser mayor al Total Ambos Sexos. ","")) | CK41: =IF(AND($C41<>0,R41=""),1,IF(R41>$C41,1,0)) -> 0 | CL41: =IF(AND($C41<>0,S41=""),1,IF(S41>$C41,1,0)) -> 0
A42: SECCIÓN A.3: NIÑOS Y NIÑAS CON REZAGO, DÉFICIT O RIESGO BIOPSICOSOCIAL DERIVADOS A ALGUNA MODALIDAD DE ESTIMULACIÓN EN LA PRIMERA EVALUACIÓN
A43: NIÑO / A | B43: TOTAL | E43: RANGO ETARIO Y SEXO | Q43: Pueblos Originarios | R43: Migrantes
E44: Menos de 7 meses | G44: 7 - 11 meses | I44: 12 - 17 meses | K44: 18 - 23 meses | M44: 24 - 47 meses | O44: 48 - 59 meses
B45: Ambos Sexos | C45: Hombres | D45: Mujeres | E45: Hombres | F45: Mujeres | G45: Hombres | H45: Mujeres | I45: Hombres | J45: Mujeres | K45: Hombres | L45: Mujeres | M45: Hombres | N45: Mujeres | O45: Hombres | P45: Mujeres
A46: Normal con Rezago | B46: =SUM(C46+D46) -> 0 | C46: =SUM(E46+G46+I46+K46+M46+O46) -> 0 | D46: =SUM(F46+H46+J46+L46+N46+P46) -> 0 | S46: =$CA46&CB46 | CA46: =IF(AND($B46<>0,Q46=""),"* No olvide ingresar la variable "&Q$43&""&". Digite CERO si no tiene. ",IF(Q46>$B46,"* La variable Pueblos Originarios no debe ser mayor al Total Ambos Sexos. ","")) | CB46: =IF(AND($B46<>0,R46=""),"* No olvide ingresar la variable "&R$43&""&" (Digite CERO si no tiene). ",IF(R46>$B46,"* La variable Migrantes no debe ser mayor al Total Ambos Sexos. ","")) | CK46: =IF(AND($B46<>0,Q46=""),1,IF(Q46>$B46,1,0)) -> 0 | CL46: =IF(AND($B46<>0,R46=""),1,IF(R46>$B46,1,0)) -> 0
A47: Riesgo | B47: =SUM(C47+D47) -> 0 | C47: =SUM(E47+G47+I47+K47+M47+O47) -> 0 | D47: =SUM(F47+H47+J47+L47+N47+P47) -> 0 | S47: =$CA47&CB47 | CA47: =IF(AND($B47<>0,Q47=""),"* No olvide ingresar la variable "&Q$43&""&". Digite CERO si no tiene. ",IF(Q47>$B47,"* La variable Pueblos Originarios no debe ser mayor al Total Ambos Sexos. ","")) | CB47: =IF(AND($B47<>0,R47=""),"* No olvide ingresar la variable "&R$43&""&" (Digite CERO si no tiene). ",IF(R47>$B47,"* La variable Migrantes no debe ser mayor al Total Ambos Sexos. ","")) | CK47: =IF(AND($B47<>0,Q47=""),1,IF(Q47>$B47,1,0)) -> 0 | CL47: =IF(AND($B47<>0,R47=""),1,IF(R47>$B47,1,0)) -> 0
A48: Retraso | B48: =SUM(C48+D48) -> 0 | C48: =SUM(E48+G48+I48+K48+M48+O48) -> 0 | D48: =SUM(F48+H48+J48+L48+N48+P48) -> 0 | S48: =$CA48&CB48 | CA48: =IF(AND($B48<>0,Q48=""),"* No olvide ingresar la variable "&Q$43&""&". Digite CERO si no tiene. ",IF(Q48>$B48,"* La variable Pueblos Originarios no debe ser mayor al Total Ambos Sexos. ","")) | CB48: =IF(AND($B48<>0,R48=""),"* No olvide ingresar la variable "&R$43&""&" (Digite CERO si no tiene). ",IF(R48>$B48,"* La variable Migrantes no debe ser mayor al Total Ambos Sexos. ","")) | CK48: =IF(AND($B48<>0,Q48=""),1,IF(Q48>$B48,1,0)) -> 0 | CL48: =IF(AND($B48<>0,R48=""),1,IF(R48>$B48,1,0)) -> 0
A49: Normal con Riesgo Biopsicosocial | B49: =SUM(C49:D49) -> 0 | C49: =SUM(E49+G49+I49+K49+M49+O49) -> 0 | D49: =SUM(F49+H49+J49+L49+N49+P49) -> 0 | S49: =$CA49&CB49 | CA49: =IF(AND($B49<>0,Q49=""),"* No olvide ingresar la variable "&Q$43&""&". Digite CERO si no tiene. ",IF(Q49>$B49,"* La variable Pueblos Originarios no debe ser mayor al Total Ambos Sexos. ","")) | CB49: =IF(AND($B49<>0,R49=""),"* No olvide ingresar la variable "&R$43&""&" (Digite CERO si no tiene). ",IF(R49>$B49,"* La variable Migrantes no debe ser mayor al Total Ambos Sexos. ","")) | CK49: =IF(AND($B49<>0,Q49=""),1,IF(Q49>$B49,1,0)) -> 0 | CL49: =IF(AND($B49<>0,R49=""),1,IF(R49>$B49,1,0)) -> 0
A50: SECCIÓN A.4: RESULTADOS DE LA APLICACIÓN DE PROTOCOLO NEUROSENSORIAL
A51: RESULTADOS | B51: TOTAL | E51: RANGO ETARIO Y SEXO | I51: Pueblos Originarios | J51: Migrantes
E52: 1 mes | G52: 2 meses
B53: Ambos Sexos | C53: Hombres | D53: Mujeres | E53: Hombres | F53: Mujeres | G53: Hombres | H53: Mujeres
A54: Aplicación de Protocolo Neurosensorial (1-2 meses) | B54: =SUM(C54+D54) -> 0 | C54: =SUM(E54+G54) -> 0 | D54: =SUM(F54+H54) -> 0 | E54: =SUM(E55:E57) -> 0 | F54: =SUM(F55:F57) -> 0 | G54: =SUM(G55:G57) -> 0 | H54: =SUM(H55:H57) -> 0 | I54: =SUM(I55:I57) -> 0 | J54: =SUM(J55:J57) -> 0
A55: Normal | B55: =SUM(C55+D55) -> 0 | C55: =SUM(E55+G55) -> 0 | D55: =SUM(F55+H55) -> 0 | K55: =$CA55&CB55 | CA55: =IF(AND($B55<>0,I55=""),"* No olvide ingresar la variable "&I$51&""&". Digite CERO si no tiene. ",IF(I55>$B55,"* La variable Pueblos Originarios no debe ser mayor al Total Ambos Sexos. ","")) | CB55: =IF(AND($B55<>0,J55=""),"* No olvide ingresar la variable "&J$51&""&" (Digite CERO si no tiene). ",IF(J55>$B55,"* La variable Migrantes no debe ser mayor al Total Ambos Sexos. ","")) | CK55: =IF(AND($B55<>0,I55=""),1,IF(I55>$B55,1,0)) -> 0 | CL55: =IF(AND($B55<>0,J55=""),1,IF(J55>$B55,1,0)) -> 0
A56: Anormal | B56: =SUM(C56+D56) -> 0 | C56: =SUM(E56+G56) -> 0 | D56: =SUM(F56+H56) -> 0 | K56: =$CA56&CB56 | CA56: =IF(AND($B56<>0,I56=""),"* No olvide ingresar la variable "&I$51&""&". Digite CERO si no tiene. ",IF(I56>$B56,"* La variable Pueblos Originarios no debe ser mayor al Total Ambos Sexos. ","")) | CB56: =IF(AND($B56<>0,J56=""),"* No olvide ingresar la variable "&J$51&""&" (Digite CERO si no tiene). ",IF(J56>$B56,"* La variable Migrantes no debe ser mayor al Total Ambos Sexos. ","")) | CK56: =IF(AND($B56<>0,I56=""),1,IF(I56>$B56,1,0)) -> 0 | CL56: =IF(AND($B56<>0,J56=""),1,IF(J56>$B56,1,0)) -> 0
A57: Muy Anormal | B57: =SUM(C57+D57) -> 0 | C57: =SUM(E57+G57) -> 0 | D57: =SUM(F57+H57) -> 0 | K57: =$CA57&CB57 | CA57: =IF(AND($B57<>0,I57=""),"* No olvide ingresar la variable "&I$51&""&". Digite CERO si no tiene. ",IF(I57>$B57,"* La variable Pueblos Originarios no debe ser mayor al Total Ambos Sexos. ","")) | CB57: =IF(AND($B57<>0,J57=""),"* No olvide ingresar la variable "&J$51&""&" (Digite CERO si no tiene). ",IF(J57>$B57,"* La variable Migrantes no debe ser mayor al Total Ambos Sexos. ","")) | CK57: =IF(AND($B57<>0,I57=""),1,IF(I57>$B57,1,0)) -> 0 | CL57: =IF(AND($B57<>0,J57=""),1,IF(J57>$B57,1,0)) -> 0
A58: SECCIÓN A.5: TIPO DE ALIMENTACIÓN NIÑOS Y NIÑAS CONTROLADOS
A59: TIPO DE ALIMENTACIÓN | C59: TOTAL | D59: SEGÚN CONTROL PROGRAMÁTICO | K59: Pueblos Originarios | L59: Migrantes
D60: Diada hasta 10 días de vida | E60: Diada entre 11 y 28 días de vida | F60: Del 1° mes | G60: Del 3° mes | H60: Del 6° mes | I60: Del 12° mes | J60: Del 24° mes
A61: Lactancia Materna exclusiva (LME) | C61: =SUM(D61:H61) -> 0 | M61: =$CA61&CB61 | CA61: =IF(AND($C61<>0,K61=""),"* No olvide ingresar la variable "&K$59&""&". Digite CERO si no tiene. ",IF(K61>$C61,"* La variable Pueblos Originarios no debe ser mayor al Total. ","")) | CB61: =IF(AND($C61<>0,L61=""),"* No olvide ingresar la variable "&L$59&""&". Digite CERO si no tiene. ",IF(L61>$C61,"* La variable Migrantes no debe ser mayor al Total. ","")) | CK61: =IF(AND($C61<>0,K61=""),1,IF(K61>$C61,1,0)) -> 0 | CL61: =IF(AND($C61<>0,L61=""),1,IF(L61>$C61,1,0)) -> 0
A62: Lactancia Materna más Formula Láctea (LM/FL) | C62: =SUM(D62:H62) -> 0 | M62: =$CA62&CB62 | CA62: =IF(AND($C62<>0,K62=""),"* No olvide ingresar la variable "&K$59&""&". Digite CERO si no tiene. ",IF(K62>$C62,"* La variable Pueblos Originarios no debe ser mayor al Total. ","")) | CB62: =IF(AND($C62<>0,L62=""),"* No olvide ingresar la variable "&L$59&""&". Digite CERO si no tiene. ",IF(L62>$C62,"* La variable Migrantes no debe ser mayor al Total. ","")) | CK62: =IF(AND($C62<>0,K62=""),1,IF(K62>$C62,1,0)) -> 0 | CL62: =IF(AND($C62<>0,L62=""),1,IF(L62>$C62,1,0)) -> 0
A63: Formula Láctea (FL) | C63: =SUM(D63:H63) -> 0 | M63: =$CA63&CB63 | CA63: =IF(AND($C63<>0,K63=""),"* No olvide ingresar la variable "&K$59&""&". Digite CERO si no tiene. ",IF(K63>$C63,"* La variable Pueblos Originarios no debe ser mayor al Total. ","")) | CB63: =IF(AND($C63<>0,L63=""),"* No olvide ingresar la variable "&L$59&""&". Digite CERO si no tiene. ",IF(L63>$C63,"* La variable Migrantes no debe ser mayor al Total. ","")) | CK63: =IF(AND($C63<>0,K63=""),1,IF(K63>$C63,1,0)) -> 0 | CL63: =IF(AND($C63<>0,L63=""),1,IF(L63>$C63,1,0)) -> 0
A64: Lactancia Materna más Alimentación Complementaria (LM/AC) | C64: =SUM(H64:J64) -> 0 | M64: =$CA64&CB64 | CA64: =IF(AND($C64<>0,K64=""),"* No olvide ingresar la variable "&K$59&""&". Digite CERO si no tiene. ",IF(K64>$C64,"* La variable Pueblos Originarios no debe ser mayor al Total. ","")) | CB64: =IF(AND($C64<>0,L64=""),"* No olvide ingresar la variable "&L$59&""&". Digite CERO si no tiene. ",IF(L64>$C64,"* La variable Migrantes no debe ser mayor al Total. ","")) | CK64: =IF(AND($C64<>0,K64=""),1,IF(K64>$C64,1,0)) -> 0 | CL64: =IF(AND($C64<>0,L64=""),1,IF(L64>$C64,1,0)) -> 0
A65: Lactancia Materna más Fórmula Láctea más Alimentación Complementaria (LM/FL/AC) | C65: =SUM(H65:J65) -> 0 | M65: =$CA65&CB65 | CA65: =IF(AND($C65<>0,K65=""),"* No olvide ingresar la variable "&K$59&""&". Digite CERO si no tiene. ",IF(K65>$C65,"* La variable Pueblos Originarios no debe ser mayor al Total. ","")) | CB65: =IF(AND($C65<>0,L65=""),"* No olvide ingresar la variable "&L$59&""&". Digite CERO si no tiene. ",IF(L65>$C65,"* La variable Migrantes no debe ser mayor al Total. ","")) | CK65: =IF(AND($C65<>0,K65=""),1,IF(K65>$C65,1,0)) -> 0 | CL65: =IF(AND($C65<>0,L65=""),1,IF(L65>$C65,1,0)) -> 0
A66: Fórmula Láctea más Alimentación Complementaria (FL/AC) | C66: =SUM(H66:J66) -> 0 | M66: =$CA66&CB66 | CA66: =IF(AND($C66<>0,K66=""),"* No olvide ingresar la variable "&K$59&""&". Digite CERO si no tiene. ",IF(K66>$C66,"* La variable Pueblos Originarios no debe ser mayor al Total. ","")) | CB66: =IF(AND($C66<>0,L66=""),"* No olvide ingresar la variable "&L$59&""&". Digite CERO si no tiene. ",IF(L66>$C66,"* La variable Migrantes no debe ser mayor al Total. ","")) | CK66: =IF(AND($C66<>0,K66=""),1,IF(K66>$C66,1,0)) -> 0 | CL66: =IF(AND($C66<>0,L66=""),1,IF(L66>$C66,1,0)) -> 0
A67: Total de niños y niñas controlados | C67: =SUM(D67:J67) -> 0 | M67: =$CA67&CB67 | CA67: =IF(AND($C67<>0,K67=""),"* No olvide ingresar la variable "&K$59&""&". Digite CERO si no tiene. ",IF(K67>$C67,"* La variable Pueblos Originarios no debe ser mayor al Total. ","")) | CB67: =IF(AND($C67<>0,L67=""),"* No olvide ingresar la variable "&L$59&""&". Digite CERO si no tiene. ",IF(L67>$C67,"* La variable Migrantes no debe ser mayor al Total. ","")) | CK67: =IF(AND($C67<>0,K67=""),1,IF(K67>$C67,1,0)) -> 0 | CL67: =IF(AND($C67<>0,L67=""),1,IF(L67>$C67,1,0)) -> 0
A68: SECCIÓN A.6: RESULTADOS RADIOGRAFÍA DE PELVIS (CADERA)
A69: RESULTADO | B69: TOTAL | E69: RANGO ETARIO Y SEXO | I69: Pueblos Originarios | J69: Migrantes
E70: 3 meses | G70: 4 meses
B71: Ambos Sexos | C71: Hombres | D71: Mujeres | E71: Hombres | F71: Mujeres | G71: Hombres | H71: Mujeres
A72: Normal | B72: =SUM(C72:D72) -> 0 | C72: =+E72+G72 -> 0 | D72: =+F72+H72 -> 0 | K72: =$CA72&CB72 | CA72: =IF(AND($B72<>0,I72=""),"* No olvide ingresar la variable "&I$51&""&". Digite CERO si no tiene. ",IF(I72>$B72,"* La variable Pueblos Originarios no debe ser mayor al Total Ambos Sexos. ","")) | CB72: =IF(AND($B72<>0,J72=""),"* No olvide ingresar la variable "&J$51&""&" (Digite CERO si no tiene). ",IF(J72>$B72,"* La variable Migrantes no debe ser mayor al Total Ambos Sexos. ","")) | CK72: =IF(AND($B72<>0,I72=""),1,IF(I72>$B72,1,0)) -> 0 | CL72: =IF(AND($B72<>0,J72=""),1,IF(J72>$B72,1,0)) -> 0
A73: Anormal | B73: =SUM(C73:D73) -> 0 | C73: =+E73+G73 -> 0 | D73: =+F73+H73 -> 0 | K73: =$CA73&CB73 | CA73: =IF(AND($B73<>0,I73=""),"* No olvide ingresar la variable "&I$51&""&". Digite CERO si no tiene. ",IF(I73>$B73,"* La variable Pueblos Originarios no debe ser mayor al Total Ambos Sexos. ","")) | CB73: =IF(AND($B73<>0,J73=""),"* No olvide ingresar la variable "&J$51&""&" (Digite CERO si no tiene). ",IF(J73>$B73,"* La variable Migrantes no debe ser mayor al Total Ambos Sexos. ","")) | CK73: =IF(AND($B73<>0,I73=""),1,IF(I73>$B73,1,0)) -> 0 | CL73: =IF(AND($B73<>0,J73=""),1,IF(J73>$B73,1,0)) -> 0
A74: Inmadura | B74: =SUM(C74:D74) -> 0 | C74: =+E74+G74 -> 0 | D74: =+F74+H74 -> 0 | K74: =$CA74&CB74 | CA74: =IF(AND($B74<>0,I74=""),"* No olvide ingresar la variable "&I$51&""&". Digite CERO si no tiene. ",IF(I74>$B74,"* La variable Pueblos Originarios no debe ser mayor al Total Ambos Sexos. ","")) | CB74: =IF(AND($B74<>0,J74=""),"* No olvide ingresar la variable "&J$51&""&" (Digite CERO si no tiene). ",IF(J74>$B74,"* La variable Migrantes no debe ser mayor al Total Ambos Sexos. ","")) | CK74: =IF(AND($B74<>0,I74=""),1,IF(I74>$B74,1,0)) -> 0 | CL74: =IF(AND($B74<>0,J74=""),1,IF(J74>$B74,1,0)) -> 0
A75: SECCION B: EVALUACIÓN, APLICACIÓN Y RESULTADOS DE ESCALAS EN LA MUJER
A76: SECCIÓN B.1: EVALUACIÓN DEL ESTADO NUTRICIONAL A PERSONAS CONTROLADAS AL OCTAVO MES POST PARTO
A77: ESTADO NUTRICIONAL | B77: TOTAL
B79: =SUM(B80:B83) -> 0
A80: Obesa
A81: Sobrepeso
A82: Normal
A83: Bajo peso
A84: SECCIÓN B.2: APLICACIÓN DE ESCALA SEGÚN EVALUACIÓN DE RIESGO PSICOSOCIAL ABREVIADA A GESTANTES
A85: TIPO | B85: Total de Aplicaciones | C85: Con riesgo psicosocial | D85: Violencia de Género | E85: 3 o más riesgos psicosociales | F85: Plan de equipo de cabecera en gestantes con 3 o más riesgos psicosociales
A86: Evaluación al ingreso | G86: =$CA86&CB86&CC86&CD86&CE86 | CA86: =IF(CK86=1,"* Las Aplicaciones de EPSA con resultado de Riesgo psicosocial NO DEBE ser MAYOR que el Total de las Aplicaciones. ","") | CB86: =IF(CL86=1,"* Las Aplicaciones de EPSA con resultado de Riesgo psicosocial NO DEBE ser MENOR que la variable Plan de equipo de cabecera en gestantes con 3 o más riesgos psicosociales. ","") | CC86: =IF(CM86=1,"* Las Aplicaciones de EPSA asociadas a Violencia de Género NO DEBEN ser MAYOR al Total de Aplicaciones. ","") | CD86: =IF(CN86=1,"* Las Aplicaciones de EPSA asociadas a 3 o más riesgos psicosociales NO DEBEN ser MAYOR al Total de Aplicaciones. ","") | CE86: =IF(CO86=1,"* La variable Plan de equipo de cabecera en gestantes con 3 o más riesgos psicosociales NO DEBE ser MAYOR al Total de Aplicaciones. ","") | CK86: =IF(B86<C86,1,0) -> 0 | CL86: =IF(C86<F86,1,0) -> 0 | CM86: =IF(D86>$B86,1,0) -> 0 | CN86: =IF(E86>$B86,1,0) -> 0 | CO86: =IF(F86>$B86,1,0) -> 0
A87: Evaluación al tercer trimestre | G87: =$CA87&CB87&CC87&CD87&CE87 | CA87: =IF(CK87=1,"* Las Aplicaciones de EPSA con resultado de Riesgo psicosocial NO DEBE ser MAYOR que el Total de las Aplicaciones. ","") | CB87: =IF(CL87=1,"* Las Aplicaciones de EPSA con resultado de Riesgo psicosocial NO DEBE ser MENOR que la variable Plan de equipo de cabecera en gestantes con 3 o más riesgos psicosociales. ","") | CC87: =IF(CM87=1,"* Las Aplicaciones de EPSA asociadas a Violencia de Género NO DEBEN ser MAYOR al Total de Aplicaciones. ","") | CD87: =IF(CN87=1,"* Las Aplicaciones de EPSA asociadas a 3 o más riesgos psicosociales NO DEBEN ser MAYOR al Total de Aplicaciones. ","") | CE87: =IF(CO87=1,"* La variable Plan de equipo de cabecera en gestantes con 3 o más riesgos psicosociales NO DEBE ser MAYOR al Total de Aplicaciones. ","") | CK87: =IF(B87<C87,1,0) -> 0 | CL87: =IF(C87<F87,1,0) -> 0 | CM87: =IF(D87>$B87,1,0) -> 0 | CN87: =IF(E87>$B87,1,0) -> 0 | CO87: =IF(F87>$B87,1,0) -> 0
A88: SECCIÓN B.3: APLICACIÓN DE ESCALA DE EDIMBURGO A GESTANTES Y MUJERES POST PARTO
A89: CONCEPTO | C89: Total de Aplicaciones | D89: Resultados 10 o más puntos (Puérperas) | E89: Resultado distinto de 0 en pregunta 10 (Puérperas) | F89: Resultados 13 o más puntos (Gestantes) | G89: Resultado distinto de 0 en pregunta 10 (Gestantes) | H89: Casos alterados derivados a Salud Mental
A90: Evaluación a Gestantes | B90: Primera evaluación (2º control prenatal) | I90: =$CA90 | CA90: =IF(AND($C90<>0,H90=""),"* No olvide ingresar la variable "&H$89&""&". Digite CERO si no tiene. ",IF(H90>$C90,"* La variable Casos alterados derivados a Salud Mental no debe ser mayor al Total de Aplicaciones. ","")) | CK90: =IF(AND($C90<>0,H90=""),1,IF(H90>$C90,1,0)) -> 0
B91: Reevaluación (con puntaje elevado en la primera evaluación) | I91: =$CA91 | CA91: =IF(AND($C91<>0,H91=""),"* No olvide ingresar la variable "&H$89&""&". Digite CERO si no tiene. ",IF(H91>$C91,"* La variable Casos alterados derivados a Salud Mental no debe ser mayor al Total de Aplicaciones. ","")) | CK91: =IF(AND($C91<>0,H91=""),1,IF(H91>$C91,1,0)) -> 0
A92: Evaluación a mujeres/personas post parto síntomas de depresión | B92: A los 2 meses | I92: =$CA92 | CA92: =IF(AND($C92<>0,H92=""),"* No olvide ingresar la variable "&H$89&""&". Digite CERO si no tiene. ",IF(H92>$C92,"* La variable Casos alterados derivados a Salud Mental no debe ser mayor al Total de Aplicaciones. ","")) | CK92: =IF(AND($C92<>0,H92=""),1,IF(H92>$C92,1,0)) -> 0
B93: A los 6 meses | I93: =$CA93 | CA93: =IF(AND($C93<>0,H93=""),"* No olvide ingresar la variable "&H$89&""&". Digite CERO si no tiene. ",IF(H93>$C93,"* La variable Casos alterados derivados a Salud Mental no debe ser mayor al Total de Aplicaciones. ","")) | CK93: =IF(AND($C93<>0,H93=""),1,IF(H93>$C93,1,0)) -> 0
A94: SECCIÓN C: RESULTADOS DE LA EVALUACIÓN DEL ESTADO NUTRICIONAL DEL ADOLESCENTE CON CONTROL SALUD INTEGRAL
A95: ESTADO NUTRICIONAL | C95: TOTAL | F95: 10 - 14 años | H95: 15 - 19 años
C96: Ambos Sexos | D96: Hombres | E96: Mujeres | F96: Hombres | G96: Mujeres | H96: Hombres | I96: Mujeres
A97: TOTAL | C97: =SUM(C98:C102) -> 0 | D97: =SUM(D98:D102) -> 0 | E97: =SUM(E98:E102) -> 0 | F97: =SUM(F98:F102) -> 0 | G97: =SUM(G98:G102) -> 0 | H97: =SUM(H98:H102) -> 0 | I97: =SUM(I98:I102) -> 0
A98: Normal | C98: =SUM(D98+E98) -> 0 | D98: =SUM(F98+H98) -> 0 | E98: =SUM(G98+I98) -> 0
A99: Bajo peso | C99: =SUM(D99+E99) -> 0 | D99: =SUM(F99+H99) -> 0 | E99: =SUM(G99+I99) -> 0
A100: Sobrepeso | C100: =SUM(D100+E100) -> 0 | D100: =SUM(F100+H100) -> 0 | E100: =SUM(G100+I100) -> 0
A101: Obesos | C101: =SUM(D101+E101) -> 0 | D101: =SUM(F101+H101) -> 0 | E101: =SUM(G101+I101) -> 0
A102: Obesos severos | C102: =SUM(D102+E102) -> 0 | D102: =SUM(F102+H102) -> 0 | E102: =SUM(G102+I102) -> 0
...

Sheet FEBRERO
A1: SERVICIO DE SALUD
A2: =CONCATENATE("COMUNA: ",[3]NOMBRE!B2, " (",[3]NOMBRE!C2,[3]NOMBRE!D2,[3]NOMBRE!E2,[3]NOMBRE!F2,[3]NOMBRE!G2,")") -> COMUNA: LINARES (07401)
A3: =CONCATENATE("ESTABLECIMIENTO/ESTRATEGIA: ", [3]NOMBRE!B3, " (",[3]NOMBRE!C3,[3]NOMBRE!D3,[3]NOMBRE!E3,[3]NOMBRE!F3,[3]NOMBRE!G3,[3]NOMBRE!H3,")") -> ESTABLECIMIENTO/ESTRATEGIA: HOSPITAL PRESIDENTE CARLOS IBAÑEZ DEL CAMPO (116108)
A4: =CONCATENATE("MES: ",[3]NOMBRE!B6, " (",[3]NOMBRE!C6,[3]NOMBRE!D6,")") -> MES: FEBRERO (02)
A5: =CONCATENATE("AÑO: ",[3]NOMBRE!B7) -> AÑO: 2025
A6: REM-A03. APLICACIÓN Y RESULTADOS DE ESCALAS DE EVALUACIÓN
A8: SECCIÓN A: APLICACIÓN DE INSTRUMENTO Y RESULTADO EN EL NIÑO (A)
A9: SECCIÓN A.1: APLICACIÓN Y RESULTADOS DE PAUTA BREVE
A10: EVALUACIONES POR EDAD DEL NIÑO | C10: TOTAL | F10: RANGO ETARIO Y SEXO
F11: Menos de 1 mes | H11: 1 mes | J11: 2 meses | L11: 3 meses | N11: 4 meses | P11: 5 meses | R11: 6 meses | T11: 7 - 11 meses | V11: 12 - 17 meses | X11: 18 - 24 meses
C12: Ambos Sexos | D12: Hombres | E12: Mujeres | F12: Hombres | G12: Mujeres | H12: Hombres | I12: Mujeres | J12: Hombres | K12: Mujeres | L12: Hombres | M12: Mujeres | N12: Hombres | O12: Mujeres | P12: Hombres | Q12: Mujeres | R12: Hombres | S12: Mujeres | T12: Hombres | U12: Mujeres | V12: Hombres | W12: Mujeres | X12: Hombres | Y12: Mujeres
A13: Aplicación Pauta Breve | C13: =SUM(D13+E13) -> 0 | D13: =SUM(F13+H13+J13+L13+N13+P13+R13+T13+V13+X13) -> 0 | E13: =SUM(G13+I13+K13+M13+O13+Q13+S13+U13+W13+Y13) -> 0
A14: Resultados | B14: Normal | C14: =SUM(D14+E14) -> 0 | D14: =SUM(F14+H14+J14+L14+N14+P14+R14+T14+V14+X14) -> 0 | E14: =SUM(G14+I14+K14+M14+O14+Q14+S14+U14+W14+Y14) -> 0
B15: Alterado | C15: =SUM(D15+E15) -> 0 | D15: =SUM(F15+H15+J15+L15+N15+P15+R15+T15+V15+X15) -> 0 | E15: =SUM(G15+I15+K15+M15+O15+Q15+S15+U15+W15+Y15) -> 0
A16: SECCIÓN A.2: RESULTADOS DE LA APLICACIÓN DE ESCALA DE EVALUACIÓN DEL DESARROLLO PSICOMOTOR
A17: ACTIVIDAD | B17: RESULTADO | C17: TOTAL | F17: RANGO ETARIO Y SEXO | R17: Pueblos Originarios | S17: Migrantes
F18: Menos de 7 meses | H18: 7 - 11 meses | J18: 12 - 17 meses | L18: 18 - 23 meses | N18: 24 - 47 meses | P18: 48 - 59 meses
C19: Ambos Sexos | D19: Hombres | E19: Mujeres | F19: Hombres | G19: Mujeres | H19: Hombres | I19: Mujeres | J19: Hombres | K19: Mujeres | L19: Hombres | M19: Mujeres | N19: Hombres | O19: Mujeres | P19: Hombres | Q19: Mujeres
A20: Aplicación test de Desarrollo Psicomotor | C20: =SUM(D20+E20) -> 0 | D20: =SUM(F20+H20+J20+L20+N20+P20) -> 0 | E20: =SUM(G20+I20+K20+M20+O20+Q20) -> 0 | T20: =$CA20&CB20 | CA20: =IF(AND($C20<>0,R20=""),"* No olvide ingresar la variable "&R$17&""&". Digite CERO si no tiene. ",IF(R20>$C20,"* La variable Pueblos Originarios no debe ser mayor al Total Ambos Sexos. ","")) | CB20: =IF(AND($C20<>0,S20=""),"* No olvide ingresar la variable "&S$17&""&". Digite CERO si no tiene. ",IF(S20>$C20,"* La variable Migrantes no debe ser mayor al Total Ambos Sexos. ","")) | CK20: =IF(AND($C20<>0,R20=""),1,IF(R20>$C20,1,0)) -> 0 | CL20: =IF(AND($C20<>0,S20=""),1,IF(S20>$C20,1,0)) -> 0
A21: Primera Evaluación | B21: Normal | C21: =SUM(D21+E21) -> 0 | D21: =SUM(F21+H21+J21+L21+N21+P21) -> 0 | E21: =SUM(G21+I21+K21+M21+O21+Q21) -> 0 | T21: =$CA21&CB21 | CA21: =IF(AND($C21<>0,R21=""),"* No olvide ingresar la variable "&R$17&""&". Digite CERO si no tiene. ",IF(R21>$C21,"* La variable Pueblos Originarios no debe ser mayor al Total Ambos Sexos. ","")) | CB21: =IF(AND($C21<>0,S21=""),"* No olvide ingresar la variable "&S$17&""&". Digite CERO si no tiene. ",IF(S21>$C21,"* La variable Migrantes no debe ser mayor al Total Ambos Sexos. ","")) | CK21: =IF(AND($C21<>0,R21=""),1,IF(R21>$C21,1,0)) -> 0 | CL21: =IF(AND($C21<>0,S21=""),1,IF(S21>$C21,1,0)) -> 0
B22: Normal con Rezago | C22: =SUM(D22+E22) -> 0 | D22: =SUM(F22+H22+J22+L22+N22+P22) -> 0 | E22: =SUM(G22+I22+K22+M22+O22+Q22) -> 0 | T22: =$CA22&CB22 | CA22: =IF(AND($C22<>0,R22=""),"* No olvide ingresar la variable "&R$17&""&". Digite CERO si no tiene. ",IF(R22>$C22,"* La variable Pueblos Originarios no debe ser mayor al Total Ambos Sexos. ","")) | CB22: =IF(AND($C22<>0,S22=""),"* No olvide ingresar la variable "&S$17&""&". Digite CERO si no tiene. ",IF(S22>$C22,"* La variable Migrantes no debe ser mayor al Total Ambos Sexos. ","")) | CK22: =IF(AND($C22<>0,R22=""),1,IF(R22>$C22,1,0)) -> 0 | CL22: =IF(AND($C22<>0,S22=""),1,IF(S22>$C22,1,0)) -> 0
B23: Riesgo | C23: =SUM(D23+E23) -> 0 | D23: =SUM(F23+H23+J23+L23+N23+P23) -> 0 | E23: =SUM(G23+I23+K23+M23+O23+Q23) -> 0 | T23: =$CA23&CB23 | CA23: =IF(AND($C23<>0,R23=""),"* No olvide ingresar la variable "&R$17&""&". Digite CERO si no tiene. ",IF(R23>$C23,"* La variable Pueblos Originarios no debe ser mayor al Total Ambos Sexos. ","")) | CB23: =IF(AND($C23<>0,S23=""),"* No olvide ingresar la variable "&S$17&""&". Digite CERO si no tiene. ",IF(S23>$C23,"* La variable Migrantes no debe ser mayor al Total Ambos Sexos. ","")) | CK23: =IF(AND($C23<>0,R23=""),1,IF(R23>$C23,1,0)) -> 0 | CL23: =IF(AND($C23<>0,S23=""),1,IF(S23>$C23,1,0)) -> 0
B24: Retraso | C24: =SUM(D24+E24) -> 0 | D24: =SUM(F24+H24+J24+L24+N24+P24) -> 0 | E24: =SUM(G24+I24+K24+M24+O24+Q24) -> 0 | T24: =$CA24&CB24 | CA24: =IF(AND($C24<>0,R24=""),"* No olvide ingresar la variable "&R$17&""&". Digite CERO si no tiene. ",IF(R24>$C24,"* La variable Pueblos Originarios no debe ser mayor al Total Ambos Sexos. ","")) | CB24: =IF(AND($C24<>0,S24=""),"* No olvide ingresar la variable "&S$17&""&". Digite CERO si no tiene. ",IF(S24>$C24,"* La variable Migrantes no debe ser mayor al Total Ambos Sexos. ","")) | CK24: =IF(AND($C24<>0,R24=""),1,IF(R24>$C24,1,0)) -> 0 | CL24: =IF(AND($C24<>0,S24=""),1,IF(S24>$C24,1,0)) -> 0
A25: Reevaluación | B25: Normal (desde normal con rezago) | C25: =SUM(D25+E25) -> 0 | D25: =SUM(F25+H25+J25+L25+N25+P25) -> 0 | E25: =SUM(G25+I25+K25+M25+O25+Q25) -> 0 | T25: =$CA25&CB25 | CA25: =IF(AND($C25<>0,R25=""),"* No olvide ingresar la variable "&R$17&""&". Digite CERO si no tiene. ",IF(R25>$C25,"* La variable Pueblos Originarios no debe ser mayor al Total Ambos Sexos. ","")) | CB25: =IF(AND($C25<>0,S25=""),"* No olvide ingresar la variable "&S$17&""&". Digite CERO si no tiene. ",IF(S25>$C25,"* La variable Migrantes no debe ser mayor al Total Ambos Sexos. ","")) | CK25: =IF(AND($C25<>0,R25=""),1,IF(R25>$C25,1,0)) -> 0 | CL25: =IF(AND($C25<>0,S25=""),1,IF(S25>$C25,1,0)) -> 0
B26: Normal (desde riesgo) | C26: =SUM(D26+E26) -> 0 | D26: =SUM(F26+H26+J26+L26+N26+P26) -> 0 | E26: =SUM(G26+I26+K26+M26+O26+Q26) -> 0 | T26: =$CA26&CB26 | CA26: =IF(AND($C26<>0,R26=""),"* No olvide ingresar la variable "&R$17&""&". Digite CERO si no tiene. ",IF(R26>$C26,"* La variable Pueblos Originarios no debe ser mayor al Total Ambos Sexos. ","")) | CB26: =IF(AND($C26<>0,S26=""),"* No olvide ingresar la variable "&S$17&""&". Digite CERO si no tiene. ",IF(S26>$C26,"* La variable Migrantes no debe ser mayor al Total Ambos Sexos. ","")) | CK26: =IF(AND($C26<>0,R26=""),1,IF(R26>$C26,1,0)) -> 0 | CL26: =IF(AND($C26<>0,S26=""),1,IF(S26>$C26,1,0)) -> 0
B27: Normal (desde retraso) | C27: =SUM(D27+E27) -> 0 | D27: =SUM(F27+H27+J27+L27+N27+P27) -> 0 | E27: =SUM(G27+I27+K27+M27+O27+Q27) -> 0 | T27: =$CA27&CB27 | CA27: =IF(AND($C27<>0,R27=""),"* No olvide ingresar la variable "&R$17&""&". Digite CERO si no tiene. ",IF(R27>$C27,"* La variable Pueblos Originarios no debe ser mayor al Total Ambos Sexos. ","")) | CB27: =IF(AND($C27<>0,S27=""),"* No olvide ingresar la variable "&S$17&""&". Digite CERO si no tiene. ",IF(S27>$C27,"* La variable Migrantes no debe ser mayor al Total Ambos Sexos. ","")) | CK27: =IF(AND($C27<>0,R27=""),1,IF(R27>$C27,1,0)) -> 0 | CL27: =IF(AND($C27<>0,S27=""),1,IF(S27>$C27,1,0)) -> 0
B28: Normal Rezago (desde riesgo) | C28: =SUM(D28+E28) -> 0 | D28: =SUM(F28+H28+J28+L28+N28+P28) -> 0 | E28: =SUM(G28+I28+K28+M28+O28+Q28) -> 0 | T28: =$CA28&CB28 | CA28: =IF(AND($C28<>0,R28=""),"* No olvide ingresar la variable "&R$17&""&". Digite CERO si no tiene. ",IF(R28>$C28,"* La variable Pueblos Originarios no debe ser mayor al Total Ambos Sexos. ","")) | CB28: =IF(AND($C28<>0,S28=""),"* No olvide ingresar la variable "&S$17&""&". Digite CERO si no tiene. ",IF(S28>$C28,"* La variable Migrantes no debe ser mayor al Total Ambos Sexos. ","")) | CK28: =IF(AND($C28<>0,R28=""),1,IF(R28>$C28,1,0)) -> 0 | CL28: =IF(AND($C28<>0,S28=""),1,IF(S28>$C28,1,0)) -> 0
B29: Normal con Rezago (desde retraso) | C29: =SUM(D29+E29) -> 0 | D29: =SUM(F29+H29+J29+L29+N29+P29) -> 0 | E29: =SUM(G29+I29+K29+M29+O29+Q29) -> 0 | T29: =$CA29&CB29 | CA29: =IF(AND($C29<>0,R29=""),"* No olvide ingresar la variable "&R$17&""&". Digite CERO si no tiene. ",IF(R29>$C29,"* La variable Pueblos Originarios no debe ser mayor al Total Ambos Sexos. ","")) | CB29: =IF(AND($C29<>0,S29=""),"* No olvide ingresar la variable "&S$17&""&". Digite CERO si no tiene. ",IF(S29>$C29,"* La variable Migrantes no debe ser mayor al Total Ambos Sexos. ","")) | CK29: =IF(AND($C29<>0,R29=""),1,IF(R29>$C29,1,0)) -> 0 | CL29: =IF(AND($C29<>0,S29=""),1,IF(S29>$C29,1,0)) -> 0
B30: Riesgo (desde retraso) | C30: =SUM(D30:E30) -> 0 | D30: =SUM(F30+H30+J30+L30+N30+P30) -> 0 | E30: =SUM(G30+I30+K30+M30+O30+Q30) -> 0 | T30: =$CA30&CB30 | CA30: =IF(AND($C30<>0,R30=""),"* No olvide ingresar la variable "&R$17&""&". Digite CERO si no tiene. ",IF(R30>$C30,"* La variable Pueblos Originarios no debe ser mayor al Total Ambos Sexos. ","")) | CB30: =IF(AND($C30<>0,S30=""),"* No olvide ingresar la variable "&S$17&""&". Digite CERO si no tiene. ",IF(S30>$C30,"* La variable Migrantes no debe ser mayor al Total Ambos Sexos. ","")) | CK30: =IF(AND($C30<>0,R30=""),1,IF(R30>$C30,1,0)) -> 0 | CL30: =IF(AND($C30<>0,S30=""),1,IF(S30>$C30,1,0)) -> 0
B31: Normal con Rezago (desde normal con rezago) | C31: =SUM(D31:E31) -> 0 | D31: =SUM(F31+H31+J31+L31+N31+P31) -> 0 | E31: =SUM(G31+I31+K31+M31+O31+Q31) -> 0 | T31: =$CA31&CB31 | CA31: =IF(AND($C31<>0,R31=""),"* No olvide ingresar la variable "&R$17&""&". Digite CERO si no tiene. ",IF(R31>$C31,"* La variable Pueblos Originarios no debe ser mayor al Total Ambos Sexos. ","")) | CB31: =IF(AND($C31<>0,S31=""),"* No olvide ingresar la variable "&S$17&""&". Digite CERO si no tiene. ",IF(S31>$C31,"* La variable Migrantes no debe ser mayor al Total Ambos Sexos. ","")) | CK31: =IF(AND($C31<>0,R31=""),1,IF(R31>$C31,1,0)) -> 0 | CL31: =IF(AND($C31<>0,S31=""),1,IF(S31>$C31,1,0)) -> 0
B32: Riesgo (desde riesgo) | C32: =SUM(D32+E32) -> 0 | D32: =SUM(F32+H32+J32+L32+N32+P32) -> 0 | E32: =SUM(G32+I32+K32+M32+O32+Q32) -> 0 | T32: =$CA32&CB32 | CA32: =IF(AND($C32<>0,R32=""),"* No olvide ingresar la variable "&R$17&""&". Digite CERO si no tiene. ",IF(R32>$C32,"* La variable Pueblos Originarios no debe ser mayor al Total Ambos Sexos. ","")) | CB32: =IF(AND($C32<>0,S32=""),"* No olvide ingresar la variable "&S$17&""&". Digite CERO si no tiene. ",IF(S32>$C32,"* La variable Migrantes no debe ser mayor al Total Ambos Sexos. ","")) | CK32: =IF(AND($C32<>0,R32=""),1,IF(R32>$C32,1,0)) -> 0 | CL32: =IF(AND($C32<>0,S32=""),1,IF(S32>$C32,1,0)) -> 0
B33: Riesgo (desde normal con rezago) | C33: =SUM(D33+E33) -> 0 | D33: =SUM(F33+H33+J33+L33+N33+P33) -> 0 | E33: =SUM(G33+I33+K33+M33+O33+Q33) -> 0 | T33: =$CA33&CB33 | CA33: =IF(AND($C33<>0,R33=""),"* No olvide ingresar la variable "&R$17&""&". Digite CERO si no tiene. ",IF(R33>$C33,"* La variable Pueblos Originarios no debe ser mayor al Total Ambos Sexos. ","")) | CB33: =IF(AND($C33<>0,S33=""),"* No olvide ingresar la variable "&S$17&""&". Digite CERO si no tiene. ",IF(S33>$C33,"* La variable Migrantes no debe ser mayor al Total Ambos Sexos. ","")) | CK33: =IF(AND($C33<>0,R33=""),1,IF(R33>$C33,1,0)) -> 0 | CL33: =IF(AND($C33<>0,S33=""),1,IF(S33>$C33,1,0)) -> 0
B34: Retraso (desde retraso) | C34: =SUM(D34+E34) -> 0 | D34: =SUM(F34+H34+J34+L34+N34+P34) -> 0 | E34: =SUM(G34+I34+K34+M34+O34+Q34) -> 0 | T34: =$CA34&CB34 | CA34: =IF(AND($C34<>0,R34=""),"* No olvide ingresar la variable "&R$17&""&". Digite CERO si no tiene. ",IF(R34>$C34,"* La variable Pueblos Originarios no debe ser mayor al Total Ambos Sexos. ","")) | CB34: =IF(AND($C34<>0,S34=""),"* No olvide ingresar la variable "&S$17&""&". Digite CERO si no tiene. ",IF(S34>$C34,"* La variable Migrantes no debe ser mayor al Total Ambos Sexos. ","")) | CK34: =IF(AND($C34<>0,R34=""),1,IF(R34>$C34,1,0)) -> 0 | CL34: =IF(AND($C34<>0,S34=""),1,IF(S34>$C34,1,0)) -> 0
B35: Retraso (desde riesgo) | C35: =SUM(D35+E35) -> 0 | D35: =SUM(F35+H35+J35+L35+N35+P35) -> 0 | E35: =SUM(G35+I35+K35+M35+O35+Q35) -> 0 | T35: =$CA35&CB35 | CA35: =IF(AND($C35<>0,R35=""),"* No olvide ingresar la variable "&R$17&""&". Digite CERO si no tiene. ",IF(R35>$C35,"* La variable Pueblos Originarios no debe ser mayor al Total Ambos Sexos. ","")) | CB35: =IF(AND($C35<>0,S35=""),"* No olvide ingresar la variable "&S$17&""&". Digite CERO si no tiene. ",IF(S35>$C35,"* La variable Migrantes no debe ser mayor al Total Ambos Sexos. ","")) | CK35: =IF(AND($C35<>0,R35=""),1,IF(R35>$C35,1,0)) -> 0 | CL35: =IF(AND($C35<>0,S35=""),1,IF(S35>$C35,1,0)) -> 0
B36: Retraso (desde normal con rezago) | C36: =SUM(D36+E36) -> 0 | D36: =SUM(F36+H36+J36+L36+N36+P36) -> 0 | E36: =SUM(G36+I36+K36+M36+O36+Q36) -> 0 | T36: =$CA36&CB36 | CA36: =IF(AND($C36<>0,R36=""),"* No olvide ingresar la variable "&R$17&""&". Digite CERO si no tiene. ",IF(R36>$C36,"* La variable Pueblos Originarios no debe ser mayor al Total Ambos Sexos. ","")) | CB36: =IF(AND($C36<>0,S36=""),"* No olvide ingresar la variable "&S$17&""&". Digite CERO si no tiene. ",IF(S36>$C36,"* La variable Migrantes no debe ser mayor al Total Ambos Sexos. ","")) | CK36: =IF(AND($C36<>0,R36=""),1,IF(R36>$C36,1,0)) -> 0 | CL36: =IF(AND($C36<>0,S36=""),1,IF(S36>$C36,1,0)) -> 0
A37: Derivados a Especialidad | B37: Riesgo | C37: =SUM(D37+E37) -> 0 | D37: =SUM(F37+H37+J37+L37+N37+P37) -> 0 | E37: =SUM(G37+I37+K37+M37+O37+Q37) -> 0 | T37: =$CA37&CB37 | CA37: =IF(AND($C37<>0,R37=""),"* No olvide ingresar la variable "&R$17&""&". Digite CERO si no tiene. ",IF(R37>$C37,"* La variable Pueblos Originarios no debe ser mayor al Total Ambos Sexos. ","")) | CB37: =IF(AND($C37<>0,S37=""),"* No olvide ingresar la variable "&S$17&""&". Digite CERO si no tiene. ",IF(S37>$C37,"* La variable Migrantes no debe ser mayor al Total Ambos Sexos. ","")) | CK37: =IF(AND($C37<>0,R37=""),1,IF(R37>$C37,1,0)) -> 0 | CL37: =IF(AND($C37<>0,S37=""),1,IF(S37>$C37,1,0)) -> 0
B38: Retraso | C38: =SUM(D38+E38) -> 0 | D38: =SUM(F38+H38+J38+L38+N38+P38) -> 0 | E38: =SUM(G38+I38+K38+M38+O38+Q38) -> 0 | T38: =$CA38&CB38 | CA38: =IF(AND($C38<>0,R38=""),"* No olvide ingresar la variable "&R$17&""&". Digite CERO si no tiene. ",IF(R38>$C38,"* La variable Pueblos Originarios no debe ser mayor al Total Ambos Sexos. ","")) | CB38: =IF(AND($C38<>0,S38=""),"* No olvide ingresar la variable "&S$17&""&". Digite CERO si no tiene. ",IF(S38>$C38,"* La variable Migrantes no debe ser mayor al Total Ambos Sexos. ","")) | CK38: =IF(AND($C38<>0,R38=""),1,IF(R38>$C38,1,0)) -> 0 | CL38: =IF(AND($C38<>0,S38=""),1,IF(S38>$C38,1,0)) -> 0
A39: Traslado de Establecimiento | B39: Normal con Rezago | C39: =SUM(D39+E39) -> 0 | D39: =SUM(F39+H39+J39+L39+N39+P39) -> 0 | E39: =SUM(G39+I39+K39+M39+O39+Q39) -> 0 | T39: =$CA39&CB39 | CA39: =IF(AND($C39<>0,R39=""),"* No olvide ingresar la variable "&R$17&""&". Digite CERO si no tiene. ",IF(R39>$C39,"* La variable Pueblos Originarios no debe ser mayor al Total Ambos Sexos. ","")) | CB39: =IF(AND($C39<>0,S39=""),"* No olvide ingresar la variable "&S$17&""&". Digite CERO si no tiene. ",IF(S39>$C39,"* La variable Migrantes no debe ser mayor al Total Ambos Sexos. ","")) | CK39: =IF(AND($C39<>0,R39=""),1,IF(R39>$C39,1,0)) -> 0 | CL39: =IF(AND($C39<>0,S39=""),1,IF(S39>$C39,1,0)) -> 0
B40: Riesgo | C40: =SUM(D40+E40) -> 0 | D40: =SUM(F40+H40+J40+L40+N40+P40) -> 0 | E40: =SUM(G40+I40+K40+M40+O40+Q40) -> 0 | T40: =$CA40&CB40 | CA40: =IF(AND($C40<>0,R40=""),"* No olvide ingresar la variable "&R$17&""&". Digite CERO si no tiene. ",IF(R40>$C40,"* La variable Pueblos Originarios no debe ser mayor al Total Ambos Sexos. ","")) | CB40: =IF(AND($C40<>0,S40=""),"* No olvide ingresar la variable "&S$17&""&". Digite CERO si no tiene. ",IF(S40>$C40,"* La variable Migrantes no debe ser mayor al Total Ambos Sexos. ","")) | CK40: =IF(AND($C40<>0,R40=""),1,IF(R40>$C40,1,0)) -> 0 | CL40: =IF(AND($C40<>0,S40=""),1,IF(S40>$C40,1,0)) -> 0
B41: Retraso | C41: =SUM(D41+E41) -> 0 | D41: =SUM(F41+H41+J41+L41+N41+P41) -> 0 | E41: =SUM(G41+I41+K41+M41+O41+Q41) -> 0 | T41: =$CA41&CB41 | CA41: =IF(AND($C41<>0,R41=""),"* No olvide ingresar la variable "&R$17&""&". Digite CERO si no tiene. ",IF(R41>$C41,"* La variable Pueblos Originarios no debe ser mayor al Total Ambos Sexos. ","")) | CB41: =IF(AND($C41<>0,S41=""),"* No olvide ingresar la variable "&S$17&""&". Digite CERO si no tiene. ",IF(S41>$C41,"* La variable Migrantes no debe ser mayor al Total Ambos Sexos. ","")) | CK41: =IF(AND($C41<>0,R41=""),1,IF(R41>$C41,1,0)) -> 0 | CL41: =IF(AND($C41<>0,S41=""),1,IF(S41>$C41,1,0)) -> 0
A42: SECCIÓN A.3: NIÑOS Y NIÑAS CON REZAGO, DÉFICIT O RIESGO BIOPSICOSOCIAL DERIVADOS A ALGUNA MODALIDAD DE ESTIMULACIÓN EN LA PRIMERA EVALUACIÓN
A43: NIÑO / A | B43: TOTAL | E43: RANGO ETARIO Y SEXO | Q43: Pueblos Originarios | R43: Migrantes
E44: Menos de 7 meses | G44: 7 - 11 meses | I44: 12 - 17 meses | K44: 18 - 23 meses | M44: 24 - 47 meses | O44: 48 - 59 meses
B45: Ambos Sexos | C45: Hombres | D45: Mujeres | E45: Hombres | F45: Mujeres | G45: Hombres | H45: Mujeres | I45: Hombres | J45: Mujeres | K45: Hombres | L45: Mujeres | M45: Hombres | N45: Mujeres | O45: Hombres | P45: Mujeres
A46: Normal con Rezago | B46: =SUM(C46+D46) -> 0 | C46: =SUM(E46+G46+I46+K46+M46+O46) -> 0 | D46: =SUM(F46+H46+J46+L46+N46+P46) -> 0 | S46: =$CA46&CB46 | CA46: =IF(AND($B46<>0,Q46=""),"* No olvide ingresar la variable "&Q$43&""&". Digite CERO si no tiene. ",IF(Q46>$B46,"* La variable Pueblos Originarios no debe ser mayor al Total Ambos Sexos. ","")) | CB46: =IF(AND($B46<>0,R46=""),"* No olvide ingresar la variable "&R$43&""&" (Digite CERO si no tiene). ",IF(R46>$B46,"* La variable Migrantes no debe ser mayor al Total Ambos Sexos. ","")) | CK46: =IF(AND($B46<>0,Q46=""),1,IF(Q46>$B46,1,0)) -> 0 | CL46: =IF(AND($B46<>0,R46=""),1,IF(R46>$B46,1,0)) -> 0
A47: Riesgo | B47: =SUM(C47+D47) -> 0 | C47: =SUM(E47+G47+I47+K47+M47+O47) -> 0 | D47: =SUM(F47+H47+J47+L47+N47+P47) -> 0 | S47: =$CA47&CB47 | CA47: =IF(AND($B47<>0,Q47=""),"* No olvide ingresar la variable "&Q$43&""&". Digite CERO si no tiene. ",IF(Q47>$B47,"* La variable Pueblos Originarios no debe ser mayor al Total Ambos Sexos. ","")) | CB47: =IF(AND($B47<>0,R47=""),"* No olvide ingresar la variable "&R$43&""&" (Digite CERO si no tiene). ",IF(R47>$B47,"* La variable Migrantes no debe ser mayor al Total Ambos Sexos. ","")) | CK47: =IF(AND($B47<>0,Q47=""),1,IF(Q47>$B47,1,0)) -> 0 | CL47: =IF(AND($B47<>0,R47=""),1,IF(R47>$B47,1,0)) -> 0
A48: Retraso | B48: =SUM(C48+D48) -> 0 | C48: =SUM(E48+G48+I48+K48+M48+O48) -> 0 | D48: =SUM(F48+H48+J48+L48+N48+P48) -> 0 | S48: =$CA48&CB48 | CA48: =IF(AND($B48<>0,Q48=""),"* No olvide ingresar la variable "&Q$43&""&". Digite CERO si no tiene. ",IF(Q48>$B48,"* La variable Pueblos Originarios no debe ser mayor al Total Ambos Sexos. ","")) | CB48: =IF(AND($B48<>0,R48=""),"* No olvide ingresar la variable "&R$43&""&" (Digite CERO si no tiene). ",IF(R48>$B48,"* La variable Migrantes no debe ser mayor al Total Ambos Sexos. ","")) | CK48: =IF(AND($B48<>0,Q48=""),1,IF(Q48>$B48,1,0)) -> 0 | CL48: =IF(AND($B48<>0,R48=""),1,IF(R48>$B48,1,0)) -> 0
A49: Normal con Riesgo Biopsicosocial | B49: =SUM(C49:D49) -> 0 | C49: =SUM(E49+G49+I49+K49+M49+O49) -> 0 | D49: =SUM(F49+H49+J49+L49+N49+P49) -> 0 | S49: =$CA49&CB49 | CA49: =IF(AND($B49<>0,Q49=""),"* No olvide ingresar la variable "&Q$43&""&". Digite CERO si no tiene. ",IF(Q49>$B49,"* La variable Pueblos Originarios no debe ser mayor al Total Ambos Sexos. ","")) | CB49: =IF(AND($B49<>0,R49=""),"* No olvide ingresar la variable "&R$43&""&" (Digite CERO si no tiene). ",IF(R49>$B49,"* La variable Migrantes no debe ser mayor al Total Ambos Sexos. ","")) | CK49: =IF(AND($B49<>0,Q49=""),1,IF(Q49>$B49,1,0)) -> 0 | CL49: =IF(AND($B49<>0,R49=""),1,IF(R49>$B49,1,0)) -> 0
A50: SECCIÓN A.4: RESULTADOS DE LA APLICACIÓN DE PROTOCOLO NEUROSENSORIAL
A51: RESULTADOS | B51: TOTAL | E51: RANGO ETARIO Y SEXO | I51: Pueblos Originarios | J51: Migrantes
E52: 1 mes | G52: 2 meses
B53: Ambos Sexos | C53: Hombres | D53: Mujeres | E53: Hombres | F53: Mujeres | G53: Hombres | H53: Mujeres
A54: Aplicación de Protocolo Neurosensorial (1-2 meses) | B54: =SUM(C54+D54) -> 0 | C54: =SUM(E54+G54) -> 0 | D54: =SUM(F54+H54) -> 0 | E54: =SUM(E55:E57) -> 0 | F54: =SUM(F55:F57) -> 0 | G54: =SUM(G55:G57) -> 0 | H54: =SUM(H55:H57) -> 0 | I54: =SUM(I55:I57) -> 0 | J54: =SUM(J55:J57) -> 0
A55: Normal | B55: =SUM(C55+D55) -> 0 | C55: =SUM(E55+G55) -> 0 | D55: =SUM(F55+H55) -> 0 | K55: =$CA55&CB55 | CA55: =IF(AND($B55<>0,I55=""),"* No olvide ingresar la variable "&I$51&""&". Digite CERO si no tiene. ",IF(I55>$B55,"* La variable Pueblos Originarios no debe ser mayor al Total Ambos Sexos. ","")) | CB55: =IF(AND($B55<>0,J55=""),"* No olvide ingresar la variable "&J$51&""&" (Digite CERO si no tiene). ",IF(J55>$B55,"* La variable Migrantes no debe ser mayor al Total Ambos Sexos. ","")) | CK55: =IF(AND($B55<>0,I55=""),1,IF(I55>$B55,1,0)) -> 0 | CL55: =IF(AND($B55<>0,J55=""),1,IF(J55>$B55,1,0)) -> 0
A56: Anormal | B56: =SUM(C56+D56) -> 0 | C56: =SUM(E56+G56) -> 0 | D56: =SUM(F56+H56) -> 0 | K56: =$CA56&CB56 | CA56: =IF(AND($B56<>0,I56=""),"* No olvide ingresar la variable "&I$51&""&". Digite CERO si no tiene. ",IF(I56>$B56,"* La variable Pueblos Originarios no debe ser mayor al Total Ambos Sexos. ","")) | CB56: =IF(AND($B56<>0,J56=""),"* No olvide ingresar la variable "&J$51&""&" (Digite CERO si no tiene). ",IF(J56>$B56,"* La variable Migrantes no debe ser mayor al Total Ambos Sexos. ","")) | CK56: =IF(AND($B56<>0,I56=""),1,IF(I56>$B56,1,0)) -> 0 | CL56: =IF(AND($B56<>0,J56=""),1,IF(J56>$B56,1,0)) -> 0
A57: Muy Anormal | B57: =SUM(C57+D57) -> 0 | C57: =SUM(E57+G57) -> 0 | D57: =SUM(F57+H57) -> 0 | K57: =$CA57&CB57 | CA57: =IF(AND($B57<>0,I57=""),"* No olvide ingresar la variable "&I$51&""&". Digite CERO si no tiene. ",IF(I57>$B57,"* La variable Pueblos Originarios no debe ser mayor al Total Ambos Sexos. ","")) | CB57: =IF(AND($B57<>0,J57=""),"* No olvide ingresar la variable "&J$51&""&" (Digite CERO si no tiene). ",IF(J57>$B57,"* La variable Migrantes no debe ser mayor al Total Ambos Sexos. ","")) | CK57: =IF(AND($B57<>0,I57=""),1,IF(I57>$B57,1,0)) -> 0 | CL57: =IF(AND($B57<>0,J57=""),1,IF(J57>$B57,1,0)) -> 0
A58: SECCIÓN A.5: TIPO DE ALIMENTACIÓN NIÑOS Y NIÑAS CONTROLADOS
A59: TIPO DE ALIMENTACIÓN | C59: TOTAL | D59: SEGÚN CONTROL PROGRAMÁTICO | K59: Pueblos Originarios | L59: Migrantes
D60: Diada hasta 10 días de vida | E60: Diada entre 11 y 28 días de vida | F60: Del 1° mes | G60: Del 3° mes | H60: Del 6° mes | I60: Del 12° mes | J60: Del 24° mes
A61: Lactancia Materna exclusiva (LME) | C61: =SUM(D61:H61) -> 0 | M61: =$CA61&CB61 | CA61: =IF(AND($C61<>0,K61=""),"* No olvide ingresar la variable "&K$59&""&". Digite CERO si no tiene. ",IF(K61>$C61,"* La variable Pueblos Originarios no debe ser mayor al Total. ","")) | CB61: =IF(AND($C61<>0,L61=""),"* No olvide ingresar la variable "&L$59&""&". Digite CERO si no tiene. ",IF(L61>$C61,"* La variable Migrantes no debe ser mayor al Total. ","")) | CK61: =IF(AND($C61<>0,K61=""),1,IF(K61>$C61,1,0)) -> 0 | CL61: =IF(AND($C61<>0,L61=""),1,IF(L61>$C61,1,0)) -> 0
A62: Lactancia Materna más Formula Láctea (LM/FL) | C62: =SUM(D62:H62) -> 0 | M62: =$CA62&CB62 | CA62: =IF(AND($C62<>0,K62=""),"* No olvide ingresar la variable "&K$59&""&". Digite CERO si no tiene. ",IF(K62>$C62,"* La variable Pueblos Originarios no debe ser mayor al Total. ","")) | CB62: =IF(AND($C62<>0,L62=""),"* No olvide ingresar la variable "&L$59&""&". Digite CERO si no tiene. ",IF(L62>$C62,"* La variable Migrantes no debe ser mayor al Total. ","")) | CK62: =IF(AND($C62<>0,K62=""),1,IF(K62>$C62,1,0)) -> 0 | CL62: =IF(AND($C62<>0,L62=""),1,IF(L62>$C62,1,0)) -> 0
A63: Formula Láctea (FL) | C63: =SUM(D63:H63) -> 0 | M63: =$CA63&CB63 | CA63: =IF(AND($C63<>0,K63=""),"* No olvide ingresar la variable "&K$59&""&". Digite CERO si no tiene. ",IF(K63>$C63,"* La variable Pueblos Originarios no debe ser mayor al Total. ","")) | CB63: =IF(AND($C63<>0,L63=""),"* No olvide ingresar la variable "&L$59&""&". Digite CERO si no tiene. ",IF(L63>$C63,"* La variable Migrantes no debe ser mayor al Total. ","")) | CK63: =IF(AND($C63<>0,K63=""),1,IF(K63>$C63,1,0)) -> 0 | CL63: =IF(AND($C63<>0,L63=""),1,IF(L63>$C63,1,0)) -> 0
A64: Lactancia Materna más Alimentación Complementaria (LM/AC) | C64: =SUM(H64:J64) -> 0 | M64: =$CA64&CB64 | CA64: =IF(AND($C64<>0,K64=""),"* No olvide ingresar la variable "&K$59&""&". Digite CERO si no tiene. ",IF(K64>$C64,"* La variable Pueblos Originarios no debe ser mayor al Total. ","")) | CB64: =IF(AND($C64<>0,L64=""),"* No olvide ingresar la variable "&L$59&""&". Digite CERO si no tiene. ",IF(L64>$C64,"* La variable Migrantes no debe ser mayor al Total. ","")) | CK64: =IF(AND($C64<>0,K64=""),1,IF(K64>$C64,1,0)) -> 0 | CL64: =IF(AND($C64<>0,L64=""),1,IF(L64>$C64,1,0)) -> 0
A65: Lactancia Materna más Fórmula Láctea más Alimentación Complementaria (LM/FL/AC) | C65: =SUM(H65:J65) -> 0 | M65: =$CA65&CB65 | CA65: =IF(AND($C65<>0,K65=""),"* No olvide ingresar la variable "&K$59&""&". Digite CERO si no tiene. ",IF(K65>$C65,"* La variable Pueblos Originarios no debe ser mayor al Total. ","")) | CB65: =IF(AND($C65<>0,L65=""),"* No olvide ingresar la variable "&L$59&""&". Digite CERO si no tiene. ",IF(L65>$C65,"* La variable Migrantes no debe ser mayor al Total. ","")) | CK65: =IF(AND($C65<>0,K65=""),1,IF(K65>$C65,1,0)) -> 0 | CL65: =IF(AND($C65<>0,L65=""),1,IF(L65>$C65,1,0)) -> 0
A66: Fórmula Láctea más Alimentación Complementaria (FL/AC) | C66: =SUM(H66:J66) -> 0 | M66: =$CA66&CB66 | CA66: =IF(AND($C66<>0,K66=""),"* No olvide ingresar la variable "&K$59&""&". Digite CERO si no tiene. ",IF(K66>$C66,"* La variable Pueblos Originarios no debe ser mayor al Total. ","")) | CB66: =IF(AND($C66<>0,L66=""),"* No olvide ingresar la variable "&L$59&""&". Digite CERO si no tiene. ",IF(L66>$C66,"* La variable Migrantes no debe ser mayor al Total. ","")) | CK66: =IF(AND($C66<>0,K66=""),1,IF(K66>$C66,1,0)) -> 0 | CL66: =IF(AND($C66<>0,L66=""),1,IF(L66>$C66,1,0)) -> 0
A67: Total de niños y niñas controlados | C67: =SUM(D67:J67) -> 0 | M67: =$CA67&CB67 | CA67: =IF(AND($C67<>0,K67=""),"* No olvide ingresar la variable "&K$59&""&". Digite CERO si no tiene. ",IF(K67>$C67,"* La variable Pueblos Originarios no debe ser mayor al Total. ","")) | CB67: =IF(AND($C67<>0,L67=""),"* No olvide ingresar la variable "&L$59&""&". Digite CERO si no tiene. ",IF(L67>$C67,"* La variable Migrantes no debe ser mayor al Total. ","")) | CK67: =IF(AND($C67<>0,K67=""),1,IF(K67>$C67,1,0)) -> 0 | CL67: =IF(AND($C67<>0,L67=""),1,IF(L67>$C67,1,0)) -> 0
A68: SECCIÓN A.6: RESULTADOS RADIOGRAFÍA DE PELVIS (CADERA)
A69: RESULTADO | B69: TOTAL | E69: RANGO ETARIO Y SEXO | I69: Pueblos Originarios | J69: Migrantes
E70: 3 meses | G70: 4 meses
B71: Ambos Sexos | C71: Hombres | D71: Mujeres | E71: Hombres | F71: Mujeres | G71: Hombres | H71: Mujeres
A72: Normal | B72: =SUM(C72:D72) -> 0 | C72: =+E72+G72 -> 0 | D72: =+F72+H72 -> 0 | K72: =$CA72&CB72 | CA72: =IF(AND($B72<>0,I72=""),"* No olvide ingresar la variable "&I$51&""&". Digite CERO si no tiene. ",IF(I72>$B72,"* La variable Pueblos Originarios no debe ser mayor al Total Ambos Sexos. ","")) | CB72: =IF(AND($B72<>0,J72=""),"* No olvide ingresar la variable "&J$51&""&" (Digite CERO si no tiene). ",IF(J72>$B72,"* La variable Migrantes no debe ser mayor al Total Ambos Sexos. ","")) | CK72: =IF(AND($B72<>0,I72=""),1,IF(I72>$B72,1,0)) -> 0 | CL72: =IF(AND($B72<>0,J72=""),1,IF(J72>$B72,1,0)) -> 0
A73: Anormal | B73: =SUM(C73:D73) -> 0 | C73: =+E73+G73 -> 0 | D73: =+F73+H73 -> 0 | K73: =$CA73&CB73 | CA73: =IF(AND($B73<>0,I73=""),"* No olvide ingresar la variable "&I$51&""&". Digite CERO si no tiene. ",IF(I73>$B73,"* La variable Pueblos Originarios no debe ser mayor al Total Ambos Sexos. ","")) | CB73: =IF(AND($B73<>0,J73=""),"* No olvide ingresar la variable "&J$51&""&" (Digite CERO si no tiene). ",IF(J73>$B73,"* La variable Migrantes no debe ser mayor al Total Ambos Sexos. ","")) | CK73: =IF(AND($B73<>0,I73=""),1,IF(I73>$B73,1,0)) -> 0 | CL73: =IF(AND($B73<>0,J73=""),1,IF(J73>$B73,1,0)) -> 0
A74: Inmadura | B74: =SUM(C74:D74) -> 0 | C74: =+E74+G74 -> 0 | D74: =+F74+H74 -> 0 | K74: =$CA74&CB74 | CA74: =IF(AND($B74<>0,I74=""),"* No olvide ingresar la variable "&I$51&""&". Digite CERO si no tiene. ",IF(I74>$B74,"* La variable Pueblos Originarios no debe ser mayor al Total Ambos Sexos. ","")) | CB74: =IF(AND($B74<>0,J74=""),"* No olvide ingresar la variable "&J$51&""&" (Digite CERO si no tiene). ",IF(J74>$B74,"* La variable Migrantes no debe ser mayor al Total Ambos Sexos. ","")) | CK74: =IF(AND($B74<>0,I74=""),1,IF(I74>$B74,1,0)) -> 0 | CL74: =IF(AND($B74<>0,J74=""),1,IF(J74>$B74,1,0)) -> 0
A75: SECCION B: EVALUACIÓN, APLICACIÓN Y RESULTADOS DE ESCALAS EN LA MUJER
A76: SECCIÓN B.1: EVALUACIÓN DEL ESTADO NUTRICIONAL A PERSONAS CONTROLADAS AL OCTAVO MES POST PARTO
A77: ESTADO NUTRICIONAL | B77: TOTAL
B79: =SUM(B80:B83) -> 0
A80: Obesa
A81: Sobrepeso
A82: Normal
A83: Bajo peso
A84: SECCIÓN B.2: APLICACIÓN DE ESCALA SEGÚN EVALUACIÓN DE RIESGO PSICOSOCIAL ABREVIADA A GESTANTES
A85: TIPO | B85: Total de Aplicaciones | C85: Con riesgo psicosocial | D85: Violencia de Género | E85: 3 o más riesgos psicosociales | F85: Plan de equipo de cabecera en gestantes con 3 o más riesgos psicosociales
A86: Evaluación al ingreso | G86: =$CA86&CB86&CC86&CD86&CE86 | CA86: =IF(CK86=1,"* Las Aplicaciones de EPSA con resultado de Riesgo psicosocial NO DEBE ser MAYOR que el Total de las Aplicaciones. ","") | CB86: =IF(CL86=1,"* Las Aplicaciones de EPSA con resultado de Riesgo psicosocial NO DEBE ser MENOR que la variable Plan de equipo de cabecera en gestantes con 3 o más riesgos psicosociales. ","") | CC86: =IF(CM86=1,"* Las Aplicaciones de EPSA asociadas a Violencia de Género NO DEBEN ser MAYOR al Total de Aplicaciones. ","") | CD86: =IF(CN86=1,"* Las Aplicaciones de EPSA asociadas a 3 o más riesgos psicosociales NO DEBEN ser MAYOR al Total de Aplicaciones. ","") | CE86: =IF(CO86=1,"* La variable Plan de equipo de cabecera en gestantes con 3 o más riesgos psicosociales NO DEBE ser MAYOR al Total de Aplicaciones. ","") | CK86: =IF(B86<C86,1,0) -> 0 | CL86: =IF(C86<F86,1,0) -> 0 | CM86: =IF(D86>$B86,1,0) -> 0 | CN86: =IF(E86>$B86,1,0) -> 0 | CO86: =IF(F86>$B86,1,0) -> 0
A87: Evaluación al tercer trimestre | G87: =$CA87&CB87&CC87&CD87&CE87 | CA87: =IF(CK87=1,"* Las Aplicaciones de EPSA con resultado de Riesgo psicosocial NO DEBE ser MAYOR que el Total de las Aplicaciones. ","") | CB87: =IF(CL87=1,"* Las Aplicaciones de EPSA con resultado de Riesgo psicosocial NO DEBE ser MENOR que la variable Plan de equipo de cabecera en gestantes con 3 o más riesgos psicosociales. ","") | CC87: =IF(CM87=1,"* Las Aplicaciones de EPSA asociadas a Violencia de Género NO DEBEN ser MAYOR al Total de Aplicaciones. ","") | CD87: =IF(CN87=1,"* Las Aplicaciones de EPSA asociadas a 3 o más riesgos psicosociales NO DEBEN ser MAYOR al Total de Aplicaciones. ","") | CE87: =IF(CO87=1,"* La variable Plan de equipo de cabecera en gestantes con 3 o más riesgos psicosociales NO DEBE ser MAYOR al Total de Aplicaciones. ","") | CK87: =IF(B87<C87,1,0) -> 0 | CL87: =IF(C87<F87,1,0) -> 0 | CM87: =IF(D87>$B87,1,0) -> 0 | CN87: =IF(E87>$B87,1,0) -> 0 | CO87: =IF(F87>$B87,1,0) -> 0
A88: SECCIÓN B.3: APLICACIÓN DE ESCALA DE EDIMBURGO A GESTANTES Y MUJERES POST PARTO
A89: CONCEPTO | C89: Total de Aplicaciones | D89: Resultados 10 o más puntos (Puérperas) | E89: Resultado distinto de 0 en pregunta 10 (Puérperas) | F89: Resultados 13 o más puntos (Gestantes) | G89: Resultado distinto de 0 en pregunta 10 (Gestantes) | H89: Casos alterados derivados a Salud Mental
A90: Evaluación a Gestantes | B90: Primera evaluación (2º control prenatal) | I90: =$CA90 | CA90: =IF(AND($C90<>0,H90=""),"* No olvide ingresar la variable "&H$89&""&". Digite CERO si no tiene. ",IF(H90>$C90,"* La variable Casos alterados derivados a Salud Mental no debe ser mayor al Total de Aplicaciones. ","")) | CK90: =IF(AND($C90<>0,H90=""),1,IF(H90>$C90,1,0)) -> 0
B91: Reevaluación (con puntaje elevado en la primera evaluación) | I91: =$CA91 | CA91: =IF(AND($C91<>0,H91=""),"* No olvide ingresar la variable "&H$89&""&". Digite CERO si no tiene. ",IF(H91>$C91,"* La variable Casos alterados derivados a Salud Mental no debe ser mayor al Total de Aplicaciones. ","")) | CK91: =IF(AND($C91<>0,H91=""),1,IF(H91>$C91,1,0)) -> 0
A92: Evaluación a mujeres/personas post parto síntomas de depresión | B92: A los 2 meses | I92: =$CA92 | CA92: =IF(AND($C92<>0,H92=""),"* No olvide ingresar la variable "&H$89&""&". Digite CERO si no tiene. ",IF(H92>$C92,"* La variable Casos alterados derivados a Salud Mental no debe ser mayor al Total de Aplicaciones. ","")) | CK92: =IF(AND($C92<>0,H92=""),1,IF(H92>$C92,1,0)) -> 0
B93: A los 6 meses | I93: =$CA93 | CA93: =IF(AND($C93<>0,H93=""),"* No olvide ingresar la variable "&H$89&""&". Digite CERO si no tiene. ",IF(H93>$C93,"* La variable Casos alterados derivados a Salud Mental no debe ser mayor al Total de Aplicaciones. ","")) | CK93: =IF(AND($C93<>0,H93=""),1,IF(H93>$C93,1,0)) -> 0
A94: SECCIÓN C: RESULTADOS DE LA EVALUACIÓN DEL ESTADO NUTRICIONAL DEL ADOLESCENTE CON CONTROL SALUD INTEGRAL
A95: ESTADO NUTRICIONAL | C95: TOTAL | F95: 10 - 14 años | H95: 15 - 19 años
C96: Ambos Sexos | D96: Hombres | E96: Mujeres | F96: Hombres | G96: Mujeres | H96: Hombres | I96: Mujeres
A97: TOTAL | C97: =SUM(C98:C102) -> 0 | D97: =SUM(D98:D102) -> 0 | E97: =SUM(E98:E102) -> 0 | F97: =SUM(F98:F102) -> 0 | G97: =SUM(G98:G102) -> 0 | H97: =SUM(H98:H102) -> 0 | I97: =SUM(I98:I102) -> 0
A98: Normal | C98: =SUM(D98+E98) -> 0 | D98: =SUM(F98+H98) -> 0 | E98: =SUM(G98+I98) -> 0
A99: Bajo peso | C99: =SUM(D99+E99) -> 0 | D99: =SUM(F99+H99) -> 0 | E99: =SUM(G99+I99) -> 0
A100: Sobrepeso | C100: =SUM(D100+E100) -> 0 | D100: =SUM(F100+H100) -> 0 | E100: =SUM(G100+I100) -> 0
A101: Obesos | C101: =SUM(D101+E101) -> 0 | D101: =SUM(F101+H101) -> 0 | E101: =SUM(G101+I101) -> 0
A102: Obesos severos | C102: =SUM(D102+E102) -> 0 | D102: =SUM(F102+H102) -> 0 | E102: =SUM(G102+I102) -> 0
...

Sheet MARZO
A1: SERVICIO DE SALUD
A2: =CONCATENATE("COMUNA: ",[4]NOMBRE!B2, " (",[4]NOMBRE!C2,[4]NOMBRE!D2,[4]NOMBRE!E2,[4]NOMBRE!F2,[4]NOMBRE!G2,")") -> COMUNA: LINARES (07401)
A3: =CONCATENATE("ESTABLECIMIENTO/ESTRATEGIA: ", [4]NOMBRE!B3, " (",[4]NOMBRE!C3,[4]NOMBRE!D3,[4]NOMBRE!E3,[4]NOMBRE!F3,[4]NOMBRE!G3,[4]NOMBRE!H3,")") -> ESTABLECIMIENTO/ESTRATEGIA: HOSPITAL PRESIDENTE CARLOS IBAÑEZ DEL CAMPO (116108)
A4: =CONCATENATE("MES: ",[4]NOMBRE!B6, " (",[4]NOMBRE!C6,[4]NOMBRE!D6,")") -> MES: MARZO (03)
A5: =CONCATENATE("AÑO: ",[4]NOMBRE!B7) -> AÑO: 2025
A6: REM-A03. APLICACIÓN Y RESULTADOS DE ESCALAS DE EVALUACIÓN
A8: SECCIÓN A: APLICACIÓN DE INSTRUMENTO Y RESULTADO EN EL NIÑO (A)
A9: SECCIÓN A.1: APLICACIÓN Y RESULTADOS DE PAUTA BREVE
A10: EVALUACIONES POR EDAD DEL NIÑO | C10: TOTAL | F10: RANGO ETARIO Y SEXO
F11: Menos de 1 mes | H11: 1 mes | J11: 2 meses | L11: 3 meses | N11: 4 meses | P11: 5 meses | R11: 6 meses | T11: 7 - 11 meses | V11: 12 - 17 meses | X11: 18 - 24 meses
C12: Ambos Sexos | D12: Hombres | E12: Mujeres | F12: Hombres | G12: Mujeres | H12: Hombres | I12: Mujeres | J12: Hombres | K12: Mujeres | L12: Hombres | M12: Mujeres | N12: Hombres | O12: Mujeres | P12: Hombres | Q12: Mujeres | R12: Hombres | S12: Mujeres | T12: Hombres | U12: Mujeres | V12: Hombres | W12: Mujeres | X12: Hombres | Y12: Mujeres
A13: Aplicación Pauta Breve | C13: =SUM(D13+E13) -> 0 | D13: =SUM(F13+H13+J13+L13+N13+P13+R13+T13+V13+X13) -> 0 | E13: =SUM(G13+I13+K13+M13+O13+Q13+S13+U13+W13+Y13) -> 0
A14: Resultados | B14: Normal | C14: =SUM(D14+E14) -> 0 | D14: =SUM(F14+H14+J14+L14+N14+P14+R14+T14+V14+X14) -> 0 | E14: =SUM(G14+I14+K14+M14+O14+Q14+S14+U14+W14+Y14) -> 0
B15: Alterado | C15: =SUM(D15+E15) -> 0 | D15: =SUM(F15+H15+J15+L15+N15+P15+R15+T15+V15+X15) -> 0 | E15: =SUM(G15+I15+K15+M15+O15+Q15+S15+U15+W15+Y15) -> 0
A16: SECCIÓN A.2: RESULTADOS DE LA APLICACIÓN DE ESCALA DE EVALUACIÓN DEL DESARROLLO PSICOMOTOR
A17: ACTIVIDAD | B17: RESULTADO | C17: TOTAL | F17: RANGO ETARIO Y SEXO | R17: Pueblos Originarios | S17: Migrantes
F18: Menos de 7 meses | H18: 7 - 11 meses | J18: 12 - 17 meses | L18: 18 - 23 meses | N18: 24 - 47 meses | P18: 48 - 59 meses
C19: Ambos Sexos | D19: Hombres | E19: Mujeres | F19: Hombres | G19: Mujeres | H19: Hombres | I19: Mujeres | J19: Hombres | K19: Mujeres | L19: Hombres | M19: Mujeres | N19: Hombres | O19: Mujeres | P19: Hombres | Q19: Mujeres
A20: Aplicación test de Desarrollo Psicomotor | C20: =SUM(D20+E20) -> 0 | D20: =SUM(F20+H20+J20+L20+N20+P20) -> 0 | E20: =SUM(G20+I20+K20+M20+O20+Q20) -> 0 | T20: =$CA20&CB20 | CA20: =IF(AND($C20<>0,R20=""),"* No olvide ingresar la variable "&R$17&""&". Digite CERO si no tiene. ",IF(R20>$C20,"* La variable Pueblos Originarios no debe ser mayor al Total Ambos Sexos. ","")) | CB20: =IF(AND($C20<>0,S20=""),"* No olvide ingresar la variable "&S$17&""&". Digite CERO si no tiene. ",IF(S20>$C20,"* La variable Migrantes no debe ser mayor al Total Ambos Sexos. ","")) | CK20: =IF(AND($C20<>0,R20=""),1,IF(R20>$C20,1,0)) -> 0 | CL20: =IF(AND($C20<>0,S20=""),1,IF(S20>$C20,1,0)) -> 0
A21: Primera Evaluación | B21: Normal | C21: =SUM(D21+E21) -> 0 | D21: =SUM(F21+H21+J21+L21+N21+P21) -> 0 | E21: =SUM(G21+I21+K21+M21+O21+Q21) -> 0 | T21: =$CA21&CB21 | CA21: =IF(AND($C21<>0,R21=""),"* No olvide ingresar la variable "&R$17&""&". Digite CERO si no tiene. ",IF(R21>$C21,"* La variable Pueblos Originarios no debe ser mayor al Total Ambos Sexos. ","")) | CB21: =IF(AND($C21<>0,S21=""),"* No olvide ingresar la variable "&S$17&""&". Digite CERO si no tiene. ",IF(S21>$C21,"* La variable Migrantes no debe ser mayor al Total Ambos Sexos. ","")) | CK21: =IF(AND($C21<>0,R21=""),1,IF(R21>$C21,1,0)) -> 0 | CL21: =IF(AND($C21<>0,S21=""),1,IF(S21>$C21,1,0)) -> 0
B22: Normal con Rezago | C22: =SUM(D22+E22) -> 0 | D22: =SUM(F22+H22+J22+L22+N22+P22) -> 0 | E22: =SUM(G22+I22+K22+M22+O22+Q22) -> 0 | T22: =$CA22&CB22 | CA22: =IF(AND($C22<>0,R22=""),"* No olvide ingresar la variable "&R$17&""&". Digite CERO si no tiene. ",IF(R22>$C22,"* La variable Pueblos Originarios no debe ser mayor al Total Ambos Sexos. ","")) | CB22: =IF(AND($C22<>0,S22=""),"* No olvide ingresar la variable "&S$17&""&". Digite CERO si no tiene. ",IF(S22>$C22,"* La variable Migrantes no debe ser mayor al Total Ambos Sexos. ","")) | CK22: =IF(AND($C22<>0,R22=""),1,IF(R22>$C22,1,0)) -> 0 | CL22: =IF(AND($C22<>0,S22=""),1,IF(S22>$C22,1,0)) -> 0
B23: Riesgo | C23: =SUM(D23+E23) -> 0 | D23: =SUM(F23+H23+J23+L23+N23+P23) -> 0 | E23: =SUM(G23+I23+K23+M23+O23+Q23) -> 0 | T23: =$CA23&CB23 | CA23: =IF(AND($C23<>0,R23=""),"* No olvide ingresar la variable "&R$17&""&". Digite CERO si no tiene. ",IF(R23>$C23,"* La variable Pueblos Originarios no debe ser mayor al Total Ambos Sexos. ","")) | CB23: =IF(AND($C23<>0,S23=""),"* No olvide ingresar la variable "&S$17&""&". Digite CERO si no tiene. ",IF(S23>$C23,"* La variable Migrantes no debe ser mayor al Total Ambos Sexos. ","")) | CK23: =IF(AND($C23<>0,R23=""),1,IF(R23>$C23,1,0)) -> 0 | CL23: =IF(AND($C23<>0,S23=""),1,IF(S23>$C23,1,0)) -> 0
B24: Retraso | C24: =SUM(D24+E24) -> 0 | D24: =SUM(F24+H24+J24+L24+N24+P24) -> 0 | E24: =SUM(G24+I24+K24+M24+O24+Q24) -> 0 | T24: =$CA24&CB24 | CA24: =IF(AND($C24<>0,R24=""),"* No olvide ingresar la variable "&R$17&""&". Digite CERO si no tiene. ",IF(R24>$C24,"* La variable Pueblos Originarios no debe ser mayor al Total Ambos Sexos. ","")) | CB24: =IF(AND($C24<>0,S24=""),"* No olvide ingresar la variable "&S$17&""&". Digite CERO si no tiene. ",IF(S24>$C24,"* La variable Migrantes no debe ser mayor al Total Ambos Sexos. ","")) | CK24: =IF(AND($C24<>0,R24=""),1,IF(R24>$C24,1,0)) -> 0 | CL24: =IF(AND($C24<>0,S24=""),1,IF(S24>$C24,1,0)) -> 0
A25: Reevaluación | B25: Normal (desde normal con rezago) | C25: =SUM(D25+E25) -> 0 | D25: =SUM(F25+H25+J25+L25+N25+P25) -> 0 | E25: =SUM(G25+I25+K25+M25+O25+Q25) -> 0 | T25: =$CA25&CB25 | CA25: =IF(AND($C25<>0,R25=""),"* No olvide ingresar la variable "&R$17&""&". Digite CERO si no tiene. ",IF(R25>$C25,"* La variable Pueblos Originarios no debe ser mayor al Total Ambos Sexos. ","")) | CB25: =IF(AND($C25<>0,S25=""),"* No olvide ingresar la variable "&S$17&""&". Digite CERO si no tiene. ",IF(S25>$C25,"* La variable Migrantes no debe ser mayor al Total Ambos Sexos. ","")) | CK25: =IF(AND($C25<>0,R25=""),1,IF(R25>$C25,1,0)) -> 0 | CL25: =IF(AND($C25<>0,S25=""),1,IF(S25>$C25,1,0)) -> 0
B26: Normal (desde riesgo) | C26: =SUM(D26+E26) -> 0 | D26: =SUM(F26+H26+J26+L26+N26+P26) -> 0 | E26: =SUM(G26+I26+K26+M26+O26+Q26) -> 0 | T26: =$CA26&CB26 | CA26: =IF(AND($C26<>0,R26=""),"* No olvide ingresar la variable "&R$17&""&". Digite CERO si no tiene. ",IF(R26>$C26,"* La variable Pueblos Originarios no debe ser mayor al Total Ambos Sexos. ","")) | CB26: =IF(AND($C26<>0,S26=""),"* No olvide ingresar la variable "&S$17&""&". Digite CERO si no tiene. ",IF(S26>$C26,"* La variable Migrantes no debe ser mayor al Total Ambos Sexos. ","")) | CK26: =IF(AND($C26<>0,R26=""),1,IF(R26>$C26,1,0)) -> 0 | CL26: =IF(AND($C26<>0,S26=""),1,IF(S26>$C26,1,0)) -> 0
B27: Normal (desde retraso) | C27: =SUM(D27+E27) -> 0 | D27: =SUM(F27+H27+J27+L27+N27+P27) -> 0 | E27: =SUM(G27+I27+K27+M27+O27+Q27) -> 0 | T27: =$CA27&CB27 | CA27: =IF(AND($C27<>0,R27=""),"* No olvide ingresar la variable "&R$17&""&". Digite CERO si no tiene. ",IF(R27>$C27,"* La variable Pueblos Originarios no debe ser mayor al Total Ambos Sexos. ","")) | CB27: =IF(AND($C27<>0,S27=""),"* No olvide ingresar la variable "&S$17&""&". Digite CERO si no tiene. ",IF(S27>$C27,"* La variable Migrantes no debe ser mayor al Total Ambos Sexos. ","")) | CK27: =IF(AND($C27<>0,R27=""),1,IF(R27>$C27,1,0)) -> 0 | CL27: =IF(AND($C27<>0,S27=""),1,IF(S27>$C27,1,0)) -> 0
B28: Normal Rezago (desde riesgo) | C28: =SUM(D28+E28) -> 0 | D28: =SUM(F28+H28+J28+L28+N28+P28) -> 0 | E28: =SUM(G28+I28+K28+M28+O28+Q28) -> 0 | T28: =$CA28&CB28 | CA28: =IF(AND($C28<>0,R28=""),"* No olvide ingresar la variable "&R$17&""&". Digite CERO si no tiene. ",IF(R28>$C28,"* La variable Pueblos Originarios no debe ser mayor al Total Ambos Sexos. ","")) | CB28: =IF(AND($C28<>0,S28=""),"* No olvide ingresar la variable "&S$17&""&". Digite CERO si no tiene. ",IF(S28>$C28,"* La variable Migrantes no debe ser mayor al Total Ambos Sexos. ","")) | CK28: =IF(AND($C28<>0,R28=""),1,IF(R28>$C28,1,0)) -> 0 | CL28: =IF(AND($C28<>0,S28=""),1,IF(S28>$C28,1,0)) -> 0
B29: Normal con Rezago (desde retraso) | C29: =SUM(D29+E29) -> 0 | D29: =SUM(F29+H29+J29+L29+N29+P29) -> 0 | E29: =SUM(G29+I29+K29+M29+O29+Q29) -> 0 | T29: =$CA29&CB29 | CA29: =IF(AND($C29<>0,R29=""),"* No olvide ingresar la variable "&R$17&""&". Digite CERO si no tiene. ",IF(R29>$C29,"* La variable Pueblos Originarios no debe ser mayor al Total Ambos Sexos. ","")) | CB29: =IF(AND($C29<>0,S29=""),"* No olvide ingresar la variable "&S$17&""&". Digite CERO si no tiene. ",IF(S29>$C29,"* La variable Migrantes no debe ser mayor al Total Ambos Sexos. ","")) | CK29: =IF(AND($C29<>0,R29=""),1,IF(R29>$C29,1,0)) -> 0 | CL29: =IF(AND($C29<>0,S29=""),1,IF(S29>$C29,1,0)) -> 0
B30: Riesgo (desde retraso) | C30: =SUM(D30:E30) -> 0 | D30: =SUM(F30+H30+J30+L30+N30+P30) -> 0 | E30: =SUM(G30+I30+K30+M30+O30+Q30) -> 0 | T30: =$CA30&CB30 | CA30: =IF(AND($C30<>0,R30=""),"* No olvide ingresar la variable "&R$17&""&". Digite CERO si no tiene. ",IF(R30>$C30,"* La variable Pueblos Originarios no debe ser mayor al Total Ambos Sexos. ","")) | CB30: =IF(AND($C30<>0,S30=""),"* No olvide ingresar la variable "&S$17&""&". Digite CERO si no tiene. ",IF(S30>$C30,"* La variable Migrantes no debe ser mayor al Total Ambos Sexos. ","")) | CK30: =IF(AND($C30<>0,R30=""),1,IF(R30>$C30,1,0)) -> 0 | CL30: =IF(AND($C30<>0,S30=""),1,IF(S30>$C30,1,0)) -> 0
B31: Normal con Rezago (desde normal con rezago) | C31: =SUM(D31:E31) -> 0 | D31: =SUM(F31+H31+J31+L31+N31+P31) -> 0 | E31: =SUM(G31+I31+K31+M31+O31+Q31) -> 0 | T31: =$CA31&CB31 | CA31: =IF(AND($C31<>0,R31=""),"* No olvide ingresar la variable "&R$17&""&". Digite CERO si no tiene. ",IF(R31>$C31,"* La variable Pueblos Originarios no debe ser mayor al Total Ambos Sexos. ","")) | CB31: =IF(AND($C31<>0,S31=""),"* No olvide ingresar la variable "&S$17&""&". Digite CERO si no tiene. ",IF(S31>$C31,"* La variable Migrantes no debe ser mayor al Total Ambos Sexos. ","")) | CK31: =IF(AND($C31<>0,R31=""),1,IF(R31>$C31,1,0)) -> 0 | CL31: =IF(AND($C31<>0,S31=""),1,IF(S31>$C31,1,0)) -> 0
B32: Riesgo (desde riesgo) | C32: =SUM(D32+E32) -> 0 | D32: =SUM(F32+H32+J32+L32+N32+P32) -> 0 | E32: =SUM(G32+I32+K32+M32+O32+Q32) -> 0 | T32: =$CA32&CB32 | CA32: =IF(AND($C32<>0,R32=""),"* No olvide ingresar la variable "&R$17&""&". Digite CERO si no tiene. ",IF(R32>$C32,"* La variable Pueblos Originarios no debe ser mayor al Total Ambos Sexos. ","")) | CB32: =IF(AND($C32<>0,S32=""),"* No olvide ingresar la variable "&S$17&""&". Digite CERO si no tiene. ",IF(S32>$C32,"* La variable Migrantes no debe ser mayor al Total Ambos Sexos. ","")) | CK32: =IF(AND($C32<>0,R32=""),1,IF(R32>$C32,1,0)) -> 0 | CL32: =IF(AND($C32<>0,S32=""),1,IF(S32>$C32,1,0)) -> 0
B33: Riesgo (desde normal con rezago) | C33: =SUM(D33+E33) -> 0 | D33: =SUM(F33+H33+J33+L33+N33+P33) -> 0 | E33: =SUM(G33+I33+K33+M33+O33+Q33) -> 0 | T33: =$CA33&CB33 | CA33: =IF(AND($C33<>0,R33=""),"* No olvide ingresar la variable "&R$17&""&". Digite CERO si no tiene. ",IF(R33>$C33,"* La variable Pueblos Originarios no debe ser mayor al Total Ambos Sexos. ","")) | CB33: =IF(AND($C33<>0,S33=""),"* No olvide ingresar la variable "&S$17&""&". Digite CERO si no tiene. ",IF(S33>$C33,"* La variable Migrantes no debe ser mayor al Total Ambos Sexos. ","")) | CK33: =IF(AND($C33<>0,R33=""),1,IF(R33>$C33,1,0)) -> 0 | CL33: =IF(AND($C33<>0,S33=""),1,IF(S33>$C33,1,0)) -> 0
B34: Retraso (desde retraso) | C34: =SUM(D34+E34) -> 0 | D34: =SUM(F34+H34+J34+L34+N34+P34) -> 0 | E34: =SUM(G34+I34+K34+M34+O34+Q34) -> 0 | T34: =$CA34&CB34 | CA34: =IF(AND($C34<>0,R34=""),"* No olvide ingresar la variable "&R$17&""&". Digite CERO si no tiene. ",IF(R34>$C34,"* La variable Pueblos Originarios no debe ser mayor al Total Ambos Sexos. ","")) | CB34: =IF(AND($C34<>0,S34=""),"* No olvide ingresar la variable "&S$17&""&". Digite CERO si no tiene. ",IF(S34>$C34,"* La variable Migrantes no debe ser mayor al Total Ambos Sexos. ","")) | CK34: =IF(AND($C34<>0,R34=""),1,IF(R34>$C34,1,0)) -> 0 | CL34: =IF(AND($C34<>0,S34=""),1,IF(S34>$C34,1,0)) -> 0
B35: Retraso (desde riesgo) | C35: =SUM(D35+E35) -> 0 | D35: =SUM(F35+H35+J35+L35+N35+P35) -> 0 | E35: =SUM(G35+I35+K35+M35+O35+Q35) -> 0 | T35: =$CA35&CB35 | CA35: =IF(AND($C35<>0,R35=""),"* No olvide ingresar la variable "&R$17&""&". Digite CERO si no tiene. ",IF(R35>$C35,"* La variable Pueblos Originarios no debe ser mayor al Total Ambos Sexos. ","")) | CB35: =IF(AND($C35<>0,S35=""),"* No olvide ingresar la variable "&S$17&""&". Digite CERO si no tiene. ",IF(S35>$C35,"* La variable Migrantes no debe ser mayor al Total Ambos Sexos. ","")) | CK35: =IF(AND($C35<>0,R35=""),1,IF(R35>$C35,1,0)) -> 0 | CL35: =IF(AND($C35<>0,S35=""),1,IF(S35>$C35,1,0)) -> 0
B36: Retraso (desde normal con rezago) | C36: =SUM(D36+E36) -> 0 | D36: =SUM(F36+H36+J36+L36+N36+P36) -> 0 | E36: =SUM(G36+I36+K36+M36+O36+Q36) -> 0 | T36: =$CA36&CB36 | CA36: =IF(AND($C36<>0,R36=""),"* No olvide ingresar la variable "&R$17&""&". Digite CERO si no tiene. ",IF(R36>$C36,"* La variable Pueblos Originarios no debe ser mayor al Total Ambos Sexos. ","")) | CB36: =IF(AND($C36<>0,S36=""),"* No olvide ingresar la variable "&S$17&""&". Digite CERO si no tiene. ",IF(S36>$C36,"* La variable Migrantes no debe ser mayor al Total Ambos Sexos. ","")) | CK36: =IF(AND($C36<>0,R36=""),1,IF(R36>$C36,1,0)) -> 0 | CL36: =IF(AND($C36<>0,S36=""),1,IF(S36>$C36,1,0)) -> 0
A37: Derivados a Especialidad | B37: Riesgo | C37: =SUM(D37+E37) -> 0 | D37: =SUM(F37+H37+J37+L37+N37+P37) -> 0 | E37: =SUM(G37+I37+K37+M37+O37+Q37) -> 0 | T37: =$CA37&CB37 | CA37: =IF(AND($C37<>0,R37=""),"* No olvide ingresar la variable "&R$17&""&". Digite CERO si no tiene. ",IF(R37>$C37,"* La variable Pueblos Originarios no debe ser mayor al Total Ambos Sexos. ","")) | CB37: =IF(AND($C37<>0,S37=""),"* No olvide ingresar la variable "&S$17&""&". Digite CERO si no tiene. ",IF(S37>$C37,"* La variable Migrantes no debe ser mayor al Total Ambos Sexos. ","")) | CK37: =IF(AND($C37<>0,R37=""),1,IF(R37>$C37,1,0)) -> 0 | CL37: =IF(AND($C37<>0,S37=""),1,IF(S37>$C37,1,0)) -> 0
B38: Retraso | C38: =SUM(D38+E38) -> 0 | D38: =SUM(F38+H38+J38+L38+N38+P38) -> 0 | E38: =SUM(G38+I38+K38+M38+O38+Q38) -> 0 | T38: =$CA38&CB38 | CA38: =IF(AND($C38<>0,R38=""),"* No olvide ingresar la variable "&R$17&""&". Digite CERO si no tiene. ",IF(R38>$C38,"* La variable Pueblos Originarios no debe ser mayor al Total Ambos Sexos. ","")) | CB38: =IF(AND($C38<>0,S38=""),"* No olvide ingresar la variable "&S$17&""&". Digite CERO si no tiene. ",IF(S38>$C38,"* La variable Migrantes no debe ser mayor al Total Ambos Sexos. ","")) | CK38: =IF(AND($C38<>0,R38=""),1,IF(R38>$C38,1,0)) -> 0 | CL38: =IF(AND($C38<>0,S38=""),1,IF(S38>$C38,1,0)) -> 0
A39: Traslado de Establecimiento | B39: Normal con Rezago | C39: =SUM(D39+E39) -> 0 | D39: =SUM(F39+H39+J39+L39+N39+P39) -> 0 | E39: =SUM(G39+I39+K39+M39+O39+Q39) -> 0 | T39: =$CA39&CB39 | CA39: =IF(AND($C39<>0,R39=""),"* No olvide ingresar la variable "&R$17&""&". Digite CERO si no tiene. ",IF(R39>$C39,"* La variable Pueblos Originarios no debe ser mayor al Total Ambos Sexos. ","")) | CB39: =IF(AND($C39<>0,S39=""),"* No olvide ingresar la variable "&S$17&""&". Digite CERO si no tiene. ",IF(S39>$C39,"* La variable Migrantes no debe ser mayor al Total Ambos Sexos. ","")) | CK39: =IF(AND($C39<>0,R39=""),1,IF(R39>$C39,1,0)) -> 0 | CL39: =IF(AND($C39<>0,S39=""),1,IF(S39>$C39,1,0)) -> 0
B40: Riesgo | C40: =SUM(D40+E40) -> 0 | D40: =SUM(F40+H40+J40+L40+N40+P40) -> 0 | E40: =SUM(G40+I40+K40+M40+O40+Q40) -> 0 | T40: =$CA40&CB40 | CA40: =IF(AND($C40<>0,R40=""),"* No olvide ingresar la variable "&R$17&""&". Digite CERO si no tiene. ",IF(R40>$C40,"* La variable Pueblos Originarios no debe ser mayor al Total Ambos Sexos. ","")) | CB40: =IF(AND($C40<>0,S40=""),"* No olvide ingresar la variable "&S$17&""&". Digite CERO si no tiene. ",IF(S40>$C40,"* La variable Migrantes no debe ser mayor al Total Ambos Sexos. ","")) | CK40: =IF(AND($C40<>0,R40=""),1,IF(R40>$C40,1,0)) -> 0 | CL40: =IF(AND($C40<>0,S40=""),1,IF(S40>$C40,1,0)) -> 0
B41: Retraso | C41: =SUM(D41+E41) -> 0 | D41: =SUM(F41+H41+J41+L41+N41+P41) -> 0 | E41: =SUM(G41+I41+K41+M41+O41+Q41) -> 0 | T41: =$CA41&CB41 | CA41: =IF(AND($C41<>0,R41=""),"* No olvide ingresar la variable "&R$17&""&". Digite CERO si no tiene. ",IF(R41>$C41,"* La variable Pueblos Originarios no debe ser mayor al Total Ambos Sexos. ","")) | CB41: =IF(AND($C41<>0,S41=""),"* No olvide ingresar la variable "&S$17&""&". Digite CERO si no tiene. ",IF(S41>$C41,"* La variable Migrantes no debe ser mayor al Total Ambos Sexos. ","")) | CK41: =IF(AND($C41<>0,R41=""),1,IF(R41>$C41,1,0)) -> 0 | CL41: =IF(AND($C41<>0,S41=""),1,IF(S41>$C41,1,0)) -> 0
A42: SECCIÓN A.3: NIÑOS Y NIÑAS CON REZAGO, DÉFICIT O RIESGO BIOPSICOSOCIAL DERIVADOS A ALGUNA MODALIDAD DE ESTIMULACIÓN EN LA PRIMERA EVALUACIÓN
A43: NIÑO / A | B43: TOTAL | E43: RANGO ETARIO Y SEXO | Q43: Pueblos Originarios | R43: Migrantes
E44: Menos de 7 meses | G44: 7 - 11 meses | I44: 12 - 17 meses | K44: 18 - 23 meses | M44: 24 - 47 meses | O44: 48 - 59 meses
B45: Ambos Sexos | C45: Hombres | D45: Mujeres | E45: Hombres | F45: Mujeres | G45: Hombres | H45: Mujeres | I45: Hombres | J45: Mujeres | K45: Hombres | L45: Mujeres | M45: Hombres | N45: Mujeres | O45: Hombres | P45: Mujeres
A46: Normal con Rezago | B46: =SUM(C46+D46) -> 0 | C46: =SUM(E46+G46+I46+K46+M46+O46) -> 0 | D46: =SUM(F46+H46+J46+L46+N46+P46) -> 0 | S46: =$CA46&CB46 | CA46: =IF(AND($B46<>0,Q46=""),"* No olvide ingresar la variable "&Q$43&""&". Digite CERO si no tiene. ",IF(Q46>$B46,"* La variable Pueblos Originarios no debe ser mayor al Total Ambos Sexos. ","")) | CB46: =IF(AND($B46<>0,R46=""),"* No olvide ingresar la variable "&R$43&""&" (Digite CERO si no tiene). ",IF(R46>$B46,"* La variable Migrantes no debe ser mayor al Total Ambos Sexos. ","")) | CK46: =IF(AND($B46<>0,Q46=""),1,IF(Q46>$B46,1,0)) -> 0 | CL46: =IF(AND($B46<>0,R46=""),1,IF(R46>$B46,1,0)) -> 0
A47: Riesgo | B47: =SUM(C47+D47) -> 0 | C47: =SUM(E47+G47+I47+K47+M47+O47) -> 0 | D47: =SUM(F47+H47+J47+L47+N47+P47) -> 0 | S47: =$CA47&CB47 | CA47: =IF(AND($B47<>0,Q47=""),"* No olvide ingresar la variable "&Q$43&""&". Digite CERO si no tiene. ",IF(Q47>$B47,"* La variable Pueblos Originarios no debe ser mayor al Total Ambos Sexos. ","")) | CB47: =IF(AND($B47<>0,R47=""),"* No olvide ingresar la variable "&R$43&""&" (Digite CERO si no tiene). ",IF(R47>$B47,"* La variable Migrantes no debe ser mayor al Total Ambos Sexos. ","")) | CK47: =IF(AND($B47<>0,Q47=""),1,IF(Q47>$B47,1,0)) -> 0 | CL47: =IF(AND($B47<>0,R47=""),1,IF(R47>$B47,1,0)) -> 0
A48: Retraso | B48: =SUM(C48+D48) -> 0 | C48: =SUM(E48+G48+I48+K48+M48+O48) -> 0 | D48: =SUM(F48+H48+J48+L48+N48+P48) -> 0 | S48: =$CA48&CB48 | CA48: =IF(AND($B48<>0,Q48=""),"* No olvide ingresar la variable "&Q$43&""&". Digite CERO si no tiene. ",IF(Q48>$B48,"* La variable Pueblos Originarios no debe ser mayor al Total Ambos Sexos. ","")) | CB48: =IF(AND($B48<>0,R48=""),"* No olvide ingresar la variable "&R$43&""&" (Digite CERO si no tiene). ",IF(R48>$B48,"* La variable Migrantes no debe ser mayor al Total Ambos Sexos. ","")) | CK48: =IF(AND($B48<>0,Q48=""),1,IF(Q48>$B48,1,0)) -> 0 | CL48: =IF(AND($B48<>0,R48=""),1,IF(R48>$B48,1,0)) -> 0
A49: Normal con Riesgo Biopsicosocial | B49: =SUM(C49:D49) -> 0 | C49: =SUM(E49+G49+I49+K49+M49+O49) -> 0 | D49: =SUM(F49+H49+J49+L49+N49+P49) -> 0 | S49: =$CA49&CB49 | CA49: =IF(AND($B49<>0,Q49=""),"* No olvide ingresar la variable "&Q$43&""&". Digite CERO si no tiene. ",IF(Q49>$B49,"* La variable Pueblos Originarios no debe ser mayor al Total Ambos Sexos. ","")) | CB49: =IF(AND($B49<>0,R49=""),"* No olvide ingresar la variable "&R$43&""&" (Digite CERO si no tiene). ",IF(R49>$B49,"* La variable Migrantes no debe ser mayor al Total Ambos Sexos. ","")) | CK49: =IF(AND($B49<>0,Q49=""),1,IF(Q49>$B49,1,0)) -> 0 | CL49: =IF(AND($B49<>0,R49=""),1,IF(R49>$B49,1,0)) -> 0
A50: SECCIÓN A.4: RESULTADOS DE LA APLICACIÓN DE PROTOCOLO NEUROSENSORIAL
A51: RESULTADOS | B51: TOTAL | E51: RANGO ETARIO Y SEXO | I51: Pueblos Originarios | J51: Migrantes
E52: 1 mes | G52: 2 meses
B53: Ambos Sexos | C53: Hombres | D53: Mujeres | E53: Hombres | F53: Mujeres | G53: Hombres | H53: Mujeres
A54: Aplicación de Protocolo Neurosensorial (1-2 meses) | B54: =SUM(C54+D54) -> 0 | C54: =SUM(E54+G54) -> 0 | D54: =SUM(F54+H54) -> 0 | E54: =SUM(E55:E57) -> 0 | F54: =SUM(F55:F57) -> 0 | G54: =SUM(G55:G57) -> 0 | H54: =SUM(H55:H57) -> 0 | I54: =SUM(I55:I57) -> 0 | J54: =SUM(J55:J57) -> 0
A55: Normal | B55: =SUM(C55+D55) -> 0 | C55: =SUM(E55+G55) -> 0 | D55: =SUM(F55+H55) -> 0 | K55: =$CA55&CB55 | CA55: =IF(AND($B55<>0,I55=""),"* No olvide ingresar la variable "&I$51&""&". Digite CERO si no tiene. ",IF(I55>$B55,"* La variable Pueblos Originarios no debe ser mayor al Total Ambos Sexos. ","")) | CB55: =IF(AND($B55<>0,J55=""),"* No olvide ingresar la variable "&J$51&""&" (Digite CERO si no tiene). ",IF(J55>$B55,"* La variable Migrantes no debe ser mayor al Total Ambos Sexos. ","")) | CK55: =IF(AND($B55<>0,I55=""),1,IF(I55>$B55,1,0)) -> 0 | CL55: =IF(AND($B55<>0,J55=""),1,IF(J55>$B55,1,0)) -> 0
A56: Anormal | B56: =SUM(C56+D56) -> 0 | C56: =SUM(E56+G56) -> 0 | D56: =SUM(F56+H56) -> 0 | K56: =$CA56&CB56 | CA56: =IF(AND($B56<>0,I56=""),"* No olvide ingresar la variable "&I$51&""&". Digite CERO si no tiene. ",IF(I56>$B56,"* La variable Pueblos Originarios no debe ser mayor al Total Ambos Sexos. ","")) | CB56: =IF(AND($B56<>0,J56=""),"* No olvide ingresar la variable "&J$51&""&" (Digite CERO si no tiene). ",IF(J56>$B56,"* La variable Migrantes no debe ser mayor al Total Ambos Sexos. ","")) | CK56: =IF(AND($B56<>0,I56=""),1,IF(I56>$B56,1,0)) -> 0 | CL56: =IF(AND($B56<>0,J56=""),1,IF(J56>$B56,1,0)) -> 0
A57: Muy Anormal | B57: =SUM(C57+D57) -> 0 | C57: =SUM(E57+G57) -> 0 | D57: =SUM(F57+H57) -> 0 | K57: =$CA57&CB57 | CA57: =IF(AND($B57<>0,I57=""),"* No olvide ingresar la variable "&I$51&""&". Digite CERO si no tiene. ",IF(I57>$B57,"* La variable Pueblos Originarios no debe ser mayor al Total Ambos Sexos. ","")) | CB57: =IF(AND($B57<>0,J57=""),"* No olvide ingresar la variable "&J$51&""&" (Digite CERO si no tiene). ",IF(J57>$B57,"* La variable Migrantes no debe ser mayor al Total Ambos Sexos. ","")) | CK57: =IF(AND($B57<>0,I57=""),1,IF(I57>$B57,1,0)) -> 0 | CL57: =IF(AND($B57<>0,J57=""),1,IF(J57>$B57,1,0)) -> 0
A58: SECCIÓN A.5: TIPO DE ALIMENTACIÓN NIÑOS Y NIÑAS CONTROLADOS
A59: TIPO DE ALIMENTACIÓN | C59: TOTAL | D59: SEGÚN CONTROL PROGRAMÁTICO | K59: Pueblos Originarios | L59: Migrantes
D60: Diada hasta 10 días de vida | E60: Diada entre 11 y 28 días de vida | F60: Del 1° mes | G60: Del 3° mes | H60: Del 6° mes | I60: Del 12° mes | J60: Del 24° mes
A61: Lactancia Materna exclusiva (LME) | C61: =SUM(D61:H61) -> 0 | M61: =$CA61&CB61 | CA61: =IF(AND($C61<>0,K61=""),"* No olvide ingresar la variable "&K$59&""&". Digite CERO si no tiene. ",IF(K61>$C61,"* La variable Pueblos Originarios no debe ser mayor al Total. ","")) | CB61: =IF(AND($C61<>0,L61=""),"* No olvide ingresar la variable "&L$59&""&". Digite CERO si no tiene. ",IF(L61>$C61,"* La variable Migrantes no debe ser mayor al Total. ","")) | CK61: =IF(AND($C61<>0,K61=""),1,IF(K61>$C61,1,0)) -> 0 | CL61: =IF(AND($C61<>0,L61=""),1,IF(L61>$C61,1,0)) -> 0
A62: Lactancia Materna más Formula Láctea (LM/FL) | C62: =SUM(D62:H62) -> 0 | M62: =$CA62&CB62 | CA62: =IF(AND($C62<>0,K62=""),"* No olvide ingresar la variable "&K$59&""&". Digite CERO si no tiene. ",IF(K62>$C62,"* La variable Pueblos Originarios no debe ser mayor al Total. ","")) | CB62: =IF(AND($C62<>0,L62=""),"* No olvide ingresar la variable "&L$59&""&". Digite CERO si no tiene. ",IF(L62>$C62,"* La variable Migrantes no debe ser mayor al Total. ","")) | CK62: =IF(AND($C62<>0,K62=""),1,IF(K62>$C62,1,0)) -> 0 | CL62: =IF(AND($C62<>0,L62=""),1,IF(L62>$C62,1,0)) -> 0
A63: Formula Láctea (FL) | C63: =SUM(D63:H63) -> 0 | M63: =$CA63&CB63 | CA63: =IF(AND($C63<>0,K63=""),"* No olvide ingresar la variable "&K$59&""&". Digite CERO si no tiene. ",IF(K63>$C63,"* La variable Pueblos Originarios no debe ser mayor al Total. ","")) | CB63: =IF(AND($C63<>0,L63=""),"* No olvide ingresar la variable "&L$59&""&". Digite CERO si no tiene. ",IF(L63>$C63,"* La variable Migrantes no debe ser mayor al Total. ","")) | CK63: =IF(AND($C63<>0,K63=""),1,IF(K63>$C63,1,0)) -> 0 | CL63: =IF(AND($C63<>0,L63=""),1,IF(L63>$C63,1,0)) -> 0
A64: Lactancia Materna más Alimentación Complementaria (LM/AC) | C64: =SUM(H64:J64) -> 0 | M64: =$CA64&CB64 | CA64: =IF(AND($C64<>0,K64=""),"* No olvide ingresar la variable "&K$59&""&". Digite CERO si no tiene. ",IF(K64>$C64,"* La variable Pueblos Originarios no debe ser mayor al Total. ","")) | CB64: =IF(AND($C64<>0,L64=""),"* No olvide ingresar la variable "&L$59&""&". Digite CERO si no tiene. ",IF(L64>$C64,"* La variable Migrantes no debe ser mayor al Total. ","")) | CK64: =IF(AND($C64<>0,K64=""),1,IF(K64>$C64,1,0)) -> 0 | CL64: =IF(AND($C64<>0,L64=""),1,IF(L64>$C64,1,0)) -> 0
A65: Lactancia Materna más Fórmula Láctea más Alimentación Complementaria (LM/FL/AC) | C65: =SUM(H65:J65) -> 0 | M65: =$CA65&CB65 | CA65: =IF(AND($C65<>0,K65=""),"* No olvide ingresar la variable "&K$59&""&". Digite CERO si no tiene. ",IF(K65>$C65,"* La variable Pueblos Originarios no debe ser mayor al Total. ","")) | CB65: =IF(AND($C65<>0,L65=""),"* No olvide ingresar la variable "&L$59&""&". Digite CERO si no tiene. ",IF(L65>$C65,"* La variable Migrantes no debe ser mayor al Total. ","")) | CK65: =IF(AND($C65<>0,K65=""),1,IF(K65>$C65,1,0)) -> 0 | CL65: =IF(AND($C65<>0,L65=""),1,IF(L65>$C65,1,0)) -> 0
A66: Fórmula Láctea más Alimentación Complementaria (FL/AC) | C66: =SUM(H66:J66) -> 0 | M66: =$CA66&CB66 | CA66: =IF(AND($C66<>0,K66=""),"* No olvide ingresar la variable "&K$59&""&". Digite CERO si no tiene. ",IF(K66>$C66,"* La variable Pueblos Originarios no debe ser mayor al Total. ","")) | CB66: =IF(AND($C66<>0,L66=""),"* No olvide ingresar la variable "&L$59&""&". Digite CERO si no tiene. ",IF(L66>$C66,"* La variable Migrantes no debe ser mayor al Total. ","")) | CK66: =IF(AND($C66<>0,K66=""),1,IF(K66>$C66,1,0)) -> 0 | CL66: =IF(AND($C66<>0,L66=""),1,IF(L66>$C66,1,0)) -> 0
A67: Total de niños y niñas controlados | C67: =SUM(D67:J67) -> 0 | M67: =$CA67&CB67 | CA67: =IF(AND($C67<>0,K67=""),"* No olvide ingresar la variable "&K$59&""&". Digite CERO si no tiene. ",IF(K67>$C67,"* La variable Pueblos Originarios no debe ser mayor al Total. ","")) | CB67: =IF(AND($C67<>0,L67=""),"* No olvide ingresar la variable "&L$59&""&". Digite CERO si no tiene. ",IF(L67>$C67,"* La variable Migrantes no debe ser mayor al Total. ","")) | CK67: =IF(AND($C67<>0,K67=""),1,IF(K67>$C67,1,0)) -> 0 | CL67: =IF(AND($C67<>0,L67=""),1,IF(L67>$C67,1,0)) -> 0
A68: SECCIÓN A.6: RESULTADOS RADIOGRAFÍA DE PELVIS (CADERA)
A69: RESULTADO | B69: TOTAL | E69: RANGO ETARIO Y SEXO | I69: Pueblos Originarios | J69: Migrantes
E70: 3 meses | G70: 4 meses
B71: Ambos Sexos | C71: Hombres | D71: Mujeres | E71: Hombres | F71: Mujeres | G71: Hombres | H71: Mujeres
A72: Normal | B72: =SUM(C72:D72) -> 0 | C72: =+E72+G72 -> 0 | D72: =+F72+H72 -> 0 | K72: =$CA72&CB72 | CA72: =IF(AND($B72<>0,I72=""),"* No olvide ingresar la variable "&I$51&""&". Digite CERO si no tiene. ",IF(I72>$B72,"* La variable Pueblos Originarios no debe ser mayor al Total Ambos Sexos. ","")) | CB72: =IF(AND($B72<>0,J72=""),"* No olvide ingresar la variable "&J$51&""&" (Digite CERO si no tiene). ",IF(J72>$B72,"* La variable Migrantes no debe ser mayor al Total Ambos Sexos. ","")) | CK72: =IF(AND($B72<>0,I72=""),1,IF(I72>$B72,1,0)) -> 0 | CL72: =IF(AND($B72<>0,J72=""),1,IF(J72>$B72,1,0)) -> 0
A73: Anormal | B73: =SUM(C73:D73) -> 0 | C73: =+E73+G73 -> 0 | D73: =+F73+H73 -> 0 | K73: =$CA73&CB73 | CA73: =IF(AND($B73<>0,I73=""),"* No olvide ingresar la variable "&I$51&""&". Digite CERO si no tiene. ",IF(I73>$B73,"* La variable Pueblos Originarios no debe ser mayor al Total Ambos Sexos. ","")) | CB73: =IF(AND($B73<>0,J73=""),"* No olvide ingresar la variable "&J$51&""&" (Digite CERO si no tiene). ",IF(J73>$B73,"* La variable Migrantes no debe ser mayor al Total Ambos Sexos. ","")) | CK73: =IF(AND($B73<>0,I73=""),1,IF(I73>$B73,1,0)) -> 0 | CL73: =IF(AND($B73<>0,J73=""),1,IF(J73>$B73,1,0)) -> 0
A74: Inmadura | B74: =SUM(C74:D74) -> 0 | C74: =+E74+G74 -> 0 | D74: =+F74+H74 -> 0 | K74: =$CA74&CB74 | CA74: =IF(AND($B74<>0,I74=""),"* No olvide ingresar la variable "&I$51&""&". Digite CERO si no tiene. ",IF(I74>$B74,"* La variable Pueblos Originarios no debe ser mayor al Total Ambos Sexos. ","")) | CB74: =IF(AND($B74<>0,J74=""),"* No olvide ingresar la variable "&J$51&""&" (Digite CERO si no tiene). ",IF(J74>$B74,"* La variable Migrantes no debe ser mayor al Total Ambos Sexos. ","")) | CK74: =IF(AND($B74<>0,I74=""),1,IF(I74>$B74,1,0)) -> 0 | CL74: =IF(AND($B74<>0,J74=""),1,IF(J74>$B74,1,0)) -> 0
A75: SECCION B: EVALUACIÓN, APLICACIÓN Y RESULTADOS DE ESCALAS EN LA MUJER
A76: SECCIÓN B.1: EVALUACIÓN DEL ESTADO NUTRICIONAL A PERSONAS CONTROLADAS AL OCTAVO MES POST PARTO
A77: ESTADO NUTRICIONAL | B77: TOTAL
B79: =SUM(B80:B83) -> 0
A80: Obesa
A81: Sobrepeso
A82: Normal
A83: Bajo peso
A84: SECCIÓN B.2: APLICACIÓN DE ESCALA SEGÚN EVALUACIÓN DE RIESGO PSICOSOCIAL ABREVIADA A GESTANTES
A85: TIPO | B85: Total de Aplicaciones | C85: Con riesgo psicosocial | D85: Violencia de Género | E85: 3 o más riesgos psicosociales | F85: Plan de equipo de cabecera en gestantes con 3 o más riesgos psicosociales
A86: Evaluación al ingreso | G86: =$CA86&CB86&CC86&CD86&CE86 | CA86: =IF(CK86=1,"* Las Aplicaciones de EPSA con resultado de Riesgo psicosocial NO DEBE ser MAYOR que el Total de las Aplicaciones. ","") | CB86: =IF(CL86=1,"* Las Aplicaciones de EPSA con resultado de Riesgo psicosocial NO DEBE ser MENOR que la variable Plan de equipo de cabecera en gestantes con 3 o más riesgos psicosociales. ","") | CC86: =IF(CM86=1,"* Las Aplicaciones de EPSA asociadas a Violencia de Género NO DEBEN ser MAYOR al Total de Aplicaciones. ","") | CD86: =IF(CN86=1,"* Las Aplicaciones de EPSA asociadas a 3 o más riesgos psicosociales NO DEBEN ser MAYOR al Total de Aplicaciones. ","") | CE86: =IF(CO86=1,"* La variable Plan de equipo de cabecera en gestantes con 3 o más riesgos psicosociales NO DEBE ser MAYOR al Total de Aplicaciones. ","") | CK86: =IF(B86<C86,1,0) -> 0 | CL86: =IF(C86<F86,1,0) -> 0 | CM86: =IF(D86>$B86,1,0) -> 0 | CN86: =IF(E86>$B86,1,0) -> 0 | CO86: =IF(F86>$B86,1,0) -> 0
A87: Evaluación al tercer trimestre | G87: =$CA87&CB87&CC87&CD87&CE87 | CA87: =IF(CK87=1,"* Las Aplicaciones de EPSA con resultado de Riesgo psicosocial NO DEBE ser MAYOR que el Total de las Aplicaciones. ","") | CB87: =IF(CL87=1,"* Las Aplicaciones de EPSA con resultado de Riesgo psicosocial NO DEBE ser MENOR que la variable Plan de equipo de cabecera en gestantes con 3 o más riesgos psicosociales. ","") | CC87: =IF(CM87=1,"* Las Aplicaciones de EPSA asociadas a Violencia de Género NO DEBEN ser MAYOR al Total de Aplicaciones. ","") | CD87: =IF(CN87=1,"* Las Aplicaciones de EPSA asociadas a 3 o más riesgos psicosociales NO DEBEN ser MAYOR al Total de Aplicaciones. ","") | CE87: =IF(CO87=1,"* La variable Plan de equipo de cabecera en gestantes con 3 o más riesgos psicosociales NO DEBE ser MAYOR al Total de Aplicaciones. ","") | CK87: =IF(B87<C87,1,0) -> 0 | CL87: =IF(C87<F87,1,0) -> 0 | CM87: =IF(D87>$B87,1,0) -> 0 | CN87: =IF(E87>$B87,1,0) -> 0 | CO87: =IF(F87>$B87,1,0) -> 0
A88: SECCIÓN B.3: APLICACIÓN DE ESCALA DE EDIMBURGO A GESTANTES Y MUJERES POST PARTO
A89: CONCEPTO | C89: Total de Aplicaciones | D89: Resultados 10 o más puntos (Puérperas) | E89: Resultado distinto de 0 en pregunta 10 (Puérperas) | F89: Resultados 13 o más puntos (Gestantes) | G89: Resultado distinto de 0 en pregunta 10 (Gestantes) | H89: Casos alterados derivados a Salud Mental
A90: Evaluación a Gestantes | B90: Primera evaluación (2º control prenatal) | I90: =$CA90 | CA90: =IF(AND($C90<>0,H90=""),"* No olvide ingresar la variable "&H$89&""&". Digite CERO si no tiene. ",IF(H90>$C90,"* La variable Casos alterados derivados a Salud Mental no debe ser mayor al Total de Aplicaciones. ","")) | CK90: =IF(AND($C90<>0,H90=""),1,IF(H90>$C90,1,0)) -> 0
B91: Reevaluación (con puntaje elevado en la primera evaluación) | I91: =$CA91 | CA91: =IF(AND($C91<>0,H91=""),"* No olvide ingresar la variable "&H$89&""&". Digite CERO si no tiene. ",IF(H91>$C91,"* La variable Casos alterados derivados a Salud Mental no debe ser mayor al Total de Aplicaciones. ","")) | CK91: =IF(AND($C91<>0,H91=""),1,IF(H91>$C91,1,0)) -> 0
A92: Evaluación a mujeres/personas post parto síntomas de depresión | B92: A los 2 meses | I92: =$CA92 | CA92: =IF(AND($C92<>0,H92=""),"* No olvide ingresar la variable "&H$89&""&". Digite CERO si no tiene. ",IF(H92>$C92,"* La variable Casos alterados derivados a Salud Mental no debe ser mayor al Total de Aplicaciones. ","")) | CK92: =IF(AND($C92<>0,H92=""),1,IF(H92>$C92,1,0)) -> 0
B93: A los 6 meses | I93: =$CA93 | CA93: =IF(AND($C93<>0,H93=""),"* No olvide ingresar la variable "&H$89&""&". Digite CERO si no tiene. ",IF(H93>$C93,"* La variable Casos alterados derivados a Salud Mental no debe ser mayor al Total de Aplicaciones. ","")) | CK93: =IF(AND($C93<>0,H93=""),1,IF(H93>$C93,1,0)) -> 0
A94: SECCIÓN C: RESULTADOS DE LA EVALUACIÓN DEL ESTADO NUTRICIONAL DEL ADOLESCENTE CON CONTROL SALUD INTEGRAL
A95: ESTADO NUTRICIONAL | C95: TOTAL | F95: 10 - 14 años | H95: 15 - 19 años
C96: Ambos Sexos | D96: Hombres | E96: Mujeres | F96: Hombres | G96: Mujeres | H96: Hombres | I96: Mujeres
A97: TOTAL | C97: =SUM(C98:C102) -> 0 | D97: =SUM(D98:D102) -> 0 | E97: =SUM(E98:E102) -> 0 | F97: =SUM(F98:F102) -> 0 | G97: =SUM(G98:G102) -> 0 | H97: =SUM(H98:H102) -> 0 | I97: =SUM(I98:I102) -> 0
A98: Normal | C98: =SUM(D98+E98) -> 0 | D98: =SUM(F98+H98) -> 0 | E98: =SUM(G98+I98) -> 0
A99: Bajo peso | C99: =SUM(D99+E99) -> 0 | D99: =SUM(F99+H99) -> 0 | E99: =SUM(G99+I99) -> 0
A100: Sobrepeso | C100: =SUM(D100+E100) -> 0 | D100: =SUM(F100+H100) -> 0 | E100: =SUM(G100+I100) -> 0
A101: Obesos | C101: =SUM(D101+E101) -> 0 | D101: =SUM(F101+H101) -> 0 | E101: =SUM(G101+I101) -> 0
A102: Obesos severos | C102: =SUM(D102+E102) -> 0 | D102: =SUM(F102+H102) -> 0 | E102: =SUM(G102+I102) -> 0
...

Sheet ABRIL
A1: SERVICIO DE SALUD
A2: =CONCATENATE("COMUNA: ",[5]NOMBRE!B2, " (",[5]NOMBRE!C2,[5]NOMBRE!D2,[5]NOMBRE!E2,[5]NOMBRE!F2,[5]NOMBRE!G2,")") -> COMUNA: LINARES (07401)
A3: =CONCATENATE("ESTABLECIMIENTO/ESTRATEGIA: ", [5]NOMBRE!B3, " (",[5]NOMBRE!C3,[5]NOMBRE!D3,[5]NOMBRE!E3,[5]NOMBRE!F3,[5]NOMBRE!G3,[5]NOMBRE!H3,")") -> ESTABLECIMIENTO/ESTRATEGIA: HOSPITAL PRESIDENTE CARLOS IBAÑEZ DEL CAMPO (116108)
A4: =CONCATENATE("MES: ",[5]NOMBRE!B6, " (",[5]NOMBRE!C6,[5]NOMBRE!D6,")") -> MES: ABRIL (04)
A5: =CONCATENATE("AÑO: ",[5]NOMBRE!B7) -> AÑO: 2025
A6: REM-A03. APLICACIÓN Y RESULTADOS DE ESCALAS DE EVALUACIÓN
A8: SECCIÓN A: APLICACIÓN DE INSTRUMENTO Y RESULTADO EN EL NIÑO (A)
A9: SECCIÓN A.1: APLICACIÓN Y RESULTADOS DE PAUTA BREVE
A10: EVALUACIONES POR EDAD DEL NIÑO | C10: TOTAL | F10: RANGO ETARIO Y SEXO
F11: Menos de 1 mes | H11: 1 mes | J11: 2 meses | L11: 3 meses | N11: 4 meses | P11: 5 meses | R11: 6 meses | T11: 7 - 11 meses | V11: 12 - 17 meses | X11: 18 - 24 meses
C12: Ambos Sexos | D12: Hombres | E12: Mujeres | F12: Hombres | G12: Mujeres | H12: Hombres | I12: Mujeres | J12: Hombres | K12: Mujeres | L12: Hombres | M12: Mujeres | N12: Hombres | O12: Mujeres | P12: Hombres | Q12: Mujeres | R12: Hombres | S12: Mujeres | T12: Hombres | U12: Mujeres | V12: Hombres | W12: Mujeres | X12: Hombres | Y12: Mujeres
A13: Aplicación Pauta Breve | C13: =SUM(D13+E13) -> 0 | D13: =SUM(F13+H13+J13+L13+N13+P13+R13+T13+V13+X13) -> 0 | E13: =SUM(G13+I13+K13+M13+O13+Q13+S13+U13+W13+Y13) -> 0
A14: Resultados | B14: Normal | C14: =SUM(D14+E14) -> 0 | D14: =SUM(F14+H14+J14+L14+N14+P14+R14+T14+V14+X14) -> 0 | E14: =SUM(G14+I14+K14+M14+O14+Q14+S14+U14+W14+Y14) -> 0
B15: Alterado | C15: =SUM(D15+E15) -> 0 | D15: =SUM(F15+H15+J15+L15+N15+P15+R15+T15+V15+X15) -> 0 | E15: =SUM(G15+I15+K15+M15+O15+Q15+S15+U15+W15+Y15) -> 0
A16: SECCIÓN A.2: RESULTADOS DE LA APLICACIÓN DE ESCALA DE EVALUACIÓN DEL DESARROLLO PSICOMOTOR
A17: ACTIVIDAD | B17: RESULTADO | C17: TOTAL | F17: RANGO ETARIO Y SEXO | R17: Pueblos Originarios | S17: Migrantes
F18: Menos de 7 meses | H18: 7 - 11 meses | J18: 12 - 17 meses | L18: 18 - 23 meses | N18: 24 - 47 meses | P18: 48 - 59 meses
C19: Ambos Sexos | D19: Hombres | E19: Mujeres | F19: Hombres | G19: Mujeres | H19: Hombres | I19: Mujeres | J19: Hombres | K19: Mujeres | L19: Hombres | M19: Mujeres | N19: Hombres | O19: Mujeres | P19: Hombres | Q19: Mujeres
A20: Aplicación test de Desarrollo Psicomotor | C20: =SUM(D20+E20) -> 0 | D20: =SUM(F20+H20+J20+L20+N20+P20) -> 0 | E20: =SUM(G20+I20+K20+M20+O20+Q20) -> 0 | T20: =$CA20&CB20 | CA20: =IF(AND($C20<>0,R20=""),"* No olvide ingresar la variable "&R$17&""&". Digite CERO si no tiene. ",IF(R20>$C20,"* La variable Pueblos Originarios no debe ser mayor al Total Ambos Sexos. ","")) | CB20: =IF(AND($C20<>0,S20=""),"* No olvide ingresar la variable "&S$17&""&". Digite CERO si no tiene. ",IF(S20>$C20,"* La variable Migrantes no debe ser mayor al Total Ambos Sexos. ","")) | CK20: =IF(AND($C20<>0,R20=""),1,IF(R20>$C20,1,0)) -> 0 | CL20: =IF(AND($C20<>0,S20=""),1,IF(S20>$C20,1,0)) -> 0
A21: Primera Evaluación | B21: Normal | C21: =SUM(D21+E21) -> 0 | D21: =SUM(F21+H21+J21+L21+N21+P21) -> 0 | E21: =SUM(G21+I21+K21+M21+O21+Q21) -> 0 | T21: =$CA21&CB21 | CA21: =IF(AND($C21<>0,R21=""),"* No olvide ingresar la variable "&R$17&""&". Digite CERO si no tiene. ",IF(R21>$C21,"* La variable Pueblos Originarios no debe ser mayor al Total Ambos Sexos. ","")) | CB21: =IF(AND($C21<>0,S21=""),"* No olvide ingresar la variable "&S$17&""&". Digite CERO si no tiene. ",IF(S21>$C21,"* La variable Migrantes no debe ser mayor al Total Ambos Sexos. ","")) | CK21: =IF(AND($C21<>0,R21=""),1,IF(R21>$C21,1,0)) -> 0 | CL21: =IF(AND($C21<>0,S21=""),1,IF(S21>$C21,1,0)) -> 0
B22: Normal con Rezago | C22: =SUM(D22+E22) -> 0 | D22: =SUM(F22+H22+J22+L22+N22+P22) -> 0 | E22: =SUM(G22+I22+K22+M22+O22+Q22) -> 0 | T22: =$CA22&CB22 | CA22: =IF(AND($C22<>0,R22=""),"* No olvide ingresar la variable "&R$17&""&". Digite CERO si no tiene. ",IF(R22>$C22,"* La variable Pueblos Originarios no debe ser mayor al Total Ambos Sexos. ","")) | CB22: =IF(AND($C22<>0,S22=""),"* No olvide ingresar la variable "&S$17&""&". Digite CERO si no tiene. ",IF(S22>$C22,"* La variable Migrantes no debe ser mayor al Total Ambos Sexos. ","")) | CK22: =IF(AND($C22<>0,R22=""),1,IF(R22>$C22,1,0)) -> 0 | CL22: =IF(AND($C22<>0,S22=""),1,IF(S22>$C22,1,0)) -> 0
B23: Riesgo | C23: =SUM(D23+E23) -> 0 | D23: =SUM(F23+H23+J23+L23+N23+P23) -> 0 | E23: =SUM(G23+I23+K23+M23+O23+Q23) -> 0 | T23: =$CA23&CB23 | CA23: =IF(AND($C23<>0,R23=""),"* No olvide ingresar la variable "&R$17&""&". Digite CERO si no tiene. ",IF(R23>$C23,"* La variable Pueblos Originarios no debe ser mayor al Total Ambos Sexos. ","")) | CB23: =IF(AND($C23<>0,S23=""),"* No olvide ingresar la variable "&S$17&""&". Digite CERO si no tiene. ",IF(S23>$C23,"* La variable Migrantes no debe ser mayor al Total Ambos Sexos. ","")) | CK23: =IF(AND($C23<>0,R23=""),1,IF(R23>$C23,1,0)) -> 0 | CL23: =IF(AND($C23<>0,S23=""),1,IF(S23>$C23,1,0)) -> 0
B24: Retraso | C24: =SUM(D24+E24) -> 0 | D24: =SUM(F24+H24+J24+L24+N24+P24) -> 0 | E24: =SUM(G24+I24+K24+M24+O24+Q24) -> 0 | T24: =$CA24&CB24 | CA24: =IF(AND($C24<>0,R24=""),"* No olvide ingresar la variable "&R$17&""&". Digite CERO si no tiene. ",IF(R24>$C24,"* La variable Pueblos Originarios no debe ser mayor al Total Ambos Sexos. ","")) | CB24: =IF(AND($C24<>0,S24=""),"* No olvide ingresar la variable "&S$17&""&". Digite CERO si no tiene. ",IF(S24>$C24,"* La variable Migrantes no debe ser mayor al Total Ambos Sexos. ","")) | CK24: =IF(AND($C24<>0,R24=""),1,IF(R24>$C24,1,0)) -> 0 | CL24: =IF(AND($C24<>0,S24=""),1,IF(S24>$C24,1,0)) -> 0
A25: Reevaluación | B25: Normal (desde normal con rezago) | C25: =SUM(D25+E25) -> 0 | D25: =SUM(F25+H25+J25+L25+N25+P25) -> 0 | E25: =SUM(G25+I25+K25+M25+O25+Q25) -> 0 | T25: =$CA25&CB25 | CA25: =IF(AND($C25<>0,R25=""),"* No olvide ingresar la variable "&R$17&""&". Digite CERO si no tiene. ",IF(R25>$C25,"* La variable Pueblos Originarios no debe ser mayor al Total Ambos Sexos. ","")) | CB25: =IF(AND($C25<>0,S25=""),"* No olvide ingresar la variable "&S$17&""&". Digite CERO si no tiene. ",IF(S25>$C25,"* La variable Migrantes no debe ser mayor al Total Ambos Sexos. ","")) | CK25: =IF(AND($C25<>0,R25=""),1,IF(R25>$C25,1,0)) -> 0 | CL25: =IF(AND($C25<>0,S25=""),1,IF(S25>$C25,1,0)) -> 0
B26: Normal (desde riesgo) | C26: =SUM(D26+E26) -> 0 | D26: =SUM(F26+H26+J26+L26+N26+P26) -> 0 | E26: =SUM(G26+I26+K26+M26+O26+Q26) -> 0 | T26: =$CA26&CB26 | CA26: =IF(AND($C26<>0,R26=""),"* No olvide ingresar la variable "&R$17&""&". Digite CERO si no tiene. ",IF(R26>$C26,"* La variable Pueblos Originarios no debe ser mayor al Total Ambos Sexos. ","")) | CB26: =IF(AND($C26<>0,S26=""),"* No olvide ingresar la variable "&S$17&""&". Digite CERO si no tiene. ",IF(S26>$C26,"* La variable Migrantes no debe ser mayor al Total Ambos Sexos. ","")) | CK26: =IF(AND($C26<>0,R26=""),1,IF(R26>$C26,1,0)) -> 0 | CL26: =IF(AND($C26<>0,S26=""),1,IF(S26>$C26,1,0)) -> 0
B27: Normal (desde retraso) | C27: =SUM(D27+E27) -> 0 | D27: =SUM(F27+H27+J27+L27+N27+P27) -> 0 | E27: =SUM(G27+I27+K27+M27+O27+Q27) -> 0 | T27: =$CA27&CB27 | CA27: =IF(AND($C27<>0,R27=""),"* No olvide ingresar la variable "&R$17&""&". Digite CERO si no tiene. ",IF(R27>$C27,"* La variable Pueblos Originarios no debe ser mayor al Total Ambos Sexos. ","")) | CB27: =IF(AND($C27<>0,S27=""),"* No olvide ingresar la variable "&S$17&""&". Digite CERO si no tiene. ",IF(S27>$C27,"* La variable Migrantes no debe ser mayor al Total Ambos Sexos. ","")) | CK27: =IF(AND($C27<>0,R27=""),1,IF(R27>$C27,1,0)) -> 0 | CL27: =IF(AND($C27<>0,S27=""),1,IF(S27>$C27,1,0)) -> 0
B28: Normal Rezago (desde riesgo) | C28: =SUM(D28+E28) -> 0 | D28: =SUM(F28+H28+J28+L28+N28+P28) -> 0 | E28: =SUM(G28+I28+K28+M28+O28+Q28) -> 0 | T28: =$CA28&CB28 | CA28: =IF(AND($C28<>0,R28=""),"* No olvide ingresar la variable "&R$17&""&". Digite CERO si no tiene. ",IF(R28>$C28,"* La variable Pueblos Originarios no debe ser mayor al Total Ambos Sexos. ","")) | CB28: =IF(AND($C28<>0,S28=""),"* No olvide ingresar la variable "&S$17&""&". Digite CERO si no tiene. ",IF(S28>$C28,"* La variable Migrantes no debe ser mayor al Total Ambos Sexos. ","")) | CK28: =IF(AND($C28<>0,R28=""),1,IF(R28>$C28,1,0)) -> 0 | CL28: =IF(AND($C28<>0,S28=""),1,IF(S28>$C28,1,0)) -> 0
B29: Normal con Rezago (desde retraso) | C29: =SUM(D29+E29) -> 0 | D29: =SUM(F29+H29+J29+L29+N29+P29) -> 0 | E29: =SUM(G29+I29+K29+M29+O29+Q29) -> 0 | T29: =$CA29&CB29 | CA29: =IF(AND($C29<>0,R29=""),"* No olvide ingresar la variable "&R$17&""&". Digite CERO si no tiene. ",IF(R29>$C29,"* La variable Pueblos Originarios no debe ser mayor al Total Ambos Sexos. ","")) | CB29: =IF(AND($C29<>0,S29=""),"* No olvide ingresar la variable "&S$17&""&". Digite CERO si no tiene. ",IF(S29>$C29,"* La variable Migrantes no debe ser mayor al Total Ambos Sexos. ","")) | CK29: =IF(AND($C29<>0,R29=""),1,IF(R29>$C29,1,0)) -> 0 | CL29: =IF(AND($C29<>0,S29=""),1,IF(S29>$C29,1,0)) -> 0
B30: Riesgo (desde retraso) | C30: =SUM(D30:E30) -> 0 | D30: =SUM(F30+H30+J30+L30+N30+P30) -> 0 | E30: =SUM(G30+I30+K30+M30+O30+Q30) -> 0 | T30: =$CA30&CB30 | CA30: =IF(AND($C30<>0,R30=""),"* No olvide ingresar la variable "&R$17&""&". Digite CERO si no tiene. ",IF(R30>$C30,"* La variable Pueblos Originarios no debe ser mayor al Total Ambos Sexos. ","")) | CB30: =IF(AND($C30<>0,S30=""),"* No olvide ingresar la variable "&S$17&""&". Digite CERO si no tiene. ",IF(S30>$C30,"* La variable Migrantes no debe ser mayor al Total Ambos Sexos. ","")) | CK30: =IF(AND($C30<>0,R30=""),1,IF(R30>$C30,1,0)) -> 0 | CL30: =IF(AND($C30<>0,S30=""),1,IF(S30>$C30,1,0)) -> 0
B31: Normal con Rezago (desde normal con rezago) | C31: =SUM(D31:E31) -> 0 | D31: =SUM(F31+H31+J31+L31+N31+P31) -> 0 | E31: =SUM(G31+I31+K31+M31+O31+Q31) -> 0 | T31: =$CA31&CB31 | CA31: =IF(AND($C31<>0,R31=""),"* No olvide ingresar la variable "&R$17&""&". Digite CERO si no tiene. ",IF(R31>$C31,"* La variable Pueblos Originarios no debe ser mayor al Total Ambos Sexos. ","")) | CB31: =IF(AND($C31<>0,S31=""),"* No olvide ingresar la variable "&S$17&""&". Digite CERO si no tiene. ",IF(S31>$C31,"* La variable Migrantes no debe ser mayor al Total Ambos Sexos. ","")) | CK31: =IF(AND($C31<>0,R31=""),1,IF(R31>$C31,1,0)) -> 0 | CL31: =IF(AND($C31<>0,S31=""),1,IF(S31>$C31,1,0)) -> 0
B32: Riesgo (desde riesgo) | C32: =SUM(D32+E32) -> 0 | D32: =SUM(F32+H32+J32+L32+N32+P32) -> 0 | E32: =SUM(G32+I32+K32+M32+O32+Q32) -> 0 | T32: =$CA32&CB32 | CA32: =IF(AND($C32<>0,R32=""),"* No olvide ingresar la variable "&R$17&""&". Digite CERO si no tiene. ",IF(R32>$C32,"* La variable Pueblos Originarios no debe ser mayor al Total Ambos Sexos. ","")) | CB32: =IF(AND($C32<>0,S32=""),"* No olvide ingresar la variable "&S$17&""&". Digite CERO si no tiene. ",IF(S32>$C32,"* La variable Migrantes no debe ser mayor al Total Ambos Sexos. ","")) | CK32: =IF(AND($C32<>0,R32=""),1,IF(R32>$C32,1,0)) -> 0 | CL32: =IF(AND($C32<>0,S32=""),1,IF(S32>$C32,1,0)) -> 0
B33: Riesgo (desde normal con rezago) | C33: =SUM(D33+E33) -> 0 | D33: =SUM(F33+H33+J33+L33+N33+P33) -> 0 | E33: =SUM(G33+I33+K33+M33+O33+Q33) -> 0 | T33: =$CA33&CB33 | CA33: =IF(AND($C33<>0,R33=""),"* No olvide ingresar la variable "&R$17&""&". Digite CERO si no tiene. ",IF(R33>$C33,"* La variable Pueblos Originarios no debe ser mayor al Total Ambos Sexos. ","")) | CB33: =IF(AND($C33<>0,S33=""),"* No olvide ingresar la variable "&S$17&""&". Digite CERO si no tiene. ",IF(S33>$C33,"* La variable Migrantes no debe ser mayor al Total Ambos Sexos. ","")) | CK33: =IF(AND($C33<>0,R33=""),1,IF(R33>$C33,1,0)) -> 0 | CL33: =IF(AND($C33<>0,S33=""),1,IF(S33>$C33,1,0)) -> 0
B34: Retraso (desde retraso) | C34: =SUM(D34+E34) -> 0 | D34: =SUM(F34+H34+J34+L34+N34+P34) -> 0 | E34: =SUM(G34+I34+K34+M34+O34+Q34) -> 0 | T34: =$CA34&CB34 | CA34: =IF(AND($C34<>0,R34=""),"* No olvide ingresar la variable "&R$17&""&". Digite CERO si no tiene. ",IF(R34>$C34,"* La variable Pueblos Originarios no debe ser mayor al Total Ambos Sexos. ","")) | CB34: =IF(AND($C34<>0,S34=""),"* No olvide ingresar la variable "&S$17&""&". Digite CERO si no tiene. ",IF(S34>$C34,"* La variable Migrantes no debe ser mayor al Total Ambos Sexos. ","")) | CK34: =IF(AND($C34<>0,R34=""),1,IF(R34>$C34,1,0)) -> 0 | CL34: =IF(AND($C34<>0,S34=""),1,IF(S34>$C34,1,0)) -> 0
B35: Retraso (desde riesgo) | C35: =SUM(D35+E35) -> 0 | D35: =SUM(F35+H35+J35+L35+N35+P35) -> 0 | E35: =SUM(G35+I35+K35+M35+O35+Q35) -> 0 | T35: =$CA35&CB35 | CA35: =IF(AND($C35<>0,R35=""),"* No olvide ingresar la variable "&R$17&""&". Digite CERO si no tiene. ",IF(R35>$C35,"* La variable Pueblos Originarios no debe ser mayor al Total Ambos Sexos. ","")) | CB35: =IF(AND($C35<>0,S35=""),"* No olvide ingresar la variable "&S$17&""&". Digite CERO si no tiene. ",IF(S35>$C35,"* La variable Migrantes no debe ser mayor al Total Ambos Sexos. ","")) | CK35: =IF(AND($C35<>0,R35=""),1,IF(R35>$C35,1,0)) -> 0 | CL35: =IF(AND($C35<>0,S35=""),1,IF(S35>$C35,1,0)) -> 0
B36: Retraso (desde normal con rezago) | C36: =SUM(D36+E36) -> 0 | D36: =SUM(F36+H36+J36+L36+N36+P36) -> 0 | E36: =SUM(G36+I36+K36+M36+O36+Q36) -> 0 | T36: =$CA36&CB36 | CA36: =IF(AND($C36<>0,R36=""),"* No olvide ingresar la variable "&R$17&""&". Digite CERO si no tiene. ",IF(R36>$C36,"* La variable Pueblos Originarios no debe ser mayor al Total Ambos Sexos. ","")) | CB36: =IF(AND($C36<>0,S36=""),"* No olvide ingresar la variable "&S$17&""&". Digite CERO si no tiene. ",IF(S36>$C36,"* La variable Migrantes no debe ser mayor al Total Ambos Sexos. ","")) | CK36: =IF(AND($C36<>0,R36=""),1,IF(R36>$C36,1,0)) -> 0 | CL36: =IF(AND($C36<>0,S36=""),1,IF(S36>$C36,1,0)) -> 0
A37: Derivados a Especialidad | B37: Riesgo | C37: =SUM(D37+E37) -> 0 | D37: =SUM(F37+H37+J37+L37+N37+P37) -> 0 | E37: =SUM(G37+I37+K37+M37+O37+Q37) -> 0 | T37: =$CA37&CB37 | CA37: =IF(AND($C37<>0,R37=""),"* No olvide ingresar la variable "&R$17&""&". Digite CERO si no tiene. ",IF(R37>$C37,"* La variable Pueblos Originarios no debe ser mayor al Total Ambos Sexos. ","")) | CB37: =IF(AND($C37<>0,S37=""),"* No olvide ingresar la variable "&S$17&""&". Digite CERO si no tiene. ",IF(S37>$C37,"* La variable Migrantes no debe ser mayor al Total Ambos Sexos. ","")) | CK37: =IF(AND($C37<>0,R37=""),1,IF(R37>$C37,1,0)) -> 0 | CL37: =IF(AND($C37<>0,S37=""),1,IF(S37>$C37,1,0)) -> 0
B38: Retraso | C38: =SUM(D38+E38) -> 0 | D38: =SUM(F38+H38+J38+L38+N38+P38) -> 0 | E38: =SUM(G38+I38+K38+M38+O38+Q38) -> 0 | T38: =$CA38&CB38 | CA38: =IF(AND($C38<>0,R38=""),"* No olvide ingresar la variable "&R$17&""&". Digite CERO si no tiene. ",IF(R38>$C38,"* La variable Pueblos Originarios no debe ser mayor al Total Ambos Sexos. ","")) | CB38: =IF(AND($C38<>0,S38=""),"* No olvide ingresar la variable "&S$17&""&". Digite CERO si no tiene. ",IF(S38>$C38,"* La variable Migrantes no debe ser mayor al Total Ambos Sexos. ","")) | CK38: =IF(AND($C38<>0,R38=""),1,IF(R38>$C38,1,0)) -> 0 | CL38: =IF(AND($C38<>0,S38=""),1,IF(S38>$C38,1,0)) -> 0
A39: Traslado de Establecimiento | B39: Normal con Rezago | C39: =SUM(D39+E39) -> 0 | D39: =SUM(F39+H39+J39+L39+N39+P39) -> 0 | E39: =SUM(G39+I39+K39+M39+O39+Q39) -> 0 | T39: =$CA39&CB39 | CA39: =IF(AND($C39<>0,R39=""),"* No olvide ingresar la variable "&R$17&""&". Digite CERO si no tiene. ",IF(R39>$C39,"* La variable Pueblos Originarios no debe ser mayor al Total Ambos Sexos. ","")) | CB39: =IF(AND($C39<>0,S39=""),"* No olvide ingresar la variable "&S$17&""&". Digite CERO si no tiene. ",IF(S39>$C39,"* La variable Migrantes no debe ser mayor al Total Ambos Sexos. ","")) | CK39: =IF(AND($C39<>0,R39=""),1,IF(R39>$C39,1,0)) -> 0 | CL39: =IF(AND($C39<>0,S39=""),1,IF(S39>$C39,1,0)) -> 0
B40: Riesgo | C40: =SUM(D40+E40) -> 0 | D40: =SUM(F40+H40+J40+L40+N40+P40) -> 0 | E40: =SUM(G40+I40+K40+M40+O40+Q40) -> 0 | T40: =$CA40&CB40 | CA40: =IF(AND($C40<>0,R40=""),"* No olvide ingresar la variable "&R$17&""&". Digite CERO si no tiene. ",IF(R40>$C40,"* La variable Pueblos Originarios no debe ser mayor al Total Ambos Sexos. ","")) | CB40: =IF(AND($C40<>0,S40=""),"* No olvide ingresar la variable "&S$17&""&". Digite CERO si no tiene. ",IF(S40>$C40,"* La variable Migrantes no debe ser mayor al Total Ambos Sexos. ","")) | CK40: =IF(AND($C40<>0,R40=""),1,IF(R40>$C40,1,0)) -> 0 | CL40: =IF(AND($C40<>0,S40=""),1,IF(S40>$C40,1,0)) -> 0
B41: Retraso | C41: =SUM(D41+E41) -> 0 | D41: =SUM(F41+H41+J41+L41+N41+P41) -> 0 | E41: =SUM(G41+I41+K41+M41+O41+Q41) -> 0 | T41: =$CA41&CB41 | CA41: =IF(AND($C41<>0,R41=""),"* No olvide ingresar la variable "&R$17&""&". Digite CERO si no tiene. ",IF(R41>$C41,"* La variable Pueblos Originarios no debe ser mayor al Total Ambos Sexos. ","")) | CB41: =IF(AND($C41<>0,S41=""),"* No olvide ingresar la variable "&S$17&""&". Digite CERO si no tiene. ",IF(S41>$C41,"* La variable Migrantes no debe ser mayor al Total Ambos Sexos. ","")) | CK41: =IF(AND($C41<>0,R41=""),1,IF(R41>$C41,1,0)) -> 0 | CL41: =IF(AND($C41<>0,S41=""),1,IF(S41>$C41,1,0)) -> 0
A42: SECCIÓN A.3: NIÑOS Y NIÑAS CON REZAGO, DÉFICIT O RIESGO BIOPSICOSOCIAL DERIVADOS A ALGUNA MODALIDAD DE ESTIMULACIÓN EN LA PRIMERA EVALUACIÓN
A43: NIÑO / A | B43: TOTAL | E43: RANGO ETARIO Y SEXO | Q43: Pueblos Originarios | R43: Migrantes
E44: Menos de 7 meses | G44: 7 - 11 meses | I44: 12 - 17 meses | K44: 18 - 23 meses | M44: 24 - 47 meses | O44: 48 - 59 meses
B45: Ambos Sexos | C45: Hombres | D45: Mujeres | E45: Hombres | F45: Mujeres | G45: Hombres | H45: Mujeres | I45: Hombres | J45: Mujeres | K45: Hombres | L45: Mujeres | M45: Hombres | N45: Mujeres | O45: Hombres | P45: Mujeres
A46: Normal con Rezago | B46: =SUM(C46+D46) -> 0 | C46: =SUM(E46+G46+I46+K46+M46+O46) -> 0 | D46: =SUM(F46+H46+J46+L46+N46+P46) -> 0 | S46: =$CA46&CB46 | CA46: =IF(AND($B46<>0,Q46=""),"* No olvide ingresar la variable "&Q$43&""&". Digite CERO si no tiene. ",IF(Q46>$B46,"* La variable Pueblos Originarios no debe ser mayor al Total Ambos Sexos. ","")) | CB46: =IF(AND($B46<>0,R46=""),"* No olvide ingresar la variable "&R$43&""&" (Digite CERO si no tiene). ",IF(R46>$B46,"* La variable Migrantes no debe ser mayor al Total Ambos Sexos. ","")) | CK46: =IF(AND($B46<>0,Q46=""),1,IF(Q46>$B46,1,0)) -> 0 | CL46: =IF(AND($B46<>0,R46=""),1,IF(R46>$B46,1,0)) -> 0
A47: Riesgo | B47: =SUM(C47+D47) -> 0 | C47: =SUM(E47+G47+I47+K47+M47+O47) -> 0 | D47: =SUM(F47+H47+J47+L47+N47+P47) -> 0 | S47: =$CA47&CB47 | CA47: =IF(AND($B47<>0,Q47=""),"* No olvide ingresar la variable "&Q$43&""&". Digite CERO si no tiene. ",IF(Q47>$B47,"* La variable Pueblos Originarios no debe ser mayor al Total Ambos Sexos. ","")) | CB47: =IF(AND($B47<>0,R47=""),"* No olvide ingresar la variable "&R$43&""&" (Digite CERO si no tiene). ",IF(R47>$B47,"* La variable Migrantes no debe ser mayor al Total Ambos Sexos. ","")) | CK47: =IF(AND($B47<>0,Q47=""),1,IF(Q47>$B47,1,0)) -> 0 | CL47: =IF(AND($B47<>0,R47=""),1,IF(R47>$B47,1,0)) -> 0
A48: Retraso | B48: =SUM(C48+D48) -> 0 | C48: =SUM(E48+G48+I48+K48+M48+O48) -> 0 | D48: =SUM(F48+H48+J48+L48+N48+P48) -> 0 | S48: =$CA48&CB48 | CA48: =IF(AND($B48<>0,Q48=""),"* No olvide ingresar la variable "&Q$43&""&". Digite CERO si no tiene. ",IF(Q48>$B48,"* La variable Pueblos Originarios no debe ser mayor al Total Ambos Sexos. ","")) | CB48: =IF(AND($B48<>0,R48=""),"* No olvide ingresar la variable "&R$43&""&" (Digite CERO si no tiene). ",IF(R48>$B48,"* La variable Migrantes no debe ser mayor al Total Ambos Sexos. ","")) | CK48: =IF(AND($B48<>0,Q48=""),1,IF(Q48>$B48,1,0)) -> 0 | CL48: =IF(AND($B48<>0,R48=""),1,IF(R48>$B48,1,0)) -> 0
A49: Normal con Riesgo Biopsicosocial | B49: =SUM(C49:D49) -> 0 | C49: =SUM(E49+G49+I49+K49+M49+O49) -> 0 | D49: =SUM(F49+H49+J49+L49+N49+P49) -> 0 | S49: =$CA49&CB49 | CA49: =IF(AND($B49<>0,Q49=""),"* No olvide ingresar la variable "&Q$43&""&". Digite CERO si no tiene. ",IF(Q49>$B49,"* La variable Pueblos Originarios no debe ser mayor al Total Ambos Sexos. ","")) | CB49: =IF(AND($B49<>0,R49=""),"* No olvide ingresar la variable "&R$43&""&" (Digite CERO si no tiene). ",IF(R49>$B49,"* La variable Migrantes no debe ser mayor al Total Ambos Sexos. ","")) | CK49: =IF(AND($B49<>0,Q49=""),1,IF(Q49>$B49,1,0)) -> 0 | CL49: =IF(AND($B49<>0,R49=""),1,IF(R49>$B49,1,0)) -> 0
A50: SECCIÓN A.4: RESULTADOS DE LA APLICACIÓN DE PROTOCOLO NEUROSENSORIAL
A51: RESULTADOS | B51: TOTAL | E51: RANGO ETARIO Y SEXO | I51: Pueblos Originarios | J51: Migrantes
E52: 1 mes | G52: 2 meses
B53: Ambos Sexos | C53: Hombres | D53: Mujeres | E53: Hombres | F53: Mujeres | G53: Hombres | H53: Mujeres
A54: Aplicación de Protocolo Neurosensorial (1-2 meses) | B54: =SUM(C54+D54) -> 0 | C54: =SUM(E54+G54) -> 0 | D54: =SUM(F54+H54) -> 0 | E54: =SUM(E55:E57) -> 0 | F54: =SUM(F55:F57) -> 0 | G54: =SUM(G55:G57) -> 0 | H54: =SUM(H55:H57) -> 0 | I54: =SUM(I55:I57) -> 0 | J54: =SUM(J55:J57) -> 0
A55: Normal | B55: =SUM(C55+D55) -> 0 | C55: =SUM(E55+G55) -> 0 | D55: =SUM(F55+H55) -> 0 | K55: =$CA55&CB55 | CA55: =IF(AND($B55<>0,I55=""),"* No olvide ingresar la variable "&I$51&""&". Digite CERO si no tiene. ",IF(I55>$B55,"* La variable Pueblos Originarios no debe ser mayor al Total Ambos Sexos. ","")) | CB55: =IF(AND($B55<>0,J55=""),"* No olvide ingresar la variable "&J$51&""&" (Digite CERO si no tiene). ",IF(J55>$B55,"* La variable Migrantes no debe ser mayor al Total Ambos Sexos. ","")) | CK55: =IF(AND($B55<>0,I55=""),1,IF(I55>$B55,1,0)) -> 0 | CL55: =IF(AND($B55<>0,J55=""),1,IF(J55>$B55,1,0)) -> 0
A56: Anormal | B56: =SUM(C56+D56) -> 0 | C56: =SUM(E56+G56) -> 0 | D56: =SUM(F56+H56) -> 0 | K56: =$CA56&CB56 | CA56: =IF(AND($B56<>0,I56=""),"* No olvide ingresar la variable "&I$51&""&". Digite CERO si no tiene. ",IF(I56>$B56,"* La variable Pueblos Originarios no debe ser mayor al Total Ambos Sexos. ","")) | CB56: =IF(AND($B56<>0,J56=""),"* No olvide ingresar la variable "&J$51&""&" (Digite CERO si no tiene). ",IF(J56>$B56,"* La variable Migrantes no debe ser mayor al Total Ambos Sexos. ","")) | CK56: =IF(AND($B56<>0,I56=""),1,IF(I56>$B56,1,0)) -> 0 | CL56: =IF(AND($B56<>0,J56=""),1,IF(J56>$B56,1,0)) -> 0
A57: Muy Anormal | B57: =SUM(C57+D57) -> 0 | C57: =SUM(E57+G57) -> 0 | D57: =SUM(F57+H57) -> 0 | K57: =$CA57&CB57 | CA57: =IF(AND($B57<>0,I57=""),"* No olvide ingresar la variable "&I$51&""&". Digite CERO si no tiene. ",IF(I57>$B57,"* La variable Pueblos Originarios no debe ser mayor al Total Ambos Sexos. ","")) | CB57: =IF(AND($B57<>0,J57=""),"* No olvide ingresar la variable "&J$51&""&" (Digite CERO si no tiene). ",IF(J57>$B57,"* La variable Migrantes no debe ser mayor al Total Ambos Sexos. ","")) | CK57: =IF(AND($B57<>0,I57=""),1,IF(I57>$B57,1,0)) -> 0 | CL57: =IF(AND($B57<>0,J57=""),1,IF(J57>$B57,1,0)) -> 0
A58: SECCIÓN A.5: TIPO DE ALIMENTACIÓN NIÑOS Y NIÑAS CONTROLADOS
A59: TIPO DE ALIMENTACIÓN | C59: TOTAL | D59: SEGÚN CONTROL PROGRAMÁTICO | K59: Pueblos Originarios | L59: Migrantes
D60: Diada hasta 10 días de vida | E60: Diada entre 11 y 28 días de vida | F60: Del 1° mes | G60: Del 3° mes | H60: Del 6° mes | I60: Del 12° mes | J60: Del 24° mes
A61: Lactancia Materna exclusiva (LME) | C61: =SUM(D61:H61) -> 0 | M61: =$CA61&CB61 | CA61: =IF(AND($C61<>0,K61=""),"* No olvide ingresar la variable "&K$59&""&". Digite CERO si no tiene. ",IF(K61>$C61,"* La variable Pueblos Originarios no debe ser mayor al Total. ","")) | CB61: =IF(AND($C61<>0,L61=""),"* No olvide ingresar la variable "&L$59&""&". Digite CERO si no tiene. ",IF(L61>$C61,"* La variable Migrantes no debe ser mayor al Total. ","")) | CK61: =IF(AND($C61<>0,K61=""),1,IF(K61>$C61,1,0)) -> 0 | CL61: =IF(AND($C61<>0,L61=""),1,IF(L61>$C61,1,0)) -> 0
A62: Lactancia Materna más Formula Láctea (LM/FL) | C62: =SUM(D62:H62) -> 0 | M62: =$CA62&CB62 | CA62: =IF(AND($C62<>0,K62=""),"* No olvide ingresar la variable "&K$59&""&". Digite CERO si no tiene. ",IF(K62>$C62,"* La variable Pueblos Originarios no debe ser mayor al Total. ","")) | CB62: =IF(AND($C62<>0,L62=""),"* No olvide ingresar la variable "&L$59&""&". Digite CERO si no tiene. ",IF(L62>$C62,"* La variable Migrantes no debe ser mayor al Total. ","")) | CK62: =IF(AND($C62<>0,K62=""),1,IF(K62>$C62,1,0)) -> 0 | CL62: =IF(AND($C62<>0,L62=""),1,IF(L62>$C62,1,0)) -> 0
A63: Formula Láctea (FL) | C63: =SUM(D63:H63) -> 0 | M63: =$CA63&CB63 | CA63: =IF(AND($C63<>0,K63=""),"* No olvide ingresar la variable "&K$59&""&". Digite CERO si no tiene. ",IF(K63>$C63,"* La variable Pueblos Originarios no debe ser mayor al Total. ","")) | CB63: =IF(AND($C63<>0,L63=""),"* No olvide ingresar la variable "&L$59&""&". Digite CERO si no tiene. ",IF(L63>$C63,"* La variable Migrantes no debe ser mayor al Total. ","")) | CK63: =IF(AND($C63<>0,K63=""),1,IF(K63>$C63,1,0)) -> 0 | CL63: =IF(AND($C63<>0,L63=""),1,IF(L63>$C63,1,0)) -> 0
A64: Lactancia Materna más Alimentación Complementaria (LM/AC) | C64: =SUM(H64:J64) -> 0 | M64: =$CA64&CB64 | CA64: =IF(AND($C64<>0,K64=""),"* No olvide ingresar la variable "&K$59&""&". Digite CERO si no tiene. ",IF(K64>$C64,"* La variable Pueblos Originarios no debe ser mayor al Total. ","")) | CB64: =IF(AND($C64<>0,L64=""),"* No olvide ingresar la variable "&L$59&""&". Digite CERO si no tiene. ",IF(L64>$C64,"* La variable Migrantes no debe ser mayor al Total. ","")) | CK64: =IF(AND($C64<>0,K64=""),1,IF(K64>$C64,1,0)) -> 0 | CL64: =IF(AND($C64<>0,L64=""),1,IF(L64>$C64,1,0)) -> 0
A65: Lactancia Materna más Fórmula Láctea más Alimentación Complementaria (LM/FL/AC) | C65: =SUM(H65:J65) -> 0 | M65: =$CA65&CB65 | CA65: =IF(AND($C65<>0,K65=""),"* No olvide ingresar la variable "&K$59&""&". Digite CERO si no tiene. ",IF(K65>$C65,"* La variable Pueblos Originarios no debe ser mayor al Total. ","")) | CB65: =IF(AND($C65<>0,L65=""),"* No olvide ingresar la variable "&L$59&""&". Digite CERO si no tiene. ",IF(L65>$C65,"* La variable Migrantes no debe ser mayor al Total. ","")) | CK65: =IF(AND($C65<>0,K65=""),1,IF(K65>$C65,1,0)) -> 0 | CL65: =IF(AND($C65<>0,L65=""),1,IF(L65>$C65,1,0)) -> 0
A66: Fórmula Láctea más Alimentación Complementaria (FL/AC) | C66: =SUM(H66:J66) -> 0 | M66: =$CA66&CB66 | CA66: =IF(AND($C66<>0,K66=""),"* No olvide ingresar la variable "&K$59&""&". Digite CERO si no tiene. ",IF(K66>$C66,"* La variable Pueblos Originarios no debe ser mayor al Total. ","")) | CB66: =IF(AND($C66<>0,L66=""),"* No olvide ingresar la variable "&L$59&""&". Digite CERO si no tiene. ",IF(L66>$C66,"* La variable Migrantes no debe ser mayor al Total. ","")) | CK66: =IF(AND($C66<>0,K66=""),1,IF(K66>$C66,1,0)) -> 0 | CL66: =IF(AND($C66<>0,L66=""),1,IF(L66>$C66,1,0)) -> 0
A67: Total de niños y niñas controlados | C67: =SUM(D67:J67) -> 0 | M67: =$CA67&CB67 | CA67: =IF(AND($C67<>0,K67=""),"* No olvide ingresar la variable "&K$59&""&". Digite CERO si no tiene. ",IF(K67>$C67,"* La variable Pueblos Originarios no debe ser mayor al Total. ","")) | CB67: =IF(AND($C67<>0,L67=""),"* No olvide ingresar la variable "&L$59&""&". Digite CERO si no tiene. ",IF(L67>$C67,"* La variable Migrantes no debe ser mayor al Total. ","")) | CK67: =IF(AND($C67<>0,K67=""),1,IF(K67>$C67,1,0)) -> 0 | CL67: =IF(AND($C67<>0,L67=""),1,IF(L67>$C67,1,0)) -> 0
A68: SECCIÓN A.6: RESULTADOS RADIOGRAFÍA DE PELVIS (CADERA)
A69: RESULTADO | B69: TOTAL | E69: RANGO ETARIO Y SEXO | I69: Pueblos Originarios | J69: Migrantes
E70: 3 meses | G70: 4 meses
B71: Ambos Sexos | C71: Hombres | D71: Mujeres | E71: Hombres | F71: Mujeres | G71: Hombres | H71: Mujeres
A72: Normal | B72: =SUM(C72:D72) -> 0 | C72: =+E72+G72 -> 0 | D72: =+F72+H72 -> 0 | K72: =$CA72&CB72 | CA72: =IF(AND($B72<>0,I72=""),"* No olvide ingresar la variable "&I$51&""&". Digite CERO si no tiene. ",IF(I72>$B72,"* La variable Pueblos Originarios no debe ser mayor al Total Ambos Sexos. ","")) | CB72: =IF(AND($B72<>0,J72=""),"* No olvide ingresar la variable "&J$51&""&" (Digite CERO si no tiene). ",IF(J72>$B72,"* La variable Migrantes no debe ser mayor al Total Ambos Sexos. ","")) | CK72: =IF(AND($B72<>0,I72=""),1,IF(I72>$B72,1,0)) -> 0 | CL72: =IF(AND($B72<>0,J72=""),1,IF(J72>$B72,1,0)) -> 0
A73: Anormal | B73: =SUM(C73:D73) -> 0 | C73: =+E73+G73 -> 0 | D73: =+F73+H73 -> 0 | K73: =$CA73&CB73 | CA73: =IF(AND($B73<>0,I73=""),"* No olvide ingresar la variable "&I$51&""&". Digite CERO si no tiene. ",IF(I73>$B73,"* La variable Pueblos Originarios no debe ser mayor al Total Ambos Sexos. ","")) | CB73: =IF(AND($B73<>0,J73=""),"* No olvide ingresar la variable "&J$51&""&" (Digite CERO si no tiene). ",IF(J73>$B73,"* La variable Migrantes no debe ser mayor al Total Ambos Sexos. ","")) | CK73: =IF(AND($B73<>0,I73=""),1,IF(I73>$B73,1,0)) -> 0 | CL73: =IF(AND($B73<>0,J73=""),1,IF(J73>$B73,1,0)) -> 0
A74: Inmadura | B74: =SUM(C74:D74) -> 0 | C74: =+E74+G74 -> 0 | D74: =+F74+H74 -> 0 | K74: =$CA74&CB74 | CA74: =IF(AND($B74<>0,I74=""),"* No olvide ingresar la variable "&I$51&""&". Digite CERO si no tiene. ",IF(I74>$B74,"* La variable Pueblos Originarios no debe ser mayor al Total Ambos Sexos. ","")) | CB74: =IF(AND($B74<>0,J74=""),"* No olvide ingresar la variable "&J$51&""&" (Digite CERO si no tiene). ",IF(J74>$B74,"* La variable Migrantes no debe ser mayor al Total Ambos Sexos. ","")) | CK74: =IF(AND($B74<>0,I74=""),1,IF(I74>$B74,1,0)) -> 0 | CL74: =IF(AND($B74<>0,J74=""),1,IF(J74>$B74,1,0)) -> 0
A75: SECCION B: EVALUACIÓN, APLICACIÓN Y RESULTADOS DE ESCALAS EN LA MUJER
A76: SECCIÓN B.1: EVALUACIÓN DEL ESTADO NUTRICIONAL A PERSONAS CONTROLADAS AL OCTAVO MES POST PARTO
A77: ESTADO NUTRICIONAL | B77: TOTAL
B79: =SUM(B80:B83) -> 0
A80: Obesa
A81: Sobrepeso
A82: Normal
A83: Bajo peso
A84: SECCIÓN B.2: APLICACIÓN DE ESCALA SEGÚN EVALUACIÓN DE RIESGO PSICOSOCIAL ABREVIADA A GESTANTES
A85: TIPO | B85: Total de Aplicaciones | C85: Con riesgo psicosocial | D85: Violencia de Género | E85: 3 o más riesgos psicosociales | F85: Plan de equipo de cabecera en gestantes con 3 o más riesgos psicosociales
A86: Evaluación al ingreso | G86: =$CA86&CB86&CC86&CD86&CE86 | CA86: =IF(CK86=1,"* Las Aplicaciones de EPSA con resultado de Riesgo psicosocial NO DEBE ser MAYOR que el Total de las Aplicaciones. ","") | CB86: =IF(CL86=1,"* Las Aplicaciones de EPSA con resultado de Riesgo psicosocial NO DEBE ser MENOR que la variable Plan de equipo de cabecera en gestantes con 3 o más riesgos psicosociales. ","") | CC86: =IF(CM86=1,"* Las Aplicaciones de EPSA asociadas a Violencia de Género NO DEBEN ser MAYOR al Total de Aplicaciones. ","") | CD86: =IF(CN86=1,"* Las Aplicaciones de EPSA asociadas a 3 o más riesgos psicosociales NO DEBEN ser MAYOR al Total de Aplicaciones. ","") | CE86: =IF(CO86=1,"* La variable Plan de equipo de cabecera en gestantes con 3 o más riesgos psicosociales NO DEBE ser MAYOR al Total de Aplicaciones. ","") | CK86: =IF(B86<C86,1,0) -> 0 | CL86: =IF(C86<F86,1,0) -> 0 | CM86: =IF(D86>$B86,1,0) -> 0 | CN86: =IF(E86>$B86,1,0) -> 0 | CO86: =IF(F86>$B86,1,0) -> 0
A87: Evaluación al tercer trimestre | G87: =$CA87&CB87&CC87&CD87&CE87 | CA87: =IF(CK87=1,"* Las Aplicaciones de EPSA con resultado de Riesgo psicosocial NO DEBE ser MAYOR que el Total de las Aplicaciones. ","") | CB87: =IF(CL87=1,"* Las Aplicaciones de EPSA con resultado de Riesgo psicosocial NO DEBE ser MENOR que la variable Plan de equipo de cabecera en gestantes con 3 o más riesgos psicosociales. ","") | CC87: =IF(CM87=1,"* Las Aplicaciones de EPSA asociadas a Violencia de Género NO DEBEN ser MAYOR al Total de Aplicaciones. ","") | CD87: =IF(CN87=1,"* Las Aplicaciones de EPSA asociadas a 3 o más riesgos psicosociales NO DEBEN ser MAYOR al Total de Aplicaciones. ","") | CE87: =IF(CO87=1,"* La variable Plan de equipo de cabecera en gestantes con 3 o más riesgos psicosociales NO DEBE ser MAYOR al Total de Aplicaciones. ","") | CK87: =IF(B87<C87,1,0) -> 0 | CL87: =IF(C87<F87,1,0) -> 0 | CM87: =IF(D87>$B87,1,0) -> 0 | CN87: =IF(E87>$B87,1,0) -> 0 | CO87: =IF(F87>$B87,1,0) -> 0
A88: SECCIÓN B.3: APLICACIÓN DE ESCALA DE EDIMBURGO A GESTANTES Y MUJERES POST PARTO
A89: CONCEPTO | C89: Total de Aplicaciones | D89: Resultados 10 o más puntos (Puérperas) | E89: Resultado distinto de 0 en pregunta 10 (Puérperas) | F89: Resultados 13 o más puntos (Gestantes) | G89: Resultado distinto de 0 en pregunta 10 (Gestantes) | H89: Casos alterados derivados a Salud Mental
A90: Evaluación a Gestantes | B90: Primera evaluación (2º control prenatal) | I90: =$CA90 | CA90: =IF(AND($C90<>0,H90=""),"* No olvide ingresar la variable "&H$89&""&". Digite CERO si no tiene. ",IF(H90>$C90,"* La variable Casos alterados derivados a Salud Mental no debe ser mayor al Total de Aplicaciones. ","")) | CK90: =IF(AND($C90<>0,H90=""),1,IF(H90>$C90,1,0)) -> 0
B91: Reevaluación (con puntaje elevado en la primera evaluación) | I91: =$CA91 | CA91: =IF(AND($C91<>0,H91=""),"* No olvide ingresar la variable "&H$89&""&". Digite CERO si no tiene. ",IF(H91>$C91,"* La variable Casos alterados derivados a Salud Mental no debe ser mayor al Total de Aplicaciones. ","")) | CK91: =IF(AND($C91<>0,H91=""),1,IF(H91>$C91,1,0)) -> 0
A92: Evaluación a mujeres/personas post parto síntomas de depresión | B92: A los 2 meses | I92: =$CA92 | CA92: =IF(AND($C92<>0,H92=""),"* No olvide ingresar la variable "&H$89&""&". Digite CERO si no tiene. ",IF(H92>$C92,"* La variable Casos alterados derivados a Salud Mental no debe ser mayor al Total de Aplicaciones. ","")) | CK92: =IF(AND($C92<>0,H92=""),1,IF(H92>$C92,1,0)) -> 0
B93: A los 6 meses | I93: =$CA93 | CA93: =IF(AND($C93<>0,H93=""),"* No olvide ingresar la variable "&H$89&""&". Digite CERO si no tiene. ",IF(H93>$C93,"* La variable Casos alterados derivados a Salud Mental no debe ser mayor al Total de Aplicaciones. ","")) | CK93: =IF(AND($C93<>0,H93=""),1,IF(H93>$C93,1,0)) -> 0
A94: SECCIÓN C: RESULTADOS DE LA EVALUACIÓN DEL ESTADO NUTRICIONAL DEL ADOLESCENTE CON CONTROL SALUD INTEGRAL
A95: ESTADO NUTRICIONAL | C95: TOTAL | F95: 10 - 14 años | H95: 15 - 19 años
C96: Ambos Sexos | D96: Hombres | E96: Mujeres | F96: Hombres | G96: Mujeres | H96: Hombres | I96: Mujeres
A97: TOTAL | C97: =SUM(C98:C102) -> 0 | D97: =SUM(D98:D102) -> 0 | E97: =SUM(E98:E102) -> 0 | F97: =SUM(F98:F102) -> 0 | G97: =SUM(G98:G102) -> 0 | H97: =SUM(H98:H102) -> 0 | I97: =SUM(I98:I102) -> 0
A98: Normal | C98: =SUM(D98+E98) -> 0 | D98: =SUM(F98+H98) -> 0 | E98: =SUM(G98+I98) -> 0
A99: Bajo peso | C99: =SUM(D99+E99) -> 0 | D99: =SUM(F99+H99) -> 0 | E99: =SUM(G99+I99) -> 0
A100: Sobrepeso | C100: =SUM(D100+E100) -> 0 | D100: =SUM(F100+H100) -> 0 | E100: =SUM(G100+I100) -> 0
A101: Obesos | C101: =SUM(D101+E101) -> 0 | D101: =SUM(F101+H101) -> 0 | E101: =SUM(G101+I101) -> 0
A102: Obesos severos | C102: =SUM(D102+E102) -> 0 | D102: =SUM(F102+H102) -> 0 | E102: =SUM(G102+I102) -> 0
...

Sheet MAYO
A1: SERVICIO DE SALUD
A2: =CONCATENATE("COMUNA: ",[6]NOMBRE!B2, " (",[6]NOMBRE!C2,[6]NOMBRE!D2,[6]NOMBRE!E2,[6]NOMBRE!F2,[6]NOMBRE!G2,")") -> COMUNA: LINARES (07401)
A3: =CONCATENATE("ESTABLECIMIENTO/ESTRATEGIA: ", [6]NOMBRE!B3, " (",[6]NOMBRE!C3,[6]NOMBRE!D3,[6]NOMBRE!E3,[6]NOMBRE!F3,[6]NOMBRE!G3,[6]NOMBRE!H3,")") -> ESTABLECIMIENTO/ESTRATEGIA: HOSPITAL PRESIDENTE CARLOS IBAÑEZ DEL CAMPO (116108)
A4: =CONCATENATE("MES: ",[6]NOMBRE!B6, " (",[6]NOMBRE!C6,[6]NOMBRE!D6,")") -> MES: MAYO (05)
A5: =CONCATENATE("AÑO: ",[6]NOMBRE!B7) -> AÑO: 2025
A6: REM-A03. APLICACIÓN Y RESULTADOS DE ESCALAS DE EVALUACIÓN
A8: SECCIÓN A: APLICACIÓN DE INSTRUMENTO Y RESULTADO EN EL NIÑO (A)
A9: SECCIÓN A.1: APLICACIÓN Y RESULTADOS DE PAUTA BREVE
A10: EVALUACIONES POR EDAD DEL NIÑO | C10: TOTAL | F10: RANGO ETARIO Y SEXO
F11: Menos de 1 mes | H11: 1 mes | J11: 2 meses | L11: 3 meses | N11: 4 meses | P11: 5 meses | R11: 6 meses | T11: 7 - 11 meses | V11: 12 - 17 meses | X11: 18 - 24 meses
C12: Ambos Sexos | D12: Hombres | E12: Mujeres | F12: Hombres | G12: Mujeres | H12: Hombres | I12: Mujeres | J12: Hombres | K12: Mujeres | L12: Hombres | M12: Mujeres | N12: Hombres | O12: Mujeres | P12: Hombres | Q12: Mujeres | R12: Hombres | S12: Mujeres | T12: Hombres | U12: Mujeres | V12: Hombres | W12: Mujeres | X12: Hombres | Y12: Mujeres
A13: Aplicación Pauta Breve | C13: =SUM(D13+E13) -> 0 | D13: =SUM(F13+H13+J13+L13+N13+P13+R13+T13+V13+X13) -> 0 | E13: =SUM(G13+I13+K13+M13+O13+Q13+S13+U13+W13+Y13) -> 0
A14: Resultados | B14: Normal | C14: =SUM(D14+E14) -> 0 | D14: =SUM(F14+H14+J14+L14+N14+P14+R14+T14+V14+X14) -> 0 | E14: =SUM(G14+I14+K14+M14+O14+Q14+S14+U14+W14+Y14) -> 0
B15: Alterado | C15: =SUM(D15+E15) -> 0 | D15: =SUM(F15+H15+J15+L15+N15+P15+R15+T15+V15+X15) -> 0 | E15: =SUM(G15+I15+K15+M15+O15+Q15+S15+U15+W15+Y15) -> 0
A16: SECCIÓN A.2: RESULTADOS DE LA APLICACIÓN DE ESCALA DE EVALUACIÓN DEL DESARROLLO PSICOMOTOR
A17: ACTIVIDAD | B17: RESULTADO | C17: TOTAL | F17: RANGO ETARIO Y SEXO | R17: Pueblos Originarios | S17: Migrantes
F18: Menos de 7 meses | H18: 7 - 11 meses | J18: 12 - 17 meses | L18: 18 - 23 meses | N18: 24 - 47 meses | P18: 48 - 59 meses
C19: Ambos Sexos | D19: Hombres | E19: Mujeres | F19: Hombres | G19: Mujeres | H19: Hombres | I19: Mujeres | J19: Hombres | K19: Mujeres | L19: Hombres | M19: Mujeres | N19: Hombres | O19: Mujeres | P19: Hombres | Q19: Mujeres
A20: Aplicación test de Desarrollo Psicomotor | C20: =SUM(D20+E20) -> 0 | D20: =SUM(F20+H20+J20+L20+N20+P20) -> 0 | E20: =SUM(G20+I20+K20+M20+O20+Q20) -> 0 | T20: =$CA20&CB20 | CA20: =IF(AND($C20<>0,R20=""),"* No olvide ingresar la variable "&R$17&""&". Digite CERO si no tiene. ",IF(R20>$C20,"* La variable Pueblos Originarios no debe ser mayor al Total Ambos Sexos. ","")) | CB20: =IF(AND($C20<>0,S20=""),"* No olvide ingresar la variable "&S$17&""&". Digite CERO si no tiene. ",IF(S20>$C20,"* La variable Migrantes no debe ser mayor al Total Ambos Sexos. ","")) | CK20: =IF(AND($C20<>0,R20=""),1,IF(R20>$C20,1,0)) -> 0 | CL20: =IF(AND($C20<>0,S20=""),1,IF(S20>$C20,1,0)) -> 0
A21: Primera Evaluación | B21: Normal | C21: =SUM(D21+E21) -> 0 | D21: =SUM(F21+H21+J21+L21+N21+P21) -> 0 | E21: =SUM(G21+I21+K21+M21+O21+Q21) -> 0 | T21: =$CA21&CB21 | CA21: =IF(AND($C21<>0,R21=""),"* No olvide ingresar la variable "&R$17&""&". Digite CERO si no tiene. ",IF(R21>$C21,"* La variable Pueblos Originarios no debe ser mayor al Total Ambos Sexos. ","")) | CB21: =IF(AND($C21<>0,S21=""),"* No olvide ingresar la variable "&S$17&""&". Digite CERO si no tiene. ",IF(S21>$C21,"* La variable Migrantes no debe ser mayor al Total Ambos Sexos. ","")) | CK21: =IF(AND($C21<>0,R21=""),1,IF(R21>$C21,1,0)) -> 0 | CL21: =IF(AND($C21<>0,S21=""),1,IF(S21>$C21,1,0)) -> 0
B22: Normal con Rezago | C22: =SUM(D22+E22) -> 0 | D22: =SUM(F22+H22+J22+L22+N22+P22) -> 0 | E22: =SUM(G22+I22+K22+M22+O22+Q22) -> 0 | T22: =$CA22&CB22 | CA22: =IF(AND($C22<>0,R22=""),"* No olvide ingresar la variable "&R$17&""&". Digite CERO si no tiene. ",IF(R22>$C22,"* La variable Pueblos Originarios no debe ser mayor al Total Ambos Sexos. ","")) | CB22: =IF(AND($C22<>0,S22=""),"* No olvide ingresar la variable "&S$17&""&". Digite CERO si no tiene. ",IF(S22>$C22,"* La variable Migrantes no debe ser mayor al Total Ambos Sexos. ","")) | CK22: =IF(AND($C22<>0,R22=""),1,IF(R22>$C22,1,0)) -> 0 | CL22: =IF(AND($C22<>0,S22=""),1,IF(S22>$C22,1,0)) -> 0
B23: Riesgo | C23: =SUM(D23+E23) -> 0 | D23: =SUM(F23+H23+J23+L23+N23+P23) -> 0 | E23: =SUM(G23+I23+K23+M23+O23+Q23) -> 0 | T23: =$CA23&CB23 | CA23: =IF(AND($C23<>0,R23=""),"* No olvide ingresar la variable "&R$17&""&". Digite CERO si no tiene. ",IF(R23>$C23,"* La variable Pueblos Originarios no debe ser mayor al Total Ambos Sexos. ","")) | CB23: =IF(AND($C23<>0,S23=""),"* No olvide ingresar la variable "&S$17&""&". Digite CERO si no tiene. ",IF(S23>$C23,"* La variable Migrantes no debe ser mayor al Total Ambos Sexos. ","")) | CK23: =IF(AND($C23<>0,R23=""),1,IF(R23>$C23,1,0)) -> 0 | CL23: =IF(AND($C23<>0,S23=""),1,IF(S23>$C23,1,0)) -> 0
B24: Retraso | C24: =SUM(D24+E24) -> 0 | D24: =SUM(F24+H24+J24+L24+N24+P24) -> 0 | E24: =SUM(G24+I24+K24+M24+O24+Q24) -> 0 | T24: =$CA24&CB24 | CA24: =IF(AND($C24<>0,R24=""),"* No olvide ingresar la variable "&R$17&""&". Digite CERO si no tiene. ",IF(R24>$C24,"* La variable Pueblos Originarios no debe ser mayor al Total Ambos Sexos. ","")) | CB24: =IF(AND($C24<>0,S24=""),"* No olvide ingresar la variable "&S$17&""&". Digite CERO si no tiene. ",IF(S24>$C24,"* La variable Migrantes no debe ser mayor al Total Ambos Sexos. ","")) | CK24: =IF(AND($C24<>0,R24=""),1,IF(R24>$C24,1,0)) -> 0 | CL24: =IF(AND($C24<>0,S24=""),1,IF(S24>$C24,1,0)) -> 0
A25: Reevaluación | B25: Normal (desde normal con rezago) | C25: =SUM(D25+E25) -> 0 | D25: =SUM(F25+H25+J25+L25+N25+P25) -> 0 | E25: =SUM(G25+I25+K25+M25+O25+Q25) -> 0 | T25: =$CA25&CB25 | CA25: =IF(AND($C25<>0,R25=""),"* No olvide ingresar la variable "&R$17&""&". Digite CERO si no tiene. ",IF(R25>$C25,"* La variable Pueblos Originarios no debe ser mayor al Total Ambos Sexos. ","")) | CB25: =IF(AND($C25<>0,S25=""),"* No olvide ingresar la variable "&S$17&""&". Digite CERO si no tiene. ",IF(S25>$C25,"* La variable Migrantes no debe ser mayor al Total Ambos Sexos. ","")) | CK25: =IF(AND($C25<>0,R25=""),1,IF(R25>$C25,1,0)) -> 0 | CL25: =IF(AND($C25<>0,S25=""),1,IF(S25>$C25,1,0)) -> 0
B26: Normal (desde riesgo) | C26: =SUM(D26+E26) -> 0 | D26: =SUM(F26+H26+J26+L26+N26+P26) -> 0 | E26: =SUM(G26+I26+K26+M26+O26+Q26) -> 0 | T26: =$CA26&CB26 | CA26: =IF(AND($C26<>0,R26=""),"* No olvide ingresar la variable "&R$17&""&". Digite CERO si no tiene. ",IF(R26>$C26,"* La variable Pueblos Originarios no debe ser mayor al Total Ambos Sexos. ","")) | CB26: =IF(AND($C26<>0,S26=""),"* No olvide ingresar la variable "&S$17&""&". Digite CERO si no tiene. ",IF(S26>$C26,"* La variable Migrantes no debe ser mayor al Total Ambos Sexos. ","")) | CK26: =IF(AND($C26<>0,R26=""),1,IF(R26>$C26,1,0)) -> 0 | CL26: =IF(AND($C26<>0,S26=""),1,IF(S26>$C26,1,0)) -> 0
B27: Normal (desde retraso) | C27: =SUM(D27+E27) -> 0 | D27: =SUM(F27+H27+J27+L27+N27+P27) -> 0 | E27: =SUM(G27+I27+K27+M27+O27+Q27) -> 0 | T27: =$CA27&CB27 | CA27: =IF(AND($C27<>0,R27=""),"* No olvide ingresar la variable "&R$17&""&". Digite CERO si no tiene. ",IF(R27>$C27,"* La variable Pueblos Originarios no debe ser mayor al Total Ambos Sexos. ","")) | CB27: =IF(AND($C27<>0,S27=""),"* No olvide ingresar la variable "&S$17&""&". Digite CERO si no tiene. ",IF(S27>$C27,"* La variable Migrantes no debe ser mayor al Total Ambos Sexos. ","")) | CK27: =IF(AND($C27<>0,R27=""),1,IF(R27>$C27,1,0)) -> 0 | CL27: =IF(AND($C27<>0,S27=""),1,IF(S27>$C27,1,0)) -> 0
B28: Normal Rezago (desde riesgo) | C28: =SUM(D28+E28) -> 0 | D28: =SUM(F28+H28+J28+L28+N28+P28) -> 0 | E28: =SUM(G28+I28+K28+M28+O28+Q28) -> 0 | T28: =$CA28&CB28 | CA28: =IF(AND($C28<>0,R28=""),"* No olvide ingresar la variable "&R$17&""&". Digite CERO si no tiene. ",IF(R28>$C28,"* La variable Pueblos Originarios no debe ser mayor al Total Ambos Sexos. ","")) | CB28: =IF(AND($C28<>0,S28=""),"* No olvide ingresar la variable "&S$17&""&". Digite CERO si no tiene. ",IF(S28>$C28,"* La variable Migrantes no debe ser mayor al Total Ambos Sexos. ","")) | CK28: =IF(AND($C28<>0,R28=""),1,IF(R28>$C28,1,0)) -> 0 | CL28: =IF(AND($C28<>0,S28=""),1,IF(S28>$C28,1,0)) -> 0
B29: Normal con Rezago (desde retraso) | C29: =SUM(D29+E29) -> 0 | D29: =SUM(F29+H29+J29+L29+N29+P29) -> 0 | E29: =SUM(G29+I29+K29+M29+O29+Q29) -> 0 | T29: =$CA29&CB29 | CA29: =IF(AND($C29<>0,R29=""),"* No olvide ingresar la variable "&R$17&""&". Digite CERO si no tiene. ",IF(R29>$C29,"* La variable Pueblos Originarios no debe ser mayor al Total Ambos Sexos. ","")) | CB29: =IF(AND($C29<>0,S29=""),"* No olvide ingresar la variable "&S$17&""&". Digite CERO si no tiene. ",IF(S29>$C29,"* La variable Migrantes no debe ser mayor al Total Ambos Sexos. ","")) | CK29: =IF(AND($C29<>0,R29=""),1,IF(R29>$C29,1,0)) -> 0 | CL29: =IF(AND($C29<>0,S29=""),1,IF(S29>$C29,1,0)) -> 0
B30: Riesgo (desde retraso) | C30: =SUM(D30:E30) -> 0 | D30: =SUM(F30+H30+J30+L30+N30+P30) -> 0 | E30: =SUM(G30+I30+K30+M30+O30+Q30) -> 0 | T30: =$CA30&CB30 | CA30: =IF(AND($C30<>0,R30=""),"* No olvide ingresar la variable "&R$17&""&". Digite CERO si no tiene. ",IF(R30>$C30,"* La variable Pueblos Originarios no debe ser mayor al Total Ambos Sexos. ","")) | CB30: =IF(AND($C30<>0,S30=""),"* No olvide ingresar la variable "&S$17&""&". Digite CERO si no tiene. ",IF(S30>$C30,"* La variable Migrantes no debe ser mayor al Total Ambos Sexos. ","")) | CK30: =IF(AND($C30<>0,R30=""),1,IF(R30>$C30,1,0)) -> 0 | CL30: =IF(AND($C30<>0,S30=""),1,IF(S30>$C30,1,0)) -> 0
B31: Normal con Rezago (desde normal con rezago) | C31: =SUM(D31:E31) -> 0 | D31: =SUM(F31+H31+J31+L31+N31+P31) -> 0 | E31: =SUM(G31+I31+K31+M31+O31+Q31) -> 0 | T31: =$CA31&CB31 | CA31: =IF(AND($C31<>0,R31=""),"* No olvide ingresar la variable "&R$17&""&". Digite CERO si no tiene. ",IF(R31>$C31,"* La variable Pueblos Originarios no debe ser mayor al Total Ambos Sexos. ","")) | CB31: =IF(AND($C31<>0,S31=""),"* No olvide ingresar la variable "&S$17&""&". Digite CERO si no tiene. ",IF(S31>$C31,"* La variable Migrantes no debe ser mayor al Total Ambos Sexos. ","")) | CK31: =IF(AND($C31<>0,R31=""),1,IF(R31>$C31,1,0)) -> 0 | CL31: =IF(AND($C31<>0,S31=""),1,IF(S31>$C31,1,0)) -> 0
B32: Riesgo (desde riesgo) | C32: =SUM(D32+E32) -> 0 | D32: =SUM(F32+H32+J32+L32+N32+P32) -> 0 | E32: =SUM(G32+I32+K32+M32+O32+Q32) -> 0 | T32: =$CA32&CB32 | CA32: =IF(AND($C32<>0,R32=""),"* No olvide ingresar la variable "&R$17&""&". Digite CERO si no tiene. ",IF(R32>$C32,"* La variable Pueblos Originarios no debe ser mayor al Total Ambos Sexos. ","")) | CB32: =IF(AND($C32<>0,S32=""),"* No olvide ingresar la variable "&S$17&""&". Digite CERO si no tiene. ",IF(S32>$C32,"* La variable Migrantes no debe ser mayor al Total Ambos Sexos. ","")) | CK32: =IF(AND($C32<>0,R32=""),1,IF(R32>$C32,1,0)) -> 0 | CL32: =IF(AND($C32<>0,S32=""),1,IF(S32>$C32,1,0)) -> 0
B33: Riesgo (desde normal con rezago) | C33: =SUM(D33+E33) -> 0 | D33: =SUM(F33+H33+J33+L33+N33+P33) -> 0 | E33: =SUM(G33+I33+K33+M33+O33+Q33) -> 0 | T33: =$CA33&CB33 | CA33: =IF(AND($C33<>0,R33=""),"* No olvide ingresar la variable "&R$17&""&". Digite CERO si no tiene. ",IF(R33>$C33,"* La variable Pueblos Originarios no debe ser mayor al Total Ambos Sexos. ","")) | CB33: =IF(AND($C33<>0,S33=""),"* No olvide ingresar la variable "&S$17&""&". Digite CERO si no tiene. ",IF(S33>$C33,"* La variable Migrantes no debe ser mayor al Total Ambos Sexos. ","")) | CK33: =IF(AND($C33<>0,R33=""),1,IF(R33>$C33,1,0)) -> 0 | CL33: =IF(AND($C33<>0,S33=""),1,IF(S33>$C33,1,0)) -> 0
B34: Retraso (desde retraso) | C34: =SUM(D34+E34) -> 0 | D34: =SUM(F34+H34+J34+L34+N34+P34) -> 0 | E34: =SUM(G34+I34+K34+M34+O34+Q34) -> 0 | T34: =$CA34&CB34 | CA34: =IF(AND($C34<>0,R34=""),"* No olvide ingresar la variable "&R$17&""&". Digite CERO si no tiene. ",IF(R34>$C34,"* La variable Pueblos Originarios no debe ser mayor al Total Ambos Sexos. ","")) | CB34: =IF(AND($C34<>0,S34=""),"* No olvide ingresar la variable "&S$17&""&". Digite CERO si no tiene. ",IF(S34>$C34,"* La variable Migrantes no debe ser mayor al Total Ambos Sexos. ","")) | CK34: =IF(AND($C34<>0,R34=""),1,IF(R34>$C34,1,0)) -> 0 | CL34: =IF(AND($C34<>0,S34=""),1,IF(S34>$C34,1,0)) -> 0
B35: Retraso (desde riesgo) | C35: =SUM(D35+E35) -> 0 | D35: =SUM(F35+H35+J35+L35+N35+P35) -> 0 | E35: =SUM(G35+I35+K35+M35+O35+Q35) -> 0 | T35: =$CA35&CB35 | CA35: =IF(AND($C35<>0,R35=""),"* No olvide ingresar la variable "&R$17&""&". Digite CERO si no tiene. ",IF(R35>$C35,"* La variable Pueblos Originarios no debe ser mayor al Total Ambos Sexos. ","")) | CB35: =IF(AND($C35<>0,S35=""),"* No olvide ingresar la variable "&S$17&""&". Digite CERO si no tiene. ",IF(S35>$C35,"* La variable Migrantes no debe ser mayor al Total Ambos Sexos. ","")) | CK35: =IF(AND($C35<>0,R35=""),1,IF(R35>$C35,1,0)) -> 0 | CL35: =IF(AND($C35<>0,S35=""),1,IF(S35>$C35,1,0)) -> 0
B36: Retraso (desde normal con rezago) | C36: =SUM(D36+E36) -> 0 | D36: =SUM(F36+H36+J36+L36+N36+P36) -> 0 | E36: =SUM(G36+I36+K36+M36+O36+Q36) -> 0 | T36: =$CA36&CB36 | CA36: =IF(AND($C36<>0,R36=""),"* No olvide ingresar la variable "&R$17&""&". Digite CERO si no tiene. ",IF(R36>$C36,"* La variable Pueblos Originarios no debe ser mayor al Total Ambos Sexos. ","")) | CB36: =IF(AND($C36<>0,S36=""),"* No olvide ingresar la variable "&S$17&""&". Digite CERO si no tiene. ",IF(S36>$C36,"* La variable Migrantes no debe ser mayor al Total Ambos Sexos. ","")) | CK36: =IF(AND($C36<>0,R36=""),1,IF(R36>$C36,1,0)) -> 0 | CL36: =IF(AND($C36<>0,S36=""),1,IF(S36>$C36,1,0)) -> 0
A37: Derivados a Especialidad | B37: Riesgo | C37: =SUM(D37+E37) -> 0 | D37: =SUM(F37+H37+J37+L37+N37+P37) -> 0 | E37: =SUM(G37+I37+K37+M37+O37+Q37) -> 0 | T37: =$CA37&CB37 | CA37: =IF(AND($C37<>0,R37=""),"* No olvide ingresar la variable "&R$17&""&". Digite CERO si no tiene. ",IF(R37>$C37,"* La variable Pueblos Originarios no debe ser mayor al Total Ambos Sexos. ","")) | CB37: =IF(AND($C37<>0,S37=""),"* No olvide ingresar la variable "&S$17&""&". Digite CERO si no tiene. ",IF(S37>$C37,"* La variable Migrantes no debe ser mayor al Total Ambos Sexos. ","")) | CK37: =IF(AND($C37<>0,R37=""),1,IF(R37>$C37,1,0)) -> 0 | CL37: =IF(AND($C37<>0,S37=""),1,IF(S37>$C37,1,0)) -> 0
B38: Retraso | C38: =SUM(D38+E38) -> 0 | D38: =SUM(F38+H38+J38+L38+N38+P38) -> 0 | E38: =SUM(G38+I38+K38+M38+O38+Q38) -> 0 | T38: =$CA38&CB38 | CA38: =IF(AND($C38<>0,R38=""),"* No olvide ingresar la variable "&R$17&""&". Digite CERO si no tiene. ",IF(R38>$C38,"* La variable Pueblos Originarios no debe ser mayor al Total Ambos Sexos. ","")) | CB38: =IF(AND($C38<>0,S38=""),"* No olvide ingresar la variable "&S$17&""&". Digite CERO si no tiene. ",IF(S38>$C38,"* La variable Migrantes no debe ser mayor al Total Ambos Sexos. ","")) | CK38: =IF(AND($C38<>0,R38=""),1,IF(R38>$C38,1,0)) -> 0 | CL38: =IF(AND($C38<>0,S38=""),1,IF(S38>$C38,1,0)) -> 0
A39: Traslado de Establecimiento | B39: Normal con Rezago | C39: =SUM(D39+E39) -> 0 | D39: =SUM(F39+H39+J39+L39+N39+P39) -> 0 | E39: =SUM(G39+I39+K39+M39+O39+Q39) -> 0 | T39: =$CA39&CB39 | CA39: =IF(AND($C39<>0,R39=""),"* No olvide ingresar la variable "&R$17&""&". Digite CERO si no tiene. ",IF(R39>$C39,"* La variable Pueblos Originarios no debe ser mayor al Total Ambos Sexos. ","")) | CB39: =IF(AND($C39<>0,S39=""),"* No olvide ingresar la variable "&S$17&""&". Digite CERO si no tiene. ",IF(S39>$C39,"* La variable Migrantes no debe ser mayor al Total Ambos Sexos. ","")) | CK39: =IF(AND($C39<>0,R39=""),1,IF(R39>$C39,1,0)) -> 0 | CL39: =IF(AND($C39<>0,S39=""),1,IF(S39>$C39,1,0)) -> 0
B40: Riesgo | C40: =SUM(D40+E40) -> 0 | D40: =SUM(F40+H40+J40+L40+N40+P40) -> 0 | E40: =SUM(G40+I40+K40+M40+O40+Q40) -> 0 | T40: =$CA40&CB40 | CA40: =IF(AND($C40<>0,R40=""),"* No olvide ingresar la variable "&R$17&""&". Digite CERO si no tiene. ",IF(R40>$C40,"* La variable Pueblos Originarios no debe ser mayor al Total Ambos Sexos. ","")) | CB40: =IF(AND($C40<>0,S40=""),"* No olvide ingresar la variable "&S$17&""&". Digite CERO si no tiene. ",IF(S40>$C40,"* La variable Migrantes no debe ser mayor al Total Ambos Sexos. ","")) | CK40: =IF(AND($C40<>0,R40=""),1,IF(R40>$C40,1,0)) -> 0 | CL40: =IF(AND($C40<>0,S40=""),1,IF(S40>$C40,1,0)) -> 0
B41: Retraso | C41: =SUM(D41+E41) -> 0 | D41: =SUM(F41+H41+J41+L41+N41+P41) -> 0 | E41: =SUM(G41+I41+K41+M41+O41+Q41) -> 0 | T41: =$CA41&CB41 | CA41: =IF(AND($C41<>0,R41=""),"* No olvide ingresar la variable "&R$17&""&". Digite CERO si no tiene. ",IF(R41>$C41,"* La variable Pueblos Originarios no debe ser mayor al Total Ambos Sexos. ","")) | CB41: =IF(AND($C41<>0,S41=""),"* No olvide ingresar la variable "&S$17&""&". Digite CERO si no tiene. ",IF(S41>$C41,"* La variable Migrantes no debe ser mayor al Total Ambos Sexos. ","")) | CK41: =IF(AND($C41<>0,R41=""),1,IF(R41>$C41,1,0)) -> 0 | CL41: =IF(AND($C41<>0,S41=""),1,IF(S41>$C41,1,0)) -> 0
A42: SECCIÓN A.3: NIÑOS Y NIÑAS CON REZAGO, DÉFICIT O RIESGO BIOPSICOSOCIAL DERIVADOS A ALGUNA MODALIDAD DE ESTIMULACIÓN EN LA PRIMERA EVALUACIÓN
A43: NIÑO / A | B43: TOTAL | E43: RANGO ETARIO Y SEXO | Q43: Pueblos Originarios | R43: Migrantes
E44: Menos de 7 meses | G44: 7 - 11 meses | I44: 12 - 17 meses | K44: 18 - 23 meses | M44: 24 - 47 meses | O44: 48 - 59 meses
B45: Ambos Sexos | C45: Hombres | D45: Mujeres | E45: Hombres | F45: Mujeres | G45: Hombres | H45: Mujeres | I45: Hombres | J45: Mujeres | K45: Hombres | L45: Mujeres | M45: Hombres | N45: Mujeres | O45: Hombres | P45: Mujeres
A46: Normal con Rezago | B46: =SUM(C46+D46) -> 0 | C46: =SUM(E46+G46+I46+K46+M46+O46) -> 0 | D46: =SUM(F46+H46+J46+L46+N46+P46) -> 0 | S46: =$CA46&CB46 | CA46: =IF(AND($B46<>0,Q46=""),"* No olvide ingresar la variable "&Q$43&""&". Digite CERO si no tiene. ",IF(Q46>$B46,"* La variable Pueblos Originarios no debe ser mayor al Total Ambos Sexos. ","")) | CB46: =IF(AND($B46<>0,R46=""),"* No olvide ingresar la variable "&R$43&""&" (Digite CERO si no tiene). ",IF(R46>$B46,"* La variable Migrantes no debe ser mayor al Total Ambos Sexos. ","")) | CK46: =IF(AND($B46<>0,Q46=""),1,IF(Q46>$B46,1,0)) -> 0 | CL46: =IF(AND($B46<>0,R46=""),1,IF(R46>$B46,1,0)) -> 0
A47: Riesgo | B47: =SUM(C47+D47) -> 0 | C47: =SUM(E47+G47+I47+K47+M47+O47) -> 0 | D47: =SUM(F47+H47+J47+L47+N47+P47) -> 0 | S47: =$CA47&CB47 | CA47: =IF(AND($B47<>0,Q47=""),"* No olvide ingresar la variable "&Q$43&""&". Digite CERO si no tiene. ",IF(Q47>$B47,"* La variable Pueblos Originarios no debe ser mayor al Total Ambos Sexos. ","")) | CB47: =IF(AND($B47<>0,R47=""),"* No olvide ingresar la variable "&R$43&""&" (Digite CERO si no tiene). ",IF(R47>$B47,"* La variable Migrantes no debe ser mayor al Total Ambos Sexos. ","")) | CK47: =IF(AND($B47<>0,Q47=""),1,IF(Q47>$B47,1,0)) -> 0 | CL47: =IF(AND($B47<>0,R47=""),1,IF(R47>$B47,1,0)) -> 0
A48: Retraso | B48: =SUM(C48+D48) -> 0 | C48: =SUM(E48+G48+I48+K48+M48+O48) -> 0 | D48: =SUM(F48+H48+J48+L48+N48+P48) -> 0 | S48: =$CA48&CB48 | CA48: =IF(AND($B48<>0,Q48=""),"* No olvide ingresar la variable "&Q$43&""&". Digite CERO si no tiene. ",IF(Q48>$B48,"* La variable Pueblos Originarios no debe ser mayor al Total Ambos Sexos. ","")) | CB48: =IF(AND($B48<>0,R48=""),"* No olvide ingresar la variable "&R$43&""&" (Digite CERO si no tiene). ",IF(R48>$B48,"* La variable Migrantes no debe ser mayor al Total Ambos Sexos. ","")) | CK48: =IF(AND($B48<>0,Q48=""),1,IF(Q48>$B48,1,0)) -> 0 | CL48: =IF(AND($B48<>0,R48=""),1,IF(R48>$B48,1,0)) -> 0
A49: Normal con Riesgo Biopsicosocial | B49: =SUM(C49:D49) -> 0 | C49: =SUM(E49+G49+I49+K49+M49+O49) -> 0 | D49: =SUM(F49+H49+J49+L49+N49+P49) -> 0 | S49: =$CA49&CB49 | CA49: =IF(AND($B49<>0,Q49=""),"* No olvide ingresar la variable "&Q$43&""&". Digite CERO si no tiene. ",IF(Q49>$B49,"* La variable Pueblos Originarios no debe ser mayor al Total Ambos Sexos. ","")) | CB49: =IF(AND($B49<>0,R49=""),"* No olvide ingresar la variable "&R$43&""&" (Digite CERO si no tiene). ",IF(R49>$B49,"* La variable Migrantes no debe ser mayor al Total Ambos Sexos. ","")) | CK49: =IF(AND($B49<>0,Q49=""),1,IF(Q49>$B49,1,0)) -> 0 | CL49: =IF(AND($B49<>0,R49=""),1,IF(R49>$B49,1,0)) -> 0
A50: SECCIÓN A.4: RESULTADOS DE LA APLICACIÓN DE PROTOCOLO NEUROSENSORIAL
A51: RESULTADOS | B51: TOTAL | E51: RANGO ETARIO Y SEXO | I51: Pueblos Originarios | J51: Migrantes
E52: 1 mes | G52: 2 meses
B53: Ambos Sexos | C53: Hombres | D53: Mujeres | E53: Hombres | F53: Mujeres | G53: Hombres | H53: Mujeres
A54: Aplicación de Protocolo Neurosensorial (1-2 meses) | B54: =SUM(C54+D54) -> 0 | C54: =SUM(E54+G54) -> 0 | D54: =SUM(F54+H54) -> 0 | E54: =SUM(E55:E57) -> 0 | F54: =SUM(F55:F57) -> 0 | G54: =SUM(G55:G57) -> 0 | H54: =SUM(H55:H57) -> 0 | I54: =SUM(I55:I57) -> 0 | J54: =SUM(J55:J57) -> 0
A55: Normal | B55: =SUM(C55+D55) -> 0 | C55: =SUM(E55+G55) -> 0 | D55: =SUM(F55+H55) -> 0 | K55: =$CA55&CB55 | CA55: =IF(AND($B55<>0,I55=""),"* No olvide ingresar la variable "&I$51&""&". Digite CERO si no tiene. ",IF(I55>$B55,"* La variable Pueblos Originarios no debe ser mayor al Total Ambos Sexos. ","")) | CB55: =IF(AND($B55<>0,J55=""),"* No olvide ingresar la variable "&J$51&""&" (Digite CERO si no tiene). ",IF(J55>$B55,"* La variable Migrantes no debe ser mayor al Total Ambos Sexos. ","")) | CK55: =IF(AND($B55<>0,I55=""),1,IF(I55>$B55,1,0)) -> 0 | CL55: =IF(AND($B55<>0,J55=""),1,IF(J55>$B55,1,0)) -> 0
A56: Anormal | B56: =SUM(C56+D56) -> 0 | C56: =SUM(E56+G56) -> 0 | D56: =SUM(F56+H56) -> 0 | K56: =$CA56&CB56 | CA56: =IF(AND($B56<>0,I56=""),"* No olvide ingresar la variable "&I$51&""&". Digite CERO si no tiene. ",IF(I56>$B56,"* La variable Pueblos Originarios no debe ser mayor al Total Ambos Sexos. ","")) | CB56: =IF(AND($B56<>0,J56=""),"* No olvide ingresar la variable "&J$51&""&" (Digite CERO si no tiene). ",IF(J56>$B56,"* La variable Migrantes no debe ser mayor al Total Ambos Sexos. ","")) | CK56: =IF(AND($B56<>0,I56=""),1,IF(I56>$B56,1,0)) -> 0 | CL56: =IF(AND($B56<>0,J56=""),1,IF(J56>$B56,1,0)) -> 0
A57: Muy Anormal | B57: =SUM(C57+D57) -> 0 | C57: =SUM(E57+G57) -> 0 | D57: =SUM(F57+H57) -> 0 | K57: =$CA57&CB57 | CA57: =IF(AND($B57<>0,I57=""),"* No olvide ingresar la variable "&I$51&""&". Digite CERO si no tiene. ",IF(I57>$B57,"* La variable Pueblos Originarios no debe ser mayor al Total Ambos Sexos. ","")) | CB57: =IF(AND($B57<>0,J57=""),"* No olvide ingresar la variable "&J$51&""&" (Digite CERO si no tiene). ",IF(J57>$B57,"* La variable Migrantes no debe ser mayor al Total Ambos Sexos. ","")) | CK57: =IF(AND($B57<>0,I57=""),1,IF(I57>$B57,1,0)) -> 0 | CL57: =IF(AND($B57<>0,J57=""),1,IF(J57>$B57,1,0)) -> 0
A58: SECCIÓN A.5: TIPO DE ALIMENTACIÓN NIÑOS Y NIÑAS CONTROLADOS
A59: TIPO DE ALIMENTACIÓN | C59: TOTAL | D59: SEGÚN CONTROL PROGRAMÁTICO | K59: Pueblos Originarios | L59: Migrantes
D60: Diada hasta 10 días de vida | E60: Diada entre 11 y 28 días de vida | F60: Del 1° mes | G60: Del 3° mes | H60: Del 6° mes | I60: Del 12° mes | J60: Del 24° mes
A61: Lactancia Materna exclusiva (LME) | C61: =SUM(D61:H61) -> 0 | M61: =$CA61&CB61 | CA61: =IF(AND($C61<>0,K61=""),"* No olvide ingresar la variable "&K$59&""&". Digite CERO si no tiene. ",IF(K61>$C61,"* La variable Pueblos Originarios no debe ser mayor al Total. ","")) | CB61: =IF(AND($C61<>0,L61=""),"* No olvide ingresar la variable "&L$59&""&". Digite CERO si no tiene. ",IF(L61>$C61,"* La variable Migrantes no debe ser mayor al Total. ","")) | CK61: =IF(AND($C61<>0,K61=""),1,IF(K61>$C61,1,0)) -> 0 | CL61: =IF(AND($C61<>0,L61=""),1,IF(L61>$C61,1,0)) -> 0
A62: Lactancia Materna más Formula Láctea (LM/FL) | C62: =SUM(D62:H62) -> 0 | M62: =$CA62&CB62 | CA62: =IF(AND($C62<>0,K62=""),"* No olvide ingresar la variable "&K$59&""&". Digite CERO si no tiene. ",IF(K62>$C62,"* La variable Pueblos Originarios no debe ser mayor al Total. ","")) | CB62: =IF(AND($C62<>0,L62=""),"* No olvide ingresar la variable "&L$59&""&". Digite CERO si no tiene. ",IF(L62>$C62,"* La variable Migrantes no debe ser mayor al Total. ","")) | CK62: =IF(AND($C62<>0,K62=""),1,IF(K62>$C62,1,0)) -> 0 | CL62: =IF(AND($C62<>0,L62=""),1,IF(L62>$C62,1,0)) -> 0
A63: Formula Láctea (FL) | C63: =SUM(D63:H63) -> 0 | M63: =$CA63&CB63 | CA63: =IF(AND($C63<>0,K63=""),"* No olvide ingresar la variable "&K$59&""&". Digite CERO si no tiene. ",IF(K63>$C63,"* La variable Pueblos Originarios no debe ser mayor al Total. ","")) | CB63: =IF(AND($C63<>0,L63=""),"* No olvide ingresar la variable "&L$59&""&". Digite CERO si no tiene. ",IF(L63>$C63,"* La variable Migrantes no debe ser mayor al Total. ","")) | CK63: =IF(AND($C63<>0,K63=""),1,IF(K63>$C63,1,0)) -> 0 | CL63: =IF(AND($C63<>0,L63=""),1,IF(L63>$C63,1,0)) -> 0
A64: Lactancia Materna más Alimentación Complementaria (LM/AC) | C64: =SUM(H64:J64) -> 0 | M64: =$CA64&CB64 | CA64: =IF(AND($C64<>0,K64=""),"* No olvide ingresar la variable "&K$59&""&". Digite CERO si no tiene. ",IF(K64>$C64,"* La variable Pueblos Originarios no debe ser mayor al Total. ","")) | CB64: =IF(AND($C64<>0,L64=""),"* No olvide ingresar la variable "&L$59&""&". Digite CERO si no tiene. ",IF(L64>$C64,"* La variable Migrantes no debe ser mayor al Total. ","")) | CK64: =IF(AND($C64<>0,K64=""),1,IF(K64>$C64,1,0)) -> 0 | CL64: =IF(AND($C64<>0,L64=""),1,IF(L64>$C64,1,0)) -> 0
A65: Lactancia Materna más Fórmula Láctea más Alimentación Complementaria (LM/FL/AC) | C65: =SUM(H65:J65) -> 0 | M65: =$CA65&CB65 | CA65: =IF(AND($C65<>0,K65=""),"* No olvide ingresar la variable "&K$59&""&". Digite CERO si no tiene. ",IF(K65>$C65,"* La variable Pueblos Originarios no debe ser mayor al Total. ","")) | CB65: =IF(AND($C65<>0,L65=""),"* No olvide ingresar la variable "&L$59&""&". Digite CERO si no tiene. ",IF(L65>$C65,"* La variable Migrantes no debe ser mayor al Total. ","")) | CK65: =IF(AND($C65<>0,K65=""),1,IF(K65>$C65,1,0)) -> 0 | CL65: =IF(AND($C65<>0,L65=""),1,IF(L65>$C65,1,0)) -> 0
A66: Fórmula Láctea más Alimentación Complementaria (FL/AC) | C66: =SUM(H66:J66) -> 0 | M66: =$CA66&CB66 | CA66: =IF(AND($C66<>0,K66=""),"* No olvide ingresar la variable "&K$59&""&". Digite CERO si no tiene. ",IF(K66>$C66,"* La variable Pueblos Originarios no debe ser mayor al Total. ","")) | CB66: =IF(AND($C66<>0,L66=""),"* No olvide ingresar la variable "&L$59&""&". Digite CERO si no tiene. ",IF(L66>$C66,"* La variable Migrantes no debe ser mayor al Total. ","")) | CK66: =IF(AND($C66<>0,K66=""),1,IF(K66>$C66,1,0)) -> 0 | CL66: =IF(AND($C66<>0,L66=""),1,IF(L66>$C66,1,0)) -> 0
A67: Total de niños y niñas controlados | C67: =SUM(D67:J67) -> 0 | M67: =$CA67&CB67 | CA67: =IF(AND($C67<>0,K67=""),"* No olvide ingresar la variable "&K$59&""&". Digite CERO si no tiene. ",IF(K67>$C67,"* La variable Pueblos Originarios no debe ser mayor al Total. ","")) | CB67: =IF(AND($C67<>0,L67=""),"* No olvide ingresar la variable "&L$59&""&". Digite CERO si no tiene. ",IF(L67>$C67,"* La variable Migrantes no debe ser mayor al Total. ","")) | CK67: =IF(AND($C67<>0,K67=""),1,IF(K67>$C67,1,0)) -> 0 | CL67: =IF(AND($C67<>0,L67=""),1,IF(L67>$C67,1,0)) -> 0
A68: SECCIÓN A.6: RESULTADOS RADIOGRAFÍA DE PELVIS (CADERA)
