Workbook

Sheet CONSOLIDADO
A1: SERVICIO DE SALUD
A2: =CONCATENATE("COMUNA: ",[1]NOMBRE!B2, " (",[1]NOMBRE!C2,[1]NOMBRE!D2,[1]NOMBRE!E2,[1]NOMBRE!F2,[1]NOMBRE!G2,")") -> COMUNA: 0 (00000)
A3: =CONCATENATE("ESTABLECIMIENTO/ESTRATEGIA: ", [1]NOMBRE!B3, " (",[1]NOMBRE!C3,[1]NOMBRE!D3,[1]NOMBRE!E3,[1]NOMBRE!F3,[1]NOMBRE!G3,[1]NOMBRE!H3,")") -> ESTABLECIMIENTO/ESTRATEGIA: 0 (000000)
A4: =CONCATENATE("MES: ",[1]NOMBRE!B6, " (",[1]NOMBRE!C6,[1]NOMBRE!D6,")") -> MES: 0 (00)
A5: =CONCATENATE("AÑO: ",[1]NOMBRE!B7) -> AÑO: 2025
A6: REM-A03. APLICACIÓN Y RESULTADOS DE ESCALAS DE EVALUACIÓN
A8: SECCIÓN A: APLICACIÓN DE INSTRUMENTO Y RESULTADO EN EL NIÑO (A)
A9: SECCIÓN A.1: APLICACIÓN Y RESULTADOS DE PAUTA BREVE
A10: EVALUACIONES POR EDAD DEL NIÑO | C10: TOTAL | F10: RANGO ETARIO Y SEXO
F11: Menos de 1 mes | H11: 1 mes | J11: 2 meses | L11: 3 meses | N11: 4 meses | P11: 5 meses | R11: 6 meses | T11: 7 - 11 meses | V11: 12 - 17 meses | X11: 18 - 24 meses
C12: Ambos Sexos | D12: Hombres | E12: Mujeres | F12: Hombres | G12: Mujeres | H12: Hombres | I12: Mujeres | J12: Hombres | K12: Mujeres | L12: Hombres | M12: Mujeres | N12: Hombres | O12: Mujeres | P12: Hombres | Q12: Mujeres | R12: Hombres | S12: Mujeres | T12: Hombres | U12: Mujeres | V12: Hombres | W12: Mujeres | X12: Hombres | Y12: Mujeres
A13: Aplicación Pauta Breve | C13: =SUM(D13+E13) -> 0 | D13: =SUM(F13+H13+J13+L13+N13+P13+R13+T13+V13+X13) -> 0 | E13: =SUM(G13+I13+K13+M13+O13+Q13+S13+U13+W13+Y13) -> 0
A14: Resultados | B14: Normal | C14: =SUM(D14+E14) -> 0 | D14: =SUM(F14+H14+J14+L14+N14+P14+R14+T14+V14+X14) -> 0 | E14: =SUM(G14+I14+K14+M14+O14+Q14+S14+U14+W14+Y14) -> 0
B15: Alterado | C15: =SUM(D15+E15) -> 0 | D15: =SUM(F15+H15+J15+L15+N15+P15+R15+T15+V15+X15) -> 0 | E15: =SUM(G15+I15+K15+M15+O15+Q15+S15+U15+W15+Y15) -> 0
A16: SECCIÓN A.2: RESULTADOS DE LA APLICACIÓN DE ESCALA DE EVALUACIÓN DEL DESARROLLO PSICOMOTOR
A17: ACTIVIDAD | B17: RESULTADO | C17: TOTAL | F17: RANGO ETARIO Y SEXO | R17: Pueblos Originarios | S17: Migrantes
F18: Menos de 7 meses | H18: 7 - 11 meses | J18: 12 - 17 meses | L18: 18 - 23 meses | N18: 24 - 47 meses | P18: 48 - 59 meses
C19: Ambos Sexos | D19: Hombres | E19: Mujeres | F19: Hombres | G19: Mujeres | H19: Hombres | I19: Mujeres | J19: Hombres | K19: Mujeres | L19: Hombres | M19: Mujeres | N19: Hombres | O19: Mujeres | P19: Hombres | Q19: Mujeres
A20: Aplicación test de Desarrollo Psicomotor | C20: =SUM(D20+E20) -> 0 | D20: =SUM(F20+H20+J20+L20+N20+P20) -> 0 | E20: =SUM(G20+I20+K20+M20+O20+Q20) -> 0 | T20: =$CA20&CB20 | CA20: =IF(AND($C20<>0,R20=""),"* No olvide ingresar la variable "&R$17&""&". Digite CERO si no tiene. ",IF(R20>$C20,"* La variable Pueblos Originarios no debe ser mayor al Total Ambos Sexos. ","")) | CB20: =IF(AND($C20<>0,S20=""),"* No olvide ingresar la variable "&S$17&""&". Digite CERO si no tiene. ",IF(S20>$C20,"* La variable Migrantes no debe ser mayor al Total Ambos Sexos. ","")) | CK20: =IF(AND($C20<>0,R20=""),1,IF(R20>$C20,1,0)) -> 0 | CL20: =IF(AND($C20<>0,S20=""),1,IF(S20>$C20,1,0)) -> 0
A21: Primera Evaluación | B21: Normal | C21: =SUM(D21+E21) -> 0 | D21: =SUM(F21+H21+J21+L21+N21+P21) -> 0 | E21: =SUM(G21+I21+K21+M21+O21+Q21) -> 0 | T21: =$CA21&CB21 | CA21: =IF(AND($C21<>0,R21=""),"* No olvide ingresar la variable "&R$17&""&". Digite CERO si no tiene. ",IF(R21>$C21,"* La variable Pueblos Originarios no debe ser mayor al Total Ambos Sexos. ","")) | CB21: =IF(AND($C21<>0,S21=""),"* No olvide ingresar la variable "&S$17&""&". Digite CERO si no tiene. ",IF(S21>$C21,"* La variable Migrantes no debe ser mayor al Total Ambos Sexos. ","")) | CK21: =IF(AND($C21<>0,R21=""),1,IF(R21>$C21,1,0)) -> 0 | CL21: =IF(AND($C21<>0,S21=""),1,IF(S21>$C21,1,0)) -> 0
B22: Normal con Rezago | C22: =SUM(D22+E22) -> 0 | D22: =SUM(F22+H22+J22+L22+N22+P22) -> 0 | E22: =SUM(G22+I22+K22+M22+O22+Q22) -> 0 | T22: =$CA22&CB22 | CA22: =IF(AND($C22<>0,R22=""),"* No olvide ingresar la variable "&R$17&""&". Digite CERO si no tiene. ",IF(R22>$C22,"* La variable Pueblos Originarios no debe ser mayor al Total Ambos Sexos. ","")) | CB22: =IF(AND($C22<>0,S22=""),"* No olvide ingresar la variable "&S$17&""&". Digite CERO si no tiene. ",IF(S22>$C22,"* La variable Migrantes no debe ser mayor al Total Ambos Sexos. ","")) | CK22: =IF(AND($C22<>0,R22=""),1,IF(R22>$C22,1,0)) -> 0 | CL22: =IF(AND($C22<>0,S22=""),1,IF(S22>$C22,1,0)) -> 0
B23: Riesgo | C23: =SUM(D23+E23) -> 0 | D23: =SUM(F23+H23+J23+L23+N23+P23) -> 0 | E23: =SUM(G23+I23+K23+M23+O23+Q23) -> 0 | T23: =$CA23&CB23 | CA23: =IF(AND($C23<>0,R23=""),"* No olvide ingresar la variable "&R$17&""&". Digite CERO si no tiene. ",IF(R23>$C23,"* La variable Pueblos Originarios no debe ser mayor al Total Ambos Sexos. ","")) | CB23: =IF(AND($C23<>0,S23=""),"* No olvide ingresar la variable "&S$17&""&". Digite CERO si no tiene. ",IF(S23>$C23,"* La variable Migrantes no debe ser mayor al Total Ambos Sexos. ","")) | CK23: =IF(AND($C23<>0,R23=""),1,IF(R23>$C23,1,0)) -> 0 | CL23: =IF(AND($C23<>0,S23=""),1,IF(S23>$C23,1,0)) -> 0
B24: Retraso | C24: =SUM(D24+E24) -> 0 | D24: =SUM(F24+H24+J24+L24+N24+P24) -> 0 | E24: =SUM(G24+I24+K24+M24+O24+Q24) -> 0 | T24: =$CA24&CB24 | CA24: =IF(AND($C24<>0,R24=""),"* No olvide ingresar la variable "&R$17&""&". Digite CERO si no tiene. ",IF(R24>$C24,"* La variable Pueblos Originarios no debe ser mayor al Total Ambos Sexos. ","")) | CB24: =IF(AND($C24<>0,S24=""),"* No olvide ingresar la variable "&S$17&""&". Digite CERO si no tiene. ",IF(S24>$C24,"* La variable Migrantes no debe ser mayor al Total Ambos Sexos. ","")) | CK24: =IF(AND($C24<>0,R24=""),1,IF(R24>$C24,1,0)) -> 0 | CL24: =IF(AND($C24<>0,S24=""),1,IF(S24>$C24,1,0)) -> 0
A25: Reevaluación | B25: Normal (desde normal con rezago) | C25: =SUM(D25+E25) -> 0 | D25: =SUM(F25+H25+J25+L25+N25+P25) -> 0 | E25: =SUM(G25+I25+K25+M25+O25+Q25) -> 0 | T25: =$CA25&CB25 | CA25: =IF(AND($C25<>0,R25=""),"* No olvide ingresar la variable "&R$17&""&". Digite CERO si no tiene. ",IF(R25>$C25,"* La variable Pueblos Originarios no debe ser mayor al Total Ambos Sexos. ","")) | CB25: =IF(AND($C25<>0,S25=""),"* No olvide ingresar la variable "&S$17&""&". Digite CERO si no tiene. ",IF(S25>$C25,"* La variable Migrantes no debe ser mayor al Total Ambos Sexos. ","")) | CK25: =IF(AND($C25<>0,R25=""),1,IF(R25>$C25,1,0)) -> 0 | CL25: =IF(AND($C25<>0,S25=""),1,IF(S25>$C25,1,0)) -> 0
B26: Normal (desde riesgo) | C26: =SUM(D26+E26) -> 0 | D26: =SUM(F26+H26+J26+L26+N26+P26) -> 0 | E26: =SUM(G26+I26+K26+M26+O26+Q26) -> 0 | T26: =$CA26&CB26 | CA26: =IF(AND($C26<>0,R26=""),"* No olvide ingresar la variable "&R$17&""&". Digite CERO si no tiene. ",IF(R26>$C26,"* La variable Pueblos Originarios no debe ser mayor al Total Ambos Sexos. ","")) | CB26: =IF(AND($C26<>0,S26=""),"* No olvide ingresar la variable "&S$17&""&". Digite CERO si no tiene. ",IF(S26>$C26,"* La variable Migrantes no debe ser mayor al Total Ambos Sexos. ","")) | CK26: =IF(AND($C26<>0,R26=""),1,IF(R26>$C26,1,0)) -> 0 | CL26: =IF(AND($C26<>0,S26=""),1,IF(S26>$C26,1,0)) -> 0
B27: Normal (desde retraso) | C27: =SUM(D27+E27) -> 0 | D27: =SUM(F27+H27+J27+L27+N27+P27) -> 0 | E27: =SUM(G27+I27+K27+M27+O27+Q27) -> 0 | T27: =$CA27&CB27 | CA27: =IF(AND($C27<>0,R27=""),"* No olvide ingresar la variable "&R$17&""&". Digite CERO si no tiene. ",IF(R27>$C27,"* La variable Pueblos Originarios no debe ser mayor al Total Ambos Sexos. ","")) | CB27: =IF(AND($C27<>0,S27=""),"* No olvide ingresar la variable "&S$17&""&". Digite CERO si no tiene. ",IF(S27>$C27,"* La variable Migrantes no debe ser mayor al Total Ambos Sexos. ","")) | CK27: =IF(AND($C27<>0,R27=""),1,IF(R27>$C27,1,0)) -> 0 | CL27: =IF(AND($C27<>0,S27=""),1,IF(S27>$C27,1,0)) -> 0
B28: Normal Rezago (desde riesgo) | C28: =SUM(D28+E28) -> 0 | D28: =SUM(F28+H28+J28+L28+N28+P28) -> 0 | E28: =SUM(G28+I28+K28+M28+O28+Q28) -> 0 | T28: =$CA28&CB28 | CA28: =IF(AND($C28<>0,R28=""),"* No olvide ingresar la variable "&R$17&""&". Digite CERO si no tiene. ",IF(R28>$C28,"* La variable Pueblos Originarios no debe ser mayor al Total Ambos Sexos. ","")) | CB28: =IF(AND($C28<>0,S28=""),"* No olvide ingresar la variable "&S$17&""&". Digite CERO si no tiene. ",IF(S28>$C28,"* La variable Migrantes no debe ser mayor al Total Ambos Sexos. ","")) | CK28: =IF(AND($C28<>0,R28=""),1,IF(R28>$C28,1,0)) -> 0 | CL28: =IF(AND($C28<>0,S28=""),1,IF(S28>$C28,1,0)) -> 0
B29: Normal con Rezago (desde retraso) | C29: =SUM(D29+E29) -> 0 | D29: =SUM(F29+H29+J29+L29+N29+P29) -> 0 | E29: =SUM(G29+I29+K29+M29+O29+Q29) -> 0 | T29: =$CA29&CB29 | CA29: =IF(AND($C29<>0,R29=""),"* No olvide ingresar la variable "&R$17&""&". Digite CERO si no tiene. ",IF(R29>$C29,"* La variable Pueblos Originarios no debe ser mayor al Total Ambos Sexos. ","")) | CB29: =IF(AND($C29<>0,S29=""),"* No olvide ingresar la variable "&S$17&""&". Digite CERO si no tiene. ",IF(S29>$C29,"* La variable Migrantes no debe ser mayor al Total Ambos Sexos. ","")) | CK29: =IF(AND($C29<>0,R29=""),1,IF(R29>$C29,1,0)) -> 0 | CL29: =IF(AND($C29<>0,S29=""),1,IF(S29>$C29,1,0)) -> 0
B30: Riesgo (desde retraso) | C30: =SUM(D30:E30) -> 0 | D30: =SUM(F30+H30+J30+L30+N30+P30) -> 0 | E30: =SUM(G30+I30+K30+M30+O30+Q30) -> 0 | T30: =$CA30&CB30 | CA30: =IF(AND($C30<>0,R30=""),"* No olvide ingresar la variable "&R$17&""&". Digite CERO si no tiene. ",IF(R30>$C30,"* La variable Pueblos Originarios no debe ser mayor al Total Ambos Sexos. ","")) | CB30: =IF(AND($C30<>0,S30=""),"* No olvide ingresar la variable "&S$17&""&". Digite CERO si no tiene. ",IF(S30>$C30,"* La variable Migrantes no debe ser mayor al Total Ambos Sexos. ","")) | CK30: =IF(AND($C30<>0,R30=""),1,IF(R30>$C30,1,0)) -> 0 | CL30: =IF(AND($C30<>0,S30=""),1,IF(S30>$C30,1,0)) -> 0
B31: Normal con Rezago (desde normal con rezago) | C31: =SUM(D31:E31) -> 0 | D31: =SUM(F31+H31+J31+L31+N31+P31) -> 0 | E31: =SUM(G31+I31+K31+M31+O31+Q31) -> 0 | T31: =$CA31&CB31 | CA31: =IF(AND($C31<>0,R31=""),"* No olvide ingresar la variable "&R$17&""&". Digite CERO si no tiene. ",IF(R31>$C31,"* La variable Pueblos Originarios no debe ser mayor al Total Ambos Sexos. ","")) | CB31: =IF(AND($C31<>0,S31=""),"* No olvide ingresar la variable "&S$17&""&". Digite CERO si no tiene. ",IF(S31>$C31,"* La variable Migrantes no debe ser mayor al Total Ambos Sexos. ","")) | CK31: =IF(AND($C31<>0,R31=""),1,IF(R31>$C31,1,0)) -> 0 | CL31: =IF(AND($C31<>0,S31=""),1,IF(S31>$C31,1,0)) -> 0
B32: Riesgo (desde riesgo) | C32: =SUM(D32+E32) -> 0 | D32: =SUM(F32+H32+J32+L32+N32+P32) -> 0 | E32: =SUM(G32+I32+K32+M32+O32+Q32) -> 0 | T32: =$CA32&CB32 | CA32: =IF(AND($C32<>0,R32=""),"* No olvide ingresar la variable "&R$17&""&". Digite CERO si no tiene. ",IF(R32>$C32,"* La variable Pueblos Originarios no debe ser mayor al Total Ambos Sexos. ","")) | CB32: =IF(AND($C32<>0,S32=""),"* No olvide ingresar la variable "&S$17&""&". Digite CERO si no tiene. ",IF(S32>$C32,"* La variable Migrantes no debe ser mayor al Total Ambos Sexos. ","")) | CK32: =IF(AND($C32<>0,R32=""),1,IF(R32>$C32,1,0)) -> 0 | CL32: =IF(AND($C32<>0,S32=""),1,IF(S32>$C32,1,0)) -> 0
B33: Riesgo (desde normal con rezago) | C33: =SUM(D33+E33) -> 0 | D33: =SUM(F33+H33+J33+L33+N33+P33) -> 0 | E33: =SUM(G33+I33+K33+M33+O33+Q33) -> 0 | T33: =$CA33&CB33 | CA33: =IF(AND($C33<>0,R33=""),"* No olvide ingresar la variable "&R$17&""&". Digite CERO si no tiene. ",IF(R33>$C33,"* La variable Pueblos Originarios no debe ser mayor al Total Ambos Sexos. ","")) | CB33: =IF(AND($C33<>0,S33=""),"* No olvide ingresar la variable "&S$17&""&". Digite CERO si no tiene. ",IF(S33>$C33,"* La variable Migrantes no debe ser mayor al Total Ambos Sexos. ","")) | CK33: =IF(AND($C33<>0,R33=""),1,IF(R33>$C33,1,0)) -> 0 | CL33: =IF(AND($C33<>0,S33=""),1,IF(S33>$C33,1,0)) -> 0
B34: Retraso (desde retraso) | C34: =SUM(D34+E34) -> 0 | D34: =SUM(F34+H34+J34+L34+N34+P34) -> 0 | E34: =SUM(G34+I34+K34+M34+O34+Q34) -> 0 | T34: =$CA34&CB34 | CA34: =IF(AND($C34<>0,R34=""),"* No olvide ingresar la variable "&R$17&""&". Digite CERO si no tiene. ",IF(R34>$C34,"* La variable Pueblos Originarios no debe ser mayor al Total Ambos Sexos. ","")) | CB34: =IF(AND($C34<>0,S34=""),"* No olvide ingresar la variable "&S$17&""&". Digite CERO si no tiene. ",IF(S34>$C34,"* La variable Migrantes no debe ser mayor al Total Ambos Sexos. ","")) | CK34: =IF(AND($C34<>0,R34=""),1,IF(R34>$C34,1,0)) -> 0 | CL34: =IF(AND($C34<>0,S34=""),1,IF(S34>$C34,1,0)) -> 0
B35: Retraso (desde riesgo) | C35: =SUM(D35+E35) -> 0 | D35: =SUM(F35+H35+J35+L35+N35+P35) -> 0 | E35: =SUM(G35+I35+K35+M35+O35+Q35) -> 0 | T35: =$CA35&CB35 | CA35: =IF(AND($C35<>0,R35=""),"* No olvide ingresar la variable "&R$17&""&". Digite CERO si no tiene. ",IF(R35>$C35,"* La variable Pueblos Originarios no debe ser mayor al Total Ambos Sexos. ","")) | CB35: =IF(AND($C35<>0,S35=""),"* No olvide ingresar la variable "&S$17&""&". Digite CERO si no tiene. ",IF(S35>$C35,"* La variable Migrantes no debe ser mayor al Total Ambos Sexos. ","")) | CK35: =IF(AND($C35<>0,R35=""),1,IF(R35>$C35,1,0)) -> 0 | CL35: =IF(AND($C35<>0,S35=""),1,IF(S35>$C35,1,0)) -> 0
B36: Retraso (desde normal con rezago) | C36: =SUM(D36+E36) -> 0 | D36: =SUM(F36+H36+J36+L36+N36+P36) -> 0 | E36: =SUM(G36+I36+K36+M36+O36+Q36) -> 0 | T36: =$CA36&CB36 | CA36: =IF(AND($C36<>0,R36=""),"* No olvide ingresar la variable "&R$17&""&". Digite CERO si no tiene. ",IF(R36>$C36,"* La variable Pueblos Originarios no debe ser mayor al Total Ambos Sexos. ","")) | CB36: =IF(AND($C36<>0,S36=""),"* No olvide ingresar la variable "&S$17&""&". Digite CERO si no tiene. ",IF(S36>$C36,"* La variable Migrantes no debe ser mayor al Total Ambos Sexos. ","")) | CK36: =IF(AND($C36<>0,R36=""),1,IF(R36>$C36,1,0)) -> 0 | CL36: =IF(AND($C36<>0,S36=""),1,IF(S36>$C36,1,0)) -> 0
A37: Derivados a Especialidad | B37: Riesgo | C37: =SUM(D37+E37) -> 0 | D37: =SUM(F37+H37+J37+L37+N37+P37) -> 0 | E37: =SUM(G37+I37+K37+M37+O37+Q37) -> 0 | T37: =$CA37&CB37 | CA37: =IF(AND($C37<>0,R37=""),"* No olvide ingresar la variable "&R$17&""&". Digite CERO si no tiene. ",IF(R37>$C37,"* La variable Pueblos Originarios no debe ser mayor al Total Ambos Sexos. ","")) | CB37: =IF(AND($C37<>0,S37=""),"* No olvide ingresar la variable "&S$17&""&". Digite CERO si no tiene. ",IF(S37>$C37,"* La variable Migrantes no debe ser mayor al Total Ambos Sexos. ","")) | CK37: =IF(AND($C37<>0,R37=""),1,IF(R37>$C37,1,0)) -> 0 | CL37: =IF(AND($C37<>0,S37=""),1,IF(S37>$C37,1,0)) -> 0
B38: Retraso | C38: =SUM(D38+E38) -> 0 | D38: =SUM(F38+H38+J38+L38+N38+P38) -> 0 | E38: =SUM(G38+I38+K38+M38+O38+Q38) -> 0 | T38: =$CA38&CB38 | CA38: =IF(AND($C38<>0,R38=""),"* No olvide ingresar la variable "&R$17&""&". Digite CERO si no tiene. ",IF(R38>$C38,"* La variable Pueblos Originarios no debe ser mayor al Total Ambos Sexos. ","")) | CB38: =IF(AND($C38<>0,S38=""),"* No olvide ingresar la variable "&S$17&""&". Digite CERO si no tiene. ",IF(S38>$C38,"* La variable Migrantes no debe ser mayor al Total Ambos Sexos. ","")) | CK38: =IF(AND($C38<>0,R38=""),1,IF(R38>$C38,1,0)) -> 0 | CL38: =IF(AND($C38<>0,S38=""),1,IF(S38>$C38,1,0)) -> 0
A39: Traslado de Establecimiento | B39: Normal con Rezago | C39: =SUM(D39+E39) -> 0 | D39: =SUM(F39+H39+J39+L39+N39+P39) -> 0 | E39: =SUM(G39+I39+K39+M39+O39+Q39) -> 0 | T39: =$CA39&CB39 | CA39: =IF(AND($C39<>0,R39=""),"* No olvide ingresar la variable "&R$17&""&". Digite CERO si no tiene. ",IF(R39>$C39,"* La variable Pueblos Originarios no debe ser mayor al Total Ambos Sexos. ","")) | CB39: =IF(AND($C39<>0,S39=""),"* No olvide ingresar la variable "&S$17&""&". Digite CERO si no tiene. ",IF(S39>$C39,"* La variable Migrantes no debe ser mayor al Total Ambos Sexos. ","")) | CK39: =IF(AND($C39<>0,R39=""),1,IF(R39>$C39,1,0)) -> 0 | CL39: =IF(AND($C39<>0,S39=""),1,IF(S39>$C39,1,0)) -> 0
B40: Riesgo | C40: =SUM(D40+E40) -> 0 | D40: =SUM(F40+H40+J40+L40+N40+P40) -> 0 | E40: =SUM(G40+I40+K40+M40+O40+Q40) -> 0 | T40: =$CA40&CB40 | CA40: =IF(AND($C40<>0,R40=""),"* No olvide ingresar la variable "&R$17&""&". Digite CERO si no tiene. ",IF(R40>$C40,"* La variable Pueblos Originarios no debe ser mayor al Total Ambos Sexos. ","")) | CB40: =IF(AND($C40<>0,S40=""),"* No olvide ingresar la variable "&S$17&""&". Digite CERO si no tiene. ",IF(S40>$C40,"* La variable Migrantes no debe ser mayor al Total Ambos Sexos. ","")) | CK40: =IF(AND($C40<>0,R40=""),1,IF(R40>$C40,1,0)) -> 0 | CL40: =IF(AND($C40<>0,S40=""),1,IF(S40>$C40,1,0)) -> 0
B41: Retraso | C41: =SUM(D41+E41) -> 0 | D41: =SUM(F41+H41+J41+L41+N41+P41) -> 0 | E41: =SUM(G41+I41+K41+M41+O41+Q41) -> 0 | T41: =$CA41&CB41 | CA41: =IF(AND($C41<>0,R41=""),"* No olvide ingresar la variable "&R$17&""&". Digite CERO si no tiene. ",IF(R41>$C41,"* La variable Pueblos Originarios no debe ser mayor al Total Ambos Sexos. ","")) | CB41: =IF(AND($C41<>0,S41=""),"* No olvide ingresar la variable "&S$17&""&". Digite CERO si no tiene. ",IF(S41>$C41,"* La variable Migrantes no debe ser mayor al Total Ambos Sexos. ","")) | CK41: =IF(AND($C41<>0,R41=""),1,IF(R41>$C41,1,0)) -> 0 | CL41: =IF(AND($C41<>0,S41=""),1,IF(S41>$C41,1,0)) -> 0
...

Sheet ENERO
A1: SERVICIO DE SALUD
A2: =CONCATENATE("COMUNA: ",[2]NOMBRE!B2, " (",[2]NOMBRE!C2,[2]NOMBRE!D2,[2]NOMBRE!E2,[2]NOMBRE!F2,[2]NOMBRE!G2,")") -> COMUNA: LINARES (07401)
A3: =CONCATENATE("ESTABLECIMIENTO/ESTRATEGIA: ", [2]NOMBRE!B3, " (",[2]NOMBRE!C3,[2]NOMBRE!D3,[2]NOMBRE!E3,[2]NOMBRE!F3,[2]NOMBRE!G3,[2]NOMBRE!H3,")") -> ESTABLECIMIENTO/ESTRATEGIA: HOSPITAL PRESIDENTE CARLOS IBAÑEZ DEL CAMPO (116108)
A4: =CONCATENATE("MES: ",[2]NOMBRE!B6, " (",[2]NOMBRE!C6,[2]NOMBRE!D6,")") -> MES: ENERO (01)
A5: =CONCATENATE("AÑO: ",[2]NOMBRE!B7) -> AÑO: 2025
A6: REM-A03. APLICACIÓN Y RESULTADOS DE ESCALAS DE EVALUACIÓN
A8: SECCIÓN A: APLICACIÓN DE INSTRUMENTO Y RESULTADO EN EL NIÑO (A)
A9: SECCIÓN A.1: APLICACIÓN Y RESULTADOS DE PAUTA BREVE
A10: EVALUACIONES POR EDAD DEL NIÑO | C10: TOTAL | F10: RANGO ETARIO Y SEXO
F11: Menos de 1 mes | H11: 1 mes | J11: 2 meses | L11: 3 meses | N11: 4 meses | P11: 5 meses | R11: 6 meses | T11: 7 - 11 meses | V11: 12 - 17 meses | X11: 18 - 24 meses
C12: Ambos Sexos | D12: Hombres | E12: Mujeres | F12: Hombres | G12: Mujeres | H12: Hombres | I12: Mujeres | J12: Hombres | K12: Mujeres | L12: Hombres | M12: Mujeres | N12: Hombres | O12: Mujeres | P12: Hombres | Q12: Mujeres | R12: Hombres | S12: Mujeres | T12: Hombres | U12: Mujeres | V12: Hombres | W12: Mujeres | X12: Hombres | Y12: Mujeres
A13: Aplicación Pauta Breve | C13: =SUM(D13+E13) -> 0 | D13: =SUM(F13+H13+J13+L13+N13+P13+R13+T13+V13+X13) -> 0 | E13: =SUM(G13+I13+K13+M13+O13+Q13+S13+U13+W13+Y13) -> 0
A14: Resultados | B14: Normal | C14: =SUM(D14+E14) -> 0 | D14: =SUM(F14+H14+J14+L14+N14+P14+R14+T14+V14+X14) -> 0 | E14: =SUM(G14+I14+K14+M14+O14+Q14+S14+U14+W14+Y14) -> 0
B15: Alterado | C15: =SUM(D15+E15) -> 0 | D15: =SUM(F15+H15+J15+L15+N15+P15+R15+T15+V15+X15) -> 0 | E15: =SUM(G15+I15+K15+M15+O15+Q15+S15+U15+W15+Y15) -> 0
A16: SECCIÓN A.2: RESULTADOS DE LA APLICACIÓN DE ESCALA DE EVALUACIÓN DEL DESARROLLO PSICOMOTOR
A17: ACTIVIDAD | B17: RESULTADO | C17: TOTAL | F17: RANGO ETARIO Y SEXO | R17: Pueblos Originarios | S17: Migrantes
F18: Menos de 7 meses | H18: 7 - 11 meses | J18: 12 - 17 meses | L18: 18 - 23 meses | N18: 24 - 47 meses | P18: 48 - 59 meses
C19: Ambos Sexos | D19: Hombres | E19: Mujeres | F19: Hombres | G19: Mujeres | H19: Hombres | I19: Mujeres | J19: Hombres | K19: Mujeres | L19: Hombres | M19: Mujeres | N19: Hombres | O19: Mujeres | P19: Hombres | Q19: Mujeres
A20: Aplicación test de Desarrollo Psicomotor | C20: =SUM(D20+E20) -> 0 | D20: =SUM(F20+H20+J20+L20+N20+P20) -> 0 | E20: =SUM(G20+I20+K20+M20+O20+Q20) -> 0 | T20: =$CA20&CB20 | CA20: =IF(AND($C20<>0,R20=""),"* No olvide ingresar la variable "&R$17&""&". Digite CERO si no tiene. ",IF(R20>$C20,"* La variable Pueblos Originarios no debe ser mayor al Total Ambos Sexos. ","")) | CB20: =IF(AND($C20<>0,S20=""),"* No olvide ingresar la variable "&S$17&""&". Digite CERO si no tiene. ",IF(S20>$C20,"* La variable Migrantes no debe ser mayor al Total Ambos Sexos. ","")) | CK20: =IF(AND($C20<>0,R20=""),1,IF(R20>$C20,1,0)) -> 0 | CL20: =IF(AND($C20<>0,S20=""),1,IF(S20>$C20,1,0)) -> 0
A21: Primera Evaluación | B21: Normal | C21: =SUM(D21+E21) -> 0 | D21: =SUM(F21+H21+J21+L21+N21+P21) -> 0 | E21: =SUM(G21+I21+K21+M21+O21+Q21) -> 0 | T21: =$CA21&CB21 | CA21: =IF(AND($C21<>0,R21=""),"* No olvide ingresar la variable "&R$17&""&". Digite CERO si no tiene. ",IF(R21>$C21,"* La variable Pueblos Originarios no debe ser mayor al Total Ambos Sexos. ","")) | CB21: =IF(AND($C21<>0,S21=""),"* No olvide ingresar la variable "&S$17&""&". Digite CERO si no tiene. ",IF(S21>$C21,"* La variable Migrantes no debe ser mayor al Total Ambos Sexos. ","")) | CK21: =IF(AND($C21<>0,R21=""),1,IF(R21>$C21,1,0)) -> 0 | CL21: =IF(AND($C21<>0,S21=""),1,IF(S21>$C21,1,0)) -> 0
B22: Normal con Rezago | C22: =SUM(D22+E22) -> 0 | D22: =SUM(F22+H22+J22+L22+N22+P22) -> 0 | E22: =SUM(G22+I22+K22+M22+O22+Q22) -> 0 | T22: =$CA22&CB22 | CA22: =IF(AND($C22<>0,R22=""),"* No olvide ingresar la variable "&R$17&""&". Digite CERO si no tiene. ",IF(R22>$C22,"* La variable Pueblos Originarios no debe ser mayor al Total Ambos Sexos. ","")) | CB22: =IF(AND($C22<>0,S22=""),"* No olvide ingresar la variable "&S$17&""&". Digite CERO si no tiene. ",IF(S22>$C22,"* La variable Migrantes no debe ser mayor al Total Ambos Sexos. ","")) | CK22: =IF(AND($C22<>0,R22=""),1,IF(R22>$C22,1,0)) -> 0 | CL22: =IF(AND($C22<>0,S22=""),1,IF(S22>$C22,1,0)) -> 0
B23: Riesgo | C23: =SUM(D23+E23) -> 0 | D23: =SUM(F23+H23+J23+L23+N23+P23) -> 0 | E23: =SUM(G23+I23+K23+M23+O23+Q23) -> 0 | T23: =$CA23&CB23 | CA23: =IF(AND($C23<>0,R23=""),"* No olvide ingresar la variable "&R$17&""&". Digite CERO si no tiene. ",IF(R23>$C23,"* La variable Pueblos Originarios no debe ser mayor al Total Ambos Sexos. ","")) | CB23: =IF(AND($C23<>0,S23=""),"* No olvide ingresar la variable "&S$17&""&". Digite CERO si no tiene. ",IF(S23>$C23,"* La variable Migrantes no debe ser mayor al Total Ambos Sexos. ","")) | CK23: =IF(AND($C23<>0,R23=""),1,IF(R23>$C23,1,0)) -> 0 | CL23: =IF(AND($C23<>0,S23=""),1,IF(S23>$C23,1,0)) -> 0
B24: Retraso | C24: =SUM(D24+E24) -> 0 | D24: =SUM(F24+H24+J24+L24+N24+P24) -> 0 | E24: =SUM(G24+I24+K24+M24+O24+Q24) -> 0 | T24: =$CA24&CB24 | CA24: =IF(AND($C24<>0,R24=""),"* No olvide ingresar la variable "&R$17&""&". Digite CERO si no tiene. ",IF(R24>$C24,"* La variable Pueblos Originarios no debe ser mayor al Total Ambos Sexos. ","")) | CB24: =IF(AND($C24<>0,S24=""),"* No olvide ingresar la variable "&S$17&""&". Digite CERO si no tiene. ",IF(S24>$C24,"* La variable Migrantes no debe ser mayor al Total Ambos Sexos. ","")) | CK24: =IF(AND($C24<>0,R24=""),1,IF(R24>$C24,1,0)) -> 0 | CL24: =IF(AND($C24<>0,S24=""),1,IF(S24>$C24,1,0)) -> 0
A25: Reevaluación | B25: Normal (desde normal con rezago) | C25: =SUM(D25+E25) -> 0 | D25: =SUM(F25+H25+J25+L25+N25+P25) -> 0 | E25: =SUM(G25+I25+K25+M25+O25+Q25) -> 0 | T25: =$CA25&CB25 | CA25: =IF(AND($C25<>0,R25=""),"* No olvide ingresar la variable "&R$17&""&". Digite CERO si no tiene. ",IF(R25>$C25,"* La variable Pueblos Originarios no debe ser mayor al Total Ambos Sexos. ","")) | CB25: =IF(AND($C25<>0,S25=""),"* No olvide ingresar la variable "&S$17&""&". Digite CERO si no tiene. ",IF(S25>$C25,"* La variable Migrantes no debe ser mayor al Total Ambos Sexos. ","")) | CK25: =IF(AND($C25<>0,R25=""),1,IF(R25>$C25,1,0)) -> 0 | CL25: =IF(AND($C25<>0,S25=""),1,IF(S25>$C25,1,0)) -> 0
B26: Normal (desde riesgo) | C26: =SUM(D26+E26) -> 0 | D26: =SUM(F26+H26+J26+L26+N26+P26) -> 0 | E26: =SUM(G26+I26+K26+M26+O26+Q26) -> 0 | T26: =$CA26&CB26 | CA26: =IF(AND($C26<>0,R26=""),"* No olvide ingresar la variable "&R$17&""&". Digite CERO si no tiene. ",IF(R26>$C26,"* La variable Pueblos Originarios no debe ser mayor al Total Ambos Sexos. ","")) | CB26: =IF(AND($C26<>0,S26=""),"* No olvide ingresar la variable "&S$17&""&". Digite CERO si no tiene. ",IF(S26>$C26,"* La variable Migrantes no debe ser mayor al Total Ambos Sexos. ","")) | CK26: =IF(AND($C26<>0,R26=""),1,IF(R26>$C26,1,0)) -> 0 | CL26: =IF(AND($C26<>0,S26=""),1,IF(S26>$C26,1,0)) -> 0
B27: Normal (desde retraso) | C27: =SUM(D27+E27) -> 0 | D27: =SUM(F27+H27+J27+L27+N27+P27) -> 0 | E27: =SUM(G27+I27+K27+M27+O27+Q27) -> 0 | T27: =$CA27&CB27 | CA27: =IF(AND($C27<>0,R27=""),"* No olvide ingresar la variable "&R$17&""&". Digite CERO si no tiene. ",IF(R27>$C27,"* La variable Pueblos Originarios no debe ser mayor al Total Ambos Sexos. ","")) | CB27: =IF(AND($C27<>0,S27=""),"* No olvide ingresar la variable "&S$17&""&". Digite CERO si no tiene. ",IF(S27>$C27,"* La variable Migrantes no debe ser mayor al Total Ambos Sexos. ","")) | CK27: =IF(AND($C27<>0,R27=""),1,IF(R27>$C27,1,0)) -> 0 | CL27: =IF(AND($C27<>0,S27=""),1,IF(S27>$C27,1,0)) -> 0
B28: Normal Rezago (desde riesgo) | C28: =SUM(D28+E28) -> 0 | D28: =SUM(F28+H28+J28+L28+N28+P28) -> 0 | E28: =SUM(G28+I28+K28+M28+O28+Q28) -> 0 | T28: =$CA28&CB28 | CA28: =IF(AND($C28<>0,R28=""),"* No olvide ingresar la variable "&R$17&""&". Digite CERO si no tiene. ",IF(R28>$C28,"* La variable Pueblos Originarios no debe ser mayor al Total Ambos Sexos. ","")) | CB28: =IF(AND($C28<>0,S28=""),"* No olvide ingresar la variable "&S$17&""&". Digite CERO si no tiene. ",IF(S28>$C28,"* La variable Migrantes no debe ser mayor al Total Ambos Sexos. ","")) | CK28: =IF(AND($C28<>0,R28=""),1,IF(R28>$C28,1,0)) -> 0 | CL28: =IF(AND($C28<>0,S28=""),1,IF(S28>$C28,1,0)) -> 0
B29: Normal con Rezago (desde retraso) | C29: =SUM(D29+E29) -> 0 | D29: =SUM(F29+H29+J29+L29+N29+P29) -> 0 | E29: =SUM(G29+I29+K29+M29+O29+Q29) -> 0 | T29: =$CA29&CB29 | CA29: =IF(AND($C29<>0,R29=""),"* No olvide ingresar la variable "&R$17&""&". Digite CERO si no tiene. ",IF(R29>$C29,"* La variable Pueblos Originarios no debe ser mayor al Total Ambos Sexos. ","")) | CB29: =IF(AND($C29<>0,S29=""),"* No olvide ingresar la variable "&S$17&""&". Digite CERO si no tiene. ",IF(S29>$C29,"* La variable Migrantes no debe ser mayor al Total Ambos Sexos. ","")) | CK29: =IF(AND($C29<>0,R29=""),1,IF(R29>$C29,1,0)) -> 0 | CL29: =IF(AND($C29<>0,S29=""),1,IF(S29>$C29,1,0)) -> 0
B30: Riesgo (desde retraso) | C30: =SUM(D30:E30) -> 0 | D30: =SUM(F30+H30+J30+L30+N30+P30) -> 0 | E30: =SUM(G30+I30+K30+M30+O30+Q30) -> 0 | T30: =$CA30&CB30 | CA30: =IF(AND($C30<>0,R30=""),"* No olvide ingresar la variable "&R$17&""&". Digite CERO si no tiene. ",IF(R30>$C30,"* La variable Pueblos Originarios no debe ser mayor al Total Ambos Sexos. ","")) | CB30: =IF(AND($C30<>0,S30=""),"* No olvide ingresar la variable "&S$17&""&". Digite CERO si no tiene. ",IF(S30>$C30,"* La variable Migrantes no debe ser mayor al Total Ambos Sexos. ","")) | CK30: =IF(AND($C30<>0,R30=""),1,IF(R30>$C30,1,0)) -> 0 | CL30: =IF(AND($C30<>0,S30=""),1,IF(S30>$C30,1,0)) -> 0
B31: Normal con Rezago (desde normal con rezago) | C31: =SUM(D31:E31) -> 0 | D31: =SUM(F31+H31+J31+L31+N31+P31) -> 0 | E31: =SUM(G31+I31+K31+M31+O31+Q31) -> 0 | T31: =$CA31&CB31 | CA31: =IF(AND($C31<>0,R31=""),"* No olvide ingresar la variable "&R$17&""&". Digite CERO si no tiene. ",IF(R31>$C31,"* La variable Pueblos Originarios no debe ser mayor al Total Ambos Sexos. ","")) | CB31: =IF(AND($C31<>0,S31=""),"* No olvide ingresar la variable "&S$17&""&". Digite CERO si no tiene. ",IF(S31>$C31,"* La variable Migrantes no debe ser mayor al Total Ambos Sexos. ","")) | CK31: =IF(AND($C31<>0,R31=""),1,IF(R31>$C31,1,0)) -> 0 | CL31: =IF(AND($C31<>0,S31=""),1,IF(S31>$C31,1,0)) -> 0
B32: Riesgo (desde riesgo) | C32: =SUM(D32+E32) -> 0 | D32: =SUM(F32+H32+J32+L32+N32+P32) -> 0 | E32: =SUM(G32+I32+K32+M32+O32+Q32) -> 0 | T32: =$CA32&CB32 | CA32: =IF(AND($C32<>0,R32=""),"* No olvide ingresar la variable "&R$17&""&". Digite CERO si no tiene. ",IF(R32>$C32,"* La variable Pueblos Originarios no debe ser mayor al Total Ambos Sexos. ","")) | CB32: =IF(AND($C32<>0,S32=""),"* No olvide ingresar la variable "&S$17&""&". Digite CERO si no tiene. ",IF(S32>$C32,"* La variable Migrantes no debe ser mayor al Total Ambos Sexos. ","")) | CK32: =IF(AND($C32<>0,R32=""),1,IF(R32>$C32,1,0)) -> 0 | CL32: =IF(AND($C32<>0,S32=""),1,IF(S32>$C32,1,0)) -> 0
B33: Riesgo (desde normal con rezago) | C33: =SUM(D33+E33) -> 0 | D33: =SUM(F33+H33+J33+L33+N33+P33) -> 0 | E33: =SUM(G33+I33+K33+M33+O33+Q33) -> 0 | T33: =$CA33&CB33 | CA33: =IF(AND($C33<>0,R33=""),"* No olvide ingresar la variable "&R$17&""&". Digite CERO si no tiene. ",IF(R33>$C33,"* La variable Pueblos Originarios no debe ser mayor al Total Ambos Sexos. ","")) | CB33: =IF(AND($C33<>0,S33=""),"* No olvide ingresar la variable "&S$17&""&". Digite CERO si no tiene. ",IF(S33>$C33,"* La variable Migrantes no debe ser mayor al Total Ambos Sexos. ","")) | CK33: =IF(AND($C33<>0,R33=""),1,IF(R33>$C33,1,0)) -> 0 | CL33: =IF(AND($C33<>0,S33=""),1,IF(S33>$C33,1,0)) -> 0
B34: Retraso (desde retraso) | C34: =SUM(D34+E34) -> 0 | D34: =SUM(F34+H34+J34+L34+N34+P34) -> 0 | E34: =SUM(G34+I34+K34+M34+O34+Q34) -> 0 | T34: =$CA34&CB34 | CA34: =IF(AND($C34<>0,R34=""),"* No olvide ingresar la variable "&R$17&""&". Digite CERO si no tiene. ",IF(R34>$C34,"* La variable Pueblos Originarios no debe ser mayor al Total Ambos Sexos. ","")) | CB34: =IF(AND($C34<>0,S34=""),"* No olvide ingresar la variable "&S$17&""&". Digite CERO si no tiene. ",IF(S34>$C34,"* La variable Migrantes no debe ser mayor al Total Ambos Sexos. ","")) | CK34: =IF(AND($C34<>0,R34=""),1,IF(R34>$C34,1,0)) -> 0 | CL34: =IF(AND($C34<>0,S34=""),1,IF(S34>$C34,1,0)) -> 0
B35: Retraso (desde riesgo) | C35: =SUM(D35+E35) -> 0 | D35: =SUM(F35+H35+J35+L35+N35+P35) -> 0 | E35: =SUM(G35+I35+K35+M35+O35+Q35) -> 0 | T35: =$CA35&CB35 | CA35: =IF(AND($C35<>0,R35=""),"* No olvide ingresar la variable "&R$17&""&". Digite CERO si no tiene. ",IF(R35>$C35,"* La variable Pueblos Originarios no debe ser mayor al Total Ambos Sexos. ","")) | CB35: =IF(AND($C35<>0,S35=""),"* No olvide ingresar la variable "&S$17&""&". Digite CERO si no tiene. ",IF(S35>$C35,"* La variable Migrantes no debe ser mayor al Total Ambos Sexos. ","")) | CK35: =IF(AND($C35<>0,R35=""),1,IF(R35>$C35,1,0)) -> 0 | CL35: =IF(AND($C35<>0,S35=""),1,IF(S35>$C35,1,0)) -> 0
B36: Retraso (desde normal con rezago) | C36: =SUM(D36+E36) -> 0 | D36: =SUM(F36+H36+J36+L36+N36+P36) -> 0 | E36: =SUM(G36+I36+K36+M36+O36+Q36) -> 0 | T36: =$CA36&CB36 | CA36: =IF(AND($C36<>0,R36=""),"* No olvide ingresar la variable "&R$17&""&". Digite CERO si no tiene. ",IF(R36>$C36,"* La variable Pueblos Originarios no debe ser mayor al Total Ambos Sexos. ","")) | CB36: =IF(AND($C36<>0,S36=""),"* No olvide ingresar la variable "&S$17&""&". Digite CERO si no tiene. ",IF(S36>$C36,"* La variable Migrantes no debe ser mayor al Total Ambos Sexos. ","")) | CK36: =IF(AND($C36<>0,R36=""),1,IF(R36>$C36,1,0)) -> 0 | CL36: =IF(AND($C36<>0,S36=""),1,IF(S36>$C36,1,0)) -> 0
A37: Derivados a Especialidad | B37: Riesgo | C37: =SUM(D37+E37) -> 0 | D37: =SUM(F37+H37+J37+L37+N37+P37) -> 0 | E37: =SUM(G37+I37+K37+M37+O37+Q37) -> 0 | T37: =$CA37&CB37 | CA37: =IF(AND($C37<>0,R37=""),"* No olvide ingresar la variable "&R$17&""&". Digite CERO si no tiene. ",IF(R37>$C37,"* La variable Pueblos Originarios no debe ser mayor al Total Ambos Sexos. ","")) | CB37: =IF(AND($C37<>0,S37=""),"* No olvide ingresar la variable "&S$17&""&". Digite CERO si no tiene. ",IF(S37>$C37,"* La variable Migrantes no debe ser mayor al Total Ambos Sexos. ","")) | CK37: =IF(AND($C37<>0,R37=""),1,IF(R37>$C37,1,0)) -> 0 | CL37: =IF(AND($C37<>0,S37=""),1,IF(S37>$C37,1,0)) -> 0
B38: Retraso | C38: =SUM(D38+E38) -> 0 | D38: =SUM(F38+H38+J38+L38+N38+P38) -> 0 | E38: =SUM(G38+I38+K38+M38+O38+Q38) -> 0 | T38: =$CA38&CB38 | CA38: =IF(AND($C38<>0,R38=""),"* No olvide ingresar la variable "&R$17&""&". Digite CERO si no tiene. ",IF(R38>$C38,"* La variable Pueblos Originarios no debe ser mayor al Total Ambos Sexos. ","")) | CB38: =IF(AND($C38<>0,S38=""),"* No olvide ingresar la variable "&S$17&""&". Digite CERO si no tiene. ",IF(S38>$C38,"* La variable Migrantes no debe ser mayor al Total Ambos Sexos. ","")) | CK38: =IF(AND($C38<>0,R38=""),1,IF(R38>$C38,1,0)) -> 0 | CL38: =IF(AND($C38<>0,S38=""),1,IF(S38>$C38,1,0)) -> 0
A39: Traslado de Establecimiento | B39: Normal con Rezago | C39: =SUM(D39+E39) -> 0 | D39: =SUM(F39+H39+J39+L39+N39+P39) -> 0 | E39: =SUM(G39+I39+K39+M39+O39+Q39) -> 0 | T39: =$CA39&CB39 | CA39: =IF(AND($C39<>0,R39=""),"* No olvide ingresar la variable "&R$17&""&". Digite CERO si no tiene. ",IF(R39>$C39,"* La variable Pueblos Originarios no debe ser mayor al Total Ambos Sexos. ","")) | CB39: =IF(AND($C39<>0,S39=""),"* No olvide ingresar la variable "&S$17&""&". Digite CERO si no tiene. ",IF(S39>$C39,"* La variable Migrantes no debe ser mayor al Total Ambos Sexos. ","")) | CK39: =IF(AND($C39<>0,R39=""),1,IF(R39>$C39,1,0)) -> 0 | CL39: =IF(AND($C39<>0,S39=""),1,IF(S39>$C39,1,0)) -> 0
B40: Riesgo | C40: =SUM(D40+E40) -> 0 | D40: =SUM(F40+H40+J40+L40+N40+P40) -> 0 | E40: =SUM(G40+I40+K40+M40+O40+Q40) -> 0 | T40: =$CA40&CB40 | CA40: =IF(AND($C40<>0,R40=""),"* No olvide ingresar la variable "&R$17&""&". Digite CERO si no tiene. ",IF(R40>$C40,"* La variable Pueblos Originarios no debe ser mayor al Total Ambos Sexos. ","")) | CB40: =IF(AND($C40<>0,S40=""),"* No olvide ingresar la variable "&S$17&""&". Digite CERO si no tiene. ",IF(S40>$C40,"* La variable Migrantes no debe ser mayor al Total Ambos Sexos. ","")) | CK40: =IF(AND($C40<>0,R40=""),1,IF(R40>$C40,1,0)) -> 0 | CL40: =IF(AND($C40<>0,S40=""),1,IF(S40>$C40,1,0)) -> 0
B41: Retraso | C41: =SUM(D41+E41) -> 0 | D41: =SUM(F41+H41+J41+L41+N41+P41) -> 0 | E41: =SUM(G41+I41+K41+M41+O41+Q41) -> 0 | T41: =$CA41&CB41 | CA41: =IF(AND($C41<>0,R41=""),"* No olvide ingresar la variable "&R$17&""&". Digite CERO si no tiene. ",IF(R41>$C41,"* La variable Pueblos Originarios no debe ser mayor al Total Ambos Sexos. ","")) | CB41: =IF(AND($C41<>0,S41=""),"* No olvide ingresar la variable "&S$17&""&". Digite CERO si no tiene. ",IF(S41>$C41,"* La variable Migrantes no debe ser mayor al Total Ambos Sexos. ","")) | CK41: =IF(AND($C41<>0,R41=""),1,IF(R41>$C41,1,0)) -> 0 | CL41: =IF(AND($C41<>0,S41=""),1,IF(S41>$C41,1,0)) -> 0
...

Sheet FEBRERO
A1: SERVICIO DE SALUD
A2: =CONCATENATE("COMUNA: ",[3]NOMBRE!B2, " (",[3]NOMBRE!C2,[3]NOMBRE!D2,[3]NOMBRE!E2,[3]NOMBRE!F2,[3]NOMBRE!G2,")") -> COMUNA: LINARES (07401)
A3: =CONCATENATE("ESTABLECIMIENTO/ESTRATEGIA: ", [3]NOMBRE!B3, " (",[3]NOMBRE!C3,[3]NOMBRE!D3,[3]NOMBRE!E3,[3]NOMBRE!F3,[3]NOMBRE!G3,[3]NOMBRE!H3,")") -> ESTABLECIMIENTO/ESTRATEGIA: HOSPITAL PRESIDENTE CARLOS IBAÑEZ DEL CAMPO (116108)
A4: =CONCATENATE("MES: ",[3]NOMBRE!B6, " (",[3]NOMBRE!C6,[3]NOMBRE!D6,")") -> MES: FEBRERO (02)
A5: =CONCATENATE("AÑO: ",[3]NOMBRE!B7) -> AÑO: 2025
A6: REM-A03. APLICACIÓN Y RESULTADOS DE ESCALAS DE EVALUACIÓN
A8: SECCIÓN A: APLICACIÓN DE INSTRUMENTO Y RESULTADO EN EL NIÑO (A)
A9: SECCIÓN A.1: APLICACIÓN Y RESULTADOS DE PAUTA BREVE
A10: EVALUACIONES POR EDAD DEL NIÑO | C10: TOTAL | F10: RANGO ETARIO Y SEXO
F11: Menos de 1 mes | H11: 1 mes | J11: 2 meses | L11: 3 meses | N11: 4 meses | P11: 5 meses | R11: 6 meses | T11: 7 - 11 meses | V11: 12 - 17 meses | X11: 18 - 24 meses
C12: Ambos Sexos | D12: Hombres | E12: Mujeres | F12: Hombres | G12: Mujeres | H12: Hombres | I12: Mujeres | J12: Hombres | K12: Mujeres | L12: Hombres | M12: Mujeres | N12: Hombres | O12: Mujeres | P12: Hombres | Q12: Mujeres | R12: Hombres | S12: Mujeres | T12: Hombres | U12: Mujeres | V12: Hombres | W12: Mujeres | X12: Hombres | Y12: Mujeres
A13: Aplicación Pauta Breve | C13: =SUM(D13+E13) -> 0 | D13: =SUM(F13+H13+J13+L13+N13+P13+R13+T13+V13+X13) -> 0 | E13: =SUM(G13+I13+K13+M13+O13+Q13+S13+U13+W13+Y13) -> 0
A14: Resultados | B14: Normal | C14: =SUM(D14+E14) -> 0 | D14: =SUM(F14+H14+J14+L14+N14+P14+R14+T14+V14+X14) -> 0 | E14: =SUM(G14+I14+K14+M14+O14+Q14+S14+U14+W14+Y14) -> 0
B15: Alterado | C15: =SUM(D15+E15) -> 0 | D15: =SUM(F15+H15+J15+L15+N15+P15+R15+T15+V15+X15) -> 0 | E15: =SUM(G15+I15+K15+M15+O15+Q15+S15+U15+W15+Y15) -> 0
A16: SECCIÓN A.2: RESULTADOS DE LA APLICACIÓN DE ESCALA DE EVALUACIÓN DEL DESARROLLO PSICOMOTOR
A17: ACTIVIDAD | B17: RESULTADO | C17: TOTAL | F17: RANGO ETARIO Y SEXO | R17: Pueblos Originarios | S17: Migrantes
F18: Menos de 7 meses | H18: 7 - 11 meses | J18: 12 - 17 meses | L18: 18 - 23 meses | N18: 24 - 47 meses | P18: 48 - 59 meses
C19: Ambos Sexos | D19: Hombres | E19: Mujeres | F19: Hombres | G19: Mujeres | H19: Hombres | I19: Mujeres | J19: Hombres | K19: Mujeres | L19: Hombres | M19: Mujeres | N19: Hombres | O19: Mujeres | P19: Hombres | Q19: Mujeres
A20: Aplicación test de Desarrollo Psicomotor | C20: =SUM(D20+E20) -> 0 | D20: =SUM(F20+H20+J20+L20+N20+P20) -> 0 | E20: =SUM(G20+I20+K20+M20+O20+Q20) -> 0 | T20: =$CA20&CB20 | CA20: =IF(AND($C20<>0,R20=""),"* No olvide ingresar la variable "&R$17&""&". Digite CERO si no tiene. ",IF(R20>$C20,"* La variable Pueblos Originarios no debe ser mayor al Total Ambos Sexos. ","")) | CB20: =IF(AND($C20<>0,S20=""),"* No olvide ingresar la variable "&S$17&""&". Digite CERO si no tiene. ",IF(S20>$C20,"* La variable Migrantes no debe ser mayor al Total Ambos Sexos. ","")) | CK20: =IF(AND($C20<>0,R20=""),1,IF(R20>$C20,1,0)) -> 0 | CL20: =IF(AND($C20<>0,S20=""),1,IF(S20>$C20,1,0)) -> 0
A21: Primera Evaluación | B21: Normal | C21: =SUM(D21+E21) -> 0 | D21: =SUM(F21+H21+J21+L21+N21+P21) -> 0 | E21: =SUM(G21+I21+K21+M21+O21+Q21) -> 0 | T21: =$CA21&CB21 | CA21: =IF(AND($C21<>0,R21=""),"* No olvide ingresar la variable "&R$17&""&". Digite CERO si no tiene. ",IF(R21>$C21,"* La variable Pueblos Originarios no debe ser mayor al Total Ambos Sexos. ","")) | CB21: =IF(AND($C21<>0,S21=""),"* No olvide ingresar la variable "&S$17&""&". Digite CERO si no tiene. ",IF(S21>$C21,"* La variable Migrantes no debe ser mayor al Total Ambos Sexos. ","")) | CK21: =IF(AND($C21<>0,R21=""),1,IF(R21>$C21,1,0)) -> 0 | CL21: =IF(AND($C21<>0,S21=""),1,IF(S21>$C21,1,0)) -> 0
B22: Normal con Rezago | C22: =SUM(D22+E22) -> 0 | D22: =SUM(F22+H22+J22+L22+N22+P22) -> 0 | E22: =SUM(G22+I22+K22+M22+O22+Q22) -> 0 | T22: =$CA22&CB22 | CA22: =IF(AND($C22<>0,R22=""),"* No olvide ingresar la variable "&R$17&""&". Digite CERO si no tiene. ",IF(R22>$C22,"* La variable Pueblos Originarios no debe ser mayor al Total Ambos Sexos. ","")) | CB22: =IF(AND($C22<>0,S22=""),"* No olvide ingresar la variable "&S$17&""&". Digite CERO si no tiene. ",IF(S22>$C22,"* La variable Migrantes no debe ser mayor al Total Ambos Sexos. ","")) | CK22: =IF(AND($C22<>0,R22=""),1,IF(R22>$C22,1,0)) -> 0 | CL22: =IF(AND($C22<>0,S22=""),1,IF(S22>$C22,1,0)) -> 0
B23: Riesgo | C23: =SUM(D23+E23) -> 0 | D23: =SUM(F23+H23+J23+L23+N23+P23) -> 0 | E23: =SUM(G23+I23+K23+M23+O23+Q23) -> 0 | T23: =$CA23&CB23 | CA23: =IF(AND($C23<>0,R23=""),"* No olvide ingresar la variable "&R$17&""&". Digite CERO si no tiene. ",IF(R23>$C23,"* La variable Pueblos Originarios no debe ser mayor al Total Ambos Sexos. ","")) | CB23: =IF(AND($C23<>0,S23=""),"* No olvide ingresar la variable "&S$17&""&". Digite CERO si no tiene. ",IF(S23>$C23,"* La variable Migrantes no debe ser mayor al Total Ambos Sexos. ","")) | CK23: =IF(AND($C23<>0,R23=""),1,IF(R23>$C23,1,0)) -> 0 | CL23: =IF(AND($C23<>0,S23=""),1,IF(S23>$C23,1,0)) -> 0
B24: Retraso | C24: =SUM(D24+E24) -> 0 | D24: =SUM(F24+H24+J24+L24+N24+P24) -> 0 | E24: =SUM(G24+I24+K24+M24+O24+Q24) -> 0 | T24: =$CA24&CB24 | CA24: =IF(AND($C24<>0,R24=""),"* No olvide ingresar la variable "&R$17&""&". Digite CERO si no tiene. ",IF(R24>$C24,"* La variable Pueblos Originarios no debe ser mayor al Total Ambos Sexos. ","")) | CB24: =IF(AND($C24<>0,S24=""),"* No olvide ingresar la variable "&S$17&""&". Digite CERO si no tiene. ",IF(S24>$C24,"* La variable Migrantes no debe ser mayor al Total Ambos Sexos. ","")) | CK24: =IF(AND($C24<>0,R24=""),1,IF(R24>$C24,1,0)) -> 0 | CL24: =IF(AND($C24<>0,S24=""),1,IF(S24>$C24,1,0)) -> 0
A25: Reevaluación | B25: Normal (desde normal con rezago) | C25: =SUM(D25+E25) -> 0 | D25: =SUM(F25+H25+J25+L25+N25+P25) -> 0 | E25: =SUM(G25+I25+K25+M25+O25+Q25) -> 0 | T25: =$CA25&CB25 | CA25: =IF(AND($C25<>0,R25=""),"* No olvide ingresar la variable "&R$17&""&". Digite CERO si no tiene. ",IF(R25>$C25,"* La variable Pueblos Originarios no debe ser mayor al Total Ambos Sexos. ","")) | CB25: =IF(AND($C25<>0,S25=""),"* No olvide ingresar la variable "&S$17&""&". Digite CERO si no tiene. ",IF(S25>$C25,"* La variable Migrantes no debe ser mayor al Total Ambos Sexos. ","")) | CK25: =IF(AND($C25<>0,R25=""),1,IF(R25>$C25,1,0)) -> 0 | CL25: =IF(AND($C25<>0,S25=""),1,IF(S25>$C25,1,0)) -> 0
B26: Normal (desde riesgo) | C26: =SUM(D26+E26) -> 0 | D26: =SUM(F26+H26+J26+L26+N26+P26) -> 0 | E26: =SUM(G26+I26+K26+M26+O26+Q26) -> 0 | T26: =$CA26&CB26 | CA26: =IF(AND($C26<>0,R26=""),"* No olvide ingresar la variable "&R$17&""&". Digite CERO si no tiene. ",IF(R26>$C26,"* La variable Pueblos Originarios no debe ser mayor al Total Ambos Sexos. ","")) | CB26: =IF(AND($C26<>0,S26=""),"* No olvide ingresar la variable "&S$17&""&". Digite CERO si no tiene. ",IF(S26>$C26,"* La variable Migrantes no debe ser mayor al Total Ambos Sexos. ","")) | CK26: =IF(AND($C26<>0,R26=""),1,IF(R26>$C26,1,0)) -> 0 | CL26: =IF(AND($C26<>0,S26=""),1,IF(S26>$C26,1,0)) -> 0
B27: Normal (desde retraso) | C27: =SUM(D27+E27) -> 0 | D27: =SUM(F27+H27+J27+L27+N27+P27) -> 0 | E27: =SUM(G27+I27+K27+M27+O27+Q27) -> 0 | T27: =$CA27&CB27 | CA27: =IF(AND($C27<>0,R27=""),"* No olvide ingresar la variable "&R$17&""&". Digite CERO si no tiene. ",IF(R27>$C27,"* La variable Pueblos Originarios no debe ser mayor al Total Ambos Sexos. ","")) | CB27: =IF(AND($C27<>0,S27=""),"* No olvide ingresar la variable "&S$17&""&". Digite CERO si no tiene. ",IF(S27>$C27,"* La variable Migrantes no debe ser mayor al Total Ambos Sexos. ","")) | CK27: =IF(AND($C27<>0,R27=""),1,IF(R27>$C27,1,0)) -> 0 | CL27: =IF(AND($C27<>0,S27=""),1,IF(S27>$C27,1,0)) -> 0
B28: Normal Rezago (desde riesgo) | C28: =SUM(D28+E28) -> 0 | D28: =SUM(F28+H28+J28+L28+N28+P28) -> 0 | E28: =SUM(G28+I28+K28+M28+O28+Q28) -> 0 | T28: =$CA28&CB28 | CA28: =IF(AND($C28<>0,R28=""),"* No olvide ingresar la variable "&R$17&""&". Digite CERO si no tiene. ",IF(R28>$C28,"* La variable Pueblos Originarios no debe ser mayor al Total Ambos Sexos. ","")) | CB28: =IF(AND($C28<>0,S28=""),"* No olvide ingresar la variable "&S$17&""&". Digite CERO si no tiene. ",IF(S28>$C28,"* La variable Migrantes no debe ser mayor al Total Ambos Sexos. ","")) | CK28: =IF(AND($C28<>0,R28=""),1,IF(R28>$C28,1,0)) -> 0 | CL28: =IF(AND($C28<>0,S28=""),1,IF(S28>$C28,1,0)) -> 0
B29: Normal con Rezago (desde retraso) | C29: =SUM(D29+E29) -> 0 | D29: =SUM(F29+H29+J29+L29+N29+P29) -> 0 | E29: =SUM(G29+I29+K29+M29+O29+Q29) -> 0 | T29: =$CA29&CB29 | CA29: =IF(AND($C29<>0,R29=""),"* No olvide ingresar la variable "&R$17&""&". Digite CERO si no tiene. ",IF(R29>$C29,"* La variable Pueblos Originarios no debe ser mayor al Total Ambos Sexos. ","")) | CB29: =IF(AND($C29<>0,S29=""),"* No olvide ingresar la variable "&S$17&""&". Digite CERO si no tiene. ",IF(S29>$C29,"* La variable Migrantes no debe ser mayor al Total Ambos Sexos. ","")) | CK29: =IF(AND($C29<>0,R29=""),1,IF(R29>$C29,1,0)) -> 0 | CL29: =IF(AND($C29<>0,S29=""),1,IF(S29>$C29,1,0)) -> 0
B30: Riesgo (desde retraso) | C30: =SUM(D30:E30) -> 0 | D30: =SUM(F30+H30+J30+L30+N30+P30) -> 0 | E30: =SUM(G30+I30+K30+M30+O30+Q30) -> 0 | T30: =$CA30&CB30 | CA30: =IF(AND($C30<>0,R30=""),"* No olvide ingresar la variable "&R$17&""&". Digite CERO si no tiene. ",IF(R30>$C30,"* La variable Pueblos Originarios no debe ser mayor al Total Ambos Sexos. ","")) | CB30: =IF(AND($C30<>0,S30=""),"* No olvide ingresar la variable "&S$17&""&". Digite CERO si no tiene. ",IF(S30>$C30,"* La variable Migrantes no debe ser mayor al Total Ambos Sexos. ","")) | CK30: =IF(AND($C30<>0,R30=""),1,IF(R30>$C30,1,0)) -> 0 | CL30: =IF(AND($C30<>0,S30=""),1,IF(S30>$C30,1,0)) -> 0
B31: Normal con Rezago (desde normal con rezago) | C31: =SUM(D31:E31) -> 0 | D31: =SUM(F31+H31+J31+L31+N31+P31) -> 0 | E31: =SUM(G31+I31+K31+M31+O31+Q31) -> 0 | T31: =$CA31&CB31 | CA31: =IF(AND($C31<>0,R31=""),"* No olvide ingresar la variable "&R$17&""&". Digite CERO si no tiene. ",IF(R31>$C31,"* La variable Pueblos Originarios no debe ser mayor al Total Ambos Sexos. ","")) | CB31: =IF(AND($C31<>0,S31=""),"* No olvide ingresar la variable "&S$17&""&". Digite CERO si no tiene. ",IF(S31>$C31,"* La variable Migrantes no debe ser mayor al Total Ambos Sexos. ","")) | CK31: =IF(AND($C31<>0,R31=""),1,IF(R31>$C31,1,0)) -> 0 | CL31: =IF(AND($C31<>0,S31=""),1,IF(S31>$C31,1,0)) -> 0
B32: Riesgo (desde riesgo) | C32: =SUM(D32+E32) -> 0 | D32: =SUM(F32+H32+J32+L32+N32+P32) -> 0 | E32: =SUM(G32+I32+K32+M32+O32+Q32) -> 0 | T32: =$CA32&CB32 | CA32: =IF(AND($C32<>0,R32=""),"* No olvide ingresar la variable "&R$17&""&". Digite CERO si no tiene. ",IF(R32>$C32,"* La variable Pueblos Originarios no debe ser mayor al Total Ambos Sexos. ","")) | CB32: =IF(AND($C32<>0,S32=""),"* No olvide ingresar la variable "&S$17&""&". Digite CERO si no tiene. ",IF(S32>$C32,"* La variable Migrantes no debe ser mayor al Total Ambos Sexos. ","")) | CK32: =IF(AND($C32<>0,R32=""),1,IF(R32>$C32,1,0)) -> 0 | CL32: =IF(AND($C32<>0,S32=""),1,IF(S32>$C32,1,0)) -> 0
B33: Riesgo (desde normal con rezago) | C33: =SUM(D33+E33) -> 0 | D33: =SUM(F33+H33+J33+L33+N33+P33) -> 0 | E33: =SUM(G33+I33+K33+M33+O33+Q33) -> 0 | T33: =$CA33&CB33 | CA33: =IF(AND($C33<>0,R33=""),"* No olvide ingresar la variable "&R$17&""&". Digite CERO si no tiene. ",IF(R33>$C33,"* La variable Pueblos Originarios no debe ser mayor al Total Ambos Sexos. ","")) | CB33: =IF(AND($C33<>0,S33=""),"* No olvide ingresar la variable "&S$17&""&". Digite CERO si no tiene. ",IF(S33>$C33,"* La variable Migrantes no debe ser mayor al Total Ambos Sexos. ","")) | CK33: =IF(AND($C33<>0,R33=""),1,IF(R33>$C33,1,0)) -> 0 | CL33: =IF(AND($C33<>0,S33=""),1,IF(S33>$C33,1,0)) -> 0
B34: Retraso (desde retraso) | C34: =SUM(D34+E34) -> 0 | D34: =SUM(F34+H34+J34+L34+N34+P34) -> 0 | E34: =SUM(G34+I34+K34+M34+O34+Q34) -> 0 | T34: =$CA34&CB34 | CA34: =IF(AND($C34<>0,R34=""),"* No olvide ingresar la variable "&R$17&""&". Digite CERO si no tiene. ",IF(R34>$C34,"* La variable Pueblos Originarios no debe ser mayor al Total Ambos Sexos. ","")) | CB34: =IF(AND($C34<>0,S34=""),"* No olvide ingresar la variable "&S$17&""&". Digite CERO si no tiene. ",IF(S34>$C34,"* La variable Migrantes no debe ser mayor al Total Ambos Sexos. ","")) | CK34: =IF(AND($C34<>0,R34=""),1,IF(R34>$C34,1,0)) -> 0 | CL34: =IF(AND($C34<>0,S34=""),1,IF(S34>$C34,1,0)) -> 0
B35: Retraso (desde riesgo) | C35: =SUM(D35+E35) -> 0 | D35: =SUM(F35+H35+J35+L35+N35+P35) -> 0 | E35: =SUM(G35+I35+K35+M35+O35+Q35) -> 0 | T35: =$CA35&CB35 | CA35: =IF(AND($C35<>0,R35=""),"* No olvide ingresar la variable "&R$17&""&". Digite CERO si no tiene. ",IF(R35>$C35,"* La variable Pueblos Originarios no debe ser mayor al Total Ambos Sexos. ","")) | CB35: =IF(AND($C35<>0,S35=""),"* No olvide ingresar la variable "&S$17&""&". Digite CERO si no tiene. ",IF(S35>$C35,"* La variable Migrantes no debe ser mayor al Total Ambos Sexos. ","")) | CK35: =IF(AND($C35<>0,R35=""),1,IF(R35>$C35,1,0)) -> 0 | CL35: =IF(AND($C35<>0,S35=""),1,IF(S35>$C35,1,0)) -> 0
B36: Retraso (desde normal con rezago) | C36: =SUM(D36+E36) -> 0 | D36: =SUM(F36+H36+J36+L36+N36+P36) -> 0 | E36: =SUM(G36+I36+K36+M36+O36+Q36) -> 0 | T36: =$CA36&CB36 | CA36: =IF(AND($C36<>0,R36=""),"* No olvide ingresar la variable "&R$17&""&". Digite CERO si no tiene. ",IF(R36>$C36,"* La variable Pueblos Originarios no debe ser mayor al Total Ambos Sexos. ","")) | CB36: =IF(AND($C36<>0,S36=""),"* No olvide ingresar la variable "&S$17&""&". Digite CERO si no tiene. ",IF(S36>$C36,"* La variable Migrantes no debe ser mayor al Total Ambos Sexos. ","")) | CK36: =IF(AND($C36<>0,R36=""),1,IF(R36>$C36,1,0)) -> 0 | CL36: =IF(AND($C36<>0,S36=""),1,IF(S36>$C36,1,0)) -> 0
A37: Derivados a Especialidad | B37: Riesgo | C37: =SUM(D37+E37) -> 0 | D37: =SUM(F37+H37+J37+L37+N37+P37) -> 0 | E37: =SUM(G37+I37+K37+M37+O37+Q37) -> 0 | T37: =$CA37&CB37 | CA37: =IF(AND($C37<>0,R37=""),"* No olvide ingresar la variable "&R$17&""&". Digite CERO si no tiene. ",IF(R37>$C37,"* La variable Pueblos Originarios no debe ser mayor al Total Ambos Sexos. ","")) | CB37: =IF(AND($C37<>0,S37=""),"* No olvide ingresar la variable "&S$17&""&". Digite CERO si no tiene. ",IF(S37>$C37,"* La variable Migrantes no debe ser mayor al Total Ambos Sexos. ","")) | CK37: =IF(AND($C37<>0,R37=""),1,IF(R37>$C37,1,0)) -> 0 | CL37: =IF(AND($C37<>0,S37=""),1,IF(S37>$C37,1,0)) -> 0
B38: Retraso | C38: =SUM(D38+E38) -> 0 | D38: =SUM(F38+H38+J38+L38+N38+P38) -> 0 | E38: =SUM(G38+I38+K38+M38+O38+Q38) -> 0 | T38: =$CA38&CB38 | CA38: =IF(AND($C38<>0,R38=""),"* No olvide ingresar la variable "&R$17&""&". Digite CERO si no tiene. ",IF(R38>$C38,"* La variable Pueblos Originarios no debe ser mayor al Total Ambos Sexos. ","")) | CB38: =IF(AND($C38<>0,S38=""),"* No olvide ingresar la variable "&S$17&""&". Digite CERO si no tiene. ",IF(S38>$C38,"* La variable Migrantes no debe ser mayor al Total Ambos Sexos. ","")) | CK38: =IF(AND($C38<>0,R38=""),1,IF(R38>$C38,1,0)) -> 0 | CL38: =IF(AND($C38<>0,S38=""),1,IF(S38>$C38,1,0)) -> 0
A39: Traslado de Establecimiento | B39: Normal con Rezago | C39: =SUM(D39+E39) -> 0 | D39: =SUM(F39+H39+J39+L39+N39+P39) -> 0 | E39: =SUM(G39+I39+K39+M39+O39+Q39) -> 0 | T39: =$CA39&CB39 | CA39: =IF(AND($C39<>0,R39=""),"* No olvide ingresar la variable "&R$17&""&". Digite CERO si no tiene. ",IF(R39>$C39,"* La variable Pueblos Originarios no debe ser mayor al Total Ambos Sexos. ","")) | CB39: =IF(AND($C39<>0,S39=""),"* No olvide ingresar la variable "&S$17&""&". Digite CERO si no tiene. ",IF(S39>$C39,"* La variable Migrantes no debe ser mayor al Total Ambos Sexos. ","")) | CK39: =IF(AND($C39<>0,R39=""),1,IF(R39>$C39,1,0)) -> 0 | CL39: =IF(AND($C39<>0,S39=""),1,IF(S39>$C39,1,0)) -> 0
B40: Riesgo | C40: =SUM(D40+E40) -> 0 | D40: =SUM(F40+H40+J40+L40+N40+P40) -> 0 | E40: =SUM(G40+I40+K40+M40+O40+Q40) -> 0 | T40: =$CA40&CB40 | CA40: =IF(AND($C40<>0,R40=""),"* No olvide ingresar la variable "&R$17&""&". Digite CERO si no tiene. ",IF(R40>$C40,"* La variable Pueblos Originarios no debe ser mayor al Total Ambos Sexos. ","")) | CB40: =IF(AND($C40<>0,S40=""),"* No olvide ingresar la variable "&S$17&""&". Digite CERO si no tiene. ",IF(S40>$C40,"* La variable Migrantes no debe ser mayor al Total Ambos Sexos. ","")) | CK40: =IF(AND($C40<>0,R40=""),1,IF(R40>$C40,1,0)) -> 0 | CL40: =IF(AND($C40<>0,S40=""),1,IF(S40>$C40,1,0)) -> 0
B41: Retraso | C41: =SUM(D41+E41) -> 0 | D41: =SUM(F41+H41+J41+L41+N41+P41) -> 0 | E41: =SUM(G41+I41+K41+M41+O41+Q41) -> 0 | T41: =$CA41&CB41 | CA41: =IF(AND($C41<>0,R41=""),"* No olvide ingresar la variable "&R$17&""&". Digite CERO si no tiene. ",IF(R41>$C41,"* La variable Pueblos Originarios no debe ser mayor al Total Ambos Sexos. ","")) | CB41: =IF(AND($C41<>0,S41=""),"* No olvide ingresar la variable "&S$17&""&". Digite CERO si no tiene. ",IF(S41>$C41,"* La variable Migrantes no debe ser mayor al Total Ambos Sexos. ","")) | CK41: =IF(AND($C41<>0,R41=""),1,IF(R41>$C41,1,0)) -> 0 | CL41: =IF(AND($C41<>0,S41=""),1,IF(S41>$C41,1,0)) -> 0
...

Sheet MARZO
A1: SERVICIO DE SALUD
A2: =CONCATENATE("COMUNA: ",[4]NOMBRE!B2, " (",[4]NOMBRE!C2,[4]NOMBRE!D2,[4]NOMBRE!E2,[4]NOMBRE!F2,[4]NOMBRE!G2,")") -> COMUNA: LINARES (07401)
A3: =CONCATENATE("ESTABLECIMIENTO/ESTRATEGIA: ", [4]NOMBRE!B3, " (",[4]NOMBRE!C3,[4]NOMBRE!D3,[4]NOMBRE!E3,[4]NOMBRE!F3,[4]NOMBRE!G3,[4]NOMBRE!H3,")") -> ESTABLECIMIENTO/ESTRATEGIA: HOSPITAL PRESIDENTE CARLOS IBAÑEZ DEL CAMPO (116108)
A4: =CONCATENATE("MES: ",[4]NOMBRE!B6, " (",[4]NOMBRE!C6,[4]NOMBRE!D6,")") -> MES: MARZO (03)
A5: =CONCATENATE("AÑO: ",[4]NOMBRE!B7) -> AÑO: 2025
A6: REM-A03. APLICACIÓN Y RESULTADOS DE ESCALAS DE EVALUACIÓN
A8: SECCIÓN A: APLICACIÓN DE INSTRUMENTO Y RESULTADO EN EL NIÑO (A)
A9: SECCIÓN A.1: APLICACIÓN Y RESULTADOS DE PAUTA BREVE
A10: EVALUACIONES POR EDAD DEL NIÑO | C10: TOTAL | F10: RANGO ETARIO Y SEXO
F11: Menos de 1 mes | H11: 1 mes | J11: 2 meses | L11: 3 meses | N11: 4 meses | P11: 5 meses | R11: 6 meses | T11: 7 - 11 meses | V11: 12 - 17 meses | X11: 18 - 24 meses
C12: Ambos Sexos | D12: Hombres | E12: Mujeres | F12: Hombres | G12: Mujeres | H12: Hombres | I12: Mujeres | J12: Hombres | K12: Mujeres | L12: Hombres | M12: Mujeres | N12: Hombres | O12: Mujeres | P12: Hombres | Q12: Mujeres | R12: Hombres | S12: Mujeres | T12: Hombres | U12: Mujeres | V12: Hombres | W12: Mujeres | X12: Hombres | Y12: Mujeres
A13: Aplicación Pauta Breve | C13: =SUM(D13+E13) -> 0 | D13: =SUM(F13+H13+J13+L13+N13+P13+R13+T13+V13+X13) -> 0 | E13: =SUM(G13+I13+K13+M13+O13+Q13+S13+U13+W13+Y13) -> 0
A14: Resultados | B14: Normal | C14: =SUM(D14+E14) -> 0 | D14: =SUM(F14+H14+J14+L14+N14+P14+R14+T14+V14+X14) -> 0 | E14: =SUM(G14+I14+K14+M14+O14+Q14+S14+U14+W14+Y14) -> 0
B15: Alterado | C15: =SUM(D15+E15) -> 0 | D15: =SUM(F15+H15+J15+L15+N15+P15+R15+T15+V15+X15) -> 0 | E15: =SUM(G15+I15+K15+M15+O15+Q15+S15+U15+W15+Y15) -> 0
A16: SECCIÓN A.2: RESULTADOS DE LA APLICACIÓN DE ESCALA DE EVALUACIÓN DEL DESARROLLO PSICOMOTOR
A17: ACTIVIDAD | B17: RESULTADO | C17: TOTAL | F17: RANGO ETARIO Y SEXO | R17: Pueblos Originarios | S17: Migrantes
F18: Menos de 7 meses | H18: 7 - 11 meses | J18: 12 - 17 meses | L18: 18 - 23 meses | N18: 24 - 47 meses | P18: 48 - 59 meses
C19: Ambos Sexos | D19: Hombres | E19: Mujeres | F19: Hombres | G19: Mujeres | H19: Hombres | I19: Mujeres | J19: Hombres | K19: Mujeres | L19: Hombres | M19: Mujeres | N19: Hombres | O19: Mujeres | P19: Hombres | Q19: Mujeres
A20: Aplicación test de Desarrollo Psicomotor | C20: =SUM(D20+E20) -> 0 | D20: =SUM(F20+H20+J20+L20+N20+P20) -> 0 | E20: =SUM(G20+I20+K20+M20+O20+Q20) -> 0 | T20: =$CA20&CB20 | CA20: =IF(AND($C20<>0,R20=""),"* No olvide ingresar la variable "&R$17&""&". Digite CERO si no tiene. ",IF(R20>$C20,"* La variable Pueblos Originarios no debe ser mayor al Total Ambos Sexos. ","")) | CB20: =IF(AND($C20<>0,S20=""),"* No olvide ingresar la variable "&S$17&""&". Digite CERO si no tiene. ",IF(S20>$C20,"* La variable Migrantes no debe ser mayor al Total Ambos Sexos. ","")) | CK20: =IF(AND($C20<>0,R20=""),1,IF(R20>$C20,1,0)) -> 0 | CL20: =IF(AND($C20<>0,S20=""),1,IF(S20>$C20,1,0)) -> 0
A21: Primera Evaluación | B21: Normal | C21: =SUM(D21+E21) -> 0 | D21: =SUM(F21+H21+J21+L21+N21+P21) -> 0 | E21: =SUM(G21+I21+K21+M21+O21+Q21) -> 0 | T21: =$CA21&CB21 | CA21: =IF(AND($C21<>0,R21=""),"* No olvide ingresar la variable "&R$17&""&". Digite CERO si no tiene. ",IF(R21>$C21,"* La variable Pueblos Originarios no debe ser mayor al Total Ambos Sexos. ","")) | CB21: =IF(AND($C21<>0,S21=""),"* No olvide ingresar la variable "&S$17&""&". Digite CERO si no tiene. ",IF(S21>$C21,"* La variable Migrantes no debe ser mayor al Total Ambos Sexos. ","")) | CK21: =IF(AND($C21<>0,R21=""),1,IF(R21>$C21,1,0)) -> 0 | CL21: =IF(AND($C21<>0,S21=""),1,IF(S21>$C21,1,0)) -> 0
B22: Normal con Rezago | C22: =SUM(D22+E22) -> 0 | D22: =SUM(F22+H22+J22+L22+N22+P22) -> 0 | E22: =SUM(G22+I22+K22+M22+O22+Q22) -> 0 | T22: =$CA22&CB22 | CA22: =IF(AND($C22<>0,R22=""),"* No olvide ingresar la variable "&R$17&""&". Digite CERO si no tiene. ",IF(R22>$C22,"* La variable Pueblos Originarios no debe ser mayor al Total Ambos Sexos. ","")) | CB22: =IF(AND($C22<>0,S22=""),"* No olvide ingresar la variable "&S$17&""&". Digite CERO si no tiene. ",IF(S22>$C22,"* La variable Migrantes no debe ser mayor al Total Ambos Sexos. ","")) | CK22: =IF(AND($C22<>0,R22=""),1,IF(R22>$C22,1,0)) -> 0 | CL22: =IF(AND($C22<>0,S22=""),1,IF(S22>$C22,1,0)) -> 0
B23: Riesgo | C23: =SUM(D23+E23) -> 0 | D23: =SUM(F23+H23+J23+L23+N23+P23) -> 0 | E23: =SUM(G23+I23+K23+M23+O23+Q23) -> 0 | T23: =$CA23&CB23 | CA23: =IF(AND($C23<>0,R23=""),"* No olvide ingresar la variable "&R$17&""&". Digite CERO si no tiene. ",IF(R23>$C23,"* La variable Pueblos Originarios no debe ser mayor al Total Ambos Sexos. ","")) | CB23: =IF(AND($C23<>0,S23=""),"* No olvide ingresar la variable "&S$17&""&". Digite CERO si no tiene. ",IF(S23>$C23,"* La variable Migrantes no debe ser mayor al Total Ambos Sexos. ","")) | CK23: =IF(AND($C23<>0,R23=""),1,IF(R23>$C23,1,0)) -> 0 | CL23: =IF(AND($C23<>0,S23=""),1,IF(S23>$C23,1,0)) -> 0
B24: Retraso | C24: =SUM(D24+E24) -> 0 | D24: =SUM(F24+H24+J24+L24+N24+P24) -> 0 | E24: =SUM(G24+I24+K24+M24+O24+Q24) -> 0 | T24: =$CA24&CB24 | CA24: =IF(AND($C24<>0,R24=""),"* No olvide ingresar la variable "&R$17&""&". Digite CERO si no tiene. ",IF(R24>$C24,"* La variable Pueblos Originarios no debe ser mayor al Total Ambos Sexos. ","")) | CB24: =IF(AND($C24<>0,S24=""),"* No olvide ingresar la variable "&S$17&""&". Digite CERO si no tiene. ",IF(S24>$C24,"* La variable Migrantes no debe ser mayor al Total Ambos Sexos. ","")) | CK24: =IF(AND($C24<>0,R24=""),1,IF(R24>$C24,1,0)) -> 0 | CL24: =IF(AND($C24<>0,S24=""),1,IF(S24>$C24,1,0)) -> 0
A25: Reevaluación | B25: Normal (desde normal con rezago) | C25: =SUM(D25+E25) -> 0 | D25: =SUM(F25+H25+J25+L25+N25+P25) -> 0 | E25: =SUM(G25+I25+K25+M25+O25+Q25) -> 0 | T25: =$CA25&CB25 | CA25: =IF(AND($C25<>0,R25=""),"* No olvide ingresar la variable "&R$17&""&". Digite CERO si no tiene. ",IF(R25>$C25,"* La variable Pueblos Originarios no debe ser mayor al Total Ambos Sexos. ","")) | CB25: =IF(AND($C25<>0,S25=""),"* No olvide ingresar la variable "&S$17&""&". Digite CERO si no tiene. ",IF(S25>$C25,"* La variable Migrantes no debe ser mayor al Total Ambos Sexos. ","")) | CK25: =IF(AND($C25<>0,R25=""),1,IF(R25>$C25,1,0)) -> 0 | CL25: =IF(AND($C25<>0,S25=""),1,IF(S25>$C25,1,0)) -> 0
B26: Normal (desde riesgo) | C26: =SUM(D26+E26) -> 0 | D26: =SUM(F26+H26+J26+L26+N26+P26) -> 0 | E26: =SUM(G26+I26+K26+M26+O26+Q26) -> 0 | T26: =$CA26&CB26 | CA26: =IF(AND($C26<>0,R26=""),"* No olvide ingresar la variable "&R$17&""&". Digite CERO si no tiene. ",IF(R26>$C26,"* La variable Pueblos Originarios no debe ser mayor al Total Ambos Sexos. ","")) | CB26: =IF(AND($C26<>0,S26=""),"* No olvide ingresar la variable "&S$17&""&". Digite CERO si no tiene. ",IF(S26>$C26,"* La variable Migrantes no debe ser mayor al Total Ambos Sexos. ","")) | CK26: =IF(AND($C26<>0,R26=""),1,IF(R26>$C26,1,0)) -> 0 | CL26: =IF(AND($C26<>0,S26=""),1,IF(S26>$C26,1,0)) -> 0
B27: Normal (desde retraso) | C27: =SUM(D27+E27) -> 0 | D27: =SUM(F27+H27+J27+L27+N27+P27) -> 0 | E27: =SUM(G27+I27+K27+M27+O27+Q27) -> 0 | T27: =$CA27&CB27 | CA27: =IF(AND($C27<>0,R27=""),"* No olvide ingresar la variable "&R$17&""&". Digite CERO si no tiene. ",IF(R27>$C27,"* La variable Pueblos Originarios no debe ser mayor al Total Ambos Sexos. ","")) | CB27: =IF(AND($C27<>0,S27=""),"* No olvide ingresar la variable "&S$17&""&". Digite CERO si no tiene. ",IF(S27>$C27,"* La variable Migrantes no debe ser mayor al Total Ambos Sexos. ","")) | CK27: =IF(AND($C27<>0,R27=""),1,IF(R27>$C27,1,0)) -> 0 | CL27: =IF(AND($C27<>0,S27=""),1,IF(S27>$C27,1,0)) -> 0
B28: Normal Rezago (desde riesgo) | C28: =SUM(D28+E28) -> 0 | D28: =SUM(F28+H28+J28+L28+N28+P28) -> 0 | E28: =SUM(G28+I28+K28+M28+O28+Q28) -> 0 | T28: =$CA28&CB28 | CA28: =IF(AND($C28<>0,R28=""),"* No olvide ingresar la variable "&R$17&""&". Digite CERO si no tiene. ",IF(R28>$C28,"* La variable Pueblos Originarios no debe ser mayor al Total Ambos Sexos. ","")) | CB28: =IF(AND($C28<>0,S28=""),"* No olvide ingresar la variable "&S$17&""&". Digite CERO si no tiene. ",IF(S28>$C28,"* La variable Migrantes no debe ser mayor al Total Ambos Sexos. ","")) | CK28: =IF(AND($C28<>0,R28=""),1,IF(R28>$C28,1,0)) -> 0 | CL28: =IF(AND($C28<>0,S28=""),1,IF(S28>$C28,1,0)) -> 0
